Workbook

Sheet Finansiniai duomenys
R1: =COUNTA(R2:R250) -> 249 | S1: =COUNTA(S2:S250) -> 249 | T1: =COUNTA(T2:T250) -> 249
D2: PATVIRTINTA VšĮ „Stebėsenos ir prognozių agentūra“ direktoriaus 2020 m. balandžio 6 d. įsakymu Nr. IV-12 | R2: UAB „Akmenės vandenys“ | S2: 253255950 | T2: Uždaroji akcinė bendrovė (UAB)
R3: UAB „Naujosios Akmenės komunalininkas“ | S3: 152903578 | T3: Uždaroji akcinė bendrovė (UAB)
R4: UAB Naujosios Akmenės autobusų parkas | S4: 152968145 | T4: Uždaroji akcinė bendrovė (UAB)
R5: UAB „Akmenės profilaktinė dezinfekcija“ | S5: 152962797 | T5: Uždaroji akcinė bendrovė (UAB)
B6: Viešinamos informacijos apie savivaldybių valdomų įmonių veiklą ir rezultatus forma | R6: UAB „Dzūkijos vandenys“ | S6: 149566841 | T6: Uždaroji akcinė bendrovė (UAB)
R7: UAB „Alytaus šilumos tinklai“ | S7: 149947714 | T7: Uždaroji akcinė bendrovė (UAB)
B8: Įmonės pavadinimas | C8: UAB Kėdainių butai | R8: SĮ Alytaus telekinas | S8: 149693995 | T8: Savivaldybės įmonė (SĮ)
B9: Teisinė forma | C9: Uždaroji akcinė bendrovė (UAB) | H9: Akcinė bendrovė (AB) | L9: reorganizuojamas | R9: UAB „Alytaus butų ūkis“ | S9: 149951417 | T9: Uždaroji akcinė bendrovė (UAB)
B10: Įmonės kodas | C10: 161130867 | H10: Uždaroji akcinė bendrovė (UAB) | L10: dalyvaujantis reorganizavime | R10: UAB Alytaus regiono atliekų tvarkymo centras | S10: 250135860 | T10: Uždaroji akcinė bendrovė (UAB)
B11: Įmonės įsteigimo data | C11: 34903 | H11: Savivaldybės įmonė (SĮ) | L11: pertvarkomas | R11: SĮ „Simno komunalininkas“ | S11: 153720195 | T11: Savivaldybės įmonė (SĮ)
B12: Sektorius, kuriame veikia įmonė | C12: Butų ūkiai | L12: restruktūrizuojamas | R12: UAB „Anykščių vandenys“ | S12: 154138664 | T12: Uždaroji akcinė bendrovė (UAB)
L13: bankrutuojantis | R13: UAB Anykščių komunalinis ūkis | S13: 154111083 | T13: Uždaroji akcinė bendrovė (UAB)
B14: Įmonės direktorius (generalinis direktorius) | C14: Alvydas Kleiva | H14: Komunalinės paslaugos: vanduo (nurodyti laukelyje žemiau, ar įmonė tik nuomoja infrastruktūrą, ar pati teikia paslaugas galutiniams vartotojams) | L14: bankrutavęs | R14: UAB „Anykščių šiluma“ | S14: 154112751 | T14: Uždaroji akcinė bendrovė (UAB)
B15: Įmonės vyr. finansininkas (vyr. buhalteris) | C15: Lina Genienė | H15: Komunalinės paslaugos: šilumos tinklai (nurodyti laukelyje žemiau, ar įmonė tik nuomoja infrastruktūrą, ar pati teikia paslaugas galutiniams vartotojams) | L15: likviduojamas | R15: UAB „Birštono vandentiekis“ | S15: 152812840 | T15: Uždaroji akcinė bendrovė (UAB)
H16: Butų ūkiai | L16: inicijuojantis Europos bendrovės steigimą jungimo būdu | R16: UAB „Birštono šiluma“ | S16: 152840633 | T16: Uždaroji akcinė bendrovė (UAB)
C17: Lentelės užpildymo dieną | H17: Komunalinės paslaugos: kita (nurodykite laukelyje žemiau) | L17: inicijuojantis Europos bendrovės steigimą valdymo (holdingo) būdu | R17: AB Birštono sanatorija „Versmė“ | S17: 152814478 | T17: Akcinė bendrovė (AB)
B18: Akcininkų sąrašas | C18: 5 didžiausi akcininkai | E18: Valdoma akcijų dalis | H18: Atliekos ir šalinimo paslaugos | L18: Europos bendrovė, kurios buveinė perkeliama | R18: SĮ Biržų agrolaboratorija | S18: 154724428 | T18: Savivaldybės įmonė (SĮ)
B19: Akcininkas Nr.1 | C19: Kėdainių rajono savivaldybė | E19: 1 | H19: Viešasis transportas | L19: dalyvaujantis atskyrime | R19: UAB Biržų autobusų parkas | S19: 154742789 | T19: Uždaroji akcinė bendrovė (UAB)
B20: Akcininkas Nr.2 | H20: Kitos transporto paslaugos | L20: - | R20: UAB „Biržų šilumos tinklai“ | S20: 154866655 | T20: Uždaroji akcinė bendrovė (UAB)
B21: Akcininkas Nr.3 | H21: Statyba ir architektūra | R21: UAB „Biržų vandenys“ | S21: 154850665 | T21: Uždaroji akcinė bendrovė (UAB)
B22: Akcininkas Nr.4 | H22: Sveikatos priežiūros paslaugos | R22: AB „Druskininkų šilumos tinklai“ | S22: 152003098 | T22: Akcinė bendrovė (AB)
B23: Akcininkas Nr.5 | H23: Leidyba | R23: UAB „Druskininkų vandenys“ | S23: 301500997 | T23: Uždaroji akcinė bendrovė (UAB)
B24: Kiti akcininkai | C24: Kitų akcininkų valdoma dalis | E24: =100%-SUM(E19:E23) -> 0 | H24: Kita (nurodyti laukelyje žemiau pagrindines veiklos sritis) | R24: UAB „Druskininkų sveikatinimo ir poilsio centras AQUA“ | S24: 300076944 | T24: Uždaroji akcinė bendrovė (UAB)
R25: UAB „Druskininkų butų ūkis“ | S25: 152007157 | T25: Uždaroji akcinė bendrovė (UAB)
B26: Savivaldybei priklausanti dalis (%) | C26: 1 | R26: UAB „Elektrėnų komunalinis ūkis“ | S26: 181613656 | T26: Uždaroji akcinė bendrovė (UAB)
B27: Turtines ir neturtines teisės ir pareigas įmonėje/bendrovėje įgyvendinanti institucija (arba didžiausią akcijų dalį valdanti institucija) | R27: UAB Ignalinos autobusų parkas | S27: 155475990 | T27: Uždaroji akcinė bendrovė (UAB)
R28: UAB „Didžiasalio komunalinės paslaugos“ | S28: 155513971 | T28: Uždaroji akcinė bendrovė (UAB)
B29: Ar bendrovė turi kontroliuojamų įmonių? (pildo tik akcinės bendrovės ir uždarosios akcinės bendrovės) | C29: Ne | R29: UAB Ignalinos butų ūkis | S29: 255512870 | T29: Uždaroji akcinė bendrovė (UAB)
B30: Nurodykite bendrovės kontroliuojamas įmones (pildoma, jei bendrovė turi kontroliuojamų įmonių) | R30: UAB „Ignalinos vanduo“ | S30: 155461670 | T30: Uždaroji akcinė bendrovė (UAB)
R31: UAB Ignalinos šilumos tinklai | S31: 155634880 | T31: Uždaroji akcinė bendrovė (UAB)
C32: LENTELĖSE DUOMENYS PATEIKIAMI TŪKSTANČIAIS EURŲ (JEI NENURODYTA KITAIP), VIENO SKAIČIAUS PO KABLELIO TIKSLUMU | R32: SĮ „Kompata“ | S32: 155402647 | T32: Savivaldybės įmonė (SĮ)
C33: Kur įmanoma, duomenys pateikiami augimo (agregavimo) principu | R33: UAB „Jonavos paslaugos“ | S33: 156916523 | T33: Uždaroji akcinė bendrovė (UAB)
C34: Jei įmonė turi kontroliuojamų įmonių, pateikiami konsoliduoti įmonių grupės duomenys | R34: UAB „Jonavos vandenys“ | S34: 256564350 | T34: Uždaroji akcinė bendrovė (UAB)
C35: Lentelėse turi būti pateikiami audituoti metiniai duomenys | R35: UAB „Jonavos autobusai“ | S35: 156576661 | T35: Uždaroji akcinė bendrovė (UAB)
B36: Pelno (nuostolių) ataskaita | C36: Praėjęs ataskaitinis laikotarpis 2018 metai | E36: Ataskaitinis laikotarpis 2019 metai | R36: UAB „Jonavos šilumos tinklai“ | S36: 156737189 | T36: Uždaroji akcinė bendrovė (UAB)
B37: Pardavimo pajamos | C37: 520.1 | E37: 479.3 | R37: UAB „Jonavos knyga“ | S37: 156595252 | T37: Uždaroji akcinė bendrovė (UAB)
B38: Pardavimo savikaina | C38: 351 | E38: 309.5 | R38: UAB „Joniškio vandenys“ | S38: 157531950 | T38: Uždaroji akcinė bendrovė (UAB)
B39: Bendrasis pelnas (nuostoliai) | C39: =+C37-C38 -> 169.1 | E39: =+E37-E38 -> 169.8 | R39: UAB „Joniškio butų ūkis“ | S39: 157521319 | T39: Uždaroji akcinė bendrovė (UAB)
B40: Pardavimo sąnaudos | R40: UAB „Joniškio autobusų parkas“ | S40: 157536164 | T40: Uždaroji akcinė bendrovė (UAB)
...

Sheet Finansiniai duomenys(2015-2016)
D3: Viešinamos informacijos apie savivaldybių valdomų įmonių veiklą ir rezultatus formos
D4: 1 priedas
B6: Informacija apie savivaldybių valdomų įmonių veiklą ir rezultatus 2015 - 2016 metais
B9: Įmonės pavadinimas | C9: ='Finansiniai duomenys'!C8 -> UAB Kėdainių butai
B10: Teisinė forma | C10: ='Finansiniai duomenys'!C9 -> Uždaroji akcinė bendrovė (UAB)
C11: Akcinė bendrovė (AB)
C12: Uždaroji akcinė bendrovė (UAB)
C13: Savivaldybės įmonė (SĮ)
B14: Įmonės teisinis statusas | C14: ='Finansiniai duomenys'!#REF! -> #REF!
C15: reorganizuojamas
C16: dalyvaujantis reorganizavime
C17: pertvarkomas
C18: restruktūrizuojamas
C19: bankrutuojantis
C20: bankrutavęs
C21: likviduojamas
C22: inicijuojantis Europos bendrovės steigimą jungimo būdu
C23: inicijuojantis Europos bendrovės steigimą valdymo (holdingo) būdu
C24: Europos bendrovė, kurios buveinė perkeliama
C25: dalyvaujantis atskyrime
C26: -
B27: Įmonės kodas | C27: ='Finansiniai duomenys'!C10 -> 161130867
B28: Įmonės įsteigimo data | C28: ='Finansiniai duomenys'!#REF! -> #REF!
B29: Sektorius, kuriame veikia įmonė | C29: ='Finansiniai duomenys'!#REF! -> #REF! | H29: Komunalinės paslaugos: vanduo (nurodyti laukelyje žemiau, ar įmonė tik nuomoja infrastruktūrą, ar pati teikia paslaugas galutiniams vartotojams)
C30: ='Finansiniai duomenys'!#REF! -> #REF! | H30: Komunalinės paslaugos: šilumos tinklai (nurodyti laukelyje žemiau, ar įmonė tik nuomoja infrastruktūrą, ar pati teikia paslaugas galutiniams vartotojams)
B31: Įmonės direktorius (generalinis direktorius) | C31: ='Finansiniai duomenys'!C14 -> Alvydas Kleiva | H31: Butų ūkiai
B32: Įmonės vyr. finansininkas (vyr. buhalteris) | C32: ='Finansiniai duomenys'!C15 -> Lina Genienė | H32: Komunalinės paslaugos: kita
H33: Atliekos ir šalinimo paslaugos
C34: Lentelės užpildymo dieną | H34: Viešasis transportas
B35: Akcininkų sąrašas | C35: 5 didžiausi akcininkai | E35: Valdoma akcijų dalis | H35: Kitos transporto paslaugos
B36: Akcininkas Nr.1 | C36: ='Finansiniai duomenys'!C19 -> Kėdainių rajono savivaldybė | E36: ='Finansiniai duomenys'!E19 -> 1 | H36: Statyba ir architektūra
B37: Akcininkas Nr.2 | C37: ='Finansiniai duomenys'!C20 -> 0 | E37: ='Finansiniai duomenys'!E20 -> 0 | H37: Sveikatos priežiūros paslaugos
B38: Akcininkas Nr.3 | C38: ='Finansiniai duomenys'!C21 -> 0 | E38: ='Finansiniai duomenys'!E21 -> 0 | H38: Leidyba
B39: Akcininkas Nr.4 | C39: ='Finansiniai duomenys'!C22 -> 0 | E39: ='Finansiniai duomenys'!E22 -> 0 | H39: Kita (nurodyti laukelyje žemiau pagrindines veiklos sritis)
B40: Akcininkas Nr.5 | C40: ='Finansiniai duomenys'!C23 -> 0 | E40: ='Finansiniai duomenys'!E23 -> 0
B41: Kiti akcininkai | C41: Kitų akcininkų valdoma dalis | E41: =100%-SUM(E36:E40) -> 0
B43: Savivaldybei priklausanti dalis (%) | C43: ='Finansiniai duomenys'!C26 -> 1
B44: Turtines ir neturtines teisės ir pareigas įmonėje/bendrovėje įgyvendinanti institucija (arba didžiausią akcijų dalį valdanti institucija) | C44: ='Finansiniai duomenys'!C27 -> 0
B46: Ar bendrovė turi kontroliuojamų įmonių? (pildo tik akcinės bendrovės ir uždarosios akcinės bendrovės) | C46: ='Finansiniai duomenys'!#REF! -> #REF!
B47: Nurodykite bendrovės kontroliuojamas įmones (pildoma, jei bendrovė turi kontroliuojamų įmonių) | C47: ='Finansiniai duomenys'!#REF! -> #REF!
...

Sheet Suteikta parama
K3: Viešinamos informacijos apie savivaldybių valdomų įmonių veiklą ir rezultatus formos
K4: 2 priedas
C6: Informacija apie savivaldybių valdomų bendrovių suteiktą paramą
C9: Įmonės pavadinimas | E9: ='Finansiniai duomenys'!C8 -> UAB Kėdainių butai
C10: Teisinė forma | E10: ='Finansiniai duomenys'!C9 -> Uždaroji akcinė bendrovė (UAB)
C11: Įmonės kodas | E11: ='Finansiniai duomenys'!C10 -> 161130867
C13: Ar bendrovė turi pasitvirtinusi bendrovės paramos valdymo taisykles ar paramos fondo paramos valdymo taisykles? | F13: Ne, parama nebuvo teikiama ir (ar) neplanuojama jos teikti | O13: Taip, patvirtintos bendrovės paramos valdymo taisyklės
C14: Jeigu paramos valdymo taisyklės patvirtintos, nurodykite jų patvirtinimo datą | O14: Taip, patvirtintos paramos fondo paramos valdymo taisyklės
O15: Ne, paramos valdymo taisyklės nepatvirtintos (nors parama teikiama ar planuojama ją teikti)
O16: Ne, parama nebuvo teikiama ir (ar) neplanuojama jos teikti
C17: Ar praėjusiu ataskaitiniu laikotarpiu 2018 m. bent vienam subjektui bendrovė suteikė paramą? | I17: Ar ataskaitiniu laikotarpiu 2019 m. bent vienam subjektui bendrovė suteikė paramą? | K17: Ne
C18: Pastaba: jeigu įmonė paramos praėjusiu ataskaitiniu laikotarpiu 2018 m. neteikė, žemiau esanti informacija nepildoma | I18: Pastaba: jeigu įmonė paramos ataskaitiniu laikotarpiu 2019 m. neteikė, žemiau esanti informacija nepildoma
C19: Ar bendrovės interneto svetainėje skelbiama informacija apie praėjusiu ataskaitiniu laikotarpiu 2018 m. bendrovės suteiktą paramą? | I19: Ar bendrovės interneto svetainėje skelbiama informacija apie ataskaitiniu laikotarpiu 2019 m. bendrovės suteiktą paramą?
C20: Pateikite tikslią internetinės svetainės nuorodą, kurioje skelbiama informaciją apie suteiktą paramą | I20: Pateikite tikslią internetinės svetainės nuorodą, kurioje skelbiama informaciją apie suteiktą paramą
C23: Informacija apie suteiktą paramą praėjusiu ataskaitiniu laikotarpiu 2018 m. | I23: Informacija apie suteiktą paramą ataskaitiniu laikotarpiu <metai>
C25: Pastaba: lentelė pildoma jeigu praėjusiu ataskaitiniu laikotarpiu 2018 m. bent vienam subjektui buvo suteikta parama. | I25: Pastaba: lentelė pildoma jeigu ataskaitiniu laikotarpiu 2019 m. bent vienam subjektui buvo suteikta parama.
C26: Eil. Nr. | D26: Paramos gavėjas | E26: Paramos panaudojimo paskirtis | F26: Suteikta parama (tūkst. eurų) | I26: Eil. Nr. | J26: Paramos gavėjas | K26: Paramos panaudojimo paskirtis | L26: Suteikta parama (tūkst. eurų)
C27: 1 | I27: 1
C28: 2 | I28: 2
C29: 3 | I29: 3
C30: 4 | I30: 4
C31: 5 | I31: 5
C32: 6 | I32: 6
C33: 7 | I33: 7
C34: 8 | I34: 8
C35: 9 | I35: 9
C36: 10 | I36: 10
C37: 11 | I37: 11
C38: 12 | I38: 12
... C86: 60 | I86: 60
C88: Pastabos
C89: Jeigu turite pastabų dėl užpildytos informacijos, pateikite jas čia:
C91: Informacija apie lentelės duomenų tikrumą patvirtinantį asmenį
C92: Lentelės duomenų patvirtinimo data
C93: Atsakingas asmuo (vardas, pavardė, pareigos) | F93: Direktorius Kęstutis Vaitkevičius
C94: Atsakingo asmens kontaktiniai duomenys (telefono nr. ir elektroninio pašto adresas) | F94: direktorius@kadainiubutai.lt
C95: Atsakingo asmens parašas arba elektroninis parašas (reikalingas tik skenuotoje versijoje)
