Workbook

Sheet Finansiniai duomenys
R1: =COUNTA(R2:R250) -> 249 | S1: =COUNTA(S2:S250) -> 249 | T1: =COUNTA(T2:T250) -> 249
D2: PATVIRTINTA VšĮ „Stebėsenos ir prognozių agentūra“ direktoriaus 2020 m. balandžio 6 d. įsakymu Nr. IV-12 | R2: UAB „Akmenės vandenys“ | S2: 253255950 | T2: Uždaroji akcinė bendrovė (UAB)
R3: UAB „Naujosios Akmenės komunalininkas“ | S3: 152903578 | T3: Uždaroji akcinė bendrovė (UAB)
R4: UAB Naujosios Akmenės autobusų parkas | S4: 152968145 | T4: Uždaroji akcinė bendrovė (UAB)
R5: UAB „Akmenės profilaktinė dezinfekcija“ | S5: 152962797 | T5: Uždaroji akcinė bendrovė (UAB)
B6: Viešinamos informacijos apie savivaldybių valdomų įmonių veiklą ir rezultatus forma | R6: UAB „Dzūkijos vandenys“ | S6: 149566841 | T6: Uždaroji akcinė bendrovė (UAB)
R7: UAB „Alytaus šilumos tinklai“ | S7: 149947714 | T7: Uždaroji akcinė bendrovė (UAB)
B8: Įmonės pavadinimas | C8: UAB Kėdainių butai | R8: SĮ Alytaus telekinas | S8: 149693995 | T8: Savivaldybės įmonė (SĮ)
B9: Teisinė forma | C9: Uždaroji akcinė bendrovė (UAB) | H9: Akcinė bendrovė (AB) | L9: reorganizuojamas | R9: UAB „Alytaus butų ūkis“ | S9: 149951417 | T9: Uždaroji akcinė bendrovė (UAB)
B10: Įmonės kodas | C10: 161130867 | H10: Uždaroji akcinė bendrovė (UAB) | L10: dalyvaujantis reorganizavime | R10: UAB Alytaus regiono atliekų tvarkymo centras | S10: 250135860 | T10: Uždaroji akcinė bendrovė (UAB)
B11: Įmonės įsteigimo data | C11: 34903 | H11: Savivaldybės įmonė (SĮ) | L11: pertvarkomas | R11: SĮ „Simno komunalininkas“ | S11: 153720195 | T11: Savivaldybės įmonė (SĮ)
B12: Sektorius, kuriame veikia įmonė | C12: Butų ūkiai | L12: restruktūrizuojamas | R12: UAB „Anykščių vandenys“ | S12: 154138664 | T12: Uždaroji akcinė bendrovė (UAB)
L13: bankrutuojantis | R13: UAB Anykščių komunalinis ūkis | S13: 154111083 | T13: Uždaroji akcinė bendrovė (UAB)
B14: Įmonės direktorius (generalinis direktorius) | C14: Alvydas Kleiva | H14: Komunalinės paslaugos: vanduo (nurodyti laukelyje žemiau, ar įmonė tik nuomoja infrastruktūrą, ar pati teikia paslaugas galutiniams vartotojams) | L14: bankrutavęs | R14: UAB „Anykščių šiluma“ | S14: 154112751 | T14: Uždaroji akcinė bendrovė (UAB)
B15: Įmonės vyr. finansininkas (vyr. buhalteris) | C15: Lina Genienė | H15: Komunalinės paslaugos: šilumos tinklai (nurodyti laukelyje žemiau, ar įmonė tik nuomoja infrastruktūrą, ar pati teikia paslaugas galutiniams vartotojams) | L15: likviduojamas | R15: UAB „Birštono vandentiekis“ | S15: 152812840 | T15: Uždaroji akcinė bendrovė (UAB)
H16: Butų ūkiai | L16: inicijuojantis Europos bendrovės steigimą jungimo būdu | R16: UAB „Birštono šiluma“ | S16: 152840633 | T16: Uždaroji akcinė bendrovė (UAB)
C17: Lentelės užpildymo dieną | H17: Komunalinės paslaugos: kita (nurodykite laukelyje žemiau) | L17: inicijuojantis Europos bendrovės steigimą valdymo (holdingo) būdu | R17: AB Birštono sanatorija „Versmė“ | S17: 152814478 | T17: Akcinė bendrovė (AB)
B18: Akcininkų sąrašas | C18: 5 didžiausi akcininkai | E18: Valdoma akcijų dalis | H18: Atliekos ir šalinimo paslaugos | L18: Europos bendrovė, kurios buveinė perkeliama | R18: SĮ Biržų agrolaboratorija | S18: 154724428 | T18: Savivaldybės įmonė (SĮ)
B19: Akcininkas Nr.1 | C19: Kėdainių rajono savivaldybė | E19: 1 | H19: Viešasis transportas | L19: dalyvaujantis atskyrime | R19: UAB Biržų autobusų parkas | S19: 154742789 | T19: Uždaroji akcinė bendrovė (UAB)
B20: Akcininkas Nr.2 | H20: Kitos transporto paslaugos | L20: - | R20: UAB „Biržų šilumos tinklai“ | S20: 154866655 | T20: Uždaroji akcinė bendrovė (UAB)
B21: Akcininkas Nr.3 | H21: Statyba ir architektūra | R21: UAB „Biržų vandenys“ | S21: 154850665 | T21: Uždaroji akcinė bendrovė (UAB)
B22: Akcininkas Nr.4 | H22: Sveikatos priežiūros paslaugos | R22: AB „Druskininkų šilumos tinklai“ | S22: 152003098 | T22: Akcinė bendrovė (AB)
B23: Akcininkas Nr.5 | H23: Leidyba | R23: UAB „Druskininkų vandenys“ | S23: 301500997 | T23: Uždaroji akcinė bendrovė (UAB)
B24: Kiti akcininkai | C24: Kitų akcininkų valdoma dalis | E24: =100%-SUM(E19:E23) -> 0 | H24: Kita (nurodyti laukelyje žemiau pagrindines veiklos sritis) | R24: UAB „Druskininkų sveikatinimo ir poilsio centras AQUA“ | S24: 300076944 | T24: Uždaroji akcinė bendrovė (UAB)
R25: UAB „Druskininkų butų ūkis“ | S25: 152007157 | T25: Uždaroji akcinė bendrovė (UAB)
B26: Savivaldybei priklausanti dalis (%) | C26: 1 | R26: UAB „Elektrėnų komunalinis ūkis“ | S26: 181613656 | T26: Uždaroji akcinė bendrovė (UAB)
B27: Turtines ir neturtines teisės ir pareigas įmonėje/bendrovėje įgyvendinanti institucija (arba didžiausią akcijų dalį valdanti institucija) | R27: UAB Ignalinos autobusų parkas | S27: 155475990 | T27: Uždaroji akcinė bendrovė (UAB)
R28: UAB „Didžiasalio komunalinės paslaugos“ | S28: 155513971 | T28: Uždaroji akcinė bendrovė (UAB)
B29: Ar bendrovė turi kontroliuojamų įmonių? (pildo tik akcinės bendrovės ir uždarosios akcinės bendrovės) | C29: Ne | R29: UAB Ignalinos butų ūkis | S29: 255512870 | T29: Uždaroji akcinė bendrovė (UAB)
B30: Nurodykite bendrovės kontroliuojamas įmones (pildoma, jei bendrovė turi kontroliuojamų įmonių) | R30: UAB „Ignalinos vanduo“ | S30: 155461670 | T30: Uždaroji akcinė bendrovė (UAB)
R31: UAB Ignalinos šilumos tinklai | S31: 155634880 | T31: Uždaroji akcinė bendrovė (UAB)
C32: LENTELĖSE DUOMENYS PATEIKIAMI TŪKSTANČIAIS EURŲ (JEI NENURODYTA KITAIP), VIENO SKAIČIAUS PO KABLELIO TIKSLUMU | R32: SĮ „Kompata“ | S32: 155402647 | T32: Savivaldybės įmonė (SĮ)
C33: Kur įmanoma, duomenys pateikiami augimo (agregavimo) principu | R33: UAB „Jonavos paslaugos“ | S33: 156916523 | T33: Uždaroji akcinė bendrovė (UAB)
C34: Jei įmonė turi kontroliuojamų įmonių, pateikiami konsoliduoti įmonių grupės duomenys | R34: UAB „Jonavos vandenys“ | S34: 256564350 | T34: Uždaroji akcinė bendrovė (UAB)
C35: Lentelėse turi būti pateikiami audituoti metiniai duomenys | R35: UAB „Jonavos autobusai“ | S35: 156576661 | T35: Uždaroji akcinė bendrovė (UAB)
B36: Pelno (nuostolių) ataskaita | C36: Praėjęs ataskaitinis laikotarpis 2018 metai | E36: Ataskaitinis laikotarpis 2019 metai | R36: UAB „Jonavos šilumos tinklai“ | S36: 156737189 | T36: Uždaroji akcinė bendrovė (UAB)
B37: Pardavimo pajamos | C37: 520.1 | E37: 479.3 | R37: UAB „Jonavos knyga“ | S37: 156595252 | T37: Uždaroji akcinė bendrovė (UAB)
B38: Pardavimo savikaina | C38: 351 | E38: 309.5 | R38: UAB „Joniškio vandenys“ | S38: 157531950 | T38: Uždaroji akcinė bendrovė (UAB)
B39: Bendrasis pelnas (nuostoliai) | C39: =+C37-C38 -> 169.1 | E39: =+E37-E38 -> 169.8 | R39: UAB „Joniškio butų ūkis“ | S39: 157521319 | T39: Uždaroji akcinė bendrovė (UAB)
B40: Pardavimo sąnaudos | R40: UAB „Joniškio autobusų parkas“ | S40: 157536164 | T40: Uždaroji akcinė bendrovė (UAB)
B41: Bendrosios ir administracinės sąnaudos | C41: 156 | E41: 147.5 | R41: UAB „Jurbarko komunalininkas“ | S41: 258325370 | T41: Uždaroji akcinė bendrovė (UAB)
B42: Veiklos pelnas (nuostoliai) | C42: =+C39-C40-C41 -> 13.1 | E42: =+E39-E40-E41 -> 22.3 | R42: UAB „Jurbarko autobusų parkas“ | S42: 158161361 | T42: Uždaroji akcinė bendrovė (UAB)
B43: Dotacijos, susijusios su pajamomis | R43: UAB „Jurbarko vandenys“ | S43: 158275315 | T43: Uždaroji akcinė bendrovė (UAB)
B44: Kitos veiklos rezultatai | C44: -6.3 | E44: -4.9 | R44: SĮ „Jurbarko planas“ | S44: 158737526 | T44: Savivaldybės įmonė (SĮ)
B45: Finansinė ir investicinė veikla | C45: =C46-C47 -> 0.2 | E45: =E46-E47 -> 0.6 | R45: UAB „Kaišiadorių vandenys“ | S45: 158834726 | T45: Uždaroji akcinė bendrovė (UAB)
B46: Pajamos | C46: 1 | E46: 0.6 | R46: UAB „Kaišiadorių šiluma“ | S46: 158996646 | T46: Uždaroji akcinė bendrovė (UAB)
B47: Sąnaudos | C47: 0.8 | E47: 0 | R47: SĮ „Kaišiadorių paslaugos“ | S47: 258847030 | T47: Savivaldybės įmonė (SĮ)
B48: Pelnas (nuostoliai) prieš apmokestinimą | C48: =+C42+C43+C44+C45 -> 7 | E48: =+E42+E43+E44+E45 -> 18 | R48: UAB „Kalvarijos komunalininkas“ | S48: 165717011 | T48: Uždaroji akcinė bendrovė (UAB)
B49: Pelno mokestis | C49: 1.2 | E49: 2.8 | R49: AB „Kauno energija“ | S49: 235014830 | T49: Akcinė bendrovė (AB)
B50: Grynasis pelnas (nuostoliai) | C50: =C48-C49 -> 5.8 | E50: =E48-E49 -> 15.2 | R50: UAB „Kauno autobusai“ | S50: 133154754 | T50: Uždaroji akcinė bendrovė (UAB)
B51: -Iš jo: Mažumai tenkanti grynojo pelno dalis (pildoma akcinių bendrovių/uždarųjų akcinių bendrovių, turinčių kontroliuojamų įmonių) | R51: UAB „Kauno vandenys“ | S51: 132751369 | T51: Uždaroji akcinė bendrovė (UAB)
R52: UAB „Kauno švara“ | S52: 132616649 | T52: Uždaroji akcinė bendrovė (UAB)
C53: LENTELĖSE DUOMENYS PATEIKIAMI TŪKSTANČIAIS EURŲ (JEI NENURODYTA KITAIP), VIENO SKAIČIAUS PO KABLELIO TIKSLUMU | R53: UAB „Kauno gatvių apšvietimas“ | S53: 132684155 | T53: Uždaroji akcinė bendrovė (UAB)
B54: Balansas | C54: Praėjęs ataskaitinis laikotarpis 2018-12-31 | E54: Ataskaitinis laikotarpis 2019-12-31 | R54: UAB „Stoties turgus“ | S54: 233923260 | T54: Uždaroji akcinė bendrovė (UAB)
B55: Nematerialusis turtas | C55: 0 | R55: UAB „Centrinis knygynas“ | S55: 133607044 | T55: Uždaroji akcinė bendrovė (UAB)
B56: Materialusis turtas | C56: 58.4 | E56: 47.8 | R56: UAB „Laboratorinių bandymų centras“ | S56: 135641038 | T56: Uždaroji akcinė bendrovė (UAB)
B57: Finansinis turtas | R57: UAB Kauno butų ūkis | S57: 132532496 | T57: Uždaroji akcinė bendrovė (UAB)
B58: Kitas ilgalaikis turtas | R58: SĮ „Kapinių priežiūra“ | S58: 132626180 | T58: Savivaldybės įmonė (SĮ)
B59: Ilgalaikis turtas | C59: =SUM(C55:C58) -> 58.4 | E59: =SUM(E55:E58) -> 47.8 | R59: SĮ „Kauno planas“ | S59: 133810450 | T59: Savivaldybės įmonė (SĮ)
R60: UAB „Giraitės vandenys“ | S60: 159702357 | T60: Uždaroji akcinė bendrovė (UAB)
B61: Atsargos | C61: 9.6 | E61: 13 | R61: UAB Komunalinių paslaugų centras | S61: 301846604 | T61: Uždaroji akcinė bendrovė (UAB)
B62: Per vienerius metus gautinos sumos | C62: 490.2 | E62: 488.3 | R62: UAB „Kazlų Rūdos šilumos tinklai“ | S62: 166092559 | T62: Uždaroji akcinė bendrovė (UAB)
B63: Kitas trumpalaikis turtas | R63: UAB „Kazlų Rūdos komunalininkas“ | S63: 165695198 | T63: Uždaroji akcinė bendrovė (UAB)
B64: Pinigai ir pinigų ekvivalentai | C64: 147 | E64: 219.6 | R64: UAB „Kėdbusas“ | S64: 161229484 | T64: Uždaroji akcinė bendrovė (UAB)
B65: Trumpalaikis turtas | C65: =SUM(C61:C64) -> 646.8 | E65: =SUM(E61:E64) -> 720.9 | R65: UAB „Kėdainių butai“ | S65: 161130867 | T65: Uždaroji akcinė bendrovė (UAB)
R66: UAB „Kėdainių vandenys“ | S66: 161186428 | T66: Uždaroji akcinė bendrovė (UAB)
B67: Ateinančių laikotarpių sąnaudos ir sukauptos pajamos | R67: UAB „Kelmės vanduo“ | S67: 162559136 | T67: Uždaroji akcinė bendrovė (UAB)
R68: UAB „Kelmės autobusų parkas“ | S68: 162441351 | T68: Uždaroji akcinė bendrovė (UAB)
B69: Ilgalaikis turtas, laikomas pardavimui | R69: UAB Kelmės vietinis ūkis | S69: 162732556 | T69: Uždaroji akcinė bendrovė (UAB)
R70: UAB „Kelmės šilumos tinklai“ | S70: 162726845 | T70: Uždaroji akcinė bendrovė (UAB)
B71: Turto iš viso | C71: =SUM(C59,C65,C67,C69) -> 705.2 | E71: =SUM(E59,E65,E67,E69) -> 768.7 | R71: SĮ Kelmės knygynas | S71: 162468366 | T71: Savivaldybės įmonė (SĮ)
R72: AB „Klaipėdos vanduo“ | S72: 140089260 | T72: Akcinė bendrovė (AB)
B73: Kapitalas (jeigu įmonės teisinė forma yra AB ar UAB) / Įmonės savininko kapitalas (jeigu įmonės teisinė forma yra SĮ) | C73: 185.3 | E73: 185.3 | R73: AB „Klaipėdos energija“ | S73: 140249252 | T73: Akcinė bendrovė (AB)
B74: -Iš jo: Įstatinio (pasirašytojo) kapitalo dalis | R74: UAB Klaipėdos regiono atliekų tvarkymo centras | S74: 163743744 | T74: Uždaroji akcinė bendrovė (UAB)
B75: Turtą, kuris pagal įstatymus gali būti tik valstybės nuosavybė, atitinkantis kapitalas | R75: UAB „Klaipėdos autobusų parkas“ | S75: 140033557 | T75: Uždaroji akcinė bendrovė (UAB)
B76: Centralizuotai valdomą valstybės turtą atitinkantis kapitalas | R76: UAB „Gatvių apšvietimas“ | S76: 140031353 | T76: Uždaroji akcinė bendrovė (UAB)
B77: Akcijų priedai | R77: UAB „Naujasis turgus“ | S77: 140842886 | T77: Uždaroji akcinė bendrovė (UAB)
B78: Perkainojimo rezervas (rezultatai) | R78: UAB „Senasis turgus“ | S78: 140842929 | T78: Uždaroji akcinė bendrovė (UAB)
B79: Rezervai | C79: 35.7 | E79: 35.7 | R79: UAB „Vildmina“ | S79: 141525547 | T79: Uždaroji akcinė bendrovė (UAB)
B80: -Iš jų: Privalomasis rezervas | C80: 17 | E80: 17 | R80: SĮ „Debreceno vaistinė“ | S80: 140786882 | T80: Savivaldybės įmonė (SĮ)
B81: Nepaskirstytasis pelnas (nuostoliai) | C81: 15.9 | E81: 31.1 | R81: UAB „Klaipėdos rajono energija“ | S81: 302827126 | T81: Uždaroji akcinė bendrovė (UAB)
B82: Mažumai tenkanti nuosavo kapitalo dalis (pildoma tik akcinių bendrovių/uždarųjų akcinių bendrovių, turinčių kontroliuojamų įmonių) | R82: UAB „Gargždų turgus“ | S82: 163252987 | T82: Uždaroji akcinė bendrovė (UAB)
B83: Nuosavas kapitalas | C83: =SUM(C73,C75:C79,C81:C81) -> 236.9 | E83: =SUM(E73,E75:E79,E81:E81) -> 252.1 | R83: UAB „Stotis“ | S83: 163252115 | T83: Uždaroji akcinė bendrovė (UAB)
R84: SĮ „Kretingos komunalininkas“ | S84: 163934977 | T84: Savivaldybės įmonė (SĮ)
B85: Dotacijos, subsidijos | R85: UAB „Kretingos vandenys“ | S85: 163994426 | T85: Uždaroji akcinė bendrovė (UAB)
R86: UAB Kretingos autobusų parkas | S86: 163994611 | T86: Uždaroji akcinė bendrovė (UAB)
B87: Atidėjimai | R87: UAB „Kretingos turgus“ | S87: 300531865 | T87: Uždaroji akcinė bendrovė (UAB)
R88: UAB Kretingos šilumos tinklai | S88: 164294882 | T88: Uždaroji akcinė bendrovė (UAB)
B89: Po vienų metų mokėtinos sumos ir kiti ilgalaikiai įsipareigojimai | E89: 140.3 | R89: UAB „Kupiškio autobusų parkas“ | S89: 164742773 | T89: Uždaroji akcinė bendrovė (UAB)
B90: -Iš jų: Ilgalaikės finansinės skolos | R90: UAB „Kupiškio komunalininkas“ | S90: 164702526 | T90: Uždaroji akcinė bendrovė (UAB)
B91: Per vienus metus mokėtinos sumos ir kiti trumpalaikiai įsipareigojimai | C91: 468.3 | E91: 376.3 | R91: UAB „Kupiškio vandenys“ | S91: 164702145 | T91: Uždaroji akcinė bendrovė (UAB)
B92: -Iš jų: Ilgalaikių finansinių skolų einamųjų metų dalis | R92: UAB „Lazdijų šiluma“ | S92: 165219441 | T92: Uždaroji akcinė bendrovė (UAB)
B93: Trumpalaikės finansinės skolos | R93: UAB „Lazdijų vanduo“ | S93: 165171377 | T93: Uždaroji akcinė bendrovė (UAB)
B94: Iš viso įsipareigojimų | C94: =SUM(C89,C91) -> 468.3 | E94: =SUM(E89,E91) -> 516.6 | R94: UAB „Marijampolės autobusų parkas“ | S94: 251168030 | T94: Uždaroji akcinė bendrovė (UAB)
R95: UAB „Marijampolės šilumos tinklai“ | S95: 151425755 | T95: Uždaroji akcinė bendrovė (UAB)
B96: Sukauptos sąnaudos ir ateinančių laikotarpių pajamos | R96: UAB „Sūduvos vandenys“ | S96: 151104226 | T96: Uždaroji akcinė bendrovė (UAB)
R97: UAB „Marijampolės butų ūkis“ | S97: 151005356 | T97: Uždaroji akcinė bendrovė (UAB)
B98: Įsipareigojimai, susiję su ilgalaikiu turtu, laikomu pardavimui | C98: 0 | R98: UAB Marijampolės apskrities atliekų tvarkymo centras | S98: 151479265 | T98: Uždaroji akcinė bendrovė (UAB)
R99: UAB „Mažeikių šilumos tinklai“ | S99: 166901968 | T99: Uždaroji akcinė bendrovė (UAB)
B100: Nuosavo kapitalo ir įsipareigojimų iš viso | C100: =SUM(C83,C85,C87,C94,C96,C98) -> 705.2 | E100: =SUM(E83,E85,E87,E94,E96,E98) -> 768.7 | R100: UAB „Mažeikių vandenys“ | S100: 166486116 | T100: Uždaroji akcinė bendrovė (UAB)
...

Sheet Finansiniai duomenys(2015-2016)
D3: Viešinamos informacijos apie savivaldybių valdomų įmonių veiklą ir rezultatus formos
D4: 1 priedas
B6: Informacija apie savivaldybių valdomų įmonių veiklą ir rezultatus 2015 - 2016 metais
B9: Įmonės pavadinimas | C9: ='Finansiniai duomenys'!C8 -> UAB Kėdainių butai
B10: Teisinė forma | C10: ='Finansiniai duomenys'!C9 -> Uždaroji akcinė bendrovė (UAB)
C11: Akcinė bendrovė (AB)
C12: Uždaroji akcinė bendrovė (UAB)
C13: Savivaldybės įmonė (SĮ)
B14: Įmonės teisinis statusas | C14: ='Finansiniai duomenys'!#REF! -> #REF!
C15: reorganizuojamas
C16: dalyvaujantis reorganizavime
C17: pertvarkomas
C18: restruktūrizuojamas
C19: bankrutuojantis
C20: bankrutavęs
C21: likviduojamas
C22: inicijuojantis Europos bendrovės steigimą jungimo būdu
C23: inicijuojantis Europos bendrovės steigimą valdymo (holdingo) būdu
C24: Europos bendrovė, kurios buveinė perkeliama
C25: dalyvaujantis atskyrime
C26: -
B27: Įmonės kodas | C27: ='Finansiniai duomenys'!C10 -> 161130867
B28: Įmonės įsteigimo data | C28: ='Finansiniai duomenys'!#REF! -> #REF!
B29: Sektorius, kuriame veikia įmonė | C29: ='Finansiniai duomenys'!#REF! -> #REF! | H29: Komunalinės paslaugos: vanduo (nurodyti laukelyje žemiau, ar įmonė tik nuomoja infrastruktūrą, ar pati teikia paslaugas galutiniams vartotojams)
C30: ='Finansiniai duomenys'!#REF! -> #REF! | H30: Komunalinės paslaugos: šilumos tinklai (nurodyti laukelyje žemiau, ar įmonė tik nuomoja infrastruktūrą, ar pati teikia paslaugas galutiniams vartotojams)
B31: Įmonės direktorius (generalinis direktorius) | C31: ='Finansiniai duomenys'!C14 -> Alvydas Kleiva | H31: Butų ūkiai
B32: Įmonės vyr. finansininkas (vyr. buhalteris) | C32: ='Finansiniai duomenys'!C15 -> Lina Genienė | H32: Komunalinės paslaugos: kita
H33: Atliekos ir šalinimo paslaugos
C34: Lentelės užpildymo dieną | H34: Viešasis transportas
B35: Akcininkų sąrašas | C35: 5 didžiausi akcininkai | E35: Valdoma akcijų dalis | H35: Kitos transporto paslaugos
B36: Akcininkas Nr.1 | C36: ='Finansiniai duomenys'!C19 -> Kėdainių rajono savivaldybė | E36: ='Finansiniai duomenys'!E19 -> 1 | H36: Statyba ir architektūra
B37: Akcininkas Nr.2 | C37: ='Finansiniai duomenys'!C20 -> 0 | E37: ='Finansiniai duomenys'!E20 -> 0 | H37: Sveikatos priežiūros paslaugos
B38: Akcininkas Nr.3 | C38: ='Finansiniai duomenys'!C21 -> 0 | E38: ='Finansiniai duomenys'!E21 -> 0 | H38: Leidyba
B39: Akcininkas Nr.4 | C39: ='Finansiniai duomenys'!C22 -> 0 | E39: ='Finansiniai duomenys'!E22 -> 0 | H39: Kita (nurodyti laukelyje žemiau pagrindines veiklos sritis)
B40: Akcininkas Nr.5 | C40: ='Finansiniai duomenys'!C23 -> 0 | E40: ='Finansiniai duomenys'!E23 -> 0
B41: Kiti akcininkai | C41: Kitų akcininkų valdoma dalis | E41: =100%-SUM(E36:E40) -> 0
B43: Savivaldybei priklausanti dalis (%) | C43: ='Finansiniai duomenys'!C26 -> 1
B44: Turtines ir neturtines teisės ir pareigas įmonėje/bendrovėje įgyvendinanti institucija (arba didžiausią akcijų dalį valdanti institucija) | C44: ='Finansiniai duomenys'!C27 -> 0
B46: Ar bendrovė turi kontroliuojamų įmonių? (pildo tik akcinės bendrovės ir uždarosios akcinės bendrovės) | C46: ='Finansiniai duomenys'!#REF! -> #REF!
B47: Nurodykite bendrovės kontroliuojamas įmones (pildoma, jei bendrovė turi kontroliuojamų įmonių) | C47: ='Finansiniai duomenys'!#REF! -> #REF!
C49: LENTELĖSE DUOMENYS PATEIKIAMI TŪKSTANČIAIS EURŲ (JEI NENURODYTA KITAIP), VIENO SKAIČIAUS PO KABLELIO TIKSLUMU
C51: Jei įmonė turi kontroliuojamų įmonių, pateikiami konsoliduoti įmonių grupės duomenys
C52: Lentelėse turi būti pateikiami audituoti metiniai duomenys
B53: Pelno (nuostolių) ataskaita | C53: 2015 metai | E53: 2016 metai
B54: Pardavimo pajamos
B55: Pardavimo savikaina
B56: Bendrasis pelnas (nuostoliai) | C56: =+C54-C55 -> 0 | E56: =+E54-E55 -> 0
B57: Pardavimo sąnaudos
B58: Bendrosios ir administracinės sąnaudos
B59: Veiklos pelnas (nuostoliai) | C59: =+C56-C57-C58 -> 0 | E59: =+E56-E57-E58 -> 0
B60: Dotacijos, susijusios su pajamomis
B61: Kitos veiklos rezultatai
B62: Finansinė ir investicinė veikla | C62: =C63-C64 -> 0 | E62: =E63-E64 -> 0
B63: Pajamos
B64: Sąnaudos
B65: Pelnas (nuostoliai) prieš apmokestinimą | C65: =+C59+C60+C61+C62 -> 0 | E65: =+E59+E60+E61+E62 -> 0
B66: Pelno mokestis
B67: Grynasis pelnas (nuostoliai) | C67: =C65-C66 -> 0 | E67: =E65-E66 -> 0
B68: -Iš jo: Mažumai tenkanti grynojo pelno dalis (pildoma akcinių bendrovių/uždarųjų akcinių bendrovių, turinčių kontroliuojamų įmonių)
B70: Balansas | C70: 42369 | E70: 42735
B71: Nematerialusis turtas
B72: Materialusis turtas
B73: Finansinis turtas
B74: Kitas ilgalaikis turtas
B75: Biologinis turtas
B76: Ilgalaikis turtas | C76: =SUM(C71:C75) -> 0 | E76: =SUM(E71:E75) -> 0
B78: Atsargos, išankstiniai apmokėjimai ir nebaigtos vykdyti sutartys
B79: Per vienerius metus gautinos sumos
B80: Kitas trumpalaikis turtas
B81: Pinigai ir pinigų ekvivalentai
B82: Trumpalaikis turtas | C82: =SUM(C78:C81) -> 0 | E82: =SUM(E78:E81) -> 0
B84: Ateinančių laikotarpių sąnaudos ir sukauptos pajamos
B86: Ilgalaikis turtas, laikomas pardavimui
B88: Turto iš viso | C88: =SUM(C76,C82,C84,C86) -> 0 | E88: =SUM(E76,E82,E84,E86) -> 0
B90: Kapitalas (jeigu įmonės teisinė forma yra AB ar UAB) / Įmonės savininko kapitalas (jeigu įmonės teisinė forma yra SĮ)
B91: -Iš jo: Įstatinio (pasirašytojo) kapitalo dalis
B92: Turtą, kuris pagal įstatymus gali būti tik valstybės nuosavybė, atitinkantis kapitalas
B93: Centralizuotai valdomą valstybės turtą atitinkantis kapitalas
B94: Perkainojimo rezervas (rezultatai)
B95: Rezervai
B96: -Iš jų: Privalomasis rezervas
B97: Nepaskirstytasis pelnas (nuostoliai)
B98: Mažumai tenkanti nuosavo kapitalo dalis (pildoma tik akcinių bendrovių/uždarųjų akcinių bendrovių, turinčių kontroliuojamų įmonių)
B99: Nuosavas kapitalas | C99: =SUM(C90,C92:C95,C97:C97) -> 0 | E99: =SUM(E90,E92:E95,E97:E97) -> 0
B101: Dotacijos, subsidijos
B103: Atidėjimai
B105: Ilgalaikiai įsipareigojimai
B106: -Iš jų: Ilgalaikės finansinės skolos
B107: Trumpalaikiai įsipareigojimai
B108: -Iš jų: Ilgalaikių finansinių skolų einamųjų metų dalis
B109: Trumpalaikės finansinės skolos
B110: Iš viso įsipareigojimų | C110: =SUM(C105,C107) -> 0 | E110: =SUM(E105,E107) -> 0
B112: Sukauptos sąnaudos ir ateinančių laikotarpių pajamos
B114: Įsipareigojimai, susiję su ilgalaikiu turtu, laikomu pardavimui
B116: Nuosavo kapitalo ir įsipareigojimų iš viso | C116: =SUM(C99,C101,C103,C110,C112,C114) -> 0 | E116: =SUM(E99,E101,E103,E110,E112,E114) -> 0
B118: Ar balansas susibalansuoja? | C118: =IF(ROUND((C88-C116)/2,1)=0,"Balansas",C88-C116) -> Balansas | E118: =IF(ROUND((E88-E116)/2,1)=0,"Balansas",E88-E116) -> Balansas
B121: Įmonės teisės ir įsipareigojimai, nenurodyti balanse
B124: Kita informacija | C124: =C53 -> 2015 metai | E124: =E53 -> 2016 metai
B125: Viso disponuojamo nekilnojamojo turto plotas, kv. m.
B127: Nusidėvėjimas ir amortizacija, įskaičiuoti į ataskaitinio laikotarpio pelno (nuostolių) ataskaitą
...

Sheet Suteikta parama
K3: Viešinamos informacijos apie savivaldybių valdomų įmonių veiklą ir rezultatus formos
K4: 2 priedas
C6: Informacija apie savivaldybių valdomų bendrovių suteiktą paramą
C9: Įmonės pavadinimas | E9: ='Finansiniai duomenys'!C8 -> UAB Kėdainių butai
C10: Teisinė forma | E10: ='Finansiniai duomenys'!C9 -> Uždaroji akcinė bendrovė (UAB)
C11: Įmonės kodas | E11: ='Finansiniai duomenys'!C10 -> 161130867
C13: Ar bendrovė turi pasitvirtinusi bendrovės paramos valdymo taisykles ar paramos fondo paramos valdymo taisykles? | F13: Ne, parama nebuvo teikiama ir (ar) neplanuojama jos teikti | O13: Taip, patvirtintos bendrovės paramos valdymo taisyklės
C14: Jeigu paramos valdymo taisyklės patvirtintos, nurodykite jų patvirtinimo datą | O14: Taip, patvirtintos paramos fondo paramos valdymo taisyklės
O15: Ne, paramos valdymo taisyklės nepatvirtintos (nors parama teikiama ar planuojama ją teikti)
O16: Ne, parama nebuvo teikiama ir (ar) neplanuojama jos teikti
C17: Ar praėjusiu ataskaitiniu laikotarpiu 2018 m. bent vienam subjektui bendrovė suteikė paramą? | I17: Ar ataskaitiniu laikotarpiu 2019 m. bent vienam subjektui bendrovė suteikė paramą? | K17: Ne
C18: Pastaba: jeigu įmonė paramos praėjusiu ataskaitiniu laikotarpiu 2018 m. neteikė, žemiau esanti informacija nepildoma | I18: Pastaba: jeigu įmonė paramos ataskaitiniu laikotarpiu 2019 m. neteikė, žemiau esanti informacija nepildoma
C19: Ar bendrovės interneto svetainėje skelbiama informacija apie praėjusiu ataskaitiniu laikotarpiu 2018 m. bendrovės suteiktą paramą? | I19: Ar bendrovės interneto svetainėje skelbiama informacija apie ataskaitiniu laikotarpiu 2019 m. bendrovės suteiktą paramą?
C20: Pateikite tikslią internetinės svetainės nuorodą, kurioje skelbiama informaciją apie suteiktą paramą | I20: Pateikite tikslią internetinės svetainės nuorodą, kurioje skelbiama informaciją apie suteiktą paramą
C23: Informacija apie suteiktą paramą praėjusiu ataskaitiniu laikotarpiu 2018 m. | I23: Informacija apie suteiktą paramą ataskaitiniu laikotarpiu <metai>
C25: Pastaba: lentelė pildoma jeigu praėjusiu ataskaitiniu laikotarpiu 2018 m. bent vienam subjektui buvo suteikta parama. | I25: Pastaba: lentelė pildoma jeigu ataskaitiniu laikotarpiu 2019 m. bent vienam subjektui buvo suteikta parama.
C26: Eil. Nr. | D26: Paramos gavėjas | E26: Paramos panaudojimo paskirtis | F26: Suteikta parama (tūkst. eurų) | I26: Eil. Nr. | J26: Paramos gavėjas | K26: Paramos panaudojimo paskirtis | L26: Suteikta parama (tūkst. eurų)
C27: 1 | I27: 1
C28: 2 | I28: 2
C29: 3 | I29: 3
C30: 4 | I30: 4
C31: 5 | I31: 5
C32: 6 | I32: 6
C33: 7 | I33: 7
C34: 8 | I34: 8
C35: 9 | I35: 9
C36: 10 | I36: 10
C37: 11 | I37: 11
C38: 12 | I38: 12
... C86: 60 | I86: 60
C88: Pastabos
C89: Jeigu turite pastabų dėl užpildytos informacijos, pateikite jas čia:
C91: Informacija apie lentelės duomenų tikrumą patvirtinantį asmenį
C92: Lentelės duomenų patvirtinimo data
C93: Atsakingas asmuo (vardas, pavardė, pareigos) | F93: Direktorius Kęstutis Vaitkevičius
C94: Atsakingo asmens kontaktiniai duomenys (telefono nr. ir elektroninio pašto adresas) | F94: direktorius@kadainiubutai.lt
C95: Atsakingo asmens parašas arba elektroninis parašas (reikalingas tik skenuotoje versijoje)
