Workbook

Sheet Finansiniai duomenys
R1: =COUNTA(R2:R229) -> 226 | S1: =COUNTA(S2:S229) -> 226 | T1: =COUNTA(T2:T229) -> 226
D2: PATVIRTINTA VšĮ Valdymo koordinavimo centro direktoriaus 2024 m. balandžio 10 d. įsakymu Nr. IV-7 | Q2: 1 | R2: UAB „Akmenės vandenys“ | S2: 253255950 | T2: Uždaroji akcinė bendrovė (UAB) | U2: Vandentvarka | V2: Akmenės rajono savivaldybė
Q3: 2 | R3: UAB „Naujosios Akmenės komunalininkas“ | S3: 152903578 | T3: Uždaroji akcinė bendrovė (UAB) | U3: Kita | V3: Akmenės rajono savivaldybė
Q4: 3 | R4: UAB Naujosios Akmenės autobusų parkas | S4: 152968145 | T4: Uždaroji akcinė bendrovė (UAB) | U4: Viešasis transportas | V4: Akmenės rajono savivaldybė
Q5: 4 | R5: UAB „Dzūkijos vandenys“ | S5: 149566841 | T5: Uždaroji akcinė bendrovė (UAB) | U5: Vandentvarka | V5: Alytaus miesto savivaldybė
B6: Viešinamos informacijos apie savivaldybių valdomų įmonių ir jų dukterinių bendrovių veiklą ir rezultatus forma | Q6: 5 | R6: UAB „Alytaus šilumos tinklai“ | S6: 149947714 | T6: Uždaroji akcinė bendrovė (UAB) | U6: Šilumos tinklai | V6: Alytaus miesto savivaldybė
Q7: 6 | R7: UAB „Alytaus butų ūkis“ | S7: 149951417 | T7: Uždaroji akcinė bendrovė (UAB) | U7: Šilumos tinklai | V7: Alytaus miesto savivaldybė
B8: Įmonės pavadinimas | C8: UAB „Kėdainių vandenys“ | Q8: 7 | R8: UAB Alytaus regiono atliekų tvarkymo centras | S8: 250135860 | T8: Uždaroji akcinė bendrovė (UAB) | U8: RATC | V8: Alytaus miesto savivaldybė
B9: Teisinė forma | C9: =IFERROR(VLOOKUP(C8,$R$1:$T$236,3,FALSE),"") -> Uždaroji akcinė bendrovė (UAB) | H9: Akcinė bendrovė (AB) | L9: reorganizuojamas | Q9: 8 | R9: SĮ „Simno komunalininkas“ | S9: 153720195 | T9: Savivaldybės įmonė (SĮ) | U9: Kita | V9: Alytaus rajono savivaldybė
B10: Įmonės kodas | C10: =IFERROR(VLOOKUP(C8,$R$2:$S$236,2,FALSE),"") -> 161186428 | H10: Uždaroji akcinė bendrovė (UAB) | L10: dalyvaujantis reorganizavime | Q10: 9 | R10: UAB „Anykščių vandenys“ | S10: 154138664 | T10: Uždaroji akcinė bendrovė (UAB) | U10: Vandentvarka | V10: Anykščių rajono savivaldybė
B11: Sektorius | C11: =IFERROR(VLOOKUP(C8,$R$2:$U$236,4,FALSE),"") -> Vandentvarka | L11: restruktūrizuojamas | Q11: 10 | R11: UAB Anykščių komunalinis ūkis | S11: 154111083 | T11: Uždaroji akcinė bendrovė (UAB) | U11: Kita | V11: Anykščių rajono savivaldybė
B12: Įmonės direktorius (generalinis direktorius) | C12: Rimgaudas Praninskas | H12: Komunalinės paslaugos: vanduo (nurodyti laukelyje žemiau, ar įmonė tik nuomoja infrastruktūrą, ar pati teikia paslaugas galutiniams vartotojams) | L12: bankrutuojantis | Q12: 11 | R12: UAB „Anykščių šiluma“ | S12: 154112751 | T12: Uždaroji akcinė bendrovė (UAB) | U12: Šilumos tinklai | V12: Anykščių rajono savivaldybė
B13: Įmonės vyr. finansininkas (vyr. buhalteris) | C13: Danguolė Andrijauskienė | H13: Komunalinės paslaugos: šilumos tinklai (nurodyti laukelyje žemiau, ar įmonė tik nuomoja infrastruktūrą, ar pati teikia paslaugas galutiniams vartotojams) | Q13: 12 | R13: UAB „Birštono vandentiekis“ | S13: 152812840 | T13: Uždaroji akcinė bendrovė (UAB) | U13: Vandentvarka | V13: Birštono savivaldybė
H14: Butų ūkiai | L14: likviduojamas | Q14: 13 | R14: UAB „Birštono šiluma“ | S14: 152840633 | T14: Uždaroji akcinė bendrovė (UAB) | U14: Šilumos tinklai | V14: Birštono savivaldybė
C15: Lentelės užpildymo dieną | H15: Komunalinės paslaugos: kita (nurodykite laukelyje žemiau) | L15: inicijuojantis Europos bendrovės steigimą jungimo būdu | Q15: 14 | R15: AB Birštono sanatorija „Versmė“ | S15: 152814478 | T15: Akcinė bendrovė (AB) | U15: Kita | V15: Birštono savivaldybė
B16: Akcininkų sąrašas | C16: 5 didžiausi akcininkai | E16: Valdoma akcijų dalis | H16: Atliekos ir šalinimo paslaugos | L16: inicijuojantis Europos bendrovės steigimą valdymo (holdingo) būdu | Q16: 15 | R16: SĮ Biržų agrolaboratorija | S16: 154724428 | T16: Savivaldybės įmonė (SĮ) | U16: Kita | V16: Biržų rajono savivaldybė
B17: Akcininkas Nr.1 | C17: Kėdainių rajono savivaldybė | E17: 0.9992 | H17: Viešasis transportas | L17: Europos bendrovė, kurios buveinė perkeliama | Q17: 16 | R17: UAB Biržų autobusų parkas | S17: 154742789 | T17: Uždaroji akcinė bendrovė (UAB) | U17: Viešasis transportas | V17: Biržų rajono savivaldybė
B18: Akcininkas Nr.2 | C18: 51 fizinis asmuo | E18: 0.0008 | H18: Kitos transporto paslaugos | L18: dalyvaujantis atskyrime | Q18: 17 | R18: UAB „Biržų šilumos tinklai“ | S18: 154866655 | T18: Uždaroji akcinė bendrovė (UAB) | U18: Šilumos tinklai | V18: Biržų rajono savivaldybė
B19: Akcininkas Nr.3 | H19: Statyba ir architektūra | L19: - | Q19: 18 | R19: UAB „Biržų vandenys“ | S19: 154850665 | T19: Uždaroji akcinė bendrovė (UAB) | U19: Vandentvarka | V19: Biržų rajono savivaldybė
B20: Akcininkas Nr.4 | H20: Sveikatos priežiūros paslaugos | Q20: 19 | R20: AB „Druskininkų šilumos tinklai“ | S20: 152003098 | T20: Akcinė bendrovė (AB) | U20: Šilumos tinklai | V20: Druskininkų savivaldybė
B21: Akcininkas Nr.5 | H21: Leidyba | Q21: 20 | R21: UAB „Druskininkų vandenys“ | S21: 301500997 | T21: Uždaroji akcinė bendrovė (UAB) | U21: Vandentvarka | V21: Druskininkų savivaldybė
B22: Kiti akcininkai | C22: Kitų akcininkų valdoma dalis | E22: =100%-SUM(E17:E21) -> 0 | H22: Kita (nurodyti laukelyje žemiau pagrindines veiklos sritis) | Q22: 21 | R22: UAB „Druskininkų sveikatinimo ir poilsio centras AQUA“ | S22: 300076944 | T22: Uždaroji akcinė bendrovė (UAB) | U22: Kita | V22: Druskininkų savivaldybė
Q23: 22 | R23: UAB „Druskininkų butų ūkis“ | S23: 152007157 | T23: Uždaroji akcinė bendrovė (UAB) | U23: Kita | V23: Druskininkų savivaldybė
B24: Savivaldybei priklausanti dalis (%) | C24: 0.9992 | Q24: 23 | R24: UAB Elektrėnų autobusų parkas | S24: 305802733 | T24: Uždaroji akcinė bendrovė (UAB) | U24: Viešasis transportas | V24: Elektrėnų savivaldybė
B25: Turtines ir neturtines teisės ir pareigas įmonėje / bendrovėje įgyvendinanti institucija (arba didžiausią akcijų dalį valdanti institucija) | C25: Kėdainių rajono savivaldybės administracija | Q25: 24 | R25: UAB „Elektrėnų komunalinis ūkis“ | S25: 181613656 | T25: Uždaroji akcinė bendrovė (UAB) | U25: Kita | V25: Elektrėnų savivaldybė
Q26: 25 | R26: UAB „Didžiasalio komunalinės paslaugos“ | S26: 155513971 | T26: Uždaroji akcinė bendrovė (UAB) | U26: Kita | V26: Ignalinos rajono savivaldybė
B27: Ar bendrovė turi kontroliuojamų įmonių? (pildo tik akcinės bendrovės ir uždarosios akcinės bendrovės) | C27: Ne | Q27: 26 | R27: UAB Ignalinos butų ūkis | S27: 255512870 | T27: Uždaroji akcinė bendrovė (UAB) | U27: Kita | V27: Ignalinos rajono savivaldybė
B28: Nurodykite bendrovės kontroliuojamas įmones (pildoma, jei bendrovė turi kontroliuojamų įmonių) | Q28: 27 | R28: UAB Ignalinos šilumos tinklai | S28: 155634880 | T28: Uždaroji akcinė bendrovė (UAB) | U28: Šilumos tinklai | V28: Ignalinos rajono savivaldybė
Q29: 28 | R29: SĮ „Kompata“ | S29: 155402647 | T29: Savivaldybės įmonė (SĮ) | U29: Kita | V29: Ignalinos rajono savivaldybė
C30: LENTELĖSE DUOMENYS PATEIKIAMI TŪKSTANČIAIS EURŲ (JEI NENURODYTA KITAIP), VIENO SKAIČIAUS PO KABLELIO TIKSLUMU | Q30: 29 | R30: UAB „Jonavos paslaugos“ | S30: 156916523 | T30: Uždaroji akcinė bendrovė (UAB) | U30: Kita | V30: Jonavos rajono savivaldybė
C31: Kur įmanoma, duomenys pateikiami augimo (agregavimo) principu | Q31: 30 | R31: UAB „Jonavos vandenys“ | S31: 256564350 | T31: Uždaroji akcinė bendrovė (UAB) | U31: Vandentvarka | V31: Jonavos rajono savivaldybė
C32: Jei įmonė turi kontroliuojamų įmonių, pateikiami konsoliduoti įmonių grupės duomenys | Q32: 31 | R32: UAB „Jonavos autobusai“ | S32: 156576661 | T32: Uždaroji akcinė bendrovė (UAB) | U32: Viešasis transportas | V32: Jonavos rajono savivaldybė
C33: Lentelėse turi būti pateikiami audituoti metiniai duomenys | Q33: 32 | R33: UAB „Jonavos šilumos tinklai“ | S33: 156737189 | T33: Uždaroji akcinė bendrovė (UAB) | U33: Šilumos tinklai | V33: Jonavos rajono savivaldybė
B34: Pelno (nuostolių) ataskaita | C34: Praėjęs ataskaitinis laikotarpis 2022 m. | E34: Ataskaitinis laikotarpis 2023 m. | Q34: 33 | R34: UAB „Jonavos knyga“ | S34: 156595252 | T34: Uždaroji akcinė bendrovė (UAB) | U34: Kita | V34: Jonavos rajono savivaldybė
B35: Pardavimo pajamos | C35: 4346 | E35: 5771.4 | Q35: 34 | R35: UAB „Joniškio vandenys“ | S35: 157531950 | T35: Uždaroji akcinė bendrovė (UAB) | U35: Vandentvarka | V35: Joniškio rajono savivaldybė
B36: Pardavimo savikaina | C36: 4086.8 | E36: 3702.9 | Q36: 35 | R36: UAB „Joniškio butų ūkis“ | S36: 157521319 | T36: Uždaroji akcinė bendrovė (UAB) | U36: Kita | V36: Joniškio rajono savivaldybė
B37: Bendrasis pelnas (nuostoliai) | C37: =+C35-C36 -> 259.2 | E37: =+E35-E36 -> 2068.5 | Q37: 36 | R37: UAB „Joniškio autobusų parkas“ | S37: 157536164 | T37: Uždaroji akcinė bendrovė (UAB) | U37: Viešasis transportas | V37: Joniškio rajono savivaldybė
B38: Pardavimo sąnaudos | C38: 198.4 | E38: 220.8 | Q38: 37 | R38: UAB „Jurbarko komunalininkas“ | S38: 258325370 | T38: Uždaroji akcinė bendrovė (UAB) | U38: Kita | V38: Jurbarko rajono savivaldybė
B39: Bendrosios ir administracinės sąnaudos | C39: 920.6 | E39: 1202.6 | Q39: 38 | R39: UAB „Jurbarko autobusų parkas“ | S39: 158161361 | T39: Uždaroji akcinė bendrovė (UAB) | U39: Viešasis transportas | V39: Jurbarko rajono savivaldybė
B40: Veiklos pelnas (nuostoliai) | C40: =+C37-C38-C39 -> -859.8 | E40: =+E37-E38-E39 -> 645.1 | Q40: 39 | R40: UAB „Jurbarko vandenys“ | S40: 158275315 | T40: Uždaroji akcinė bendrovė (UAB) | U40: Vandentvarka | V40: Jurbarko rajono savivaldybė
B41: Dotacijos, susijusios su pajamomis | Q41: 40 | R41: SĮ „Jurbarko planas“ | S41: 158737526 | T41: Savivaldybės įmonė (SĮ) | U41: Kita | V41: Jurbarko rajono savivaldybė
B42: Kitos veiklos rezultatai | C42: 18.3 | E42: 36.4 | Q42: 41 | R42: UAB „Kaišiadorių vandenys“ | S42: 158834726 | T42: Uždaroji akcinė bendrovė (UAB) | U42: Vandentvarka | V42: Kaišiadorių rajono savivaldybė
B43: Finansinė ir investicinė veikla | C43: =C44-C45 -> 205.9 | E43: =E44-E45 -> 19.2 | Q43: 42 | R43: UAB „Kaišiadorių šiluma“ | S43: 158996646 | T43: Uždaroji akcinė bendrovė (UAB) | U43: Šilumos tinklai | V43: Kaišiadorių rajono savivaldybė
B44: Pajamos | C44: 248.4 | E44: 45.8 | Q44: 43 | R44: SĮ „Kaišiadorių paslaugos“ | S44: 258847030 | T44: Savivaldybės įmonė (SĮ) | U44: Kita | V44: Kaišiadorių rajono savivaldybė
B45: Sąnaudos | C45: 42.5 | E45: 26.6 | Q45: 44 | R45: UAB „Kalvarijos komunalininkas“ | S45: 165717011 | T45: Uždaroji akcinė bendrovė (UAB) | U45: Vandentvarka | V45: Kalvarijos savivaldybė
B46: Pelnas (nuostoliai) prieš apmokestinimą | C46: =+C40+C41+C42+C43 -> -635.6 | E46: =+E40+E41+E42+E43 -> 700.7 | Q46: 45 | R46: AB „Kauno energija“ | S46: 235014830 | T46: Akcinė bendrovė (AB) | U46: Šilumos tinklai | V46: Kauno miesto savivaldybė
B47: Pelno mokestis | Q47: 46 | R47: UAB „Kauno autobusai“ | S47: 133154754 | T47: Uždaroji akcinė bendrovė (UAB) | U47: Viešasis transportas | V47: Kauno miesto savivaldybė
B48: Grynasis pelnas (nuostoliai) | C48: =C46-C47 -> -635.6 | E48: =E46-E47 -> 700.7 | Q48: 47 | R48: UAB „Kauno vandenys“ | S48: 132751369 | T48: Uždaroji akcinė bendrovė (UAB) | U48: Vandentvarka | V48: Kauno miesto savivaldybė
Q49: 48 | R49: UAB „Kauno švara“ | S49: 132616649 | T49: Uždaroji akcinė bendrovė (UAB) | U49: Kita | V49: Kauno miesto savivaldybė
C50: LENTELĖSE DUOMENYS PATEIKIAMI TŪKSTANČIAIS EURŲ (JEI NENURODYTA KITAIP), VIENO SKAIČIAUS PO KABLELIO TIKSLUMU | Q50: 49 | R50: UAB „Kauno gatvių apšvietimas“ | S50: 132684155 | T50: Uždaroji akcinė bendrovė (UAB) | U50: Kita | V50: Kauno miesto savivaldybė
B51: Balansas | C51: Praėjęs ataskaitinis laikotarpis 2022 m. | E51: Ataskaitinis laikotarpis 2023 m. | Q51: 50 | R51: UAB „Stoties turgus“ | S51: 233923260 | T51: Uždaroji akcinė bendrovė (UAB) | U51: Kita | V51: Kauno miesto savivaldybė
B52: Nematerialusis turtas | C52: 28.4 | E52: 20.7 | Q52: 51 | R52: UAB „Centrinis knygynas“ | S52: 133607044 | T52: Uždaroji akcinė bendrovė (UAB) | U52: Kita | V52: Kauno miesto savivaldybė
B53: Materialusis turtas | C53: 44096.4 | E53: 43881.2 | Q53: 52 | R53: UAB „Laboratorinių bandymų centras“ | S53: 135641038 | T53: Uždaroji akcinė bendrovė (UAB) | U53: Kita | V53: Kauno miesto savivaldybė
B54: Finansinis turtas | C54: 97.5 | E54: 145.6 | Q54: 53 | R54: UAB Kauno butų ūkis | S54: 132532496 | T54: Uždaroji akcinė bendrovė (UAB) | U54: Kita | V54: Kauno miesto savivaldybė
B55: Kitas ilgalaikis turtas | Q55: 54 | R55: SĮ „Kapinių priežiūra“ | S55: 132626180 | T55: Savivaldybės įmonė (SĮ) | U55: Kita | V55: Kauno miesto savivaldybė
B56: Ilgalaikis turtas | C56: =SUM(C52:C55) -> 44222.3 | E56: =SUM(E52:E55) -> 44047.5 | Q56: 55 | R56: SĮ „Kauno planas“ | S56: 133810450 | T56: Savivaldybės įmonė (SĮ) | U56: Kita | V56: Kauno miesto savivaldybė
Q57: 56 | R57: UAB „Giraitės vandenys“ | S57: 159702357 | T57: Uždaroji akcinė bendrovė (UAB) | U57: Vandentvarka | V57: Kauno rajono savivaldybė
B58: Atsargos | C58: 180.2 | E58: 145.7 | Q58: 57 | R58: UAB Komunalinių paslaugų centras | S58: 301846604 | T58: Uždaroji akcinė bendrovė (UAB) | U58: Šilumos tinklai | V58: Kauno rajono savivaldybė
B59: Per vienerius metus gautinos sumos | C59: 719.5 | E59: 795.5 | Q59: 58 | R59: UAB „Kazlų Rūdos šilumos tinklai“ | S59: 166092559 | T59: Uždaroji akcinė bendrovė (UAB) | U59: Šilumos tinklai | V59: Kazlų Rūdos savivaldybė
B60: -Iš jų: Pirkėjų skolos | C60: 680.2 | E60: 785 | Q60: 59 | R60: UAB „Kėdbusas“ | S60: 161229484 | T60: Uždaroji akcinė bendrovė (UAB) | U60: Viešasis transportas | V60: Kėdainių rajono savivaldybė
B61: Kitas trumpalaikis turtas | Q61: 60 | R61: UAB „Kėdainių butai“ | S61: 161130867 | T61: Uždaroji akcinė bendrovė (UAB) | U61: Kita | V61: Kėdainių rajono savivaldybė
B62: Pinigai ir pinigų ekvivalentai | C62: 274.9 | E62: 203 | Q62: 61 | R62: UAB „Kėdainių vandenys“ | S62: 161186428 | T62: Uždaroji akcinė bendrovė (UAB) | U62: Vandentvarka | V62: Kėdainių rajono savivaldybė
B63: Trumpalaikis turtas | C63: =SUM(C58:C59,C61:C62) -> 1174.6 | E63: =SUM(E58:E59,E61:E62) -> 1144.2 | Q63: 62 | R63: UAB „Kelmės vanduo“ | S63: 162559136 | T63: Uždaroji akcinė bendrovė (UAB) | U63: Vandentvarka | V63: Kelmės rajono savivaldybė
Q64: 63 | R64: UAB „Kelmės autobusų parkas“ | S64: 162441351 | T64: Uždaroji akcinė bendrovė (UAB) | U64: Viešasis transportas | V64: Kelmės rajono savivaldybė
B65: Ateinančių laikotarpių sąnaudos ir sukauptos pajamos | C65: 19.7 | E65: 24.7 | Q65: 64 | R65: UAB Kelmės vietinis ūkis | S65: 162732556 | T65: Uždaroji akcinė bendrovė (UAB) | U65: Kita | V65: Kelmės rajono savivaldybė
Q66: 65 | R66: AB „Klaipėdos vanduo“ | S66: 140089260 | T66: Akcinė bendrovė (AB) | U66: Vandentvarka | V66: Klaipėdos miesto savivaldybė
B67: Ilgalaikis turtas, laikomas pardavimui | Q67: 66 | R67: AB „Klaipėdos energija“ | S67: 140249252 | T67: Akcinė bendrovė (AB) | U67: Šilumos tinklai | V67: Klaipėdos miesto savivaldybė
Q68: 67 | R68: UAB Klaipėdos regiono atliekų tvarkymo centras | S68: 163743744 | T68: Uždaroji akcinė bendrovė (UAB) | U68: RATC | V68: Klaipėdos miesto savivaldybė
B69: Turto iš viso | C69: =SUM(C56,C63,C65,C67) -> 45416.6 | E69: =SUM(E56,E63,E65,E67) -> 45216.4 | Q69: 68 | R69: UAB „Klaipėdos paslaugos“ | S69: 140033557 | T69: Uždaroji akcinė bendrovė (UAB) | U69: Viešasis transportas | V69: Klaipėdos miesto savivaldybė
Q70: 69 | R70: UAB „Naujasis turgus“ | S70: 140842886 | T70: Uždaroji akcinė bendrovė (UAB) | U70: Kita | V70: Klaipėdos miesto savivaldybė
B71: Kapitalas (jeigu įmonės teisinė forma yra AB ar UAB) / Įmonės savininko kapitalas (jeigu įmonės teisinė forma yra SĮ) | C71: 20524 | E71: 21357.1 | Q71: 70 | R71: UAB „Vildmina“ | S71: 141525547 | T71: Uždaroji akcinė bendrovė (UAB) | U71: Kita | V71: Klaipėdos miesto savivaldybė
B72: -Iš jo: Įstatinio (pasirašytojo) kapitalo dalis | C72: 20524 | E72: 21357.1 | Q72: 71 | R72: UAB „Debreceno vaistinė“ | S72: 140786882 | T72: Uždaroji akcinė bendrovė (UAB) | U72: Kita | V72: Klaipėdos miesto savivaldybė
B73: Turtą, kuris pagal įstatymus gali būti tik valstybės nuosavybė, atitinkantis kapitalas | Q73: 72 | R73: UAB „Klaipėdos rajono energija“ | S73: 302827126 | T73: Uždaroji akcinė bendrovė (UAB) | U73: Šilumos tinklai | V73: Klaipėdos rajono savivaldybė
B74: Centralizuotai valdomą valstybės turtą atitinkantis kapitalas | Q74: 73 | R74: UAB „Gargždų turgus“ | S74: 163252987 | T74: Uždaroji akcinė bendrovė (UAB) | U74: Kita | V74: Klaipėdos rajono savivaldybė
B75: Akcijų priedai | C75: 0.2 | E75: 0.2 | Q75: 74 | R75: SĮ „Kretingos komunalininkas“ | S75: 163934977 | T75: Savivaldybės įmonė (SĮ) | U75: Kita | V75: Kretingos rajono savivaldybė
B76: Perkainojimo rezervas (rezultatai) | Q76: 75 | R76: UAB „Kretingos vandenys“ | S76: 163994426 | T76: Uždaroji akcinė bendrovė (UAB) | U76: Vandentvarka | V76: Kretingos rajono savivaldybė
B77: Rezervai | C77: 91.7 | E77: 91.7 | Q77: 76 | R77: UAB Kretingos autobusų parkas | S77: 163994611 | T77: Uždaroji akcinė bendrovė (UAB) | U77: Viešasis transportas | V77: Kretingos rajono savivaldybė
B78: -Iš jų: Privalomasis rezervas | C78: 91.7 | E78: 91.7 | Q78: 77 | R78: UAB „Kretingos turgus“ | S78: 300531865 | T78: Uždaroji akcinė bendrovė (UAB) | U78: Kita | V78: Kretingos rajono savivaldybė
B79: Nepaskirstytasis pelnas (nuostoliai) | C79: -3228.8 | E79: -2528.1 | Q79: 78 | R79: UAB Kretingos šilumos tinklai | S79: 164294882 | T79: Uždaroji akcinė bendrovė (UAB) | U79: Šilumos tinklai | V79: Kretingos rajono savivaldybė
B80: Nuosavas kapitalas | C80: =SUM(C71,C73:C77,C79:C79) -> 17387.1 | E80: =SUM(E71,E73:E77,E79:E79) -> 18920.9 | Q80: 79 | R80: UAB „Kupiškio autobusų parkas“ | S80: 164742773 | T80: Uždaroji akcinė bendrovė (UAB) | U80: Viešasis transportas | V80: Kupiškio rajono savivaldybė
Q81: 80 | R81: UAB „Kupiškio komunalininkas“ | S81: 164702526 | T81: Uždaroji akcinė bendrovė (UAB) | U81: Kita | V81: Kupiškio rajono savivaldybė
B82: Dotacijos, subsidijos | C82: 22571.7 | E82: 22582 | Q82: 81 | R82: UAB „Kupiškio vandenys“ | S82: 164702145 | T82: Uždaroji akcinė bendrovė (UAB) | U82: Vandentvarka | V82: Kupiškio rajono savivaldybė
Q83: 82 | R83: UAB „Lazdijų šiluma“ | S83: 165219441 | T83: Uždaroji akcinė bendrovė (UAB) | U83: Šilumos tinklai | V83: Lazdijų rajono savivaldybė
B84: Atidėjiniai | C84: 0 | Q84: 83 | R84: UAB „Lazdijų vanduo“ | S84: 165171377 | T84: Uždaroji akcinė bendrovė (UAB) | U84: Vandentvarka | V84: Lazdijų rajono savivaldybė
Q85: 84 | R85: UAB „Marijampolės autobusų parkas“ | S85: 251168030 | T85: Uždaroji akcinė bendrovė (UAB) | U85: Viešasis transportas | V85: Marijampolės savivaldybė
B86: Po vienų metų mokėtinos sumos ir kiti ilgalaikiai įsipareigojimai | C86: 3537.4 | E86: 2459.2 | Q86: 85 | R86: UAB „Marijampolės šilumos tinklai“ | S86: 151425755 | T86: Uždaroji akcinė bendrovė (UAB) | U86: Šilumos tinklai | V86: Marijampolės savivaldybė
B87: -Iš jų: Skolos tiekėjams | Q87: 86 | R87: UAB „Sūduvos vandenys“ | S87: 151104226 | T87: Uždaroji akcinė bendrovė (UAB) | U87: Vandentvarka | V87: Marijampolės savivaldybė
B88: -Iš jų: Ilgalaikės finansinės skolos | C88: 3537.4 | E88: 2459.2 | Q88: 87 | R88: UAB Marijampolės apskrities atliekų tvarkymo centras | S88: 151479265 | T88: Uždaroji akcinė bendrovė (UAB) | U88: RATC | V88: Marijampolės savivaldybė
B89: Per vienus metus mokėtinos sumos ir kiti trumpalaikiai įsipareigojimai | C89: 1920.4 | E89: 1254.3 | Q89: 88 | R89: UAB „Mažeikių šilumos tinklai“ | S89: 166901968 | T89: Uždaroji akcinė bendrovė (UAB) | U89: Šilumos tinklai | V89: Mažeikių rajono savivaldybė
B90: -Iš jų: Skolos tiekėjams | C90: 524.4 | E90: 199.8 | Q90: 89 | R90: UAB „Mažeikių vandenys“ | S90: 166486116 | T90: Uždaroji akcinė bendrovė (UAB) | U90: Vandentvarka | V90: Mažeikių rajono savivaldybė
B91: -Iš jų: Ilgalaikių finansinių skolų einamųjų metų dalis | C91: 171.1 | E91: 99.3 | Q91: 90 | R91: UAB „Telšių regiono atliekų tvarkymo centras“ | S91: 171780190 | T91: Uždaroji akcinė bendrovė (UAB) | U91: RATC | V91: Mažeikių rajono savivaldybė
B92: Trumpalaikės finansinės skolos | C92: 1224.8 | E92: 955.2 | Q92: 91 | R92: UAB „Tavo pastogė“ | S92: 166576994 | T92: Uždaroji akcinė bendrovė (UAB) | U92: Kita | V92: Mažeikių rajono savivaldybė
B93: Mokėtinos sumos ir kiti įsipareigojimai | C93: =SUM(C86,C89) -> 5457.8 | E93: =SUM(E86,E89) -> 3713.5 | Q93: 92 | R93: UAB „Mažeikių autobusų parkas“ | S93: 166552032 | T93: Uždaroji akcinė bendrovė (UAB) | U93: Viešasis transportas | V93: Mažeikių rajono savivaldybė
Q94: 93 | R94: UAB „Mažeikių komunalinis ūkis“ | S94: 166445258 | T94: Uždaroji akcinė bendrovė (UAB) | U94: Kita | V94: Mažeikių rajono savivaldybė
B95: Sukauptos sąnaudos ir ateinančių laikotarpių pajamos | Q95: 94 | R95: UAB Molėtų autobusų parkas | S95: 167520735 | T95: Uždaroji akcinė bendrovė (UAB) | U95: Viešasis transportas | V95: Molėtų rajono savivaldybė
Q96: 95 | R96: UAB „Molėtų šiluma“ | S96: 167610175 | T96: Uždaroji akcinė bendrovė (UAB) | U96: Šilumos tinklai | V96: Molėtų rajono savivaldybė
B97: Įsipareigojimai, susiję su ilgalaikiu turtu, laikomu pardavimui | Q97: 96 | R97: UAB Molėtų švara | S97: 167500661 | T97: Uždaroji akcinė bendrovė (UAB) | U97: Kita | V97: Molėtų rajono savivaldybė
Q98: 97 | R98: UAB Molėtų vanduo | S98: 167524751 | T98: Uždaroji akcinė bendrovė (UAB) | U98: Vandentvarka | V98: Molėtų rajono savivaldybė
B99: Nuosavo kapitalo ir įsipareigojimų iš viso | C99: =SUM(C80,C82,C84,C93,C95,C97) -> 45416.6 | E99: =SUM(E80,E82,E84,E93,E95,E97) -> 45216.4 | Q99: 98 | R99: UAB „Neringos komunalininkas“ | S99: 152703524 | T99: Uždaroji akcinė bendrovė (UAB) | U99: Kita | V99: Neringos savivaldybė
Q100: 99 | R100: UAB „Neringos energija“ | S100: 152768582 | T100: Uždaroji akcinė bendrovė (UAB) | U100: Šilumos tinklai | V100: Neringos savivaldybė
...

Sheet Finansiniai duomenys(2015-2016)
D3: Viešinamos informacijos apie savivaldybių valdomų įmonių veiklą ir rezultatus formos
D4: 1 priedas
B6: Informacija apie savivaldybių valdomų įmonių veiklą ir rezultatus 2015 - 2016 metais
B9: Įmonės pavadinimas | C9: ='Finansiniai duomenys'!C8 -> UAB „Kėdainių vandenys“
B10: Teisinė forma | C10: ='Finansiniai duomenys'!C9 -> Uždaroji akcinė bendrovė (UAB)
C11: Akcinė bendrovė (AB)
C12: Uždaroji akcinė bendrovė (UAB)
C13: Savivaldybės įmonė (SĮ)
B14: Įmonės teisinis statusas | C14: ='Finansiniai duomenys'!#REF! -> #REF!
C15: reorganizuojamas
C16: dalyvaujantis reorganizavime
C17: pertvarkomas
C18: restruktūrizuojamas
C19: bankrutuojantis
C20: bankrutavęs
C21: likviduojamas
C22: inicijuojantis Europos bendrovės steigimą jungimo būdu
C23: inicijuojantis Europos bendrovės steigimą valdymo (holdingo) būdu
C24: Europos bendrovė, kurios buveinė perkeliama
C25: dalyvaujantis atskyrime
C26: -
B27: Įmonės kodas | C27: ='Finansiniai duomenys'!C10 -> 161186428
B28: Įmonės įsteigimo data | C28: ='Finansiniai duomenys'!#REF! -> #REF!
B29: Sektorius, kuriame veikia įmonė | C29: ='Finansiniai duomenys'!#REF! -> #REF! | H29: Komunalinės paslaugos: vanduo (nurodyti laukelyje žemiau, ar įmonė tik nuomoja infrastruktūrą, ar pati teikia paslaugas galutiniams vartotojams)
C30: ='Finansiniai duomenys'!#REF! -> #REF! | H30: Komunalinės paslaugos: šilumos tinklai (nurodyti laukelyje žemiau, ar įmonė tik nuomoja infrastruktūrą, ar pati teikia paslaugas galutiniams vartotojams)
B31: Įmonės direktorius (generalinis direktorius) | C31: ='Finansiniai duomenys'!C12 -> Rimgaudas Praninskas | H31: Butų ūkiai
B32: Įmonės vyr. finansininkas (vyr. buhalteris) | C32: ='Finansiniai duomenys'!C13 -> Danguolė Andrijauskienė | H32: Komunalinės paslaugos: kita
H33: Atliekos ir šalinimo paslaugos
C34: Lentelės užpildymo dieną | H34: Viešasis transportas
B35: Akcininkų sąrašas | C35: 5 didžiausi akcininkai | E35: Valdoma akcijų dalis | H35: Kitos transporto paslaugos
B36: Akcininkas Nr.1 | C36: ='Finansiniai duomenys'!C17 -> Kėdainių rajono savivaldybė | E36: ='Finansiniai duomenys'!E17 -> 0.9992 | H36: Statyba ir architektūra
B37: Akcininkas Nr.2 | C37: ='Finansiniai duomenys'!C18 -> 51 fizinis asmuo | E37: ='Finansiniai duomenys'!E18 -> 0.0008 | H37: Sveikatos priežiūros paslaugos
B38: Akcininkas Nr.3 | C38: ='Finansiniai duomenys'!#REF! -> #REF! | E38: ='Finansiniai duomenys'!#REF! -> #REF! | H38: Leidyba
B39: Akcininkas Nr.4 | C39: ='Finansiniai duomenys'!#REF! -> #REF! | E39: ='Finansiniai duomenys'!#REF! -> #REF! | H39: Kita (nurodyti laukelyje žemiau pagrindines veiklos sritis)
B40: Akcininkas Nr.5 | C40: ='Finansiniai duomenys'!#REF! -> #REF! | E40: ='Finansiniai duomenys'!#REF! -> #REF!
B41: Kiti akcininkai | C41: Kitų akcininkų valdoma dalis | E41: =100%-SUM(E36:E40) -> #REF!
B43: Savivaldybei priklausanti dalis (%) | C43: ='Finansiniai duomenys'!C24 -> 0.9992
B44: Turtines ir neturtines teisės ir pareigas įmonėje/bendrovėje įgyvendinanti institucija (arba didžiausią akcijų dalį valdanti institucija) | C44: ='Finansiniai duomenys'!C25 -> Kėdainių rajono savivaldybės administracija
B46: Ar bendrovė turi kontroliuojamų įmonių? (pildo tik akcinės bendrovės ir uždarosios akcinės bendrovės) | C46: ='Finansiniai duomenys'!#REF! -> #REF!
B47: Nurodykite bendrovės kontroliuojamas įmones (pildoma, jei bendrovė turi kontroliuojamų įmonių) | C47: ='Finansiniai duomenys'!#REF! -> #REF!
C49: LENTELĖSE DUOMENYS PATEIKIAMI TŪKSTANČIAIS EURŲ (JEI NENURODYTA KITAIP), VIENO SKAIČIAUS PO KABLELIO TIKSLUMU
C51: Jei įmonė turi kontroliuojamų įmonių, pateikiami konsoliduoti įmonių grupės duomenys
C52: Lentelėse turi būti pateikiami audituoti metiniai duomenys
B53: Pelno (nuostolių) ataskaita | C53: 2015 metai | E53: 2016 metai
B54: Pardavimo pajamos
B55: Pardavimo savikaina
B56: Bendrasis pelnas (nuostoliai) | C56: =+C54-C55 -> 0 | E56: =+E54-E55 -> 0
B57: Pardavimo sąnaudos
B58: Bendrosios ir administracinės sąnaudos
B59: Veiklos pelnas (nuostoliai) | C59: =+C56-C57-C58 -> 0 | E59: =+E56-E57-E58 -> 0
B60: Dotacijos, susijusios su pajamomis
B61: Kitos veiklos rezultatai
B62: Finansinė ir investicinė veikla | C62: =C63-C64 -> 0 | E62: =E63-E64 -> 0
B63: Pajamos
B64: Sąnaudos
B65: Pelnas (nuostoliai) prieš apmokestinimą | C65: =+C59+C60+C61+C62 -> 0 | E65: =+E59+E60+E61+E62 -> 0
B66: Pelno mokestis
B67: Grynasis pelnas (nuostoliai) | C67: =C65-C66 -> 0 | E67: =E65-E66 -> 0
B68: -Iš jo: Mažumai tenkanti grynojo pelno dalis (pildoma akcinių bendrovių/uždarųjų akcinių bendrovių, turinčių kontroliuojamų įmonių)
B70: Balansas | C70: 42369 | E70: 42735
B71: Nematerialusis turtas
B72: Materialusis turtas
B73: Finansinis turtas
B74: Kitas ilgalaikis turtas
B75: Biologinis turtas
B76: Ilgalaikis turtas | C76: =SUM(C71:C75) -> 0 | E76: =SUM(E71:E75) -> 0
B78: Atsargos, išankstiniai apmokėjimai ir nebaigtos vykdyti sutartys
B79: Per vienerius metus gautinos sumos
B80: Kitas trumpalaikis turtas
B81: Pinigai ir pinigų ekvivalentai
B82: Trumpalaikis turtas | C82: =SUM(C78:C81) -> 0 | E82: =SUM(E78:E81) -> 0
B84: Ateinančių laikotarpių sąnaudos ir sukauptos pajamos
B86: Ilgalaikis turtas, laikomas pardavimui
B88: Turto iš viso | C88: =SUM(C76,C82,C84,C86) -> 0 | E88: =SUM(E76,E82,E84,E86) -> 0
B90: Kapitalas (jeigu įmonės teisinė forma yra AB ar UAB) / Įmonės savininko kapitalas (jeigu įmonės teisinė forma yra SĮ)
B91: -Iš jo: Įstatinio (pasirašytojo) kapitalo dalis
B92: Turtą, kuris pagal įstatymus gali būti tik valstybės nuosavybė, atitinkantis kapitalas
B93: Centralizuotai valdomą valstybės turtą atitinkantis kapitalas
B94: Perkainojimo rezervas (rezultatai)
B95: Rezervai
B96: -Iš jų: Privalomasis rezervas
B97: Nepaskirstytasis pelnas (nuostoliai)
B98: Mažumai tenkanti nuosavo kapitalo dalis (pildoma tik akcinių bendrovių/uždarųjų akcinių bendrovių, turinčių kontroliuojamų įmonių)
B99: Nuosavas kapitalas | C99: =SUM(C90,C92:C95,C97:C97) -> 0 | E99: =SUM(E90,E92:E95,E97:E97) -> 0
B101: Dotacijos, subsidijos
B103: Atidėjimai
B105: Ilgalaikiai įsipareigojimai
B106: -Iš jų: Ilgalaikės finansinės skolos
B107: Trumpalaikiai įsipareigojimai
B108: -Iš jų: Ilgalaikių finansinių skolų einamųjų metų dalis
B109: Trumpalaikės finansinės skolos
B110: Iš viso įsipareigojimų | C110: =SUM(C105,C107) -> 0 | E110: =SUM(E105,E107) -> 0
B112: Sukauptos sąnaudos ir ateinančių laikotarpių pajamos
B114: Įsipareigojimai, susiję su ilgalaikiu turtu, laikomu pardavimui
B116: Nuosavo kapitalo ir įsipareigojimų iš viso | C116: =SUM(C99,C101,C103,C110,C112,C114) -> 0 | E116: =SUM(E99,E101,E103,E110,E112,E114) -> 0
B118: Ar balansas susibalansuoja? | C118: =IF(ROUND((C88-C116)/2,1)=0,"Balansas",C88-C116) -> Balansas | E118: =IF(ROUND((E88-E116)/2,1)=0,"Balansas",E88-E116) -> Balansas
B121: Įmonės teisės ir įsipareigojimai, nenurodyti balanse
B124: Kita informacija | C124: =C53 -> 2015 metai | E124: =E53 -> 2016 metai
B125: Viso disponuojamo nekilnojamojo turto plotas, kv. m.
B127: Nusidėvėjimas ir amortizacija, įskaičiuoti į ataskaitinio laikotarpio pelno (nuostolių) ataskaitą
...

Sheet Papildoma informacija
D2: FORMOS PILDYMO TAISYKLĖS | H2: Viešinamos informacijos apie savivaldybių valdomų įmonių ir jų dukterinių bendrovių veiklą ir rezultatus formos
D3: PRAŠOME UŽPILDYTI ŽEMIAU ESANČIAS "PAPILDOMI DUOMENYS" IR "ELEKTROS SUNAUDOJIMAS" LENTELES, O VIEŠOJO TRANSPORTO IR RATC SEKTORIAUS ĮMONIŲ PRAŠOME PAPILDOMAI UŽPILDYTI ATITINKAMAI PAVADINTAS LENTELES. | H3: 1 priedas
B4: Įmonės pavadinimas | D4: ='Finansiniai duomenys'!C8 -> UAB „Kėdainių vandenys“
B5: Teisinė forma | D5: =IFERROR(VLOOKUP(D4,'Finansiniai duomenys'!R2:T229,3,FALSE),"") -> Uždaroji akcinė bendrovė (UAB)
B6: Įmonės kodas | D6: =IFERROR(VLOOKUP(D4,'Finansiniai duomenys'!R2:T229,2,FALSE),"") -> 161186428
B7: Sektorius, kuriame veikia įmonė | D7: =IFERROR(VLOOKUP(D4,'Finansiniai duomenys'!R2:U229,4,FALSE),"") -> Vandentvarka
D11: Papildomi duomenys | G11: Praėjęs ataskaitinis laikotarpis 2022 m. | I11: Ataskaitinis laikotarpis 2023 m.
D12: Aukščiausio lygmens vadovai:, vnt | G12: 3 | I12: 3
D13: - iš jų Moterys | G13: 1 | I13: 1
D14: - iš jų Vyrai | G14: 2 | I14: 2
D16: Elektros sunaudojimas | G16: Praėjęs ataskaitinis laikotarpis 2022 m. | I16: Ataskaitinis laikotarpis 2023 m.
D17: Elektros sunaudojimas iš viso, kWh: | G17: 5061799 | I17: 4829745
D18: - įsigytos iš tiekėjų elektros sunaudojimas iš viso: | G18: 3518700 | I18: 3717582
D19: - iš jos: atsinaujinančios | G19: 0 | I19: 0
D20: - iš jos: neatsinaujinančios | G20: 3518700 | I20: 3717582
D21: - sugeneruotos elektros sunaudojimas iš viso: | G21: 1149598 | I21: 1112163
D22: - iš jos: atsinaujinančios | G22: 905985 | I22: 864429
D23: - iš jos: neatsinaujinančios | G23: 243613 | I23: 247734
D24: - įsigytos biržoje elektros sunaudojimas | G24: 0 | I24: 0
D25: - garantinio tiekimo elektros sunaudojimas (ESO) | G25: 393501 | I25: 0
D26: - mišrus sunaudojimas
G28: =IF((G18+G21+G24+G25+G26)=G17,"Gerai","Klaida") -> Gerai | I28: =IF((I18+I21+I24+I25+I26)=I17,"Gerai","Klaida") -> Gerai
D30: Viešasis transportas | G30: Praėjęs ataskaitinis laikotarpis 2022 m. | I30: Ataskaitinis laikotarpis 2023 m.
D31: Rida, km
D32: Degalų sąnaudos, Eur/km
D33: Pervežta keleivių, vnt
D34: Transporto parkas iš viso, vnt
D35: - Autobusai iš viso
D36: - iš jų: Dyzeliniai
D37: - iš jų: Dujiniai
D38: - iš jų: Elektriniai
D39: - Troleibusai iš viso
D40: - Kitos
D43: RATC | G43: Praėjęs ataskaitinis laikotarpis 2022 m. | I43: Ataskaitinis laikotarpis 2023 m.
D44: Eksploatuojama infrastruktūra, vnt:
D45: - Regioniniai sąvartynai
D46: - Didelių gabaritų atliekų surinkimo aikštelės
D47: - Mechaninio biologinio apdorojimo įrenginiai
D48: - Žaliųjų atliekų kompostavimo aikštelės
D49: Namų ūkių skaičius regione, vnt
D50: Bendri atliekų tvarkymo kaštai, tenkantys gyventojams, Eur
D51: Vidutiniai metiniai atliekų tvarkymo kaštai namų ūkiui regione, Eur/vnt
D52: Bendri vienos tonos komunalinių atliekų tvarkymo kaštai, Eur/t (su PVM)
D53: Pelnas (nuostolis) sutvarkytai atliekų tonai (patekusių į sąvartyną), Eur
D55: Pastabos
D56: Jei turite komentarų dėl užpildytos informacijos, pateikite juos čia:
D58: Informacija apie lentelės duomenų tikrumą patvirtinantį asmenį
D59: Lentelės duomenų patvirtinimo data | G59: 2024 04 17
D60: Atsakingas asmuo (vardas, pavardė, pareigos) | G60: Buhalterė-kasininkė Rima Vainauskienė
D61: Atsakingo asmens kontaktiniai duomenys (telefono nr. ir elektroninio pašto adresas) | G61: 8-347-50031, buhalteris1@kedainiuvandenys.lt
D62: Atsakingo asmens parašas arba elektroninis parašas (reikalingas tik skenuotoje versijoje)

Sheet Suteikta parama
C3: INFORMACIJĄ PILDO TIK BENDROVĖS IR UŽDAROSIOS AKCINĖS BENDROVĖS | K3: Viešinamos informacijos apie savivaldybių valdomų įmonių ir jų dukterinių bendrovių veiklą ir rezultatus formos
C4: INFORMACIJA APIE SUTEIKTĄ PARAMĄ PATEIKIAMA TŪKSTANČIAIS EURŲ, VIENO SKAIČIAUS PO KABLELIO TIKSLUMU | K4: 2 priedas
C6: Informacija apie savivaldybių valdomų bendrovių suteiktą paramą
C9: Įmonės pavadinimas | E9: ='Finansiniai duomenys'!C8 -> UAB „Kėdainių vandenys“
C10: Teisinė forma | E10: ='Finansiniai duomenys'!C9 -> Uždaroji akcinė bendrovė (UAB)
C11: Įmonės kodas | E11: ='Finansiniai duomenys'!C10 -> 161186428
O13: Ne, parama nebuvo teikiama ir (ar) neplanuojama jos teikti
C14: Ar praėjusiu ataskaitiniu laikotarpiu 2022 m. bent vienam subjektui bendrovė suteikė paramą? | E14: Taip | I14: Ar ataskaitiniu laikotarpiu 2023 m. bent vienam subjektui bendrovė suteikė paramą? | K14: Ne
C15: Pastaba: jeigu įmonė paramos praėjusiu ataskaitiniu laikotarpiu 2022 m. neteikė, žemiau esanti informacija nepildoma. | I15: Pastaba: jeigu įmonė paramos ataskaitiniu laikotarpiu 2023 m. neteikė, žemiau esanti informacija nepildoma.
C16: Ar bendrovės interneto svetainėje skelbiama informacija apie 2022 m. bendrovės suteiktą paramą? | E16: Taip | I16: Ar bendrovės interneto svetainėje skelbiama informacija apie 2023 m. bendrovės suteiktą paramą?
C17: Pateikite tikslią internetinės svetainės nuorodą, kurioje skelbiama informaciją apie suteiktą paramą | E17: https://www.kedainiuvandenys.lt/remimas/ | I17: Pateikite tikslią internetinės svetainės nuorodą, kurioje skelbiama informaciją apie suteiktą paramą
C20: Informacija apie suteiktą paramą praėjusiu ataskaitiniu laikotarpiu 2022 m. | I20: Informacija apie suteiktą paramą ataskaitiniu laikotarpiu 2023 m.
C22: Pastaba: lentelė pildoma, jei praėjusiu ataskaitiniu laikotarpiu 2022 m. bent vienam subjektui buvo suteikta parama. | I22: Pastaba: lentelė pildoma, jei ataskaitiniu laikotarpiu 2023 m. bent vienam subjektui buvo suteikta parama.
C23: Eil. Nr. | D23: Paramos gavėjas | E23: Paramos panaudojimo paskirtis | F23: Suteikta parama (tūkst. eurų) | I23: Eil. Nr. | J23: Paramos gavėjas | K23: Paramos panaudojimo paskirtis | L23: Suteikta parama (tūkst. eurų)
C24: 1 | D24: Lietuvos vandens tiekėjų asociacija | E24: Humanitarinė parama Ukrainai | F24: 0.2 | I24: 1
C25: 2 | I25: 2
C26: 3 | I26: 3
C27: 4 | I27: 4
C28: 5 | I28: 5
C29: 6 | I29: 6
C30: 7 | I30: 7
C31: 8 | I31: 8
C32: 9 | I32: 9
C33: 10 | I33: 10
C34: 11 | I34: 11
C35: 12 | I35: 12
C36: 13 | I36: 13
... C83: 60 | I83: 60
C85: Pastabos
C86: Jeigu turite pastabų dėl užpildytos informacijos, pateikite jas čia:
C88: Informacija apie lentelės duomenų tikrumą patvirtinantį asmenį
C89: Lentelės duomenų patvirtinimo data | F89: 45399
C90: Atsakingas asmuo (vardas, pavardė, pareigos) | F90: Vyr. finansininkė Danguolė Andrijauskienė
C91: Atsakingo asmens kontaktiniai duomenys (telefono nr. ir elektroninio pašto adresas) | F91: 370-664-57628, buhalterija@kedainiuvandenys.lt
C92: Atsakingo asmens parašas (reikalingas tik skenuotoje versijoje) arba elektroninis parašas

Sheet Specialieji įpareigojimai
C2: INFORMACIJĄ PILDO TIK ĮMONĖS, KURIOS VYKDO SPECIALIUOSIUS ĮPAREIGOJIMUS | U2: Taip
G3: Įmonės pavadinimas | H3: ='Finansiniai duomenys'!C8 -> UAB „Kėdainių vandenys“ | N3: Viešinamos informacijos apie savivaldybių valdomų įmonių ir jų dukterinių bendrovių veiklą ir rezultatus formos | U3: Ne
C4: PRAŠOME UŽPILDYTI VISUS MELSVUS LAUKELIUS KIEKVIENAM ĮMONĖS VYKDOMAM SPECIALIAJAM ĮPAREIGOJIMUI. SUMOS TURI BŪTI NURODYTOS TŪKSTANČIAIS EURŲ, VIENO SKAIČIAUS PO KABLELIO TIKSLUMU | G4: Įmonės teisinė forma | H4: =IFERROR(VLOOKUP(H3,'Finansiniai duomenys'!R2:T229,3,FALSE),"") -> Uždaroji akcinė bendrovė (UAB)
G5: Įmonės kodas | H5: =IFERROR(VLOOKUP(H3,'Finansiniai duomenys'!R2:T229,2,FALSE),"") -> 161186428 | N5: 3 priedas
C7: PASTABA: Pagal ekonomikos ir inovacijų ministrės specialiųjų įpareigojimų rekomendacijų (esančių įsakyme Nr. 4-1100) 21 punktą, pateikiame apibrėžimą "Neįskaičiuojama į įmonės finansines ataskaitas" - į įmonės finansines ataskaitas neįskaičiuojami funkcijų rodikliai, nurodomos sąnaudos arba pajamos, kurios neįtraukiamos į galutinę audituojamą pelno (nuostolių) ataskaitą (pvz., sąnaudos kompensuojamos iš biudžeto), ar turtas, kuris dalyvauja vykdant specialųjį įpareigojimą, bet nėra įtrauktas į galutinį audituojamą balansą (t. y. užbalansinis), ar kitos į galutines finansines ataskaitas neįtraukiamos eilutės. | G7: Ar įmonė pasitvirtinusi specialiųjų įpareigojimų apskaitos politiką?
G8: Ar specialieji įpareigojimai yra patvirtinti savivaldybės administracijos direktoriaus?
G9: Ar savivaldybės interneto svetainėje yra viešinamas specialiųjų įpareigojimų sąrašas?
G10: (Jei atsakymas TAIP, prašome šalia esančiame langelyje pateikti internetinės sveitainės nuorodą)
C12: PRAĖJĘ ATASKAITINIS LAIKOTARPIS 2022 M. | G12: Žemiau prašome nurodyti specialiojo įpareigojimo pavadinimą | I12: Žemiau prašome nurodyti specialiojo įpareigojimo pavadinimą | K12: Žemiau prašome nurodyti specialiojo įpareigojimo pavadinimą | M12: Žemiau prašome nurodyti specialiojo įpareigojimo pavadinimą | O12: Žemiau prašome nurodyti specialiojo įpareigojimo pavadinimą | Q12: Žemiau prašome nurodyti specialiojo įpareigojimo pavadinimą
C13: Rodiklis | D13: Iš viso įskaičiuota į įmonės finansines ataskaitas | E13: Tikrinimas Jei žemiau esančiame laukelyje nurodyta „Klaida“, tai reiškia, jog Jūsų užpildyti duomenys nesutampa su informacija, pateikta „Finansiniai duomenys“ lape | F13: Komercinė dalis, įskaičiuota į įmonės finansines ataskaitas
G14: Specialiųjų įpareigojimų dalis | H14: Neįskaičiuojama į įmonės finansines ataskaitas | I14: Specialiųjų įpareigojimų dalis | J14: Neįskaičiuojama į įmonės finansines ataskaitas | K14: Specialiųjų įpareigojimų dalis | L14: Neįskaičiuojama į įmonės finansines ataskaitas | M14: Specialiųjų įpareigojimų dalis | N14: Neįskaičiuojama į įmonės finansines ataskaitas | O14: Specialiųjų įpareigojimų dalis | P14: Neįskaičiuojama į įmonės finansines ataskaitas | Q14: Specialiųjų įpareigojimų dalis | R14: Neįskaičiuojama į įmonės finansines ataskaitas
C15: Pardavimo pajamos | D15: =F15+G15+I15+K15+M15+O15+Q15 -> 0 | E15: =IF(OR(D15-'Finansiniai duomenys'!C35<-0.1,D15-'Finansiniai duomenys'!C35>0.1),"Klaida","Gerai") -> Klaida
C16: Pardavimo savikaina | D16: =F16+G16+I16+K16+M16+O16+Q16 -> 0 | E16: =IF(OR(D16-'Finansiniai duomenys'!C36<-0.1,D16-'Finansiniai duomenys'!C36>0.1),"Klaida","Gerai") -> Klaida
C17: Bendrasis pelnas | D17: =F17+G17+I17+K17+M17+O17+Q17 -> 0 | E17: =IF(OR(D17-'Finansiniai duomenys'!C37<-0.1,D17-'Finansiniai duomenys'!C37>0.1),"Klaida","Gerai") -> Klaida | F17: =F15-F16 -> 0 | G17: =G15-G16 -> 0 | H17: =H15-H16 -> 0 | I17: =I15-I16 -> 0 | J17: =J15-J16 -> 0 | K17: =K15-K16 -> 0 | L17: =L15-L16 -> 0 | M17: =M15-M16 -> 0 | ... R17: =R15-R16 -> 0
C18: Pardavimo sąnaudos | D18: =F18+G18+I18+K18+M18+O18+Q18 -> 0 | E18: =IF(OR(D18-'Finansiniai duomenys'!C38<-0.1,D18-'Finansiniai duomenys'!C38>0.1),"Klaida","Gerai") -> Klaida
C19: Bendrosios ir administracinės sąnaudos | D19: =F19+G19+I19+K19+M19+O19+Q19 -> 0 | E19: =IF(OR(D19-'Finansiniai duomenys'!C39<-0.1,D19-'Finansiniai duomenys'!C39>0.1),"Klaida","Gerai") -> Klaida
C20: Veiklos pelnas | D20: =F20+G20+I20+K20+M20+O20+Q20 -> 0 | E20: =IF(OR(D20-'Finansiniai duomenys'!C40<-0.1,D20-'Finansiniai duomenys'!C40>0.1),"Klaida","Gerai") -> Klaida | F20: =F17-F18-F19 -> 0 | G20: =G17-G18-G19 -> 0 | H20: =H17-H18-H19 -> 0 | I20: =I17-I18-I19 -> 0 | J20: =J17-J18-J19 -> 0 | K20: =K17-K18-K19 -> 0 | L20: =L17-L18-L19 -> 0 | M20: =M17-M18-M19 -> 0 | ... R20: =R17-R18-R19 -> 0
C21: Dotacijos, susijusios su pajamomis | D21: =F21+G21+I21+K21+M21+O21+Q21 -> 0 | E21: =IF(OR(D21-'Finansiniai duomenys'!C41<-0.1,D21-'Finansiniai duomenys'!C41>0.1),"Klaida","Gerai") -> Gerai
C22: Pelnas prieš apmokestinimą | D22: =F22+G22+I22+K22+M22+O22+Q22 -> 0 | E22: =IF(OR(D22-'Finansiniai duomenys'!C46<-0.1,D22-'Finansiniai duomenys'!C46>0.1),"Klaida","Gerai") -> Klaida
C23: Grynasis pelnas | D23: =F23+G23+I23+K23+M23+O23+Q23 -> 0 | E23: =IF(OR(D23-'Finansiniai duomenys'!C48<-0.1,D23-'Finansiniai duomenys'!C48>0.1),"Klaida","Gerai") -> Klaida
C24: Nusidėvėjimas ir amortizacija | D24: =F24+G24+I24+K24+M24+O24+Q24 -> 0 | E24: =IF(OR(D24-'Finansiniai duomenys'!C107<-0.1,D24-'Finansiniai duomenys'!C107>0.1),"Klaida","Gerai") -> Klaida
C28: ATASKAITINIS LAIKOTARPIS 2023 M. | G28: Žemiau prašome nurodyti specialiojo įpareigojimo pavadinimą | I28: Žemiau prašome nurodyti specialiojo įpareigojimo pavadinimą | K28: Žemiau prašome nurodyti specialiojo įpareigojimo pavadinimą | M28: Žemiau prašome nurodyti specialiojo įpareigojimo pavadinimą | O28: Žemiau prašome nurodyti specialiojo įpareigojimo pavadinimą | Q28: Žemiau prašome nurodyti specialiojo įpareigojimo pavadinimą
C29: Rodiklis | D29: Iš viso įskaičiuota į įmonės finansines ataskaitas | E29: Tikrinimas Jei žemiau esančiame laukelyje nurodyta „Klaida“, tai reiškia, jog Jūsų užpildyti duomenys nesutampa su informacija, pateikta „Finansiniai duomenys“ lape | F29: Komercinė dalis, įskaičiuota į įmonės finansines ataskaitas
G30: Specialiųjų įpareigojimų dalis | H30: Neįskaičiuojama į įmonės finansines ataskaitas | I30: Specialiųjų įpareigojimų dalis | J30: Neįskaičiuojama į įmonės finansines ataskaitas | K30: Specialiųjų įpareigojimų dalis | L30: Neįskaičiuojama į įmonės finansines ataskaitas | M30: Specialiųjų įpareigojimų dalis | N30: Neįskaičiuojama į įmonės finansines ataskaitas | O30: Specialiųjų įpareigojimų dalis | P30: Neįskaičiuojama į įmonės finansines ataskaitas | Q30: Specialiųjų įpareigojimų dalis | R30: Neįskaičiuojama į įmonės finansines ataskaitas
C31: Pardavimo pajamos | D31: =F31+G31+I31+K31+M31+O31+Q31 -> 0 | E31: =IF(OR(D31-'Finansiniai duomenys'!E35<-0.1,D31-'Finansiniai duomenys'!E35>0.1),"Klaida","Gerai") -> Klaida
C32: Pardavimo savikaina | D32: =F32+G32+I32+K32+M32+O32+Q32 -> 0 | E32: =IF(OR(D32-'Finansiniai duomenys'!E36<-0.1,D32-'Finansiniai duomenys'!E36>0.1),"Klaida","Gerai") -> Klaida
C33: Bendrasis pelnas | D33: =F33+G33+I33+K33+M33+O33+Q33 -> 0 | E33: =IF(OR(D33-'Finansiniai duomenys'!E37<-0.1,D33-'Finansiniai duomenys'!E37>0.1),"Klaida","Gerai") -> Klaida | F33: =F31-F32 -> 0 | G33: =G31-G32 -> 0 | H33: =H31-H32 -> 0 | I33: =I31-I32 -> 0 | J33: =J31-J32 -> 0 | K33: =K31-K32 -> 0 | L33: =L31-L32 -> 0 | M33: =M31-M32 -> 0 | ... R33: =R31-R32 -> 0
C34: Pardavimo sąnaudos | D34: =F34+G34+I34+K34+M34+O34+Q34 -> 0 | E34: =IF(OR(D34-'Finansiniai duomenys'!E38<-0.1,D34-'Finansiniai duomenys'!E38>0.1),"Klaida","Gerai") -> Klaida
C35: Bendrosios ir administracinės sąnaudos | D35: =F35+G35+I35+K35+M35+O35+Q35 -> 0 | E35: =IF(OR(D35-'Finansiniai duomenys'!E39<-0.1,D35-'Finansiniai duomenys'!E39>0.1),"Klaida","Gerai") -> Klaida
C36: Veiklos pelnas | D36: =F36+G36+I36+K36+M36+O36+Q36 -> 0 | E36: =IF(OR(D36-'Finansiniai duomenys'!E40<-0.1,D36-'Finansiniai duomenys'!E40>0.1),"Klaida","Gerai") -> Klaida | F36: =F33-F34-F35 -> 0 | G36: =G33-G34-G35 -> 0 | H36: =H33-H34-H35 -> 0 | I36: =I33-I34-I35 -> 0 | J36: =J33-J34-J35 -> 0 | K36: =K33-K34-K35 -> 0 | L36: =L33-L34-L35 -> 0 | M36: =M33-M34-M35 -> 0 | ... R36: =R33-R34-R35 -> 0
C37: Dotacijos, susijusios su pajamomis | D37: =F37+G37+I37+K37+M37+O37+Q37 -> 0 | E37: =IF(OR(D37-'Finansiniai duomenys'!E41<-0.1,D37-'Finansiniai duomenys'!E41>0.1),"Klaida","Gerai") -> Gerai
C38: Pelnas prieš apmokestinimą | D38: =F38+G38+I38+K38+M38+O38+Q38 -> 0 | E38: =IF(OR(D38-'Finansiniai duomenys'!E46<-0.1,D38-'Finansiniai duomenys'!E46>0.1),"Klaida","Gerai") -> Klaida
C39: Grynasis pelnas | D39: =F39+G39+I39+K39+M39+O39+Q39 -> 0 | E39: =IF(OR(D39-'Finansiniai duomenys'!E48<-0.1,D39-'Finansiniai duomenys'!E48>0.1),"Klaida","Gerai") -> Klaida
C40: Nusidėvėjimas ir amortizacija | D40: =F40+G40+I40+K40+M40+O40+Q40 -> 0 | E40: =IF(OR(D40-'Finansiniai duomenys'!E107<-0.1,D40-'Finansiniai duomenys'!E107>0.1),"Klaida","Gerai") -> Gerai
C44: PRAĖJĘ ATASKAITINIS LAIKOTARPIS 2022 M. | G44: Žemiau prašome nurodyti specialiojo įpareigojimo pavadinimą | I44: Žemiau prašome nurodyti specialiojo įpareigojimo pavadinimą | K44: Žemiau prašome nurodyti specialiojo įpareigojimo pavadinimą | M44: Žemiau prašome nurodyti specialiojo įpareigojimo pavadinimą | O44: Žemiau prašome nurodyti specialiojo įpareigojimo pavadinimą | Q44: Žemiau prašome nurodyti specialiojo įpareigojimo pavadinimą
C45: Rodiklis | D45: Iš viso įskaičiuota į įmonės finansines ataskaitas | E45: Tikrinimas Jei žemiau esančiame laukelyje nurodyta „Klaida“, tai reiškia, jog Jūsų užpildyti duomenys nesutampa su informacija, pateikta „Finansiniai duomenys“ lape | F45: Komercinė dalis, įskaičiuota į įmonės finansines ataskaitas
G46: Įskaičiuojama į įmonės finansines ataskaitas | H46: Neįskaičiuojama į įmonės finansines ataskaitas | I46: Įskaičiuojama į įmonės finansines ataskaitas | J46: Neįskaičiuojama į įmonės finansines ataskaitas | K46: Įskaičiuojama į įmonės finansines ataskaitas | L46: Neįskaičiuojama į įmonės finansines ataskaitas | M46: Įskaičiuojama į įmonės finansines ataskaitas | N46: Neįskaičiuojama į įmonės finansines ataskaitas | O46: Įskaičiuojama į įmonės finansines ataskaitas | P46: Neįskaičiuojama į įmonės finansines ataskaitas | Q46: Įskaičiuojama į įmonės finansines ataskaitas | R46: Neįskaičiuojama į įmonės finansines ataskaitas
C47: Turto iš viso | D47: =F47+G47+I47+K47+M47+O47+Q47 -> 0 | E47: =IF(OR(D47-'Finansiniai duomenys'!C69<-0.1,D47-'Finansiniai duomenys'!C69>0.1),"Klaida","Gerai") -> Klaida
C48: Nuosavas kapitalas | D48: =F48+G48+I48+K48+M48+O48+Q48 -> 0 | E48: =IF(OR(D48-'Finansiniai duomenys'!C80<-0.1,D48-'Finansiniai duomenys'!C80>0.1),"Klaida","Gerai") -> Klaida
C49: Dotacijos, subsidijos | D49: =F49+G49+I49+K49+M49+O49+Q49 -> 0 | E49: =IF(OR(D49-'Finansiniai duomenys'!C82<-0.1,D49-'Finansiniai duomenys'!C82>0.1),"Klaida","Gerai") -> Klaida
C50: Įsipareigojimai | D50: =F50+G50+I50+K50+M50+O50+Q50 -> 0 | E50: =IF(OR(D50-('Finansiniai duomenys'!C93+'Finansiniai duomenys'!C84+'Finansiniai duomenys'!C95+'Finansiniai duomenys'!C97)<-0.1,D50-('Finansiniai duomenys'!C93+'Finansiniai duomenys'!C84+'Finansiniai duomenys'!C95+'Finansiniai duomenys'!C97)>0.1),"Klaida","Gerai") -> Klaida
C51: Iš jų – ilgalaikių ir trumpalaikių finansinių įsipareigojimų | D51: =F51+G51+I51+K51+M51+O51+Q51 -> 0 | E51: =IF(OR(D51-('Finansiniai duomenys'!C88+'Finansiniai duomenys'!C91+'Finansiniai duomenys'!C92)<-0.1,D51-('Finansiniai duomenys'!C88+'Finansiniai duomenys'!C92+'Finansiniai duomenys'!C91)>0.1),"Klaida","Gerai") -> Klaida
C52: Įsipareigojimų ir nuosavo kapitalo iš viso | D52: =F52+G52+I52+K52+M52+O52+Q52 -> 0 | E52: =IF(OR(D52-'Finansiniai duomenys'!C99<-0.1,D52-'Finansiniai duomenys'!C99>0.1),"Klaida","Gerai") -> Klaida | F52: =F48+F49+F50 -> 0 | G52: =G48+G49+G50 -> 0 | H52: =H48+H49+H50 -> 0 | I52: =I48+I49+I50 -> 0 | J52: =J48+J49+J50 -> 0 | K52: =K48+K49+K50 -> 0 | L52: =L48+L49+L50 -> 0 | M52: =M48+M49+M50 -> 0 | ... R52: =R48+R49+R50 -> 0
C54: Balansas | F54: =IF(ROUND(F47-F52,1)/2=0,"Balansas",F47-F52) -> Balansas | G54: =IF(ROUND(G47-G52,1)/2=0,"Balansas",G47-G52) -> Balansas | H54: =IF(ROUND(H47-H52,1)/2=0,"Balansas",H47-H52) -> Balansas | I54: =IF(ROUND(I47-I52,1)/2=0,"Balansas",I47-I52) -> Balansas | J54: =IF(ROUND(J47-J52,1)/2=0,"Balansas",J47-J52) -> Balansas | K54: =IF(ROUND(K47-K52,1)/2=0,"Balansas",K47-K52) -> Balansas | L54: =IF(ROUND(L47-L52,1)/2=0,"Balansas",L47-L52) -> Balansas | M54: =IF(ROUND(M47-M52,1)/2=0,"Balansas",M47-M52) -> Balansas | ... R54: =IF(ROUND(R47-R52,1)/2=0,"Balansas",R47-R52) -> Balansas
C56: ATASKAITINIS LAIKOTARPIS 2023 M. | G56: Žemiau prašome nurodyti specialiojo įpareigojimo pavadinimą | I56: Žemiau prašome nurodyti specialiojo įpareigojimo pavadinimą | K56: Žemiau prašome nurodyti specialiojo įpareigojimo pavadinimą | M56: Žemiau prašome nurodyti specialiojo įpareigojimo pavadinimą | O56: Žemiau prašome nurodyti specialiojo įpareigojimo pavadinimą | Q56: Žemiau prašome nurodyti specialiojo įpareigojimo pavadinimą
C57: Rodiklis | D57: Iš viso įskaičiuota į įmonės finansines ataskaitas | E57: Tikrinimas Jei žemiau esančiame laukelyje nurodyta „Klaida“, tai reiškia, jog Jūsų užpildyti duomenys nesutampa su informacija, pateikta „Finansiniai duomenys“ lape | F57: Komercinė dalis, įskaičiuota į įmonės finansines ataskaitas
G58: Įskaičiuojama į įmonės finansines ataskaitas | H58: Neįskaičiuojama į įmonės finansines ataskaitas | I58: Įskaičiuojama į įmonės finansines ataskaitas | J58: Neįskaičiuojama į įmonės finansines ataskaitas | K58: Įskaičiuojama į įmonės finansines ataskaitas | L58: Neįskaičiuojama į įmonės finansines ataskaitas | M58: Įskaičiuojama į įmonės finansines ataskaitas | N58: Neįskaičiuojama į įmonės finansines ataskaitas | O58: Įskaičiuojama į įmonės finansines ataskaitas | P58: Neįskaičiuojama į įmonės finansines ataskaitas | Q58: Įskaičiuojama į įmonės finansines ataskaitas | R58: Neįskaičiuojama į įmonės finansines ataskaitas
C59: Turto iš viso | D59: =F59+G59+I59+K59+M59+O59+Q59 -> 0 | E59: =IF(OR(D59-'Finansiniai duomenys'!E69<-0.1,D59-'Finansiniai duomenys'!E69>0.1),"Klaida","Gerai") -> Klaida
C60: Nuosavas kapitalas | D60: =F60+G60+I60+K60+M60+O60+Q60 -> 0 | E60: =IF(OR(D60-'Finansiniai duomenys'!E80<-0.1,D60-'Finansiniai duomenys'!E80>0.1),"Klaida","Gerai") -> Klaida
C61: Dotacijos, subsidijos | D61: =F61+G61+I61+K61+M61+O61+Q61 -> 0 | E61: =IF(OR(D61-'Finansiniai duomenys'!E82<-0.1,D61-'Finansiniai duomenys'!E82>0.1),"Klaida","Gerai") -> Klaida
C62: Įsipareigojimai | D62: =F62+G62+I62+K62+M62+O62+Q62 -> 0 | E62: =IF(OR(D62-('Finansiniai duomenys'!E93+'Finansiniai duomenys'!E84+'Finansiniai duomenys'!E95+'Finansiniai duomenys'!E97)<-0.1,D62-('Finansiniai duomenys'!E93+'Finansiniai duomenys'!E84+'Finansiniai duomenys'!E95+'Finansiniai duomenys'!E97)>0.1),"Klaida","Gerai") -> Klaida
C63: Iš jų – ilgalaikių ir trumpalaikių finansinių įsipareigojimų | D63: =F63+G63+I63+K63+M63+O63+Q63 -> 0 | E63: =IF(OR(D63-('Finansiniai duomenys'!E88+'Finansiniai duomenys'!E91+'Finansiniai duomenys'!E92)<-0.1,D63-('Finansiniai duomenys'!E88+'Finansiniai duomenys'!E91+'Finansiniai duomenys'!E92)>0.1),"Klaida","Gerai") -> Klaida
C64: Įsipareigojimų ir nuosavo kapitalo iš viso | D64: =F64+G64+I64+K64+M64+O64+Q64 -> 0 | E64: =IF(OR(D64-'Finansiniai duomenys'!E99<-0.1,D64-'Finansiniai duomenys'!E99>0.1),"Klaida","Gerai") -> Klaida | F64: =F60+F61+F62 -> 0 | G64: =G60+G61+G62 -> 0 | H64: =H60+H61+H62 -> 0 | I64: =I60+I61+I62 -> 0 | J64: =J60+J61+J62 -> 0 | K64: =K60+K61+K62 -> 0 | L64: =L60+L61+L62 -> 0 | M64: =M60+M61+M62 -> 0 | ... R64: =R60+R61+R62 -> 0
C66: Balansas | F66: =IF(ROUND(F59-F64,1)/2=0,"Balansas",F59-F64) -> Balansas | G66: =IF(ROUND(G59-G64,1)/2=0,"Balansas",G59-G64) -> Balansas | H66: =IF(ROUND(H59-H64,1)/2=0,"Balansas",H59-H64) -> Balansas | I66: =IF(ROUND(I59-I64,1)/2=0,"Balansas",I59-I64) -> Balansas | J66: =IF(ROUND(J59-J64,1)/2=0,"Balansas",J59-J64) -> Balansas | K66: =IF(ROUND(K59-K64,1)/2=0,"Balansas",K59-K64) -> Balansas | L66: =IF(ROUND(L59-L64,1)/2=0,"Balansas",L59-L64) -> Balansas | M66: =IF(ROUND(M59-M64,1)/2=0,"Balansas",M59-M64) -> Balansas | ... R66: =IF(ROUND(R59-R64,1)/2=0,"Balansas",R59-R64) -> Balansas
E69: Pastabos
E70: Jei turite komentarų dėl užpildytos informacijos, pateikite juos čia:
E72: Informacija apie lentelės duomenų tikrumą patvirtinantį asmenį
E73: Lentelės duomenų patvirtinimo data
E74: Atsakingas asmuo (vardas, pavardė, pareigos)
E75: Atsakingo asmens kontaktiniai duomenys (telefono nr. ir elektroninio pašto adresas)
E76: Atsakingo asmens parašas arba elektroninis parašas (reikalingas tik skenuotoje versijoje)

Sheet Dukterinės bendrovės
D2: Viešinamos informacijos apie savivaldybių valdomų įmonių ir jų dukterinių bendrovių veiklą ir rezultatus formos | J2: 1 | K2: UAB „Kermošius" | L2: 304148387 | M2: Uždaroji akcinė bendrovė (UAB) | N2: UAB „Elektrėnų komunalinis ūkis“ | O2: UAB „Elektrėnų komunalinis ūkis“
D3: 4 priedas | K3: UAB „GO Energy LT“ | L3: 303042623 | M3: Uždaroji akcinė bendrovė (UAB) | N3: AB „Kauno energija“ | O3: AB „Kauno energija“
B4: Viešinamos informacijos apie savivaldybių valdomų įmonių dukterinių bendrovių veiklą ir rezultatus forma | K4: UAB „Klaipėdos transportas“ | L4: 304923194 | M4: Uždaroji akcinė bendrovė (UAB) | N4: UAB „Klaipėdos autobusų parkas“ | O4: UAB „Klaipėdos autobusų parkas“
B6: Įmonės pavadinimas
B7: Teisinė forma | C7: =IFERROR(VLOOKUP(C6,$K$2:$M$5,3,FALSE),"")
B8: Įmonės kodas | C8: =IFERROR(VLOOKUP(C6,$K$2:$L$5,2,FALSE),"")
B9: Įmonės įsteigimo data
B10: Įmonės direktorius (generalinis direktorius)
B11: Įmonės vyr. finansininkas (vyr. buhalteris)
C13: Lentelės užpildymo dieną
B14: Akcininkų sąrašas | C14: 5 didžiausi akcininkai | E14: Valdoma akcijų dalis
B15: Akcininkas Nr.1
B16: Akcininkas Nr.2
B17: Akcininkas Nr.3
B18: Akcininkas Nr.4
B19: Akcininkas Nr.5
B20: Kiti akcininkai | C20: Kitų akcininkų valdoma dalis | E20: =100%-SUM(E15:E19) -> 1
B22: Patronuojančioji įmonė | C22: =IFERROR(VLOOKUP(C6,$K$2:$O$5,4,FALSE),"")
C24: LENTELĖSE DUOMENYS PATEIKIAMI TŪKSTANČIAIS EURŲ (JEI NENURODYTA KITAIP), VIENO SKAIČIAUS PO KABLELIO TIKSLUMU
C26: Lentelėse turi būti pateikiami audituoti metiniai duomenys
B27: Pelno (nuostolių) ataskaita | C27: Praėjęs ataskaitinis laikotarpis 2022 m. | E27: Ataskaitinis laikotarpis 2023 m.
B28: Pardavimo pajamos
B29: Pardavimo savikaina
B30: Bendrasis pelnas (nuostoliai) | C30: =+C28-C29 -> 0 | E30: =+E28-E29 -> 0
B31: Pardavimo sąnaudos
B32: Bendrosios ir administracinės sąnaudos
B33: Veiklos pelnas (nuostoliai) | C33: =+C30-C31-C32 -> 0 | E33: =+E30-E31-E32 -> 0
B34: Kitos veiklos rezultatai
B35: Finansinė ir investicinė veikla | C35: =C36-C37 -> 0 | E35: =E36-E37 -> 0
B36: Pajamos
B37: Sąnaudos
B38: Pelnas (nuostoliai) prieš apmokestinimą | C38: =+C33+C34+C35 -> 0 | E38: =+E33+E34+E35 -> 0
B39: Pelno mokestis
B40: Grynasis pelnas (nuostoliai) | C40: =C38-C39 -> 0 | E40: =E38-E39 -> 0
C42: LENTELĖSE DUOMENYS PATEIKIAMI TŪKSTANČIAIS EURŲ (JEI NENURODYTA KITAIP), VIENO SKAIČIAUS PO KABLELIO TIKSLUMU
B43: Balansas | C43: Praėjęs ataskaitinis laikotarpis 2022 m. | E43: Ataskaitinis laikotarpis 2023 m.
B44: Nematerialusis turtas
B45: Materialusis turtas
B46: Finansinis turtas
B47: Kitas ilgalaikis turtas
B48: Ilgalaikis turtas | C48: =SUM(C44:C47) -> 0 | E48: =SUM(E44:E47) -> 0
B50: Atsargos
B51: Per vienus metus gautinos sumos
B52: Trumpalaikės investicijos
B53: Pinigai ir pinigų ekvivalentai
B54: Trumpalaikis turtas | C54: =SUM(C50:C53) -> 0 | E54: =SUM(E50:E53) -> 0
B56: Ateinančių laikotarpių sąnaudos ir sukauptos pajamos
B58: Ilgalaikis turtas, laikomas pardavimui
B60: Turto iš viso | C60: =SUM(C48,C54,C56,C58) -> 0 | E60: =SUM(E48,E54,E56,E58) -> 0
B62: Įstatinis kapitalas
B63: Perkainojimo rezervas (rezultatai)
B64: Rezervai
B65: -Iš jų: Privalomasis rezervas
B66: Nepaskirstytasis pelnas (nuostoliai)
B67: Nuosavas kapitalas | C67: =SUM(C62,C63:C64,C66:C66) -> 0 | E67: =SUM(E62,E63:E64,E66:E66) -> 0
B69: Dotacijos, subsidijos
B71: Atidėjiniai
B73: Po vienų metų mokėtinos sumos ir kiti ilgalaikiai įsipareigojimai
B74: -Iš jų: Ilgalaikės finansinės skolos
B75: Per vienus metus mokėtinos sumos ir kiti trumpalaikiai įsipareigojimai
B76: -Iš jų: Ilgalaikių finansinių skolų einamųjų metų dalis
B77: Trumpalaikės finansinės skolos
B78: Mokėtinos sumos ir kiti įsipareigojimai | C78: =SUM(C73,C75) -> 0 | E78: =SUM(E73,E75) -> 0
B80: Sukauptos sąnaudos ir ateinančių laikotarpių pajamos
B82: Įsipareigojimai, susiję su ilgalaikiu turtu, laikomu pardavimui
B84: Nuosavo kapitalo ir įsipareigojimų iš viso | C84: =SUM(C67,C69,C71,C78,C80,C82) -> 0 | E84: =SUM(E67,E69,E71,E78,E80,E82) -> 0
B86: Ar balansas susibalansuoja? | C86: =IF(ROUND((C60-C84)/2,1)=0,"Balansas",C60-C84) -> Balansas | E86: =IF(ROUND((E60-E84)/2,1)=0,"Balansas",E60-E84) -> Balansas
C90: LENTELĖSE DUOMENYS PATEIKIAMI TŪKSTANČIAIS EURŲ (JEI NENURODYTA KITAIP), VIENO SKAIČIAUS PO KABLELIO TIKSLUMU
B91: Kita informacija | C91: =C27 -> Praėjęs ataskaitinis laikotarpis 2022 m. | E91: =E27 -> Ataskaitinis laikotarpis 2023 m.
B92: Nusidėvėjimas ir amortizacija, įskaičiuoti į ataskaitinio laikotarpio pelno (nuostolių) ataskaitą
B94: Investicijos į ilgalaikį turtą
B96: Paskirstytinasis pelnas (nuostoliai) (iš kurio paskiriami dividendai)
B98: Skirstant ataskaitinio laikotarpio pelną akcininkams paskirti dividendai
B100: Informacija apie darbuotojus | C100: =C27 -> Praėjęs ataskaitinis laikotarpis 2022 m. | E100: =E27 -> Ataskaitinis laikotarpis 2023 m.
B101: Darbuotojų skaičius laikotarpio pabaigoje
B102: Iš jų: administracijos darbuotojų skaičius laikotarpio pabaigoje
B103: Bendros darbo apmokėjimo lėšos
B104: Pastaba: įskaitant darbuotojo mokamus SODROS mokesčius, tačiau neįskaitant darbdavio mokamų SODROS mokesčių.
C106: LENTELĖSE DUOMENYS PATEIKIAMI TŪKSTANČIAIS EURŲ (JEI NENURODYTA KITAIP), VIENO SKAIČIAUS PO KABLELIO TIKSLUMU
B107: Pastabos
B108: Jei turite pastabų dėl užpildytos informacijos, pateikite jas čia:
B112: Informacija apie lentelės duomenų tikrumą patvirtinantį asmenį
B113: Lentelės duomenų patvirtinimo data
B114: Atsakingas asmuo (vardas, pavardė, pareigos)
B115: Atsakingo asmens kontaktiniai duomenys (telefono nr. ir elektroninio pašto adresas)
B116: Atsakingo asmens parašas (reikalingas tik skenuotoje versijoje) arba elektroninis parašas
