Workbook

Sheet Finansiniai duomenys
R1: =COUNTA(R2:R229) -> 226 | S1: =COUNTA(S2:S229) -> 226 | T1: =COUNTA(T2:T229) -> 226
D2: PATVIRTINTA VšĮ Valdymo koordinavimo centro direktoriaus 2024 m. balandžio 10 d. įsakymu Nr. IV-7 | Q2: 1 | R2: UAB „Akmenės vandenys“ | S2: 253255950 | T2: Uždaroji akcinė bendrovė (UAB) | U2: Vandentvarka | V2: Akmenės rajono savivaldybė
Q3: 2 | R3: UAB „Naujosios Akmenės komunalininkas“ | S3: 152903578 | T3: Uždaroji akcinė bendrovė (UAB) | U3: Kita | V3: Akmenės rajono savivaldybė
Q4: 3 | R4: UAB Naujosios Akmenės autobusų parkas | S4: 152968145 | T4: Uždaroji akcinė bendrovė (UAB) | U4: Viešasis transportas | V4: Akmenės rajono savivaldybė
Q5: 4 | R5: UAB „Dzūkijos vandenys“ | S5: 149566841 | T5: Uždaroji akcinė bendrovė (UAB) | U5: Vandentvarka | V5: Alytaus miesto savivaldybė
B6: Viešinamos informacijos apie savivaldybių valdomų įmonių ir jų dukterinių bendrovių veiklą ir rezultatus forma | Q6: 5 | R6: UAB „Alytaus šilumos tinklai“ | S6: 149947714 | T6: Uždaroji akcinė bendrovė (UAB) | U6: Šilumos tinklai | V6: Alytaus miesto savivaldybė
Q7: 6 | R7: UAB „Alytaus butų ūkis“ | S7: 149951417 | T7: Uždaroji akcinė bendrovė (UAB) | U7: Šilumos tinklai | V7: Alytaus miesto savivaldybė
B8: Įmonės pavadinimas | C8: UAB „Kėdainių vandenys“ | Q8: 7 | R8: UAB Alytaus regiono atliekų tvarkymo centras | S8: 250135860 | T8: Uždaroji akcinė bendrovė (UAB) | U8: RATC | V8: Alytaus miesto savivaldybė
B9: Teisinė forma | C9: =IFERROR(VLOOKUP(C8,$R$1:$T$236,3,FALSE),"") -> Uždaroji akcinė bendrovė (UAB) | H9: Akcinė bendrovė (AB) | L9: reorganizuojamas | Q9: 8 | R9: SĮ „Simno komunalininkas“ | S9: 153720195 | T9: Savivaldybės įmonė (SĮ) | U9: Kita | V9: Alytaus rajono savivaldybė
B10: Įmonės kodas | C10: =IFERROR(VLOOKUP(C8,$R$2:$S$236,2,FALSE),"") -> 161186428 | H10: Uždaroji akcinė bendrovė (UAB) | L10: dalyvaujantis reorganizavime | Q10: 9 | R10: UAB „Anykščių vandenys“ | S10: 154138664 | T10: Uždaroji akcinė bendrovė (UAB) | U10: Vandentvarka | V10: Anykščių rajono savivaldybė
B11: Sektorius | C11: =IFERROR(VLOOKUP(C8,$R$2:$U$236,4,FALSE),"") -> Vandentvarka | L11: restruktūrizuojamas | Q11: 10 | R11: UAB Anykščių komunalinis ūkis | S11: 154111083 | T11: Uždaroji akcinė bendrovė (UAB) | U11: Kita | V11: Anykščių rajono savivaldybė
B12: Įmonės direktorius (generalinis direktorius) | C12: Rimgaudas Praninskas | H12: Komunalinės paslaugos: vanduo (nurodyti laukelyje žemiau, ar įmonė tik nuomoja infrastruktūrą, ar pati teikia paslaugas galutiniams vartotojams) | L12: bankrutuojantis | Q12: 11 | R12: UAB „Anykščių šiluma“ | S12: 154112751 | T12: Uždaroji akcinė bendrovė (UAB) | U12: Šilumos tinklai | V12: Anykščių rajono savivaldybė
B13: Įmonės vyr. finansininkas (vyr. buhalteris) | C13: Danguolė Andrijauskienė | H13: Komunalinės paslaugos: šilumos tinklai (nurodyti laukelyje žemiau, ar įmonė tik nuomoja infrastruktūrą, ar pati teikia paslaugas galutiniams vartotojams) | Q13: 12 | R13: UAB „Birštono vandentiekis“ | S13: 152812840 | T13: Uždaroji akcinė bendrovė (UAB) | U13: Vandentvarka | V13: Birštono savivaldybė
H14: Butų ūkiai | L14: likviduojamas | Q14: 13 | R14: UAB „Birštono šiluma“ | S14: 152840633 | T14: Uždaroji akcinė bendrovė (UAB) | U14: Šilumos tinklai | V14: Birštono savivaldybė
C15: Lentelės užpildymo dieną | H15: Komunalinės paslaugos: kita (nurodykite laukelyje žemiau) | L15: inicijuojantis Europos bendrovės steigimą jungimo būdu | Q15: 14 | R15: AB Birštono sanatorija „Versmė“ | S15: 152814478 | T15: Akcinė bendrovė (AB) | U15: Kita | V15: Birštono savivaldybė
B16: Akcininkų sąrašas | C16: 5 didžiausi akcininkai | E16: Valdoma akcijų dalis | H16: Atliekos ir šalinimo paslaugos | L16: inicijuojantis Europos bendrovės steigimą valdymo (holdingo) būdu | Q16: 15 | R16: SĮ Biržų agrolaboratorija | S16: 154724428 | T16: Savivaldybės įmonė (SĮ) | U16: Kita | V16: Biržų rajono savivaldybė
B17: Akcininkas Nr.1 | C17: Kėdainių rajono savivaldybė | E17: 0.9992 | H17: Viešasis transportas | L17: Europos bendrovė, kurios buveinė perkeliama | Q17: 16 | R17: UAB Biržų autobusų parkas | S17: 154742789 | T17: Uždaroji akcinė bendrovė (UAB) | U17: Viešasis transportas | V17: Biržų rajono savivaldybė
B18: Akcininkas Nr.2 | C18: 51 fizinis asmuo | E18: 0.0008 | H18: Kitos transporto paslaugos | L18: dalyvaujantis atskyrime | Q18: 17 | R18: UAB „Biržų šilumos tinklai“ | S18: 154866655 | T18: Uždaroji akcinė bendrovė (UAB) | U18: Šilumos tinklai | V18: Biržų rajono savivaldybė
B19: Akcininkas Nr.3 | H19: Statyba ir architektūra | L19: - | Q19: 18 | R19: UAB „Biržų vandenys“ | S19: 154850665 | T19: Uždaroji akcinė bendrovė (UAB) | U19: Vandentvarka | V19: Biržų rajono savivaldybė
B20: Akcininkas Nr.4 | H20: Sveikatos priežiūros paslaugos | Q20: 19 | R20: AB „Druskininkų šilumos tinklai“ | S20: 152003098 | T20: Akcinė bendrovė (AB) | U20: Šilumos tinklai | V20: Druskininkų savivaldybė
B21: Akcininkas Nr.5 | H21: Leidyba | Q21: 20 | R21: UAB „Druskininkų vandenys“ | S21: 301500997 | T21: Uždaroji akcinė bendrovė (UAB) | U21: Vandentvarka | V21: Druskininkų savivaldybė
B22: Kiti akcininkai | C22: Kitų akcininkų valdoma dalis | E22: =100%-SUM(E17:E21) -> 0 | H22: Kita (nurodyti laukelyje žemiau pagrindines veiklos sritis) | Q22: 21 | R22: UAB „Druskininkų sveikatinimo ir poilsio centras AQUA“ | S22: 300076944 | T22: Uždaroji akcinė bendrovė (UAB) | U22: Kita | V22: Druskininkų savivaldybė
Q23: 22 | R23: UAB „Druskininkų butų ūkis“ | S23: 152007157 | T23: Uždaroji akcinė bendrovė (UAB) | U23: Kita | V23: Druskininkų savivaldybė
B24: Savivaldybei priklausanti dalis (%) | C24: 0.9992 | Q24: 23 | R24: UAB Elektrėnų autobusų parkas | S24: 305802733 | T24: Uždaroji akcinė bendrovė (UAB) | U24: Viešasis transportas | V24: Elektrėnų savivaldybė
B25: Turtines ir neturtines teisės ir pareigas įmonėje / bendrovėje įgyvendinanti institucija (arba didžiausią akcijų dalį valdanti institucija) | C25: Kėdainių rajono savivaldybės administracija | Q25: 24 | R25: UAB „Elektrėnų komunalinis ūkis“ | S25: 181613656 | T25: Uždaroji akcinė bendrovė (UAB) | U25: Kita | V25: Elektrėnų savivaldybė
Q26: 25 | R26: UAB „Didžiasalio komunalinės paslaugos“ | S26: 155513971 | T26: Uždaroji akcinė bendrovė (UAB) | U26: Kita | V26: Ignalinos rajono savivaldybė
B27: Ar bendrovė turi kontroliuojamų įmonių? (pildo tik akcinės bendrovės ir uždarosios akcinės bendrovės) | C27: Ne | Q27: 26 | R27: UAB Ignalinos butų ūkis | S27: 255512870 | T27: Uždaroji akcinė bendrovė (UAB) | U27: Kita | V27: Ignalinos rajono savivaldybė
B28: Nurodykite bendrovės kontroliuojamas įmones (pildoma, jei bendrovė turi kontroliuojamų įmonių) | Q28: 27 | R28: UAB Ignalinos šilumos tinklai | S28: 155634880 | T28: Uždaroji akcinė bendrovė (UAB) | U28: Šilumos tinklai | V28: Ignalinos rajono savivaldybė
Q29: 28 | R29: SĮ „Kompata“ | S29: 155402647 | T29: Savivaldybės įmonė (SĮ) | U29: Kita | V29: Ignalinos rajono savivaldybė
C30: LENTELĖSE DUOMENYS PATEIKIAMI TŪKSTANČIAIS EURŲ (JEI NENURODYTA KITAIP), VIENO SKAIČIAUS PO KABLELIO TIKSLUMU | Q30: 29 | R30: UAB „Jonavos paslaugos“ | S30: 156916523 | T30: Uždaroji akcinė bendrovė (UAB) | U30: Kita | V30: Jonavos rajono savivaldybė
C31: Kur įmanoma, duomenys pateikiami augimo (agregavimo) principu | Q31: 30 | R31: UAB „Jonavos vandenys“ | S31: 256564350 | T31: Uždaroji akcinė bendrovė (UAB) | U31: Vandentvarka | V31: Jonavos rajono savivaldybė
C32: Jei įmonė turi kontroliuojamų įmonių, pateikiami konsoliduoti įmonių grupės duomenys | Q32: 31 | R32: UAB „Jonavos autobusai“ | S32: 156576661 | T32: Uždaroji akcinė bendrovė (UAB) | U32: Viešasis transportas | V32: Jonavos rajono savivaldybė
C33: Lentelėse turi būti pateikiami audituoti metiniai duomenys | Q33: 32 | R33: UAB „Jonavos šilumos tinklai“ | S33: 156737189 | T33: Uždaroji akcinė bendrovė (UAB) | U33: Šilumos tinklai | V33: Jonavos rajono savivaldybė
B34: Pelno (nuostolių) ataskaita | C34: Praėjęs ataskaitinis laikotarpis 2022 m. | E34: Ataskaitinis laikotarpis 2023 m. | Q34: 33 | R34: UAB „Jonavos knyga“ | S34: 156595252 | T34: Uždaroji akcinė bendrovė (UAB) | U34: Kita | V34: Jonavos rajono savivaldybė
B35: Pardavimo pajamos | C35: 4346 | E35: 5771.4 | Q35: 34 | R35: UAB „Joniškio vandenys“ | S35: 157531950 | T35: Uždaroji akcinė bendrovė (UAB) | U35: Vandentvarka | V35: Joniškio rajono savivaldybė
B36: Pardavimo savikaina | C36: 4086.8 | E36: 3702.9 | Q36: 35 | R36: UAB „Joniškio butų ūkis“ | S36: 157521319 | T36: Uždaroji akcinė bendrovė (UAB) | U36: Kita | V36: Joniškio rajono savivaldybė
B37: Bendrasis pelnas (nuostoliai) | C37: =+C35-C36 -> 259.2 | E37: =+E35-E36 -> 2068.5 | Q37: 36 | R37: UAB „Joniškio autobusų parkas“ | S37: 157536164 | T37: Uždaroji akcinė bendrovė (UAB) | U37: Viešasis transportas | V37: Joniškio rajono savivaldybė
B38: Pardavimo sąnaudos | C38: 198.4 | E38: 220.8 | Q38: 37 | R38: UAB „Jurbarko komunalininkas“ | S38: 258325370 | T38: Uždaroji akcinė bendrovė (UAB) | U38: Kita | V38: Jurbarko rajono savivaldybė
B39: Bendrosios ir administracinės sąnaudos | C39: 920.6 | E39: 1202.6 | Q39: 38 | R39: UAB „Jurbarko autobusų parkas“ | S39: 158161361 | T39: Uždaroji akcinė bendrovė (UAB) | U39: Viešasis transportas | V39: Jurbarko rajono savivaldybė
B40: Veiklos pelnas (nuostoliai) | C40: =+C37-C38-C39 -> -859.8 | E40: =+E37-E38-E39 -> 645.1 | Q40: 39 | R40: UAB „Jurbarko vandenys“ | S40: 158275315 | T40: Uždaroji akcinė bendrovė (UAB) | U40: Vandentvarka | V40: Jurbarko rajono savivaldybė
...

Sheet Finansiniai duomenys(2015-2016)
D3: Viešinamos informacijos apie savivaldybių valdomų įmonių veiklą ir rezultatus formos
D4: 1 priedas
B6: Informacija apie savivaldybių valdomų įmonių veiklą ir rezultatus 2015 - 2016 metais
B9: Įmonės pavadinimas | C9: ='Finansiniai duomenys'!C8 -> UAB „Kėdainių vandenys“
B10: Teisinė forma | C10: ='Finansiniai duomenys'!C9 -> Uždaroji akcinė bendrovė (UAB)
C11: Akcinė bendrovė (AB)
C12: Uždaroji akcinė bendrovė (UAB)
C13: Savivaldybės įmonė (SĮ)
B14: Įmonės teisinis statusas | C14: ='Finansiniai duomenys'!#REF! -> #REF!
C15: reorganizuojamas
C16: dalyvaujantis reorganizavime
C17: pertvarkomas
C18: restruktūrizuojamas
C19: bankrutuojantis
C20: bankrutavęs
C21: likviduojamas
C22: inicijuojantis Europos bendrovės steigimą jungimo būdu
C23: inicijuojantis Europos bendrovės steigimą valdymo (holdingo) būdu
C24: Europos bendrovė, kurios buveinė perkeliama
C25: dalyvaujantis atskyrime
C26: -
B27: Įmonės kodas | C27: ='Finansiniai duomenys'!C10 -> 161186428
B28: Įmonės įsteigimo data | C28: ='Finansiniai duomenys'!#REF! -> #REF!
B29: Sektorius, kuriame veikia įmonė | C29: ='Finansiniai duomenys'!#REF! -> #REF! | H29: Komunalinės paslaugos: vanduo (nurodyti laukelyje žemiau, ar įmonė tik nuomoja infrastruktūrą, ar pati teikia paslaugas galutiniams vartotojams)
C30: ='Finansiniai duomenys'!#REF! -> #REF! | H30: Komunalinės paslaugos: šilumos tinklai (nurodyti laukelyje žemiau, ar įmonė tik nuomoja infrastruktūrą, ar pati teikia paslaugas galutiniams vartotojams)
B31: Įmonės direktorius (generalinis direktorius) | C31: ='Finansiniai duomenys'!C12 -> Rimgaudas Praninskas | H31: Butų ūkiai
B32: Įmonės vyr. finansininkas (vyr. buhalteris) | C32: ='Finansiniai duomenys'!C13 -> Danguolė Andrijauskienė | H32: Komunalinės paslaugos: kita
H33: Atliekos ir šalinimo paslaugos
C34: Lentelės užpildymo dieną | H34: Viešasis transportas
B35: Akcininkų sąrašas | C35: 5 didžiausi akcininkai | E35: Valdoma akcijų dalis | H35: Kitos transporto paslaugos
B36: Akcininkas Nr.1 | C36: ='Finansiniai duomenys'!C17 -> Kėdainių rajono savivaldybė | E36: ='Finansiniai duomenys'!E17 -> 0.9992 | H36: Statyba ir architektūra
B37: Akcininkas Nr.2 | C37: ='Finansiniai duomenys'!C18 -> 51 fizinis asmuo | E37: ='Finansiniai duomenys'!E18 -> 0.0008 | H37: Sveikatos priežiūros paslaugos
B38: Akcininkas Nr.3 | C38: ='Finansiniai duomenys'!#REF! -> #REF! | E38: ='Finansiniai duomenys'!#REF! -> #REF! | H38: Leidyba
B39: Akcininkas Nr.4 | C39: ='Finansiniai duomenys'!#REF! -> #REF! | E39: ='Finansiniai duomenys'!#REF! -> #REF! | H39: Kita (nurodyti laukelyje žemiau pagrindines veiklos sritis)
B40: Akcininkas Nr.5 | C40: ='Finansiniai duomenys'!#REF! -> #REF! | E40: ='Finansiniai duomenys'!#REF! -> #REF!
B41: Kiti akcininkai | C41: Kitų akcininkų valdoma dalis | E41: =100%-SUM(E36:E40) -> #REF!
B43: Savivaldybei priklausanti dalis (%) | C43: ='Finansiniai duomenys'!C24 -> 0.9992
B44: Turtines ir neturtines teisės ir pareigas įmonėje/bendrovėje įgyvendinanti institucija (arba didžiausią akcijų dalį valdanti institucija) | C44: ='Finansiniai duomenys'!C25 -> Kėdainių rajono savivaldybės administracija
B46: Ar bendrovė turi kontroliuojamų įmonių? (pildo tik akcinės bendrovės ir uždarosios akcinės bendrovės) | C46: ='Finansiniai duomenys'!#REF! -> #REF!
B47: Nurodykite bendrovės kontroliuojamas įmones (pildoma, jei bendrovė turi kontroliuojamų įmonių) | C47: ='Finansiniai duomenys'!#REF! -> #REF!
...

Sheet Papildoma informacija
D2: FORMOS PILDYMO TAISYKLĖS | H2: Viešinamos informacijos apie savivaldybių valdomų įmonių ir jų dukterinių bendrovių veiklą ir rezultatus formos
D3: PRAŠOME UŽPILDYTI ŽEMIAU ESANČIAS "PAPILDOMI DUOMENYS" IR "ELEKTROS SUNAUDOJIMAS" LENTELES, O VIEŠOJO TRANSPORTO IR RATC SEKTORIAUS ĮMONIŲ PRAŠOME PAPILDOMAI UŽPILDYTI ATITINKAMAI PAVADINTAS LENTELES. | H3: 1 priedas
B4: Įmonės pavadinimas | D4: ='Finansiniai duomenys'!C8 -> UAB „Kėdainių vandenys“
B5: Teisinė forma | D5: =IFERROR(VLOOKUP(D4,'Finansiniai duomenys'!R2:T229,3,FALSE),"") -> Uždaroji akcinė bendrovė (UAB)
B6: Įmonės kodas | D6: =IFERROR(VLOOKUP(D4,'Finansiniai duomenys'!R2:T229,2,FALSE),"") -> 161186428
B7: Sektorius, kuriame veikia įmonė | D7: =IFERROR(VLOOKUP(D4,'Finansiniai duomenys'!R2:U229,4,FALSE),"") -> Vandentvarka
D11: Papildomi duomenys | G11: Praėjęs ataskaitinis laikotarpis 2022 m. | I11: Ataskaitinis laikotarpis 2023 m.
D12: Aukščiausio lygmens vadovai:, vnt | G12: 3 | I12: 3
D13: - iš jų Moterys | G13: 1 | I13: 1
D14: - iš jų Vyrai | G14: 2 | I14: 2
D16: Elektros sunaudojimas | G16: Praėjęs ataskaitinis laikotarpis 2022 m. | I16: Ataskaitinis laikotarpis 2023 m.
D17: Elektros sunaudojimas iš viso, kWh: | G17: 5061799 | I17: 4829745
D18: - įsigytos iš tiekėjų elektros sunaudojimas iš viso: | G18: 3518700 | I18: 3717582
D19: - iš jos: atsinaujinančios | G19: 0 | I19: 0
D20: - iš jos: neatsinaujinančios | G20: 3518700 | I20: 3717582
D21: - sugeneruotos elektros sunaudojimas iš viso: | G21: 1149598 | I21: 1112163
D22: - iš jos: atsinaujinančios | G22: 905985 | I22: 864429
D23: - iš jos: neatsinaujinančios | G23: 243613 | I23: 247734
D24: - įsigytos biržoje elektros sunaudojimas | G24: 0 | I24: 0
D25: - garantinio tiekimo elektros sunaudojimas (ESO) | G25: 393501 | I25: 0
D26: - mišrus sunaudojimas
G28: =IF((G18+G21+G24+G25+G26)=G17,"Gerai","Klaida") -> Gerai | I28: =IF((I18+I21+I24+I25+I26)=I17,"Gerai","Klaida") -> Gerai
D30: Viešasis transportas | G30: Praėjęs ataskaitinis laikotarpis 2022 m. | I30: Ataskaitinis laikotarpis 2023 m.
D31: Rida, km
D32: Degalų sąnaudos, Eur/km
D33: Pervežta keleivių, vnt
D34: Transporto parkas iš viso, vnt
D35: - Autobusai iš viso
D36: - iš jų: Dyzeliniai
D37: - iš jų: Dujiniai
D38: - iš jų: Elektriniai
D39: - Troleibusai iš viso
D40: - Kitos
D43: RATC | G43: Praėjęs ataskaitinis laikotarpis 2022 m. | I43: Ataskaitinis laikotarpis 2023 m.
D44: Eksploatuojama infrastruktūra, vnt:
D45: - Regioniniai sąvartynai
D46: - Didelių gabaritų atliekų surinkimo aikštelės
D47: - Mechaninio biologinio apdorojimo įrenginiai
D48: - Žaliųjų atliekų kompostavimo aikštelės
D49: Namų ūkių skaičius regione, vnt
...

Sheet Suteikta parama
C3: INFORMACIJĄ PILDO TIK BENDROVĖS IR UŽDAROSIOS AKCINĖS BENDROVĖS | K3: Viešinamos informacijos apie savivaldybių valdomų įmonių ir jų dukterinių bendrovių veiklą ir rezultatus formos
C4: INFORMACIJA APIE SUTEIKTĄ PARAMĄ PATEIKIAMA TŪKSTANČIAIS EURŲ, VIENO SKAIČIAUS PO KABLELIO TIKSLUMU | K4: 2 priedas
C6: Informacija apie savivaldybių valdomų bendrovių suteiktą paramą
C9: Įmonės pavadinimas | E9: ='Finansiniai duomenys'!C8 -> UAB „Kėdainių vandenys“
C10: Teisinė forma | E10: ='Finansiniai duomenys'!C9 -> Uždaroji akcinė bendrovė (UAB)
C11: Įmonės kodas | E11: ='Finansiniai duomenys'!C10 -> 161186428
O13: Ne, parama nebuvo teikiama ir (ar) neplanuojama jos teikti
C14: Ar praėjusiu ataskaitiniu laikotarpiu 2022 m. bent vienam subjektui bendrovė suteikė paramą? | E14: Taip | I14: Ar ataskaitiniu laikotarpiu 2023 m. bent vienam subjektui bendrovė suteikė paramą? | K14: Ne
C15: Pastaba: jeigu įmonė paramos praėjusiu ataskaitiniu laikotarpiu 2022 m. neteikė, žemiau esanti informacija nepildoma. | I15: Pastaba: jeigu įmonė paramos ataskaitiniu laikotarpiu 2023 m. neteikė, žemiau esanti informacija nepildoma.
C16: Ar bendrovės interneto svetainėje skelbiama informacija apie 2022 m. bendrovės suteiktą paramą? | E16: Taip | I16: Ar bendrovės interneto svetainėje skelbiama informacija apie 2023 m. bendrovės suteiktą paramą?
C17: Pateikite tikslią internetinės svetainės nuorodą, kurioje skelbiama informaciją apie suteiktą paramą | E17: https://www.kedainiuvandenys.lt/remimas/ | I17: Pateikite tikslią internetinės svetainės nuorodą, kurioje skelbiama informaciją apie suteiktą paramą
C20: Informacija apie suteiktą paramą praėjusiu ataskaitiniu laikotarpiu 2022 m. | I20: Informacija apie suteiktą paramą ataskaitiniu laikotarpiu 2023 m.
C22: Pastaba: lentelė pildoma, jei praėjusiu ataskaitiniu laikotarpiu 2022 m. bent vienam subjektui buvo suteikta parama. | I22: Pastaba: lentelė pildoma, jei ataskaitiniu laikotarpiu 2023 m. bent vienam subjektui buvo suteikta parama.
C23: Eil. Nr. | D23: Paramos gavėjas | E23: Paramos panaudojimo paskirtis | F23: Suteikta parama (tūkst. eurų) | I23: Eil. Nr. | J23: Paramos gavėjas | K23: Paramos panaudojimo paskirtis | L23: Suteikta parama (tūkst. eurų)
C24: 1 | D24: Lietuvos vandens tiekėjų asociacija | E24: Humanitarinė parama Ukrainai | F24: 0.2 | I24: 1
C25: 2 | I25: 2
C26: 3 | I26: 3
C27: 4 | I27: 4
C28: 5 | I28: 5
C29: 6 | I29: 6
C30: 7 | I30: 7
C31: 8 | I31: 8
C32: 9 | I32: 9
C33: 10 | I33: 10
C34: 11 | I34: 11
C35: 12 | I35: 12
C36: 13 | I36: 13
... C83: 60 | I83: 60
C85: Pastabos
C86: Jeigu turite pastabų dėl užpildytos informacijos, pateikite jas čia:
C88: Informacija apie lentelės duomenų tikrumą patvirtinantį asmenį
C89: Lentelės duomenų patvirtinimo data | F89: 45399
C90: Atsakingas asmuo (vardas, pavardė, pareigos) | F90: Vyr. finansininkė Danguolė Andrijauskienė
C91: Atsakingo asmens kontaktiniai duomenys (telefono nr. ir elektroninio pašto adresas) | F91: 370-664-57628, buhalterija@kedainiuvandenys.lt
C92: Atsakingo asmens parašas (reikalingas tik skenuotoje versijoje) arba elektroninis parašas

Sheet Specialieji įpareigojimai
C2: INFORMACIJĄ PILDO TIK ĮMONĖS, KURIOS VYKDO SPECIALIUOSIUS ĮPAREIGOJIMUS | U2: Taip
G3: Įmonės pavadinimas | H3: ='Finansiniai duomenys'!C8 -> UAB „Kėdainių vandenys“ | N3: Viešinamos informacijos apie savivaldybių valdomų įmonių ir jų dukterinių bendrovių veiklą ir rezultatus formos | U3: Ne
C4: PRAŠOME UŽPILDYTI VISUS MELSVUS LAUKELIUS KIEKVIENAM ĮMONĖS VYKDOMAM SPECIALIAJAM ĮPAREIGOJIMUI. SUMOS TURI BŪTI NURODYTOS TŪKSTANČIAIS EURŲ, VIENO SKAIČIAUS PO KABLELIO TIKSLUMU | G4: Įmonės teisinė forma | H4: =IFERROR(VLOOKUP(H3,'Finansiniai duomenys'!R2:T229,3,FALSE),"") -> Uždaroji akcinė bendrovė (UAB)
G5: Įmonės kodas | H5: =IFERROR(VLOOKUP(H3,'Finansiniai duomenys'!R2:T229,2,FALSE),"") -> 161186428 | N5: 3 priedas
C7: PASTABA: Pagal ekonomikos ir inovacijų ministrės specialiųjų įpareigojimų rekomendacijų (esančių įsakyme Nr. 4-1100) 21 punktą, pateikiame apibrėžimą "Neįskaičiuojama į įmonės finansines ataskaitas" - į įmonės finansines ataskaitas neįskaičiuojami funkcijų rodikliai, nurodomos sąnaudos arba pajamos, kurios neįtraukiamos į galutinę audituojamą pelno (nuostolių) ataskaitą (pvz., sąnaudos kompensuojamos iš biudžeto), ar turtas, kuris dalyvauja vykdant specialųjį įpareigojimą, bet nėra įtrauktas į galutinį audituojamą balansą (t. y. užbalansinis), ar kitos į galutines finansines ataskaitas neįtraukiamos eilutės. | G7: Ar įmonė pasitvirtinusi specialiųjų įpareigojimų apskaitos politiką?
G8: Ar specialieji įpareigojimai yra patvirtinti savivaldybės administracijos direktoriaus?
G9: Ar savivaldybės interneto svetainėje yra viešinamas specialiųjų įpareigojimų sąrašas?
G10: (Jei atsakymas TAIP, prašome šalia esančiame langelyje pateikti internetinės sveitainės nuorodą)
C12: PRAĖJĘ ATASKAITINIS LAIKOTARPIS 2022 M. | G12: Žemiau prašome nurodyti specialiojo įpareigojimo pavadinimą | I12: Žemiau prašome nurodyti specialiojo įpareigojimo pavadinimą | K12: Žemiau prašome nurodyti specialiojo įpareigojimo pavadinimą | M12: Žemiau prašome nurodyti specialiojo įpareigojimo pavadinimą | O12: Žemiau prašome nurodyti specialiojo įpareigojimo pavadinimą | Q12: Žemiau prašome nurodyti specialiojo įpareigojimo pavadinimą
C13: Rodiklis | D13: Iš viso įskaičiuota į įmonės finansines ataskaitas | E13: Tikrinimas Jei žemiau esančiame laukelyje nurodyta „Klaida“, tai reiškia, jog Jūsų užpildyti duomenys nesutampa su informacija, pateikta „Finansiniai duomenys“ lape | F13: Komercinė dalis, įskaičiuota į įmonės finansines ataskaitas
G14: Specialiųjų įpareigojimų dalis | H14: Neįskaičiuojama į įmonės finansines ataskaitas | I14: Specialiųjų įpareigojimų dalis | J14: Neįskaičiuojama į įmonės finansines ataskaitas | K14: Specialiųjų įpareigojimų dalis | L14: Neįskaičiuojama į įmonės finansines ataskaitas | M14: Specialiųjų įpareigojimų dalis | N14: Neįskaičiuojama į įmonės finansines ataskaitas | O14: Specialiųjų įpareigojimų dalis | P14: Neįskaičiuojama į įmonės finansines ataskaitas | Q14: Specialiųjų įpareigojimų dalis | R14: Neįskaičiuojama į įmonės finansines ataskaitas
C15: Pardavimo pajamos | D15: =F15+G15+I15+K15+M15+O15+Q15 -> 0 | E15: =IF(OR(D15-'Finansiniai duomenys'!C35<-0.1,D15-'Finansiniai duomenys'!C35>0.1),"Klaida","Gerai") -> Klaida
C16: Pardavimo savikaina | D16: =F16+G16+I16+K16+M16+O16+Q16 -> 0 | E16: =IF(OR(D16-'Finansiniai duomenys'!C36<-0.1,D16-'Finansiniai duomenys'!C36>0.1),"Klaida","Gerai") -> Klaida
C17: Bendrasis pelnas | D17: =F17+G17+I17+K17+M17+O17+Q17 -> 0 | E17: =IF(OR(D17-'Finansiniai duomenys'!C37<-0.1,D17-'Finansiniai duomenys'!C37>0.1),"Klaida","Gerai") -> Klaida | F17: =F15-F16 -> 0 | G17: =G15-G16 -> 0 | H17: =H15-H16 -> 0 | I17: =I15-I16 -> 0 | J17: =J15-J16 -> 0 | K17: =K15-K16 -> 0 | L17: =L15-L16 -> 0 | M17: =M15-M16 -> 0 | ... R17: =R15-R16 -> 0
C18: Pardavimo sąnaudos | D18: =F18+G18+I18+K18+M18+O18+Q18 -> 0 | E18: =IF(OR(D18-'Finansiniai duomenys'!C38<-0.1,D18-'Finansiniai duomenys'!C38>0.1),"Klaida","Gerai") -> Klaida
C19: Bendrosios ir administracinės sąnaudos | D19: =F19+G19+I19+K19+M19+O19+Q19 -> 0 | E19: =IF(OR(D19-'Finansiniai duomenys'!C39<-0.1,D19-'Finansiniai duomenys'!C39>0.1),"Klaida","Gerai") -> Klaida
C20: Veiklos pelnas | D20: =F20+G20+I20+K20+M20+O20+Q20 -> 0 | E20: =IF(OR(D20-'Finansiniai duomenys'!C40<-0.1,D20-'Finansiniai duomenys'!C40>0.1),"Klaida","Gerai") -> Klaida | F20: =F17-F18-F19 -> 0 | G20: =G17-G18-G19 -> 0 | H20: =H17-H18-H19 -> 0 | I20: =I17-I18-I19 -> 0 | J20: =J17-J18-J19 -> 0 | K20: =K17-K18-K19 -> 0 | L20: =L17-L18-L19 -> 0 | M20: =M17-M18-M19 -> 0 | ... R20: =R17-R18-R19 -> 0
C21: Dotacijos, susijusios su pajamomis | D21: =F21+G21+I21+K21+M21+O21+Q21 -> 0 | E21: =IF(OR(D21-'Finansiniai duomenys'!C41<-0.1,D21-'Finansiniai duomenys'!C41>0.1),"Klaida","Gerai") -> Gerai
C22: Pelnas prieš apmokestinimą | D22: =F22+G22+I22+K22+M22+O22+Q22 -> 0 | E22: =IF(OR(D22-'Finansiniai duomenys'!C46<-0.1,D22-'Finansiniai duomenys'!C46>0.1),"Klaida","Gerai") -> Klaida
C23: Grynasis pelnas | D23: =F23+G23+I23+K23+M23+O23+Q23 -> 0 | E23: =IF(OR(D23-'Finansiniai duomenys'!C48<-0.1,D23-'Finansiniai duomenys'!C48>0.1),"Klaida","Gerai") -> Klaida
C24: Nusidėvėjimas ir amortizacija | D24: =F24+G24+I24+K24+M24+O24+Q24 -> 0 | E24: =IF(OR(D24-'Finansiniai duomenys'!C107<-0.1,D24-'Finansiniai duomenys'!C107>0.1),"Klaida","Gerai") -> Klaida
C28: ATASKAITINIS LAIKOTARPIS 2023 M. | G28: Žemiau prašome nurodyti specialiojo įpareigojimo pavadinimą | I28: Žemiau prašome nurodyti specialiojo įpareigojimo pavadinimą | K28: Žemiau prašome nurodyti specialiojo įpareigojimo pavadinimą | M28: Žemiau prašome nurodyti specialiojo įpareigojimo pavadinimą | O28: Žemiau prašome nurodyti specialiojo įpareigojimo pavadinimą | Q28: Žemiau prašome nurodyti specialiojo įpareigojimo pavadinimą
C29: Rodiklis | D29: Iš viso įskaičiuota į įmonės finansines ataskaitas | E29: Tikrinimas Jei žemiau esančiame laukelyje nurodyta „Klaida“, tai reiškia, jog Jūsų užpildyti duomenys nesutampa su informacija, pateikta „Finansiniai duomenys“ lape | F29: Komercinė dalis, įskaičiuota į įmonės finansines ataskaitas
G30: Specialiųjų įpareigojimų dalis | H30: Neįskaičiuojama į įmonės finansines ataskaitas | I30: Specialiųjų įpareigojimų dalis | J30: Neįskaičiuojama į įmonės finansines ataskaitas | K30: Specialiųjų įpareigojimų dalis | L30: Neįskaičiuojama į įmonės finansines ataskaitas | M30: Specialiųjų įpareigojimų dalis | N30: Neįskaičiuojama į įmonės finansines ataskaitas | O30: Specialiųjų įpareigojimų dalis | P30: Neįskaičiuojama į įmonės finansines ataskaitas | Q30: Specialiųjų įpareigojimų dalis | R30: Neįskaičiuojama į įmonės finansines ataskaitas
C31: Pardavimo pajamos | D31: =F31+G31+I31+K31+M31+O31+Q31 -> 0 | E31: =IF(OR(D31-'Finansiniai duomenys'!E35<-0.1,D31-'Finansiniai duomenys'!E35>0.1),"Klaida","Gerai") -> Klaida
C32: Pardavimo savikaina | D32: =F32+G32+I32+K32+M32+O32+Q32 -> 0 | E32: =IF(OR(D32-'Finansiniai duomenys'!E36<-0.1,D32-'Finansiniai duomenys'!E36>0.1),"Klaida","Gerai") -> Klaida
C33: Bendrasis pelnas | D33: =F33+G33+I33+K33+M33+O33+Q33 -> 0 | E33: =IF(OR(D33-'Finansiniai duomenys'!E37<-0.1,D33-'Finansiniai duomenys'!E37>0.1),"Klaida","Gerai") -> Klaida | F33: =F31-F32 -> 0 | G33: =G31-G32 -> 0 | H33: =H31-H32 -> 0 | I33: =I31-I32 -> 0 | J33: =J31-J32 -> 0 | K33: =K31-K32 -> 0 | L33: =L31-L32 -> 0 | M33: =M31-M32 -> 0 | ... R33: =R31-R32 -> 0
C34: Pardavimo sąnaudos | D34: =F34+G34+I34+K34+M34+O34+Q34 -> 0 | E34: =IF(OR(D34-'Finansiniai duomenys'!E38<-0.1,D34-'Finansiniai duomenys'!E38>0.1),"Klaida","Gerai") -> Klaida
C35: Bendrosios ir administracinės sąnaudos | D35: =F35+G35+I35+K35+M35+O35+Q35 -> 0 | E35: =IF(OR(D35-'Finansiniai duomenys'!E39<-0.1,D35-'Finansiniai duomenys'!E39>0.1),"Klaida","Gerai") -> Klaida
C36: Veiklos pelnas | D36: =F36+G36+I36+K36+M36+O36+Q36 -> 0 | E36: =IF(OR(D36-'Finansiniai duomenys'!E40<-0.1,D36-'Finansiniai duomenys'!E40>0.1),"Klaida","Gerai") -> Klaida | F36: =F33-F34-F35 -> 0 | G36: =G33-G34-G35 -> 0 | H36: =H33-H34-H35 -> 0 | I36: =I33-I34-I35 -> 0 | J36: =J33-J34-J35 -> 0 | K36: =K33-K34-K35 -> 0 | L36: =L33-L34-L35 -> 0 | M36: =M33-M34-M35 -> 0 | ... R36: =R33-R34-R35 -> 0
C37: Dotacijos, susijusios su pajamomis | D37: =F37+G37+I37+K37+M37+O37+Q37 -> 0 | E37: =IF(OR(D37-'Finansiniai duomenys'!E41<-0.1,D37-'Finansiniai duomenys'!E41>0.1),"Klaida","Gerai") -> Gerai
C38: Pelnas prieš apmokestinimą | D38: =F38+G38+I38+K38+M38+O38+Q38 -> 0 | E38: =IF(OR(D38-'Finansiniai duomenys'!E46<-0.1,D38-'Finansiniai duomenys'!E46>0.1),"Klaida","Gerai") -> Klaida
C39: Grynasis pelnas | D39: =F39+G39+I39+K39+M39+O39+Q39 -> 0 | E39: =IF(OR(D39-'Finansiniai duomenys'!E48<-0.1,D39-'Finansiniai duomenys'!E48>0.1),"Klaida","Gerai") -> Klaida
C40: Nusidėvėjimas ir amortizacija | D40: =F40+G40+I40+K40+M40+O40+Q40 -> 0 | E40: =IF(OR(D40-'Finansiniai duomenys'!E107<-0.1,D40-'Finansiniai duomenys'!E107>0.1),"Klaida","Gerai") -> Gerai
C44: PRAĖJĘ ATASKAITINIS LAIKOTARPIS 2022 M. | G44: Žemiau prašome nurodyti specialiojo įpareigojimo pavadinimą | I44: Žemiau prašome nurodyti specialiojo įpareigojimo pavadinimą | K44: Žemiau prašome nurodyti specialiojo įpareigojimo pavadinimą | M44: Žemiau prašome nurodyti specialiojo įpareigojimo pavadinimą | O44: Žemiau prašome nurodyti specialiojo įpareigojimo pavadinimą | Q44: Žemiau prašome nurodyti specialiojo įpareigojimo pavadinimą
C45: Rodiklis | D45: Iš viso įskaičiuota į įmonės finansines ataskaitas | E45: Tikrinimas Jei žemiau esančiame laukelyje nurodyta „Klaida“, tai reiškia, jog Jūsų užpildyti duomenys nesutampa su informacija, pateikta „Finansiniai duomenys“ lape | F45: Komercinė dalis, įskaičiuota į įmonės finansines ataskaitas
G46: Įskaičiuojama į įmonės finansines ataskaitas | H46: Neįskaičiuojama į įmonės finansines ataskaitas | I46: Įskaičiuojama į įmonės finansines ataskaitas | J46: Neįskaičiuojama į įmonės finansines ataskaitas | K46: Įskaičiuojama į įmonės finansines ataskaitas | L46: Neįskaičiuojama į įmonės finansines ataskaitas | M46: Įskaičiuojama į įmonės finansines ataskaitas | N46: Neįskaičiuojama į įmonės finansines ataskaitas | O46: Įskaičiuojama į įmonės finansines ataskaitas | P46: Neįskaičiuojama į įmonės finansines ataskaitas | Q46: Įskaičiuojama į įmonės finansines ataskaitas | R46: Neįskaičiuojama į įmonės finansines ataskaitas
C47: Turto iš viso | D47: =F47+G47+I47+K47+M47+O47+Q47 -> 0 | E47: =IF(OR(D47-'Finansiniai duomenys'!C69<-0.1,D47-'Finansiniai duomenys'!C69>0.1),"Klaida","Gerai") -> Klaida
C48: Nuosavas kapitalas | D48: =F48+G48+I48+K48+M48+O48+Q48 -> 0 | E48: =IF(OR(D48-'Finansiniai duomenys'!C80<-0.1,D48-'Finansiniai duomenys'!C80>0.1),"Klaida","Gerai") -> Klaida
C49: Dotacijos, subsidijos | D49: =F49+G49+I49+K49+M49+O49+Q49 -> 0 | E49: =IF(OR(D49-'Finansiniai duomenys'!C82<-0.1,D49-'Finansiniai duomenys'!C82>0.1),"Klaida","Gerai") -> Klaida
...

Sheet Dukterinės bendrovės
D2: Viešinamos informacijos apie savivaldybių valdomų įmonių ir jų dukterinių bendrovių veiklą ir rezultatus formos | J2: 1 | K2: UAB „Kermošius" | L2: 304148387 | M2: Uždaroji akcinė bendrovė (UAB) | N2: UAB „Elektrėnų komunalinis ūkis“ | O2: UAB „Elektrėnų komunalinis ūkis“
D3: 4 priedas | K3: UAB „GO Energy LT“ | L3: 303042623 | M3: Uždaroji akcinė bendrovė (UAB) | N3: AB „Kauno energija“ | O3: AB „Kauno energija“
B4: Viešinamos informacijos apie savivaldybių valdomų įmonių dukterinių bendrovių veiklą ir rezultatus forma | K4: UAB „Klaipėdos transportas“ | L4: 304923194 | M4: Uždaroji akcinė bendrovė (UAB) | N4: UAB „Klaipėdos autobusų parkas“ | O4: UAB „Klaipėdos autobusų parkas“
B6: Įmonės pavadinimas
B7: Teisinė forma | C7: =IFERROR(VLOOKUP(C6,$K$2:$M$5,3,FALSE),"")
B8: Įmonės kodas | C8: =IFERROR(VLOOKUP(C6,$K$2:$L$5,2,FALSE),"")
B9: Įmonės įsteigimo data
B10: Įmonės direktorius (generalinis direktorius)
B11: Įmonės vyr. finansininkas (vyr. buhalteris)
C13: Lentelės užpildymo dieną
B14: Akcininkų sąrašas | C14: 5 didžiausi akcininkai | E14: Valdoma akcijų dalis
B15: Akcininkas Nr.1
B16: Akcininkas Nr.2
B17: Akcininkas Nr.3
B18: Akcininkas Nr.4
B19: Akcininkas Nr.5
B20: Kiti akcininkai | C20: Kitų akcininkų valdoma dalis | E20: =100%-SUM(E15:E19) -> 1
B22: Patronuojančioji įmonė | C22: =IFERROR(VLOOKUP(C6,$K$2:$O$5,4,FALSE),"")
C24: LENTELĖSE DUOMENYS PATEIKIAMI TŪKSTANČIAIS EURŲ (JEI NENURODYTA KITAIP), VIENO SKAIČIAUS PO KABLELIO TIKSLUMU
C26: Lentelėse turi būti pateikiami audituoti metiniai duomenys
B27: Pelno (nuostolių) ataskaita | C27: Praėjęs ataskaitinis laikotarpis 2022 m. | E27: Ataskaitinis laikotarpis 2023 m.
B28: Pardavimo pajamos
B29: Pardavimo savikaina
B30: Bendrasis pelnas (nuostoliai) | C30: =+C28-C29 -> 0 | E30: =+E28-E29 -> 0
B31: Pardavimo sąnaudos
B32: Bendrosios ir administracinės sąnaudos
B33: Veiklos pelnas (nuostoliai) | C33: =+C30-C31-C32 -> 0 | E33: =+E30-E31-E32 -> 0
B34: Kitos veiklos rezultatai
B35: Finansinė ir investicinė veikla | C35: =C36-C37 -> 0 | E35: =E36-E37 -> 0
B36: Pajamos
B37: Sąnaudos
B38: Pelnas (nuostoliai) prieš apmokestinimą | C38: =+C33+C34+C35 -> 0 | E38: =+E33+E34+E35 -> 0
B39: Pelno mokestis
B40: Grynasis pelnas (nuostoliai) | C40: =C38-C39 -> 0 | E40: =E38-E39 -> 0
C42: LENTELĖSE DUOMENYS PATEIKIAMI TŪKSTANČIAIS EURŲ (JEI NENURODYTA KITAIP), VIENO SKAIČIAUS PO KABLELIO TIKSLUMU
B43: Balansas | C43: Praėjęs ataskaitinis laikotarpis 2022 m. | E43: Ataskaitinis laikotarpis 2023 m.
B44: Nematerialusis turtas
B45: Materialusis turtas
B46: Finansinis turtas
B47: Kitas ilgalaikis turtas
...
