Workbook

Sheet 01šviet.
F1: PATVIRTINTA
F2: Kėdainių rajono savivaldybės administracijos direktoriaus
F3: 2024 m. kovo 8 d. įsakymu Nr.AD-1- 182
F4: (Kėdainių rajono savivaldybės administracijos direktoriaus
F5: 2024 m. gruodžio 27 d. įsakymo Nr.AD-1-1199 redakcija)
B7: KĖDAINIŲ RAJONO SAVIVALDYBĖS ADMINISTRACIJA
A9: 2024 METŲ VEIKLOS PLANAS
A10: Programos uždavinio, priemonės kodas ir požymis | B10: Uždavinio, priemonės pavadinimas | C10: Veiklos kodas | D10: Veiklos pavadinimas | E10: Atsakingas vykdytojas | F10: Finansavimo šaltinis | G10: 2024 m. asignavimai ir kitos lėšos | H10: Vertinimo kriterijai
H11: Pavadinimas | I11: Planas
A13: 01 Švietimas ir ugdymas
A14: 001-01-01 (T) | B14: Sudaryti prielaidas ugdymo kokybei gerinti, mažinti ugdymo kokybės skirtumus tarp mokyklų | G14: =SUM(G15:G19) -> 1792.1
A15: 001-01-01-03 (PP) | B15: "Tūkstantmečio mokyklos I" projekto įgyvendinimas | C15: 1 | D15: Projekte dalyvaujančių mokyklų vykdomų veiklų koordinavimas, informacijos apie įgyvendinamas veiklas, mokėjimo prašymų kontroliuojančioms institucijoms teikimas | E15: Strateginio planavimo ir investicijų skyrius, Apskaitos skyrius | F15: SB | G15: 50 | H15: Programoje, dalyvaujančių įstaigų skaičius (tinklaveika) | I15: 16
F16: ES | G16: 1400
F17: SBVB | G17: 315
A18: 001-01-01-04 (TP) | B18: Centralizuoto vaikų priėmimo į savivaldybės švietimo įstaigų ikimokyklinio ir priešmokyklinio ugdymo grupes, bendrojo ugdymo klases, neformaliojo švietimo grupes bei įstaigų valdymo informacinės sistemos paslaugų diegimas | C18: 1 | D18: Sistemos paslaugų viešojo pirkimo organizavimas, techninės dokumentacijos rengimas sutarties koordinavimas, teikėjų prisiimtų sutartinių įsipareigojimų vykdymo kontrolė | E18: Švietimo, kultūros ir sporto skyrius, Bendrasis skyrius | F18: SB | G18: 18.1 | H18: Įdiegta sistema | I18: 1
A19: 001-01-01-05 (TP) | B19: "Pirmoko krepšelio" finansavimas | C19: 1 | D19: Priemonės koordinavimas | E19: Švietimo, kultūros ir sporto skyrius | F19: SB | G19: 9 | H19: Pirmoko krepšelį gaunančiųjų skaičius | I19: 440
A20: 001-01-02 (T, P) | B20: Užtikrinti neformaliojo ugdymo dermę | G20: =SUM(G21:G22) -> 78.8
A21: 001-01-02-02 (TP) | B21: Vykdyti neformaliojo vaikų švietimo programas | C21: 1 | D21: Priemonės koordinavimas | E21: Švietimo, kultūros ir sporto skyrius | F21: SBVB | G21: 8.8 | H21: Įgyvendinamų programų skaičius | I21: 66
A22: 001-01-02-04 (TP) | B22: Finansuoti vaikų vasaros stovyklų ir kitų neformaliojo vaikų švietimo veiklų programas | C22: 1 | D22: Programų konkurso organizavimas, konsultacijos, paraiškų ir sutarčių derinimas, veiklų stebėjimas, vertinimas, ataskaitų teikimas | E22: Švietimo, kultūros ir sporto skyrius | F22: SB | G22: 70 | H22: Finansuotų vaikų vasaros poilsio ir užimtumo programų skaičius | I22: 36
A23: 001-01-03 (T) | B23: Gerinti švietimo pagalbos teikimą, įgyvendinti kokybišką įvairių ugdymosi poreikių turinčių mokinių ugdymą taikant inovatyvius ugdymo(si) metodus ir būdus | G23: =SUM(G24:G31) -> 1036.8
A24: 001-01-03-02 (PP) | B24: Ugdymo prieinamumo didinimas atskirtį patiriantiems vaikams Kėdainių „Ryto“ ir Kėdainių senamiesčio progimnazijose | C24: 1 | D24: Projekto techninės dokumentacijos rengimo sutarčių koordinavimas, teikėjų prisiimtų sutartinių įsipareigojimų vykdymo kontrolė | E24: Statybos skyrius | F24: SB | G24: 0 | H24: Parengta techninė dokumentacija, vnt. / pateikta paraiška, vnt. | I24: 2/1
C25: 2 | D25: Projekto paraiškos teikimas ES finansavimui gauti | E25: Strateginio planavimo ir investicijų skyrius | F25: SK | G25: 50
F26: ES | G26: 0
A27: 001-01-03-03 (PP) | B27: Įvairialypio švietimo plėtojimas Kėdainių „Aušros“ progimnazijoje ir Vilainių mokykloje-darželyje „Obelėlė“, vykdant visos dienos mokyklos veiklą | C27: 1 | D27: Projekto paraiškos teikimas ES finansavimui gauti | E27: Strateginio planavimo ir investicijų skyrius | F27: SB | G27: 14.8 | H27: Mokinių, kurie naudosis sukurta visos dienos mokyklos infrastruktūra, skaičius | I27: <900
C28: 2 | D28: Projekto techninės dokumentacijos rengimo sutarčių koordinavimas, teikėjų prisiimtų sutartinių įsipareigojimų vykdymo kontrolė | E28: Statybos skyrius | F28: SK | G28: 120
F29: ES | G29: 697
A30: 001-01-03-04 (PP) | B30: Projekto„Užtikrinti visiems prieinamą ankstyvąjį ugdymą“ įgyvendinimas | C30: 1 | D30: Projekto koordinavimas ir administravimas | E30: Švietimo, kultūros ir sporto skyrius | F30: ES | G30: 138 | H30: Socialinę riziką patiriančiose šeimose gyvenančių nuo 3 metų iki privalomo ugdymo amžiaus vaikų, dalyvaujančių ikimokyklinio ugdymo programose, skaičius (skaičiuojama įgyvendinus projektą -2029 m.)
F31: SBVB | G31: 17
A32: 001-01-04 (T) | B32: Didinti pedagogų ir mokinių motyvaciją | G32: =SUM(G33:G35) -> 152.5
A33: 001-01-04-01 (TP) | B33: Mokytojų ir pagalbos mokiniui specialistų motyvacijos programos įgyvendinimas | C33: 1 | D33: Programos įgyvendinimo koordinavimas | E33: Švietimo, kultūros ir sporto skyrius | F33: SB | G33: 123 | H33: Dalykinių olimpiadų ir konkursų prizininkų skaičius, tenkantis 10 tūkst. mokinių (skaičius) | I33: 5.5
A34: 001-01-04-03 (TP) | B34: Gabių mokinių skatinimas | C34: 1 | D34: Mokyklose besimokančių gabių mokinių, per vienerius mokslo metus pasiekusių puikių mokymosi rezultatų, įvertinimo ir paskatinimo organizavimas | E34: Švietimo, kultūros ir sporto skyrius | F34: SB | G34: 26.5 | H34: Mokinių, kuriems skirti piniginiai prizai, skaičius | I34: 186
A35: 001-01-04-04 (TP) | B35: Metų mokytojo apdovanojimo teikimas | C35: 1 | D35: Savivaldybės mokytojų kompetencijų, veiklos rezultatų įvertinimo ir paskatinimo profesinei bei kūrybinei iniciatyvai organizavimas | E35: Švietimo, kultūros ir sporto skyrius | F35: SB | G35: 3 | H35: Įteiktų apdovanojimų skaičius | I35: 1
A36: 001-01-05 (T) | B36: Užtikrinti sveiką, saugią emocinę ir fizinę aplinką ugdymo įstaigose | G36: =SUM(G37:G40) -> 342.7
A37: 001-01-05-02 (TP) | B37: Priklausomybę sukeliančių medžiagų vartojimo mažinimo ir prevencijos programos priemonių įgyvendinimas | C37: 1 | D37: Plane 2024 m. numatytų priemonių įgyvendinimas, organizavimas, koordinavimas | E37: Vyr. specialistas (tarpinstitucinio bendradarbiavimo koordinatorius), Patarėja (sveikatos reikalų koordinatorė), Vyr. specialistas (jaunimo reikalų koordinatorius) | F37: SB | G37: 57.7 | H37: Įgyvendinamų priemonių skaičius | I37: 27
A38: 001-01-05-04 (TP) | B38: Saugių ugdymo sąlygų įstaigose, vykdančiose ugdymo programas, užtikrinimas | C38: 1 | D38: Priemonės įgyvendinimo koordinavimas | E38: Švietimo, kultūros ir sporto skyrius, Biudžeto ir finansų skyrius | F38: SB | G38: 150 | H38: Įstaigų skaičius, kuriose atlikti remonto darbai | I38: 11
A39: 001-01-05-05 (TP) | B39: Vaikų maitinimo ekologiškais ir pagal nacionalinę maisto kokybės sistemą pagamintais produktais Kėdainių lopšelyje-darželyje "Žilvitis" organizavimas (dalyvavimas projekte) | C39: 1 | D39: Priemonės įgyvendinimo koordinavimas | E39: Švietimo, kultūros ir sporto skyrius, Biudžeto ir finansų skyrius | F39: SB | G39: 35 | H39: Ekologiškai besimaitinančių vaikų skaičius | I39: ~200
A40: 001-01-05-06 (TP) | B40: Mokyklų, organizuojančių maitinimą savarankiškai, finansavimas | C40: 1 | D40: Priemonės įgyvendinimo koordinavimas | E40: Švietimo, kultūros ir sporto skyrius, Biudžeto ir finansų skyrius | F40: SB | G40: 100 | H40: Mokyklų, organizuojančių maitinimą savarankiškai, skaičius (bendras) | I40: 1
A41: 001-01-06 (T) | B41: Gerinti ugdymo (-si) infrastruktūrą, materialinę bazę, užtikrinti STEAM dalykų programų įgyvendinimą ir skaitmeninio ugdymo turinio plėtrą savivaldybės ugdymo įstaigose | G41: =SUM(G42:G55) -> 1736.7
A42: 001-01-06-01 (TP) | B42: Kėdainių šviesiosios gimnazijos pastato Kėdainiuose, Didžioji g. 60, įveiklinimas | C42: 1 | D42: Priemonės įgyvendinimo koordinavimas | E42: Administracijos direktorius, Švietimo, kultūros ir sporto skyrius, Biudžeto ir finansų skyrius | F42: SB | G42: 400 | H42: Atlikta einamaisiais metais numatytų darbų, proc. | I42: 100
A43: 001-01-06-02 (TP) | B43: Kėdainių lopšelio-darželio „Varpelis“ (Pavasario g. 8, Kėdainiai) pastato energinio efektyvumo didinimas, vidaus erdvių modernizavimas | C43: 1 | D43: Rangos darbų sutarties koordinavimas, teikėjo prisiimtų sutartinių įsipareigojimų vykdymo kontrolė | E43: Statybos skyrius, Strateginio planavimo ir investicijų skyrius | F43: SB | G43: 181.2 | H43: Pasiekta pastato energijos naudingumo klasė/atnaujintos vidaus erdvės pagal projektą, proc. | I43: B/100
...

Sheet 02 sveikata
F1: PATVIRTINTA
F2: Kėdainių rajono savivaldybės administracijos direktoriaus
F3: 2024 m. kovo 8 d. įsakymu Nr.AD-1- 182
F4: (Kėdainių rajono savivaldybės administracijos direktoriaus
F5: 2024 m. gruodžio d. įsakymo Nr.AD-1- redakcija)
B7: Programos uždavinio, priemonės kodas ir požymis | C7: Uždavinio, priemonės pavadinimas | D7: Veiklos kodas | E7: Veiklos pavadinimas | F7: Atsakingas vykdytojas | G7: Finansavimo šaltinis | H7: 2024 m. asignavimai ir kitos lėšos | I7: Vertinimo kriterijai
I8: Pavadinimas | J8: Planas
B10: 02 Sveikatos apsauga
B11: 002-01-01 (T, P) | C11: Sudaryti sąlygas gyventojams stiprinti sveikatą, kurti ir plėtoti su sveikatos stiprinimu susijusias paslaugas | H11: =SUM(H12:H13) -> 139.1
B12: 002-01-01-01 (TP) | C12: Visuomenės sveikatos rėmimo specialiosios programos priemonių įgyvendinimas (AA) | D12: 1 | E12: Programos priemonių sveikatos projektų konkurso organizavimas, sutarčių su vykdytojais parengimas, priemonių įgyvendinimo koordinavimas ir kontrolė; užkrečiamųjų ligų plano priemonių vykdymo kontrolė | F12: Patarėja (sveikatos reikalų koordinatorė) | G12: SB | H12: 136.8 | I12: Visuomenės sveikatos rėmimo specialiosios programos įgyvendinimas, proc. | J12: 100
B13: 002-01-01-04 (TP) | C13: Neveiksniais pripažintų asmenų būklės peržiūrėjimas | D13: 1 | E13: Neveiksniais pripažintų asmenų būklės peržiūrėjimo organizavimas | F13: Socialinės paramos skyrius | G13: SBVB | H13: 2.3 | I13: Asmenų, kurių neveiksnumas peržiūrėtas, skaičius | J13: ~60
B14: 02-01-02 (T, P) | C14: Siekti gyventojų sveikatos išsaugojimo, gerinant sveikatos priežiūros paslaugų kokybę ir prieinamumą | H14: =SUM(H15:H31) -> 406.9
B15: 002-01-02-01 (TP) | C15: E. sveikatos informacinės sistemos palaikymo ir tobulinimo VšĮ Kėdainių PSPC 2024–2026 m. programa | D15: 1 | E15: Sutarčių su vykdytojais suderinimas, priemonių koordinavimas ir vykdymo kontrolė | F15: Patarėja (sveikatos reikalų koordinatorė) | G15: SB | H15: 10 | I15: Atnaujintos ir E. sveikatos IS funkcionalumui pritaikytos įrangos kompl. skaičius | J15: 2
B16: 002-01-02-02 (TP) | C16: E. sveikatos informacinės sistemos palaikymo ir tobulinimo VšĮ Kėdainių ligoninė 2024–2026 m. programa | D16: 1 | E16: Sutarčių su vykdytojais suderinimas, priemonių koordinavimas ir vykdymo kontrolė | F16: Patarėja (sveikatos reikalų koordinatorė) | G16: SB | H16: 10 | I16: Palaikomų funkcionalumų skaičius | J16: 13
B17: 002-01-02-03 (TP) | C17: Kėdainių rajono tuberkuliozės prevencijos, ankstyvosios diagnostikos, gydymo ir kontrolės 2023–2027 m. programa | D17: 1 | E17: Sutarčių su vykdytojais suderinimas, priemonių koordinavimas ir vykdymo kontrolė | F17: Patarėja (sveikatos reikalų koordinatorė) | G17: SB | H17: 3 | I17: Atliktų tyrimų ir paslaugų skaičius per metus | J17: ~1600
B18: 002-01-02-04 (TP) | C18: Žemo slenksčio paslaugų kokybės užtikrinimo Kėdainių rajone 2023-2027 m. programa | D18: 1 | E18: Sutarčių su vykdytojais suderinimas, priemonių koordinavimas ir vykdymo kontrolė | F18: Patarėja (sveikatos reikalų koordinatorė) | G18: SB | H18: 7.8 | I18: Apsilankymai (kartais) žemo slenksčio paslaugų kabinetuose per metus | J18: ~2000
B19: 002-01-02-05 (TP) | C19: Pirminės asmens sveikatos priežiūros paslaugų prieinamumo ir kokybės užtikrinimo Kėdainių rajono kaimiškųjų vietovių gyventojams programą | D19: 1 | E19: Sutarčių su vykdytojais suderinimas, priemonių koordinavimas ir vykdymo kontrolė | F19: Patarėja (sveikatos reikalų koordinatorė) | G19: SB | H19: 80.4 | I19: Mobilaus medicinos punkto apsilankymų kaimiškųjų vietovių gyventojų namuose (slaugos, taip pat ir profilaktinio darbo) skaičius) | J19: ~6000
B20: 002-01-02-06 (TP) | C20: Ambulatorinės akušerinės ir ginekologinės pagalbos kokybės gerinimo Kėdainių rajono savivaldybės moterims 2019-2024 m. programa | D20: 1 | E20: Sutarčių su vykdytojais suderinimas, priemonių koordinavimas ir vykdymo kontrolė | F20: Patarėja (sveikatos reikalų koordinatorė) | G20: SB | H20: 3 | I20: Vidutinis atliktų ultragarsinių tyrimų skaičius per metus 1 gydytojui | J20: ~285
B21: 002-01-02-07 (TP) | C21: Endoskopinių paslaugų prieinamumo ir kokybės gerinimo Kėdainių rajono savivaldybėje 2020-2025 m. programa | D21: 1 | E21: Sutarčių su vykdytojais suderinimas, priemonių koordinavimas ir vykdymo kontrolė | F21: Patarėja (sveikatos reikalų koordinatorė) | G21: SB | H21: 21 | I21: Atliktų endoskopijų ir kolonoskopijų skaičius per metus | J21: ~1750
B22: 002-01-02-08 (TP) | C22: Mamografijos paslaugų tęstinumo, kokybės gerinimo Kėdainių rajono savivaldybėje 2020-2025 m. programa | D22: 1 | E22: Sutarčių su vykdytojais suderinimas, priemonių koordinavimas ir vykdymo kontrolė | F22: Patarėja (sveikatos reikalų koordinatorė) | G22: SB | H22: 19.1 | I22: Atliktų mamografijų ir vertinimo paslaugų skaičius per metus | J22: ~1800
B23: 002-01-02-09 (TP) | C23: Anestezijos paslaugų vaikams ir suaugusiesiems kokybės gerinimo Kėdainių rajono savivaldybėje 2022-2027 m. programa | D23: 1 | E23: Sutarčių su vykdytojais suderinimas, priemonių koordinavimas ir vykdymo kontrolė | F23: Patarėja (sveikatos reikalų koordinatorė) | G23: SB | H23: 25.3 | I23: Atliktų bendrųjų anestezijų skaičius per metus | J23: ~1482
B24: 002-01-02-10 (TP) | C24: Rentgeno paslaugų atnaujinimo, kokybės gerinimo Kėdainių rajono savivaldybėje 2022-2027 m. programa | D24: 1 | E24: Sutarčių su vykdytojais suderinimas, priemonių koordinavimas ir vykdymo kontrolė | F24: Patarėja (sveikatos reikalų koordinatorė) | G24: SB | H24: 28.3 | I24: Atliktų rentgenologinių tyrimų skaičius/trumpesnės registracijos rentgeno tyrimui eilės, dienomis | J24: ~10000/ 4 d.
B25: 002-01-02-11 (TP) | C25: Kompiuterinės tomografijos paslaugų kokybės gerinimo Kėdainių rajono savivaldybėje 2023-2030 m. programa | D25: 1 | E25: Sutarčių su vykdytojais suderinimas, priemonių koordinavimas ir vykdymo kontrolė | F25: Patarėja (sveikatos reikalų koordinatorė) | G25: SB | H25: 52.1 | I25: Atliktų tyrimų skaičius per metus | J25: ~3000
B26: 002-01-02-12 (TP) | C26: VšĮ Kėdainių ligoninės sterilizacinės modernizavimo 2023-2028 m. programa | D26: 1 | E26: Sutarčių su vykdytojais suderinimas, priemonių koordinavimas ir vykdymo kontrolė | F26: Patarėja (sveikatos reikalų koordinatorė) | G26: SB | H26: 31.4 | I26: Sutrumpėjusi sterilizavimo proceso trukmė | J26: ~45 min
B27: 002-01-02-13 (TP) | C27: Odontologijos paslaugų plėtros Kėdainių rajono savivaldybėje 2024-2027 m. programa | D27: 1 | E27: Sutarčių su vykdytojais suderinimas, priemonių koordinavimas ir vykdymo kontrolė | F27: Patarėja (sveikatos reikalų koordinatorė) | G27: SB | H27: 23.6 | I27: Suteiktų odontologinių paslaugų skaičius per metus | J27: ~400
B28: 002-01-02-14 (TP) | C28: Reabilitacijos prieinamumo didinimo Kėdainių rajono savivaldybėje 2024 m. programa | D28: 1 | E28: Sutarčių su vykdytojais suderinimas, priemonių koordinavimas ir vykdymo kontrolė | F28: Patarėja (sveikatos reikalų koordinatorė) | G28: SB | H28: 57 | I28: Suteikiamų fizioterapijos procedūrų skaičiaus padidėjimas, kartais / sumažėjusi laukiančiųjų eilė (savaitės) | J28: ~1,5/ ~2
B29: 002-01-02-15 (TP) | C29: Vaikų, turinčių autizmo spektro ir kitų raidos sutrikimų, sveikatos stiprinimas, galimybių siekti asmeninės pažangos, pilnaverčio socialinio dalyvavimo prielaidų užtikrinimas | D29: 1 | E29: Sutarčių su vykdytojais suderinimas, priemonių koordinavimas ir vykdymo kontrolė | F29: Patarėja (sveikatos reikalų koordinatorė) | G29: SB | H29: 15.1 | I29: Paslaugą gaunančių vaikų skaičius | J29: 15
B30: 002-01-02-16 (PP) | C30: Mobilių komandų aprūpinimas įranga Kėdainių rajono savivaldybėje | D30: 1 | E30: Projekto veiklų koordinavimas | F30: Patarėja (sveikatos reikalų koordinatorė), Strateginio planavimo ir investicijų skyrius | G30: ES | H30: 16.3 | I30: Mobilių komandų, aprūpintų įranga teikti paslaugas namuose, skaičius | J30: 1
G31: SBVB | H31: 3.5
B32: 02-01-03 (T) | C32: Pritraukti naujus bei išlaikyti esamus sveikatos priežiūros specialistus | H32: =SUM(H33:H35) -> 186
B33: 002-01-03-01 (TP) | C33: Sveikatos priežiūros specialistų skatinimo dirbti VšĮ Kėdainių PSPC 2023-2028 m. programa | D33: 1 | E33: Sutarčių su vykdytojais suderinimas, priemonių koordinavimas ir vykdymo kontrolė | F33: Patarėja (sveikatos reikalų koordinatorė) | G33: SB | H33: 98 | I33: Taikomų paskatų priemonių skaičius | J33: 4
B34: 002-01-03-02 (TP) | C34: Trūkstamos sveikatos priežiūros specialistų skatinimo dirbti VšĮ Kėdainių ligoninėje 2023-2026 m. programa | D34: 1 | E34: Sutarčių su vykdytojais suderinimas, priemonių koordinavimas ir vykdymo kontrolė | F34: Patarėja (sveikatos reikalų koordinatorė) | G34: SB | H34: 85 | I34: Taikomų paskatų priemonių skaičius | J34: 4
B35: 002-01-03-03 (TP) | C35: Metų medicinos darbuotojo apdovanojimas | D35: 1 | E35: Metų mediko konkurso organizavimas | F35: Patarėja (sveikatos reikalų koordinatorė) | G35: SB | H35: 3 | I35: Įteiktas Metų medicinos darbuotojo apdovanojimas | J35: 1
B36: 02-01-04 (T, P) | C36: Modernizuoti ir atnaujinti sveikatos priežiūros įstaigų infrastruktūrą sveikatos gerinimo poreikiams | H36: =SUM(H37:H43) -> 548.1
B37: 002-01-04-01 (TP) | C37: VšĮ Kėdainių PSPC Psichiatrijos dienos stacionaro paslaugų plėtra ir infrastruktūros pritaikymas specialiesiems neįgaliųjų poreikiams | D37: 1 | E37: Sutarčių su vykdytojais suderinimas, priemonių koordinavimas ir vykdymo kontrolė | F37: Patarėja (sveikatos reikalų koordinatorė) | G37: SB | H37: 35 | I37: Atlikti keltuvo įrengimo ir patalpų pritaikymo darbai, proc. | J37: 100
B38: 002-01-04-02 (TP) | C38: Kėdainių rajono kaimo gyventojų sveikatos gerinimo poreikių užtikrinimas, modernizuojant ir (ar) atnaujinant ambulatorijų infrastruktūrą | D38: 1 | E38: Sutarčių su vykdytojais suderinimas, priemonių koordinavimas ir vykdymo kontrolė | F38: Patarėja (sveikatos reikalų koordinatorė) | G38: SB | H38: 23 | I38: Ambulatorijų skaičius, kuriose pagerinta infrastruktūra | J38: 1
B39: 002-01-04-04 (TP) | C39: Tinkamų ir saugių darbo sąlygų užtikrinimo, įrengiant vėdinimo bei kondicionavimo sistemas VšĮ Kėdainių ligoninėje 2023-2028 m. programa | D39: 1 | E39: Sutarčių su vykdytojais suderinimas, priemonių koordinavimas ir vykdymo kontrolė | F39: Patarėja (sveikatos reikalų koordinatorė) | G39: SB | H39: 40 | I39: Patalpų, kuriose įrengta vėdinimo (kondicionavimo) sistema, skaičius | J39: 31
B40: 002-01-04-05 (TP) | C40: Tinkamų ir saugių darbo sąlygų užtikrinimo, įrengiant vėdinimo bei kondicionavimo sistemas VšĮ Kėdainių PSPC 2022-2026 m. programa | D40: 1 | E40: Sutarčių su vykdytojais suderinimas, priemonių koordinavimas ir vykdymo kontrolė | F40: Patarėja (sveikatos reikalų koordinatorė) | G40: SB | H40: 37.7 | I40: Patalpų, kuriose įrengta vėdinimo (kondicionavimo) sistema, skaičius | J40: 29
B41: 002-01-04-06 (PP) | C41: Sveikatos centro sudėtyje teikiamų sveikatos priežiūros paslaugų infrastruktūros modernizavimas Kėdainių rajono savivaldybėje | D41: 1 | E41: Projekto veiklų koordinavimas | F41: Patarėja (sveikatos reikalų koordinatorė), Strateginio planavimo ir investicijų skyrius | G41: ES | H41: 350.5 | I41: Pateikta paraiška, pasirašyta finansavimo sutartis | J41: 1
G42: SBVB | H42: 61.9
...

Sheet 03social.
G1: PATVIRTINTA
G2: Kėdainių rajono savivaldybės administracijos direktoriaus
G3: 2024 m. kovo 8 d. įsakymu Nr.AD-1- 182
G4: (Kėdainių rajono savivaldybės administracijos direktoriaus
G5: 2024 m. gruodžio d. įsakymo Nr.AD-1- redakcija)
B8: Programos uždavinio, priemonės kodas ir požymis | C8: Uždavinio, priemonės pavadinimas | D8: Veiklos kodas | E8: Veiklos pavadinimas | F8: Atsakingas vykdytojas | G8: Finansavimo šaltinis | H8: 2024 m. asignavimai ir kitos lėšos | I8: Vertinimo kriterijai
I9: Pavadinimas | J9: Planas
B11: 03 SOCIALINĖS APSAUGOS PLĖTOJIMAS
B12: 003-01-01 (T) | C12: Organizuoti Lietuvos Respublikos teisės aktuose numatytos paramos bei paslaugų asmenims ir šeimoms teikimą, skatinti socialinę integraciją | H12: =SUM(H13:H33) -> 4233.9
B13: 003-01-01-01 (TP) | C13: Socialinių išmokų bei kompensacijų (būsto šildymo išlaidų, išlaidų šaltam bei nuotekoms ir išlaidų karštam vandeniui), paramos mirties atveju teikimas ir administravimas | D13: 1 | E13: Koordinavimas, duomenų suvedimas į programą "Parama" | F13: Socialinės paramos skyrius | G13: SBVB | H13: 0 | I13: Asmenų, gaunančių socialinę pašalpą ir kompensacijas, skaičius | J13: ~10000
G14: SB | H14: 1352.2 | K14: =+H14+H40+H38+H41 -> 2000.2 | L14: 99.7
B15: 003-01-01-02 (TP) | C15: Išlaidų už įsigytus produktus, mokinio reikmenis finansavimas, socialinės paramos mokiniams administravimas | D15: 1 | E15: Koordinavimas, duomenų suvedimas į programą "Parama", informacijos teikimas švietimo įstaigų vadovams | F15: Socialinės paramos skyrius, Švietimo, kultūros ir sporto skyrius | G15: SBVB | H15: 996.3 | I15: Mokinių, gaunančių nemokamą maitinimą, skaičius | J15: ~2140
I16: Mokinių, gaunančių būtiniausius mokinio reikmenis, skaičius | J16: ~1320
B17: 003-01-01-03 (TP) | C17: Nemokamo socialiai remtinų vaikų maitinimo ikimokyklinėse įstaigose organizavimas | D17: 1 | E17: Informacijos rinkimas, ikimokyklinių įstaigų užmokesčio už vaikų išlaikymą analizė | F17: Švietimo, kultūros ir sporto skyrius | G17: SB | H17: 100 | I17: Vaikų, gaunančių nemokamą maitinimą, skaičius | J17: ~400
B18: 003-01-01-04 (TP) | C18: Nemokamo mokinių maitinimo kainos bendrojo ugdymo mokyklose kompensavimas | D18: 1 | E18: Koordinavimas, duomenų rinkimas, apmokėjimas maitinimo paslaugų teikėjams bei įstaigoms | F18: Socialinės paramos skyrius, Apskaitos skyrius | G18: SB | H18: 206.6 | I18: Mokinių, gaunančių nemokamą maitinimą, skaičius | J18: ~2140
B19: 003-01-01-05 (TP) | C19: Kelionės išlaidų už lengvatinį keleivių vežimą kompensavimas | D19: 1 | E19: Duomenų ir pateisinamųjų dokumentų iš vežėjų ir įstaigų rinkimas, sisteminimas, analizė ir teikimas Apskaitos bei Biudžeto ir finansų skyriams | F19: Statybos skyrius, Apskaitos skyrius | G19: SB | H19: 796.7 | I19: Finansavimo skyrimo plano vykdymas (proc.) | J19: 100
B20: 003-01-01-06 (TP) | C20: Lietuvos Respublikos 2024 metų piniginės socialinės paramos nepasiturintiems gyventojams įstatymo įgyvendinimo užtikrinimas | D20: 1 | E20: Priemonės koordinavimas | F20: Socialinės paramos skyrius | G20: SBVB | H20: 348.9 | I20: Funkcijos vykdymo užtikrinimas | J20: 100
B21: 003-01-01-07 (TP) | C21: Kompensacijų nepriklausomybės gynėjams mokėjimas | D21: 1 | E21: Priemonės koordinavimas | F21: Socialinės paramos skyrius, Apskaitos skyrius | G21: SBVB | H21: 7.3 | I21: Asmenų, gavusių kompensacijas, skaičius | J21: 13
B22: 003-01-01-10 (TP) | C22: Tikslinių kompensacijų teikimas | D22: 1 | E22: Priemonės koordinavimas | F22: Socialinės paramos skyrius, Apskaitos skyrius | G22: SBVB | H22: 0.2 | I22: Paramos pagal poreikį teikimas | J22: pagal poreikį
B23: 003-01-01-08 (TP) | C23: Būsto nuomos ar išperkamosios būsto nuomos mokesčių dalies kompensavimas | D23: 1 | E23: Asmenų konsultavimas, prašymų priėmimas, sąrašų sudarymas, duomenų vedimas į SPIS programą | F23: Socialinės paramos skyrius | G23: SBVB | H23: 7.7 | I23: Asmenų, gavusių būsto nuomos ar išperkamosios būsto nuomos mokesčių dalies kompensaciją, skaičius iš bendro asmenų, turinčių teisę į paramą būstui išsinuomoti ir įrašytų į sąrašus, skaičiaus, proc. | J23: 10
B24: 003-01-01-12 (TP) | C24: Išlaidų už būsto suteikimą užsieniečiams, pasitraukusiems iš Ukrainos dėl Rusijos Federacijos karinių veiksmų Ukrainoje finansavimas | D24: 1 | E24: Priemonės koordinavimas | F24: Socialinės paramos skyrius | G24: SBVB | H24: 31.3 | I24: Paramos pagal poreikį teikimas | J24: pagal poreikį
B25: 003-01-01-13 (TP) | C25: Savivaldybės patirtų išlaidų kompensavimas užsieniečiams, pasitraukusiems iš Ukrainos dėl Rusijos Federacijos karinių veiksmų Ukrainoje, priimti ir pagalbai jiems teikti įgyvendinant Lietuvos Respublikos piniginės socialinės paramos nepasiturintiems gyventojams įstatymą | D25: 1 | E25: Priemonės koordinavimas | F25: Socialinės paramos skyrius, Apskaitos skyrius | G25: SBVB | H25: 171 | I25: Funkcijos vykdymo užtikrinimas, proc | J25: 100
B26: 003-01-01-14 (TP) | C26: Vienkartinių išmokų teikimas įsikurti gyvenamojoje vietoje savivaldybės teritorijoje ir (ar) mėnesinių kompensacijų teikimas už kompensacijas vaiko ugdymo pagal ikimokyklinio ir priešmokyklinio ugdymo programą | D26: 1 | E26: Priemonės koordinavimas | F26: Socialinės paramos skyrius, Švietimo skyrius, Apskaitos skyrius | G26: SBVB | H26: 8.5 | I26: Paramos pagal poreikį teikimas | J26: pagal poreikį
B27: 003-01-01-15 (TP) | C27: Socialinės paramos teikimas mokiniams pagal Lietuvos Respublikos socialinės paramos mokiniams įstatymą užsieniečiams, pasitraukusiems iš Ukrainos dėl Rusijos federacijos karinių veiksmų Ukrainoje | D27: 1 | E27: Priemonės koordinavimas | F27: Socialinės paramos skyrius, Apskaitos skyrius | G27: SBVB | H27: 34.5 | I27: Funkcijos vykdymo užtikrinimas, proc | J27: 100
B28: 003-01-01-16 (TP) | C28: Paramos būstui išsinuomoti teikimas pagal Lietuvos Respublikos paramos būstui įsigyti ar išsinuomoti įstatymą užsieniečiams, pasitraukusiems iš Ukrainos dėl Rusijos federacijos karinių veiksmų Ukrainoje | D28: 1 | E28: Priemonės koordinavimas | F28: Socialinės paramos skyrius | G28: SBVB | H28: 4.1 | I28: Paramos pagal poreikį teikimas | J28: pagal poreikį
B29: 003-01-01-17 (TP) | C29: Išlaidų patirtų teikiant specialiąsias socialines paslaugas užsieniečiams, pasitraukusiems iš Ukrainos dėl Rusijos federacijos karinių veiksmų Ukrainoje, apmokėjimas | D29: 1 | E29: Priemonės koordinavimas | F29: Socialinės paramos skyrius | G29: SBVB | H29: 0.8 | I29: Funkcijos vykdymo užtikrinimas, proc | J29: 100
B30: 003-01-01-18 (TP) | C30: Projekto „Pabėgėlių iš Ukrainos priėmimas ir ankstyva integracija "įgyvendinimas | D30: 1 | E30: Projekto veiklų koordinavimas | F30: Vyr. specialistas (nevyriausybinių organizacijų koordinatorius), Socialinės paramos skyrius | G30: ES | H30: 10 | I30: Vykdomų integracijos veiklų / įgyvendinimo proc. | J30: 10/1
B31: 003-01-01-19 (TP) | C31: Užsieniečių, pasitraukusių iš Ukrainos dėl Rusijos Federacijos karinių veiksmų Ukrainoje, priėmimo išlaidoms kompensuoti | D31: 1 | E31: Priemonės koordinavimas | F31: Socialinės paramos skyrius, Apskaitos skyrius | G31: SBVB | H31: 0 | I31: Paramos pagal poreikį teikimas | J31: pagal poreikį
B32: 003-01-01-20 (TP) | C32: Laikino atokvėpio paslaugai teikti ir administruoti | D32: 1 | E32: Projekto veiklų koordinavimas | F32: Socialinės paramos skyrius | G32: SBVB | H32: 157.3 | I32: Funkcijos vykdymo užtikrinimas, proc. | J32: 100
B33: 003-01-01-21 (TP) | C33: Dotacija skirta išlaidoms, patirtoms mokant laidojimo pašalpą Lietuvos Respublikos socialinės paramos mirties atveju įstatymą užsieniečiams, pasitraukusiems iš Ukrainos dėl Rusijos federacijos karinių veiksmų Ukrainoje | D33: 1 | E33: Priemonės koordinavimas | F33: Socialinės paramos skyrius Apskaitos skyrius | G33: SBVB | H33: 0.5 | I33: Funkcijos vykdymo užtikrinimas, proc | J33: 100
B34: 003-01-02 (T) | C34: Gerinti socialinę aplinką ir didinti socialinės paramos įvairovę | H34: =SUM(H35:H38) -> 264.3
B35: 003-01-02-02 (TP) | C35: Kainų skirtumo gyventojams už šildymą kompensavimas | D35: 1 | E35: Apmokėjimų užtikrinimas paslaugų teikėjams | F35: Apskaitos skyrius | G35: SB | H35: 85 | I35: Kompensacijoms išmokėtų lėšų dalis, proc. | J35: 100
B36: 003-01-02-03 (TP) | C36: Karšto ir šalto vandens pardavimo kainos socialiai remtiniems asmenims kompensavimas | D36: 1 | E36: Koordinavimas, duomenų teikimas paslaugų teikėjams | F36: Socialinės paramos skyrius, Apskaitos skyrius | G36: SB | H36: 155 | I36: Kompensacijoms išmokėtų lėšų dalis, proc. | J36: 100
B37: 003-01-02-04 (TP) | C37: Vienkartinė išmoka gimus vaikui Lietuvos Respublikos teritorijoje ir gyvenančiam Kėdainių rajono savivaldybėje | D37: 1 | E37: Išmokų pervedimas | F37: Apskaitos skyrius | G37: SB | H37: 21.3 | I37: Asmenų, gaunančių kompensaciją, skaičius | J37: ~300
B38: 003-01-02-07 (TP) | C38: Teikti Metų socialinio darbuotojo apdovanojimą | D38: 1 | E38: Metų socialinio darbuotojo konkurso organizavimas | F38: Socialinės paramos skyrius | G38: SB | H38: 3 | I38: Įteiktas Metų socialinio darbuotojo apdovanojimas | J38: 1
B39: 003-01-03 (T, P) | C39: Užtikrinti ir gerinti socialines paslaugas, teikiamas institucijose, namuose ir bendruomenėje pagyvenusio ir senyvo amžiaus asmenims | H39: =SUM(H40:H51) -> 1613.4
B40: 003-01-03-01 (TP) | C40: Socialinės globos ir akredituotos socialinės priežiūros paslaugų teikiamo finansavimas ne savivaldybės pavaldumo ir nevyriausybinėse organizacijose, paslaugų įsigijimas | D40: 1 | E40: Apmokėjimas už suteiktas paslaugas ne savivaldybės pavaldumo globos įstaigoms | F40: Apskaitos skyrius, Socialinės paramos skyrius | G40: SB | H40: 640 | I40: Tiekėjų, teikiančių paslaugas, skaičius | J40: 20
B41: 003-01-03-02 (TP) | C41: Finansinės paramos šeimynos teikimas | D41: 1 | E41: Priemonės koordinavimas | F41: Socialinės paramos skyrius, Apskaitos skyrius | G41: SB | H41: 5 | I41: Paramą, gaunančių šeimynų skaičius | J41: 2
B42: 003-01-03-07 (TP) | C42: Savarankiško gyvenimo namų paslaugų asmenims su sutrikusiu intelektu teikimo programa | D42: 1 | E42: Sutarčių su vykdytojais suderinimas, priemonių koordinavimas ir vykdymo kontrolė | F42: Socialinės paramos skyrius | G42: SB | H42: 105 | I42: Paslaugas gavusių asmenų skaičius | J42: 21
B43: 003-01-03-08 (TP) | C43: Įgyvendinti savarankiško gyvenimo namų paslaugų senyvo amžiaus asmenims teikimo programą | D43: 1 | E43: Sutarčių su vykdytojais suderinimas, priemonių koordinavimas ir vykdymo kontrolė | F43: Socialinės paramos skyrius | G43: SB | H43: 15 | I43: Paslaugas gavusių asmenų skaičius | J43: 5
...

Sheet 04sport.
G1: PATVIRTINTA
G2: Kėdainių rajono savivaldybės administracijos direktoriaus
G3: 2024 m. kovo 8 d. įsakymu Nr.AD-1- 182
G4: (Kėdainių rajono savivaldybės administracijos direktoriaus
G5: 2024 m. gruodžio d. įsakymo Nr.AD-1- redakcija)
B8: Programos uždavinio, priemonės kodas ir požymis | C8: Uždavinio, priemonės pavadinimas | D8: Veiklos kodas | E8: Veiklos pavadinimas | F8: Atsakingas vykdytojas | G8: Finansavimo šaltinis | H8: 2024 m. asignavimai ir kitos lėšos | I8: Vertinimo kriterijai
I9: Pavadinimas | J9: Planas
B11: 04 SPORTO VEIKLOS PLĖTRA
B12: 004-01-01 (T) | C12: Skatinti gyventojų fizinį aktyvumą, vystyti įvairias gyventojų poreikius atitinkančias sporto šakas | H12: =SUM(H13:H16) -> 143.8
B13: 004-01-01-01 (TP) | C13: Neįgaliųjų ir senjorų fizinio aktyvumo skatinimas, sporto renginių ir sporto treniruočių stovyklų organizavimas | D13: 1 | E13: Sportinės veiklos organizavimas, koordinavimas | F13: Švietimo, kultūros ir sporto skyrius | G13: SB | H13: 12 | I13: Fizinio aktyvumo ir sporto renginių skaičius / senjorų sporto šakų skaičius / stovyklų skaičius | J13: 6/ 5
B14: 004-01-01-02 (TP) | C14: Rajoninių, respublikinių, tarptautinių visų amžiaus grupių aukšto meistriškumo sporto renginių ir aukšto meistriškumo sporto treniruočių stovyklų organizavimas | D14: 1 | E14: Sportinės veiklos organizavimas, koordinavimas | F14: Švietimo, kultūros ir sporto skyrius | G14: SB | H14: 61.5 | I14: Suorganizuotų rajoninių, respublikinių ir tarptautinių sporto renginių skaičius / stovyklų skaičius | J14: 18/5
B15: 004-01-01-03 (TP) | C15: Vaikų mokymo plaukti veiklos programa, dalyvaujant projekte „Mokėk plaukti ir saugiau elgtis vandenyje“ | D15: 1 | E15: Sutarčių su vykdytojais suderinimas, priemonių koordinavimas ir vykdymo kontrolė | F15: Švietimo, kultūros ir sporto skyrius | G15: SB | H15: 10.3 | I15: Programoje dalyvaujančių vaikų skaičius / plaukimo pamokų sk. | J15: 300/14
B16: 004-01-01-05 (TP) | C16: Sporto projektų finansavimas | D16: 1 | E16: Sporto projektų konkurso organizavimas, sutarčių su vykdytojais suderinimas, sutarčių vykdymo kontrolė | F16: Švietimo, kultūros ir sporto skyrius | G16: SB | H16: 60 | I16: Finansuojamų sporto projektų skaičius | J16: 20
B17: 004-01-02 (T) | C17: Finansuoti sporto veiklos programas, skatinti Kėdainių rajono sporto organizacijas, sporto komandas ir sportininkus | H17: =SUM(H18:H26) -> 704
B18: 004-01-02-01 (TP) | C18: Kėdainių krepšinio komandos „Nevėžis-Optibet“ klubinio krepšinio vystymo programa | D18: 1 | E18: Sutarčių su vykdytojais suderinimas, priemonių koordinavimas ir vykdymo kontrolė | F18: Švietimo, kultūros ir sporto skyrius | G18: SB | H18: 300 | I18: Iškovota vieta LKL / KMT turnyre /socialinių veiklų sk. / atviros treniruotės surengimas su komandos krepšininkais | J18: 7-10 /9-12 / 1/1
B19: 004-01-02-02 (TP) | C19: Futbolo komandos Kėdainių „Nevėžis“ klubinio futbolo vystymo programa | D19: 1 | E19: Sutarčių su vykdytojais suderinimas, priemonių koordinavimas ir vykdymo kontrolė | F19: Švietimo, kultūros ir sporto skyrius | G19: SB | H19: 144 | I19: Iškovota vieta LFF pirmosios lygos pirmenybėse / išugdytų kėdainiečių, atstovaujančių FK „Nevėžis“ suaugusiųjų komandoje sk. | J19: 3-8 / 6
B20: 004-01-02-03 (TP) | C20: Bokso sporto šakos vystymo programa | D20: 1 | E20: Sutarčių su vykdytojais suderinimas, priemonių koordinavimas ir vykdymo kontrolė | F20: Švietimo, kultūros ir sporto skyrius | G20: SB | H20: 25 | I20: Šalies bokso čempionatuose ir tarptautinėse bokso varžybose iškovotų medalių sk.//paruoštų boksininkų šalies bokso rinktinei sk. | J20: 10/2
B21: 004-01-02-04 (TP) | C21: Kėdainių rajono vaikų ir jaunimo futbolo plėtros programa | D21: 1 | E21: Sutarčių su vykdytojais suderinimas, priemonių koordinavimas ir vykdymo kontrolė | F21: Švietimo, kultūros ir sporto skyrius | G21: SB | H21: 170 | I21: Sportuojančių vaikų sk./ dalyvaujančių LFF vaikų pirmenybėse komandų sk./FK „Nevėžis“ vyrų komandos papildymas jaunais žaidėjais skaičius | J21: 280/7/6
B23: 004-01-02-05 (TP) | C23: Moterų futbolo komandos Kėdainių „Nevėžis“ programa | D23: 1 | E23: Sutarčių su vykdytojais suderinimas, priemonių koordinavimas ir vykdymo kontrolė | F23: Švietimo, kultūros ir sporto skyrius | G23: SB | H23: 20 | I23: Lietuvos moterų futbolo asociacijos I lygos pirmenybėse iškovota vieta / rungtynių sk. / komandai atstovaujančių kėdainiečių sk. | J23: 3-7 /10/8
B24: 004-01-02-06 (TP) | C24: Salės futbolo komandos „Kėdainiai United“ klubinio salės futbolo vystymo programa | D24: 1 | E24: Sutarčių su vykdytojais suderinimas, priemonių koordinavimas ir vykdymo kontrolė | F24: Švietimo, kultūros ir sporto skyrius | G24: SB | H24: 20 | I24: Iškovota vieta čempionate / kėdainiečių futbolininkų patekimas į Lietuvos rinktinės kandidatų sąrašą / kėdainiečių sk. komandoje | J24: 1-8 /1/14
B25: 004-01-02-07 (TP) | C25: Dziudo sporto šakos vystymo programa | D25: 1 | E25: Sutarčių su vykdytojais suderinimas, priemonių koordinavimas ir vykdymo kontrolė | F25: Švietimo, kultūros ir sporto skyrius | G25: SB | H25: 10 | I25: Čempionatų sk. pagal amžiaus gr. / dalyvautų Lietuvos ir tarptautinės Dziudo varžybų sk. / iškovotų medalių sk. / suorganizuotų turnyrų sk. | J25: 6/12/14/1
B26: 004-01-02-08 (TP) | C26: Aukšto meistriškumo sportininkų ir jų trenerių paskatinimas už sporto pasiekimus | D26: 1 | E26: Konkurso, apdovanojant aukšto meistriškumo sportininkus ir jų trenerius už sporto pasiekimus, organizavimas | F26: Švietimo, kultūros ir sporto skyrius | G26: SB | H26: 15 | I26: Apdovanotųjų skaičius | J26: 30
B27: 004-01-03 (T) | C27: Užtikrinti efektyvią Kėdainių sporto centro veiklą, vykdyti organizuojamus renginius, didinti sportinės veiklos žinomumą | H27: =SUM(H28:H29) -> 216.1
B28: 004-01-03-02 (TP) | C28: Kėdainių sporto centro bazių atnaujinimas | D28: 1 | E28: Priemonės koordinavimas | F28: Švietimo, kultūros ir sporto skyrius, Biudžeto ir finansų skyrius | G28: SB | H28: 100 | I28: Einamaisiais metais numatytų atlikti darbų, proc. | J28: 100
B29: 004-01-03-03 (TP) | C29: Kėdainių sporto centro saulės fotovoltinė elektrinė iš saulės elektrinių parko įsigijimas | D29: 1 | E29: Projekto, kurį įgyvendina Kėdainių sporto centras kofinansavimo dalies užtikrinimas | F29: Apskaitos skyrius | G29: SB | H29: 116.1 | I29: Įsigyta nutolusi fotovoltinė saulės elektrinė (kW) | J29: 300
B30: 004-01-04 (T) | C30: Atnaujinti ir (arba) plėsti sporto infrastruktūrą, sudarant sąlygas fizinio aktyvumo ugdymui | H30: =SUM(H31:H37) -> 479.2
B31: 004-01-04-01 (TP) | C31: Bendruomeninės fizinio aktyvumo infrastruktūros mieste ir rajone atnaujinimas ir (arba) plėtra | D31: 1 | E31: Poreikio išsiaiškinimas, bendradarbiavimas su Kėdainių miesto seniūnija, atnaujinimo darbų vykdymo kontrolė | F31: Švietimo, kultūros ir sporto skyrius | G31: SB | H31: 50 | I31: Atnaujintų/įrengtų vaikų sporto ir žaidimų aikštelių skaičius | J31: 3
B32: 004-01-04-02 (TP) | C32: Techninės dokumentacijos rengimas sporto infrastruktūrai prie ugdymo įstaigų atnaujinti | D32: 1 | E32: Techninės dokumentacijos viešojo pirkimo organizavimas, paslaugų teikėjo prisiimtų sutartinių įsipareigojimų vykdymo kontrolė | F32: Statybos skyrius | G32: SB | H32: 20 | I32: Parengtos techninės dokumentacijos skaičius | J32: 1
B33: 004-01-04-03 ((TP) | C33: Kėdainių senamiesčio progimnazijos sporto aikštyno atnaujinimas | D33: 1 | E33: Rangos darbų koordinavimas, rangovo prisiimtų sutartinių įsipareigojimų vykdymo kontrolė | F33: Statybos skyrius | G33: SB | H33: 235 | I33: Atnaujintų objektų skaičius | J33: 1
B34: 004-01-04-04 (TP) | C34: Krakių Mikalojaus Katkaus gimnazijos sporto aikštyno atnaujinimas | D34: 1 | E34: Paraiškos teikimas fiannsavimui gauti | F34: Strateginio planavimo ir investicijų skyrius | G34: SBVB | H34: 106.8 | I34: Atnaujinamų objektų skaičius | J34: 1
D35: 2 | E35: Rangos darbų viešojo pirkimo vykdymas, rangos darbų koordinavimas, rangovo prisiimtų sutartinių įsipareigojimų vykdymo kontrolė | F35: Statybos skyrius | G35: SB | H35: 60.1
B36: 004-01-04-05 (TP) | C36: LSU Kėdainių Aušros“ progimnazijos plaukimo ir Kėdainių sporto centro Vilainių rekreacijos ir sporto pramogų komplekso baseinų renovacijos/plėtros galimybių studijos parengimas | D36: 1 | E36: Paslaugų teikėjo, rengiant galimybių studiją, sutartinių įsipareigojimų vykdymo kontrolė | F36: Strateginio planavimo ir investicijų skyrius | G36: SB | H36: 7.3 | I36: Parengtos techninės dokumentacijos skaičius | J36: 1
B37: 004-01-04-06 (TP) | C37: Sporto infrastruktūros prie ugdymo įstaigų atnaujinimas | G37: ES/ SBVB
B38: IŠ VISO | H38: =+H30+H27+H17+H12 -> 1543.1
H39: =+H38-H40 -> 0
C40: 1. Savivaldybės biudžetas (įskaitant skolintas lėšas) | H40: =SUM(H42:H47) -> 1543.1
C41: Iš jo:
C42: 1.1. savivaldybės biudžeto lėšos (nuosavos, be ankstesnių metų likučio) | G42: SB | H42: =+H36+H33+H32+H31+H29+H28+H26+H25+H24+H23+H22+H21+H20+H19+H18+H16+H15+H14+H13+H35 -> 1436.3
C43: 1.2. Lietuvos Respublikos valstybės biudžeto dotacijos | G43: SBVB | H43: =+H34 -> 106.8
C44: 1.3. Pajamų įmokos ir kitos pajamos | G44: ĮP
...

Sheet 05kultura
G1: PATVIRTINTA
G2: Kėdainių rajono savivaldybės administracijos direktoriaus
G3: 2024 m. kovo 8 d. įsakymu Nr.AD-1- 182
G4: (Kėdainių rajono savivaldybės administracijos direktoriaus
G5: 2024 m. gruodžio d. įsakymo Nr.AD-1- redakcija)
B8: Programos uždavinio, priemonės kodas ir požymis | C8: Uždavinio, priemonės pavadinimas | D8: Veiklos kodas | E8: Veiklos pavadinimas | F8: Atsakingas vykdytojas | G8: Finansavimo šaltinis | H8: 2024 m. asignavimai ir kitos lėšos | I8: Vertinimo kriterijai
I9: Pavadinimas | J9: Planas
B11: 05 KULTŪROS VEIKLOS PLĖTRA
B12: 005-01-02 (T) | C12: Sudaryti sąlygas dalyvauti kultūrinėje bei kūrybinėje veikloje, puoselėti etninę kultūrą, finansuoti kultūros renginius bei projektus | H12: =SUM(H13:H18) -> 250.6
B13: 005-01-02-01(TP) | C13: Rajono savivaldybės renginių, kultūrinių iniciatyvų finansavimas, etninės kultūros puoselėjimas | D13: 1 | E13: Rajoninių renginių, konkursų, dalyvavimo regioniniuose ir respublikiniuose renginiuose bei konkursuose koordinavimas ir finansavimas | F13: Švietimo, kultūros ir sporto skyrius | G13: SB | H13: 182.6 | I13: Suorganizuotų renginių skaičius | J13: ~40
B14: 005-01-02-02 (TP) | C14: Kultūrinių veiklos projektų finansavimas | D14: 1 | E14: Kultūros projektų konkurso organizavimas | F14: Švietimo, kultūros ir sporto skyrius | G14: SB | H14: 35 | I14: Finansuotų projektų skaičius | J14: 17
B15: 005-01-02-03 (TP) | C15: Krašto kultūros premijos teikimas | D15: 1 | E15: Kėdainių krašto kultūros premijos konkurso organizavimas | F15: Švietimo, kultūros ir sporto skyrius | G15: SB | H15: 3 | I15: Kultūros premijos laureatų skaičius | J15: 1
B16: 005-01-02-04 (TP) | C16: Česlavo Milošo premijos teikimas | D16: 1 | E16: Česlavo Milošo premijos konkurso organizavimas | F16: Švietimo, kultūros ir sporto skyrius | G16: SB | H16: 5 | I16: Kultūros premijos laureatų skaičius | J16: 1
B17: 005-01-02-05 (TP) | C17: Mėgėjų meno kolektyvų aprūpinimas tautiniais ir kitais koncertiniais kostiumais bei muzikos instrumentais | D17: 1 | E17: Dalyvavimas tautinių kostiumų ir instrumentų įsigijimo finansavimo konkurse | F17: Švietimo, kultūros ir sporto skyrius | G17: SB | H17: 15 | I17: Koncertinius kostiumų komplektus/instrumentus atsinaujinusių kolektyvų skaičius | J17: 8
B18: 005-01-02-06 (TP) | C18: Tarptautinių kultūros mainų plėtojimas | D18: 1 | E18: Tarptautinių kultūros mainų organizavimas | F18: Švietimo, kultūros ir sporto skyrius | G18: SB | H18: 10 | I18: Organizuotų tarptautinių mainų skaičius | J18: 3
B19: 005-01-03 (T) | C19: Vystyti jaunimui palankią aplinką bei infrastruktūrą, plėsti ir skatinti įvairias jaunimo veiklas ir užimtumą, formuojant jaunimo politiką Kėdainių rajone | H19: =SUM(H20:H25) -> 69
B20: 005-01-03-01 (TP) | C20: Jaunimo veiklos projektų finansavimas | D20: 1 | E20: Jaunimo veiklos projektų konkurso organizavimas | F20: Vyr. specialistė (jaunimo reikalų koordinatorė) | G20: SB | H20: 15 | I20: Finansuotų projektų skaičius | J20: 4
B21: 005-01-03-02 (TP) | C21: Programų, užtikrinančių jaunimo neformalaus ugdymo plėtrą finansavimas | D21: 1 | E21: Sutarčių sudarymas, programų įgyvendinimo priežiūros organizavimas, ataskaitų rinkimas | F21: Vyr. specialistė (jaunimo reikalų koordinatorė) | G21: SB | H21: 6 | I21: Suorganizuotų mokymų, susitikimų, renginių, forumų skaičius | J21: 10
B22: 005-01-03-03 (TP) | C22: Atviro jaunimo centro ir atvirųjų jaunimo erdvių veiklos projektų finansavimas | D22: 1 | E22: Atvirųjų jaunimo erdvių veiklos projektų konkurso organizavimas | F22: Vyr. specialistė (jaunimo reikalų koordinatorė) | G22: SB | H22: 17 | I22: Finansuotų projektų skaičius | J22: 5
B23: 005-01-03-04 (TP) | C23: Jaunimo savanorystės Kėdainių rajone plėtra ir jaunimo skatinimas užsiimti savanoriška veikla | D23: 1 | E23: Jaunimo savarankiškos veiklos plėtros konkurso organizavimas | F23: Vyr. specialistė (jaunimo reikalų koordinatorė) | G23: SB | H23: 4 | I23: Finansuotų projektų skaičius | J23: 1
B24: 005-01-03-05 (TP) | C24: Tarptautinės jaunimo dienos renginio organizavimas | D24: 1 | E24: Priemonės organizavimas ir koordinavimas | F24: Vyr. specialistė (jaunimo reikalų koordinatorė) | G24: SB | H24: 20 | I24: Suorganizuotų renginius skaičius | J24: 1
B25: 005-01-03-06 (TP) | C25: Jaunimo užimtumo vasarą ir integracijos į darbo rinką programos įgyvendinimas | D25: 1 | E25: Priemonės koordinavimas ir viešinimas | F25: Vyr. specialistė (jaunimo reikalų koordinatorė) | G25: SB | H25: 7 | I25: Pagal programą įdarbintų 14-18 m. jaunuolių skaičius | J25: 10
B26: 005-01-04 (T) | C26: Skatinti nevyriausybinių ir bendruomeninių organizacijų plėtrą Kėdainių rajone, didinti jų įtrauktį | H26: =SUM(H27:H33) -> 183.1
B27: 005-01-04-01 (TP) | C27: Nevyriausybinių organizacijų institucinio stiprinimo ir veiklos plėtojimo projektų finansavimas | D27: 1 | E27: Nevyriausybinių organizacijų veiklos projektų konkurso organizavimas | F27: Vyr. specialistė (nevyriausybinių organizacijų koordinatorė) | G27: SB | H27: 30 | I27: Finansuotų projektų skaičius | J27: 11
B28: 005-01-04-02 (TP) | C28: Bendruomeninių organizacijų veiklos projektų finansavimas | D28: 1 | E28: Rajono bendruomeninių organizacijų veiklos projektų konkurso organizavimas | F28: Vyr. specialistė (nevyriausybinių organizacijų koordinatorė) | G28: SB | H28: 26 | I28: Finansuotų bendruomeninių organizacijų skaičius | J28: 25
B29: 005-01-04-03 (TP) | C29: Kėdainių rajono vietos veiklos grupės teritorijos vietos plėtros 2015-2023 m. strategijos finansavimas | D29: 1 | E29: Sutarčių su strategijos vykdytoju ir projektų vykdytojais sudarymas | F29: Vyr. specialistė (nevyriausybinių organizacijų koordinatorė) | G29: SB | H29: 71.1 | I29: Finansuotų projektų skaičius | J29: 16
B30: 005-01-04-04 (TP) | C30: Kėdainių rajono vietos veiklos grupės 2023-2029 m. vietos plėtros strategijos finansavimas | D30: 1 | E30: Sutarties su vykdytoju suderinimas, sutarties vykdymo kontrolė | F30: Vyr. specialistė (nevyriausybinių organizacijų koordinatorė) | G30: SB | H30: 0 | I30: Finansuotų projektų skaičius | J30: 3
B31: 005-01-04-05 (TP) | C31: Vietos plėtros strategijos rengimo ir įgyvendinimo programa ir Kėdainių miesto vietos veiklos grupės vietos plėtros 2023-2029 metų strategijos finansavimas | D31: 1 | E31: Projekto, kurį įgyvendina Kėdainių miesto vietos veiklos grupės kofinansavimo dalies užtikrinimas | F31: Vyr. specialistė (nevyriausybinių organizacijų koordinatorė), Apskaitos skyrius | G31: SB | H31: 19 | I31: Parengta strategija / finansuotų projektų skaičius | J31: 1/0
B32: 005-01-04-06 (TP) | C32: Priemonės "Stiprinti bendruomeninę veiklą savivaldybėse" įgyvendinimas | D32: 1 | E32: Nevyriausybinių organizacijų ir bendruomeninės veiklos koordinavimas | F32: Vyr. specialistė (nevyriausybinių organizacijų koordinatorė) | G32: SBVB | H32: 31.6 | I32: Įgyvendinta projektų veiklų proc. | J32: 100
B33: 005-01-04-07 (TP) | C33: Rajono nevyriausybinių organizacijų veiklos stiprinimas | D33: 1 | E33: Nevyriausybinių organizacijų forumo ir tarptautinės savanorių dienos paminėjimo organizavimas | F33: Vyr. specialistė (nevyriausybinių organizacijų koordinatorė) | G33: SB | H33: 5.4 | I33: Paskatintų iniciatyvų bei suorganizuotų veiklų skaičius | J33: 3
B34: 005-01-05 (T) | C34: Gerinti kultūros paskirties viešąją infrastruktūrą, modernizuoti materialinę ir edukacinę aplinką | H34: =SUM(H35:H39) -> 1292
B35: 005-01-05-01 (TP) | C35: Kėdainių kultūros centro rekonstrukcija ir įrengimas | D35: 1 | E35: Rangos darbų koordinavimas, rangovo prisiimtų sutartinių įsipareigojimų vykdymo kontrolė | F35: Statybos skyrius | G35: SB | H35: 1164 | I35: Įgyvendinta einamaisiais metais numatomų atlikti projekto veiklų proc. | J35: 100
B36: 005-01-05-02 (TP) | C36: Akademijos kultūros centro remontas | D36: 1 | E36: Rangos darbų viešojo pirkimo organizavimas, rangos darbų koordinavimas, rangovo prisiimtų sutartinių įsipareigojimų vykdymo kontrolė | F36: Statybos skyrius | G36: SB | H36: 30 | I36: Atlikta einamaisiais metais numatytų darbų, proc. | J36: 100
B37: 005-01-05-34 (TP) | C37: Šėtos kultūros centro vidaus erdvių remontas (I a. 2 patalpos) | D37: 1 | E37: Priemonės koordinavimas | F37: Švietimo, kultūros ir sporto skyrius | G37: SB | H37: 18 | I37: Atlikta einamaisiais metais numatytų darbų, proc. | J37: 100
B38: 005-01-05-05 (TP) | C38: Krakių kultūros centro patalpų dalies pritaikymas kultūros reikmėms | D38: 1 | E38: Rangos darbų viešojo pirkimo organizavimas, rangos darbų koordinavimas, rangovo prisiimtų sutartinių įsipareigojimų vykdymo kontrolė | F38: Statybos skyrius | G38: SB | H38: 40 | I38: Parengta techninė dokumentacija / įveiklinta kultūros centro pastato dalis | J38: 1/0
B39: 005-01-05-06 (TP) | C39: Infrastruktūros Kėdainių miesto parke įrengimas | D39: 1 | E39: Priemonės koordinavimas | F39: Statybos skyrius | G39: SB | H39: 40 | I39: Parengta vizija/techninė dokumentacija/ pagerinta infrastruktūra infrastruktūra atlikėjams | J39: 1/1/0
B40: IŠ VISO | H40: =+H34+H26+H19+H12 -> 1794.7
H41: =+H40-H42 -> 0
C42: 1. Savivaldybės biudžetas (įskaitant skolintas lėšas) | H42: =SUM(H44:H49) -> 1794.7
C43: Iš jo:
...

Sheet 06 turizm
B3: Programos uždavinio, priemonės kodas ir požymis | C3: Uždavinio, priemonės pavadinimas | D3: Veiklos kodas | E3: Veiklos pavadinimas | F3: Atsakingas vykdytojas | G3: Finansavimo šaltinis | H3: 2024 m. asignavimai ir kitos lėšos | I3: Vertinimo kriterijai
I4: Pavadinimas | J4: Planas
B6: 06 KULTŪROS PAVELDO IŠSAUGOJIMAS, TURIZMO SKATINIMAS IR VYSTYMAS
B7: 006-01-01 (T) | C7: Užtikrinti efektyvią VšĮ Kėdainių turizmo ir verslo informacijos centro veiklą turizmo srityje | H7: =+H8 -> 108
B8: 006-01-01-01 (TP) | C8: VšĮ Kėdainių turizmo ir verslo informacijos centro turizmo veiklos programos finansavimas | D8: 1 | E8: Priemonės įgyvendinimo koordinavimas | F8: Administracijos direktorius | G8: SB | H8: 108 | I8: Kėdainių rajono savivaldybėje apsilankiusių turistų skaičius per metus (tūkst. asmenų/ per metus) (vertinami Kėdainių TVIC apsilankę turistai) | J8: 9.5
B9: 006-01-02 (T) | C9: Išsaugoti istorinį bei kultūros paveldą, didinti jo patrauklumą ir žinomumą | H9: =SUM(H10:H27) -> 347.9
B10: 006-01-02-01 (TP) | C10: Nekilnojamųjų kultūros vertybių vertinimo medžiagos, nekilnojamųjų kultūros paveldo objektų, vietovių individualius apsaugos reglamentų rengimas | D10: 1 | E10: Nekilnojamųjų kultūros vertybių vertinimo medžiagos parengimo organizavimas ir koordinavimas | F10: Architektūros ir urbanistikos skyrius | G10: SB | H10: 3 | I10: Parengtų kultūros paveldo objektų būklės patikrinimo aktų su fotofiksacija skaičius | J10: ~20
D11: 2 | E11: Individualių apsaugos reglamentų nekilnojamiesiems kultūros objektams, vietovėms rengimas
B12: 006-01-02-02 (TP) | C12: Kėdainių rajono savivaldybės bažnyčių rėmimo programos įgyvendinimas | D12: 1 | E12: Paraiškų teikimo organizavimas, vertinimas, veiklų įgyvendinimo koordinavimas | F12: Architektūros ir urbanistikos skyrius | G12: SB | H12: 50 | I12: Kulto pastatų, kuriems skirtas finansavimas tvarkybos darbams atlikti, skaičius | J12: 4
B13: 006-01-02-03 (TP) | C13: Lankytinų objektų, kultūros paveldo objektų ar objektų, esančių kultūros paveldo teritorijų prieigose tvarkybos dokumentacijos rengimas, objektų atnaujinimas, restauravimas mieste ir rajone | D13: 1 | E13: Gumbių koplytėlės tvarkybos darbų viešojo pirkimo organizavimas, paslaugų teikėjo prisiimtų sutartinių įsipareigojimų vykdymo kontrolė | F13: Architektūros ir urbanistikos skyrius | G13: SB | H13: 223.9 | I13: Tvarkomų objektų skaičius | J13: 8
D14: 2 | E14: Atminties skvero memorialo teritorijos sutvarkymo TP viešojo pirkimo organizavimas, tiekėjų prisiimtų sutartinių įsipareigojimų vykdymo kontrolė | F14: Architektūros ir urbanistikos skyrius
D15: 3 | E15: Miesto parko ženklinimo infrastruktūros atnaujinimo, viešojo pirkimo organizavimas, tiekėjų prisiimtų sutartinių įsipareigojimų vykdymo kontrolė | F15: Architektūros ir urbanistikos skyrius
D16: 4 | E16: Gudžiūnuose esančio partizano kapo tvarkybos darbų koordinavimas | F16: Architektūros ir urbanistikos skyrius
D17: 5 | E17: Miesto parko vartų atnaujinimo darbų koordinavimas, tiekėjų prisiimtų sutartinių įsipareigojimų vykdymo kontrolė | F17: Architektūros ir urbanistikos skyrius
D18: 6 | E18: Kauno g. ir Surviliškio kapinių prieigų ir kolumbariumų įrengimo techninės dokumentacijos parengimas | F18: Architektūros ir urbanistikos skyrius
D19: 7 | E19: Atminties skvero memorialo teritorijos sutvarkymas pagal paengtą TP | F19: Architektūros ir urbanistikos skyrius
D20: 8 | E20: Evangelikų reformatų bažnyčios balkonų sutvirtinimo vargonų įrengimui koordinavimas | F20: Architektūros ir urbanistikos skyrius
B21: 006-01-02-04 (TP) | C21: Kėdainių dvaro sodybos Minareto ir jo prieigų tvarkyba | D21: 1 | E21: Tvarkybos darbų viešojo pirkimo organizavimas, rangovo prisiimtų sutartinių įsipareigojimų vykdymo kontrolė | F21: Architektūros ir urbanistikos skyrius | G21: SB | H21: 20 | I21: Rengiama techninė dokumentai skaičius | J21: 1
B22: 006-01-02-05 (TP) | C22: Apytalaukio dvaro sodybos avarinės būklės likvidavimas, dvaro tvarkybos darbai | D22: 1 | E22: Paraiškos Kultūros infrastruktūros centrui teikimas, techninės dokumentacijos rengimo koordinavimus (paraiškos teigiamai įvertinimo atveju) | F22: Architektūros ir urbanistikos skyrius | G22: SB | H22: 0 | I22: Techninės dokumentacijos rengimas | J22: 1
B23: 006-01-02-06 (TP) | C23: Archeologiniai ir kiti tyrinėjimai kultūros paveldo teritorijose, paveldo objektams parengtų tvarkybos projektų ekspertizės vykdymas, sąmatų rengimas | D23: 1 | E23: Pagal poreikį | F23: Architektūros ir urbanistikos skyrius | G23: SB | H23: 3 | I23: Ekspertuotų projektų skaičius | J23: pagal poreikį
B24: 006-01-02-07 (TP) | C24: Kultūros paveldo objektų, esančių Kėdainių rajono savivaldybės teritorijoje, ir kultūros paveldo statinių, esančių Kėdainių senamiesčio dalyje, išsaugojimo darbų finansavimo programa | D24: 1 | E24: Paraiškų teikimo organizavimas, vertinimas, veiklų įgyvendinimo koordinavimas | F24: Architektūros ir urbanistikos skyrius | G24: SB | H24: 25 | I24: Tvarkomų kultūros paveldo objektų ar kultūros paveldo statinių skaičius | J24: 3
B25: 006-01-02-08 (TP) | C25: Nuorodų, kitų informacinių ženklų įrengimas į savivaldybės kultūros paveldo objektus | D25: 1 | E25: Informacinių lentelių / nuorodų įrengimo į paveldo objektus koordinavimas | F25: Architektūros ir urbanistikos skyrius | G25: SB | H25: 3 | I25: Einamaisiais metais atlikta numatyta darbų, proc. | J25: 100
B26: 006-01-02-10 (PP) | C26: Kėdainių evangelikų ir reformatų bažnyčios atnaujinimas | D26: 1 | E26: Techninės dokumentacijos vargonų montavimui rengimo koordinavimas, bendradarbiavimas su Kėdainių krašto muziejumi | F26: Architektūros ir urbanistikos skyrius | G26: SB | H26: 20 | I26: Planuotų atlikti darbų, proc. | J26: 100
B27: 006-01-02-12 (TP) | C27: Bakainių piliakalnio su priešpiliu ir papiliu bei priešpilio tvarkybos techninės dokumentacijos rengimas bei tvarkybos darbai | D27: 1 | E27: Paraiškos Kultūros infrastruktūros centrui teikimas, techninės dokumentacijos rengimo koordinavimus (paraiškos teigiamai įvertinimo atveju) | F27: Architektūros ir urbanistikos skyrius | G27: SB | H27: 0 | I27: Parengta projektinė dokumentacija | J27: 1
B28: 006-01-03 (T) | C28: Plėtoti, atnaujinti viešąją infrastruktūrą, atsižvelgiant į turizmo plėtros ir rekreacijos poreikius | H28: =SUM(H29:H30) -> 350
B29: 006-01-03-01 (TP) | C29: Akademijos parko tvarkyba | D29: 1 | E29: Parko tvarkybos viešojo pirkimo organizavimas, rangovo sutartinių įsipareigojimų vykdymo kontrolė | F29: Statybos ir turto skyrius | G29: SB | H29: 300 | I29: Atlikta einamaisiais metais numatytų darbų, proc. | J29: 100
B30: 006-01-03-05 (TP) | C30: Babėnų šilo miškotvarka ir pritaikymas patogiam poilsiui, laisvalaikiui | D30: 1 | E30: Šilo tvarkybos ir pritaikymo visuomenės poreikiams techninio projekto parengimo viešojo pirkimo organizavimas, paslaugų teikėjo prisiimtų sutartinių įsipareigojimų vykdymo kontrolė | F30: Statybos ir turto skyrius, Architektūros ir urbanistikos skyrius | G30: SB | H30: 50 | I30: Parengta pritaikymo dokumentacija | J30: 1
B31: IŠ VISO | H31: =+H28+H9+H7 -> 805.9
C33: 1. Savivaldybės biudžetas (įskaitant skolintas lėšas) | H33: =SUM(H35:H40) -> 805.9
C34: Iš jo:
C35: 1.1. savivaldybės biudžeto lėšos (nuosavos, be ankstesnių metų likučio) | G35: SB | H35: =+H30+H29+H27+H26+H25+H24+H23+H22+H21+H13+H12+H10+H8 -> 805.9
C36: 1.2. Lietuvos Respublikos valstybės biudžeto dotacijos | G36: SBVB
C37: 1.3. Pajamų įmokos ir kitos pajamos | G37: ĮP
C38: 1.4. Europos Sąjungos ir kitos tarptautinės finansinės paramos lėšos | G38: ES
C39: 1.5. Skolintos lėšos | G39: SK
C40: 1.6. Ankstesnių metų likučiai | G40: SBL
C41: 2. Kiti šaltiniai (Europos Sąjungos finansinė parama projektams įgyvendinti ir kitos teisėtai gautos lėšos, nurodant atskirus šaltinius) | G41: KT
C42: IŠ VISO programai finansuoti pagal finansavimo šaltinius (1 ir 2 punktai) | H42: =+H41+H33 -> 805.9
C43: Iš jų: regioninių pažangos priemonių lėšos

Sheet 07Infrastr.
G1: PATVIRTINTA
G2: Kėdainių rajono savivaldybės administracijos direktoriaus
G3: 2024 m. kovo 8 d. įsakymu Nr.AD-1- 182
G4: (Kėdainių rajono savivaldybės administracijos direktoriaus
G5: 2024 m. gruodžio d. įsakymo Nr.AD-1- redakcija)
B8: Programos uždavinio, priemonės kodas ir požymis | C8: Uždavinio, priemonės pavadinimas | D8: Veiklos kodas | E8: Veiklos pavadinimas | F8: Atsakingas vykdytojas | G8: Finansavimo šaltinis | H8: 2024 m. asignavimai ir kitos lėšos | I8: Vertinimo kriterijai
I9: Pavadinimas | J9: Planas
B11: 07 INFRASTRUKTŪROS OBJEKTŲ PRIEŽIŪRA IR PLĖTRA
B12: 007-01-01 (T) | C12: Teritorijų planavimo ir kitų dokumentų rengimas, atnaujinimas, sudarant sąlygas infrastruktūros plėtrai | H12: =SUM(H13:H18) -> 209
B13: 007-01-01-01 (TP) | C13: Dokumentų, padedančių užtikrinti darnią rajono savivaldybės teritorijų plėtrą rengimas | D13: 1 | E13: Specialiųjų, detaliųjų, geodezinių planų rengimo viešųjų pirkimų organizavimas, teikiamų paslaugų koordinavimas, paslaugų teikėjo prisiimtų sutartinių įsipareigojimų vykdymo kontrolė | F13: Architektūros ir urbanistikos skyrius | G13: SB | H13: 75 | I13: Laiku ir pagal teisės aktų reikalavimus parengtų teritorijų planavimo dokumentų dalis (proc.) | J13: 100
B14: 007-01-01-02 (TP) | C14: Senojo Upytės kelio specialiojo plano rengimas ("Isos slėnis") | D14: 1 | E14: Specialiojo plano rengimo koordinavimas, paslaugų teikėjo prisiimtų sutartinių įsipareigojimų vykdymo kontrolė | F14: Architektūros ir urbanistikos skyrius | G14: SB | H14: 24 | I14: Rengiamų specialiųjų planų skaičius | J14: 1
B15: 007-01-01-03 (TP) | C15: Turto inventorizavimas, teisinė registracija, dokumentų turto pardavimui rengimas | D15: 1 | E15: Savivaldybei nuosavybės teise priklausančio turto dokumentų rengimas, sisteminimas ir teikimas kadastriniams matavimams ir teisinei registracijai atlikti | F15: Turto valdymo skyrius | G15: SB | H15: 50 | I15: Inventorizuotų nekilnojamojo turto objektų skaičius (pagal poreikį) | J15: pagal poreikį
D16: 2 | E16: Savivaldybei nuosavybės teise priklausančio numatyto parduoti turto vertinimo organizavimas
D17: 3 | E17: Savivaldybės nuosavybės teise priklausančio turto pardavimo procedūrų vykdymas
B18: 007-01-01-04 (TP) | C18: Infrastruktūros objektų tvarkymo investicinių projektų, planų, paraiškų, kitos techninės dokumentacijos rengimas Europos Sąjungos ar kitų fondų paramai gauti | D18: 1 | E18: Projektinių pasiūlymų, paraiškų ir kitos dokumentacijos parengimo organizavimas ir kontrolė | F18: Strateginio planavimo ir investicijų skyrius | G18: SB | H18: 60 | I18: Parengtos dokumentacijos skaičius | J18: 15
B19: 007-01-02 (T) | C19: Užtikrinti inžinerinio aprūpinimo (vandentiekio, nuotekų tinklų ir kt.) sistemų atnaujinimą ir plėtrą | H19: =SUM(H20:H26) -> 727.7
B20: 007-01-02-01 (PP) | C20: Projekto "Vandentiekio ir buitinių nuotekų infrastruktūros rekonstrukcija ir plėtra Šėtos miestelyje, Kunionių kaime bei Kėdainių mieste" įgyvendinimas | D20: 1 | E20: Projekto, kurį įgyvendina UAB "Kėdainių vandenys", kofinansavimo dalies užtikrinimas | F20: Apskaitos skyrius, Strateginio planavimo ir investicijų skyrius | G20: SK | H20: 138.7 | I20: Rekonstruojamų/naujai paklotų vandentiekio ir nuotekų tinklų, km (iš viso suminis) | J20: ~11
B21: 007-01-02-02 (TP) | C21: Vandentiekio, nuotekų tinklų įrengimas, rekonstrukcija, plėtra Kėdainių mieste | D21: 1 | E21: Rangos darbų Šilelio g. viešojo pirkimo organizavimas, rangos darbų koordinavimas, rangovo prisiimtų sutartinių įsipareigojimų vykdymo kontrolė | F21: Statybos skyrius | G21: SB | H21: 30 | I21: Paklota vandentiekio ir nuotekų tinklų, m | J21: ~300
