Workbook

Sheet 01šviet.
F1: PATVIRTINTA
F2: Kėdainių rajono savivaldybės administracijos direktoriaus
F3: 2024 m. kovo 8 d. įsakymu Nr.AD-1- 182
F4: (Kėdainių rajono savivaldybės administracijos direktoriaus
F5: 2024 m. gruodžio 27 d. įsakymo Nr.AD-1-1199 redakcija)
B7: KĖDAINIŲ RAJONO SAVIVALDYBĖS ADMINISTRACIJA
A9: 2024 METŲ VEIKLOS PLANAS
A10: Programos uždavinio, priemonės kodas ir požymis | B10: Uždavinio, priemonės pavadinimas | C10: Veiklos kodas | D10: Veiklos pavadinimas | E10: Atsakingas vykdytojas | F10: Finansavimo šaltinis | G10: 2024 m. asignavimai ir kitos lėšos | H10: Vertinimo kriterijai
H11: Pavadinimas | I11: Planas
A13: 01 Švietimas ir ugdymas
A14: 001-01-01 (T) | B14: Sudaryti prielaidas ugdymo kokybei gerinti, mažinti ugdymo kokybės skirtumus tarp mokyklų | G14: =SUM(G15:G19) -> 1792.1
A15: 001-01-01-03 (PP) | B15: "Tūkstantmečio mokyklos I" projekto įgyvendinimas | C15: 1 | D15: Projekte dalyvaujančių mokyklų vykdomų veiklų koordinavimas, informacijos apie įgyvendinamas veiklas, mokėjimo prašymų kontroliuojančioms institucijoms teikimas | E15: Strateginio planavimo ir investicijų skyrius, Apskaitos skyrius | F15: SB | G15: 50 | H15: Programoje, dalyvaujančių įstaigų skaičius (tinklaveika) | I15: 16
F16: ES | G16: 1400
F17: SBVB | G17: 315
A18: 001-01-01-04 (TP) | B18: Centralizuoto vaikų priėmimo į savivaldybės švietimo įstaigų ikimokyklinio ir priešmokyklinio ugdymo grupes, bendrojo ugdymo klases, neformaliojo švietimo grupes bei įstaigų valdymo informacinės sistemos paslaugų diegimas | C18: 1 | D18: Sistemos paslaugų viešojo pirkimo organizavimas, techninės dokumentacijos rengimas sutarties koordinavimas, teikėjų prisiimtų sutartinių įsipareigojimų vykdymo kontrolė | E18: Švietimo, kultūros ir sporto skyrius, Bendrasis skyrius | F18: SB | G18: 18.1 | H18: Įdiegta sistema | I18: 1
A19: 001-01-01-05 (TP) | B19: "Pirmoko krepšelio" finansavimas | C19: 1 | D19: Priemonės koordinavimas | E19: Švietimo, kultūros ir sporto skyrius | F19: SB | G19: 9 | H19: Pirmoko krepšelį gaunančiųjų skaičius | I19: 440
A20: 001-01-02 (T, P) | B20: Užtikrinti neformaliojo ugdymo dermę | G20: =SUM(G21:G22) -> 78.8
A21: 001-01-02-02 (TP) | B21: Vykdyti neformaliojo vaikų švietimo programas | C21: 1 | D21: Priemonės koordinavimas | E21: Švietimo, kultūros ir sporto skyrius | F21: SBVB | G21: 8.8 | H21: Įgyvendinamų programų skaičius | I21: 66
A22: 001-01-02-04 (TP) | B22: Finansuoti vaikų vasaros stovyklų ir kitų neformaliojo vaikų švietimo veiklų programas | C22: 1 | D22: Programų konkurso organizavimas, konsultacijos, paraiškų ir sutarčių derinimas, veiklų stebėjimas, vertinimas, ataskaitų teikimas | E22: Švietimo, kultūros ir sporto skyrius | F22: SB | G22: 70 | H22: Finansuotų vaikų vasaros poilsio ir užimtumo programų skaičius | I22: 36
A23: 001-01-03 (T) | B23: Gerinti švietimo pagalbos teikimą, įgyvendinti kokybišką įvairių ugdymosi poreikių turinčių mokinių ugdymą taikant inovatyvius ugdymo(si) metodus ir būdus | G23: =SUM(G24:G31) -> 1036.8
A24: 001-01-03-02 (PP) | B24: Ugdymo prieinamumo didinimas atskirtį patiriantiems vaikams Kėdainių „Ryto“ ir Kėdainių senamiesčio progimnazijose | C24: 1 | D24: Projekto techninės dokumentacijos rengimo sutarčių koordinavimas, teikėjų prisiimtų sutartinių įsipareigojimų vykdymo kontrolė | E24: Statybos skyrius | F24: SB | G24: 0 | H24: Parengta techninė dokumentacija, vnt. / pateikta paraiška, vnt. | I24: 2/1
C25: 2 | D25: Projekto paraiškos teikimas ES finansavimui gauti | E25: Strateginio planavimo ir investicijų skyrius | F25: SK | G25: 50
F26: ES | G26: 0
A27: 001-01-03-03 (PP) | B27: Įvairialypio švietimo plėtojimas Kėdainių „Aušros“ progimnazijoje ir Vilainių mokykloje-darželyje „Obelėlė“, vykdant visos dienos mokyklos veiklą | C27: 1 | D27: Projekto paraiškos teikimas ES finansavimui gauti | E27: Strateginio planavimo ir investicijų skyrius | F27: SB | G27: 14.8 | H27: Mokinių, kurie naudosis sukurta visos dienos mokyklos infrastruktūra, skaičius | I27: <900
C28: 2 | D28: Projekto techninės dokumentacijos rengimo sutarčių koordinavimas, teikėjų prisiimtų sutartinių įsipareigojimų vykdymo kontrolė | E28: Statybos skyrius | F28: SK | G28: 120
F29: ES | G29: 697
A30: 001-01-03-04 (PP) | B30: Projekto„Užtikrinti visiems prieinamą ankstyvąjį ugdymą“ įgyvendinimas | C30: 1 | D30: Projekto koordinavimas ir administravimas | E30: Švietimo, kultūros ir sporto skyrius | F30: ES | G30: 138 | H30: Socialinę riziką patiriančiose šeimose gyvenančių nuo 3 metų iki privalomo ugdymo amžiaus vaikų, dalyvaujančių ikimokyklinio ugdymo programose, skaičius (skaičiuojama įgyvendinus projektą -2029 m.)
F31: SBVB | G31: 17
A32: 001-01-04 (T) | B32: Didinti pedagogų ir mokinių motyvaciją | G32: =SUM(G33:G35) -> 152.5
A33: 001-01-04-01 (TP) | B33: Mokytojų ir pagalbos mokiniui specialistų motyvacijos programos įgyvendinimas | C33: 1 | D33: Programos įgyvendinimo koordinavimas | E33: Švietimo, kultūros ir sporto skyrius | F33: SB | G33: 123 | H33: Dalykinių olimpiadų ir konkursų prizininkų skaičius, tenkantis 10 tūkst. mokinių (skaičius) | I33: 5.5
A34: 001-01-04-03 (TP) | B34: Gabių mokinių skatinimas | C34: 1 | D34: Mokyklose besimokančių gabių mokinių, per vienerius mokslo metus pasiekusių puikių mokymosi rezultatų, įvertinimo ir paskatinimo organizavimas | E34: Švietimo, kultūros ir sporto skyrius | F34: SB | G34: 26.5 | H34: Mokinių, kuriems skirti piniginiai prizai, skaičius | I34: 186
A35: 001-01-04-04 (TP) | B35: Metų mokytojo apdovanojimo teikimas | C35: 1 | D35: Savivaldybės mokytojų kompetencijų, veiklos rezultatų įvertinimo ir paskatinimo profesinei bei kūrybinei iniciatyvai organizavimas | E35: Švietimo, kultūros ir sporto skyrius | F35: SB | G35: 3 | H35: Įteiktų apdovanojimų skaičius | I35: 1
A36: 001-01-05 (T) | B36: Užtikrinti sveiką, saugią emocinę ir fizinę aplinką ugdymo įstaigose | G36: =SUM(G37:G40) -> 342.7
A37: 001-01-05-02 (TP) | B37: Priklausomybę sukeliančių medžiagų vartojimo mažinimo ir prevencijos programos priemonių įgyvendinimas | C37: 1 | D37: Plane 2024 m. numatytų priemonių įgyvendinimas, organizavimas, koordinavimas | E37: Vyr. specialistas (tarpinstitucinio bendradarbiavimo koordinatorius), Patarėja (sveikatos reikalų koordinatorė), Vyr. specialistas (jaunimo reikalų koordinatorius) | F37: SB | G37: 57.7 | H37: Įgyvendinamų priemonių skaičius | I37: 27
A38: 001-01-05-04 (TP) | B38: Saugių ugdymo sąlygų įstaigose, vykdančiose ugdymo programas, užtikrinimas | C38: 1 | D38: Priemonės įgyvendinimo koordinavimas | E38: Švietimo, kultūros ir sporto skyrius, Biudžeto ir finansų skyrius | F38: SB | G38: 150 | H38: Įstaigų skaičius, kuriose atlikti remonto darbai | I38: 11
A39: 001-01-05-05 (TP) | B39: Vaikų maitinimo ekologiškais ir pagal nacionalinę maisto kokybės sistemą pagamintais produktais Kėdainių lopšelyje-darželyje "Žilvitis" organizavimas (dalyvavimas projekte) | C39: 1 | D39: Priemonės įgyvendinimo koordinavimas | E39: Švietimo, kultūros ir sporto skyrius, Biudžeto ir finansų skyrius | F39: SB | G39: 35 | H39: Ekologiškai besimaitinančių vaikų skaičius | I39: ~200
A40: 001-01-05-06 (TP) | B40: Mokyklų, organizuojančių maitinimą savarankiškai, finansavimas | C40: 1 | D40: Priemonės įgyvendinimo koordinavimas | E40: Švietimo, kultūros ir sporto skyrius, Biudžeto ir finansų skyrius | F40: SB | G40: 100 | H40: Mokyklų, organizuojančių maitinimą savarankiškai, skaičius (bendras) | I40: 1
A41: 001-01-06 (T) | B41: Gerinti ugdymo (-si) infrastruktūrą, materialinę bazę, užtikrinti STEAM dalykų programų įgyvendinimą ir skaitmeninio ugdymo turinio plėtrą savivaldybės ugdymo įstaigose | G41: =SUM(G42:G55) -> 1736.7
A42: 001-01-06-01 (TP) | B42: Kėdainių šviesiosios gimnazijos pastato Kėdainiuose, Didžioji g. 60, įveiklinimas | C42: 1 | D42: Priemonės įgyvendinimo koordinavimas | E42: Administracijos direktorius, Švietimo, kultūros ir sporto skyrius, Biudžeto ir finansų skyrius | F42: SB | G42: 400 | H42: Atlikta einamaisiais metais numatytų darbų, proc. | I42: 100
A43: 001-01-06-02 (TP) | B43: Kėdainių lopšelio-darželio „Varpelis“ (Pavasario g. 8, Kėdainiai) pastato energinio efektyvumo didinimas, vidaus erdvių modernizavimas | C43: 1 | D43: Rangos darbų sutarties koordinavimas, teikėjo prisiimtų sutartinių įsipareigojimų vykdymo kontrolė | E43: Statybos skyrius, Strateginio planavimo ir investicijų skyrius | F43: SB | G43: 181.2 | H43: Pasiekta pastato energijos naudingumo klasė/atnaujintos vidaus erdvės pagal projektą, proc. | I43: B/100
F44: ES | G44: 167.3
A45: 001-01-06-03 (TP) | B45: Kėdainių lopšelio-darželio „Vyturėlis“ (Josvainių g. 53, Kėdainiai) pastato energinio efektyvumo didinimas, vidaus erdvių modernizavimas | C45: 1 | D45: Rangos darbų sutarties koordinavimas, teikėjo prisiimtų sutartinių įsipareigojimų vykdymo kontrolė | E45: Statybos skyrius, Strateginio planavimo ir investicijų skyrius | F45: SB | G45: 269.4 | H45: Pasiekta pastato energijos naudingumo klasė | I45: B/100
F46: ES | G46: 238.8
A47: 001-01-06-04 (TP) | B47: Kėdainių muzikos mokyklos pastato fasado, vidaus erdvių atnaujinimas | C47: 1 | D47: Rangos darbų viešojo pirkimo organizavimas, rangovo prisiimtų sutartinių įsipareigojimų vykdymo kontrolė | E47: Statybos skyrius | F47: SB | G47: 145 | H47: Atlikta numatytų darbų, proc. | I47: 100
A48: 001-01-06-05 (TP) | B48: Šėtos gimnazijos I aukšto patalpų bei gimnazijos aplinkos pritaikymas ikimokyklinio / priešmokyklinio ugdymo organizavimui | C48: 1 | D48: Priemonės įgyvendinimo koordinavimas | E48: Administracijos direktorius, Švietimo, kultūros ir sporto skyrius, Biudžeto ir finansų skyrius | F48: SB | G48: 30 | H48: Atlikta numatytų darbų, proc. | I48: 100
A49: 001-01-06-06 (TP) | B49: Vėdinimo ir kondicionavimo sistemų įrengimas savivaldybės ugdymo įstaigose | C49: 1 | D49: Priemonės įgyvendinimo koordinavimas | E49: Švietimo, kultūros ir sporto skyrius | F49: SB | G49: 30 | H49: Grupių, klasių ir egzaminų centrų skaičius, kuriose įrengta vėdinimo (kondicionavimo) sistema | I49: 25
A50: 001-01-06-07 (TP, PP) | B50: Švietimo paslaugų kokybės gerinimas, aprūpinant efektyviai veikiančias bendrojo ugdymo mokyklas laboratorine įranga ir priemonėmis | C50: 1 | D50: Priemonės įgyvendinimo koordinavimas | E50: Švietimo, kultūros ir sporto skyrius | F50: SB | G50: 50 | H50: Įstaigų skaičius, kuriose įrengtos laboratorijos | I50: 4
F51: ES | G51: 10 | H51: Įstaigų skaičius, kuriose dalyvaujančios projekte, aprūpinant laboratorine įranga ir priemonėmis | I51: 9
A52: 001-01-01-08 (TP, PP) | B52: Skaitmeninio ugdymo plėtra | C52: 1 | D52: Priemonės įgyvendinimo koordinavimas | E52: Švietimo, kultūros ir sporto skyrius | F52: SB | G52: 70 | H52: Įstaigų, plečiančių skaitmeninimą, skaičius | I52: 12
A53: 001-01-01-09 (TP) | B53: Bendrojo ir ikimokyklinio ugdymo įstaigų (skyrių) pastatų modernizavimo techninės dokumentacijos rengimas | C53: 1 | D53: Techninės dokumentacijos rengimo viešojo pirkimo organizavimas, tiekėjo prisiimtų sutartinių įsipareigojimų vykdymo kontrolė | E53: Statybos skyrius | F53: SB | G53: 40 | H53: Parengtos techninės dokumentacijos skaičius | I53: 1
A54: 001-01-01-10 (TP) | B54: Mokyklų aprūpinimo geltonaisias autobusais programa | C54: 1 | D54: Priemonės įgyvendinimo koordinavimas | E54: Švietimo, kultūros ir sporto skyrius | F54: SB | G54: 37 | H54: Įsigytų transporto priemonių skaičius | I54: 1
F55: SBVB | G55: 68
A56: IŠ VISO | G56: =+G41+G36+G32+G23+G20+G14 -> 5139.6
B58: 1. Savivaldybės biudžetas (įskaitant skolintas lėšas) | G58: =+G60+G61+G62+G63+G64+G65 -> 5139.6
B59: Iš jo:
B60: 1.1. savivaldybės biudžeto lėšos (nuosavos, be ankstesnių metų likučio) | F60: SB | G60: =+G53+G52+G50+G49+G48+G47+G45+G43+G42+G40+G39+G38+G37+G35+G34+G33+G27+G24+G22+G15+G18+G19+G54 -> 1909.7
B61: 1.2. Lietuvos Respublikos valstybės biudžeto dotacijos | F61: SBVB | G61: =+G21+G17+G55+G31 -> 408.8
B62: 1.3. Pajamų įmokos ir kitos pajamos | F62: ĮP
B63: 1.4. Europos Sąjungos ir kitos tarptautinės finansinės paramos lėšos | F63: ES | G63: =+G16+G26+G29+G44+G46+G51+G30 -> 2651.1
B64: 1.5. Skolintos lėšos | F64: SK | G64: =+G25+G28 -> 170
B65: 1.6. Ankstesnių metų likučiai | F65: SBL
B66: 2. Kiti šaltiniai (Europos Sąjungos finansinė parama projektams įgyvendinti ir kitos teisėtai gautos lėšos, nurodant atskirus šaltinius) | F66: KT
B67: IŠ VISO programai finansuoti pagal finansavimo šaltinius (1 ir 2 punktai) | G67: =+G66+G58 -> 5139.6
B68: Iš jų: regioninių pažangos priemonių lėšos

Sheet 02 sveikata
F1: PATVIRTINTA
F2: Kėdainių rajono savivaldybės administracijos direktoriaus
F3: 2024 m. kovo 8 d. įsakymu Nr.AD-1- 182
F4: (Kėdainių rajono savivaldybės administracijos direktoriaus
F5: 2024 m. gruodžio d. įsakymo Nr.AD-1- redakcija)
B7: Programos uždavinio, priemonės kodas ir požymis | C7: Uždavinio, priemonės pavadinimas | D7: Veiklos kodas | E7: Veiklos pavadinimas | F7: Atsakingas vykdytojas | G7: Finansavimo šaltinis | H7: 2024 m. asignavimai ir kitos lėšos | I7: Vertinimo kriterijai
I8: Pavadinimas | J8: Planas
B10: 02 Sveikatos apsauga
B11: 002-01-01 (T, P) | C11: Sudaryti sąlygas gyventojams stiprinti sveikatą, kurti ir plėtoti su sveikatos stiprinimu susijusias paslaugas | H11: =SUM(H12:H13) -> 139.1
B12: 002-01-01-01 (TP) | C12: Visuomenės sveikatos rėmimo specialiosios programos priemonių įgyvendinimas (AA) | D12: 1 | E12: Programos priemonių sveikatos projektų konkurso organizavimas, sutarčių su vykdytojais parengimas, priemonių įgyvendinimo koordinavimas ir kontrolė; užkrečiamųjų ligų plano priemonių vykdymo kontrolė | F12: Patarėja (sveikatos reikalų koordinatorė) | G12: SB | H12: 136.8 | I12: Visuomenės sveikatos rėmimo specialiosios programos įgyvendinimas, proc. | J12: 100
B13: 002-01-01-04 (TP) | C13: Neveiksniais pripažintų asmenų būklės peržiūrėjimas | D13: 1 | E13: Neveiksniais pripažintų asmenų būklės peržiūrėjimo organizavimas | F13: Socialinės paramos skyrius | G13: SBVB | H13: 2.3 | I13: Asmenų, kurių neveiksnumas peržiūrėtas, skaičius | J13: ~60
B14: 02-01-02 (T, P) | C14: Siekti gyventojų sveikatos išsaugojimo, gerinant sveikatos priežiūros paslaugų kokybę ir prieinamumą | H14: =SUM(H15:H31) -> 406.9
B15: 002-01-02-01 (TP) | C15: E. sveikatos informacinės sistemos palaikymo ir tobulinimo VšĮ Kėdainių PSPC 2024–2026 m. programa | D15: 1 | E15: Sutarčių su vykdytojais suderinimas, priemonių koordinavimas ir vykdymo kontrolė | F15: Patarėja (sveikatos reikalų koordinatorė) | G15: SB | H15: 10 | I15: Atnaujintos ir E. sveikatos IS funkcionalumui pritaikytos įrangos kompl. skaičius | J15: 2
B16: 002-01-02-02 (TP) | C16: E. sveikatos informacinės sistemos palaikymo ir tobulinimo VšĮ Kėdainių ligoninė 2024–2026 m. programa | D16: 1 | E16: Sutarčių su vykdytojais suderinimas, priemonių koordinavimas ir vykdymo kontrolė | F16: Patarėja (sveikatos reikalų koordinatorė) | G16: SB | H16: 10 | I16: Palaikomų funkcionalumų skaičius | J16: 13
B17: 002-01-02-03 (TP) | C17: Kėdainių rajono tuberkuliozės prevencijos, ankstyvosios diagnostikos, gydymo ir kontrolės 2023–2027 m. programa | D17: 1 | E17: Sutarčių su vykdytojais suderinimas, priemonių koordinavimas ir vykdymo kontrolė | F17: Patarėja (sveikatos reikalų koordinatorė) | G17: SB | H17: 3 | I17: Atliktų tyrimų ir paslaugų skaičius per metus | J17: ~1600
B18: 002-01-02-04 (TP) | C18: Žemo slenksčio paslaugų kokybės užtikrinimo Kėdainių rajone 2023-2027 m. programa | D18: 1 | E18: Sutarčių su vykdytojais suderinimas, priemonių koordinavimas ir vykdymo kontrolė | F18: Patarėja (sveikatos reikalų koordinatorė) | G18: SB | H18: 7.8 | I18: Apsilankymai (kartais) žemo slenksčio paslaugų kabinetuose per metus | J18: ~2000
B19: 002-01-02-05 (TP) | C19: Pirminės asmens sveikatos priežiūros paslaugų prieinamumo ir kokybės užtikrinimo Kėdainių rajono kaimiškųjų vietovių gyventojams programą | D19: 1 | E19: Sutarčių su vykdytojais suderinimas, priemonių koordinavimas ir vykdymo kontrolė | F19: Patarėja (sveikatos reikalų koordinatorė) | G19: SB | H19: 80.4 | I19: Mobilaus medicinos punkto apsilankymų kaimiškųjų vietovių gyventojų namuose (slaugos, taip pat ir profilaktinio darbo) skaičius) | J19: ~6000
B20: 002-01-02-06 (TP) | C20: Ambulatorinės akušerinės ir ginekologinės pagalbos kokybės gerinimo Kėdainių rajono savivaldybės moterims 2019-2024 m. programa | D20: 1 | E20: Sutarčių su vykdytojais suderinimas, priemonių koordinavimas ir vykdymo kontrolė | F20: Patarėja (sveikatos reikalų koordinatorė) | G20: SB | H20: 3 | I20: Vidutinis atliktų ultragarsinių tyrimų skaičius per metus 1 gydytojui | J20: ~285
B21: 002-01-02-07 (TP) | C21: Endoskopinių paslaugų prieinamumo ir kokybės gerinimo Kėdainių rajono savivaldybėje 2020-2025 m. programa | D21: 1 | E21: Sutarčių su vykdytojais suderinimas, priemonių koordinavimas ir vykdymo kontrolė | F21: Patarėja (sveikatos reikalų koordinatorė) | G21: SB | H21: 21 | I21: Atliktų endoskopijų ir kolonoskopijų skaičius per metus | J21: ~1750
B22: 002-01-02-08 (TP) | C22: Mamografijos paslaugų tęstinumo, kokybės gerinimo Kėdainių rajono savivaldybėje 2020-2025 m. programa | D22: 1 | E22: Sutarčių su vykdytojais suderinimas, priemonių koordinavimas ir vykdymo kontrolė | F22: Patarėja (sveikatos reikalų koordinatorė) | G22: SB | H22: 19.1 | I22: Atliktų mamografijų ir vertinimo paslaugų skaičius per metus | J22: ~1800
B23: 002-01-02-09 (TP) | C23: Anestezijos paslaugų vaikams ir suaugusiesiems kokybės gerinimo Kėdainių rajono savivaldybėje 2022-2027 m. programa | D23: 1 | E23: Sutarčių su vykdytojais suderinimas, priemonių koordinavimas ir vykdymo kontrolė | F23: Patarėja (sveikatos reikalų koordinatorė) | G23: SB | H23: 25.3 | I23: Atliktų bendrųjų anestezijų skaičius per metus | J23: ~1482
B24: 002-01-02-10 (TP) | C24: Rentgeno paslaugų atnaujinimo, kokybės gerinimo Kėdainių rajono savivaldybėje 2022-2027 m. programa | D24: 1 | E24: Sutarčių su vykdytojais suderinimas, priemonių koordinavimas ir vykdymo kontrolė | F24: Patarėja (sveikatos reikalų koordinatorė) | G24: SB | H24: 28.3 | I24: Atliktų rentgenologinių tyrimų skaičius/trumpesnės registracijos rentgeno tyrimui eilės, dienomis | J24: ~10000/ 4 d.
B25: 002-01-02-11 (TP) | C25: Kompiuterinės tomografijos paslaugų kokybės gerinimo Kėdainių rajono savivaldybėje 2023-2030 m. programa | D25: 1 | E25: Sutarčių su vykdytojais suderinimas, priemonių koordinavimas ir vykdymo kontrolė | F25: Patarėja (sveikatos reikalų koordinatorė) | G25: SB | H25: 52.1 | I25: Atliktų tyrimų skaičius per metus | J25: ~3000
B26: 002-01-02-12 (TP) | C26: VšĮ Kėdainių ligoninės sterilizacinės modernizavimo 2023-2028 m. programa | D26: 1 | E26: Sutarčių su vykdytojais suderinimas, priemonių koordinavimas ir vykdymo kontrolė | F26: Patarėja (sveikatos reikalų koordinatorė) | G26: SB | H26: 31.4 | I26: Sutrumpėjusi sterilizavimo proceso trukmė | J26: ~45 min
B27: 002-01-02-13 (TP) | C27: Odontologijos paslaugų plėtros Kėdainių rajono savivaldybėje 2024-2027 m. programa | D27: 1 | E27: Sutarčių su vykdytojais suderinimas, priemonių koordinavimas ir vykdymo kontrolė | F27: Patarėja (sveikatos reikalų koordinatorė) | G27: SB | H27: 23.6 | I27: Suteiktų odontologinių paslaugų skaičius per metus | J27: ~400
B28: 002-01-02-14 (TP) | C28: Reabilitacijos prieinamumo didinimo Kėdainių rajono savivaldybėje 2024 m. programa | D28: 1 | E28: Sutarčių su vykdytojais suderinimas, priemonių koordinavimas ir vykdymo kontrolė | F28: Patarėja (sveikatos reikalų koordinatorė) | G28: SB | H28: 57 | I28: Suteikiamų fizioterapijos procedūrų skaičiaus padidėjimas, kartais / sumažėjusi laukiančiųjų eilė (savaitės) | J28: ~1,5/ ~2
B29: 002-01-02-15 (TP) | C29: Vaikų, turinčių autizmo spektro ir kitų raidos sutrikimų, sveikatos stiprinimas, galimybių siekti asmeninės pažangos, pilnaverčio socialinio dalyvavimo prielaidų užtikrinimas | D29: 1 | E29: Sutarčių su vykdytojais suderinimas, priemonių koordinavimas ir vykdymo kontrolė | F29: Patarėja (sveikatos reikalų koordinatorė) | G29: SB | H29: 15.1 | I29: Paslaugą gaunančių vaikų skaičius | J29: 15
B30: 002-01-02-16 (PP) | C30: Mobilių komandų aprūpinimas įranga Kėdainių rajono savivaldybėje | D30: 1 | E30: Projekto veiklų koordinavimas | F30: Patarėja (sveikatos reikalų koordinatorė), Strateginio planavimo ir investicijų skyrius | G30: ES | H30: 16.3 | I30: Mobilių komandų, aprūpintų įranga teikti paslaugas namuose, skaičius | J30: 1
G31: SBVB | H31: 3.5
B32: 02-01-03 (T) | C32: Pritraukti naujus bei išlaikyti esamus sveikatos priežiūros specialistus | H32: =SUM(H33:H35) -> 186
B33: 002-01-03-01 (TP) | C33: Sveikatos priežiūros specialistų skatinimo dirbti VšĮ Kėdainių PSPC 2023-2028 m. programa | D33: 1 | E33: Sutarčių su vykdytojais suderinimas, priemonių koordinavimas ir vykdymo kontrolė | F33: Patarėja (sveikatos reikalų koordinatorė) | G33: SB | H33: 98 | I33: Taikomų paskatų priemonių skaičius | J33: 4
B34: 002-01-03-02 (TP) | C34: Trūkstamos sveikatos priežiūros specialistų skatinimo dirbti VšĮ Kėdainių ligoninėje 2023-2026 m. programa | D34: 1 | E34: Sutarčių su vykdytojais suderinimas, priemonių koordinavimas ir vykdymo kontrolė | F34: Patarėja (sveikatos reikalų koordinatorė) | G34: SB | H34: 85 | I34: Taikomų paskatų priemonių skaičius | J34: 4
B35: 002-01-03-03 (TP) | C35: Metų medicinos darbuotojo apdovanojimas | D35: 1 | E35: Metų mediko konkurso organizavimas | F35: Patarėja (sveikatos reikalų koordinatorė) | G35: SB | H35: 3 | I35: Įteiktas Metų medicinos darbuotojo apdovanojimas | J35: 1
B36: 02-01-04 (T, P) | C36: Modernizuoti ir atnaujinti sveikatos priežiūros įstaigų infrastruktūrą sveikatos gerinimo poreikiams | H36: =SUM(H37:H43) -> 548.1
B37: 002-01-04-01 (TP) | C37: VšĮ Kėdainių PSPC Psichiatrijos dienos stacionaro paslaugų plėtra ir infrastruktūros pritaikymas specialiesiems neįgaliųjų poreikiams | D37: 1 | E37: Sutarčių su vykdytojais suderinimas, priemonių koordinavimas ir vykdymo kontrolė | F37: Patarėja (sveikatos reikalų koordinatorė) | G37: SB | H37: 35 | I37: Atlikti keltuvo įrengimo ir patalpų pritaikymo darbai, proc. | J37: 100
B38: 002-01-04-02 (TP) | C38: Kėdainių rajono kaimo gyventojų sveikatos gerinimo poreikių užtikrinimas, modernizuojant ir (ar) atnaujinant ambulatorijų infrastruktūrą | D38: 1 | E38: Sutarčių su vykdytojais suderinimas, priemonių koordinavimas ir vykdymo kontrolė | F38: Patarėja (sveikatos reikalų koordinatorė) | G38: SB | H38: 23 | I38: Ambulatorijų skaičius, kuriose pagerinta infrastruktūra | J38: 1
B39: 002-01-04-04 (TP) | C39: Tinkamų ir saugių darbo sąlygų užtikrinimo, įrengiant vėdinimo bei kondicionavimo sistemas VšĮ Kėdainių ligoninėje 2023-2028 m. programa | D39: 1 | E39: Sutarčių su vykdytojais suderinimas, priemonių koordinavimas ir vykdymo kontrolė | F39: Patarėja (sveikatos reikalų koordinatorė) | G39: SB | H39: 40 | I39: Patalpų, kuriose įrengta vėdinimo (kondicionavimo) sistema, skaičius | J39: 31
B40: 002-01-04-05 (TP) | C40: Tinkamų ir saugių darbo sąlygų užtikrinimo, įrengiant vėdinimo bei kondicionavimo sistemas VšĮ Kėdainių PSPC 2022-2026 m. programa | D40: 1 | E40: Sutarčių su vykdytojais suderinimas, priemonių koordinavimas ir vykdymo kontrolė | F40: Patarėja (sveikatos reikalų koordinatorė) | G40: SB | H40: 37.7 | I40: Patalpų, kuriose įrengta vėdinimo (kondicionavimo) sistema, skaičius | J40: 29
B41: 002-01-04-06 (PP) | C41: Sveikatos centro sudėtyje teikiamų sveikatos priežiūros paslaugų infrastruktūros modernizavimas Kėdainių rajono savivaldybėje | D41: 1 | E41: Projekto veiklų koordinavimas | F41: Patarėja (sveikatos reikalų koordinatorė), Strateginio planavimo ir investicijų skyrius | G41: ES | H41: 350.5 | I41: Pateikta paraiška, pasirašyta finansavimo sutartis | J41: 1
G42: SBVB | H42: 61.9
B43: 002-01-04-08 (TP) | C43: Įvertinti Kėdainių ligoninės ir Kėdainių PSPC rūsių patalpų būklę ir sudaryti jų tvarkymo bei pritaikymo dirbti ekstremaliomis sąlygomis planą | D43: 1 | E43: Priemonės koordinavimas | F43: Patarėja (sveikatos reikalų koordinatorė) | I43: Atliktas vertinimas, parengtas veiksmų planas | J43: 1
B45: IŠ VISO | H45: =+H36+H32+H14+H11 -> 1280.1
H46: =+H45-H47-H55 -> 0
C47: 1. Savivaldybės biudžetas (įskaitant skolintas lėšas) | H47: =SUM(H49:H54) -> 1280.1
C48: Iš jo:
C49: 1.1. savivaldybės biudžeto lėšos (nuosavos, be ankstesnių metų likučio) | G49: SB | H49: =+H40+H39+H38+H37+H35+H34+H33+H29+H28+H27+H26+H25+H24+H23+H22+H21+H20+H19+H18+H17+H16+H15+H12 -> 845.6
C50: 1.2. Lietuvos Respublikos valstybės biudžeto dotacijos | G50: SBVB | H50: =+H13+H42+H31 -> 67.7
C51: 1.3. Pajamų įmokos ir kitos pajamos | G51: ĮP
C52: 1.4. Europos Sąjungos ir kitos tarptautinės finansinės paramos lėšos | G52: ES | H52: =+H41+H30 -> 366.8
C53: 1.5. Skolintos lėšos | G53: SK
C54: 1.6. Ankstesnių metų likučiai | G54: SBL
C55: 2. Kiti šaltiniai (Europos Sąjungos finansinė parama projektams įgyvendinti ir kitos teisėtai gautos lėšos, nurodant atskirus šaltinius) | G55: KT
C56: IŠ VISO programai finansuoti pagal finansavimo šaltinius (1 ir 2 punktai) | H56: =+H55+H47 -> 1280.1
C57: Iš jų: regioninių pažangos priemonių lėšos

Sheet 03social.
G1: PATVIRTINTA
G2: Kėdainių rajono savivaldybės administracijos direktoriaus
G3: 2024 m. kovo 8 d. įsakymu Nr.AD-1- 182
G4: (Kėdainių rajono savivaldybės administracijos direktoriaus
G5: 2024 m. gruodžio d. įsakymo Nr.AD-1- redakcija)
B8: Programos uždavinio, priemonės kodas ir požymis | C8: Uždavinio, priemonės pavadinimas | D8: Veiklos kodas | E8: Veiklos pavadinimas | F8: Atsakingas vykdytojas | G8: Finansavimo šaltinis | H8: 2024 m. asignavimai ir kitos lėšos | I8: Vertinimo kriterijai
I9: Pavadinimas | J9: Planas
B11: 03 SOCIALINĖS APSAUGOS PLĖTOJIMAS
B12: 003-01-01 (T) | C12: Organizuoti Lietuvos Respublikos teisės aktuose numatytos paramos bei paslaugų asmenims ir šeimoms teikimą, skatinti socialinę integraciją | H12: =SUM(H13:H33) -> 4233.9
B13: 003-01-01-01 (TP) | C13: Socialinių išmokų bei kompensacijų (būsto šildymo išlaidų, išlaidų šaltam bei nuotekoms ir išlaidų karštam vandeniui), paramos mirties atveju teikimas ir administravimas | D13: 1 | E13: Koordinavimas, duomenų suvedimas į programą "Parama" | F13: Socialinės paramos skyrius | G13: SBVB | H13: 0 | I13: Asmenų, gaunančių socialinę pašalpą ir kompensacijas, skaičius | J13: ~10000
G14: SB | H14: 1352.2 | K14: =+H14+H40+H38+H41 -> 2000.2 | L14: 99.7
B15: 003-01-01-02 (TP) | C15: Išlaidų už įsigytus produktus, mokinio reikmenis finansavimas, socialinės paramos mokiniams administravimas | D15: 1 | E15: Koordinavimas, duomenų suvedimas į programą "Parama", informacijos teikimas švietimo įstaigų vadovams | F15: Socialinės paramos skyrius, Švietimo, kultūros ir sporto skyrius | G15: SBVB | H15: 996.3 | I15: Mokinių, gaunančių nemokamą maitinimą, skaičius | J15: ~2140
I16: Mokinių, gaunančių būtiniausius mokinio reikmenis, skaičius | J16: ~1320
B17: 003-01-01-03 (TP) | C17: Nemokamo socialiai remtinų vaikų maitinimo ikimokyklinėse įstaigose organizavimas | D17: 1 | E17: Informacijos rinkimas, ikimokyklinių įstaigų užmokesčio už vaikų išlaikymą analizė | F17: Švietimo, kultūros ir sporto skyrius | G17: SB | H17: 100 | I17: Vaikų, gaunančių nemokamą maitinimą, skaičius | J17: ~400
B18: 003-01-01-04 (TP) | C18: Nemokamo mokinių maitinimo kainos bendrojo ugdymo mokyklose kompensavimas | D18: 1 | E18: Koordinavimas, duomenų rinkimas, apmokėjimas maitinimo paslaugų teikėjams bei įstaigoms | F18: Socialinės paramos skyrius, Apskaitos skyrius | G18: SB | H18: 206.6 | I18: Mokinių, gaunančių nemokamą maitinimą, skaičius | J18: ~2140
B19: 003-01-01-05 (TP) | C19: Kelionės išlaidų už lengvatinį keleivių vežimą kompensavimas | D19: 1 | E19: Duomenų ir pateisinamųjų dokumentų iš vežėjų ir įstaigų rinkimas, sisteminimas, analizė ir teikimas Apskaitos bei Biudžeto ir finansų skyriams | F19: Statybos skyrius, Apskaitos skyrius | G19: SB | H19: 796.7 | I19: Finansavimo skyrimo plano vykdymas (proc.) | J19: 100
B20: 003-01-01-06 (TP) | C20: Lietuvos Respublikos 2024 metų piniginės socialinės paramos nepasiturintiems gyventojams įstatymo įgyvendinimo užtikrinimas | D20: 1 | E20: Priemonės koordinavimas | F20: Socialinės paramos skyrius | G20: SBVB | H20: 348.9 | I20: Funkcijos vykdymo užtikrinimas | J20: 100
B21: 003-01-01-07 (TP) | C21: Kompensacijų nepriklausomybės gynėjams mokėjimas | D21: 1 | E21: Priemonės koordinavimas | F21: Socialinės paramos skyrius, Apskaitos skyrius | G21: SBVB | H21: 7.3 | I21: Asmenų, gavusių kompensacijas, skaičius | J21: 13
B22: 003-01-01-10 (TP) | C22: Tikslinių kompensacijų teikimas | D22: 1 | E22: Priemonės koordinavimas | F22: Socialinės paramos skyrius, Apskaitos skyrius | G22: SBVB | H22: 0.2 | I22: Paramos pagal poreikį teikimas | J22: pagal poreikį
B23: 003-01-01-08 (TP) | C23: Būsto nuomos ar išperkamosios būsto nuomos mokesčių dalies kompensavimas | D23: 1 | E23: Asmenų konsultavimas, prašymų priėmimas, sąrašų sudarymas, duomenų vedimas į SPIS programą | F23: Socialinės paramos skyrius | G23: SBVB | H23: 7.7 | I23: Asmenų, gavusių būsto nuomos ar išperkamosios būsto nuomos mokesčių dalies kompensaciją, skaičius iš bendro asmenų, turinčių teisę į paramą būstui išsinuomoti ir įrašytų į sąrašus, skaičiaus, proc. | J23: 10
B24: 003-01-01-12 (TP) | C24: Išlaidų už būsto suteikimą užsieniečiams, pasitraukusiems iš Ukrainos dėl Rusijos Federacijos karinių veiksmų Ukrainoje finansavimas | D24: 1 | E24: Priemonės koordinavimas | F24: Socialinės paramos skyrius | G24: SBVB | H24: 31.3 | I24: Paramos pagal poreikį teikimas | J24: pagal poreikį
B25: 003-01-01-13 (TP) | C25: Savivaldybės patirtų išlaidų kompensavimas užsieniečiams, pasitraukusiems iš Ukrainos dėl Rusijos Federacijos karinių veiksmų Ukrainoje, priimti ir pagalbai jiems teikti įgyvendinant Lietuvos Respublikos piniginės socialinės paramos nepasiturintiems gyventojams įstatymą | D25: 1 | E25: Priemonės koordinavimas | F25: Socialinės paramos skyrius, Apskaitos skyrius | G25: SBVB | H25: 171 | I25: Funkcijos vykdymo užtikrinimas, proc | J25: 100
B26: 003-01-01-14 (TP) | C26: Vienkartinių išmokų teikimas įsikurti gyvenamojoje vietoje savivaldybės teritorijoje ir (ar) mėnesinių kompensacijų teikimas už kompensacijas vaiko ugdymo pagal ikimokyklinio ir priešmokyklinio ugdymo programą | D26: 1 | E26: Priemonės koordinavimas | F26: Socialinės paramos skyrius, Švietimo skyrius, Apskaitos skyrius | G26: SBVB | H26: 8.5 | I26: Paramos pagal poreikį teikimas | J26: pagal poreikį
B27: 003-01-01-15 (TP) | C27: Socialinės paramos teikimas mokiniams pagal Lietuvos Respublikos socialinės paramos mokiniams įstatymą užsieniečiams, pasitraukusiems iš Ukrainos dėl Rusijos federacijos karinių veiksmų Ukrainoje | D27: 1 | E27: Priemonės koordinavimas | F27: Socialinės paramos skyrius, Apskaitos skyrius | G27: SBVB | H27: 34.5 | I27: Funkcijos vykdymo užtikrinimas, proc | J27: 100
B28: 003-01-01-16 (TP) | C28: Paramos būstui išsinuomoti teikimas pagal Lietuvos Respublikos paramos būstui įsigyti ar išsinuomoti įstatymą užsieniečiams, pasitraukusiems iš Ukrainos dėl Rusijos federacijos karinių veiksmų Ukrainoje | D28: 1 | E28: Priemonės koordinavimas | F28: Socialinės paramos skyrius | G28: SBVB | H28: 4.1 | I28: Paramos pagal poreikį teikimas | J28: pagal poreikį
B29: 003-01-01-17 (TP) | C29: Išlaidų patirtų teikiant specialiąsias socialines paslaugas užsieniečiams, pasitraukusiems iš Ukrainos dėl Rusijos federacijos karinių veiksmų Ukrainoje, apmokėjimas | D29: 1 | E29: Priemonės koordinavimas | F29: Socialinės paramos skyrius | G29: SBVB | H29: 0.8 | I29: Funkcijos vykdymo užtikrinimas, proc | J29: 100
B30: 003-01-01-18 (TP) | C30: Projekto „Pabėgėlių iš Ukrainos priėmimas ir ankstyva integracija "įgyvendinimas | D30: 1 | E30: Projekto veiklų koordinavimas | F30: Vyr. specialistas (nevyriausybinių organizacijų koordinatorius), Socialinės paramos skyrius | G30: ES | H30: 10 | I30: Vykdomų integracijos veiklų / įgyvendinimo proc. | J30: 10/1
B31: 003-01-01-19 (TP) | C31: Užsieniečių, pasitraukusių iš Ukrainos dėl Rusijos Federacijos karinių veiksmų Ukrainoje, priėmimo išlaidoms kompensuoti | D31: 1 | E31: Priemonės koordinavimas | F31: Socialinės paramos skyrius, Apskaitos skyrius | G31: SBVB | H31: 0 | I31: Paramos pagal poreikį teikimas | J31: pagal poreikį
B32: 003-01-01-20 (TP) | C32: Laikino atokvėpio paslaugai teikti ir administruoti | D32: 1 | E32: Projekto veiklų koordinavimas | F32: Socialinės paramos skyrius | G32: SBVB | H32: 157.3 | I32: Funkcijos vykdymo užtikrinimas, proc. | J32: 100
B33: 003-01-01-21 (TP) | C33: Dotacija skirta išlaidoms, patirtoms mokant laidojimo pašalpą Lietuvos Respublikos socialinės paramos mirties atveju įstatymą užsieniečiams, pasitraukusiems iš Ukrainos dėl Rusijos federacijos karinių veiksmų Ukrainoje | D33: 1 | E33: Priemonės koordinavimas | F33: Socialinės paramos skyrius Apskaitos skyrius | G33: SBVB | H33: 0.5 | I33: Funkcijos vykdymo užtikrinimas, proc | J33: 100
B34: 003-01-02 (T) | C34: Gerinti socialinę aplinką ir didinti socialinės paramos įvairovę | H34: =SUM(H35:H38) -> 264.3
B35: 003-01-02-02 (TP) | C35: Kainų skirtumo gyventojams už šildymą kompensavimas | D35: 1 | E35: Apmokėjimų užtikrinimas paslaugų teikėjams | F35: Apskaitos skyrius | G35: SB | H35: 85 | I35: Kompensacijoms išmokėtų lėšų dalis, proc. | J35: 100
B36: 003-01-02-03 (TP) | C36: Karšto ir šalto vandens pardavimo kainos socialiai remtiniems asmenims kompensavimas | D36: 1 | E36: Koordinavimas, duomenų teikimas paslaugų teikėjams | F36: Socialinės paramos skyrius, Apskaitos skyrius | G36: SB | H36: 155 | I36: Kompensacijoms išmokėtų lėšų dalis, proc. | J36: 100
B37: 003-01-02-04 (TP) | C37: Vienkartinė išmoka gimus vaikui Lietuvos Respublikos teritorijoje ir gyvenančiam Kėdainių rajono savivaldybėje | D37: 1 | E37: Išmokų pervedimas | F37: Apskaitos skyrius | G37: SB | H37: 21.3 | I37: Asmenų, gaunančių kompensaciją, skaičius | J37: ~300
B38: 003-01-02-07 (TP) | C38: Teikti Metų socialinio darbuotojo apdovanojimą | D38: 1 | E38: Metų socialinio darbuotojo konkurso organizavimas | F38: Socialinės paramos skyrius | G38: SB | H38: 3 | I38: Įteiktas Metų socialinio darbuotojo apdovanojimas | J38: 1
B39: 003-01-03 (T, P) | C39: Užtikrinti ir gerinti socialines paslaugas, teikiamas institucijose, namuose ir bendruomenėje pagyvenusio ir senyvo amžiaus asmenims | H39: =SUM(H40:H51) -> 1613.4
B40: 003-01-03-01 (TP) | C40: Socialinės globos ir akredituotos socialinės priežiūros paslaugų teikiamo finansavimas ne savivaldybės pavaldumo ir nevyriausybinėse organizacijose, paslaugų įsigijimas | D40: 1 | E40: Apmokėjimas už suteiktas paslaugas ne savivaldybės pavaldumo globos įstaigoms | F40: Apskaitos skyrius, Socialinės paramos skyrius | G40: SB | H40: 640 | I40: Tiekėjų, teikiančių paslaugas, skaičius | J40: 20
B41: 003-01-03-02 (TP) | C41: Finansinės paramos šeimynos teikimas | D41: 1 | E41: Priemonės koordinavimas | F41: Socialinės paramos skyrius, Apskaitos skyrius | G41: SB | H41: 5 | I41: Paramą, gaunančių šeimynų skaičius | J41: 2
B42: 003-01-03-07 (TP) | C42: Savarankiško gyvenimo namų paslaugų asmenims su sutrikusiu intelektu teikimo programa | D42: 1 | E42: Sutarčių su vykdytojais suderinimas, priemonių koordinavimas ir vykdymo kontrolė | F42: Socialinės paramos skyrius | G42: SB | H42: 105 | I42: Paslaugas gavusių asmenų skaičius | J42: 21
B43: 003-01-03-08 (TP) | C43: Įgyvendinti savarankiško gyvenimo namų paslaugų senyvo amžiaus asmenims teikimo programą | D43: 1 | E43: Sutarčių su vykdytojais suderinimas, priemonių koordinavimas ir vykdymo kontrolė | F43: Socialinės paramos skyrius | G43: SB | H43: 15 | I43: Paslaugas gavusių asmenų skaičius | J43: 5
B44: 003-01-03-10 (TP) | C44: Socialinės reabilitacijos paslaugų neįgaliesiems bendruomenėje organizavimas | D44: 1 | E44: Projektų konkurso organizavimas, projektų koordinavimas, sutarčių vykdymo kontrolė | F44: Socialinės paramos skyrius | G44: SBVB | H44: 80.7 | I44: Neįgaliųjų, gavusių paslaugas, skaičius | J44: ~180
G45: SB | H45: 51.9
B46: 003-01-03-11 (TP) | C46: Socialinių dirbtuvių paslaugos organizavimas | D46: 1 | E46: Paslaugų gavėjų pavėžėjimo užtikrinimas | F46: Socialinės paramos skyrius | G46: SB | H46: 40.3 | I46: Paslaugų gavėjų skaičius | J46: 12
B47: 003-01-03-13 (TP) | C47: Socialinės globos asmenims su sunkia negalia teikimas | D47: 1 | E47: Koordinavimas, apmokėjimas už suteiktas paslaugas ne savivaldybės pavaldumo globos įstaigoms | F47: Socialinės paramos skyrius | G47: SBVB | H47: 573.1 | I47: Globojamų asmenų skaičius/globojamų asmenų, kuriems teikiamos paslaugos, procentas, palyginus su visais asmenimis, kuriems nustatytas paslaugos poreikis | J47: ~254/98
B48: 003-01-03-14 (TP) | C48: Asmeninės pagalbos teikimas ir administravimas | D48: 1 | E48: Asmenų konsultavimas, prašymų priėmimas, sprendimų dėl paslaugų skyrimo rengimas, lėšų poreikio apskaičiavimas ir lėšų pervedimas paslaugos teikėjui, finansinių ir dalykinių ataskaitų teikimas | F48: Socialinės paramos skyrius | G48: SBVB | H48: 44.9 | I48: Asmenų, gaunančių išmokas, skaičius, tūkst. | J48: 21
B49: 003-01-03-15 (TP) | C49: Asmenų su negalia koordinavimas | D49: 1 | E49: Asmenų su negalia klausimų koordinavimas teisės aktų nustatyta tvarka | F49: Socialinės paramos skyrius | G49: SBVB | H49: 24.4 | I49: Žmonių su negalia klausimų koordinavimo funkcijos vykdymas, proc. | J49: 100
B50: 003-01-03-16 (TP) | C50: Teikti atvėjo vadybininko paslaugą, asmenims turintiems intelekto ir (ar) psichikos negalią | D50: 1 | E50: Paslaugų, reikalingų asmenims, turintiems individualių ir kompleksinių poreikių, vertinimas, planuavimas, organizavimas ir koordinavimas | F50: Socialinės paramos skyrius | G50: ES | H50: 19 | I50: Asmenų, turinčių intelekto ir (ar) psichikos negalią, klausimų koordinavimo funkcijos vykdymas, proc. | J50: 100
B51: 003-01-03-17 (TP) | C51: Administruoti materialinio nepritekliaus mažinimo programą Lietuvoje | D51: 1 | E51: Programos administravimas | F51: Socialinės paramos skyrius, Apskaitos skyrius | G51: ES | H51: 14.1 | I51: Paramos gavėjų skaičius | J51: ~5200
B52: 003-01-04 (T) | C52: Užtikrinti ir gerinti stacionarias ir nestacionarias socialines paslaugas socialinę riziką patiriančioms šeimoms, asmenims ir vaikams | H52: =SUM(H53:H59) -> 385
B53: 003-01-04-04 (TP) | C53: Vaikų dienos centrų veiklos programų finansavimas | D53: 1 | E53: Sutarčių sudarymas, programų įgyvendinimo priežiūros organizavimas | F53: Socialinės paramos skyrius | G53: SB | H53: 118 | I53: Finansuotų vaikų dienos centrų skaičius/veiklose dalyvavusių vaikų, jaunuolių skaičius | J53: 9/180
G54: SBVB | H54: 161.5
B55: 003-01-04-05 (TP) | C55: Pagalbos į krizines situacijas patekusiems, smurtą artimoje aplinkoje patyrusiems asmenims ir jų šeimų nariams teikimas | D55: 1 | E55: Konkurso organizavimas, priemonių koordinavimas, sutarčių vykdymo kontrolė | F55: Socialinės paramos skyrius | G55: SB | H55: 19 | I55: Asmenų, kuriems suteikta psichologinė, konsultacinė pagalba, skaičius | J55: ~100
B56: 003-01-04-06 (TP) | C56: Pagalbos į krizines situacijas patekusiems, smurtą artimoje aplinkoje keliantiems asmenims ir jų šeimų nariams teikimas | D56: 1 | E56: Konkurso organizavimas, priemonių koordinavimas, sutarčių vykdymo kontrolė | F56: Socialinės paramos skyrius | G56: SB | H56: 11 | I56: Asmenų, kuriems suteikta psichologinė, konsultacinė pagalba, skaičius | J56: ~30
B57: 003-01-04-07 (TP) | C57: Laisvės atėmimo bausmę atlikusių asmenų integracijos į visuomenę užtikrinimas | D57: 1 | E57: Sutarčių su vykdytojais suderinimas, priemonių koordinavimas ir vykdymo kontrolė | F57: Socialinės paramos skyrius | G57: SB | H57: 10 | I57: Asmenų, kuriems suteikta pagalba, skaičius | J57: ~40
B58: 003-01-04-08 (TP) | C58: Socialiai pažeidžiamų asmenų, neturinčių gyvenamosios vietos, gyvybiškai svarbiausių poreikių užtikrinimas | D58: 1 | E58: Konkurso organizavimas, priemonių koordinavimas, sutarčių vykdymo kontrolė | F58: Socialinės paramos skyrius | G58: SB | H58: 12 | I58: Asmenų, kuriems suteikta pagalba, skaičius | J58: ~15
B59: 003-01-04-10 (TP) | C59: Kėdainių rajono savivaldybės užimtumo didinimo programos įgyvendinimas | D59: 1 | E59: Programos koordinavimas | F59: Socialinės paramos skyrius | G59: SBVB | H59: 53.5 | I59: Pasibaigus užimtumo didinimo programoms po 6 mėnesių dirbs arba vykdys savarankišką veiklą asmenų dalis iš užimtumo didinimo programų dalyvių skaičiaus (procentai) | J59: ~13
B60: 003-01-05 (T, P) | C60: Modernizuoti socialines paslaugas teikiančių įstaigų ir socialinio būsto infrastruktūrą, didinant gyventojų socialinę gerovę | H60: =SUM(H61:H66) -> 598.2
B61: 003-01-05-01 (TP) | C61: Socialinių būstų įsigijimas | D61: 1 | E61: Socialinės paskirties butų pirkimo organizavimas, sutarčių sudarymas, sutarčių vykdymo kontrolė | F61: Turto valdymo skyrius, Socialinės paramos skyrius | G61: SB | H61: 158.6 | I61: Įsigytų socialinės paskirties butų skaičius | J61: 5
B62: 003-01-05-03 (TP) | C62: Savivaldybės ir socialinio būsto remontas | D62: 1 | E62: Poreikio surinkimas, informacijos susisteminimas, komisijos darbo organizavimas, viešųjų pirkimų organizavimas, rangovo prisiimtų sutartinių įsipareigojimų vykdymo kontrolė | F62: Socialinės paramos skyrius, Statybos skyrius | G62: SB | H62: 200 | I62: Einamaisiais metais pagal poreikį atliktų remontų socialiniuose būstuose skaičius, proc. | J62: 100
B63: 003-01-05-04 (TP) | C63: Prisidėjimas prie Savivaldybei priklausančio būsto renovacijos savivaldybės biudžeto lėšomis | D63: 1 | E63: Apmokėjimo užtikrinimas pagal pateiktas paraiškas | F63: Apskaitos skyrius | G63: SB | H63: 16.7 | I63: Finansavimas pagal teikiamą poreikį | J63: 100
B64: 003-01-05-05 (TP) | C64: Viešosios aplinkos pritaikymas specialiųjų poreikių turintiems gyventojams | D64: 1 | E64: Poreikio surinkimas, viešųjų pirkimų organizavimas, rangovo prisiimtų sutartinių įsipareigojimų vykdymo kontrolė | F64: Socialinės paramos skyrius, Statybos skyrius | G64: SB | H64: 170 | I64: Objektų, pritaikytų neįgaliųjų poreikiams, skaičius | J64: 3
B65: 003-01-05-06 (TP) | C65: Būsto pritaikymo neįgaliesiems organizavimas ir dalinis kompensavimas | D65: 1 | E65: Poreikio identifikavimas, viešųjų pirkimų organizavimas, sutarties vykdymo koordinavimas | F65: Socialinės paramos skyrius | G65: SBVB | H65: 44.9 | I65: Pritaikytų būstų neįgaliesiems skaičius | J65: 5
B66: 003-01-05-09 (TP) | C66: Būsto įsigijimas nakvynės namų poreikiams | D66: 1 | E66: Pirkimo procedūrų organizavimas ir vykdymas | F66: Turto valdymo skyrius | G66: SB | H66: 8 | I66: Įsigytų būstų skaičius | J66: 1
B67: IŠ VISO | H67: =+H60+H52+H39+H34+H12 -> 7094.8
H68: =+H69-H67 -> 0
C69: 1. Savivaldybės biudžetas (įskaitant skolintas lėšas) | H69: =SUM(H71:H76) -> 7094.8
C70: Iš jo:
C71: 1.1. savivaldybės biudžeto lėšos (nuosavos, be ankstesnių metų likučio) | G71: SB | H71: =+H64+H63+H62+H61+H58+H57+H56+H55+H53+H46+H45+H43+H42+H41+H40+H38+H37+H36+H35+H19+H18+H17+H14+H66 -> 4300.3
C72: 1.2. Lietuvos Respublikos valstybės biudžeto dotacijos | G72: SBVB | H72: =+H13+H15+H21+H23+H44+H47+H48+H54+H59+H65+H49+H24+H26+H29+H28+H27+H25+H22+H31+H32+H20+H33 -> 2751.4
C73: 1.3. Pajamų įmokos ir kitos pajamos | G73: ĮP
C74: 1.4. Europos Sąjungos ir kitos tarptautinės finansinės paramos lėšos | G74: ES | H74: =+H30+H50+H51 -> 43.1
C75: 1.5. Skolintos lėšos | G75: SK
C76: 1.6. Ankstesnių metų likučiai | G76: SBL
C77: 2. Kiti šaltiniai (Europos Sąjungos finansinė parama projektams įgyvendinti ir kitos teisėtai gautos lėšos, nurodant atskirus šaltinius) | G77: KT
C78: IŠ VISO programai finansuoti pagal finansavimo šaltinius (1 ir 2 punktai) | H78: =+H77+H69 -> 7094.8
C79: Iš jų: regioninių pažangos priemonių lėšos

Sheet 04sport.
G1: PATVIRTINTA
G2: Kėdainių rajono savivaldybės administracijos direktoriaus
G3: 2024 m. kovo 8 d. įsakymu Nr.AD-1- 182
G4: (Kėdainių rajono savivaldybės administracijos direktoriaus
G5: 2024 m. gruodžio d. įsakymo Nr.AD-1- redakcija)
B8: Programos uždavinio, priemonės kodas ir požymis | C8: Uždavinio, priemonės pavadinimas | D8: Veiklos kodas | E8: Veiklos pavadinimas | F8: Atsakingas vykdytojas | G8: Finansavimo šaltinis | H8: 2024 m. asignavimai ir kitos lėšos | I8: Vertinimo kriterijai
I9: Pavadinimas | J9: Planas
B11: 04 SPORTO VEIKLOS PLĖTRA
B12: 004-01-01 (T) | C12: Skatinti gyventojų fizinį aktyvumą, vystyti įvairias gyventojų poreikius atitinkančias sporto šakas | H12: =SUM(H13:H16) -> 143.8
B13: 004-01-01-01 (TP) | C13: Neįgaliųjų ir senjorų fizinio aktyvumo skatinimas, sporto renginių ir sporto treniruočių stovyklų organizavimas | D13: 1 | E13: Sportinės veiklos organizavimas, koordinavimas | F13: Švietimo, kultūros ir sporto skyrius | G13: SB | H13: 12 | I13: Fizinio aktyvumo ir sporto renginių skaičius / senjorų sporto šakų skaičius / stovyklų skaičius | J13: 6/ 5
B14: 004-01-01-02 (TP) | C14: Rajoninių, respublikinių, tarptautinių visų amžiaus grupių aukšto meistriškumo sporto renginių ir aukšto meistriškumo sporto treniruočių stovyklų organizavimas | D14: 1 | E14: Sportinės veiklos organizavimas, koordinavimas | F14: Švietimo, kultūros ir sporto skyrius | G14: SB | H14: 61.5 | I14: Suorganizuotų rajoninių, respublikinių ir tarptautinių sporto renginių skaičius / stovyklų skaičius | J14: 18/5
B15: 004-01-01-03 (TP) | C15: Vaikų mokymo plaukti veiklos programa, dalyvaujant projekte „Mokėk plaukti ir saugiau elgtis vandenyje“ | D15: 1 | E15: Sutarčių su vykdytojais suderinimas, priemonių koordinavimas ir vykdymo kontrolė | F15: Švietimo, kultūros ir sporto skyrius | G15: SB | H15: 10.3 | I15: Programoje dalyvaujančių vaikų skaičius / plaukimo pamokų sk. | J15: 300/14
B16: 004-01-01-05 (TP) | C16: Sporto projektų finansavimas | D16: 1 | E16: Sporto projektų konkurso organizavimas, sutarčių su vykdytojais suderinimas, sutarčių vykdymo kontrolė | F16: Švietimo, kultūros ir sporto skyrius | G16: SB | H16: 60 | I16: Finansuojamų sporto projektų skaičius | J16: 20
B17: 004-01-02 (T) | C17: Finansuoti sporto veiklos programas, skatinti Kėdainių rajono sporto organizacijas, sporto komandas ir sportininkus | H17: =SUM(H18:H26) -> 704
B18: 004-01-02-01 (TP) | C18: Kėdainių krepšinio komandos „Nevėžis-Optibet“ klubinio krepšinio vystymo programa | D18: 1 | E18: Sutarčių su vykdytojais suderinimas, priemonių koordinavimas ir vykdymo kontrolė | F18: Švietimo, kultūros ir sporto skyrius | G18: SB | H18: 300 | I18: Iškovota vieta LKL / KMT turnyre /socialinių veiklų sk. / atviros treniruotės surengimas su komandos krepšininkais | J18: 7-10 /9-12 / 1/1
B19: 004-01-02-02 (TP) | C19: Futbolo komandos Kėdainių „Nevėžis“ klubinio futbolo vystymo programa | D19: 1 | E19: Sutarčių su vykdytojais suderinimas, priemonių koordinavimas ir vykdymo kontrolė | F19: Švietimo, kultūros ir sporto skyrius | G19: SB | H19: 144 | I19: Iškovota vieta LFF pirmosios lygos pirmenybėse / išugdytų kėdainiečių, atstovaujančių FK „Nevėžis“ suaugusiųjų komandoje sk. | J19: 3-8 / 6
B20: 004-01-02-03 (TP) | C20: Bokso sporto šakos vystymo programa | D20: 1 | E20: Sutarčių su vykdytojais suderinimas, priemonių koordinavimas ir vykdymo kontrolė | F20: Švietimo, kultūros ir sporto skyrius | G20: SB | H20: 25 | I20: Šalies bokso čempionatuose ir tarptautinėse bokso varžybose iškovotų medalių sk.//paruoštų boksininkų šalies bokso rinktinei sk. | J20: 10/2
B21: 004-01-02-04 (TP) | C21: Kėdainių rajono vaikų ir jaunimo futbolo plėtros programa | D21: 1 | E21: Sutarčių su vykdytojais suderinimas, priemonių koordinavimas ir vykdymo kontrolė | F21: Švietimo, kultūros ir sporto skyrius | G21: SB | H21: 170 | I21: Sportuojančių vaikų sk./ dalyvaujančių LFF vaikų pirmenybėse komandų sk./FK „Nevėžis“ vyrų komandos papildymas jaunais žaidėjais skaičius | J21: 280/7/6
B23: 004-01-02-05 (TP) | C23: Moterų futbolo komandos Kėdainių „Nevėžis“ programa | D23: 1 | E23: Sutarčių su vykdytojais suderinimas, priemonių koordinavimas ir vykdymo kontrolė | F23: Švietimo, kultūros ir sporto skyrius | G23: SB | H23: 20 | I23: Lietuvos moterų futbolo asociacijos I lygos pirmenybėse iškovota vieta / rungtynių sk. / komandai atstovaujančių kėdainiečių sk. | J23: 3-7 /10/8
B24: 004-01-02-06 (TP) | C24: Salės futbolo komandos „Kėdainiai United“ klubinio salės futbolo vystymo programa | D24: 1 | E24: Sutarčių su vykdytojais suderinimas, priemonių koordinavimas ir vykdymo kontrolė | F24: Švietimo, kultūros ir sporto skyrius | G24: SB | H24: 20 | I24: Iškovota vieta čempionate / kėdainiečių futbolininkų patekimas į Lietuvos rinktinės kandidatų sąrašą / kėdainiečių sk. komandoje | J24: 1-8 /1/14
B25: 004-01-02-07 (TP) | C25: Dziudo sporto šakos vystymo programa | D25: 1 | E25: Sutarčių su vykdytojais suderinimas, priemonių koordinavimas ir vykdymo kontrolė | F25: Švietimo, kultūros ir sporto skyrius | G25: SB | H25: 10 | I25: Čempionatų sk. pagal amžiaus gr. / dalyvautų Lietuvos ir tarptautinės Dziudo varžybų sk. / iškovotų medalių sk. / suorganizuotų turnyrų sk. | J25: 6/12/14/1
B26: 004-01-02-08 (TP) | C26: Aukšto meistriškumo sportininkų ir jų trenerių paskatinimas už sporto pasiekimus | D26: 1 | E26: Konkurso, apdovanojant aukšto meistriškumo sportininkus ir jų trenerius už sporto pasiekimus, organizavimas | F26: Švietimo, kultūros ir sporto skyrius | G26: SB | H26: 15 | I26: Apdovanotųjų skaičius | J26: 30
B27: 004-01-03 (T) | C27: Užtikrinti efektyvią Kėdainių sporto centro veiklą, vykdyti organizuojamus renginius, didinti sportinės veiklos žinomumą | H27: =SUM(H28:H29) -> 216.1
B28: 004-01-03-02 (TP) | C28: Kėdainių sporto centro bazių atnaujinimas | D28: 1 | E28: Priemonės koordinavimas | F28: Švietimo, kultūros ir sporto skyrius, Biudžeto ir finansų skyrius | G28: SB | H28: 100 | I28: Einamaisiais metais numatytų atlikti darbų, proc. | J28: 100
B29: 004-01-03-03 (TP) | C29: Kėdainių sporto centro saulės fotovoltinė elektrinė iš saulės elektrinių parko įsigijimas | D29: 1 | E29: Projekto, kurį įgyvendina Kėdainių sporto centras kofinansavimo dalies užtikrinimas | F29: Apskaitos skyrius | G29: SB | H29: 116.1 | I29: Įsigyta nutolusi fotovoltinė saulės elektrinė (kW) | J29: 300
B30: 004-01-04 (T) | C30: Atnaujinti ir (arba) plėsti sporto infrastruktūrą, sudarant sąlygas fizinio aktyvumo ugdymui | H30: =SUM(H31:H37) -> 479.2
B31: 004-01-04-01 (TP) | C31: Bendruomeninės fizinio aktyvumo infrastruktūros mieste ir rajone atnaujinimas ir (arba) plėtra | D31: 1 | E31: Poreikio išsiaiškinimas, bendradarbiavimas su Kėdainių miesto seniūnija, atnaujinimo darbų vykdymo kontrolė | F31: Švietimo, kultūros ir sporto skyrius | G31: SB | H31: 50 | I31: Atnaujintų/įrengtų vaikų sporto ir žaidimų aikštelių skaičius | J31: 3
B32: 004-01-04-02 (TP) | C32: Techninės dokumentacijos rengimas sporto infrastruktūrai prie ugdymo įstaigų atnaujinti | D32: 1 | E32: Techninės dokumentacijos viešojo pirkimo organizavimas, paslaugų teikėjo prisiimtų sutartinių įsipareigojimų vykdymo kontrolė | F32: Statybos skyrius | G32: SB | H32: 20 | I32: Parengtos techninės dokumentacijos skaičius | J32: 1
B33: 004-01-04-03 ((TP) | C33: Kėdainių senamiesčio progimnazijos sporto aikštyno atnaujinimas | D33: 1 | E33: Rangos darbų koordinavimas, rangovo prisiimtų sutartinių įsipareigojimų vykdymo kontrolė | F33: Statybos skyrius | G33: SB | H33: 235 | I33: Atnaujintų objektų skaičius | J33: 1
B34: 004-01-04-04 (TP) | C34: Krakių Mikalojaus Katkaus gimnazijos sporto aikštyno atnaujinimas | D34: 1 | E34: Paraiškos teikimas fiannsavimui gauti | F34: Strateginio planavimo ir investicijų skyrius | G34: SBVB | H34: 106.8 | I34: Atnaujinamų objektų skaičius | J34: 1
D35: 2 | E35: Rangos darbų viešojo pirkimo vykdymas, rangos darbų koordinavimas, rangovo prisiimtų sutartinių įsipareigojimų vykdymo kontrolė | F35: Statybos skyrius | G35: SB | H35: 60.1
B36: 004-01-04-05 (TP) | C36: LSU Kėdainių Aušros“ progimnazijos plaukimo ir Kėdainių sporto centro Vilainių rekreacijos ir sporto pramogų komplekso baseinų renovacijos/plėtros galimybių studijos parengimas | D36: 1 | E36: Paslaugų teikėjo, rengiant galimybių studiją, sutartinių įsipareigojimų vykdymo kontrolė | F36: Strateginio planavimo ir investicijų skyrius | G36: SB | H36: 7.3 | I36: Parengtos techninės dokumentacijos skaičius | J36: 1
B37: 004-01-04-06 (TP) | C37: Sporto infrastruktūros prie ugdymo įstaigų atnaujinimas | G37: ES/ SBVB
B38: IŠ VISO | H38: =+H30+H27+H17+H12 -> 1543.1
H39: =+H38-H40 -> 0
C40: 1. Savivaldybės biudžetas (įskaitant skolintas lėšas) | H40: =SUM(H42:H47) -> 1543.1
C41: Iš jo:
C42: 1.1. savivaldybės biudžeto lėšos (nuosavos, be ankstesnių metų likučio) | G42: SB | H42: =+H36+H33+H32+H31+H29+H28+H26+H25+H24+H23+H22+H21+H20+H19+H18+H16+H15+H14+H13+H35 -> 1436.3
C43: 1.2. Lietuvos Respublikos valstybės biudžeto dotacijos | G43: SBVB | H43: =+H34 -> 106.8
C44: 1.3. Pajamų įmokos ir kitos pajamos | G44: ĮP
C45: 1.4. Europos Sąjungos ir kitos tarptautinės finansinės paramos lėšos | G45: ES
C46: 1.5. Skolintos lėšos | G46: SK
C47: 1.6. Ankstesnių metų likučiai | G47: SBL
C48: 2. Kiti šaltiniai (Europos Sąjungos finansinė parama projektams įgyvendinti ir kitos teisėtai gautos lėšos, nurodant atskirus šaltinius) | G48: KT
C49: IŠ VISO programai finansuoti pagal finansavimo šaltinius (1 ir 2 punktai) | H49: =+H48+H40 -> 1543.1
C50: Iš jų: regioninių pažangos priemonių lėšos
C51: Asignavimų ir kitų lėšų pokytis, palyginti su ankstesnių metų patvirtintų asignavimų ir kitų lėšų planu

Sheet 05kultura
G1: PATVIRTINTA
G2: Kėdainių rajono savivaldybės administracijos direktoriaus
G3: 2024 m. kovo 8 d. įsakymu Nr.AD-1- 182
G4: (Kėdainių rajono savivaldybės administracijos direktoriaus
G5: 2024 m. gruodžio d. įsakymo Nr.AD-1- redakcija)
B8: Programos uždavinio, priemonės kodas ir požymis | C8: Uždavinio, priemonės pavadinimas | D8: Veiklos kodas | E8: Veiklos pavadinimas | F8: Atsakingas vykdytojas | G8: Finansavimo šaltinis | H8: 2024 m. asignavimai ir kitos lėšos | I8: Vertinimo kriterijai
I9: Pavadinimas | J9: Planas
B11: 05 KULTŪROS VEIKLOS PLĖTRA
B12: 005-01-02 (T) | C12: Sudaryti sąlygas dalyvauti kultūrinėje bei kūrybinėje veikloje, puoselėti etninę kultūrą, finansuoti kultūros renginius bei projektus | H12: =SUM(H13:H18) -> 250.6
B13: 005-01-02-01(TP) | C13: Rajono savivaldybės renginių, kultūrinių iniciatyvų finansavimas, etninės kultūros puoselėjimas | D13: 1 | E13: Rajoninių renginių, konkursų, dalyvavimo regioniniuose ir respublikiniuose renginiuose bei konkursuose koordinavimas ir finansavimas | F13: Švietimo, kultūros ir sporto skyrius | G13: SB | H13: 182.6 | I13: Suorganizuotų renginių skaičius | J13: ~40
B14: 005-01-02-02 (TP) | C14: Kultūrinių veiklos projektų finansavimas | D14: 1 | E14: Kultūros projektų konkurso organizavimas | F14: Švietimo, kultūros ir sporto skyrius | G14: SB | H14: 35 | I14: Finansuotų projektų skaičius | J14: 17
B15: 005-01-02-03 (TP) | C15: Krašto kultūros premijos teikimas | D15: 1 | E15: Kėdainių krašto kultūros premijos konkurso organizavimas | F15: Švietimo, kultūros ir sporto skyrius | G15: SB | H15: 3 | I15: Kultūros premijos laureatų skaičius | J15: 1
B16: 005-01-02-04 (TP) | C16: Česlavo Milošo premijos teikimas | D16: 1 | E16: Česlavo Milošo premijos konkurso organizavimas | F16: Švietimo, kultūros ir sporto skyrius | G16: SB | H16: 5 | I16: Kultūros premijos laureatų skaičius | J16: 1
B17: 005-01-02-05 (TP) | C17: Mėgėjų meno kolektyvų aprūpinimas tautiniais ir kitais koncertiniais kostiumais bei muzikos instrumentais | D17: 1 | E17: Dalyvavimas tautinių kostiumų ir instrumentų įsigijimo finansavimo konkurse | F17: Švietimo, kultūros ir sporto skyrius | G17: SB | H17: 15 | I17: Koncertinius kostiumų komplektus/instrumentus atsinaujinusių kolektyvų skaičius | J17: 8
B18: 005-01-02-06 (TP) | C18: Tarptautinių kultūros mainų plėtojimas | D18: 1 | E18: Tarptautinių kultūros mainų organizavimas | F18: Švietimo, kultūros ir sporto skyrius | G18: SB | H18: 10 | I18: Organizuotų tarptautinių mainų skaičius | J18: 3
B19: 005-01-03 (T) | C19: Vystyti jaunimui palankią aplinką bei infrastruktūrą, plėsti ir skatinti įvairias jaunimo veiklas ir užimtumą, formuojant jaunimo politiką Kėdainių rajone | H19: =SUM(H20:H25) -> 69
B20: 005-01-03-01 (TP) | C20: Jaunimo veiklos projektų finansavimas | D20: 1 | E20: Jaunimo veiklos projektų konkurso organizavimas | F20: Vyr. specialistė (jaunimo reikalų koordinatorė) | G20: SB | H20: 15 | I20: Finansuotų projektų skaičius | J20: 4
B21: 005-01-03-02 (TP) | C21: Programų, užtikrinančių jaunimo neformalaus ugdymo plėtrą finansavimas | D21: 1 | E21: Sutarčių sudarymas, programų įgyvendinimo priežiūros organizavimas, ataskaitų rinkimas | F21: Vyr. specialistė (jaunimo reikalų koordinatorė) | G21: SB | H21: 6 | I21: Suorganizuotų mokymų, susitikimų, renginių, forumų skaičius | J21: 10
B22: 005-01-03-03 (TP) | C22: Atviro jaunimo centro ir atvirųjų jaunimo erdvių veiklos projektų finansavimas | D22: 1 | E22: Atvirųjų jaunimo erdvių veiklos projektų konkurso organizavimas | F22: Vyr. specialistė (jaunimo reikalų koordinatorė) | G22: SB | H22: 17 | I22: Finansuotų projektų skaičius | J22: 5
B23: 005-01-03-04 (TP) | C23: Jaunimo savanorystės Kėdainių rajone plėtra ir jaunimo skatinimas užsiimti savanoriška veikla | D23: 1 | E23: Jaunimo savarankiškos veiklos plėtros konkurso organizavimas | F23: Vyr. specialistė (jaunimo reikalų koordinatorė) | G23: SB | H23: 4 | I23: Finansuotų projektų skaičius | J23: 1
B24: 005-01-03-05 (TP) | C24: Tarptautinės jaunimo dienos renginio organizavimas | D24: 1 | E24: Priemonės organizavimas ir koordinavimas | F24: Vyr. specialistė (jaunimo reikalų koordinatorė) | G24: SB | H24: 20 | I24: Suorganizuotų renginius skaičius | J24: 1
B25: 005-01-03-06 (TP) | C25: Jaunimo užimtumo vasarą ir integracijos į darbo rinką programos įgyvendinimas | D25: 1 | E25: Priemonės koordinavimas ir viešinimas | F25: Vyr. specialistė (jaunimo reikalų koordinatorė) | G25: SB | H25: 7 | I25: Pagal programą įdarbintų 14-18 m. jaunuolių skaičius | J25: 10
B26: 005-01-04 (T) | C26: Skatinti nevyriausybinių ir bendruomeninių organizacijų plėtrą Kėdainių rajone, didinti jų įtrauktį | H26: =SUM(H27:H33) -> 183.1
B27: 005-01-04-01 (TP) | C27: Nevyriausybinių organizacijų institucinio stiprinimo ir veiklos plėtojimo projektų finansavimas | D27: 1 | E27: Nevyriausybinių organizacijų veiklos projektų konkurso organizavimas | F27: Vyr. specialistė (nevyriausybinių organizacijų koordinatorė) | G27: SB | H27: 30 | I27: Finansuotų projektų skaičius | J27: 11
B28: 005-01-04-02 (TP) | C28: Bendruomeninių organizacijų veiklos projektų finansavimas | D28: 1 | E28: Rajono bendruomeninių organizacijų veiklos projektų konkurso organizavimas | F28: Vyr. specialistė (nevyriausybinių organizacijų koordinatorė) | G28: SB | H28: 26 | I28: Finansuotų bendruomeninių organizacijų skaičius | J28: 25
B29: 005-01-04-03 (TP) | C29: Kėdainių rajono vietos veiklos grupės teritorijos vietos plėtros 2015-2023 m. strategijos finansavimas | D29: 1 | E29: Sutarčių su strategijos vykdytoju ir projektų vykdytojais sudarymas | F29: Vyr. specialistė (nevyriausybinių organizacijų koordinatorė) | G29: SB | H29: 71.1 | I29: Finansuotų projektų skaičius | J29: 16
B30: 005-01-04-04 (TP) | C30: Kėdainių rajono vietos veiklos grupės 2023-2029 m. vietos plėtros strategijos finansavimas | D30: 1 | E30: Sutarties su vykdytoju suderinimas, sutarties vykdymo kontrolė | F30: Vyr. specialistė (nevyriausybinių organizacijų koordinatorė) | G30: SB | H30: 0 | I30: Finansuotų projektų skaičius | J30: 3
B31: 005-01-04-05 (TP) | C31: Vietos plėtros strategijos rengimo ir įgyvendinimo programa ir Kėdainių miesto vietos veiklos grupės vietos plėtros 2023-2029 metų strategijos finansavimas | D31: 1 | E31: Projekto, kurį įgyvendina Kėdainių miesto vietos veiklos grupės kofinansavimo dalies užtikrinimas | F31: Vyr. specialistė (nevyriausybinių organizacijų koordinatorė), Apskaitos skyrius | G31: SB | H31: 19 | I31: Parengta strategija / finansuotų projektų skaičius | J31: 1/0
B32: 005-01-04-06 (TP) | C32: Priemonės "Stiprinti bendruomeninę veiklą savivaldybėse" įgyvendinimas | D32: 1 | E32: Nevyriausybinių organizacijų ir bendruomeninės veiklos koordinavimas | F32: Vyr. specialistė (nevyriausybinių organizacijų koordinatorė) | G32: SBVB | H32: 31.6 | I32: Įgyvendinta projektų veiklų proc. | J32: 100
B33: 005-01-04-07 (TP) | C33: Rajono nevyriausybinių organizacijų veiklos stiprinimas | D33: 1 | E33: Nevyriausybinių organizacijų forumo ir tarptautinės savanorių dienos paminėjimo organizavimas | F33: Vyr. specialistė (nevyriausybinių organizacijų koordinatorė) | G33: SB | H33: 5.4 | I33: Paskatintų iniciatyvų bei suorganizuotų veiklų skaičius | J33: 3
B34: 005-01-05 (T) | C34: Gerinti kultūros paskirties viešąją infrastruktūrą, modernizuoti materialinę ir edukacinę aplinką | H34: =SUM(H35:H39) -> 1292
B35: 005-01-05-01 (TP) | C35: Kėdainių kultūros centro rekonstrukcija ir įrengimas | D35: 1 | E35: Rangos darbų koordinavimas, rangovo prisiimtų sutartinių įsipareigojimų vykdymo kontrolė | F35: Statybos skyrius | G35: SB | H35: 1164 | I35: Įgyvendinta einamaisiais metais numatomų atlikti projekto veiklų proc. | J35: 100
B36: 005-01-05-02 (TP) | C36: Akademijos kultūros centro remontas | D36: 1 | E36: Rangos darbų viešojo pirkimo organizavimas, rangos darbų koordinavimas, rangovo prisiimtų sutartinių įsipareigojimų vykdymo kontrolė | F36: Statybos skyrius | G36: SB | H36: 30 | I36: Atlikta einamaisiais metais numatytų darbų, proc. | J36: 100
B37: 005-01-05-34 (TP) | C37: Šėtos kultūros centro vidaus erdvių remontas (I a. 2 patalpos) | D37: 1 | E37: Priemonės koordinavimas | F37: Švietimo, kultūros ir sporto skyrius | G37: SB | H37: 18 | I37: Atlikta einamaisiais metais numatytų darbų, proc. | J37: 100
B38: 005-01-05-05 (TP) | C38: Krakių kultūros centro patalpų dalies pritaikymas kultūros reikmėms | D38: 1 | E38: Rangos darbų viešojo pirkimo organizavimas, rangos darbų koordinavimas, rangovo prisiimtų sutartinių įsipareigojimų vykdymo kontrolė | F38: Statybos skyrius | G38: SB | H38: 40 | I38: Parengta techninė dokumentacija / įveiklinta kultūros centro pastato dalis | J38: 1/0
B39: 005-01-05-06 (TP) | C39: Infrastruktūros Kėdainių miesto parke įrengimas | D39: 1 | E39: Priemonės koordinavimas | F39: Statybos skyrius | G39: SB | H39: 40 | I39: Parengta vizija/techninė dokumentacija/ pagerinta infrastruktūra infrastruktūra atlikėjams | J39: 1/1/0
B40: IŠ VISO | H40: =+H34+H26+H19+H12 -> 1794.7
H41: =+H40-H42 -> 0
C42: 1. Savivaldybės biudžetas (įskaitant skolintas lėšas) | H42: =SUM(H44:H49) -> 1794.7
C43: Iš jo:
C44: 1.1. savivaldybės biudžeto lėšos (nuosavos, be ankstesnių metų likučio) | G44: SB | H44: =+H39+H38+H37+H36+H35+H33+H31+H30+H29+H28+H27+H25+H24+H23+H22+H21+H20+H18+H17+H16+H15+H14+H13 -> 1763.1
C45: 1.2. Lietuvos Respublikos valstybės biudžeto dotacijos | G45: SBVB | H45: =+H32 -> 31.6
C46: 1.3. Pajamų įmokos ir kitos pajamos | G46: ĮP
C47: 1.4. Europos Sąjungos ir kitos tarptautinės finansinės paramos lėšos | G47: ES
C48: 1.5. Skolintos lėšos | G48: SK
C49: 1.6. Ankstesnių metų likučiai | G49: SBL
C50: 2. Kiti šaltiniai (Europos Sąjungos finansinė parama projektams įgyvendinti ir kitos teisėtai gautos lėšos, nurodant atskirus šaltinius) | G50: KT
C51: IŠ VISO programai finansuoti pagal finansavimo šaltinius (1 ir 2 punktai) | H51: =+H50+H42 -> 1794.7
C52: Iš jų: regioninių pažangos priemonių lėšos

Sheet 06 turizm
B3: Programos uždavinio, priemonės kodas ir požymis | C3: Uždavinio, priemonės pavadinimas | D3: Veiklos kodas | E3: Veiklos pavadinimas | F3: Atsakingas vykdytojas | G3: Finansavimo šaltinis | H3: 2024 m. asignavimai ir kitos lėšos | I3: Vertinimo kriterijai
I4: Pavadinimas | J4: Planas
B6: 06 KULTŪROS PAVELDO IŠSAUGOJIMAS, TURIZMO SKATINIMAS IR VYSTYMAS
B7: 006-01-01 (T) | C7: Užtikrinti efektyvią VšĮ Kėdainių turizmo ir verslo informacijos centro veiklą turizmo srityje | H7: =+H8 -> 108
B8: 006-01-01-01 (TP) | C8: VšĮ Kėdainių turizmo ir verslo informacijos centro turizmo veiklos programos finansavimas | D8: 1 | E8: Priemonės įgyvendinimo koordinavimas | F8: Administracijos direktorius | G8: SB | H8: 108 | I8: Kėdainių rajono savivaldybėje apsilankiusių turistų skaičius per metus (tūkst. asmenų/ per metus) (vertinami Kėdainių TVIC apsilankę turistai) | J8: 9.5
B9: 006-01-02 (T) | C9: Išsaugoti istorinį bei kultūros paveldą, didinti jo patrauklumą ir žinomumą | H9: =SUM(H10:H27) -> 347.9
B10: 006-01-02-01 (TP) | C10: Nekilnojamųjų kultūros vertybių vertinimo medžiagos, nekilnojamųjų kultūros paveldo objektų, vietovių individualius apsaugos reglamentų rengimas | D10: 1 | E10: Nekilnojamųjų kultūros vertybių vertinimo medžiagos parengimo organizavimas ir koordinavimas | F10: Architektūros ir urbanistikos skyrius | G10: SB | H10: 3 | I10: Parengtų kultūros paveldo objektų būklės patikrinimo aktų su fotofiksacija skaičius | J10: ~20
D11: 2 | E11: Individualių apsaugos reglamentų nekilnojamiesiems kultūros objektams, vietovėms rengimas
B12: 006-01-02-02 (TP) | C12: Kėdainių rajono savivaldybės bažnyčių rėmimo programos įgyvendinimas | D12: 1 | E12: Paraiškų teikimo organizavimas, vertinimas, veiklų įgyvendinimo koordinavimas | F12: Architektūros ir urbanistikos skyrius | G12: SB | H12: 50 | I12: Kulto pastatų, kuriems skirtas finansavimas tvarkybos darbams atlikti, skaičius | J12: 4
B13: 006-01-02-03 (TP) | C13: Lankytinų objektų, kultūros paveldo objektų ar objektų, esančių kultūros paveldo teritorijų prieigose tvarkybos dokumentacijos rengimas, objektų atnaujinimas, restauravimas mieste ir rajone | D13: 1 | E13: Gumbių koplytėlės tvarkybos darbų viešojo pirkimo organizavimas, paslaugų teikėjo prisiimtų sutartinių įsipareigojimų vykdymo kontrolė | F13: Architektūros ir urbanistikos skyrius | G13: SB | H13: 223.9 | I13: Tvarkomų objektų skaičius | J13: 8
D14: 2 | E14: Atminties skvero memorialo teritorijos sutvarkymo TP viešojo pirkimo organizavimas, tiekėjų prisiimtų sutartinių įsipareigojimų vykdymo kontrolė | F14: Architektūros ir urbanistikos skyrius
D15: 3 | E15: Miesto parko ženklinimo infrastruktūros atnaujinimo, viešojo pirkimo organizavimas, tiekėjų prisiimtų sutartinių įsipareigojimų vykdymo kontrolė | F15: Architektūros ir urbanistikos skyrius
D16: 4 | E16: Gudžiūnuose esančio partizano kapo tvarkybos darbų koordinavimas | F16: Architektūros ir urbanistikos skyrius
D17: 5 | E17: Miesto parko vartų atnaujinimo darbų koordinavimas, tiekėjų prisiimtų sutartinių įsipareigojimų vykdymo kontrolė | F17: Architektūros ir urbanistikos skyrius
D18: 6 | E18: Kauno g. ir Surviliškio kapinių prieigų ir kolumbariumų įrengimo techninės dokumentacijos parengimas | F18: Architektūros ir urbanistikos skyrius
D19: 7 | E19: Atminties skvero memorialo teritorijos sutvarkymas pagal paengtą TP | F19: Architektūros ir urbanistikos skyrius
D20: 8 | E20: Evangelikų reformatų bažnyčios balkonų sutvirtinimo vargonų įrengimui koordinavimas | F20: Architektūros ir urbanistikos skyrius
B21: 006-01-02-04 (TP) | C21: Kėdainių dvaro sodybos Minareto ir jo prieigų tvarkyba | D21: 1 | E21: Tvarkybos darbų viešojo pirkimo organizavimas, rangovo prisiimtų sutartinių įsipareigojimų vykdymo kontrolė | F21: Architektūros ir urbanistikos skyrius | G21: SB | H21: 20 | I21: Rengiama techninė dokumentai skaičius | J21: 1
B22: 006-01-02-05 (TP) | C22: Apytalaukio dvaro sodybos avarinės būklės likvidavimas, dvaro tvarkybos darbai | D22: 1 | E22: Paraiškos Kultūros infrastruktūros centrui teikimas, techninės dokumentacijos rengimo koordinavimus (paraiškos teigiamai įvertinimo atveju) | F22: Architektūros ir urbanistikos skyrius | G22: SB | H22: 0 | I22: Techninės dokumentacijos rengimas | J22: 1
B23: 006-01-02-06 (TP) | C23: Archeologiniai ir kiti tyrinėjimai kultūros paveldo teritorijose, paveldo objektams parengtų tvarkybos projektų ekspertizės vykdymas, sąmatų rengimas | D23: 1 | E23: Pagal poreikį | F23: Architektūros ir urbanistikos skyrius | G23: SB | H23: 3 | I23: Ekspertuotų projektų skaičius | J23: pagal poreikį
B24: 006-01-02-07 (TP) | C24: Kultūros paveldo objektų, esančių Kėdainių rajono savivaldybės teritorijoje, ir kultūros paveldo statinių, esančių Kėdainių senamiesčio dalyje, išsaugojimo darbų finansavimo programa | D24: 1 | E24: Paraiškų teikimo organizavimas, vertinimas, veiklų įgyvendinimo koordinavimas | F24: Architektūros ir urbanistikos skyrius | G24: SB | H24: 25 | I24: Tvarkomų kultūros paveldo objektų ar kultūros paveldo statinių skaičius | J24: 3
B25: 006-01-02-08 (TP) | C25: Nuorodų, kitų informacinių ženklų įrengimas į savivaldybės kultūros paveldo objektus | D25: 1 | E25: Informacinių lentelių / nuorodų įrengimo į paveldo objektus koordinavimas | F25: Architektūros ir urbanistikos skyrius | G25: SB | H25: 3 | I25: Einamaisiais metais atlikta numatyta darbų, proc. | J25: 100
B26: 006-01-02-10 (PP) | C26: Kėdainių evangelikų ir reformatų bažnyčios atnaujinimas | D26: 1 | E26: Techninės dokumentacijos vargonų montavimui rengimo koordinavimas, bendradarbiavimas su Kėdainių krašto muziejumi | F26: Architektūros ir urbanistikos skyrius | G26: SB | H26: 20 | I26: Planuotų atlikti darbų, proc. | J26: 100
B27: 006-01-02-12 (TP) | C27: Bakainių piliakalnio su priešpiliu ir papiliu bei priešpilio tvarkybos techninės dokumentacijos rengimas bei tvarkybos darbai | D27: 1 | E27: Paraiškos Kultūros infrastruktūros centrui teikimas, techninės dokumentacijos rengimo koordinavimus (paraiškos teigiamai įvertinimo atveju) | F27: Architektūros ir urbanistikos skyrius | G27: SB | H27: 0 | I27: Parengta projektinė dokumentacija | J27: 1
B28: 006-01-03 (T) | C28: Plėtoti, atnaujinti viešąją infrastruktūrą, atsižvelgiant į turizmo plėtros ir rekreacijos poreikius | H28: =SUM(H29:H30) -> 350
B29: 006-01-03-01 (TP) | C29: Akademijos parko tvarkyba | D29: 1 | E29: Parko tvarkybos viešojo pirkimo organizavimas, rangovo sutartinių įsipareigojimų vykdymo kontrolė | F29: Statybos ir turto skyrius | G29: SB | H29: 300 | I29: Atlikta einamaisiais metais numatytų darbų, proc. | J29: 100
B30: 006-01-03-05 (TP) | C30: Babėnų šilo miškotvarka ir pritaikymas patogiam poilsiui, laisvalaikiui | D30: 1 | E30: Šilo tvarkybos ir pritaikymo visuomenės poreikiams techninio projekto parengimo viešojo pirkimo organizavimas, paslaugų teikėjo prisiimtų sutartinių įsipareigojimų vykdymo kontrolė | F30: Statybos ir turto skyrius, Architektūros ir urbanistikos skyrius | G30: SB | H30: 50 | I30: Parengta pritaikymo dokumentacija | J30: 1
B31: IŠ VISO | H31: =+H28+H9+H7 -> 805.9
C33: 1. Savivaldybės biudžetas (įskaitant skolintas lėšas) | H33: =SUM(H35:H40) -> 805.9
C34: Iš jo:
C35: 1.1. savivaldybės biudžeto lėšos (nuosavos, be ankstesnių metų likučio) | G35: SB | H35: =+H30+H29+H27+H26+H25+H24+H23+H22+H21+H13+H12+H10+H8 -> 805.9
C36: 1.2. Lietuvos Respublikos valstybės biudžeto dotacijos | G36: SBVB
C37: 1.3. Pajamų įmokos ir kitos pajamos | G37: ĮP
C38: 1.4. Europos Sąjungos ir kitos tarptautinės finansinės paramos lėšos | G38: ES
C39: 1.5. Skolintos lėšos | G39: SK
C40: 1.6. Ankstesnių metų likučiai | G40: SBL
C41: 2. Kiti šaltiniai (Europos Sąjungos finansinė parama projektams įgyvendinti ir kitos teisėtai gautos lėšos, nurodant atskirus šaltinius) | G41: KT
C42: IŠ VISO programai finansuoti pagal finansavimo šaltinius (1 ir 2 punktai) | H42: =+H41+H33 -> 805.9
C43: Iš jų: regioninių pažangos priemonių lėšos

Sheet 07Infrastr.
G1: PATVIRTINTA
G2: Kėdainių rajono savivaldybės administracijos direktoriaus
G3: 2024 m. kovo 8 d. įsakymu Nr.AD-1- 182
G4: (Kėdainių rajono savivaldybės administracijos direktoriaus
G5: 2024 m. gruodžio d. įsakymo Nr.AD-1- redakcija)
B8: Programos uždavinio, priemonės kodas ir požymis | C8: Uždavinio, priemonės pavadinimas | D8: Veiklos kodas | E8: Veiklos pavadinimas | F8: Atsakingas vykdytojas | G8: Finansavimo šaltinis | H8: 2024 m. asignavimai ir kitos lėšos | I8: Vertinimo kriterijai
I9: Pavadinimas | J9: Planas
B11: 07 INFRASTRUKTŪROS OBJEKTŲ PRIEŽIŪRA IR PLĖTRA
B12: 007-01-01 (T) | C12: Teritorijų planavimo ir kitų dokumentų rengimas, atnaujinimas, sudarant sąlygas infrastruktūros plėtrai | H12: =SUM(H13:H18) -> 209
B13: 007-01-01-01 (TP) | C13: Dokumentų, padedančių užtikrinti darnią rajono savivaldybės teritorijų plėtrą rengimas | D13: 1 | E13: Specialiųjų, detaliųjų, geodezinių planų rengimo viešųjų pirkimų organizavimas, teikiamų paslaugų koordinavimas, paslaugų teikėjo prisiimtų sutartinių įsipareigojimų vykdymo kontrolė | F13: Architektūros ir urbanistikos skyrius | G13: SB | H13: 75 | I13: Laiku ir pagal teisės aktų reikalavimus parengtų teritorijų planavimo dokumentų dalis (proc.) | J13: 100
B14: 007-01-01-02 (TP) | C14: Senojo Upytės kelio specialiojo plano rengimas ("Isos slėnis") | D14: 1 | E14: Specialiojo plano rengimo koordinavimas, paslaugų teikėjo prisiimtų sutartinių įsipareigojimų vykdymo kontrolė | F14: Architektūros ir urbanistikos skyrius | G14: SB | H14: 24 | I14: Rengiamų specialiųjų planų skaičius | J14: 1
B15: 007-01-01-03 (TP) | C15: Turto inventorizavimas, teisinė registracija, dokumentų turto pardavimui rengimas | D15: 1 | E15: Savivaldybei nuosavybės teise priklausančio turto dokumentų rengimas, sisteminimas ir teikimas kadastriniams matavimams ir teisinei registracijai atlikti | F15: Turto valdymo skyrius | G15: SB | H15: 50 | I15: Inventorizuotų nekilnojamojo turto objektų skaičius (pagal poreikį) | J15: pagal poreikį
D16: 2 | E16: Savivaldybei nuosavybės teise priklausančio numatyto parduoti turto vertinimo organizavimas
D17: 3 | E17: Savivaldybės nuosavybės teise priklausančio turto pardavimo procedūrų vykdymas
B18: 007-01-01-04 (TP) | C18: Infrastruktūros objektų tvarkymo investicinių projektų, planų, paraiškų, kitos techninės dokumentacijos rengimas Europos Sąjungos ar kitų fondų paramai gauti | D18: 1 | E18: Projektinių pasiūlymų, paraiškų ir kitos dokumentacijos parengimo organizavimas ir kontrolė | F18: Strateginio planavimo ir investicijų skyrius | G18: SB | H18: 60 | I18: Parengtos dokumentacijos skaičius | J18: 15
B19: 007-01-02 (T) | C19: Užtikrinti inžinerinio aprūpinimo (vandentiekio, nuotekų tinklų ir kt.) sistemų atnaujinimą ir plėtrą | H19: =SUM(H20:H26) -> 727.7
B20: 007-01-02-01 (PP) | C20: Projekto "Vandentiekio ir buitinių nuotekų infrastruktūros rekonstrukcija ir plėtra Šėtos miestelyje, Kunionių kaime bei Kėdainių mieste" įgyvendinimas | D20: 1 | E20: Projekto, kurį įgyvendina UAB "Kėdainių vandenys", kofinansavimo dalies užtikrinimas | F20: Apskaitos skyrius, Strateginio planavimo ir investicijų skyrius | G20: SK | H20: 138.7 | I20: Rekonstruojamų/naujai paklotų vandentiekio ir nuotekų tinklų, km (iš viso suminis) | J20: ~11
B21: 007-01-02-02 (TP) | C21: Vandentiekio, nuotekų tinklų įrengimas, rekonstrukcija, plėtra Kėdainių mieste | D21: 1 | E21: Rangos darbų Šilelio g. viešojo pirkimo organizavimas, rangos darbų koordinavimas, rangovo prisiimtų sutartinių įsipareigojimų vykdymo kontrolė | F21: Statybos skyrius | G21: SB | H21: 30 | I21: Paklota vandentiekio ir nuotekų tinklų, m | J21: ~300
B22: 007-01-02-03 (TP) | C22: Biologinių nuotekų valymo įrenginių įrengimas | D22: 1 | E22: Priemonės įgyvendinimo koordinavimas | F22: Statybos skyrius | G22: SB | H22: 15 | I22: Įsigytų įrenginių skaičius | J22: 1
B23: 007-01-02-05 (TP) | C23: Vandentiekio ir nuotekų tinklų plėtra Angirių k. | D23: 1 | E23: Rangos darbų koordinavimas, rangovo prisiimtų sutartinių įsipareigojimų vykdymo kontrolė | F23: Statybos skyrius | G23: SB | H23: 360 | I23: Išplėsta vandentiekio ir nuotekų tinklų m | J23: ~500
B24: 007-01-02-06 (TP) | C24: Nuotekų tinklų įrengimas Josvainių mstl. Šaltinio g. | D24: 1 | E24: Rangos darbų viešojo pirkimo organizavimas, rangos darbų koordinavimas, rangovo prisiimtų sutartinių įsipareigojimų vykdymo kontrolė | F24: Statybos skyrius | G24: SB | H24: 71 | I24: Atlikta numatytų darbų, proc. | J24: 100
B25: 007-01-02-11 (TP) | C25: Remontuoti objektus pagal administracijos direktoriaus įsakymus | D25: 1 | E25: Priemonės įgyvendinimo koordinavimas | F25: Administracijos direktorius, Biudžeto ir finansų skyrius | G25: SB | H25: 83 | I25: Remontuotų objektų skaičius | J25: pagal poreikį
B26: 007-01-02-12 (TP) | C26: Likviduoti avarinius židinius | D26: 1 | E26: Priemonės įgyvendinimo koordinavimas | F26: Administracijos direktorius, Biudžeto ir finansų skyrius | G26: SB | H26: 30 | I26: Objektų skaičius, kuriuose likviduoti avariniai židiniai | J26: pagal poreikį
B27: 007-01-03 (T) | C27: Atnaujinti ir (arba) plėsti miesto ir rajono gatvių, kelių, viešųjų teritorijų apšvietimą, naudojant energiją taupančias priemones | H27: =SUM(H28:H29) -> 156.2
B28: 007-01-03-01 (TP) | C28: Kėdainių miesto bei rajono gatvių apšvietimo rekonstrukcija, įrengimas, modernizavimas | D28: 1 | E28: Viešųjų pirkimų organizavimas, rangos darbų vykdymo koordinavimas, rangovo prisiimtų sutartinių įsipareigojimų vykdymo kontrolė | F28: Statybos skyrius | G28: SB | H28: 105 | I28: Oro kabelinės linijos įrengimas, m / pakeistų atramų/šviestuvų skaičius | J28: 300/25/ 25
B29: 007-01-03-02 (TP) | C29: Radvilų g. apšvietimo ir ESO tinklų iškėlimo techninio projekto parengimas | D29: 1 | E29: Viešųjų pirkimų organizavimas, techninės dokumentacijos rengimo vykdymo koordinavimas, rangovo prisiimtų sutartinių įsipareigojimų vykdymo kontrolė | F29: Statybos skyrius | G29: SB | H29: 51.2 | I29: Parengta dokumentacija | J29: 1
B30: 007-01-04 (T) | C30: Gerinti susisiekimo infrastruktūrą, užtikrinant gyventojų darnų judumą bei mobilumą | H30: =SUM(H31:H39) -> 3599.5
B31: 007-01-04-01 (TP) | C31: Tvarkyti ir plėtoti miesto ir kaimiškųjų seniūnijų kelius bei gatves, atlikti kelių ir gatvių kokybės kontrolę, techninę priežiūrą, techninių projektų ekspertizę, diegti saugaus eismo ir darnaus judumo priemones (KPP) | D31: 1 | E31: Rangos darbų viešųjų pirkimų organizavimas, rangos darbų koordinavimas, rangovo prisiimtų sutartinių įsipareigojimų vykdymo kontrolė, seniūnijų konsultavimas ir bendradarbiavimas | F31: Statybos skyrius | G31: SBVB | H31: 2695.7 | I31: Lėšų dalis, tenkanti rajono kaimiškųjų seniūnijų kelių ir gatvių tvarkymui, plėtojimui nuo bendros Kelių priežiūros ir plėtros programos lėšų, proc. | J31: ~60
B32: 007-01-04-02 (TP) | C32: Žvyro įsigijimo seniūnijų keliams prižiūrėti finansavimas | D32: 1 | E32: Priemonės įgyvendinimo koordinavimas, bendradarbiavimas su seniūnijomis | F32: Statybos skyrius, Biudžeto skyrius | G32: SB | H32: 230 | I32: Prižiūrimų žvyrkelių ilgis, km | J32: ~40
B33: 007-01-04-03 (TP) | C33: Dviračių takų infrastruktūros mieste ir rajone plėtra (AA, SB) | D33: 1 | E33: Pėsčiųjų ir dviračių tako (tarp J.Basanavičiaus g. ir Josvainių g.) rangos darbų viešųjų pirkimų organizavimas, rangos darbų koordinavimas, rangovo prisiimtų sutartinių įsipareigojimų vykdymo kontrolė | F33: Statybos skyrius | G33: SB | H33: 150 | I33: Įrengtos, pagerintos dviračiams skirtos infrastruktūros, m | J33: 100
G34: SB | H34: 42.3
B35: 007-01-04-04 (TP) | C35: Darnaus judumo mieste skatinimas | D35: 1 | E35: Rangos darbų viešųjų pirkimų organizavimas (pagal poreikį), rangos darbų koordinavimas, rangovo prisiimtų sutartinių įsipareigojimų vykdymo kontrolė | F35: Statybos skyrius, Strateginio planavimo ir investicijų skyrius | G35: SB | H35: 11.9 | I35: Parengtos techninės dokumentacijos skaičius/tvarkoma dviračių-pėsčiųjų takų atkarpų | J35: 1/1
D36: 2 | E36: Projekto veiklų koordinavimas | G36: ES | H36: 66.9
B37: 007-01-04-06 (TP) | C37: Biudžetinių įstaigų kiemų dangos atnaujinimas | D37: 1 | E37: Viešųjų pirkimų organizavimas, rangos darbų koordinavimas, rangovo prisiimtų sutartinių įsipareigojimų vykdymo kontrolė | F37: Statybos skyrius | G37: SB | H37: 85 | I37: Remontuotų biudžetinių įstaigų kiemų skaičius | J37: 2
B38: 007-01-04-07 (TP) | C38: Inžinerinių paslaugų, darbų ir įrenginių finansavimas | D38: 1 | E38: Inžinerinių tinklų perkėlimo darbų organizavimas, tvarkant miesto bei rajono gatves | F38: Statybos skyrius | G38: SB | H38: 207.7 | I38: Atlikta numatytų darbų, proc. | J38: 100
B39: 007-01-04-09 (TP) | C39: Išmokos pagal savivaldybės infrastruktūros plėtros sutartis (SĮP) | D39: 1 | E39: Priemonės koordinavimas | F39: Architektūros ir urbanistikos skyrius | G39: SB | H39: 110 | I39: Sudarytų sutarčių skaičius (pagal poreikį) | J39: pagal poreikį
B40: 007-01-05 (T) | C40: Vystyti gyvenamąją aplinką, užtikrinant viešosios infrastruktūros priežiūrą, atnaujinimą ir tinkamą naudojimą | H40: =SUM(H41:H45) -> 664.8
B41: 007-01-05-02 (TP) | C41: Viešųjų ir biudžetinių įstaigų stogų remontas | D41: 1 | E41: Rangos darbų viešųjų pirkimų organizavimas (pagal poreikį), rangos darbų koordinavimas, rangovo prisiimtų sutartinių įsipareigojimų vykdymo kontrolė | F41: Statybos skyrius | G41: SB | H41: 85 | I41: Pastatų, kurių stogai remontuoti, skaičius | J41: 5
B42: 007-01-05-03 (TP) | C42: Daugiabučių namų kiemų dangų atnaujinimas (KPP) | D42: 1 | E42: Rangos darbų viešųjų pirkimų organizavimas (pagal poreikį), rangos darbų koordinavimas, rangovo prisiimtų sutartinių įsipareigojimų vykdymo kontrolė | F42: Statybos skyrius | G42: SB | H42: 50 | I42: Atnaujintų teritorijų skaičius, m2 | J42: ~3500
G43: SBVB | H43: 150
B44: 007-01-05-04 (TP) | C44: Infrastruktūros plėtros techninės dokumentacijos rengimas ir infrastruktūros gerinimo darbai (SĮP) | D44: 1 | E44: Techninės dokumentacijos rengimo viešojo pirkimo organizavimas, tiekėjo prisiimtų sutartinių įsipareigojimų vykdymo kontrolė | F44: Architektūros ir urbanistikos skyrius | G44: SB | H44: 124 | I44: Parengtų techninių dokumentacijų skaičius | J44: 2
B45: 007-01-05-05 (TP) | C45: Europos Sąjungos projektų, kuriems taikomas apmokėjimas kompensavimo būdu, išlaidų apmokėjimas | D45: 1 | E45: Priemonės įgyvendinimo koordinavimas | F45: Apskaitos skyrius, Strateginio planavimo ir investicijų skyrius | G45: SB | H45: 255.8 | I45: Projektų, vykdomų apmokėjimo kompensavimo būdus, skaičius | J45: 3
B46: IŠ VISO | H46: =+H40+H30+H27+H19+H12 -> 5357.2
H47: =+H46-H48 -> 0
C48: 1. Savivaldybės biudžetas (įskaitant skolintas lėšas) | H48: =SUM(H50:H55) -> 5357.2
C49: Iš jo:
C50: 1.1. savivaldybės biudžeto lėšos (nuosavos, be ankstesnių metų likučio) | G50: SB | H50: =+H45+H44+H42+H41+H39+H38+H37+H33+H32+H29+H28+H26+H25+H24+H23+H22+H21+H18+H15+H14+H13+H34+H35 -> 2305.9
C51: 1.2. Lietuvos Respublikos valstybės biudžeto dotacijos | G51: SBVB | H51: =+H43+H31 -> 2845.7
C52: 1.3. Pajamų įmokos ir kitos pajamos | G52: ĮP
C53: 1.4. Europos Sąjungos ir kitos tarptautinės finansinės paramos lėšos | G53: ES | H53: =+H36 -> 66.9
C54: 1.5. Skolintos lėšos | G54: SK | H54: =+H20 -> 138.7
C55: 1.6. Ankstesnių metų likučiai | G55: SBL
C56: 2. Kiti šaltiniai (Europos Sąjungos finansinė parama projektams įgyvendinti ir kitos teisėtai gautos lėšos, nurodant atskirus šaltinius) | G56: KT
C57: IŠ VISO programai finansuoti pagal finansavimo šaltinius (1 ir 2 punktai) | H57: =+H56+H48 -> 5357.2
C58: Iš jų: regioninių pažangos priemonių lėšos

Sheet 08aplinkosauga
G1: PATVIRTINTA
G2: Kėdainių rajono savivaldybės administracijos direktoriaus
G3: 2024 m. kovo 8 d. įsakymu Nr.AD-1- 182
G4: (Kėdainių rajono savivaldybės administracijos direktoriaus
G5: 2024 m. gruodžio d. įsakymo Nr.AD-1- redakcija)
B7: Programos uždavinio, priemonės kodas ir požymis | C7: Uždavinio, priemonės pavadinimas | D7: Veiklos kodas | E7: Veiklos pavadinimas | F7: Atsakingas vykdytojas | G7: Finansavimo šaltinis | H7: 2024 m. asignavimai ir kitos lėšos | I7: Vertinimo kriterijai
I8: Pavadinimas | J8: Planas
B10: 08 APLINKOS APSAUGA
B11: 008-01-01 (T) | C11: Įgyvendinti Aplinkos apsaugos rėmimo specialiosios programos finansuojamas priemones | H11: =SUM(H12:H26) -> 494.4
B12: 008-01-01-01 (TP) | C12: Aplinkos kokybės gerinimas, atkūrimas ir apsauga, aplinkos priežiūros prevencinių priemonių vykdymas (AA) | D12: 1 | E12: Sosnovskio barščio naikinimo rajono seniūnijose koordinavimas | F12: Aplinkosaugos skyrius | G12: SB | H12: 105.8 | I12: Įgyvendinamų priemonių skaičius | J12: 7
D13: 2 | E13: Kraujupio upelio papildymo minimaliam debetui Nevėžio upės vandeniu užtikrinti
D14: 3 | E14: Nevėžio, Dotnuvėlės upių, kitų telkinių pakrančių valymo darbų koordinavimas
D15: 4 | E15: Saugomų teritorijų apsaugos ir tvarkymo darbų koordinavimas (Surviliškio sen.)
D16: 5 | E16: Jūrinių erelių perimviečių stebėjimo užtikrinimas
D17: 6 | E17: Atliekų, kuriomis užteršta teritorija, nustatymo ir atliekomis užterštos teritorijos išvalymo ir sutvarkymo darbų organizavimas (pagal poreikį)
D18: 7 | E18: Babėnų šilo priežiūros, apsaugos ir tvarkymo darbų koordinavimas Miesto seniūnijai vykdant darbus | G18: SBVB | H18: 0
B19: 008-01-01-02 (TP) | C19: Aplinkos monitoringas, aplinkos oro, dirvožemio, požeminio ir paviršinio vandens nuotekų tyrimai (AA) | D19: 1 | E19: 2019–2024 m. aplinkos monitoringo programos įgyvendinimas | F19: Aplinkosaugos skyrius | G19: SB | H19: 29.5 | I19: Tiriamų parametrų skaičius | J19: 5
D20: 2 | E20: Aplinkos oro, dirvožemio, požeminio ir paviršinio vandens nuotekų tyrimai
D21: 3 | E21: Aplinkos oro (KD) tyrimų organizavimas ir koordinavimas
B22: 008-01-01-03 (TP) | C22: Želdynų ir želdinių apsauga, tvarkymas, būklės stebėsena, želdynų kūrimas, veisimas ir inventorizavimas (AA) | D22: 1 | E22: Želdinių priežiūros, naujų želdinių įveisimo organizavimas ir koordinavimas, bendradarbiavimas su seniūnijomis | F22: Aplinkosaugos skyrius | G22: SB | H22: 91.1 | I22: Seniūnijų skaičius, kuriose įgyvendinamos želdynų ir želdinių apsaugos, tvarkymo, būklės stebėsenos, želdynų kūrimo, želdinių veisimo ir inventorizavimo priemonės | J22: 11
B23: 008-01-01-04 (TP) | C23: Visuomenės aplinkosauginis švietimas, gražiausiai tvarkomos aplinkos konkurso organizavimas (AA) | D23: 1 | E23: Aplinkosauginio švietimo organizavimas, konkurso Gražiausiai tvarkomos sodybos organizavimas, dalyvavimas vertinimo komisijos veikloje | F23: Aplinkosaugos skyrius | G23: SB | H23: 14.2 | I23: Surengtų akcijų, seminarų, viešinimo priemonių skaičius | J23: 7
B24: 008-01-01-05 (TP) | C24: Prevencinių priemonių, kuriomis siekiama išvengti medžiojamųjų gyvūnų daromos žalos miškui, įgyvendinimas (AA) | D24: 1 | E24: Medžioklės klausimų koordinavimas, dalyvavimas finansinės paramos medžiojamųjų gyvūnų daromos žalos prevencijos priemonėms įgyvendinti komisijoje | F24: Aplinkosaugos skyrius | G24: SB | H24: 62.3 | I24: Finansuotos medžiojamų gyvūnų daromos žalos prevencijos ir kitos priemonės (paraiškų sk.) | J24: 4
B25: 008-01-01-06 (TP) | C25: Krakių tvenkinių valymo darbų vykdymas (AA) | D25: 1 | E25: Rangos darbų viešųjų pirkimų organizavimas, rangos darbų koordinavimas, rangovo prisiimtų sutartinių įsipareigojimų vykdymo kontrolė | F25: Aplinkosaugos skyrius | G25: SB | H25: 142 | I25: Atliktų, einamaisiais metais numatytų darbų, proc. | J25: 100
B26: 008-01-01-07 (TP) | C26: Individualių nuotekų valymo įrenginių kompensavimas gyventojams (AA) | D26: 1 | E26: Priemonės koordinavimas ir viešinimas | F26: Aplinkosaugos skyrius | G26: SB | H26: 49.5 | I26: Besikreipiančiųjų ir patenkintų prašymus, proc. | J26: 100
B27: 008-01-02 (T) | C27: Tobulinti atliekų tvarkymo bei aplinkos išsaugojimo sistemą, prižiūrėti, tvarkyti viešąsias teritorijas, užtikrinti sveiką, estetišką aplinką | H27: =SUM(H28:H37) -> 2650.8
B28: 008-01-02-01 (TP) | C28: Atliekų tvarkymo sistemos organizavimas | D28: 1 | E28: Priemonės įgyvendinimo koordinavimas | F28: Bendrasis skyrius, Apskaitos skyrius | G28: SB | H28: 1794 | I28: Surinktų atliekų (bendras) kiekis, ~ tūkst. t. | J28: 14
B29: 008-01-02-03 (TP) | C29: Susidariusių atliekų tvarkymas, vartų mokesčio mokėjimas | D29: 1 | E29: Priemonės įgyvendinimo koordinavimas | F29: Bendrasis skyrius, Apskaitos skyrius | G29: SB | H29: =192+141 -> 333 | I29: Finansinių įsipareigojimų vykdymas, proc. | J29: 100
B30: 008-01-02-04 (TP) | C30: Suteiktų lengvatų už vietinę rinkliavą už komunalinių atliekų surinkimą kompensavimas | D30: 1 | E30: Priemonės įgyvendinimo koordinavimas | F30: Apskaitos skyrius | G30: SB | H30: 150 | I30: Suteiktų lengvatų, pagal priimtus tarybos sprendimus, proc. | J30: 100 | K30: =+H30+H31+H33+H35+H36+H37+H41+H40 -> 675.1
B31: 008-01-02-05 (TP) | C31: Konteinerių, kompostavimo dėžių įsigijimas | D31: 1 | E31: Paraiškos teikimas, priemonės koordinavimas dotacijai gavus | F31: Bendrasis skyrius, Apskaitos skyrius | G31: SB | H31: 242 | I31: Išdalintų kompostavimo dėžių, pastatytų konteinerių skaičius (pagal poreikį) | J31: 2000
G32: SB | H32: 0
B33: 008-01-02-06 (TP) | C33: Bešeimininkių padangų, automobilių detalių atliekų, tvarkymas | D33: 1 | E33: Paraiškos teikimas, priemonės koordinavimas dotacijai gavus | F33: Bendrasis skyrius, Apskaitos skyrius | G33: SB | H33: 37.2 | I33: Sutvarkyta naudotų padangų, t | J33: ~200
G34: SBVB | H34: 2.1
B35: 008-01-02-07 (TP) | C35: Namų ūkiuose susidariusių asbesto atliekų tvarkymas | D35: 1 | E35: Paraiškos teikimas, priemonės koordinavimas dotacijai gavus | F35: Bendrasis skyrius, Apskaitos skyrius | G35: SB | H35: 70 | I35: Sutvarkyta asbesto atliekų, t. | J35: ~100
B36: 008-01-02-09 (TP) | C36: Bešeimininkių ir bepriežiūrių gyvūnų surinkimas, gaudymas bei karantinavimas | D36: 1 | E36: Priemonės konkurso organizavimas, sutarties su vykdytoju suderinimas, kontrolė | F36: Aplinkosaugos skyrius | G36: SB | H36: 17.5 | I36: Surinktų beglobių gyvūnų skaičius | J36: 80
B37: 008-01-02-10 (TP) | C37: Gyvūnų globos organizacijų rengiamų bešeimininkių kačių kastravimo programų įgyvendinimo organizavimas | D37: 1 | E37: Priemonės konkurso organizavimas, sutarties su vykdytoju suderinimas, kontrolė | F37: Aplinkosaugos skyrius | G37: SB | H37: 5 | I37: Kastruotų bešeimininkių kačių skaičius | J37: 150
B38: 008-01-03 (T, P) | C38: Gerinti kraštovaizdžio apsaugą, didinti jo patrauklumą | H38: =SUM(H39:H43) -> 203.4
B39: 008-01-03-01 (TP) | C39: Apleistų (bešeimininkių ar savivaldybei nuosavybės teise priklausančių) pastatų ar kitų aplinką žalojančių objektų likvidavimas | D39: 1 | E39: Viešųjų pirkimų organizavimas, rangovo prisiimtų sutartinių įsipareigojimų vykdymo kontrolė | F39: Turto valdymo skyrius, Architektūros ir urbanistikos skyrius | G39: SB | H39: 50 | I39: Likviduotų objektų skaičius | J39: 3
B40: 008-01-03-02 (TP) | C40: Miesto gėlynų, gėlinių ir dekoratyvinių krūmų priežiūra ir apželdinimas | D40: 1 | E40: Priemonės įgyvendinimo organizavimas, koordinavimas | F40: Aplinkosaugos skyrius | G40: SB | H40: 133.4 | I40: Sudarytų sutarčių skaičius | J40: 1
B41: 008-01-03-03 (PP) | C41: Žaliosios infrastruktūros Kėdainių miesto urbanizuotoje aplinkoje plėtojimas | D41: 1 | E41: Priemonės įgyvendinimo organizavimas, koordinavimas | F41: Aplinkosaugos skyrius | G41: SB | H41: 20 | I41: Parengtos techninės dokumentacijos skaičius | J41: 1
B44: IŠ VISO | H44: =+H38+H27+H11 -> 3348.6
B45: iš jų: | H45: =+H44-H46-H54 -> 0
C46: 1. Savivaldybės biudžetas (įskaitant skolintas lėšas) | H46: =SUM(H48:H53) -> 3348.6
C47: Iš jo:
C48: 1.1. savivaldybės biudžeto lėšos (nuosavos, be ankstesnių metų likučio) | G48: SB | H48: =+H41+H40+H39+H37+H36+H35+H33+H32+H31+H30+H29+H28+H26+H25+H24+H23+H22+H19+H12 -> 3346.5
C49: 1.2. Lietuvos Respublikos valstybės biudžeto dotacijos | G49: SBVB | H49: =+H18+H34 -> 2.1
C50: 1.3. Pajamų įmokos ir kitos pajamos | G50: ĮP
C51: 1.4. Europos Sąjungos ir kitos tarptautinės finansinės paramos lėšos | G51: ES
C52: 1.5. Skolintos lėšos | G52: SK
C53: 1.6. Ankstesnių metų likučiai | G53: SBL
C54: 2. Kiti šaltiniai (Europos Sąjungos finansinė parama projektams įgyvendinti ir kitos teisėtai gautos lėšos, nurodant atskirus šaltinius) | G54: KT
C55: IŠ VISO programai finansuoti pagal finansavimo šaltinius (1 ir 2 punktai) | H55: =+H54+H46 -> 3348.6
C56: Iš jų: regioninių pažangos priemonių lėšos

Sheet 09ž.ū.
G1: PATVIRTINTA
G2: Kėdainių rajono savivaldybės administracijos direktoriaus
G3: 2024 m. kovo 8 d. įsakymu Nr.AD-1- 182
G4: (Kėdainių rajono savivaldybės administracijos direktoriaus
G5: 2024 m. gruodžio d. įsakymo Nr.AD-1- redakcija)
B8: Programos uždavinio, priemonės kodas ir požymis | C8: Uždavinio, priemonės pavadinimas | D8: Veiklos kodas | E8: Veiklos pavadinimas | F8: Atsakingas vykdytojas | G8: Finansavimo šaltinis | H8: 2024 m. asignavimai ir kitos lėšos | I8: Vertinimo kriterijai
I9: Pavadinimas | J9: Planas
B11: 09 ŽEMĖS ŪKIO PLĖTRA IR MELIORACIJA
B12: 009-01-01 (T) | C12: Sudaryti sąlygas tradicinio bei inovatyvaus žemės ūkio vystymui | H12: =+H13+H17+H22 -> 148.1
B13: 009-01-01-01 (TP) | C13: Valstybės perduotų savivaldybėms žemės ūkio funkcijų vykdymas, konsultuojant rajono asmenis ūkininkavimo, žemės ūkio technikos registravimo ir kitais su žemės ūkiu susijusiais klausimais | D13: 1 | E13: Žemės ūkio valdų skaičius (įregistravimas, išregistravimas, kasmetinis duomenų atnaujinimas) | F13: Žemės ūkio skyrius | G13: SBVB | H13: 145.1 | I13: Įregistruotų žemės ūkio valdų skaičius (įregistravimas, išregistravimas, kasmetinis duomenų atnaujinimas) | J13: 2660
D14: 2 | E14: Ūkininkų ūkių įregistravimas, išregistravimas, kasmetinis duomenų atnaujinimas | I14: Įregistruotų ūkininkų ūkių skaičius (įregistravimas, išregistravimas, duomenų atnaujinimas) | J14: 1700
D15: 3 | E15: Paramos už žemės ūkio naudmenas ir kitus plotus bei gyvulius paraiškos pildymas, deklaruojamų laukų įbraižymas, duomenų keitimas, pasikeitusių KŽS ribų aprašymas | I15: Paramos už žemės ūkio naudmenas ir kitus plotus bei gyvulius priimtų paraiškų skaičius (pasėlių deklaracijos pildymas, deklaruojamų laukų įbraižymas, duomenų keitimas, pasikeitusių KŽS ribų aprašymas) | J15: 2000
D16: 4 | E16: Pagal gautus prašymus pasėliams, miškui padarytos žalos įvertinimas vietoje ir apžiūros aktų surašymas, sprendimų priėmimas, atstovavimas teismuose | I16: Prašymų dėl medžiojamųjų gyvūnų padarytos žalos nustatymo skaičius (pasėliams, miškui padarytos žalos įvertinimas vietoje ir apžiūros aktų surašymas, sprendimų paruošimas) | J16: 30
D17: 5 | E17: Paraiškų priėmimas, įvertinimas, kompensuojamų sumų apskaičiavimas, duomenų suvedimas į ŽŪMIS ir KOTIS | I17: Pateiktų paraiškų dalies draudimo įmokų kompensacijai gauti skaičius (augalų draudimas nuo nepalankių oro sąlygų; paraiškų priėmimas, duomenų sutikrinimas, kompensuojamos sumos apskaičiavimas, duomenų suvedimas į ŽŪMIS ir KOTIS) | J17: 100
D18: 6 | E18: Paramos teikimo bičių laikytojams už papildomą bičių maitinimą administravimas | I18: Paraiškų už papildomą bičių maitinimą skaičius | J18: 125
D19: 7 | E19: Pieno pardavimo tiesiogiai vartoti deklaracijų ir kitų dokumentų administravimas | I19: Pieno gamybos ir realizavimo metinių deklaracijų skaičius | J19: 27
D20: 8 | E20: Žemės ūkio technikos įregistravimas, perregistravimas, išregistravimas, registracijos dokumentų išdavimas, duomenų suvedimas į registrą | I20: Aptarnaujamos žemės ūkio technikos, įregistruotos rajone, skaičius | J20: ~7000
D21: 9 | E21: Žemės ūkio technikos techninių apžiūrų atlikimas, duomenų suvedimas, talonų išdavimas | I21: Atliktų techninių apžiūrų skaičius | J21: ~1000
B22: 009-01-01-02 (TP) | C22: Metų žemdirbio bei Metų ūkio apdovanojimų teikimas | D22: 1 | E22: Tvarkos aprašo parengimas, konkurso, apdovanojant Metų žemdirbį, organizavimas | F22: Žemės ūkio skyrius | G22: SB | H22: 3 | I22: Surengtų konkursų skaičius | J22: 2
B23: 009-01-02 (T) | C23: Prižiūrėti ir plėtoti melioracijos ir hidrotechninių statinių infrastruktūrą | H23: =SUM(H24:H39) -> 1454.6
B24: 009-01-02-01 (TP) | C24: Valstybės perduotų savivaldybėm funkcijų vykdymas melioracijos srityje, rekonstruojant remontuojant ir (arba) atnaujinant valstybei nuosavybės teise priklausančią melioracijos, hidrotechnikos infrastruktūrą | D24: 1 | E24: Melioracijos statinių priežiūros ir remonto darbų viešųjų pirkimų organizavimas, darbų koordinavimas, rangovo prisiimtų sutartinių įsipareigojimų vykdymo kontrolė | F24: Žemės ūkio skyrius | G24: SBVB | H24: 360 | I24: Remontuojamų, prižiūrimų melioracijos griovių ilgis, km | J24: ~40
D25: 2 | E25: Priešprojektiniai tyrinėjimų techninės sąmatinės dokumentacijos sudarymo, ekspertizės viešųjų pirkimų organizavimas, paslaugų teikėjo prisiimtų sutartinių įsipareigojimų vykdymo kontrolė
D26: 3 | E26: Darbų techninė priežiūros koordinavimas, vykdymo kontrolė
B27: 009-01-02-02 (TP) | C27: Projektų rengimas ir gyvenviečių lietaus nuotekų-drenažų sistemų remontas | D27: 1 | E27: Remonto darbų viešųjų pirkimų organizavimas, rangos darbų koordinavimas, rangovo prisiimtų sutartinių įsipareigojimų vykdymo kontrolė | F27: Žemės ūkio skyrius | G27: SB | H27: 40 | I27: Gyvenviečių, kuriose atlikti drenažo remonto darbai, skaičius | J27: 10
B28: 009-01-02-03 (TP) | C28: Hidrotechninių įrenginių atnaujinimui reikalingos techninės dokumentacijos rengimas | D28: 1 | E28: Remonto darbų viešųjų pirkimų organizavimas, rangos darbų koordinavimas, rangovo prisiimtų sutartinių įsipareigojimų vykdymo kontrolė | F28: Žemės ūkio skyrius | G28: SB | H28: 44 | I28: Parengtų projektų skaičius/rekonstruojamų hidrotechnikos įrenginių skaičius | J28: 3
B29: 009-01-02-04 (TP) | C29: Kėdainių rajono Dotnuvos seniūnijos Kruostos upės Vaidatonių tvenkinio hidrotechnikos statinių rekonstrukcija ir techninės priežiūros vykdymas | D29: 1 | E29: Remonto darbų koordinavimas, rangovo prisiimtų sutartinių įsipareigojimų vykdymo kontrolė | F29: Žemės ūkio skyrius | G29: SK | H29: 255 | I29: Rekonstruotų hidrotechninių įrenginių skaičius | J29: 1
G30: ES | H30: 93.3
G31: SBVB | H31: 16.5
B32: 009-01-02-05 (TP) | C32: Nevėžio upės vientisumo atkūrimas, nugriaunant neeksploatuojamus hidroelektrinės statinius ir techninės priežiūros vykdymas | D32: 1 | E32: Remonto darbų koordinavimas, rangovo prisiimtų sutartinių įsipareigojimų vykdymo kontrolė | F32: Žemės ūkio skyrius | G32: SBVB | H32: 164.6 | I32: Likviduotų neeksploatuojamų statinių skaičius | J32: 1
B33: 009-01-02-06 (TP) | C33: Kėdainių rajono savivaldybės Krakių tvenkinių hidrotechnikos statinių remontas ir techninės priežiūros vykdymas | D33: 1 | E33: Rangos darbų, techninės priežiūros viešųjų pirkimų organizavimas, rangos darbų koordinavimas, rangovo prisiimtų sutartinių įsipareigojimų vykdymo kontrolė | F33: Žemės ūkio skyrius | G33: SB | H33: 169.8 | I33: Rekonstruotų hidrotechninių įrenginių skaičius | J33: 1
B34: 009-01-02-07 (TP) | C34: Kėdainių rajono Truskavos kadastrinės vietovės Linkuvės sausinimo sistemos melioracijos griovių ir juose esančių statinių rekonstrukcija | D34: 1 | E34: Remonto darbų viešųjų pirkimų organizavimas, rangos darbų koordinavimas, rangovo prisiimtų sutartinių įsipareigojimų vykdymo kontrolė | F34: Žemės ūkio skyrius | G34: SBVB | H34: 300 | I34: Rekonstruojamų griovių ilgis, km | J34: ~16
B35: 009-01-02-09 (TP) | C35: Dalyvavimas projekto „Dalies MSNA „Nikys“ nariams priklausančių ir valstybinių melioracijos statinių rekonstravimas“ įgyvendinime | D35: 1 | E35: Priemonės koordinavimas, užtikrinant projekto kofinansavimą | F35: Žemės ūkio skyrius, Apskaitos skyrius | G35: SB | H35: 3.8 | I35: Rekonstruotų rinktuvų, sausintuvų, griovių ilgis, km | J35: 5/6/1,5
B36: 009-01-02-10 (TP) | C36: Dalyvavimas projekto „MSNA „Balsių melioracija“ nariams priklausančių ir valstybinių melioracijos statinių rekonstravimas“ įgyvendinime | D36: 1 | E36: Priemonės koordinavimas, užtikrinant projekto kofinansavimą | F36: Žemės ūkio skyrius, Apskaitos skyrius | G36: SB | H36: 0 | I36: Rekonstruotų rinktuvų, sausintuvų, griovių ilgis, km | J36: 5/6/1,5
B37: 009-01-02-11 (TP) | C37: Dalyvavimas projekto „MSNA „Mantvilonių melioracija“ nariams priklausančių ir valstybinių melioracijos statinių rekonstravimas“ įgyvendinime | D37: 1 | E37: Priemonės koordinavimas, užtikrinant projekto kofinansavimą | F37: Žemės ūkio skyrius, Apskaitos skyrius | G37: SB | H37: 3.8 | I37: Rekonstruotų rinktuvų, sausintuvų, griovių ilgis, km | J37: 5/7/1,5
B38: 009-01-02-12 (TP) | C38: Dalyvavimas projekto „MSNA „Vilainių drenažas“ nariams priklausančių ir valstybinių melioracijos statinių rekonstravimas“ įgyvendinimui | D38: 1 | E38: Priemonės koordinavimas, užtikrinant projekto kofinansavimą | F38: Žemės ūkio skyrius, Apskaitos skyrius | G38: SB | H38: 3.8 | I38: Rekonstruotų rinktuvų, sausintuvų ilgis, km | J38: 6/10
A40: IŠ VISO | H40: =+H23+H12 -> 1602.7
H41: =+H40-H42 -> 0
C42: 1. Savivaldybės biudžetas (įskaitant skolintas lėšas) | H42: =SUM(H44:H49) -> 1602.7
C43: Iš jo:
C44: 1.1. savivaldybės biudžeto lėšos (nuosavos, be ankstesnių metų likučio) | G44: SB | H44: =+H39+H38+H37+H36+H35+H28+H27+H22+H17+H33 -> 268.2
C45: 1.2. Lietuvos Respublikos valstybės biudžeto dotacijos | G45: SBVB | H45: =+H34+H32+H31+H24+H13 -> 986.2
C46: 1.3. Pajamų įmokos ir kitos pajamos | G46: ĮP
C47: 1.4. Europos Sąjungos ir kitos tarptautinės finansinės paramos lėšos | G47: ES | H47: =+H30 -> 93.3
C48: 1.5. Skolintos lėšos | G48: SK | H48: =+H29 -> 255
C49: 1.6. Ankstesnių metų likučiai | G49: SBL
C50: 2. Kiti šaltiniai (Europos Sąjungos finansinė parama projektams įgyvendinti ir kitos teisėtai gautos lėšos, nurodant atskirus šaltinius) | G50: KT
C51: IŠ VISO programai finansuoti pagal finansavimo šaltinius (1 ir 2 punktai) | H51: =+H50+H42 -> 1602.7
C52: Iš jų: regioninių pažangos priemonių lėšos

Sheet 10verslas
G1: PATVIRTINTA
G2: Kėdainių rajono savivaldybės administracijos direktoriaus
G3: 2024 m. kovo 8 d. įsakymu Nr.AD-1- 182
G4: (Kėdainių rajono savivaldybės administracijos direktoriaus
G5: 2024 m. gruodžio d. įsakymo Nr.AD-1- redakcija)
B8: Programos uždavinio, priemonės kodas ir požymis | C8: Uždavinio, priemonės pavadinimas | D8: Veiklos kodas | E8: Veiklos pavadinimas | F8: Atsakingas vykdytojas | G8: Finansavimo šaltinis | H8: 2024 m. asignavimai ir kitos lėšos | I8: Vertinimo kriterijai
I9: Pavadinimas | J9: Planas
B11: 10 PARAMA VERSLUI IR VERSLO PLĖTRA
B12: 010-01-01 (T, P) | C12: Užtikrinti efektyvią VšĮ Kėdainių turizmo ir verslo informacijos centro veiklą verslo srityje, stiprinti savivaldybės institucijų ir verslo įmonių bendradarbiavimą | H12: =+H13+H14+H15+H16 -> 87
B13: 010-01-01-01 (TP) | C13: VšĮ Kėdainių turizmo ir verslo informacijos centro viešųjų paslaugų verslui programos finansavimas | D13: 1 | E13: Priemonės įgyvendinimo koordinavimas | F13: Administracijos direktorius | G13: SB | H13: 44 | I13: Suteiktų informacinių, konsultacinių paslaugų ūkio subjektams ir asmenims pagal paklausimus skaičius, vnt. | J13: ~500
B14: 010-01-01-02 (TP) | C14: Finansinės paramos teikimas verslą pradedantiems ar sunkumų patiriantiems SVV subjektams Kėdainių rajone per Savivaldybės smulkiojo verslo rėmimo fondą | D14: 1 | E14: Priemonės įgyvendinimo koordinavimas | F14: Administracijos direktorius | G14: SB | H14: 36 | I14: Subjektų, kuriems suteikta finansinė parama, skaičius | J14: 20
B15: 010-01-01-03 (PP) | C15: Dalyvavimas projekte "Inkubavimo, konsultavimo, mentorystės ir tinklaveikos programų vystymas, skatinant pradedančiųjų SVV subjektų kūrimąsi ir augimą regionuose" partnerio teisėmis | D15: 1 | E15: Projekto veiklų koordinavimas, partnerio kofinansavimo dalies užtikrinimas | F15: Strateginio planavimo ir investicijų skyrius | G15: SB | H15: 4 | I15: Dalyvaujančių verslo subjektų (mentorių) ir dalyvių skaičius | J15: 10
B16: 010-01-01-04 (TP) | C16: Verslumą skatinančių, gerąją verslo patirtį viešinančių renginių organizavimas | D16: 1 | E16: Priemonės įgyvendinimo koordinavimas | F16: Administracijos direktorius | G16: SB | H16: 3 | I16: Suorganizuotas verslininkų pagerbimo renginys ,,Verslo diena" ir nominuoti verslininkai pagal patvirtintus konkurso nuostatus | J16: 1
B17: 010-01-02 (T) | C17: Sudaryti palankias sąlygas sumanios pramonės ir logistikos srities verslų atsiradimui, plėtrai bei investicijų pritraukimui | H17: =+H18 -> 189.2
B18: 010-01-02-01 (PP) | C18: Projekto "Kėdainių miesto viešosios infrastruktūros, svarbios verslui, atnaujinimas ir plėtra "įgyvendinimas | D18: 1 | E18: Vandentvarkos tinklų bei elektros tinklų rekonstrukcijos Kėdainių LEZ teritorijoje techninės dokumentacijos viešojo pirkimo organizavimas, tiekėjo prisiimtų sutartinių įsipareigojimų vykdymo kontrolė | F18: Statybos skyrius, Strateginio panavimo ir investicijų skyrius | G18: SBVB | H18: 189.2 | I18: Parengtos techninės dokumentacijos skaičius | J18: 2
B19: 010-01-02-01 (TP) | C19: Patrauklių verslui žemės sklypų viešinimas | D19: 1 | E19: Viešinimas kedainiai.lt internetinėje svetainėje, savivaldybės informacijos lentoje | F19: Architektūros ir urbanistikos skyrius | G19: SB | H19: 0 | I19: Viešinimo užtikrinimas
B20: IŠ VISO | H20: =+H17+H12 -> 276.2
H21: =+H20-H22 -> 0
C22: 1. Savivaldybės biudžetas (įskaitant skolintas lėšas) | H22: =SUM(H24:H29) -> 276.2
C23: Iš jo:
C24: 1.1. savivaldybės biudžeto lėšos (nuosavos, be ankstesnių metų likučio) | G24: SB | H24: =+H16+H15+H13+H14 -> 87
C25: 1.2. Lietuvos Respublikos valstybės biudžeto dotacijos | G25: SBVB | H25: =+H18 -> 189.2
C26: 1.3. Pajamų įmokos ir kitos pajamos | G26: ĮP
C27: 1.4. Europos Sąjungos ir kitos tarptautinės finansinės paramos lėšos | G27: ES
C28: 1.5. Skolintos lėšos | G28: SK
C29: 1.6. Ankstesnių metų likučiai | G29: SBL
C30: 2. Kiti šaltiniai (Europos Sąjungos finansinė parama projektams įgyvendinti ir kitos teisėtai gautos lėšos, nurodant atskirus šaltinius) | G30: KT
C31: IŠ VISO programai finansuoti pagal finansavimo šaltinius (1 ir 2 punktai) | H31: =+H30+H22 -> 276.2
C32: Iš jų: regioninių pažangos priemonių lėšos

Sheet 11 valdymas
G1: PATVIRTINTA
G2: Kėdainių rajono savivaldybės administracijos direktoriaus
G3: 2024 m. kovo 8 d. įsakymu Nr.AD-1- 182
G4: (Kėdainių rajono savivaldybės administracijos direktoriaus
G5: 2024 m. gruodžio d. įsakymo Nr.AD-1- redakcija)
B7: Programos uždavinio, priemonės kodas ir požymis | C7: Uždavinio, priemonės pavadinimas | D7: Veiklos kodas | E7: Veiklos pavadinimas | F7: Atsakingas vykdytojas | G7: Finansavimo šaltinis | H7: 2024 m. asignavimai ir kitos lėšos | I7: Vertinimo kriterijai
I8: Pavadinimas | J8: Planas
B10: 11 SAVIVALDYBĖS VALDYMO TOBULINIMAS
B11: 011-01-01 (T) | C11: Sudaryti sąlygas kokybiškai įgyvendinti teisės aktuose nustatytas Savivaldybei funkcijas, mažinant administracinę naštą, įgyvendinant lygias galimybes užtikrinančias bei korupcijos prevencijos priemones | H11: =SUM(H12:H22) -> 5855.8
B12: 011-01-01-01 (TP) | C12: Savivaldybės tarybos, mero ir jo tarnybos veiklos užtikrinimas | D12: 1 | E12: Tarybos, mero ir jo tarnybos veiklos užtikrinimas pagal nustatytą LR vietos savivaldos įstatymą ir tarybos veiklos reglamentą | F12: Administracijos direktorius, Bendrasis skyrius, Apskaitos skyrius | G12: SB | H12: 640.8 | I12: Tarybos narių dalyvavimas rajono tarybos posėdžiuose, komitetuose, kolegijoje, komisijų veiklose | J12: ne mažiau 90 proc.
B13: 011-01-01-03 (TP) | C13: Savivaldybės administracijos veiklos užtikrinimas | D13: 1 | E13: Administracijos skyriams priskirtų funkcijų kokybiško vykdymo, administracinės naštos mažinimo priemonių vykdymo užtikrinimas | F13: Administracijos direktorius, Administracijos struktūriniai padaliniai (skyriai) ir darbuotojai, neįeinantys į struktūrinius padalinius | G13: ĮP | H13: 11.5 | I13: Pareigybių skaičius vykdantis savivaldybei priskirtas funkcijas | J13: 174.05
G14: SB | H14: 5157.9 | I14: Administracinių paslaugų aprašymų reguliarus peržiūrėjimas, koregavimas (pagal poreikį) | J14: pagal poreikį
B15: 011-01-01-04 (TP) | C15: Savivaldybės administracijos administracinės naštos mažinimo plano vykdymas | D15: 1 | E15: Priemonės įgyvendinimo koordinavimas | F15: Vyr. specialistė (jaunimo reikalų koordinatorė)
B16: 011-01-01-05 (TP) | C16: Savivaldybės korupcijos prevencijos veiksmų plano įgyvendinimas | D16: 1 | E16: Priemonės įgyvendinimo koordinavimas | F16: Administracijos direktorius, vyr. specialistė (už korupcijai atsparios aplinkos kūrimą atsakingas asmuo) | I16: Įgyvendinamų priemonių, pagal patvirtintą planą, skaičius, proc. | J16: 100
B17: 011-01-01-06 (TP) | C17: Lygių galimybių, moterų ir vyrų lygybės politikos įgyvendinimas bei asmens duomenų apsaugos užtikrinimas | D17: 1 | E17: Priemonės įgyvendinimo koordinavimas | F17: Administracijos direktorius, Teisės ir personalo skyrius | I17: Lygių galimybių veiksmų plano parengimas / Įgyvendinamų priemonių, pagal patvirtintą planą, skaičius, proc. | J17: 1/100
B18: 011-01-01-07 (TP) | C18: Diasporos politikos įgyvendinimas | D18: 1 | E18: Informacijos talpinimas kedainiai.lt internetinėje svetainėje | F18: Vyr. specialistė (jaunimo reikalų koordinatorė) | I18: Informacijos viešinimas savivaldybės svetainėje | J18: 1
B19: 011-01-01-08 (TP) | C19: Asmenų su negalia teisių apsaugos užtikrinimas | D19: 1 | E19: Asmens su negalia teisės apsaugos pareigybės steigimas, asmens su negalia gerovės tarybos steigimas | F19: Administracijos direktorius, Socialinės paramos skyrius | I19: Asmens su negalia gerovės tarybos steigimas / asmenų su negalia teisių apsaugos užtikrinimo priemonių įgyvendinimas | J19: 1/100
B20: 011-01-01-09 (TP) | C20: Kėdainių rajono savivaldybės administracijos kokybės vadybos sistemos priežiūra ir atnaujinimas | D20: 1 | E20: Kokybės vadybos sistemos administracinių paslaugų rodiklių priežiūra | F20: Bendrasis skyrius | I20: Kokybės vadybos sistemos administracinių paslaugų rodiklių pasiekimas | J20: 100
B21: 011-01-01-10 (TP) | C21: Savivaldybės žmogiškųjų išteklių kompetencijų stiprinimas | D21: 1 | E21: Kompetencijų stiprinimo organizavimas | F21: Teisės ir personalo skyrius | G21: SB | H21: 12 | I21: Darbuotojų, tobulinusių kompetencijas skaičius nuo bendrojo darbuotojų skaičiaus, proc. | J21: 70
B22: 011-01-01-12 (TP) | C22: Seniūnaičių veiklos organizavimas | D22: 1 | E22: Seniūnaičių veiklos užtikrinimas (darbo užmokesčio mokėjimas) | F22: Apskaitos skyrius | G22: SB | H22: 33.6 | I22: Išrinktų seniūnaičių skaičius | J22: 70
B23: 011-01-02 (T) | C23: Organizuoti ir užtikrinti kokybišką valstybės perduotų funkcijų įgyvendinimą | H23: =SUM(H24:H36) -> 237.4
B24: 011-01-02-01 (TP) | C24: Gyventojų registro tvarkymas ir duomenų valstybės registrui teikimas | D24: 1 | E24: Duomenų teikimas Registrų centrui | F24: Civilinės metrikacijos ir archyvo skyrius | G24: SBVB | H24: 0.8 | I24: Duomenų teikimo skaičius | J24: 1000
B25: 011-01-02-02 (TP) | C25: Savivaldybei priskirtų archyvinių dokumentų tvarkymas | D25: 1 | E25: Informacijos paieška, pažymų, išrašų išrašymas, kopijų darymas, dokumentų išdavimas, konsultavimas | F25: Civilinės metrikacijos ir archyvo skyrius | G25: SBVB | H25: 47.9 | I25: Išduotų pažymų skaičius | J25: 700
B26: 011-01-02-03 (TP) | C26: Civilinės būklės aktų registravimas | D26: 1 | E26: Įrašų registravimas, papildymas, anuliavimas, atkūrimas. Vardų, pavardžių pakeitimas, ištaisymas | F26: Civilinės metrikacijos ir archyvo skyrius | G26: SBVB | H26: 35.3 | I26: Užregistruotų civilinės būklės aktų skaičius | J26: 1600
B27: 011-01-02-04 (TP) | C27: Valstybinės kalbos vartojimo ir taisyklingumo kontrolė | D27: 1 | E27: Valstybinės kalbos įstatymo, Valstybinės lietuvių kalbos komisijos nutarimų ir kitų valstybinės kalbos vartojimą ir taisyklingumą reglamentuojančių teisės aktų įgyvendinimo užtikrinimas | F27: Vyr. specialistė (kalbos tvarkytoja) | G27: SBVB | H27: 9 | I27: Atliktų patikrinimų (įmonių, įstaigų, organizacijų) skaičius | J27: 20
B28: 011-01-02-05 (TP) | C28: Koordinuotai teikiamų paslaugų vaikams nuo gimimo iki 18 metų (turintiems didelių ir labai didelių specialiųjų ugdymosi poreikių – iki 21 metų) ir vaiko atstovams pagal įstatymą koordinavimas | D28: 1 | E28: Už vaiko saugumą ir gerovę atsakingų institucijų veiksmų suderinamumas, teikiant koordinuotas paslaugas | F28: Vyr. specialistė (tarpinstitucinio bendradarbiavimo koordinatorė) | G28: SBVB | H28: 22.8 | I28: Suorganizuotų vaiko gerovės komisijų posėdžių skaičius | J28: 5
B29: 011-01-02-06 (TP) | C29: Jaunimo politikos įgyvendinimas | D29: 1 | E29: Jaunimo iniciatyvų skatinimas užtikrinant jaunų žmonių dalyvavimą sprendžiant savivaldybės jaunimo klausimus, stiprinti bendradarbiavimą tarp institucijų ir jaunimo, su jaunimu dirbančių organizacijų | F29: Vyr. specialistė (jaunimo reikalų koordinatorė) | G29: SBVB | H29: 23.2 | I29: Aktyvaus jaunimo dalis, proc. nuo bendro rajono jaunimo skaičiaus | J29: ~10
B30: 011-01-02-07 (TP) | C30: Valstybės garantuojamos pirminės teisinės pagalbos teikimas | D30: 1 | E30: Lietuvos Respublikos valstybės garantuojamos teisinės pagalbos įstatymo nustatyta tvarka teisinės informacijos, teisinės konsultacijos teikimas, valstybės ir savivaldybių institucijoms skirtų dokumentų rengimas, išskyrus procesinius dokumentus | F30: Teisės ir personalo skyrius | G30: SBVB | H30: 12.7 | I30: Suteiktos teisinės pagalbos atvejų skaičius | J30: 800
D31: 2 | E31: Patarimų dėl ginčo išsprendimo ne teismo tvarka, veiksmų dėl taikaus ginčo išsprendimo teikimas, taikos sutarties parengimas
B32: 011-01-02-08 (TP) | C32: Duomenų teikimas valstybės suteiktos pagalbos registrui | D32: 1 | E32: Duomenų teikimas Konkurencijos tarybai | F32: Biudžeto ir finansų skyrius | G32: SBVB | H32: 1.3 | I32: Duomenų teikimo skaičius | J32: 12
B33: 011-01-02-09 (TP) | C33: Savivaldybių teritorijoje esančių miestų ir miestelių teritorijų ribose valstybinės žemės, perduotos Lietuvos Respublikos Vyriausybės nutarimu, patikėtinio funkcijos vykdymas | D33: 1 | E33: Deleguotos funkcijos vykdymo užtikrinimas | F33: Turto valdymo skyrius | G33: SBVB | H33: 65.8 | I33: Savivaldybei patikėjimo teise perduotų valstybinės žemės sklypų skaičius | J33: 1
B34: 011-01-02-10 (TP) | C34: Gyvenamosios vietos deklaravimo duomenų ir gyvenamosios vietos nedeklaravusių asmenų apskaitos duomenų tvarkymas | D34: 1 | E34: Funkcijos koordinavimas | F34: Administracijos direktorius | G34: SBVB | H34: 0 | I34: Funkciją įgyvendinančių institucijų skaičius | J34: 11
B35: 011-01-02-11 (TP) | C35: Erdvinių duomenų rinkinio tvarkymas | D35: 1 | E35: Duomenų tvarkymo užtikrinimas | F35: Architektūros ir urbanistikos skyrius | G35: SBVB | H35: 18.6 | I35: Funkcijos vykdymas, proc. | J35: 100
B37: 011-01-03 (T) | C37: Užtikrinti finansavimą nenumatytoms išlaidoms dengti bei valdyti prisiimtus finansinius įsipareigojimus | H37: =SUM(H38:H45) -> 3110.4
B38: 011-01-03-01 (TP) | C38: Savivaldybės mero rezervas | D38: 1 | E38: Tikslingas lėšų skyrimas ekstremalioms situacijoms ir arba ekstremaliems įvykiams likviduoti, jų padariniams šalinti, gaisrų ir stichinių nelaimių padariniams likviduoti | F38: Apskaitos skyrius | G38: SB | H38: 123 | I38: Tikslingai panaudoto rezervo dalis, proc. | J38: 100
B39: 011-01-01-02 (TP) | C39: Savivaldybės mero fondas | D39: 1 | E39: Tikslingas lėšų, skirtų Tauragės rajono savivaldybės mero fondui, panaudojimas | F39: Apskaitos skyrius | G39: SB | H39: 23.9 | I39: Tikslingai panaudoto fondo dalis, proc. | J39: 100
B40: 011-01-03-03 (TP) | C40: Paskolų grąžinimas, palūkanų ir paskolų aptarnavimo išlaidų apmokėjimas | D40: 1 | E40: Prisiimtų finansinių įsipareigojimų vykdymas pagal nustatytus paskolų grąžinimo grafikus | F40: Biudžeto ir finansų skyrius | G40: SB | H40: 400 | I40: Finansinių įsipareigojimų vykdymo savalaikiškumas, proc. | J40: 100
G41: SB | H41: 84.8
G42: SK | H42: 1575
B43: 011-01-03-04 (TP) | C43: UAB "Kėdbusas" nuostolingų maršrutų kompensavimas | D43: 1 | E43: Keleivių vežimo kompensacijos mokėjimo užtikrinimas | F43: Turto valdymo skyrius, Apskaitos skyrius | G43: SB | H43: 793.3 | I43: Patvirtintų pavėžėjimo išlaidų kompensavimas | J43: 100
B44: 011-01-03-05 (TP) | C44: Kompensuoti savivaldybės patirtas išlaidas valdant nepaprastąją padėtį dėl užsieniečių, pasitraukusių iš Ukrainos dėl Rusijos Federacijos karinių veiksmų Ukrainoje | D44: 1 | E44: Priemonės koordinavimas | F44: Apskaitos skyrius | G44: SBVB | H44: 17.4 | I44: Įstaigų, kurioms kompensuojamos išlaidos / asmenų, pasitraukusių iš Ukrainos dėl Rusijos Federacijos karinių veiksmų Ukrainoje, skaičius | J44: 2/20
B45: 011-01-03-06 (TP) | C45: Piniginis akcininko įnašas UAB "Kėdainių butai" nuosavam kapitalui atkurti | D45: 1 | E45: Priemonės koordinavimas | F45: Apskaitos skyrius | G45: SB | H45: 93 | I45: Priemonės vykdymas, proc. | J45: 100
B46: 011-01-04 (T) | C46: Plėtojant dalykinius santykius ir ryšius su tarptautinėmis ir vietinėmis institucijomis, organizacijomis, rajono bendruomene, stiprinti rajono įvaizdį | H46: =SUM(H47:H54) -> 110.8
B47: 011-01-04-01 (TP) | C47: Dalyvavimas Lietuvos savivaldybių asociacijos veikloje | D47: 1 | E47: Dalyvavimo LSA veikloje užtikrinimas (mokestis) | F47: Apskaitos skyrius | G47: SB | H47: 22.5 | I47: Veikloje dalyvaujančių partnerių skaičius | J47: 59
B48: 011-01-04-02 (TP) | C48: Dalyvavimas VšĮ Kauno regiono plėtros agentūros veikloje | D48: 1 | E48: Kauno apskrities savivaldybių regioninis bendradarbiavimas, kvalifikacijos tobulinimas, projektų įgyvendinimas | F48: Administracijos direktorius | G48: SB | H48: 15 | I48: Programų, kuriose dalyvauja savivaldybė, skaičius | J48: 4
B49: 011-01-04-03 (TP) | C49: Dalyvavimas Kauno regiono plėtros tarybos veikloje | D49: 1 | E49: Dalyvavimo Kauno regiono plėtros tarybos veikloje užtikrinimas (mokestis) | F49: Apskaitos skyrius | G49: SB | H49: 4.8 | I49: Veikloje dalyvaujančių savivaldybių skaičius | J49: 8
B50: 011-01-04-04 (TP) | C50: Visuomenės įtraukimas į planavimo, biudžeto formavimo, konsultavimosi procesus, organizuojant dalyvaujamojo biudžeto iniciatyvų konkursą ir iniciatyvų įgyvendinimą | D50: 1 | E50: "Jaukumo ratas“ " iniciatyvos įgyvendinimas: rangos darbų viešojo pirkimo organizavimas, rangos darbų koordinavimas, rangovo prisiimtų sutartinių įsipareigojimų vykdymo kontrolė | F50: Statybos skyrius, vyr. specialistė (jaunimo reikalų koordinatorė) | G50: SB | H50: 40 | I50: Įgyvendinamų gyventojų iniciatyvų skaičius | J50: 3
D51: 2 | E51: "UNITY DOME – kupolas kultūros ir bendruomenės ryšiams" iniciatyvos įgyvendinimas: rangos darbų viešojo pirkimo organizavimas, rangos darbų koordinavimas, rangovo prisiimtų sutartinių įsipareigojimų vykdymo kontrolė
D52: 3 | E52: "Babėnų miškas – sveikatingumo trasa" iniciatyvos įgyvendinimas: techninės vizualinės dokumentacijos rengimo viešojo pirkimo organizavimas, projektavimo paslaugos koordinavimas, tiekėjo prisiimtų sutartinių įsipareigojimų vykdymo kontrolė
D53: 4 | E53: 2024 m. gyventojų iniciatyvų, skirtų gyvenamajai aplinkai gerinti, projektų idėjų atrankos konkurso organizavimas ir koordinavimas
B54: 011-01-04-05 (TP) | C54: Savivaldybės tarybos ir administracijos komunikacija su bendruomene ir visuomenės informavimo užtikrinimas | D54: 1 | E54: Komunikacijos su bendruomene ir visuomenės informavimo koordinavimas | F54: Administracijos direktorius | G54: SB | H54: 28.5 | I54: Informacijos teikimas viešųjų ryšių atstovei | J54: nuolat, pagal poreikį
B55: 011-01-05 (T) | C55: Gerinti savivaldybės administracijos veiklos kokybę, atnaujinant (diegiant) informacines sistemas, kompiuterinę įrangą, užtikrinant sisteminį viešųjų ir administracinių paslaugų modernizavimą | H55: =SUM(H56:H61) -> 407.2
B56: 011-01-05-01 (TP) | C56: Informacinių technologijų plėtra savivaldybės administracijoje, administracinių elektroninių paslaugų brandos lygio kėlimas | D56: 1 | E56: IT įrangos, programų, IS atnaujinimo viešųjų pirkimų organizavimas, įdiegtų programų, IS priežiūra ir plėtros organizavimas | F56: Bendrasis skyrius | G56: SB | H56: 359 | I56: Atnaujinamos, prižiūrimos IS skaičius | J56: 14
B57: 011-01-05-02 (TP) | C57: Kolokacijos paslauga Valstybės duomenų centre | D57: 1 | E57: Paslaugos funkcionalumo užtikrinimas | F57: Bendrasis skyrius | G57: SB | H57: 15 | I57: Kolokacijos užtikrinimas, proc. | J57: 100
B58: 011-01-05-03 (TP) | C58: Kibernetinio saugumo ir elektroninės informacijos saugos užtikrinimas | D58: 1 | E58: Kibernetinio saugumo reikalavimų užtikrinimas | F58: Bendrasis skyrius | G58: SB | H58: 15 | I58: Kibernetinio saugumo srityje įgyvendintų priemonių skaičius | J58: 3
B59: 011-01-05-04 (TP) | C59: Kėdainių rajono savivaldybės teikiamų paslaugų informacijos paieškos, naudojant dirbtinį intelektą, sistemos sukūrimas | D59: 1 | E59: Paslaugos funkcionalumo užtikrinimas | F59: Bendrasis skyrius | G59: SB | H59: 18.2 | I59: Sistemos sukūrimas ir palaikymas | J59: 1
B60: 011-01-05-05 (TP) | C60: Savivaldybės ir Valstybės duomenų agentūros bendradarbiavimas dėl VDV IS, apimant "duomenų ežerą" | D60: 1 | E60: Duomenų, informacijos teikimas Valstybės duomenų agentūros valdomo duomenų ežerui | F60: Bendrasis skyrius | G60: SB | H60: 0 | I60: Atvertų duomenų skaičius | J60: 15
B61: 011-01-05-06 (PP) | C61: Viešųjų paslaugų teikimas bei gyventojų aptarnavimas, pasitelkiant dirbtinio intelekto sprendimus, Kėdainių rajono savivaldybėje | D61: 1 | E61: Projekto veiklų koordinavimas gavus ES finansavimą | F61: Bendrasis skyrius, Strateginio planavimo ir investicijų skyrius | G61: ES | H61: 0 | I61: Sukurtų skaitmeninių sprendimų skaičius
B62: 011-01-06 (T) | C62: Užtikrinti rajono gyventojų viešąją tvarką ir viešąjį saugumą | H62: =SUM(H63:H70) -> 272.9
B63: 011-01-06-01 (TP) | C63: Prevencinės programos „Saugios aplinkos kūrimas ir bendruomenės teisėtvarkos kūrimas" finansavimas | D63: 1 | E63: Įgyvendinamų programos priemonių koordinavimas | F63: Viešosios tvarkos skyrius | G63: SB | H63: 19.2 | I63: Įgyvendintų prevencinių priemonių skaičius | J63: 8
B64: 011-01-06-03 (TP) | C64: Civilinės saugos organizavimas | D64: 1 | E64: Civilinės saugos ekstremaliųjų situacijų valdymo plano prevencinių priemonių rengimas (atnaujinimas) | F64: Pareigūnas, atliekantis savivaldybės parengties pareigūno funkcijas | G64: SBVB | H64: 45.9 | I64: Įgyvendintų ekstremaliųjų situacijų prevencijos priemonių plano vykdymo procentas | J64: 100
D65: 2 | E65: Administracijos struktūrinių padalinių, įstaigų, įmonių darbų saugos patikrinimų vykdymas, priešgaisrinės tarnybos parengties kontroliavimas | G65: SB | H65: 55.5
D66: 3 | E66: Rajono civilinės saugos perspėjimo sistemos būklės kontroliavimas, civilinės saugos mokymų organizavimas | I66: Modernizuotų gyventojų perspėjimo sistemų skaičius | J66: 2
B67: 011-01-06-04 (TP) | C67: Dalyvavimas rengiant ir vykdant mobilizaciją, demobilizaciją, priimančiosios šalies paramą | D67: 1 | E67: Pasirengimo mobilizacijai, demobilizacijai ir priimančios šalies paramos teikimo administravimas | F67: Vyr. specialistas (mobilizacijai) | G67: SBVB | H67: 34.3 | I67: Atnaujintų mobilizacijos planų skaičius | J67: 1
D68: 2 | E68: Duomenų rinkimas, sisteminimas, savivaldybės mobilizacijos plano rengimas
D69: 3 | E69: Mobilizacinio ar priimančios šalies paramos teikimo mokymo organizavimas, koordinavimas
B70: 011-01-06-05 (TP) | C70: Gyventojų saugumo, diegiant vaizdo stebėjimo ir saugumo priemones mieste bei rajone užtikrinimas | D70: 1 | E70: Vaizdo stebėjimo sistemos ir transporto priemonių greičio, raudono šviesoforo signalo pažeidimo fiksavimo sistemos įrangos nuomos, šių sistemų įrengimo ir priežiūros sutarties koordinavimas | F70: Bendrasis skyrius | G70: SB | H70: 118 | I70: Stebėjimo vietų viešosiose erdvėse skaičius | J70: 67
H71: =+H62+H55+H46+H37+H23+H11 -> 9994.5
C73: 1. Savivaldybės biudžetas (įskaitant skolintas lėšas) | H73: =SUM(H75:H80) -> 9994.5
C74: Iš jo:
C75: 1.1. savivaldybės biudžeto lėšos (nuosavos, be ankstesnių metų likučio) | G75: SB | H75: =+H70+H63+H58+H57+H56+H54+H50+H49+H48+H47+H43+H41+H40+H39+H38+H22+H21+H14+H12+H60+H59+H65+H45 -> 8073
C76: 1.2. Lietuvos Respublikos valstybės biudžeto dotacijos | G76: SBVB | H76: =+H67+H64+H44+H36+H35+H34+H33+H32+H30+H29+H28+H27+H26+H25+H24 -> 335
C77: 1.3. Pajamų įmokos ir kitos pajamos | G77: ĮP | H77: =+H13 -> 11.5
C78: 1.4. Europos Sąjungos ir kitos tarptautinės finansinės paramos lėšos | G78: ES | H78: =+H61 -> 0
C79: 1.5. Skolintos lėšos | G79: SK | H79: =+H42 -> 1575
C80: 1.6. Ankstesnių metų likučiai | G80: SBL
C81: 2. Kiti šaltiniai (Europos Sąjungos finansinė parama projektams įgyvendinti ir kitos teisėtai gautos lėšos, nurodant atskirus šaltinius) | G81: KT
C82: IŠ VISO programai finansuoti pagal finansavimo šaltinius (1 ir 2 punktai) | H82: =+H81+H73 -> 9994.5
C83: Iš jų: regioninių pažangos priemonių lėšos
C84: Asignavimų ir kitų lėšų pokytis, palyginti su ankstesnių metų patvirtintų asignavimų ir kitų lėšų planu

Sheet Is viso
B2: Lėšų poreikis (tūkst. Eur)
B3: Eil. Nr. | C3: Programos kodas ir pavadinimas | D3: 2024 m. asignavimai ir kitos lėšos
B4: 01 | C4: Švietimas ir ugdymas | D4: =+'01šviet.'!G56 -> 5139.6
B5: 02 | C5: Sveikatos apsauga | D5: =+'02 sveikata'!H45 -> 1280.1
B6: 03 | C6: Socialinės apsaugos plėtojimas | D6: =+'03social.'!H67 -> 7094.8
B7: 04 | C7: Sporto veiklos plėtra | D7: =+'04sport.'!H38 -> 1543.1
B8: 05 | C8: Kultūros veiklos plėtra | D8: =+'05kultura'!H40 -> 1794.7
B9: 06 | C9: Kultūros paveldo išsaugojimas, turizmo skatinimas | D9: =+'06 turizm'!H31 -> 805.9
B10: 07 | C10: Infrastruktūros objektų priežiūra ir plėtra | D10: =+'07Infrastr.'!H46 -> 5357.2
B11: 08 | C11: Aplinkos apsauga | D11: =+'08aplinkosauga'!H44 -> 3348.6
B12: 09 | C12: Žemės ūkis ir melioracija | D12: =+'09ž.ū.'!H40 -> 1602.7
B13: 10 | C13: Parama verslui irverslo plėtra | D13: =+'10verslas'!H20 -> 276.2
B14: 11 | C14: Savivaldybės valdymo tobulinimas | D14: =+'11 valdymas'!H71 -> 9994.5
C15: IŠ VISO PROGRAMOS ĮGYVENDINTI | D15: =SUM(D4:D14) -> 38237.4
B16: 1. Savivaldybės biudžetas (įskaitant skolintas lėšas) | D16: =+D18+D19+D20+D21+D22+D23 -> 38237.4
B17: Iš jo:
B18: 1.1. savivaldybės biudžeto lėšos (nuosavos, be ankstesnių metų likučio) SB | D18: =+'01šviet.'!G60+'02 sveikata'!H49+'03social.'!H71+'04sport.'!H42+'05kultura'!H44+'06 turizm'!H35+'08aplinkosauga'!H48+'09ž.ū.'!H44+'10verslas'!H24+'11 valdymas'!H75+'07Infrastr.'!H50 -> 25141.5
B19: 1.2. Lietuvos Respublikos valstybės biudžeto dotacijos SBVB | D19: =+'01šviet.'!G61+'02 sveikata'!H50+'03social.'!H72+'04sport.'!H43+'05kultura'!H45+'06 turizm'!H36+'08aplinkosauga'!H49+'09ž.ū.'!H45+'10verslas'!H25+'11 valdymas'!H76+'07Infrastr.'!H51 -> 7724.5
B20: 1.3. Pajamų įmokos ir kitos pajamos ĮP | D20: =+'01šviet.'!G62+'02 sveikata'!H51+'03social.'!H73+'04sport.'!H44+'05kultura'!H46+'06 turizm'!H37+'08aplinkosauga'!H50+'09ž.ū.'!H46+'10verslas'!H26+'11 valdymas'!H77+'07Infrastr.'!H52 -> 11.5
B21: 1.4. Europos Sąjungos ir kitos tarptautinės finansinės paramos lėšos ES | D21: =+'01šviet.'!G63+'02 sveikata'!H52+'03social.'!H74+'04sport.'!H45+'05kultura'!H47+'06 turizm'!H38+'08aplinkosauga'!H51+'09ž.ū.'!H47+'10verslas'!H27+'11 valdymas'!H78+'07Infrastr.'!H53 -> 3221.2
B22: 1.5. Skolintos lėšos SK | D22: =+'01šviet.'!G64+'02 sveikata'!H53+'03social.'!H75+'04sport.'!H46+'05kultura'!H48+'06 turizm'!H39+'08aplinkosauga'!H52+'09ž.ū.'!H48+'10verslas'!H28+'11 valdymas'!H79+'07Infrastr.'!H54 -> 2138.7
B23: 1.6. Ankstesnių metų likučiai SBL | D23: =+'01šviet.'!G65+'02 sveikata'!H54+'03social.'!H76+'04sport.'!H47+'05kultura'!H49+'06 turizm'!H40+'08aplinkosauga'!H53+'09ž.ū.'!H49+'10verslas'!H29+'11 valdymas'!H80+'07Infrastr.'!H55 -> 0
B24: 2. Kiti šaltiniai (Europos Sąjungos finansinė parama projektams įgyvendinti ir kitos teisėtai gautos lėšos, nurodant atskirus šaltinius) KT | D24: =+'01šviet.'!G66+'02 sveikata'!H55+'03social.'!H77+'04sport.'!H48+'05kultura'!H50+'06 turizm'!H41+'08aplinkosauga'!H54+'09ž.ū.'!H50+'10verslas'!H30+'11 valdymas'!H81+'07Infrastr.'!H56 -> 0
B25: IŠ VISO programai finansuoti pagal finansavimo šaltinius (1 ir 2 punktai) | D25: =SUM(D18:D24) -> 38237.4
B26: Iš jų: regioninių pažangos priemonių lėšos | D26: =+'[1]01šviet.'!G67+'[1]02sveikat.'!H57+'[1]03social.'!H78+'[1]04sport.'!H50+'[1]05kultura'!H52+'[1]06turizm_paveld'!H43+'[1]07Infrastr.'!H51+'[1]08aplinkosauga'!H56+'[1]09ž.ū.'!H47+'[1]10verslas'!H26+'[1]11valdym.'!H83 -> 0
