Workbook

Sheet 01šviet.
J1: PATVIRTINTA
J2: Kėdainių rajono savivaldybės administracijos direktoriaus
J3: 2025 m. kovo 5 d. įsakymu Nr.AD-1- 218
A6: Kėdainių rajono savivaldybės administracijos 2024 metų veiklos plano ataskaita
A7: Programos uždavinio, priemonės kodas ir požymis | B7: Uždavinio, priemonės pavadinimas | C7: Veiklos kodas | D7: Veiklos pavadinimas | E7: Atsakingas vykdytojas | F7: Finansavimo šaltinis | G7: Numatomi 2024 m. asignavimai ir kitos lėšos | H7: Panaudoti 2024 m. asignavimai ir kitos lėšos | I7: Vertinimo kriterijai
I8: Pavadinimas | J8: Planuota reikšmė | K8: Pasiekta reikšmė | L8: Komentarai, pastabos, nukrypimų nuo plano priežastys
A10: 01 Švietimas ir ugdymas
A11: 001-01-01 (T) | B11: Sudaryti prielaidas ugdymo kokybei gerinti, mažinti ugdymo kokybės skirtumus tarp mokyklų | G11: =SUM(G12:G16) -> 1792.1 | H11: =SUM(H12:H16) -> 1082.1
A12: 001-01-01-03 (PP) | B12: "Tūkstantmečio mokyklos I" projekto įgyvendinimas | C12: 1 | D12: Projekte dalyvaujančių mokyklų vykdomų veiklų koordinavimas, informacijos apie įgyvendinamas veiklas, mokėjimo prašymų kontroliuojančioms institucijoms teikimas | E12: Strateginio planavimo ir investicijų skyrius, Apskaitos skyrius | F12: SB | G12: 50 | H12: 0.6 | I12: Programoje, dalyvaujančių įstaigų skaičius (tinklaveika) | J12: 16 | K12: 16 | L12: Tęsiamos TŪM projekto įgyvendinimas. Projekte dalyvaujančiose 4 rajono mokyklose įkurtos laboratorijos, edukacinės, sporto, kūrybiškumo, sensorinės poilsio, laisvalaikio erdvės, įsigyta reikalinga įranga bei priemonės. Vyksta tinklaveika, TŪM programos investicijas gavusios mokyklos su kitomis savivaldybės mokyklomis dalinasi atnaujintomis pedagoginių darbuotojų žiniomis, naujais veiklos modeliais, mokymosi priemonėmis, atnaujinta infrastruktūra
F13: ES | G13: 1400 | H13: 1052.5
F14: SBVB | G14: 315 | H14: 20.8
A15: 001-01-01-04 (TP) | B15: Centralizuoto vaikų priėmimo į savivaldybės švietimo įstaigų ikimokyklinio ir priešmokyklinio ugdymo grupes, bendrojo ugdymo klases, neformaliojo švietimo grupes bei įstaigų valdymo informacinės sistemos paslaugų diegimas | C15: 1 | D15: Sistemos paslaugų viešojo pirkimo organizavimas, techninės dokumentacijos rengimas sutarties koordinavimas, teikėjų prisiimtų sutartinių įsipareigojimų vykdymo kontrolė | E15: Švietimo, kultūros ir sporto skyrius, Bendrasis skyrius | F15: SB | G15: 18.1 | H15: 12,0* | I15: Įdiegta sistema | J15: 1 | K15: 1 | L15: Įsigyta ir įdiegta centralizuoto vaikų priėmimo į savivaldybės švietimo įstaigas informacinė sistema. Integruotos 28 švietimo įstaigos. Apmokėta iš 11 programos 02 priemonės lėšų
A16: 001-01-01-05 (TP) | B16: "Pirmoko krepšelio" finansavimas | C16: 1 | D16: Priemonės koordinavimas | E16: Švietimo, kultūros ir sporto skyrius | F16: SB | G16: 9 | H16: 8.2 | I16: Pirmoko krepšelį gaunančiųjų skaičius | J16: ~440 | K16: 440 | L16: Visi pirmokai rugsėjo 1 d. buvo apdovanoti „Pirmoko krepšeliu“, kuriame rado svarbiausius mokyklinius reikmenis. Lėšų šiai priemonei prireikė mažiau, nes, įvykdžius viešuosius pirkimus, visi reikalingi daiktai buvo įsigyti už mažesnę pasiūlytą kainą.
A17: 001-01-02 (T, P) | B17: Užtikrinti neformaliojo ugdymo dermę | G17: =SUM(G18:G19) -> 78.8 | H17: =SUM(H18:H19) -> 74.2
A18: 001-01-02-02 (TP) | B18: Vykdyti neformaliojo vaikų švietimo programas | C18: 1 | D18: Priemonės koordinavimas | E18: Švietimo, kultūros ir sporto skyrius | F18: SBVB | G18: 8.8 | H18: 8.5 | I18: Įgyvendinamų programų skaičius | J18: 66 | K18: 66 | L18: 27 NVŠ teikėjai vykdė 66 programas, kuriose vidutiniškai dalyvavo 1 770 mokinių. Apie 200 mokinių, turinčių vidutinių, didelių ir labai didelių specialiųjų ugdymosi poreikių, buvo skirti 2 NVŠ krepšeliai. NVŠ krepšeliu pasinaudojo apie 39 proc. mokinių, iš jų apie 59 proc. – iš miesto mokyklų, apie 41 proc. – kaimiškųjų vietovių. NVŠ veiklose, organizuojamose mokyklų ir kitų švietimo teikėjų, dalyvavo 75,7 proc. Savivaldybės bendrojo ugdymo mokyklų mokinių.
A19: 001-01-02-04 (TP) | B19: Finansuoti vaikų vasaros stovyklų ir kitų neformaliojo vaikų švietimo veiklų programas | C19: 1 | D19: Programų konkurso organizavimas, konsultacijos, paraiškų ir sutarčių derinimas, veiklų stebėjimas, vertinimas, ataskaitų teikimas | E19: Švietimo, kultūros ir sporto skyrius | F19: SB | G19: 70 | H19: 65.7 | I19: Finansuotų vaikų vasaros poilsio ir užimtumo programų skaičius | J19: ~36 | K19: 31 | L19: Finansuota 30 vaikų vasaros poilsio ir užimtumo stovyklų programų, kuriose dalyvavo 750 vaikų, iš jų 54 turintys didelių ir labai didelių specialiųjų ugdymosi poreikių. Papildomai viena stovykla buvo organizuota 30 ukrainiečių vaikų iš Kėdainių miesto partnerio Melitopolio.
A20: 001-01-03 (T) | B20: Gerinti švietimo pagalbos teikimą, įgyvendinti kokybišką įvairių ugdymosi poreikių turinčių mokinių ugdymą taikant inovatyvius ugdymo(si) metodus ir būdus | G20: =SUM(G21:G29) -> 1036.8 | H20: =SUM(H21:H29) -> 945.2
A21: 001-01-03-02 (PP) | B21: Ugdymo prieinamumo didinimas atskirtį patiriantiems vaikams Kėdainių „Ryto“ ir Kėdainių senamiesčio progimnazijose | C21: 1 | D21: Projekto techninės dokumentacijos rengimo sutarčių koordinavimas, teikėjų prisiimtų sutartinių įsipareigojimų vykdymo kontrolė | E21: Statybos skyrius | F21: SB | G21: 0 | H21: 0 | I21: Parengta techninė dokumentacija, vnt. / pateikta paraiška, vnt. | J21: 2/1 | K21: 2/1 | L21: Pateiktas projekto įgyvendinimo planas, pasirašyta finansavimo sutartis, parengti "Ryto“ ir Senamiesčio progimnazijų aplinkos pritaikymo pagal universalaus dizaino elementus techniniai projektai
C22: 2 | D22: Projekto paraiškos teikimas ES finansavimui gauti | E22: Strateginio planavimo ir investicijų skyrius | F22: SK | G22: 50 | H22: 38.5
F23: ES | G23: 0 | H23: 0
A24: 001-01-03-03 (PP) | B24: Įvairialypio švietimo plėtojimas Kėdainių „Aušros“ progimnazijoje ir Vilainių mokykloje-darželyje „Obelėlė“, vykdant visos dienos mokyklos veiklą | C24: 1 | D24: Projekto paraiškos teikimas ES finansavimui gauti | E24: Strateginio planavimo ir investicijų skyrius | F24: SB | G24: 14.8 | H24: 0 | I24: Mokinių, kurie naudosis sukurta visos dienos mokyklos infrastruktūra, skaičius | J24: <900 | K24: <900 | L24: Pateiktas projekto įgyvendinimo planas, pasirašyta finansavimo sutartis, atlikti remonto darbai dalyje mokyklų patalpų, pritaikant jas visos dienos mokyklos veiklai, sutvarkytos lauko erdvės
C25: 2 | D25: Projekto techninės dokumentacijos rengimo sutarčių koordinavimas, teikėjų prisiimtų sutartinių įsipareigojimų vykdymo kontrolė | E25: Statybos skyrius | F25: SK | G25: 120 | H25: 128.2
F26: ES | G26: 697 | H26: 673.1
A27: 001-01-03-04 (PP) | B27: Projekto „Ankstyvojo ugdymo užtikrinimas vaikams iš socialinę riziką patiriančių šeimų“ įgyvendinimas | C27: 1 | D27: Projekto koordinavimas ir administravimas | E27: Švietimo, kultūros ir sporto skyrius | F27: ES | G27: 138 | H27: 84.6 | I27: Socialinę riziką patiriančiose šeimose gyvenančių nuo 3 metų iki privalomo ugdymo amžiaus vaikų, dalyvaujančių ikimokyklinio ugdymo programose, skaičius (skaičiuojama įgyvendinus projektą -2029 m.) | J27: 127 (2024 m.) | K27: 127 (2024 m.) | L27: Projektas pradėtas įgyvendinti 2024 m. rugsėjo mėn., siekiant, kad į ikimokyklinį ir priešmokyklinį ugdymą būtų sėkmingai įtraukti vaikai iš socialinę riziką patiriančių šeimų teikiant jiems pagalbą ugdymo procese
F28: SBVB | G28: 17 | H28: 15.2
A29: 001-01-03-05 | B29: Projekto "Karjeros specialistų tinklo vystymas" administravimas | F29: ES | G29: 0 | H29: 5.6 | I29: Karjeros specialistų skaičius | K29: 6 | L29: Užtikrintas profesinio orientavimo paslaugų teikimas įvairaus amžiaus mokiniams bendrojo ugdymo, profesinio mokymo ir kitose švietimo įstaigose
A30: 001-01-04 (T) | B30: Didinti pedagogų ir mokinių motyvaciją | G30: =SUM(G31:G33) -> 152.5 | H30: =SUM(H31:H33) -> 120.7
A31: 001-01-04-01 (TP) | B31: Mokytojų ir pagalbos mokiniui specialistų motyvacijos programos įgyvendinimas | C31: 1 | D31: Programos įgyvendinimo koordinavimas | E31: Švietimo, kultūros ir sporto skyrius | F31: SB | G31: 123 | H31: 91.4 | I31: Dalykinių olimpiadų ir konkursų prizininkų skaičius, tenkantis 10 tūkst. mokinių (skaičius) | J31: 5.5 | K31: 5.5 | L31: Individualiam pedagogų ir švietimo įstaigų pedagogų bendruomenių skatinimui skirta 80 tūkst. Eur ir 5,1 tūkst. Eur – pedagogines studijas pasirinkusių 3 ikimokyklinio ugdymo mokytojų 100 proc. studijų kainos apmokėjimui
A32: 001-01-04-03 (TP) | B32: Gabių mokinių skatinimas | C32: 1 | D32: Mokyklose besimokančių gabių mokinių, per vienerius mokslo metus pasiekusių puikių mokymosi rezultatų, įvertinimo ir paskatinimo organizavimas | E32: Švietimo, kultūros ir sporto skyrius | F32: SB | G32: 26.5 | H32: 26.3 | I32: Mokinių, kuriems skirti piniginiai prizai, skaičius | J32: 186 | K32: 178 | L32: Už pasiekimus dalykinėse olimpiadose, konkursuose, meno festivaliuose ir sporto varžybose buvo atrinkti ir apdovanoti 166 mokiniai. Už gautus aukštus įvertinimus brandos egzaminuose apdovanota 12 abiturientų
A33: 001-01-04-04 (TP) | B33: Metų mokytojo apdovanojimo teikimas | C33: 1 | D33: Savivaldybės mokytojų kompetencijų, veiklos rezultatų įvertinimo ir paskatinimo profesinei bei kūrybinei iniciatyvai organizavimas | E33: Švietimo, kultūros ir sporto skyrius | F33: SB | G33: 3 | H33: 3 | I33: Įteiktų apdovanojimų skaičius | J33: 1 | K33: 1 | L33: Už puikius pedagoginio darbo rezultatus Kėdainių „Ryto“ progimnazijos muzikos mokytoja metodininkė Žydrė Vancevičienė tapo Savivaldybės Metų mokytoja
A34: 001-01-05 (T) | B34: Užtikrinti sveiką, saugią emocinę ir fizinę aplinką ugdymo įstaigose | G34: =SUM(G35:G38) -> 342.7 | H34: =SUM(H35:H38) -> 342.7
A35: 001-01-05-02 (TP) | B35: Priklausomybę sukeliančių medžiagų vartojimo mažinimo ir prevencijos programos priemonių įgyvendinimas | C35: 1 | D35: Plane 2024 m. numatytų priemonių įgyvendinimas, organizavimas, koordinavimas | E35: Vyr. specialistas (tarpinstitucinio bendradarbiavimo koordinatorius), Patarėja (sveikatos reikalų koordinatorė), Vyr. specialistas (jaunimo reikalų koordinatorius) | F35: SB | G35: 57.7 | H35: 57.7 | I35: Įgyvendinamų priemonių skaičius | J35: 27 | K35: 27 | L35: Priklausomybę sukeliančių medžiagų vartojimo mažinimo ir prevencijos programos priemonės vykdytos pagal patvirtintą planą
A36: 001-01-05-04 (TP) | B36: Saugių ugdymo sąlygų įstaigose, vykdančiose ugdymo programas, užtikrinimas | C36: 1 | D36: Priemonės įgyvendinimo koordinavimas | E36: Švietimo, kultūros ir sporto skyrius, Biudžeto ir finansų skyrius | F36: SB | G36: 150 | H36: 150 | I36: Įstaigų skaičius, kuriose atlikti remonto darbai | J36: 11 | K36: 10 | L36: Lopšelis-darželis "Aviliukas" teritorija apjuosta nauja tvora, lopšelio-darželio "Vyturėlis" pakeista dalis teritorijos juosiančios tvoros, J. Paukštelio progimnazija įsigijo elektroninių cigarečių sensorius
A37: 001-01-05-05 (TP) | B37: Vaikų maitinimo ekologiškais ir pagal nacionalinę maisto kokybės sistemą pagamintais produktais Kėdainių lopšelyje-darželyje "Žilvitis" organizavimas (dalyvavimas projekte) | C37: 1 | D37: Priemonės įgyvendinimo koordinavimas | E37: Švietimo, kultūros ir sporto skyrius, Biudžeto ir finansų skyrius | F37: SB | G37: 35 | H37: 35 | I37: Ekologiškai besimaitinančių vaikų skaičius | J37: ~200 | K37: 208 | L37: Lopšelyje-darželyje "Žilvitis" dalyvaudamas Žemės ūkio ministerijos iniciatyvoje, siekia vaikus maitinti trumposiomis maisto tiekimo grandinėmis tiekiamu vietiniu kokybišku maistu. Parama dengiamas kainų skirtumas, susidarantis renkantis ekologiškus ir pagal nacionalinę maisto kokybės sistemą pagamintus produktus vietoj įprastinių maisto produktų ir žaliavų
A38: 001-01-05-06 (TP) | B38: Mokyklų, organizuojančių maitinimą savarankiškai, finansavimas | C38: 1 | D38: Priemonės įgyvendinimo koordinavimas | E38: Švietimo, kultūros ir sporto skyrius, Biudžeto ir finansų skyrius | F38: SB | G38: 100 | H38: 100 | I38: Mokyklų, organizuojančių maitinimą savarankiškai, skaičius (bendras) | J38: 1 | K38: 1 | L38: Šėtos gimnazijai, atsinaujinus virtuvės patalpas bei įsigijus reikalingą įrangą ir priemones, maitinimas organizuojamas savarankiškai
A39: 001-01-06 (T) | B39: Gerinti ugdymo (-si) infrastruktūrą, materialinę bazę, užtikrinti STEAM dalykų programų įgyvendinimą ir skaitmeninio ugdymo turinio plėtrą savivaldybės ugdymo įstaigose | G39: =SUM(G40:G53) -> 1736.7 | H39: =SUM(H40:H53) -> 1572.8
A40: 001-01-06-01 (TP) | B40: Kėdainių šviesiosios gimnazijos pastato Kėdainiuose, Didžioji g. 60, įveiklinimas | C40: 1 | D40: Priemonės įgyvendinimo koordinavimas | E40: Administracijos direktorius, Švietimo, kultūros ir sporto skyrius, Biudžeto ir finansų skyrius | F40: SB | G40: 400 | H40: 400 | I40: Atlikta einamaisiais metais numatytų darbų, proc. | J40: 100 | K40: 100 | L40: Vykdyti baigiamieji rangos darbai, įsigyti bendrosioms baldai erdvėms baldai, įranga
A41: 001-01-06-02 (TP) | B41: Kėdainių lopšelio-darželio „Varpelis“ (Pavasario g. 8, Kėdainiai) pastato energinio efektyvumo didinimas, vidaus erdvių modernizavimas | C41: 1 | D41: Rangos darbų sutarties koordinavimas, teikėjo prisiimtų sutartinių įsipareigojimų vykdymo kontrolė | E41: Statybos skyrius, Strateginio planavimo ir investicijų skyrius | F41: SB | G41: 181.2 | H41: 181.2 | I41: Pasiekta pastato energijos naudingumo klasė/atnaujintos vidaus erdvės pagal projektą, proc. | J41: B/100 | K41: B/100 | L41: Baigti įstaigos modernizavimo darbai, atnaujintos vidaus erdvės, pasiekta pastato energijos naudingumo B klasė
F42: ES | G42: 167.3 | H42: 103.8
A43: 001-01-06-03 (TP) | B43: Kėdainių lopšelio-darželio „Vyturėlis“ (Josvainių g. 53, Kėdainiai) pastato energinio efektyvumo didinimas, vidaus erdvių modernizavimas | C43: 1 | D43: Rangos darbų sutarties koordinavimas, teikėjo prisiimtų sutartinių įsipareigojimų vykdymo kontrolė | E43: Statybos skyrius, Strateginio planavimo ir investicijų skyrius | F43: SB | G43: 269.4 | H43: 269.4 | I43: Pasiekta pastato energijos naudingumo klasė | J43: B/100 | K43: B/100 | L43: Baigti įstaigos modernizavimo darbai, atnaujintos vidaus erdvės, pasiekta pastato energijos naudingumo B klasė
F44: ES | G44: 238.8 | H44: 222.7
A45: 001-01-06-04 (TP) | B45: Kėdainių muzikos mokyklos pastato fasado, vidaus erdvių atnaujinimas | C45: 1 | D45: Rangos darbų viešojo pirkimo organizavimas, rangovo prisiimtų sutartinių įsipareigojimų vykdymo kontrolė | E45: Statybos skyrius | F45: SB | G45: 145 | H45: 144 | I45: Atlikta numatytų darbų, proc. | J45: 100 | K45: 100 | L45: Vykdyti mokyklos pastato atnaujinimo (apšiltinimo) darbai
A46: 001-01-06-05 (TP) | B46: Šėtos gimnazijos I aukšto patalpų bei gimnazijos aplinkos pritaikymas ikimokyklinio / priešmokyklinio ugdymo organizavimui | C46: 1 | D46: Priemonės įgyvendinimo koordinavimas | E46: Administracijos direktorius, Švietimo, kultūros ir sporto skyrius, Biudžeto ir finansų skyrius | F46: SB | G46: 30 | H46: 0 | I46: Parengtos techninės dokumentacijos skaičius | J46: 1 | K46: 0 | L46: Įsigyta techninio projekto parengimo paslauga, rengtas techninis projektas, už kurį, atlikus ekspertizę, bus apmokėta 2025 m.
A47: 001-01-06-06 (TP) | B47: Vėdinimo ir kondicionavimo sistemų įrengimas savivaldybės ugdymo įstaigose | C47: 1 | D47: Priemonės įgyvendinimo koordinavimas | E47: Švietimo, kultūros ir sporto skyrius | F47: SB | G47: 30 | H47: 29.9 | I47: Įstaigų skaičius, kuriose įrengta vėdinimo (kondicionavimo) sistema | J47: 7 | K47: 7 | L47: Akademijos, Josvainių, Šėtos, Šviesiosios gimnazijoms, Surviliškio V.Svirskio pagrindinei mokyklai, Spindulio bei Kalbų mokyklai skirtas finansavimas įrengti vėdinimo ir kondicionavimo sistemas
A48: 001-01-06-07 (TP, PP) | B48: Švietimo paslaugų kokybės gerinimas, aprūpinant efektyviai veikiančias bendrojo ugdymo mokyklas laboratorine įranga ir priemonėmis | C48: 1 | D48: Priemonės įgyvendinimo koordinavimas | E48: Švietimo, kultūros ir sporto skyrius | F48: SB | G48: 50 | H48: 49.5 | I48: Įstaigų skaičius, kuriose įrengtos laboratorijos | J48: 4 | K48: 4 | L48: Savivaldybės biudžeto lėšomis laboratorijų įrangą, priemones įsigijo Šėtos, Josvainių, Krakių Mikalojaus Katkaus ir Akademijos gimnazijos
F49: ES | G49: 10 | H49: 1.5 | I49: Įstaigų skaičius, kuriose dalyvaujančios projekte, aprūpinant laboratorine įranga ir priemonėmis | J49: 9 | K49: 9 | L49: 9 ugdymo įstaigos dalyvauja ES projekte, siekiant gerinti švietimo paslaugų kokybę, aprūpinant efektyviai veikiančias bendrojo ugdymo mokyklas laboratorine įranga, priemonėmis ir kompiuterine įranga.
A50: 001-01-01-08 (TP, PP) | B50: Skaitmeninio ugdymo plėtra | C50: 1 | D50: Priemonės įgyvendinimo koordinavimas | E50: Švietimo, kultūros ir sporto skyrius | F50: SB | G50: 70 | H50: 66 | I50: Įstaigų, plečiančių skaitmeninimą, skaičius | J50: 12 | K50: 12 | L50: 12 švietimo įstaigų įsigijo skaitmeniniui ugdymui reikalingą įrangą
A51: 001-01-01-09 (TP) | B51: Bendrojo ir ikimokyklinio ugdymo įstaigų (skyrių) pastatų modernizavimo techninės dokumentacijos rengimas | C51: 1 | D51: Techninės dokumentacijos rengimo viešojo pirkimo organizavimas, tiekėjo prisiimtų sutartinių įsipareigojimų vykdymo kontrolė | E51: Statybos skyrius | F51: SB | G51: 40 | H51: 0 | I51: Parengtos techninės dokumentacijos skaičius | J51: 1 | K51: 0 | L51: Rengiami lopšelio -darželio 'Aviliukas" bei Akademijos darželio - mokyklos "Kaštonas" modernizavimo techniniai projektai
A52: 001-01-01-10 (TP) | B52: Mokyklų aprūpinimo geltonaisiais autobusais programa | C52: 1 | D52: Priemonės įgyvendinimo koordinavimas | E52: Švietimo, kultūros ir sporto skyrius | F52: SB | G52: 37 | H52: 36.8 | I52: Įsigytų transporto priemonių skaičius | J52: 1 | K52: 1 | L52: Įsigytas ir Krakių M. Katkaus gimnazijai perduotas mokyklinis autobusas
F53: SBVB | G53: 68 | H53: 68
A54: IŠ VISO | G54: =+G39+G34+G30+G20+G17+G11 -> 5139.6 | H54: =+H39+H34+H30+H20+H17+H11 -> 4137.7
G55: =+G54-G56-G64 -> 0 | H55: =+H54-H56-H64 -> 0
B56: 1. Savivaldybės biudžetas (įskaitant skolintas lėšas) | G56: =+G58+G59+G60+G61+G62+G63 -> 5139.6 | H56: =+H58+H59+H60+H61+H62+H63 -> 4137.7
B57: Iš jo:
B58: 1.1. savivaldybės biudžeto lėšos (nuosavos, be ankstesnių metų likučio) | F58: SB | G58: =+G51+G50+G48+G47+G46+G45+G43+G41+G40+G38+G37+G36+G35+G33+G32+G31+G24+G21+G19+G12+G15+G16+G52 -> 1909.7 | H58: =+H51+H50+H48+H47+H46+H45+H43+H41+H40+H38+H37+H36+H35+H33+H32+H31+H24+H21+H19+H12+H16+H52 -> 1714.7
B59: 1.2. Lietuvos Respublikos valstybės biudžeto dotacijos | F59: SBVB | G59: =+G18+G14+G53+G28 -> 408.8 | H59: =+H18+H14+H53+H28 -> 112.5
B60: 1.3. Pajamų įmokos ir kitos pajamos | F60: ĮP
B61: 1.4. Europos Sąjungos ir kitos tarptautinės finansinės paramos lėšos | F61: ES | G61: =+G13+G23+G26+G42+G44+G49+G27+G29 -> 2651.1 | H61: =+H13+H23+H26+H42+H44+H49+H27+H29 -> 2143.8
B62: 1.5. Skolintos lėšos | F62: SK | G62: =+G22+G25 -> 170 | H62: =+H22+H25 -> 166.7
B63: 1.6. Ankstesnių metų likučiai | F63: SBL
B64: 2. Kiti šaltiniai (Europos Sąjungos finansinė parama projektams įgyvendinti ir kitos teisėtai gautos lėšos, nurodant atskirus šaltinius) | F64: KT
B65: IŠ VISO programai finansuoti pagal finansavimo šaltinius (1 ir 2 punktai) | G65: =+G64+G56 -> 5139.6 | H65: =+H64+H56 -> 4137.7
B66: Iš jų: regioninių pažangos priemonių lėšos | G66: =+G26 -> 697 | H66: =+H26 -> 673.1

Sheet 02 sveikata
F1: PATVIRTINTA
F2: Kėdainių rajono savivaldybės administracijos direktoriaus
F3: 2024 m. kovo 8 d. įsakymu Nr.AD-1- 182
F4: (Kėdainių rajono savivaldybės administracijos direktoriaus
F5: 2024 m. gruodžio d. įsakymo Nr.AD-1- redakcija)
B7: Programos uždavinio, priemonės kodas ir požymis | C7: Uždavinio, priemonės pavadinimas | D7: Veiklos kodas | E7: Veiklos pavadinimas | F7: Atsakingas vykdytojas | G7: Finansavimo šaltinis | H7: Numatomi 2024 m. asignavimai ir kitos lėšos | I7: Panaudoti 2024 m. asignavimai ir kitos lėšos | J7: Vertinimo kriterijai
J8: Pavadinimas | K8: Planuota reikšmė | L8: Pasiekta reikšmė | M8: Komentarai, pastabos, nukrypimų nuo plano priežastys
B10: 02 Sveikatos apsauga
B11: 002-01-01 (T, P) | C11: Sudaryti sąlygas gyventojams stiprinti sveikatą, kurti ir plėtoti su sveikatos stiprinimu susijusias paslaugas | H11: =SUM(H12:H13) -> 139.1 | I11: =SUM(I12:I13) -> 100.8
B12: 002-01-01-01 (TP) | C12: Visuomenės sveikatos rėmimo specialiosios programos priemonių įgyvendinimas (AA) | D12: 1 | E12: Programos priemonių sveikatos projektų konkurso organizavimas, sutarčių su vykdytojais parengimas, priemonių įgyvendinimo koordinavimas ir kontrolė; užkrečiamųjų ligų plano priemonių vykdymo kontrolė | F12: Patarėja (sveikatos reikalų koordinatorė) | G12: SB | H12: 136.8 | I12: 98.5 | J12: Visuomenės sveikatos rėmimo specialiosios programos įgyvendinimas, proc. | K12: 100 | L12: 100 | M12: Įgyvendinant programą įgyvendinti 28 sveikatos projektai, vykdyta rajono maudyklų vandens kokybės tyrimai, finansuotos visuomenės sveikatos stebėsenos ataskaitos rekomendacijų įgyvendinimo priemonės, vestos prevencinės paskaitos apie psichoaktyvių medžiagų žalą, vykdytas mokyklų aplinkos testavimas dėl narkotinių medžiagų aptikimo, įgyvendintos tikslinės priemonės, reikalingos apsaugoti gyventojų sveikatą
B13: 002-01-01-04 (TP) | C13: Neveiksniais pripažintų asmenų būklės peržiūrėjimas | D13: 1 | E13: Neveiksniais pripažintų asmenų būklės peržiūrėjimo organizavimas | F13: Socialinės paramos skyrius | G13: SBVB | H13: 2.3 | I13: 2.3 | J13: Asmenų, kurių neveiksnumas peržiūrėtas, skaičius | K13: ~60 | L13: 85 | M13: Neveiksnių asmenų būklės peržiūrėjimo komisija peržiūrėjo 85 asmenų būklę
B14: 02-01-02 (T, P) | C14: Siekti gyventojų sveikatos išsaugojimo, gerinant sveikatos priežiūros paslaugų kokybę ir prieinamumą | H14: =SUM(H15:H31) -> 406.9 | I14: =SUM(I15:I31) -> 385.7
B15: 002-01-02-01 (TP) | C15: E. sveikatos informacinės sistemos palaikymo ir tobulinimo VšĮ Kėdainių PSPC 2024–2026 m. programa | D15: 1 | E15: Sutarčių su vykdytojais suderinimas, priemonių koordinavimas ir vykdymo kontrolė | F15: Patarėja (sveikatos reikalų koordinatorė) | G15: SB | H15: 10 | I15: 10 | J15: Atnaujintos ir E. sveikatos IS funkcionalumui pritaikytos įrangos kompl. skaičius | K15: 2 | L15: 2 | M15: Įgyvendinant programą vykdytas E. sveikatos IS funkcionalumų palaikymas (1 kompl.- siuntimų išrašymas, instrumentinių tyrimų atlikimas, neįgalumo ir darbingumo lygio nustatymas, įstaigos resursų administravimas, E. receptas, ataskaitų ir analizės formavimas, tyrimų rezultatai, pacientų perregistravimas, prevencinės programos, nedarbingumo pažymėjimas, IS ir SVDPT vartų bei prieigos priežiūra, laboratorinės informacinės sistemos priežiūra), įsigytas 1 kompl. aptarnavimo paslaugų.
B16: 002-01-02-02 (TP) | C16: E. sveikatos informacinės sistemos palaikymo ir tobulinimo VšĮ Kėdainių ligoninė 2024–2026 m. programa | D16: 1 | E16: Sutarčių su vykdytojais suderinimas, priemonių koordinavimas ir vykdymo kontrolė | F16: Patarėja (sveikatos reikalų koordinatorė) | G16: SB | H16: 10 | I16: 10 | J16: Palaikomų funkcionalumų skaičius | K16: 13 | L16: 13 | M16: Programos lėšomis palaikomi E.sveikatos IS funkcionalumai: siuntimų išrašymas, atsakymų į siuntimą išrašymas, epikrizių išrašymas, E025 išrašymas, mirties liudijimų išrašymas, vaiko gimimo liudijimų išrašymas, nedarbingumo pažymėjimo išrašymas, E. receptas, vaistų verifikavimas, instrumentinių tyrimų atlikimas, SMS žinutės pacientams, medicininių vaizdų siuntimas į MedVAIS, ataskaitų ir analizės formavimas, reabilitacijos modulis.
B17: 002-01-02-03 (TP) | C17: Kėdainių rajono tuberkuliozės prevencijos, ankstyvosios diagnostikos, gydymo ir kontrolės 2023–2027 m. programa | D17: 1 | E17: Sutarčių su vykdytojais suderinimas, priemonių koordinavimas ir vykdymo kontrolė | F17: Patarėja (sveikatos reikalų koordinatorė) | G17: SB | H17: 3 | I17: 3 | J17: Atliktų tyrimų ir paslaugų skaičius per metus | K17: ~1600 | L17: 1571 | M17: Programos lėšomis pirkti tuberkulino mėginiai ir priemonės, vykdyta rizikos grupių asmenų ankstyvoji diagnostika.
B18: 002-01-02-04 (TP) | C18: Žemo slenksčio paslaugų kokybės užtikrinimo Kėdainių rajone 2023-2027 m. programa | D18: 1 | E18: Sutarčių su vykdytojais suderinimas, priemonių koordinavimas ir vykdymo kontrolė | F18: Patarėja (sveikatos reikalų koordinatorė) | G18: SB | H18: 7.8 | I18: 7.8 | J18: Apsilankymai (kartais) žemo slenksčio paslaugų kabinetuose per metus | K18: ~2000 | L18: 2639 | M18: Programos lėšomis teiktos stacionarios Žemo slenksčio kabinete ir mobilios paslaugos 2639 lankytojams, įsigytos priemonės (atrankiniai greitieji ŽIV, Hepatitų C, B, sifilio testai, vienkartinės dezinfekcinės, žaizdų gydymo priemonės, utilizavimo konteineriai ir transportavimo įranga (krepšiai) mobilioms paslaugoms teikti. Pasiektas didesnis rodiklis dėl papildomo finansavimo iš Respublikinio priklausomybės ligų centro.
B19: 002-01-02-05 (TP) | C19: Pirminės asmens sveikatos priežiūros paslaugų prieinamumo ir kokybės užtikrinimo Kėdainių rajono kaimiškųjų vietovių gyventojams programą | D19: 1 | E19: Sutarčių su vykdytojais suderinimas, priemonių koordinavimas ir vykdymo kontrolė | F19: Patarėja (sveikatos reikalų koordinatorė) | G19: SB | H19: 80.4 | I19: 79.2 | J19: Mobilaus medicinos punkto apsilankymų kaimiškųjų vietovių gyventojų namuose (slaugos, taip pat ir profilaktinio darbo) skaičius) | K19: ~6000 | L19: 6024 | M19: Programos lėšomis dalinai finansuotos ambulatorijų ir medicinos punktų komunalinės išlaidos, teiktos Mobilaus medicinos punkto paslaugos. Kiekvieno apsilankymo metu suteikta nuo 2 iki 5 medicininių (taip pat ir profilaktinio darbo) slaugos paslaugų: vertinama paciento būklė, pagal poreikį matuojamas kraujospūdis, atliekama kardiograma, kraujo tyrimai, prižiūrimos pragulos, tvarstomos žaizdos, leidžiami vaistai ir kt.
B20: 002-01-02-06 (TP) | C20: Ambulatorinės akušerinės ir ginekologinės pagalbos kokybės gerinimo Kėdainių rajono savivaldybės moterims 2019-2024 m. programa | D20: 1 | E20: Sutarčių su vykdytojais suderinimas, priemonių koordinavimas ir vykdymo kontrolė | F20: Patarėja (sveikatos reikalų koordinatorė) | G20: SB | H20: 3 | I20: 3 | J20: Vidutinis atliktų ultragarsinių tyrimų skaičius per metus 1 gydytojui | K20: ~285 | L20: 519 | M20: Programos lėšomis mokamos lizingo įmokos už įsigytą ultragarsinį aparatą. Vienam gydytojui per metus teko 519 vnt. moters dubens organų bei vaisiaus ultragarsinių tyrimų.
B21: 002-01-02-07 (TP) | C21: Endoskopinių paslaugų prieinamumo ir kokybės gerinimo Kėdainių rajono savivaldybėje 2020-2025 m. programa | D21: 1 | E21: Sutarčių su vykdytojais suderinimas, priemonių koordinavimas ir vykdymo kontrolė | F21: Patarėja (sveikatos reikalų koordinatorė) | G21: SB | H21: 21 | I21: 21 | J21: Atliktų endoskopijų ir kolonoskopijų skaičius per metus | K21: ~1750 | L21: 2497 | M21: Programos lėšomis mokėtos lizingo įmokos už endoskopinę įrangą su vežimėliu bei endoskopų plovimo ir dezinfekavimo mašiną. Atlikta 1863 (metinio plano įvykdymas 133 proc.) endoskopijos ir 634 (metinio plano įvykdymas 181 proc.) kolonoskopijos tyrimų.
B22: 002-01-02-08 (TP) | C22: Mamografijos paslaugų tęstinumo, kokybės gerinimo Kėdainių rajono savivaldybėje 2020-2025 m. programa | D22: 1 | E22: Sutarčių su vykdytojais suderinimas, priemonių koordinavimas ir vykdymo kontrolė | F22: Patarėja (sveikatos reikalų koordinatorė) | G22: SB | H22: 19.1 | I22: 19.1 | J22: Atliktų mamografijų ir vertinimo paslaugų skaičius per metus | K22: ~1800 | L22: 6106 | M22: Programos lėšomis mokamos lizingo įmokos už skaitmenizuoto mamografo įsigijimą, atlikta mamografijų ir vertinimo paslaugų. Labai aktyviai dirbta viešinimo srityje
B23: 002-01-02-09 (TP) | C23: Anestezijos paslaugų vaikams ir suaugusiesiems kokybės gerinimo Kėdainių rajono savivaldybėje 2022-2027 m. programa | D23: 1 | E23: Sutarčių su vykdytojais suderinimas, priemonių koordinavimas ir vykdymo kontrolė | F23: Patarėja (sveikatos reikalų koordinatorė) | G23: SB | H23: 25.3 | I23: 25.3 | J23: Atliktų bendrųjų anestezijų skaičius per metus | K23: ~1482 | L23: 1870 | M23: Finansuotos lizingo įmokos už įsigytus 2 vnt. anestezijos aparatų su paciento gyvybinių funkcijų montavimo sistema bei elektros energijos generatorius. Anestezijų skaičius padidėjo dėl įsigytos įrangos suteiktų galimybių atlikti daugiau dienos chirurgijos paslaugų ir kitų operacijų savalaikio užtikrinimo
B24: 002-01-02-10 (TP) | C24: Rentgeno paslaugų atnaujinimo, kokybės gerinimo Kėdainių rajono savivaldybėje 2022-2027 m. programa | D24: 1 | E24: Sutarčių su vykdytojais suderinimas, priemonių koordinavimas ir vykdymo kontrolė | F24: Patarėja (sveikatos reikalų koordinatorė) | G24: SB | H24: 28.3 | I24: 28.2 | J24: Atliktų rentgenologinių tyrimų skaičius/trumpesnės registracijos rentgeno tyrimui eilės, dienomis | K24: ~10000/ 4 d. | L24: 18535 4 d. | M24: Programos lėšomis mokėtos lizingo įmokos už skaitmeninis rentgeno diagnostikos medicinos prietaisą. Per metus rentgeno paslaugų suteikta 18 535 vnt.. Įsigytu nauju, moderniu rentgeno aparatu užtikrinamas nepertraukiamas rentgeno diagnostinių paslaugų prieinamumas gyventojams
B25: 002-01-02-11 (TP) | C25: Kompiuterinės tomografijos paslaugų kokybės gerinimo Kėdainių rajono savivaldybėje 2023-2030 m. programa | D25: 1 | E25: Sutarčių su vykdytojais suderinimas, priemonių koordinavimas ir vykdymo kontrolė | F25: Patarėja (sveikatos reikalų koordinatorė) | G25: SB | H25: 52.1 | I25: 52.1 | J25: Atliktų tyrimų skaičius per metus | K25: ~3000 | L25: 5881 | M25: Programos lėšomis mokėtos lizingo įmokos už įsigytą tomografą. Kabineto darbo našumas padidėjo, nes naujuoju tomografu (skanuojant 128 sluoksnių) daug greitesnis skanavimo laikas. Paprastesnis paciento paruošimas, ypač tiems, kuriems reikalingas deguonis. Mažesnė pacientų apšvita, kontrastiniai tyrimai tikslesni tyrimo metu. Atlikta integracija su medicininėmis IS ir MedVAIS
B26: 002-01-02-12 (TP) | C26: VšĮ Kėdainių ligoninės sterilizacinės modernizavimo 2023-2028 m. programa | D26: 1 | E26: Sutarčių su vykdytojais suderinimas, priemonių koordinavimas ir vykdymo kontrolė | F26: Patarėja (sveikatos reikalų koordinatorė) | G26: SB | H26: 31.4 | I26: 31.3 | J26: Sutrumpėjusi sterilizavimo proceso trukmė (iki, min) | K26: ~45 min | L26: 30 min | M26: Programos lėšomis mokėtos lizingo įmokos už įsigytą dezinfekcijos ir sterilizavimo įrangą. Įsigijus naujus sterilizatorius vienu metu per 1,5 val. galima sterilizuoti 600 l kiekį, tuo tarpu senaisiais aparatais vienu metu sterilizuodavo apie 400 l. Kadangi sterilizuojama vienu metu didesnis kiekis, pati sterilizavimo trukmė bendrai sumažėjo apie 30 min.
B27: 002-01-02-13 (TP) | C27: Odontologijos paslaugų plėtros Kėdainių rajono savivaldybėje 2024-2027 m. programa | D27: 1 | E27: Sutarčių su vykdytojais suderinimas, priemonių koordinavimas ir vykdymo kontrolė | F27: Patarėja (sveikatos reikalų koordinatorė) | G27: SB | H27: 23.6 | I27: 23.6 | J27: Įsigytos įrangos komplektas | K27: 1 | L27: 1 | M27: Programos lėšomis įmokėta pradinė įmoka už įsigytą įrangą – odontologijos kėdė su priedais, panoraminis rentgeno aparatas, kompresoriai, vakuuminis siurblys, mikrovariklis, oro sausintuvas, Morita lokatorius, LED diodinė lempa, Osmos filtras
B28: 002-01-02-14 (TP) | C28: Reabilitacijos prieinamumo didinimo Kėdainių rajono savivaldybėje 2024 m. programa | D28: 1 | E28: Sutarčių su vykdytojais suderinimas, priemonių koordinavimas ir vykdymo kontrolė | F28: Patarėja (sveikatos reikalų koordinatorė) | G28: SB | H28: 57 | I28: 57 | J28: Įsigytos įrangos komplektas | K28: 1 | L28: 1 | M28: Programos lėšomis įsigyta moderni fizinės medicinos - reabilitacijos skyriaus įranga, kurią sudaro elektrostimuliatorius, aplikatoriai rankoms, robotinės rankos, kombinuotos terapijos aparatas, vežimėlis su pilnu vakuumo komplektu, aukšto intensyvumo elektromagnetinio lauko terapijos aparatas, Fango parafino šildymo ir maišymo įrenginys, termostatinė spinta, kita reabilitacijos įranga, priemonės
B29: 002-01-02-15 (TP) | C29: Vaikų, turinčių autizmo spektro ir kitų raidos sutrikimų, sveikatos stiprinimas, galimybių siekti asmeninės pažangos, pilnaverčio socialinio dalyvavimo prielaidų užtikrinimas | D29: 1 | E29: Sutarčių su vykdytojais suderinimas, priemonių koordinavimas ir vykdymo kontrolė | F29: Patarėja (sveikatos reikalų koordinatorė) | G29: SB | H29: 15.1 | I29: 15.1 | J29: Paslaugą gaunančių vaikų skaičius | K29: 15 | L29: 15 | M29: Programos lėšomis 15 vaikų, turinčių autizmo spektro ir kitų raidos sutrikimų, teikta sisteminga ir veiksminga reabilitacija, veiklos skatinant jų psichikos, motorikos, kalbos, socialinių, bendravimo, savitarnos ir kitų įgūdžių raidą
B30: 002-01-02-16 (PP) | C30: Mobilių komandų aprūpinimas įranga Kėdainių rajono savivaldybėje | D30: 1 | E30: Projekto veiklų koordinavimas | F30: Patarėja (sveikatos reikalų koordinatorė), Strateginio planavimo ir investicijų skyrius | G30: ES | H30: 16.3 | I30: 0 | J30: Mobilių komandų, aprūpintų įranga teikti paslaugas namuose, skaičius | K30: 1 | L30: 1 | M30: Projektas įgyvendintas, apmokėta kompensavimo būdu, 2025 m. bus kompensuotos ES ir SVBV lėšos. Įsigyta reikalinga medicininė ir kita reikalinga įranga ambulatorines slaugos paslaugas namuose teikiančiai mobiliai komandai
G31: SBVB | H31: 3.5 | I31: 0
B32: 02-01-03 (T) | C32: Pritraukti naujus bei išlaikyti esamus sveikatos priežiūros specialistus | H32: =SUM(H33:H35) -> 186 | I32: =SUM(I33:I35) -> 186
B33: 002-01-03-01 (TP) | C33: Sveikatos priežiūros specialistų skatinimo dirbti VšĮ Kėdainių PSPC 2023-2028 m. programa | D33: 1 | E33: Sutarčių su vykdytojais suderinimas, priemonių koordinavimas ir vykdymo kontrolė | F33: Patarėja (sveikatos reikalų koordinatorė) | G33: SB | H33: 98 | I33: 98 | J33: Taikomų paskatų priemonių skaičius | K33: 5 | L33: 5 | M33: Programoje numatytomis skatinamosiomis priemonėmis pasinaudojo 10 naujai atvykusių specialistų (5 šeimos gydytojai, 4 gydytojai odontologai ir 1 medicinos psichologas). Sveikatos priežiūros specialistams (40 asmenų), gyvenantiems kituose miestuose ar nuo darbo vietos nutolusiose teritorijose, buvo kompensuojamos kelionės išlaidos
B34: 002-01-03-02 (TP) | C34: Trūkstamos sveikatos priežiūros specialistų skatinimo dirbti VšĮ Kėdainių ligoninėje 2023-2026 m. programa | D34: 1 | E34: Sutarčių su vykdytojais suderinimas, priemonių koordinavimas ir vykdymo kontrolė | F34: Patarėja (sveikatos reikalų koordinatorė) | G34: SB | H34: 85 | I34: 85 | J34: Taikomų paskatų priemonių skaičius | K34: 4 | L34: 4 | M34: Programoje numatytomis priemonėmis pasinaudojo 76 sveikatos priežiūros specialistai. Pritraukti 27 trūkstamos profesinės kvalifikacijos gydytojai ir 9 bendrosios praktikos slaugytojai
B35: 002-01-03-03 (TP) | C35: Metų medicinos darbuotojo apdovanojimas | D35: 1 | E35: Metų mediko konkurso organizavimas | F35: Patarėja (sveikatos reikalų koordinatorė) | G35: SB | H35: 3 | I35: 3 | J35: Įteiktas Metų medicinos darbuotojo apdovanojimas | K35: 1 | L35: 1 | M35: Metų medikės titulas teko VšĮ Kėdainių pirminės sveikatos priežiūros centro šeimos gydytojai Vilmai Šnurevičiūtei
B36: 02-01-04 (T, P) | C36: Modernizuoti ir atnaujinti sveikatos priežiūros įstaigų infrastruktūrą sveikatos gerinimo poreikiams | H36: =SUM(H37:H43) -> 548.1 | I36: =SUM(I37:I43) -> 372.2
B37: 002-01-04-01 (TP) | C37: VšĮ Kėdainių PSPC Psichiatrijos dienos stacionaro paslaugų plėtra ir infrastruktūros pritaikymas specialiesiems neįgaliųjų poreikiams | D37: 1 | E37: Sutarčių su vykdytojais suderinimas, priemonių koordinavimas ir vykdymo kontrolė | F37: Patarėja (sveikatos reikalų koordinatorė) | G37: SB | H37: 35 | I37: 35 | J37: Atlikti keltuvo įrengimo ir patalpų pritaikymo darbai, proc. | K37: 100 | L37: 100 | M37: Programos lėšomis prisidėta prie ES įgyvendinimo projekto, įrengiant keltuvą (pritaikymas neįgaliųjų poreikiams)
B38: 002-01-04-02 (TP) | C38: Kėdainių rajono kaimo gyventojų sveikatos gerinimo poreikių užtikrinimas, modernizuojant ir (ar) atnaujinant ambulatorijų infrastruktūrą | D38: 1 | E38: Sutarčių su vykdytojais suderinimas, priemonių koordinavimas ir vykdymo kontrolė | F38: Patarėja (sveikatos reikalų koordinatorė) | G38: SB | H38: 23 | I38: 17.2 | J38: Ambulatorijų skaičius, kuriose pagerinta infrastruktūra | K38: 1 | L38: 1 | M38: Įgyvendinant programą atliktas Krakių ambulatorijos šildymo sistemos remontas (katilinė, šilumos mazgas ir kt.),
B39: 002-01-04-04 (TP) | C39: Tinkamų ir saugių darbo sąlygų užtikrinimo, įrengiant vėdinimo bei kondicionavimo sistemas VšĮ Kėdainių ligoninėje 2023-2028 m. programa | D39: 1 | E39: Sutarčių su vykdytojais suderinimas, priemonių koordinavimas ir vykdymo kontrolė | F39: Patarėja (sveikatos reikalų koordinatorė) | G39: SB | H39: 40 | I39: 40 | J39: Patalpų, kuriose įrengta vėdinimo (kondicionavimo) sistema, skaičius | K39: 31 | L39: 39 | M39: Programos lėšomis įsigyti kondicionieriai įrengti Geriatrijos, Fizinės medicinos ir reabilitacijos, Konsultacijų poliklinikos, Radiologijos skyriuose, Specializuotų skausmo diagnozavimo ir gydymo paslaugų dienos stacionare. Kadangi vykdant viešuosius pirkimus sutaupyta lėšų, kondicionierių įsigyta daugiau nei planuota
B40: 002-01-04-05 (TP) | C40: Tinkamų ir saugių darbo sąlygų užtikrinimo, įrengiant vėdinimo bei kondicionavimo sistemas VšĮ Kėdainių PSPC 2022-2026 m. programa | D40: 1 | E40: Sutarčių su vykdytojais suderinimas, priemonių koordinavimas ir vykdymo kontrolė | F40: Patarėja (sveikatos reikalų koordinatorė) | G40: SB | H40: 37.7 | I40: 37.7 | J40: Patalpų, kuriose įrengta vėdinimo (kondicionavimo) sistema, skaičius | K40: 29 | L40: 34 | M40: Programos lėšomis įsigyti kondicionieriai įrengti Slaugos paslaugų namuose tarnyboje, Odontologijos, Pediatrijos skyriuose, Chirurgijos kabinete, Pernaravos, Šėtos, Gudžiūnų, Lančiūnavos ambulatorijose. Kadangi vykdant viešuosius pirkimus sutaupyta lėšų, kondicionierių įsigyta daugiau nei planuota
B41: 002-01-04-06 (PP) | C41: Sveikatos centro sudėtyje teikiamų sveikatos priežiūros paslaugų infrastruktūros modernizavimas Kėdainių rajono savivaldybėje | D41: 1 | E41: Projekto veiklų koordinavimas | F41: Patarėja (sveikatos reikalų koordinatorė), Strateginio planavimo ir investicijų skyrius | G41: ES | H41: 350.5 | I41: 206 | J41: Pateikta paraiška, pasirašyta finansavimo sutartis | K41: 1 | L41: 1 | M41: Pateikta projekto paraiška, pasirašyta finansavimo sutartis kartu su projekto partneriais VšĮ Kėdainių PSPC, VšĮ Kėdainių ligoninė, UAB Žaliakalnio poliklinika ir UAB Kėdainių šeimos klinika. Pradėtos įgyvendinti projekto veiklos, siekiant atnaujinti įstaigų infrastruktūrą ir medicininę bei kitą įrangą
G42: SBVB | H42: 61.9 | I42: 36.3
B43: 002-01-04-08 (TP) | C43: Įvertinti Kėdainių ligoninės ir Kėdainių PSPC rūsių patalpų būklę ir sudaryti jų tvarkymo bei pritaikymo dirbti ekstremaliomis sąlygomis planą | D43: 1 | E43: Priemonės koordinavimas | F43: Patarėja (sveikatos reikalų koordinatorė) | J43: Atliktas vertinimas, parengtas veiksmų planas | K43: 1 | L43: 1 | M43: Vadovaujantis Kėdainių rajono savivaldybės administracijos direktoriaus 2023 m. vasario 23 d. įsakymu Nr. AD-1-219 ,,Dėl priedangos paruošimo ir jos panaudojimo rekomendacijų Kėdainių rajono savivaldybės teritorijoje patvirtinimo" patvirtintomis rekomendacijomis, VšĮ Kėdainių PSPC pasirengė ir paruošė įstaigos pastatų rūsiuose priedangas( rūsys po Pediatrijos skyriumi ir rūsys po Administracijos pastatu) . VšĮ Kėdainių ligoninė ir VšĮ Kėdainių PSPC darbui ekstremaliomis sąlygomis yra pasirengusios ekstremalių situacijų valdymo planus, kuriuos derina su SAM
B45: IŠ VISO | H45: =+H36+H32+H14+H11 -> 1280.1 | I45: =+I36+I32+I14+I11 -> 1044.7
C47: 1. Savivaldybės biudžetas (įskaitant skolintas lėšas) | H47: =SUM(H49:H54) -> 1280.1 | I47: =SUM(I49:I54) -> 1044.7
C48: Iš jo:
C49: 1.1. savivaldybės biudžeto lėšos (nuosavos, be ankstesnių metų likučio) | G49: SB | H49: =+H40+H39+H38+H37+H35+H34+H33+H29+H28+H27+H26+H25+H24+H23+H22+H21+H20+H19+H18+H17+H16+H15+H12 -> 845.6 | I49: =+I40+I39+I38+I37+I35+I34+I33+I29+I28+I27+I26+I25+I24+I23+I22+I21+I20+I19+I18+I17+I16+I15+I12 -> 800.1
C50: 1.2. Lietuvos Respublikos valstybės biudžeto dotacijos | G50: SBVB | H50: =+H13+H42+H31 -> 67.7 | I50: =+I13+I42+I31 -> 38.6
C51: 1.3. Pajamų įmokos ir kitos pajamos | G51: ĮP
C52: 1.4. Europos Sąjungos ir kitos tarptautinės finansinės paramos lėšos | G52: ES | H52: =+H41+H30 -> 366.8 | I52: =+I41+I30 -> 206
C53: 1.5. Skolintos lėšos | G53: SK
C54: 1.6. Ankstesnių metų likučiai | G54: SBL
C55: 2. Kiti šaltiniai (Europos Sąjungos finansinė parama projektams įgyvendinti ir kitos teisėtai gautos lėšos, nurodant atskirus šaltinius) | G55: KT
C56: IŠ VISO programai finansuoti pagal finansavimo šaltinius (1 ir 2 punktai) | H56: =+H55+H47 -> 1280.1 | I56: =+I55+I47 -> 1044.7
C57: Iš jų: regioninių pažangos priemonių lėšos

Sheet 03social.
G1: PATVIRTINTA
G2: Kėdainių rajono savivaldybės administracijos direktoriaus
G3: 2024 m. kovo 8 d. įsakymu Nr.AD-1- 182
G4: (Kėdainių rajono savivaldybės administracijos direktoriaus
G5: 2024 m. gruodžio d. įsakymo Nr.AD-1- redakcija)
B8: Programos uždavinio, priemonės kodas ir požymis | C8: Uždavinio, priemonės pavadinimas | D8: Veiklos kodas | E8: Veiklos pavadinimas | F8: Atsakingas vykdytojas | G8: Finansavimo šaltinis | H8: Numatomi 2024 m. asignavimai ir kitos lėšos | I8: Panaudoti 2024 m. asignavimai ir kitos lėšos | J8: Vertinimo kriterijai
J9: Pavadinimas | K9: Planuota reikšmė | L9: Pasiekta reikšmė | M9: Komentarai, pastabos, nukrypimų nuo plano priežastys
B11: 03 SOCIALINĖS APSAUGOS PLĖTOJIMAS
B12: 003-01-01 (T) | C12: Organizuoti Lietuvos Respublikos teisės aktuose numatytos paramos bei paslaugų asmenims ir šeimoms teikimą, skatinti socialinę integraciją | H12: =SUM(H13:H32) -> 4233.9 | I12: =SUM(I13:I32) -> 3563.5
B13: 003-01-01-01 (TP) | C13: Socialinių išmokų bei kompensacijų (būsto šildymo išlaidų, išlaidų šaltam bei nuotekoms ir išlaidų karštam vandeniui), paramos mirties atveju teikimas ir administravimas | D13: 1 | E13: Koordinavimas, duomenų suvedimas į programą "Parama" | F13: Socialinės paramos skyrius | G13: SBVB | H13: 0 | I13: 0 | J13: Asmenų, gaunančių socialinę pašalpą ir kompensacijas, skaičius | K13: ~10000 | L13: 12410 | M13: Piniginės socialinės paramos gavėjų skaičius ženkliai išaugo dėl pasikeitusių teisės aktų, kurie reglamentavo Valstybės remiamų pajamų didėjimą, kuris tiesiogiai susijęs tiek su kompensacijos dydžiu, tiek nustatant teisę skirti kompensaciją būsto šildymui, šaltam bei karštam vandeniui. Lėšų iš SB reikėjo mažiau, kadangi buvo gauta dotacija iš SBVB lėšų
G14: SB | H14: 1352.2 | I14: 880.4
B15: 003-01-01-02 (TP) | C15: Išlaidų už įsigytus produktus, mokinio reikmenis finansavimas, socialinės paramos mokiniams administravimas | D15: 1 | E15: Koordinavimas, duomenų suvedimas į programą "Parama", informacijos teikimas švietimo įstaigų vadovams | F15: Socialinės paramos skyrius, Švietimo, kultūros ir sporto skyrius | G15: SBVB | H15: 996.3 | I15: 972.9 | J15: Mokinių, gaunančių nemokamą maitinimą, skaičius | K15: ~2140 | L15: 2038 | M15: Mokinių, gaunančių socialinę paramą, skaičius sumažėjo, bet lėšos padidėjo dėl pasikeitusio bazinės socialinės išmokos dydžio ir lėšų, skiriamų maisto produktams įsigyti, didėjimo.
J16: Mokinių, gaunančių būtiniausius mokinio reikmenis, skaičius | K16: ~1320 | L16: 1223
B17: 003-01-01-03 (TP) | C17: Nemokamo socialiai remtinų vaikų maitinimo ikimokyklinėse įstaigose organizavimas | D17: 1 | E17: Informacijos rinkimas, ikimokyklinių įstaigų užmokesčio už vaikų išlaikymą analizė | F17: Švietimo, kultūros ir sporto skyrius | G17: SB | H17: 100 | I17: 89.9 | J17: Vaikų, gaunančių nemokamą maitinimą, skaičius | K17: ~400 | L17: 480 | M17: 480 vaikų iš dalies arba visiškai atleisti nuo mokesčio už maitinimą
B18: 003-01-01-04 (TP) | C18: Nemokamo mokinių maitinimo kainos bendrojo ugdymo mokyklose kompensavimas | D18: 1 | E18: Koordinavimas, duomenų rinkimas, apmokėjimas maitinimo paslaugų teikėjams bei įstaigoms | F18: Socialinės paramos skyrius, Apskaitos skyrius | G18: SB | H18: 206.6 | I18: 206.6 | J18: Mokinių, gaunančių nemokamą maitinimą, skaičius | K18: ~2140 | L18: 2038 | M18: 2038 mokiniams kompensuota nemokamo maitinimo kaina
B19: 003-01-01-05 (TP) | C19: Kelionės išlaidų už lengvatinį keleivių vežimą kompensavimas | D19: 1 | E19: Duomenų ir pateisinamųjų dokumentų iš vežėjų ir įstaigų rinkimas, sisteminimas, analizė ir teikimas Apskaitos bei Biudžeto ir finansų skyriams | F19: Statybos skyrius, Apskaitos skyrius | G19: SB | H19: 796.7 | I19: 795.4 | J19: Finansavimo skyrimo plano vykdymas (proc.) | K19: 100 | L19: 100 | M19: UAB "Kėdbusas" finansuota 795,4 tūkst. Eur už keleivių, turinčių teisę į lengvatas pagal LR Transporto lengvatų įstatymą (moksleiviai, senjorai, asmenys su negalia, užsieniečiai, pasitraukę iš Ukrainos dėl Rusijos Federacijos karinių veiksmų) vežimą. Keleivių skaičius, lyginant su ankstesniais laikotarpiais, išlieka stabilus.
B20: 003-01-01-06 (TP) | C20: Lietuvos Respublikos 2024 metų piniginės socialinės paramos nepasiturintiems gyventojams įstatymo įgyvendinimo užtikrinimas | D20: 1 | E20: Priemonės koordinavimas | F20: Socialinės paramos skyrius | G20: SBVB | H20: 348.9 | I20: 348.9 | J20: Funkcijos vykdymo užtikrinimas | K20: 100 | L20: 100 | M20: Teikta parama pagal poreikį, pagal teisės aktų nuostatas
B21: 003-01-01-07 (TP) | C21: Kompensacijų nepriklausomybės gynėjams mokėjimas | D21: 1 | E21: Priemonės koordinavimas | F21: Socialinės paramos skyrius, Apskaitos skyrius | G21: SBVB | H21: 7.3 | I21: 4.2 | J21: Asmenų, gavusių kompensacijas, skaičius | K21: 13 | L21: 13 | M21: 13 asmenų skirta kompensacija
B22: 003-01-01-10 (TP) | C22: Tikslinių kompensacijų teikimas | D22: 1 | E22: Priemonės koordinavimas | F22: Socialinės paramos skyrius, Apskaitos skyrius | G22: SBVB | H22: 0.2 | I22: 0.1 | J22: Paramos pagal poreikį teikimas | K22: pagal poreikį | L22: pagal poreikį | M22: Teikta parama pagal poreikį, pagal teisės aktų nuostatas
B23: 003-01-01-11(TP) | C23: Būsto nuomos ar išperkamosios būsto nuomos mokesčių dalies kompensavimas | D23: 1 | E23: Asmenų konsultavimas, prašymų priėmimas, sąrašų sudarymas, duomenų vedimas į SPIS programą | F23: Socialinės paramos skyrius | G23: SBVB | H23: 7.7 | I23: 4.3 | J23: Asmenų, gavusių būsto nuomos ar išperkamosios būsto nuomos mokesčių dalies kompensaciją, skaičius | K23: 10 | L23: 8 | M23: Vykdytas viešinimas ir konsultacijos dėl galimybės pasinaudoti šia paslauga, 8 asmenims (šeimoms) skirta kompensacija
B24: 003-01-01-12 (TP) | C24: Išlaidų už būsto suteikimą užsieniečiams, pasitraukusiems iš Ukrainos dėl Rusijos Federacijos karinių veiksmų Ukrainoje finansavimas | D24: 1 | E24: Priemonės koordinavimas | F24: Socialinės paramos skyrius | G24: SBVB | H24: 31.3 | I24: 31.2 | J24: Paramos pagal poreikį teikimas | K24: pagal poreikį | L24: pagal poreikį | M24: Teikta parama pagal poreikį, pagal teisės aktų nuostatas
B25: 003-01-01-13 (TP) | C25: Savivaldybės patirtų išlaidų kompensavimas užsieniečiams, pasitraukusiems iš Ukrainos dėl Rusijos Federacijos karinių veiksmų Ukrainoje, priimti ir pagalbai jiems teikti įgyvendinant Lietuvos Respublikos piniginės socialinės paramos nepasiturintiems gyventojams įstatymą | D25: 1 | E25: Priemonės koordinavimas | F25: Socialinės paramos skyrius, Apskaitos skyrius | G25: SBVB | H25: 171 | I25: 171 | J25: Funkcijos vykdymo užtikrinimas, proc | K25: 100 | L25: 100 | M25: Teikta parama pagal poreikį, pagal teisės aktų nuostatas
B26: 003-01-01-14 (TP) | C26: Vienkartinių išmokų teikimas įsikurti gyvenamojoje vietoje savivaldybės teritorijoje ir (ar) mėnesinių kompensacijų teikimas už kompensacijas vaiko ugdymo pagal ikimokyklinio ir priešmokyklinio ugdymo programą | D26: 1 | E26: Priemonės koordinavimas | F26: Socialinės paramos skyrius, Švietimo skyrius, Apskaitos skyrius | G26: SBVB | H26: 8.5 | I26: 8.4 | J26: Paramos pagal poreikį teikimas | K26: pagal poreikį | L26: pagal poreikį | M26: Teikta parama pagal poreikį, pagal teisės aktų nuostatas
B27: 003-01-01-15 (TP) | C27: Socialinės paramos teikimas mokiniams pagal Lietuvos Respublikos socialinės paramos mokiniams įstatymą užsieniečiams, pasitraukusiems iš Ukrainos dėl Rusijos federacijos karinių veiksmų Ukrainoje | D27: 1 | E27: Priemonės koordinavimas | F27: Socialinės paramos skyrius, Apskaitos skyrius | G27: SBVB | H27: 34.5 | I27: 34.5 | J27: Funkcijos vykdymo užtikrinimas, proc | K27: 100 | L27: 100 | M27: Teikta parama pagal poreikį, pagal teisės aktų nuostatas
B28: 003-01-01-16 (TP) | C28: Paramos būstui išsinuomoti teikimas pagal Lietuvos Respublikos paramos būstui įsigyti ar išsinuomoti įstatymą užsieniečiams, pasitraukusiems iš Ukrainos dėl Rusijos federacijos karinių veiksmų Ukrainoje | D28: 1 | E28: Priemonės koordinavimas | F28: Socialinės paramos skyrius | G28: SBVB | H28: 4.1 | I28: 4.1 | J28: Paramos pagal poreikį teikimas | K28: pagal poreikį | L28: pagal poreikį | M28: Teikta parama pagal poreikį, pagal teisės aktų nuostatas
B29: 003-01-01-17 (TP) | C29: Išlaidų patirtų teikiant specialiąsias socialines paslaugas užsieniečiams, pasitraukusiems iš Ukrainos dėl Rusijos federacijos karinių veiksmų Ukrainoje, apmokėjimas | D29: 1 | E29: Priemonės koordinavimas | F29: Socialinės paramos skyrius | G29: SBVB | H29: 0.8 | I29: 0.8 | J29: Funkcijos vykdymo užtikrinimas, proc | K29: 100 | L29: 100 | M29: Teikta parama pagal poreikį, pagal teisės aktų nuostatas
B30: 003-01-01-18 (TP) | C30: Projekto „Pabėgėlių iš Ukrainos priėmimas ir ankstyva integracija "įgyvendinimas | D30: 1 | E30: Projekto veiklų koordinavimas | F30: Vyr. specialistas (nevyriausybinių organizacijų koordinatorius), Socialinės paramos skyrius | G30: ES | H30: 10 | I30: 9.8 | J30: Vykdomų integracijos veiklų / įgyvendinimo proc. | K30: 10/100 | L30: 10/100 | M30: Visos suplanuotos projekto, finansuoto iš Prieglobsčio, Migracijos ir integracijos fondo priemonės „Pagalba ekstremaliosios situacijos atveju” lėšų, veiklos įgyvendintos 100 proc. Per visą projekto įgyvendinimo laikotarpį projekto veiklose dalyvavo 549 tikslinės grupės dalyviai
B31: 003-01-01-20 (TP) | C31: Laikino atokvėpio paslaugai teikti ir administruoti | D31: 1 | E31: Projekto veiklų koordinavimas | F31: Socialinės paramos skyrius | G31: SBVB | H31: 157.3 | I31: 0.5 | J31: Funkcijos vykdymo užtikrinimas, proc. | K31: 100 | L31: 100 | M31: Paslauga pradėta teikti ir finansuoti nuo 2024 m. liepos 1 d. Per šį laikotarpį, laikino atokvėpio paslaugai gauti kreipėsi 1 asmuo
B32: 003-01-01-21 (TP) | C32: Dotacija skirta išlaidoms, patirtoms mokant laidojimo pašalpą Lietuvos Respublikos socialinės paramos mirties atveju įstatymą užsieniečiams, pasitraukusiems iš Ukrainos dėl Rusijos federacijos karinių veiksmų Ukrainoje | D32: 1 | E32: Priemonės koordinavimas | F32: Socialinės paramos skyrius Apskaitos skyrius | G32: SBVB | H32: 0.5 | I32: 0.5 | J32: Funkcijos vykdymo užtikrinimas, proc | K32: 100 | L32: 100 | M32: Teikta parama pagal poreikį, panaudota 0,5 tūkst. Eur
B33: 003-01-02 (T) | C33: Gerinti socialinę aplinką ir didinti socialinės paramos įvairovę | H33: =SUM(H34:H37) -> 264.3 | I33: =SUM(I34:I37) -> 225.8
B34: 003-01-02-02 (TP) | C34: Kainų skirtumo gyventojams už šildymą kompensavimas | D34: 1 | E34: Apmokėjimų užtikrinimas paslaugų teikėjams | F34: Apskaitos skyrius | G34: SB | H34: 85 | I34: 64.6 | J34: Kainų skirtumo už šildymą kompensavimas teisės aktų nustatyta tvarka, proc. | K34: 100 | L34: 100 | M34: Gyventojams kompensuotas kainų skirtumas už šildymą. Lėšos kompensacijoms skiriamos atsižvelgiant į gyventojų gaunamas pajamas, šildymo sezono trukmę
B35: 003-01-02-03 (TP) | C35: Karšto ir šalto vandens pardavimo kainos socialiai remtiniems asmenims kompensavimas | D35: 1 | E35: Koordinavimas, duomenų teikimas paslaugų teikėjams | F35: Socialinės paramos skyrius, Apskaitos skyrius | G35: SB | H35: 155 | I35: 138 | J35: Karšto ir šalto vandens pardavimo kainos kompensavimas teisės aktų nustatyta tvarka, proc. | K35: 100 | L35: 100 | M35: Asmenims kompensuota karšto ir šalto vandens pardavimo kaina
B36: 003-01-02-04 (TP) | C36: Vienkartinė išmoka gimus vaikui Lietuvos Respublikos teritorijoje ir gyvenančiam Kėdainių rajono savivaldybėje | D36: 1 | E36: Išmokų pervedimas | F36: Apskaitos skyrius | G36: SB | H36: 21.3 | I36: 20.2 | J36: Asmenų, gaunančių kompensaciją, skaičius | K36: ~300 | L36: 202 | M36: 202 vaikams, gimusiems Lietuvoje ir gyvenantiems Kėdainių r. savivaldybėje išmokėtos 100 Eur vienkartinės išmokos.
B37: 003-01-02-07 (TP) | C37: Teikti Metų socialinio darbuotojo apdovanojimą | D37: 1 | E37: Metų socialinio darbuotojo konkurso organizavimas | F37: Socialinės paramos skyrius | G37: SB | H37: 3 | I37: 3 | J37: Įteiktas Metų socialinio darbuotojo apdovanojimas | K37: 1 | L37: 1 | M37: Metų socialinio darbuotojo apdovanojimas skirtas Josvainių socialinio ir ugdymo centro direktorės pavaduotojai socialiniams reikalams Jolantai Maruozienei
B38: 003-01-03 (T, P) | C38: Užtikrinti ir gerinti socialines paslaugas, teikiamas institucijose, namuose ir bendruomenėje pagyvenusio ir senyvo amžiaus asmenims | H38: =SUM(H39:H50) -> 1613.4 | I38: =SUM(I39:I50) -> 1697.3
B39: 003-01-03-01 (TP) | C39: Socialinės globos ir akredituotos socialinės priežiūros paslaugų teikiamo finansavimas ne savivaldybės pavaldumo ir nevyriausybinėse organizacijose, paslaugų įsigijimas | D39: 1 | E39: Apmokėjimas už suteiktas paslaugas ne savivaldybės pavaldumo globos įstaigoms | F39: Apskaitos skyrius, Socialinės paramos skyrius | G39: SB | H39: 640 | I39: 762.3 | J39: Tiekėjų, teikiančių paslaugas, skaičius | K39: 20 | L39: 35 | M39: Asmenims, kuriems nustatytas socialinių paslaugų poreikis, socialinę globą teikė 33 teikėjai, socialinės priežiūros paslaugas - 2. Socialinės paslaugos finansuotos pagal socialinių paslaugų teikimo ir finansavimo sutartis. Per 2024 m. 137 asmenims finansuotos socialinės globos ir akredituotos socialinės priežiūros paslaugos ne savivaldybės pavaldumo įstaigose
B40: 003-01-03-02 (TP) | C40: Finansinės paramos šeimynos teikimas | D40: 1 | E40: Priemonės koordinavimas | F40: Socialinės paramos skyrius, Apskaitos skyrius | G40: SB | H40: 5 | I40: 0 | J40: Paramą, gaunančių šeimynų skaičius | K40: 2 | L40: 0 | M40: Poreikio paramai nebuvo iš SB lėšų nebuvo, šeimynos finansuotos tikslinėmis lėšomis
B41: 003-01-03-07 (TP) | C41: Savarankiško gyvenimo namų paslaugų asmenims su sutrikusiu intelektu teikimo programa | D41: 1 | E41: Sutarčių su vykdytojais suderinimas, priemonių koordinavimas ir vykdymo kontrolė | F41: Socialinės paramos skyrius | G41: SB | H41: 105 | I41: 105 | J41: Paslaugas gavusių asmenų skaičius | K41: 21 | L41: 21 | M41: Finansuota VšĮ "Gyvenimo namai sutrikusio intelekto asmenims" programa, įstaiga paslaugas teikė 21 asmeniui
B42: 003-01-03-08 (TP) | C42: Įgyvendinti savarankiško gyvenimo namų paslaugų senyvo amžiaus asmenims teikimo programą | D42: 1 | E42: Sutarčių su vykdytojais suderinimas, priemonių koordinavimas ir vykdymo kontrolė | F42: Socialinės paramos skyrius | G42: SB | H42: 15 | I42: 15 | J42: Paslaugas gavusių asmenų skaičius | K42: 5 | L42: 5 | M42: Finansuota VšĮ "Langakių savarankiško gyvenimo namai" programa, paslaugos teiktos 5 asmenims
B43: 003-01-03-10 (TP) | C43: Socialinės reabilitacijos paslaugų neįgaliesiems bendruomenėje organizavimas | D43: 1 | E43: Projektų konkurso organizavimas, projektų koordinavimas, sutarčių vykdymo kontrolė | F43: Socialinės paramos skyrius | G43: SBVB | H43: 80.7 | I43: 78.9 | J43: Neįgaliųjų, gavusių paslaugas, skaičius | K43: ~180 | L43: 179 | M43: Socialinės reabilitacijos asmenims su negalia bendruomenėje paslaugas teikė 5 organizacijos, kuriose paslaugas gavo 179 asmenys su negalia
G44: SB | H44: 51.9 | I44: 50.2
B45: 003-01-03-11 (TP) | C45: Socialinių dirbtuvių paslaugos organizavimas | D45: 1 | E45: Paslaugų gavėjų pavėžėjimo užtikrinimas | F45: Socialinės paramos skyrius | G45: SB | H45: 40.3 | I45: 27.3 | J45: Paslaugų gavėjų skaičius | K45: 12 | L45: 12 | M45: 12 asmenų gavo socialinių dirbtuvių paslaugą. Ugdyti asmenų su negalia darbiniai įgūdžiai, pagaminti rankdarbiai realizuoti mugėse
B46: 003-01-03-13 (TP) | C46: Socialinės globos asmenims su sunkia negalia teikimas | D46: 1 | E46: Koordinavimas, apmokėjimas už suteiktas paslaugas ne savivaldybės pavaldumo globos įstaigoms | F46: Socialinės paramos skyrius | G46: SBVB | H46: 573.1 | I46: 573.1 | J46: Globojamų asmenų skaičius/globojamų asmenų, kuriems teikiamos paslaugos, procentas, palyginus su visais asmenimis, kuriems nustatytas paslaugos poreikis | K46: ~254/98 | L46: 272/98,3 | M46: Tiek namuose, tiek socialinės globos įstaigose socialinės globos paslaugas gaunančių asmenų su sunkia negalia skaičius didėjo. Globos teikimas užtikrintas laikantis terminų, nustatytų teisės aktuose
B47: 003-01-03-14 (TP) | C47: Asmeninės pagalbos teikimas ir administravimas | D47: 1 | E47: Asmenų konsultavimas, prašymų priėmimas, sprendimų dėl paslaugų skyrimo rengimas, lėšų poreikio apskaičiavimas ir lėšų pervedimas paslaugos teikėjui, finansinių ir dalykinių ataskaitų teikimas | F47: Socialinės paramos skyrius | G47: SBVB | H47: 44.9 | I47: 43.2 | J47: Asmenų, gaunančių išmokas, skaičius | K47: 21 | L47: 19 | M47: 19 asmenų teikta asmeninė pagalba asmens higienos, mitybos, judėjimo/mobilumo, socialinių santykių kūrimo/palaikymo srityse. Asmeninė pagalba 1 asmeniui teikta 2-3 kartus per savaitę po 2-3 val./1 kart.
B48: 003-01-03-15 (TP) | C48: Asmenų su negalia koordinavimas | D48: 1 | E48: Asmenų su negalia klausimų koordinavimas teisės aktų nustatyta tvarka | F48: Socialinės paramos skyrius | G48: SBVB | H48: 24.4 | I48: 20.2 | J48: Žmonių su negalia klausimų koordinavimo funkcijos vykdymas, proc. | K48: 100 | L48: 100 | M48: Įsteigta Asmens su negalia gerovės taryba, parengti ir patvirtinti tarybos veiklą reglamentuojantys dokumentai. Parengta ir patvirtinta informacijos rengimo ir teikimo asmenims su negalia jų pasirinktais prieinamais bendravimo būdais tvarka
B49: 003-01-03-16 (TP) | C49: Teikti atvejo vadybininko paslaugą, asmenims turintiems intelekto ir (ar) psichikos negalią | D49: 1 | E49: Paslaugų, reikalingų asmenims, turintiems individualių ir kompleksinių poreikių, vertinimas, planavimas, organizavimas ir koordinavimas | F49: Socialinės paramos skyrius | G49: ES | H49: 19 | I49: 8.4 | J49: Asmenų, turinčių intelekto ir (ar) psichikos negalią, klausimų koordinavimo funkcijos vykdymas, proc. | K49: 100 | L49: 100 | M49: 2024 m. savivaldybės administracijoje įsteigta atvejo vadybininko pareigybė, teikti paslaugas asmenims turintiems intelekto ir (ar) psichikos negalią. Atvejo vadyba taikyta 6 asmenims
B50: 003-01-03-17 (TP) | C50: Administruoti materialinio nepritekliaus mažinimo programą Lietuvoje | D50: 1 | E50: Programos administravimas | F50: Socialinės paramos skyrius, Apskaitos skyrius | G50: ES | H50: 14.1 | I50: 13.7 | J50: Paramos gavėjų skaičius | K50: ~5200 | L50: 5200 | M50: Teikta parama labiausiai skurstantiems asmenims, įskaitant vaikus, suteikiant pagalbą asmenims įsigyti maisto produktus ir (ar) būtinojo vartojimo prekes, siekiant spręsti materialinio nepritekliaus problemą
B51: 003-01-04 (T) | C51: Užtikrinti ir gerinti stacionarias ir nestacionarias socialines paslaugas socialinę riziką patiriančioms šeimoms, asmenims ir vaikams | H51: =SUM(H52:H58) -> 385 | I51: =SUM(I52:I58) -> 375.4
B52: 003-01-04-04 (TP) | C52: Vaikų dienos centrų veiklos programų finansavimas | D52: 1 | E52: Sutarčių sudarymas, programų įgyvendinimo priežiūros organizavimas | F52: Socialinės paramos skyrius | G52: SB | H52: 118 | I52: 109.9 | J52: Finansuotų vaikų dienos centrų skaičius/veiklose dalyvavusių vaikų, jaunuolių skaičius | K52: 9/180 | L52: 9/180 | M52: Finansuotos 9 vaikų dienos centrų veiklos, kuriose dalyvavo 180 vaikų
G53: SBVB | H53: 161.5 | I53: 161.5
B54: 003-01-04-05 (TP) | C54: Pagalbos į krizines situacijas patekusiems, smurtą artimoje aplinkoje patyrusiems asmenims ir jų šeimų nariams teikimas | D54: 1 | E54: Konkurso organizavimas, priemonių koordinavimas, sutarčių vykdymo kontrolė | F54: Socialinės paramos skyrius | G54: SB | H54: 19 | I54: 19 | J54: Asmenų, kuriems suteikta psichologinė, konsultacinė pagalba, skaičius | K54: ~100 | L54: 90 | M54: Teikta psichosocialinė pagalba krizines situacijas ir smurtą artimoje aplinkoje išgyvenantiems asmenims, vykdyta smurto artimoje aplinkoje prevencinė ̸ švietėjiška veikla, siekiant mažinti smurtą artimoje aplinkoje, didinti šeimos gerovę, mažinti socialinę atskirtį ir didinti socialinę integraciją
B55: 003-01-04-06 (TP) | C55: Pagalbos į krizines situacijas patekusiems, smurtą artimoje aplinkoje keliantiems asmenims ir jų šeimų nariams teikimas | D55: 1 | E55: Konkurso organizavimas, priemonių koordinavimas, sutarčių vykdymo kontrolė | F55: Socialinės paramos skyrius | G55: SB | H55: 11 | I55: 9.5 | J55: Asmenų, kuriems suteikta psichologinė, konsultacinė pagalba, skaičius | K55: ~30 | L55: 10 | M55: Smurtą artimoje aplinkoje keliantiems asmenims teiktos individualios ir grupinės konsultacijos, psichosocialinis konsultavimas, taikyti mišrūs intervenciniai smurtinio elgesio keitimo metodai smurtaujantiems asmenims, ugdytas jų gebėjimas taikyti nesmurtinį elgesį.
B56: 003-01-04-07 (TP) | C56: Laisvės atėmimo bausmę atlikusių asmenų integracijos į visuomenę užtikrinimas | D56: 1 | E56: Sutarčių su vykdytojais suderinimas, priemonių koordinavimas ir vykdymo kontrolė | F56: Socialinės paramos skyrius | G56: SB | H56: 10 | I56: 10 | J56: Asmenų, kuriems suteikta pagalba, skaičius | K56: ~40 | L56: 62 | M56: Finansuota Kauno arkivyskupijos Caritas programa, individuali socialinė pagalba teikta 62 asmenims, siekiant sėkmingos socialinės integracijos.
B57: 003-01-04-08 (TP) | C57: Socialiai pažeidžiamų asmenų, neturinčių gyvenamosios vietos, gyvybiškai svarbiausių poreikių užtikrinimas | D57: 1 | E57: Konkurso organizavimas, priemonių koordinavimas, sutarčių vykdymo kontrolė | F57: Socialinės paramos skyrius | G57: SB | H57: 12 | I57: 12 | J57: Asmenų, kuriems suteikta pagalba, skaičius | K57: ~15 | L57: 27 | M57: Suteiktos kompleksinės socialinės gyvybiškai svarbiausių poreikių užtikrinimo paslaugos socialiai pažeidžiamiems asmenims, neturintiems gyvenamosios vietos. Maitinimo, švaros įgūdžių ugdymo ir palaikymo, palydėjimo paslaugos suteiktos 27 asmenims (unikalūs)
B58: 003-01-04-10 (TP) | C58: Kėdainių rajono savivaldybės užimtumo didinimo programos įgyvendinimas | D58: 1 | E58: Programos koordinavimas | F58: Socialinės paramos skyrius | G58: SBVB | H58: 53.5 | I58: 53.5 | J58: Pasibaigus užimtumo didinimo programoms po 6 mėnesių dirbs arba vykdys savarankišką veiklą asmenų dalis iš užimtumo didinimo programų dalyvių skaičiaus (procentai) | K58: ~13 | L58: 15.4 | M58: Programoje dalyvavo 149 asmenys. Vykdant programą, seniūnijose pagal terminuotas darbo sutartis buvo įdarbinti 69 asmenys. Pasibaigus 2024 m. užimtumo didinimo programai po 6 mėnesių dirbo 23 asmenys
B59: 003-01-05 (T, P) | C59: Modernizuoti socialines paslaugas teikiančių įstaigų ir socialinio būsto infrastruktūrą, didinant gyventojų socialinę gerovę | H59: =SUM(H60:H65) -> 598.2 | I59: =SUM(I60:I65) -> 562.6
B60: 003-01-05-01 (TP) | C60: Socialinių būstų įsigijimas | D60: 1 | E60: Socialinės paskirties butų pirkimo organizavimas, sutarčių sudarymas, sutarčių vykdymo kontrolė | F60: Turto valdymo skyrius, Socialinės paramos skyrius | G60: SB | H60: 158.6 | I60: 158.6 | J60: Įsigytų socialinės paskirties butų skaičius | K60: 5 | L60: 4 | M60: Nupirkti 4 butai socialinio būsto plėtrai, tam panaudota 158,6 tūkst. Eur lėšų, gautų pardavus savivaldybės būstą ir savivaldybės biudžeto lėšų
B61: 003-01-05-03 (TP) | C61: Savivaldybės ir socialinio būsto remontas | D61: 1 | E61: Poreikio surinkimas, informacijos susisteminimas, komisijos darbo organizavimas, viešųjų pirkimų organizavimas, rangovo prisiimtų sutartinių įsipareigojimų vykdymo kontrolė | F61: Socialinės paramos skyrius, Statybos skyrius | G61: SB | H61: 200 | I61: 197.9 | J61: Einamaisiais metais pagal poreikį atliktų remontų socialiniuose būstuose skaičius, proc. | K61: 100 | L61: 100 | M61: Suremontuota 10 bendrabučio tipo kambarių ir I a. koridorius, adresu Žemaitės g. 10. Taip pat suremontuoti 4 socialiniai būstai. Pagal pateiktus socialiniame ir savivaldybės būste gyvenančių asmenų prašymus, apsvarstytus Socialinių ir savivaldybės būstų remonto komisijoje, atlikti remonto darbai
B62: 003-01-05-04 (TP) | C62: Prisidėjimas prie Savivaldybei priklausančio būsto renovacijos savivaldybės biudžeto lėšomis | D62: 1 | E62: Apmokėjimo užtikrinimas pagal pateiktas paraiškas | F62: Apskaitos skyrius | G62: SB | H62: 16.7 | I62: 14 | J62: Finansavimas pagal teikiamą poreikį | K62: 100 | L62: 100 | M62: Pagal poreikį kompensuotos savivaldybei priklausančio būsto renovacijos išlaidos
B63: 003-01-05-05 (TP) | C63: Viešosios aplinkos pritaikymas specialiųjų poreikių turintiems gyventojams | D63: 1 | E63: Poreikio surinkimas, viešųjų pirkimų organizavimas, rangovo prisiimtų sutartinių įsipareigojimų vykdymo kontrolė | F63: Socialinės paramos skyrius, Statybos skyrius | G63: SB | H63: 170 | I63: 139.9 | J63: Objektų, pritaikytų neįgaliųjų poreikiams, skaičius | K63: 3 | L63: 3 | M63: Aplinką pritaikant specialiųjų poreikių turintiems asmenims, įrengti šiuolaikiški keltuvai Josvainių gimnazijoje, lopšelyje-darželyje "Pasaka" bei Spindulio mokyklos pastate, kuriame įsikūrusios 5 įstaigos – Lietuvos aklųjų ir silpnaregių sąjungos Kėdainių r. filialas, Lietuvos kurčiųjų draugijos Kėdainių skyrius, Kėdainių rajono visuomenės sveikatos biuras, asociacija „Mes kitokie vaikai“, Kėdainių moterų krizių centro „Daiktų bankas“. Taip pat prie Spindulio mokyklos įrengta automobilių stovėjimo aikštelė ir suremontuotas kelias
B64: 003-01-05-06 (TP) | C64: Būsto pritaikymo neįgaliesiems organizavimas ir dalinis kompensavimas | D64: 1 | E64: Poreikio identifikavimas, viešųjų pirkimų organizavimas, sutarties vykdymo koordinavimas | F64: Socialinės paramos skyrius | G64: SBVB | H64: 44.9 | I64: 44.2 | J64: Pritaikytų būstų neįgaliesiems skaičius | K64: 5 | L64: 8 | M64: Asmenų su negalia poreikiams pritaikyti 8 būstai
B65: 003-01-05-09 (TP) | C65: Būsto įsigijimas nakvynės namų poreikiams | D65: 1 | E65: Pirkimo procedūrų organizavimas ir vykdymas | F65: Turto valdymo skyrius | G65: SB | H65: 8 | I65: 8 | J65: Įsigytų būstų skaičius | K65: 1 | L65: 1 | M65: Šėtos g. 91 name įsigytas būstas nakvynės namų poreikiams
B66: IŠ VISO | H66: =+H59+H51+H38+H33+H12 -> 7094.8 | I66: =+I59+I51+I38+I33+I12 -> 6424.6
C68: 1. Savivaldybės biudžetas (įskaitant skolintas lėšas) | H68: =SUM(H70:H75) -> 7094.8 | I68: =SUM(I70:I75) -> 6424.6
C69: Iš jo:
C70: 1.1. savivaldybės biudžeto lėšos (nuosavos, be ankstesnių metų likučio) | G70: SB | H70: =+H63+H62+H61+H60+H57+H56+H55+H54+H52+H45+H44+H42+H41+H40+H39+H37+H36+H35+H34+H19+H18+H17+H14+H65 -> 4300.3 | I70: =+I63+I62+I61+I60+I57+I56+I55+I54+I52+I45+I44+I42+I41+I40+I39+I37+I36+I35+I34+I19+I18+I17+I14+I65 -> 3836.7
C71: 1.2. Lietuvos Respublikos valstybės biudžeto dotacijos | G71: SBVB | H71: =+H13+H15+H21+H23+H43+H46+H47+H53+H58+H64+H48+H24+H26+H29+H28+H27+H25+H22+H31+H20+H32 -> 2751.4 | I71: =+I13+I15+I21+I23+I43+I46+I47+I53+I58+I64+I48+I24+I26+I29+I28+I27+I25+I22+I31+I20+I32 -> 2556
C72: 1.3. Pajamų įmokos ir kitos pajamos | G72: ĮP
C73: 1.4. Europos Sąjungos ir kitos tarptautinės finansinės paramos lėšos | G73: ES | H73: =+H30+H49+H50 -> 43.1 | I73: =+I30+I49+I50 -> 31.9
C74: 1.5. Skolintos lėšos | G74: SK
C75: 1.6. Ankstesnių metų likučiai | G75: SBL
C76: 2. Kiti šaltiniai (Europos Sąjungos finansinė parama projektams įgyvendinti ir kitos teisėtai gautos lėšos, nurodant atskirus šaltinius) | G76: KT
C77: IŠ VISO programai finansuoti pagal finansavimo šaltinius (1 ir 2 punktai) | H77: =+H76+H68 -> 7094.8 | I77: =+I76+I68 -> 6424.6
C78: Iš jų: regioninių pažangos priemonių lėšos

Sheet 04sport.
G1: PATVIRTINTA
G2: Kėdainių rajono savivaldybės administracijos direktoriaus
G3: 2024 m. kovo 8 d. įsakymu Nr.AD-1- 182
G4: (Kėdainių rajono savivaldybės administracijos direktoriaus
G5: 2024 m. gruodžio d. įsakymo Nr.AD-1- redakcija)
B8: Programos uždavinio, priemonės kodas ir požymis | C8: Uždavinio, priemonės pavadinimas | D8: Veiklos kodas | E8: Veiklos pavadinimas | F8: Atsakingas vykdytojas | G8: Finansavimo šaltinis | H8: Numatomi 2024 m. asignavimai ir kitos lėšos | I8: Panaudoti 2024 m. asignavimai ir kitos lėšos | J8: Vertinimo kriterijai
J9: Pavadinimas | K9: Planuota reikšmė | L9: Pasiekta reikšmė | M9: Komentarai, pastabos, nukrypimų nuo plano priežastys
B11: 04 SPORTO VEIKLOS PLĖTRA
B12: 004-01-01 (T) | C12: Skatinti gyventojų fizinį aktyvumą, vystyti įvairias gyventojų poreikius atitinkančias sporto šakas | H12: =SUM(H13:H16) -> 143.8 | I12: =SUM(I13:I16) -> 141.9
B13: 004-01-01-01 (TP) | C13: Neįgaliųjų ir senjorų fizinio aktyvumo skatinimas, sporto renginių ir sporto treniruočių stovyklų organizavimas | D13: 1 | E13: Sportinės veiklos organizavimas, koordinavimas | F13: Švietimo, kultūros ir sporto skyrius | G13: SB | H13: 12 | I13: 12 | J13: Fizinio aktyvumo ir sporto renginių skaičius / senjorų sporto šakų skaičius / stovyklų skaičius | K13: 6/ 5 | L13: 7/ 6 | M13: Suorganizuotos ir įvykdytos rajoninės tarporganizacinės neįgaliųjų šaškių, bočios, stalo teniso varžybos, paraplegikų spartakiada, žygiai su šiaurietiškomis lazdomis, Kėdainių r. žmonių su fizine negalia komandos dalyvavo Lietuvos žmonių su fizine negalia bočios, stalo teniso, biliardo-pulo, rankų lenkimo čempionatuose, finansuotos 4 sportinės treniruočių stovyklos, kuriose dalyvavo 15 asmenų. Kėdainių r. veteranų komandos dalyvavo Lietuvos senjorų futbolo pirmenybėse ir Lietuvos veteranų krepšinio lygos 70+ gr. čempionate, kuriame iškovojo sidabro medalius. Dalinai finansuotos 2 sporto treniruočių stovyklos, kuriose dalyvavo 28 asmenys.
B14: 004-01-01-02 (TP) | C14: Rajoninių, respublikinių, tarptautinių visų amžiaus grupių aukšto meistriškumo sporto renginių ir aukšto meistriškumo sporto treniruočių stovyklų organizavimas | D14: 1 | E14: Sportinės veiklos organizavimas, koordinavimas | F14: Švietimo, kultūros ir sporto skyrius | G14: SB | H14: 61.5 | I14: 59.6 | J14: Suorganizuotų rajoninių, respublikinių ir tarptautinių sporto renginių skaičius / stovyklų skaičius | K14: 18/5 | L14: 18/8 | M14: Kėdainių r. pirmą kartą įvykdytas Lietuvos automobilių mini ralio čempionato I etapas „Daumantų Rally Kėdainiai“, įvykdytos bėgimo varžybos „Šėta 2024“ ir LBT XI etapas, respublikinės vaikų sportinio ėjimo varžybos „Krakės 2024“ Baltijos galiūnų komandinis čempionatas; surengtos rajono krepšinio, futbolo, šachmatų ir šaškių sprendimo, teniso, stalo teniso asmeninių ir mišrių dvejetų, sportinių šokių, karate, žolės riedulio ir kitų sporto šakų pirmenybės ir taurės varžybos bei kiti renginiai. Pasiruošimui ir dalyvavimui šalies ir tarptautiniuose sporto renginiuose surengta 8 sporto treniruočių stovyklų (29 dalyviai). Kėdainių rajono sportininkai ir komandos šalies pirmenybėse, čempionatuose, tarptautinėse varžybose įvairaus amžiaus grupėse ir atskirose sporto šakose laimėjo 71 medalį
B15: 004-01-01-03 (TP) | C15: Vaikų mokymo plaukti veiklos programa, dalyvaujant projekte „Mokėk plaukti ir saugiau elgtis vandenyje“ | D15: 1 | E15: Sutarčių su vykdytojais suderinimas, priemonių koordinavimas ir vykdymo kontrolė | F15: Švietimo, kultūros ir sporto skyrius | G15: SB | H15: 10.3 | I15: 10.3 | J15: Programoje dalyvaujančių vaikų skaičius / plaukimo pamokų sk. | K15: 300/14 | L15: 300/14 | M15: Organizuotos mokymo plaukti pamokos 2–4 klasių mokiniams. Mokymo plaukti programa finansuojama Lietuvos plaukimo federacijos informacijos ir paslaugų biuro (18 pamokų rudens ciklas) ir savivaldybės (14 pamokų pavasario ciklas) lėšomis. Programoje dalyvavo 5 ugdymo įstaigos
B16: 004-01-01-05 (TP) | C16: Sporto projektų finansavimas | D16: 1 | E16: Sporto projektų konkurso organizavimas, sutarčių su vykdytojais suderinimas, sutarčių vykdymo kontrolė | F16: Švietimo, kultūros ir sporto skyrius | G16: SB | H16: 60 | I16: 60 | J16: Finansuojamų sporto projektų skaičius | K16: 20 | L16: 19 | M16: Rajono nevyriausybinių organizacijų sporto projektų finansavimo konkurso metu finansuota 19 fizinio aktyvumo (10) ir sporto veiklos (9) projektų
B17: 004-01-02 (T) | C17: Finansuoti sporto veiklos programas, skatinti Kėdainių rajono sporto organizacijas, sporto komandas ir sportininkus | H17: =SUM(H18:H26) -> 704 | I17: =SUM(I18:I26) -> 704
B18: 004-01-02-01 (TP) | C18: Kėdainių krepšinio komandos „Nevėžis-Optibet“ klubinio krepšinio vystymo programa | D18: 1 | E18: Sutarčių su vykdytojais suderinimas, priemonių koordinavimas ir vykdymo kontrolė | F18: Švietimo, kultūros ir sporto skyrius | G18: SB | H18: 300 | I18: 300 | J18: Iškovota vieta LKL / KMT turnyre /socialinių veiklų sk. / atviros treniruotės surengimas su komandos krepšininkais | K18: 7-10 /9-12 / 1/1 | L18: 7-10 /5-8 / 18/2 | M18: Finansuota programa. Krepšinio komanda „Nevėžis-Optibet“ 2023/2024 m. LKL čempionate iškovojo 9 vietą, KMT turnyre pateko į II etapą. Vykdyta programa, kurioje dalyvavo 6 rajono mokyklos (47 fizinio ugdymo pamokos), suorganizuoti 2 krepšinio 3x3 turnyrai klubo fanams ir Kėdainių SC auklėtiniams ir kt. socialinės veiklos, surengtos 2 atviros treniruotės.
B19: 004-01-02-02 (TP) | C19: Futbolo komandos Kėdainių „Nevėžis“ klubinio futbolo vystymo programa | D19: 1 | E19: Sutarčių su vykdytojais suderinimas, priemonių koordinavimas ir vykdymo kontrolė | F19: Švietimo, kultūros ir sporto skyrius | G19: SB | H19: 144 | I19: 144 | J19: Iškovota vieta LFF pirmosios lygos pirmenybėse / išugdytų kėdainiečių, atstovaujančių FK „Nevėžis“ suaugusiųjų komandoje sk. | K19: 3-8 / 6 | L19: 6 /7 | M19: Finansuota programa. Iškovota 6 vieta LFF Optibet Pirmosios lygos pirmenybėse, „Nevėžio“ vyrų komandos sudėtį papildė 7 jaunieji futbolininkai iš Kėdainių.
B20: 004-01-02-03 (TP) | C20: Bokso sporto šakos vystymo programa | D20: 1 | E20: Sutarčių su vykdytojais suderinimas, priemonių koordinavimas ir vykdymo kontrolė | F20: Švietimo, kultūros ir sporto skyrius | G20: SB | H20: 25 | I20: 25 | J20: Šalies bokso čempionatuose ir tarptautinėse bokso varžybose iškovotų medalių sk.//paruoštų boksininkų šalies bokso rinktinei sk. | K20: 10/2 | L20: 10/2 | M20: Finansuota programa. Surengta 15 sporto treniruočių stovyklų. Įvairaus amžiaus grupėse šalies ir rajonų čempionatuose (44) bei tarptautinėse varžybose (5) iškovoti 49 medaliai.
B21: 004-01-02-04 (TP) | C21: Kėdainių rajono vaikų ir jaunimo futbolo plėtros programa | D21: 1 | E21: Sutarčių su vykdytojais suderinimas, priemonių koordinavimas ir vykdymo kontrolė | F21: Švietimo, kultūros ir sporto skyrius | G21: SB | H21: 170 | I21: 170 | J21: Sportuojančių vaikų sk./ dalyvaujančių LFF vaikų pirmenybėse komandų sk./FK „Nevėžis“ vyrų komandos papildymas jaunais žaidėjais skaičius | K21: 280/7/6 | L21: 315/10/7 | M21: Finansuota programa. Sportuojančių sk. 315, Lietuvos futbolo federacijos pirmenybių varžybose dalyvavo 10 amžiaus gr., 7 jauni žaidėjai papildė „Nevėžio“ komandą
M22: Už aukšto meistriškumo sporto pasiekimus apdovanoti 35 sportininkai ir 7 treneriai+M30:M39
B23: 004-01-02-05 (TP) | C23: Moterų futbolo komandos Kėdainių „Nevėžis“ programa | D23: 1 | E23: Sutarčių su vykdytojais suderinimas, priemonių koordinavimas ir vykdymo kontrolė | F23: Švietimo, kultūros ir sporto skyrius | G23: SB | H23: 20 | I23: 20 | J23: Lietuvos moterų futbolo asociacijos I lygos pirmenybėse iškovota vieta / rungtynių sk. / komandai atstovaujančių kėdainiečių sk. | K23: 3-7 /10/8 | L23: 6 /14/10 | M23: Finansuota programa. Lietuvos moterų futbolo asociacijos Pirmos lygos pirmenybėse iškovota 6 vieta, sužaista 14 oficialių varžybų. Komandai atstovauja 10 kėdainiečių.
B24: 004-01-02-06 (TP) | C24: Salės futbolo komandos „Kėdainiai United“ klubinio salės futbolo vystymo programa | D24: 1 | E24: Sutarčių su vykdytojais suderinimas, priemonių koordinavimas ir vykdymo kontrolė | F24: Švietimo, kultūros ir sporto skyrius | G24: SB | H24: 20 | I24: 20 | J24: Iškovota vieta čempionate / kėdainiečių futbolininkų patekimas į Lietuvos rinktinės kandidatų sąrašą / kėdainiečių sk. komandoje | K24: 1-8 /1/14 | L24: 8 /1/14 | M24: Finansuota programa. Lietuvos TOPsport čempionate iškovota 8 v., į Lietuvos rinktinės kandidatų sąrašą įtrauktas 1 kėdainietis, „Kėdainiai United“ komandoje žaidžia 14 kėdainiečių
B25: 004-01-02-07 (TP) | C25: Dziudo sporto šakos vystymo programa | D25: 1 | E25: Sutarčių su vykdytojais suderinimas, priemonių koordinavimas ir vykdymo kontrolė | F25: Švietimo, kultūros ir sporto skyrius | G25: SB | H25: 10 | I25: 10 | J25: Čempionatų sk. pagal amžiaus gr. / dalyvautų Lietuvos ir tarptautinės Dziudo varžybų sk. / iškovotų medalių sk. / suorganizuotų turnyrų sk. | K25: 6/12/14/1 | L25: 7/15/37/1 | M25: Finansuota programa. Dalyvauta Lietuvos ir tarptautinėse 15 dziudo varžybose, jose iškovota 37 medaliai, suorganizuotas tarptautinis dziudo turnyras Arimanto Pocevičiaus taurei laimėti (276 dalyviai).
B26: 004-01-02-08 (TP) | C26: Aukšto meistriškumo sportininkų ir jų trenerių paskatinimas už sporto pasiekimus | D26: 1 | E26: Konkurso, apdovanojant aukšto meistriškumo sportininkus ir jų trenerius už sporto pasiekimus, organizavimas | F26: Švietimo, kultūros ir sporto skyrius | G26: SB | H26: 15 | I26: 15 | J26: Apdovanotųjų skaičius | K26: ~30 | L26: 36 | M26: Už pasiektus aukšto meistriškumo sporto laimėjimus Lietuvos suaugusiųjų čempionatuose skirtos 36 premijos sportininkams (28) ir jų treneriams (8), kurie atstovavo Kėdainių rajono savivaldybei Lietuvos ir Europos čempionatuose bei iškovojo nugalėtojų ir prizininkų vardus Lietuvos suaugusiųjų bokso, Lietuvos kultūrizmo ir fitneso, Lietuvos motociklų motokroso ir Enduro kroso, Lietuvos sportinių šokių, Europos jaunių klasikinio štangos spaudimo, Regionų krepšinio lygos bei kituose čempionatuose
B27: 004-01-03 (T) | C27: Užtikrinti efektyvią Kėdainių sporto centro veiklą, vykdyti organizuojamus renginius, didinti sportinės veiklos žinomumą | H27: =SUM(H28:H29) -> 216.1 | I27: =SUM(I28:I29) -> 216.1
B28: 004-01-03-02 (TP) | C28: Kėdainių sporto centro bazių atnaujinimas | D28: 1 | E28: Priemonės koordinavimas | F28: Švietimo, kultūros ir sporto skyrius, Biudžeto ir finansų skyrius | G28: SB | H28: 100 | I28: 100 | J28: Einamaisiais metais numatytų atlikti darbų, proc. | K28: 100 | L28: 100 | M28: Renovuota miesto stadiono vakarinė žiūrovų tribūna, įsigyta natūralios vejos, futbolo stadiono linijų dažymo įranga (J.Basanavičiaus g. 1), įrengta tinklinio aikštelė (J.Basanavičiaus g. 4), J.Basanavičiaus g. 1A atnaujinta išorės stebėjimo sistema, Parko g. 6 suprojektuota ir įrengta pasato rūsio ventiliacija
B29: 004-01-03-03 (TP) | C29: Kėdainių sporto centro saulės fotovoltinė elektrinė iš saulės elektrinių parko įsigijimas | D29: 1 | E29: Projekto, kurį įgyvendina Kėdainių sporto centras kofinansavimo dalies užtikrinimas | F29: Apskaitos skyrius | G29: SB | H29: 116.1 | I29: 116.1 | J29: Įsigyta nutolusi fotovoltinė saulės elektrinė (kW) | K29: 300 | L29: 300 | M29: Dalyvaujant projekte, įsigyta nutolusi fotovoltinė saulės elektrinė 300 kW
B30: 004-01-04 (T) | C30: Atnaujinti ir (arba) plėsti sporto infrastruktūrą, sudarant sąlygas fizinio aktyvumo ugdymui | H30: =SUM(H31:H36) -> 479.2 | I30: =SUM(I31:I36) -> 463.2
B31: 004-01-04-01 (TP) | C31: Bendruomeninės fizinio aktyvumo infrastruktūros mieste ir rajone atnaujinimas ir (arba) plėtra | D31: 1 | E31: Poreikio išsiaiškinimas, bendradarbiavimas su Kėdainių miesto seniūnija, atnaujinimo darbų vykdymo kontrolė | F31: Švietimo, kultūros ir sporto skyrius | G31: SB | H31: 50 | I31: 39.2 | J31: Atnaujintų/įrengtų vaikų sporto ir žaidimų aikštelių skaičius | K31: 3 | L31: 5 | M31: Mantviliškio kaime atnaujinta krepšinio aikštelės danga, pakeistos krepšinio lentos, nudažytos linijos. Mieste vykdyta vaikų žaidimo aikštelių priežiūra/ atnaujinimo darbai (Vytauto parke, prie J. Basanavičiaus g. 15 ir 73 bei Žemaitės g. 24 namų), atnaujintas sugadintas inventorius
B32: 004-01-04-02 (TP) | C32: Techninės dokumentacijos rengimas sporto infrastruktūrai prie ugdymo įstaigų atnaujinti | D32: 1 | E32: Techninės dokumentacijos viešojo pirkimo organizavimas, paslaugų teikėjo prisiimtų sutartinių įsipareigojimų vykdymo kontrolė | F32: Statybos skyrius | G32: SB | H32: 20 | I32: 18.9 | J32: Parengtos techninės dokumentacijos skaičius | K32: 1 | L32: 1 | M32: Parengtas Šėtos gimnazijos sporto aikštyno atnaujinimo projektas.
B33: 004-01-04-03 ((TP) | C33: Kėdainių senamiesčio progimnazijos sporto aikštyno atnaujinimas | D33: 1 | E33: Rangos darbų koordinavimas, rangovo prisiimtų sutartinių įsipareigojimų vykdymo kontrolė | F33: Statybos skyrius | G33: SB | H33: 235 | I33: 231 | J33: Atnaujintų sporto objektų skaičius | K33: 1 | L33: 1 | M33: Atnaujintas sporto aikštynas: įrengta krepšinio aikštelės danga, sutvarkytos teritorijos šalia aikštelių, įrengta bėgimo takų danga bei šuoliaduobės konstrukcija, sutvarkyti priėjimo takai, įrengti sporto treniruokliai, tinklinio aikštelės dangos konstrukcija ir futbolo aikštelė, apjuosta tvora bei atlikti kiti atnaujinimo darbai
B34: 004-01-04-04 (TP) | C34: Krakių Mikalojaus Katkaus gimnazijos sporto aikštyno atnaujinimas | D34: 1 | E34: Paraiškos teikimas finansavimui gauti | F34: Strateginio planavimo ir investicijų skyrius | G34: SBVB | H34: 106.8 | I34: 106.8 | J34: Atnaujinamų objektų skaičius | K34: 1 | L34: 1 | M34: Pradėti gimnazijos sporto aikštyno atnaujinimo darbai, kurie bus tęsiami 2025 m.
D35: 2 | E35: Rangos darbų viešojo pirkimo vykdymas, rangos darbų koordinavimas, rangovo prisiimtų sutartinių įsipareigojimų vykdymo kontrolė | F35: Statybos skyrius | G35: SB | H35: 60.1 | I35: 60
B36: 004-01-04-05 (TP) | C36: LSU Kėdainių Aušros“ progimnazijos plaukimo ir Kėdainių sporto centro Vilainių rekreacijos ir sporto pramogų komplekso baseinų renovacijos/plėtros galimybių studijos parengimas | D36: 1 | E36: Paslaugų teikėjo, rengiant galimybių studiją, sutartinių įsipareigojimų vykdymo kontrolė | F36: Strateginio planavimo ir investicijų skyrius | G36: SB | H36: 7.3 | I36: 7.3 | J36: Parengtos techninės dokumentacijos skaičius | K36: 1 | L36: 1 | M36: Parengta ir apsvarstyta parengta galimybių studija
B37: IŠ VISO | H37: =+H30+H27+H17+H12 -> 1543.1 | I37: =+I30+I27+I17+I12 -> 1525.2
H38: =+H37-H39 -> 0 | I38: =+I37-I39 -> 0
C39: 1. Savivaldybės biudžetas (įskaitant skolintas lėšas) | H39: =SUM(H41:H46) -> 1543.1 | I39: =SUM(I41:I46) -> 1525.2
C40: Iš jo:
C41: 1.1. savivaldybės biudžeto lėšos (nuosavos, be ankstesnių metų likučio) | G41: SB | H41: =+H36+H33+H32+H31+H29+H28+H26+H25+H24+H23+H22+H21+H20+H19+H18+H16+H15+H14+H13+H35 -> 1436.3 | I41: =+I36+I33+I32+I31+I29+I28+I26+I25+I24+I23+I22+I21+I20+I19+I18+I16+I15+I14+I13+I35 -> 1418.4
C42: 1.2. Lietuvos Respublikos valstybės biudžeto dotacijos | G42: SBVB | H42: =+H34 -> 106.8 | I42: =+I34 -> 106.8
C43: 1.3. Pajamų įmokos ir kitos pajamos | G43: ĮP
C44: 1.4. Europos Sąjungos ir kitos tarptautinės finansinės paramos lėšos | G44: ES
C45: 1.5. Skolintos lėšos | G45: SK
C46: 1.6. Ankstesnių metų likučiai | G46: SBL
C47: 2. Kiti šaltiniai (Europos Sąjungos finansinė parama projektams įgyvendinti ir kitos teisėtai gautos lėšos, nurodant atskirus šaltinius) | G47: KT
C48: IŠ VISO programai finansuoti pagal finansavimo šaltinius (1 ir 2 punktai) | H48: =+H47+H39 -> 1543.1 | I48: =+I47+I39 -> 1525.2
C49: Iš jų: regioninių pažangos priemonių lėšos
C50: Asignavimų ir kitų lėšų pokytis, palyginti su ankstesnių metų patvirtintų asignavimų ir kitų lėšų planu

Sheet 05kultura
G1: PATVIRTINTA
G2: Kėdainių rajono savivaldybės administracijos direktoriaus
G3: 2024 m. kovo 8 d. įsakymu Nr.AD-1- 182
G4: (Kėdainių rajono savivaldybės administracijos direktoriaus
G5: 2024 m. gruodžio d. įsakymo Nr.AD-1- redakcija)
B8: Programos uždavinio, priemonės kodas ir požymis | C8: Uždavinio, priemonės pavadinimas | D8: Veiklos kodas | E8: Veiklos pavadinimas | F8: Atsakingas vykdytojas | G8: Finansavimo šaltinis | H8: Numatomi 2024 m. asignavimai ir kitos lėšos | I8: Panaudoti 2024 m. asignavimai ir kitos lėšos | J8: Vertinimo kriterijai
J9: Pavadinimas | K9: Planuota reikšmė | L9: Pasiekta reikšmė | M9: Komentarai, pastabos, nukrypimų nuo plano priežastys
B11: 05 KULTŪROS VEIKLOS PLĖTRA
B12: 005-01-02 (T) | C12: Sudaryti sąlygas dalyvauti kultūrinėje bei kūrybinėje veikloje, puoselėti etninę kultūrą, finansuoti kultūros renginius bei projektus | H12: =SUM(H13:H18) -> 250.6 | I12: =SUM(I13:I18) -> 236
B13: 005-01-02-01(TP) | C13: Rajono savivaldybės renginių, kultūrinių iniciatyvų finansavimas, etninės kultūros puoselėjimas | D13: 1 | E13: Rajoninių renginių, konkursų, dalyvavimo regioniniuose ir respublikiniuose renginiuose bei konkursuose koordinavimas ir finansavimas | F13: Švietimo, kultūros ir sporto skyrius | G13: SB | H13: 182.6 | I13: 169.6 | J13: Suorganizuotų renginių skaičius | K13: ~40 | L13: 46 | M13: Švietimo, kultūros ir sporto skyrius formavo ir įgyvendino rajono savivaldybės kultūros politiką muziejų, bibliotekų, etninės kultūros, meno mėgėjų veikloje bei kitose kultūros srityse, rūpinosi gyventojų bendrosios kultūros ugdymu. Skyrius organizavo, finansavo 46 kultūrinius renginius, šventes, festivalius
B14: 005-01-02-02 (TP) | C14: Kultūrinių veiklos projektų finansavimas | D14: 1 | E14: Kultūros projektų konkurso organizavimas | F14: Švietimo, kultūros ir sporto skyrius | G14: SB | H14: 35 | I14: 35 | J14: Finansuotų projektų skaičius | K14: 17 | L14: 17 | M14: Konkurso būdu iš pateiktų 35 paraiškų, finansuota 17 projektų, kurių metu organizuoti 70 edukacinių užsiėmimų ir seminarų, 11 parodų ir 39 kiti įvairaus pobūdžio renginiai. Projektų veiklose dalyvavo virš 5 tūkst. rajono gyventojų
B15: 005-01-02-03 (TP) | C15: Krašto kultūros premijos teikimas | D15: 1 | E15: Kėdainių krašto kultūros premijos konkurso organizavimas | F15: Švietimo, kultūros ir sporto skyrius | G15: SB | H15: 3 | I15: 3 | J15: Kultūros premijos laureatų skaičius | K15: 1 | L15: 1 | M15: Krašto kultūros premija įteikta Vytautui Greičiui už kultūrinį švietėjišką darbą su rajono gyventojais, už reikšmingus laimėjimus, puoselėjant mėgėjų meno tradicijas ir garsinant Kėdainių kraštą.
B16: 005-01-02-04 (TP) | C16: Česlavo Milošo premijos teikimas | D16: 1 | E16: Česlavo Milošo premijos konkurso organizavimas | F16: Švietimo, kultūros ir sporto skyrius | G16: SB | H16: 5 | I16: 5 | J16: Kultūros premijos laureatų skaičius | K16: 1 | L16: 1 | M16: Kėdainių krašto garbės piliečio Česlovo Milošo premija įteikta knygos „Kėdainių krašto tautosaka: kraštotyros užrašai“ autorei, Kėdainių krašto muziejaus tradicinių amatų centro Arnetų name vadovei Reginai Lukminienei
B17: 005-01-02-05 (TP) | C17: Mėgėjų meno kolektyvų aprūpinimas tautiniais ir kitais koncertiniais kostiumais bei muzikos instrumentais | D17: 1 | E17: Dalyvavimas tautinių kostiumų ir instrumentų įsigijimo finansavimo konkurse | F17: Švietimo, kultūros ir sporto skyrius | G17: SB | H17: 15 | I17: 15 | J17: Koncertinius kostiumų komplektus/instrumentus atsinaujinusių kolektyvų skaičius | K17: 8 | L17: 8 | M17: 8-iems kolektyvams skirta lėšų tautinių, archeologinių, istorinių kostiumų ar jų dalių įsigijimui bei mėgėjų meno kolektyvų muzikos instrumentų įsigijimui
B18: 005-01-02-06 (TP) | C18: Tarptautinių kultūros mainų plėtojimas | D18: 1 | E18: Tarptautinių kultūros mainų organizavimas | F18: Švietimo, kultūros ir sporto skyrius | G18: SB | H18: 10 | I18: 8.4 | J18: Organizuotų tarptautinių mainų skaičius | K18: 3 | L18: 3 | M18: Skirtas finansavimas kolektyvų dalyvavimui tarptautiniuose festivaliuose-konkursuose. Kėdainių kultūros centro senjorų liaudiškų šokių grupė „Lankesa“ ir Vilainių skyriaus vyresniųjų liaudiškų šokių grupė „Volungė“ dalyvavo festivalyje-konkurse „Merry Christmas Baltic Amber“ Rygoje, Latvijoje. Kėdainių kultūros centro liaudiškų šokių grupė „Volungė“ dalyvavo tarptautiniame šokių konkurse „Pasaulio folkloro taurė – Jesolo 2024“ Jesole, Italijoje. Kėdainių kultūros centro vaikų popchorai „Skambantis perliukas“ ir „Perliukai“ dalyvavo tarptautiniame vaikų ir jaunimo muzikos konkurse-festivalyje „Summer talent league“ Loret de Mar mieste, Ispanijoje
B19: 005-01-03 (T)8,4 | C19: Vystyti jaunimui palankią aplinką bei infrastruktūrą, plėsti ir skatinti įvairias jaunimo veiklas ir užimtumą, formuojant jaunimo politiką Kėdainių rajone | H19: =SUM(H20:H25) -> 69 | I19: =SUM(I20:I25) -> 67.8
B20: 005-01-03-01 (TP) | C20: Jaunimo veiklos projektų finansavimas | D20: 1 | E20: Jaunimo veiklos projektų konkurso organizavimas | F20: Vyr. specialistė (jaunimo reikalų koordinatorė) | G20: SB | H20: 15 | I20: 14.9 | J20: Finansuotų projektų skaičius | K20: 4 | L20: 6 | M20: Finansuoti 6 jaunimo ir/ar su jaunimu dirbančių organizacijų projektai, į kurių veiklas įsitraukė 1188 jaunuoliai (14–29 m.)
B21: 005-01-03-02 (TP) | C21: Programų, užtikrinančių jaunimo neformalaus ugdymo plėtrą finansavimas | D21: 1 | E21: Sutarčių sudarymas, programų įgyvendinimo priežiūros organizavimas, ataskaitų rinkimas | F21: Vyr. specialistė (jaunimo reikalų koordinatorė) | G21: SB | H21: 6 | I21: 6 | J21: Suorganizuotų mokymų, susitikimų, renginių, forumų skaičius | K21: 10 | L21: 10 | M21: Finansuota Kėdainių rajono mokinių savivaldos plėtros programa, kurios priemonės skirtos stiprinti ir plėtoti rajono mokinių savivaldos institucijas ir jų vaidmenį mokyklos bendruomenėje, mokinių nuomonės atstovavimą, ugdyti pilietines, socialines, komunikacines kompetencijas
B22: 005-01-03-03 (TP) | C22: Atviro jaunimo centro ir atvirųjų jaunimo erdvių veiklos projektų finansavimas | D22: 1 | E22: Atvirųjų jaunimo erdvių veiklos projektų konkurso organizavimas | F22: Vyr. specialistė (jaunimo reikalų koordinatorė) | G22: SB | H22: 17 | I22: 17 | J22: Finansuotų projektų skaičius | K22: 5 | L22: 6 | M22: 2024 m. rajone veikė 6 atvirosios jaunimo erdvės bei 1 atviras jaunimo centras. Konkurso būdu finansuoti 6 projektai, kurių veiklose dalyvavo 232 jaunuoliai. Per 2024 m. AJE ir AJC apsilankė per 1,1 tūkst. jaunuolių.
B23: 005-01-03-04 (TP) | C23: Jaunimo savanorystės Kėdainių rajone plėtra ir jaunimo skatinimas užsiimti savanoriška veikla | D23: 1 | E23: Jaunimo savarankiškos veiklos plėtros konkurso organizavimas | F23: Vyr. specialistė (jaunimo reikalų koordinatorė) | G23: SB | H23: 4 | I23: 4 | J23: Finansuotų projektų skaičius | K23: 1 | L23: 1 | M23: Savanoriškos tarnybos įgyvendinimą rajone koordinuoja LPF "Tavo svajonė". Programos veikloje dalyvavo 11 jaunuoliai
B24: 005-01-03-05 (TP) | C24: Tarptautinės jaunimo dienos renginio organizavimas | D24: 1 | E24: Priemonės organizavimas ir koordinavimas | F24: Vyr. specialistė (jaunimo reikalų koordinatorė) | G24: SB | H24: 20 | I24: 20 | J24: Suorganizuotų renginius skaičius | K24: 1 | L24: 1 | M24: Trečią kartą, kartu su Savivaldybės Jaunimo reikalų taryba, įvairiomis rajono jaunimo ir su jaunimu dirbančiomis organizacijomis, suorganizuotas Tarptautinis jaunimo dienos renginys, turėjęs didelį jaunimo susidomėjimą ir populiarumą
B25: 005-01-03-06 (TP) | C25: Jaunimo užimtumo vasarą ir integracijos į darbo rinką programos įgyvendinimas | D25: 1 | E25: Priemonės koordinavimas ir viešinimas | F25: Vyr. specialistė (jaunimo reikalų koordinatorė) | G25: SB | H25: 7 | I25: 5.9 | J25: Pagal programą įdarbintų 14-18 m. jaunuolių skaičius | K25: 10 | L25: 10 | M25: Programa, kurios tikslas sudaryti palankias sąlygas kokybiškam jaunimo užimtumui, susidomėjo 5 darbdaviai. Programoje dalyvavo 12 jaunuolių (14-19 m.)
B26: 005-01-04 (T) | C26: Skatinti nevyriausybinių ir bendruomeninių organizacijų plėtrą Kėdainių rajone, didinti jų įtrauktį | H26: =SUM(H27:H33) -> 183.1 | I26: =SUM(I27:I33) -> 180.5
B27: 005-01-04-01 (TP) | C27: Nevyriausybinių organizacijų institucinio stiprinimo ir veiklos plėtojimo projektų finansavimas | D27: 1 | E27: Nevyriausybinių organizacijų veiklos projektų konkurso organizavimas | F27: Vyr. specialistė (nevyriausybinių organizacijų koordinatorė) | G27: SB | H27: 30 | I27: 29.4 | J27: Finansuotų projektų skaičius | K27: 11 | L27: 11 | M27: Organizuotas Nevyriausybinių organizacijų institucinio stiprinimo ir veiklos plėtojimo projektų finansavimo Savivaldybės biudžeto lėšomis konkursas. Konkurso būdu finansuoti 11 projektai
B28: 005-01-04-02 (TP) | C28: Bendruomeninių organizacijų veiklos projektų finansavimas | D28: 1 | E28: Rajono bendruomeninių organizacijų veiklos projektų konkurso organizavimas | F28: Vyr. specialistė (nevyriausybinių organizacijų koordinatorė) | G28: SB | H28: 26 | I28: 26 | J28: Finansuotų bendruomeninių organizacijų skaičius | K28: 25 | L28: 25 | M28: Organizuotas Bendruomeninių organizacijų veiklos projektų finansavimo Savivaldybės biudžeto lėšomis konkursas, kurio metu finansuoti 23 projektai
B29: 005-01-04-03 (TP) | C29: Kėdainių rajono vietos veiklos grupės teritorijos vietos plėtros 2015-2023 m. strategijos finansavimas | D29: 1 | E29: Sutarčių su strategijos vykdytoju ir projektų vykdytojais sudarymas | F29: Vyr. specialistė (nevyriausybinių organizacijų koordinatorė) | G29: SB | H29: 71.1 | I29: 71.1 | J29: Finansuotų projektų skaičius | K29: 16 | L29: 16 | M29: Parengtos ir pasirašytos 16 Savivaldybės biudžeto lėšų naudojimo sutartys su vietos projektų, įgyvendinamų pagal vietos plėtros strategijos „Kėdainių rajono vietos veiklos grupės teritorijos vietos plėtros strategija 2015–2023 m.“ priemones, vykdytojais. Savivaldybės prisideda 20 proc. visų tinkamų finansuoti vietos projekto išlaidų
B31: 005-01-04-05 (TP) | C31: Vietos plėtros strategijos rengimo ir įgyvendinimo programa ir Kėdainių miesto vietos veiklos grupės vietos plėtros 2023-2029 metų strategijos finansavimas | D31: 1 | E31: Projekto, kurį įgyvendina Kėdainių miesto vietos veiklos grupės kofinansavimo dalies užtikrinimas | F31: Vyr. specialistė (nevyriausybinių organizacijų koordinatorė), Apskaitos skyrius | G31: SB | H31: 19 | I31: 19 | J31: Parengta strategija / finansuotų projektų skaičius | K31: 1/0 | L31: 1/0 | M31: Parengta ir pasirašyta Savivaldybės biudžeto lėšų naudojimo sutartis su Kėdainių miesto vietos veiklos grupe dėl programos „Vietos plėtros strategijos rengimo ir įgyvendinimo 2024 metų programa" įgyvendinimo. Programos vykdymo metu parengtas Kėdainių miesto vietos veiklos grupės vietos plėtros 2023–2029 metų strategijos projektas, kuriam pritarė Kėdainių rajono savivaldybės taryba. Finansavimas Strategijos įgyvendinimui gautas
B32: 005-01-04-06 (TP) | C32: Priemonės "Stiprinti bendruomeninę veiklą savivaldybėse" įgyvendinimas | D32: 1 | E32: Nevyriausybinių organizacijų ir bendruomeninės veiklos koordinavimas | F32: Vyr. specialistė (nevyriausybinių organizacijų koordinatorė) | G32: SBVB | H32: 31.6 | I32: 31.6 | J32: Įgyvendinta projektų veiklų proc. | K32: 100 | L32: 100 | M32: 2024 m. valstybės biudžeto lėšomis finansuoti ir įgyvendinti 9 projektai, kurių metu suplanuotos veiklos įvykdytos 100 proc., veiklose dalyvavo 1052 vietos bendruomenės nariai (gyventojai)
B33: 005-01-04-07 (TP) | C33: Rajono nevyriausybinių organizacijų veiklos stiprinimas | D33: 1 | E33: Nevyriausybinių organizacijų forumo ir tarptautinės savanorių dienos paminėjimo organizavimas | F33: Vyr. specialistė (nevyriausybinių organizacijų koordinatorė) | G33: SB | H33: 5.4 | I33: 3.4 | J33: Paskatintų iniciatyvų bei suorganizuotų veiklų skaičius | K33: 3 | L33: 4 | M33: Koordinuota Savivaldybės NVO tarybos veikla, suorganizuota 13 NVO tarybos posėdžių. Minint tarptautinę savanorių dieną, organizuotas Savanorių padėkos dienos renginys. Organizuotas renginys „Savivaldybių NVO tarybų geroji patirtis stiprinant ir plėtojant nevyriausybinį sektorių“, NVO forumas „Stipresnės nevyriausybinės organizacijos link“ ir kt. renginiai.
B34: 005-01-05 (T) | C34: Gerinti kultūros paskirties viešąją infrastruktūrą, modernizuoti materialinę ir edukacinę aplinką | H34: =SUM(H35:H39) -> 1292 | I34: =SUM(I35:I39) -> 1270.2
B35: 005-01-05-01 (TP) | C35: Kėdainių kultūros centro rekonstrukcija ir įrengimas | D35: 1 | E35: Rangos darbų koordinavimas, rangovo prisiimtų sutartinių įsipareigojimų vykdymo kontrolė | F35: Statybos skyrius | G35: SB | H35: 1164 | I35: 1163.5 | J35: Įgyvendinta einamaisiais metais numatomų atlikti projekto veiklų proc. | K35: 100 | L35: 100 | M35: Tęsti kultūros centro vidaus apdailos darbai, įsigyta scenos apšvietimo sistema, scenos kėlimo įrangos mechanizmai, dalis baldų, vykdyti sklypo tvarkybos darbai
B36: 005-01-05-02 (TP) | C36: Akademijos kultūros centro remontas | D36: 1 | E36: Rangos darbų viešojo pirkimo organizavimas, rangos darbų koordinavimas, rangovo prisiimtų sutartinių įsipareigojimų vykdymo kontrolė | F36: Statybos skyrius | G36: SB | H36: 30 | I36: 30 | J36: Atlikta einamaisiais metais numatytų darbų, proc. | K36: 100 | L36: 100 | M36: Atlikti kultūros centro parketinės dangos atnaujinimo darbai, įėjimo į pastatą remonto darbai
B37: 005-01-05-34 (TP) | C37: Šėtos kultūros centro vidaus erdvių remontas (I a. 2 patalpos) | D37: 1 | E37: Priemonės koordinavimas | F37: Švietimo, kultūros ir sporto skyrius | G37: SB | H37: 18 | I37: 18 | J37: Atlikta einamaisiais metais numatytų darbų, proc. | K37: 100 | L37: 100 | M37: Atnaujintos ir pritaikytos kultūrinei ir kūrybinei veiklai vykdyti I a. patalpos
B38: 005-01-05-05 (TP) | C38: Krakių kultūros centro patalpų dalies pritaikymas kultūros reikmėms | D38: 1 | E38: Rangos darbų viešojo pirkimo organizavimas, rangos darbų koordinavimas, rangovo prisiimtų sutartinių įsipareigojimų vykdymo kontrolė | F38: Statybos skyrius | G38: SB | H38: 40 | I38: 34.7 | J38: Parengta techninė dokumentacija / įveiklinta kultūros centro pastato dalis | K38: 1/0 | L38: 1/0 | M38: Parengtas II a. patalpų pritaikymo kultūros reikmėms techninis projektas, atlikta projekto ekspertizė
B39: 005-01-05-06 (TP) | C39: Infrastruktūros Kėdainių miesto parke įrengimas | D39: 1 | E39: Priemonės koordinavimas | F39: Statybos skyrius | G39: SB | H39: 40 | I39: 24 | J39: Parengta vizija/techninė dokumentacija/ pagerinta infrastruktūra atlikėjams | K39: 1/1/0 | L39: 1/1/0 | M39: Miesto parke atnaujinti parko pagrindiniai vartai
B40: IŠ VISO | H40: =+H34+H26+H19+H12 -> 1794.7 | I40: =+I34+I26+I19+I12 -> 1754.5
H41: =+H40-H42 -> 0 | I41: =+I40-I42 -> 0
C42: 1. Savivaldybės biudžetas (įskaitant skolintas lėšas) | H42: =SUM(H44:H49) -> 1794.7 | I42: =SUM(I44:I49) -> 1754.5
C43: Iš jo:
C44: 1.1. savivaldybės biudžeto lėšos (nuosavos, be ankstesnių metų likučio) | G44: SB | H44: =+H39+H38+H37+H36+H35+H33+H31+H30+H29+H28+H27+H25+H24+H23+H22+H21+H20+H18+H17+H16+H15+H14+H13 -> 1763.1 | I44: =+I39+I38+I37+I36+I35+I33+I31+I30+I29+I28+I27+I25+I24+I23+I22+I21+I20+I18+I17+I16+I15+I14+I13 -> 1722.9
C45: 1.2. Lietuvos Respublikos valstybės biudžeto dotacijos | G45: SBVB | H45: =+H32 -> 31.6 | I45: =+I32 -> 31.6
C46: 1.3. Pajamų įmokos ir kitos pajamos | G46: ĮP
C47: 1.4. Europos Sąjungos ir kitos tarptautinės finansinės paramos lėšos | G47: ES
C48: 1.5. Skolintos lėšos | G48: SK
C49: 1.6. Ankstesnių metų likučiai | G49: SBL
C50: 2. Kiti šaltiniai (Europos Sąjungos finansinė parama projektams įgyvendinti ir kitos teisėtai gautos lėšos, nurodant atskirus šaltinius) | G50: KT
C51: IŠ VISO programai finansuoti pagal finansavimo šaltinius (1 ir 2 punktai) | H51: =+H50+H42 -> 1794.7 | I51: =+I50+I42 -> 1754.5
C52: Iš jų: regioninių pažangos priemonių lėšos

Sheet 06 turizm
B3: Programos uždavinio, priemonės kodas ir požymis | C3: Uždavinio, priemonės pavadinimas | D3: Veiklos kodas | E3: Veiklos pavadinimas | F3: Atsakingas vykdytojas | G3: Finansavimo šaltinis | H3: Numatomi 2024 m. asignavimai ir kitos lėšos | I3: Panaudoti 2024 m. asignavimai ir kitos lėšos | J3: Vertinimo kriterijai
J4: Pavadinimas | K4: Planuota reikšmė | L4: Pasiekta reikšmė | M4: Pavadinimas
B6: 06 KULTŪROS PAVELDO IŠSAUGOJIMAS, TURIZMO SKATINIMAS IR VYSTYMAS
B7: 006-01-01 (T) | C7: Užtikrinti efektyvią VšĮ Kėdainių turizmo ir verslo informacijos centro veiklą turizmo srityje | H7: =+H8 -> 108 | I7: =+I8 -> 108
B8: 006-01-01-01 (TP) | C8: VšĮ Kėdainių turizmo ir verslo informacijos centro turizmo veiklos programos finansavimas | D8: 1 | E8: Priemonės įgyvendinimo koordinavimas | F8: Administracijos direktorius | G8: SB | H8: 108 | I8: 108 | J8: Kėdainių rajono savivaldybėje apsilankiusių turistų skaičius per metus (tūkst. asmenų/ per metus) (vertinami Kėdainių TVIC apsilankę turistai) | K8: 9.5 | L8: 9.83 | M8: 2024 m. Kėdainių TVIC sulaukė 8 proc. daugiau lankytojų nei 2023 m. 80 proc. visų lankytojų - lietuviai, 20 proc. - užsienio turistai. Didžioji dalis užsienio turistų iš Lenkijos, Latvijos, Izraelio, JAV, Estijos, Vokietijos, Suomijos, Japonijos ir kt. Įgyvendinant finansuojamą programą dalyvauta turizmo parodose, šventėse pristatant Kėdainių turistinį potencialą, informacijos sklaida vykdyta socialiniuose tinkluose, TV, rengti nauji turistiniai maršrutai, parengtos brošiūros, vestos ekskursijos
B9: 006-01-02 (T) | C9: Išsaugoti istorinį bei kultūros paveldą, didinti jo patrauklumą ir žinomumą | H9: =SUM(H10:H27) -> 347.9 | I9: =SUM(I10:I27) -> 222.6
B10: 006-01-02-01 (TP) | C10: Nekilnojamųjų kultūros vertybių vertinimo medžiagos, nekilnojamųjų kultūros paveldo objektų, vietovių individualius apsaugos reglamentų rengimas | D10: 1 | E10: Nekilnojamųjų kultūros vertybių vertinimo medžiagos parengimo organizavimas ir koordinavimas | F10: Architektūros ir urbanistikos skyrius | G10: SB | H10: 3 | I10: 0 | J10: Parengtų kultūros paveldo objektų būklės patikrinimo aktų su fotofiksacija skaičius | K10: ~20 | L10: 28 | M10: Parengti 28 kultūros paveldo objektų būklės patikrinimo aktai su fotofiksacija bei 8 kultūros paveldo objektų būklės patikrinimo aktai rajono gyventojams dėl sandorių. Pasirašyta sutartis dėl Kėdainių Šviesiosios gimnazijos vertingųjų savybių patikslinimo
D11: 2 | E11: Individualių apsaugos reglamentų nekilnojamiesiems kultūros objektams, vietovėms rengimas
B12: 006-01-02-02 (TP) | C12: Kėdainių rajono savivaldybės bažnyčių rėmimo programos įgyvendinimas | D12: 1 | E12: Paraiškų teikimo organizavimas, vertinimas, veiklų įgyvendinimo koordinavimas | F12: Architektūros ir urbanistikos skyrius | G12: SB | H12: 50 | I12: 49.8 | J12: Kulto pastatų, kuriems skirtas finansavimas tvarkybos darbams atlikti, skaičius | K12: 4 | L12: 5 | M12: Įgyvendinant programą pasirašytos 5 sutartys: 1) finansuoti Dotnuvos Viešpaties Apreiškimo Švč. Mergelei Marijai parapijos bažnyčios fasado ąžuolinio kryžiaus su Kristaus skulptūra atstatymo I etapo darbai; 2) Evangelikų liuteronų parapijos bokšte sumontuotos varpo laikančiosios konstrukcijos, varpo mechanizmas, išlieta ir prijungta varpo šerdis. 3) Josvainių Visų Šventųjų parapijoje rengta lazerinė priešgaisrinė sistema. 4) Įrengta Šv. Jurgio bažnyčios vidaus infraraudonųjų spindulių šildymo sistema. 5) Paberžės Švč. Mergelės Marijos parapijoje įrengta oras-oras šildymo sistema).
B13: 006-01-02-03 (TP) | C13: Lankytinų objektų, kultūros paveldo objektų ar objektų, esančių kultūros paveldo teritorijų prieigose tvarkybos dokumentacijos rengimas, objektų atnaujinimas, restauravimas mieste ir rajone | D13: 1 | E13: Gumbių koplytėlės tvarkybos darbų viešojo pirkimo organizavimas, paslaugų teikėjo prisiimtų sutartinių įsipareigojimų vykdymo kontrolė | F13: Architektūros ir urbanistikos skyrius | G13: SB | H13: 223.9 | I13: 119.6 | J13: Tvarkomų objektų skaičius | K13: 8 | L13: 8 | M13: 1) Atlikti Paberžės dvaro sodybos ir Švč. Mergelės Marijos Apsilankymo bažnyčios statinių komplekso klebonijos drenažo įrengimo darbai; 2) įgyvendinti Gumbių koplytėlės (u.k. KVR 41948) paveldo tvarkybos darbai; 3) Parengti Lietuvos partizanų kapų (33921, 35067) tvarkybos techniniai projektai; 4) Parengti kapinių teritorijų prieigų prie paminklų ir kolumbariumų sutvarkymo projektai; 5) Pagaminta ir sumontuota Atminties skvero kalvelės atminimo lenta; 6) Parengtas Atminties skvero memorialo teritorijos sutvarkymo techninis projektas ir pasirašyta tvarkybos sutartis; 7) Atnaujintos miesto parko informacinės kryptinės rodyklės, pašalinti seni nusidėvėję stulpai, atnaujintas informacinis stendas. 8) Atliktos Švento Antano skulptūros fotogrametrinių matavimų paslaugos
D14: 2 | E14: Atminties skvero memorialo teritorijos sutvarkymo TP viešojo pirkimo organizavimas, tiekėjų prisiimtų sutartinių įsipareigojimų vykdymo kontrolė | F14: Architektūros ir urbanistikos skyrius
D15: 3 | E15: Miesto parko ženklinimo infrastruktūros atnaujinimo, viešojo pirkimo organizavimas, tiekėjų prisiimtų sutartinių įsipareigojimų vykdymo kontrolė | F15: Architektūros ir urbanistikos skyrius
D16: 4 | E16: Gudžiūnuose esančio partizano kapo tvarkybos darbų koordinavimas | F16: Architektūros ir urbanistikos skyrius
D17: 5 | E17: Miesto parko vartų atnaujinimo darbų koordinavimas, tiekėjų prisiimtų sutartinių įsipareigojimų vykdymo kontrolė | F17: Architektūros ir urbanistikos skyrius
D18: 6 | E18: Kauno g. ir Surviliškio kapinių prieigų ir kolumbariumų įrengimo techninės dokumentacijos parengimas | F18: Architektūros ir urbanistikos skyrius
D19: 7 | E19: Atminties skvero memorialo teritorijos sutvarkymas pagal paengtą TP | F19: Architektūros ir urbanistikos skyrius
D20: 8 | E20: Evangelikų reformatų bažnyčios balkonų sutvirtinimo vargonų įrengimui koordinavimas | F20: Architektūros ir urbanistikos skyrius
B21: 006-01-02-04 (TP) | C21: Kėdainių dvaro sodybos Minareto ir jo prieigų tvarkyba | D21: 1 | E21: Tvarkybos darbų viešojo pirkimo organizavimas, rangovo prisiimtų sutartinių įsipareigojimų vykdymo kontrolė | F21: Architektūros ir urbanistikos skyrius | G21: SB | H21: 20 | I21: 8.9 | J21: Parengtos techninės dokumentacijos skaičius | K21: 1 | L21: 1 | M21: Parengtas Minareto statybos darbų projektas ir atlikta projekto bendroji ekspertizė. Pasirašyta Minareto laiptų, atraminių sienelių, pėsčiųjų tako tvarkomųjų statybos darbų projekto paruošimo sutartis - apmokėjimas 2025 m.
B22: 006-01-02-05 (TP) | C22: Apytalaukio dvaro sodybos avarinės būklės likvidavimas, dvaro tvarkybos darbai | D22: 1 | E22: Paraiškos Kultūros infrastruktūros centrui teikimas, techninės dokumentacijos rengimo koordinavimus (paraiškos teigiamai įvertinimo atveju) | F22: Architektūros ir urbanistikos skyrius | G22: SB | H22: 0 | I22: 0 | J22: Techninės dokumentacijos rengimas | K22: 1 | L22: 1
B23: 006-01-02-06 (TP) | C23: Archeologiniai ir kiti tyrinėjimai kultūros paveldo teritorijose, paveldo objektams parengtų tvarkybos projektų ekspertizės vykdymas, sąmatų rengimas | D23: 1 | E23: Pagal poreikį | F23: Architektūros ir urbanistikos skyrius | G23: SB | H23: 3 | I23: 2.1 | J23: Ekspertuotų projektų skaičius | K23: pagal poreikį | L23: 1 | M23: Atlikti Minareto teritorijos archeologiniai ir geologiniai tyrimai, parengta ataskaita, suderinta su KPD
B24: 006-01-02-07 (TP) | C24: Kultūros paveldo objektų, esančių Kėdainių rajono savivaldybės teritorijoje, ir kultūros paveldo statinių, esančių Kėdainių senamiesčio dalyje, išsaugojimo darbų finansavimo programa | D24: 1 | E24: Paraiškų teikimo organizavimas, vertinimas, veiklų įgyvendinimo koordinavimas | F24: Architektūros ir urbanistikos skyrius | G24: SB | H24: 25 | I24: 22.8 | J24: Tvarkomų kultūros paveldo objektų ar kultūros paveldo statinių skaičius | K24: 3 | L24: 3 | M24: Įgyvendinant programą, pasirašytos 3 biudžeto finansavimo sutartys. Daliniu finansavimu atlikti 1)Lipliūnų dvaro šiaurinio fasado pamato stiprinimo ir tvarkymo, pagrindinio fasado laiptų aikštelės ir kolonų tvarkymo darbai; 2) Terespolio dvaro sodybos fragmentų rūmų pastato taikomieji tyrimai; 3) Miesto Radvilų g. 5 taikomieji konstrukcijų tyrimai
B25: 006-01-02-08 (TP) | C25: Nuorodų, kitų informacinių ženklų įrengimas į savivaldybės kultūros paveldo objektus | D25: 1 | E25: Informacinių lentelių / nuorodų įrengimo į paveldo objektus koordinavimas | F25: Architektūros ir urbanistikos skyrius | G25: SB | H25: 3 | I25: 2.4 | J25: Einamaisiais metais atlikta numatyta darbų, proc. | K25: 100 | L25: 100 | M25: Įrengti informaciniai ženklai Camino Lituano kelio ženklinimo atkarpoje Kėdainių r. Atnaujinta 118 vnt. stulpų. Įrengti 58 nauji kelio ženklinimo stulpai
B26: 006-01-02-10 (PP) | C26: Kėdainių evangelikų ir reformatų bažnyčios atnaujinimas | D26: 1 | E26: Techninės dokumentacijos vargonų montavimui rengimo koordinavimas, bendradarbiavimas su Kėdainių krašto muziejumi | F26: Architektūros ir urbanistikos skyrius | G26: SB | H26: 20 | I26: 17 | J26: Planuotų atlikti darbų, proc. | K26: 100 | L26: 100 | M26: Parengtas vargonų choro balkono pritaikymo vargonų įrengimui kapitalinio remonto techninis darbo projektas, atliktos bažnyčios statinių komplekso varpinės tvarkybos darbų projektas, atlikta ekspertizė
B27: 006-01-02-12 (TP) | C27: Bakainių piliakalnio su priešpiliu ir papiliu bei priešpilio tvarkybos techninės dokumentacijos rengimas bei tvarkybos darbai | D27: 1 | E27: Paraiškos Kultūros infrastruktūros centrui teikimas, techninės dokumentacijos rengimo koordinavimus (paraiškos teigiamai įvertinimo atveju) | F27: Architektūros ir urbanistikos skyrius | G27: SB | H27: 0 | I27: 0 | J27: Parengta projektinė dokumentacija | K27: 1 | L27: 1
B28: 006-01-03 (T) | C28: Plėtoti, atnaujinti viešąją infrastruktūrą, atsižvelgiant į turizmo plėtros ir rekreacijos poreikius | H28: =SUM(H29:H30) -> 350 | I28: =SUM(I29:I30) -> 300
B29: 006-01-03-01 (TP) | C29: Akademijos parko tvarkyba | D29: 1 | E29: Parko tvarkybos viešojo pirkimo organizavimas, rangovo sutartinių įsipareigojimų vykdymo kontrolė | F29: Statybos ir turto skyrius | G29: SB | H29: 300 | I29: 300 | J29: Atlikta einamaisiais metais numatytų darbų, proc. | K29: 100 | L29: 100 | M29: Pradėti parko teritorijos atnaujinimo darbai: genėti medžiai, atnaujinami, įrengiami takai, prieigos prie paminklų, tiesti apšvietimo kabeliai. 2025 m. - tvarkybos darbai bus tęsiami
B30: 006-01-03-05 (TP) | C30: Babėnų šilo miškotvarka ir pritaikymas patogiam poilsiui, laisvalaikiui | D30: 1 | E30: Šilo tvarkybos ir pritaikymo visuomenės poreikiams techninio projekto parengimo viešojo pirkimo organizavimas, paslaugų teikėjo prisiimtų sutartinių įsipareigojimų vykdymo kontrolė | F30: Statybos ir turto skyrius, Architektūros ir urbanistikos skyrius | G30: SB | H30: 50 | I30: 0 | J30: Parengta pritaikymo dokumentacija | K30: 1 | L30: 0 | M30: Pradėtas rengti Babėnų šilo miškotvarkos ir pritaikymo poilsiui bei laisvalaikiui techninis projektas, kuris bus pristatytas visuomenei 2025 m. pradžioje
B31: IŠ VISO | H31: =+H28+H9+H7 -> 805.9 | I31: =+I28+I9+I7 -> 630.6
C33: 1. Savivaldybės biudžetas (įskaitant skolintas lėšas) | H33: =SUM(H35:H40) -> 805.9 | I33: =SUM(I35:I40) -> 630.6
C34: Iš jo:
C35: 1.1. savivaldybės biudžeto lėšos (nuosavos, be ankstesnių metų likučio) | G35: SB | H35: =+H30+H29+H27+H26+H25+H24+H23+H22+H21+H13+H12+H10+H8 -> 805.9 | I35: =+I30+I29+I27+I26+I25+I24+I23+I22+I21+I13+I12+I10+I8 -> 630.6
C36: 1.2. Lietuvos Respublikos valstybės biudžeto dotacijos | G36: SBVB
C37: 1.3. Pajamų įmokos ir kitos pajamos | G37: ĮP
C38: 1.4. Europos Sąjungos ir kitos tarptautinės finansinės paramos lėšos | G38: ES
C39: 1.5. Skolintos lėšos | G39: SK
C40: 1.6. Ankstesnių metų likučiai | G40: SBL
C41: 2. Kiti šaltiniai (Europos Sąjungos finansinė parama projektams įgyvendinti ir kitos teisėtai gautos lėšos, nurodant atskirus šaltinius) | G41: KT
C42: IŠ VISO programai finansuoti pagal finansavimo šaltinius (1 ir 2 punktai) | H42: =+H41+H33 -> 805.9 | I42: =+I41+I33 -> 630.6
C43: Iš jų: regioninių pažangos priemonių lėšos

Sheet 07Infrastr.
G1: PATVIRTINTA
G2: Kėdainių rajono savivaldybės administracijos direktoriaus
G3: 2024 m. kovo 8 d. įsakymu Nr.AD-1- 182
G4: (Kėdainių rajono savivaldybės administracijos direktoriaus
G5: 2024 m. gruodžio d. įsakymo Nr.AD-1- redakcija)
B8: Programos uždavinio, priemonės kodas ir požymis | C8: Uždavinio, priemonės pavadinimas | D8: Veiklos kodas | E8: Veiklos pavadinimas | F8: Atsakingas vykdytojas | G8: Finansavimo šaltinis | H8: Numatomi 2024 m. asignavimai ir kitos lėšos | I8: Panaudoti 2024 m. asignavimai ir kitos lėšos | J8: Vertinimo kriterijai
J9: Pavadinimas | K9: Planuota reikšmė | L9: Pasiekta reikšmė | M9: Komentarai, pastabos, nukrypimų nuo plano priežastys
B11: 07 INFRASTRUKTŪROS OBJEKTŲ PRIEŽIŪRA IR PLĖTRA
B12: 007-01-01 (T) | C12: Teritorijų planavimo ir kitų dokumentų rengimas, atnaujinimas, sudarant sąlygas infrastruktūros plėtrai | H12: =SUM(H13:H18) -> 209 | I12: =SUM(I13:I18) -> 157.6
B13: 007-01-01-01 (TP) | C13: Dokumentų, padedančių užtikrinti darnią rajono savivaldybės teritorijų plėtrą rengimas | D13: 1 | E13: Specialiųjų, detaliųjų, geodezinių planų rengimo viešųjų pirkimų organizavimas, teikiamų paslaugų koordinavimas, paslaugų teikėjo prisiimtų sutartinių įsipareigojimų vykdymo kontrolė | F13: Architektūros ir urbanistikos skyrius | G13: SB | H13: 75 | I13: 48.7 | J13: Laiku ir pagal teisės aktų reikalavimus parengtų teritorijų planavimo dokumentų dalis (proc.) | K13: 100 | L13: 100 | M13: Vykdytos funkcijos teritorijų planavimo ir žemėtvarkos, geodezinės ir topografinės veiklos priežiūros srityse. Parengta Kėdainių rajono vandens tiekimo ir nuotekų tvarkymo infrastruktūros plėtros specialiojo plano korektūra, rengti Kėdainių m. Birutės g., Daukšių k. ir Pasmilgio k., specialieji planai, Pelėdnagių kaimo detaliojo plano keitimas, pradėtas planavimo procesas teritorijų planavimo inicijavimo pagrindu ir sudaryta sutartis dėl detaliojo plano Kėdainiuose, Miško g. 2, keitimo. Užsakyta 18 žemės sklypų atlikti kadastrinius matavimus, rengta 11 žemės sklypų formavimo ir pertvarkymo projektų, patvirtinti 106 žemės sklypų formavimo ir pertvarkymo projektai
B14: 007-01-01-02 (TP) | C14: Senojo Upytės kelio specialiojo plano rengimas ("Isos slėnis") | D14: 1 | E14: Specialiojo plano rengimo koordinavimas, paslaugų teikėjo prisiimtų sutartinių įsipareigojimų vykdymo kontrolė | F14: Architektūros ir urbanistikos skyrius | G14: SB | H14: 24 | I14: 23.7 | J14: Rengiamų specialiųjų planų skaičius | K14: 1 | L14: 1 | M14: Pradėtas rengti Upytės kelio Kėdainių r. sav., Vilainių sen., specialusis planas
B15: 007-01-01-03 (TP) | C15: Turto inventorizavimas, teisinė registracija, dokumentų turto pardavimui rengimas | D15: 1 | E15: Savivaldybei nuosavybės teise priklausančio turto dokumentų rengimas, sisteminimas ir teikimas kadastriniams matavimams ir teisinei registracijai atlikti | F15: Turto valdymo skyrius | G15: SB | H15: 50 | I15: 25.2 | J15: Inventorizuotų nekilnojamojo turto objektų skaičius (pagal poreikį) | K15: pagal poreikį | L15: 128 | M15: Vykdytos Savivaldybei nuosavybės teise priklausančio turto dokumentų rengimo, sisteminimo ir teikimo kadastriniams matavimams ir teisinei registracijai, organizuotas Savivaldybei nuosavybės teise priklausančio numatyto parduoti turto vertinimas, vykdytos Savivaldybės nuosavybės teise priklausančio turto pardavimo procedūros. 2024 m. atlikti 128 naujų nekilnojamojo turto objektų kadastriniai matavimai ir įregistruota Kėdainių nuosavybės teisė į juos
D16: 2 | E16: Savivaldybei nuosavybės teise priklausančio numatyto parduoti turto vertinimo organizavimas
D17: 3 | E17: Savivaldybės nuosavybės teise priklausančio turto pardavimo procedūrų vykdymas
B18: 007-01-01-04 (TP) | C18: Infrastruktūros objektų tvarkymo investicinių projektų, planų, paraiškų, kitos techninės dokumentacijos rengimas Europos Sąjungos ar kitų fondų paramai gauti | D18: 1 | E18: Projektinių pasiūlymų, paraiškų ir kitos dokumentacijos parengimo organizavimas ir kontrolė | F18: Strateginio planavimo ir investicijų skyrius | G18: SB | H18: 60 | I18: 60 | J18: Parengtos dokumentacijos skaičius | K18: 15 | L18: 19 | M18: Kauno regiono plėtros tarybai vertinimui pateikta 16 pasiūlymų dėl savivaldybės projektų įtraukimo į regiono plėtros planą, įgyvendinančioms institucijoms pateikta 19 projektų įgyvendinimo planų ir paraiškų už 23,5 mln. Eur, savivaldybės administracija pasirašė 12 projektų finansavimo sutarčių už 18,1 mln. Eur.
B19: 007-01-02 (T) | C19: Užtikrinti inžinerinio aprūpinimo (vandentiekio, nuotekų tinklų ir kt.) sistemų atnaujinimą ir plėtrą | H19: =SUM(H20:H26) -> 727.7 | I19: =SUM(I20:I26) -> 689.4
B20: 007-01-02-01 (PP) | C20: Projekto "Vandentiekio ir buitinių nuotekų infrastruktūros rekonstrukcija ir plėtra Šėtos miestelyje, Kunionių kaime bei Kėdainių mieste" įgyvendinimas | D20: 1 | E20: Projekto, kurį įgyvendina UAB "Kėdainių vandenys", kofinansavimo dalies užtikrinimas | F20: Apskaitos skyrius, Strateginio planavimo ir investicijų skyrius | G20: SK | H20: 138.7 | I20: 137.4 | J20: Rekonstruojamų/naujai paklotų vandentiekio ir nuotekų tinklų, km (iš viso suminis) | K20: ~11 | L20: ~11 | M20: Įgyvendintos UAB "Kėdainių vandenys" ES projekto veiklos.
B21: 007-01-02-02 (TP) | C21: Vandentiekio, nuotekų tinklų įrengimas, rekonstrukcija, plėtra Kėdainių mieste | D21: 1 | E21: Rangos darbų Šilelio g. viešojo pirkimo organizavimas, rangos darbų koordinavimas, rangovo prisiimtų sutartinių įsipareigojimų vykdymo kontrolė | F21: Statybos skyrius | G21: SB | H21: 30 | I21: 14.9 | J21: Paklota vandentiekio ir nuotekų tinklų, m | K21: ~300 | L21: 150 | M21: Atlikti vandentiekio įvadų ir buitinių nuotekų išvadų įrengimo Šilelio g. 5, Kėdainiuose darbai
B22: 007-01-02-03 (TP) | C22: Biologinių nuotekų valymo įrenginių įrengimas | D22: 1 | E22: Priemonės įgyvendinimo koordinavimas | F22: Statybos skyrius | G22: SB | H22: 15 | I22: 15 | J22: Įsigytų įrenginių skaičius | K22: 1 | L22: 1 | M22: Įrengta vietinė buitinių nuotekų valykla Tilto g. 7, Užupės k., Surviliškio sen.
B23: 007-01-02-05 (TP) | C23: Vandentiekio ir nuotekų tinklų plėtra Angirių k. | D23: 1 | E23: Rangos darbų koordinavimas, rangovo prisiimtų sutartinių įsipareigojimų vykdymo kontrolė | F23: Statybos skyrius | G23: SB | H23: 360 | I23: 360 | J23: Atlikta einamaisiais metais numatytų išplėsti vandentiekio ir nuotekų tinklų, proc. | K23: 100 | L23: 100 | M23: Užbaigti vandentiekio ir nuotekų šalinimo tinklų įrengimo darbai Angirių k. Miško, Lakštingalų, Kranto ir Šušvės gatvėse. Iš viso nuo darbų pradžios įrengta 1,75 km vandentiekio bei 1,73 km nuotekų tinklų
B24: 007-01-02-06 (TP) | C24: Nuotekų tinklų įrengimas Josvainių mstl. Šaltinio g. | D24: 1 | E24: Rangos darbų viešojo pirkimo organizavimas, rangos darbų koordinavimas, rangovo prisiimtų sutartinių įsipareigojimų vykdymo kontrolė | F24: Statybos skyrius | G24: SB | H24: 71 | I24: 71 | J24: Atlikta numatytų darbų, proc. | K24: 100 | L24: 100 | M24: Atlikti Šaltinio g. vandentiekio (~200 m) bei buitinių nuotekų tinklų (200 m) įrengimo darbai
B25: 007-01-02-11 (TP) | C25: Remontuoti objektus pagal administracijos direktoriaus įsakymus | D25: 1 | E25: Priemonės įgyvendinimo koordinavimas | F25: Administracijos direktorius, Biudžeto ir finansų skyrius | G25: SB | H25: 83 | I25: 70.7 | J25: Remontuotų objektų skaičius | K25: pagal poreikį | L25: 12 | M25: Lėšos skirtos 12 objektų remontui
B26: 007-01-02-12 (TP) | C26: Likviduoti avarinius židinius | D26: 1 | E26: Priemonės įgyvendinimo koordinavimas | F26: Administracijos direktorius, Biudžeto ir finansų skyrius | G26: SB | H26: 30 | I26: 20.4 | J26: Objektų skaičius, kuriuose likviduoti avariniai židiniai | K26: pagal poreikį | L26: 5 | M26: Lėšos skirtos 5 objektų remontui
B27: 007-01-03 (T) | C27: Atnaujinti ir (arba) plėsti miesto ir rajono gatvių, kelių, viešųjų teritorijų apšvietimą, naudojant energiją taupančias priemones | H27: =SUM(H28:H29) -> 156.2 | I27: =SUM(I28:I29) -> 152
B28: 007-01-03-01 (TP) | C28: Kėdainių miesto bei rajono gatvių apšvietimo rekonstrukcija, įrengimas, modernizavimas | D28: 1 | E28: Viešųjų pirkimų organizavimas, rangos darbų vykdymo koordinavimas, rangovo prisiimtų sutartinių įsipareigojimų vykdymo kontrolė | F28: Statybos skyrius | G28: SB | H28: 105 | I28: 100.8 | J28: Oro kabelinės linijos įrengimas, m / pakeistų atramų/šviestuvų skaičius | K28: 300/25/ 25 | L28: 2816/20/ 20 | M28: Apšvietimo tinklai įrengti Kėdainiuose Senojo kelio g. dalyje, Šlapaberžės Soties g., rekonstruoti apšvietimo tinklai dalyje J.Basanavičiaus g., vykdyti oro linijos rekonstrukcijos darbai Kanapinsko, Lakštingalų, Jazminų, Uosių, Akacijų g (Kėdainių m.)
B29: 007-01-03-02 (TP) | C29: Radvilų g. apšvietimo ir ESO tinklų iškėlimo techninio projekto parengimas | D29: 1 | E29: Viešųjų pirkimų organizavimas, techninės dokumentacijos rengimo vykdymo koordinavimas, rangovo prisiimtų sutartinių įsipareigojimų vykdymo kontrolė | F29: Statybos skyrius | G29: SB | H29: 51.2 | I29: 51.2 | J29: Parengta dokumentacija | K29: 1 | L29: 1 | M29: Parengtas kilnojamų elektros energetikos įrenginių projektas (Radvilų g.), apmokėta ESO už darbus
B30: 007-01-04 (T) | C30: Gerinti susisiekimo infrastruktūrą, užtikrinant gyventojų darnų judumą bei mobilumą | H30: =SUM(H31:H39) -> 3599.5 | I30: =SUM(I31:I39) -> 3509.3
B31: 007-01-04-01 (TP) | C31: Tvarkyti ir plėtoti miesto ir kaimiškųjų seniūnijų kelius bei gatves, atlikti kelių ir gatvių kokybės kontrolę, techninę priežiūrą, techninių projektų ekspertizę, diegti saugaus eismo ir darnaus judumo priemones (KPP) | D31: 1 | E31: Rangos darbų viešųjų pirkimų organizavimas, rangos darbų koordinavimas, rangovo prisiimtų sutartinių įsipareigojimų vykdymo kontrolė, seniūnijų konsultavimas ir bendradarbiavimas | F31: Statybos skyrius | G31: SBVB | H31: 2695.7 | I31: 2724.3 | J31: Lėšų dalis, tenkanti rajono kaimiškųjų seniūnijų kelių ir gatvių tvarkymui, plėtojimui nuo bendros Kelių priežiūros ir plėtros programos lėšų, proc. | K31: ~60 | L31: 58 | M31: Programos lėšomis rajono seniūnijose sustiprinta naujomis medžiagomis žvyruotų kelių ir gatvių 3200 m3, užtaisyta 659 5m2 duobių ir išdaužų, atnaujinta 3340,8 m asfaltbetonio danga, rajono seniūnijose pastatyti 124 kelio ženklai, 1096 m plieninių kelio apsauginių aitvarų, atlikti horizontalaus gatvių ženklinimo darbai (822,42 kv. m), 4 perėjų kryptinis apšvietimas, parengtos 36 kadastro registro bylos, atlikta 37 vnt. kokybės kontrolė. 2024 m. baigta rekonstruoti ar kapitališkai remontuota 5 seniūnijų gatvės (2409 m), pradėti ar tęsiami rekonstravimo ir kapitalinio remonto darbai: Kėdainių m., Janušavos g., V. Svirskio, Gėlainių k., Gėlainių g., Josvainių mstl., Skroblų g., kelio ruožas Meironiškiai-Meironiškėliai, Stebulių k., Stebulių g., parengta inžinerinių paslaugų (rekonstravimo ir kapitalinio remonto projektai ir jų ekspertizės 1 vnt.) | N31: =+H31+H43 -> 2845.7 | O31: =+I31+I43 -> 2844.6
B32: 007-01-04-02 (TP) | C32: Žvyro įsigijimo seniūnijų keliams prižiūrėti finansavimas | D32: 1 | E32: Priemonės įgyvendinimo koordinavimas, bendradarbiavimas su seniūnijomis | F32: Statybos skyrius, Biudžeto skyrius | G32: SB | H32: 230 | I32: 229.9 | J32: Prižiūrimų žvyrkelių ilgis, km | K32: ~40 | L32: 34.2 | M32: 11 seniūnijų vykdyti žvyravimo darbai. Seniūnijose nužvyruota apie 34,2 m kelių
B33: 007-01-04-03 (TP) | C33: Dviračių takų infrastruktūros mieste ir rajone plėtra (AA, SB) | D33: 1 | E33: Pėsčiųjų ir dviračių tako (tarp J.Basanavičiaus g. ir Josvainių g.) rangos darbų viešųjų pirkimų organizavimas, rangos darbų koordinavimas, rangovo prisiimtų sutartinių įsipareigojimų vykdymo kontrolė | F33: Statybos skyrius | G33: SB | H33: 150 | I33: 150 | J33: Įrengtos, pagerintos dviračiams skirtos infrastruktūros, m | K33: ~100 | L33: 93 | M33: Įrengtas pėsčiųjų ir dviračių takas tarp J. Basanavičiaus g. ir Josvainių g.) Kėdainių mieste
G34: SB | H34: 42.3 | I34: 42.3
B35: 007-01-04-04 (TP) | C35: Darnaus judumo mieste skatinimas | D35: 1 | E35: Rangos darbų viešųjų pirkimų organizavimas (pagal poreikį), rangos darbų koordinavimas, rangovo prisiimtų sutartinių įsipareigojimų vykdymo kontrolė | F35: Statybos skyrius, Strateginio planavimo ir investicijų skyrius | G35: SB | H35: 11.9 | I35: 11.7 | J35: Parengtos techninės dokumentacijos skaičius/tvarkoma dviračių-pėsčiųjų takų atkarpų | K35: 1/1 | L35: 1/1 | M35: Pateikta projekto paraiška, pasirašyta finansavimo sutartis. Pagal parengtą techninį projektą pradėti pėsčiųjų ir dviračių tako S. Dariaus ir S. Girėno g. bei M. Daukšos g. (iki Draugystės g.) rekonstravimo darbai (3,3 km)
D36: 2 | E36: Projekto veiklų koordinavimas | G36: ES | H36: 66.9 | I36: 60.5
B37: 007-01-04-06 (TP) | C37: Biudžetinių įstaigų kiemų dangos atnaujinimas | D37: 1 | E37: Viešųjų pirkimų organizavimas, rangos darbų koordinavimas, rangovo prisiimtų sutartinių įsipareigojimų vykdymo kontrolė | F37: Statybos skyrius | G37: SB | H37: 85 | I37: 84.9 | J37: Remontuotų biudžetinių įstaigų kiemų skaičius | K37: 2 | L37: 2 | M37: Atnaujinta Ryto progimnazijos kiemo danga, Kėdainių senamiesčio progimnazijos vidinio kiemo važiuojamojo kelio danga
B38: 007-01-04-07 (TP) | C38: Inžinerinių paslaugų, darbų ir įrenginių finansavimas | D38: 1 | E38: Inžinerinių tinklų perkėlimo darbų organizavimas, tvarkant miesto bei rajono gatves | F38: Statybos skyrius | G38: SB | H38: 207.7 | I38: 191.2 | J38: Atlikta numatytų darbų, proc. | K38: 100 | L38: 100 | M38: Pagal poreikį lėšos skirtos darbams, kurie netinkami finansuoti KPPP lėšomis, rekonstruojant gatves, šaligatvius
B39: 007-01-04-09 (TP) | C39: Išmokos pagal savivaldybės infrastruktūros plėtros sutartis (SĮP) | D39: 1 | E39: Priemonės koordinavimas | F39: Architektūros ir urbanistikos skyrius | G39: SB | H39: 110 | I39: 14.5 | J39: Sudarytų sutarčių skaičius (pagal poreikį) | K39: pagal poreikį | L39: 1 | M39: Apskaičiuoti 83 infrastruktūros plėtros įmokos aktai, surinkta 74,83 tūkst. Eur įmokų. Išmoka pagal savivaldybės infrastruktūros plėtros sutartis kompensacija išmokėta 1 įmonei
B40: 007-01-05 (T) | C40: Vystyti gyvenamąją aplinką, užtikrinant viešosios infrastruktūros priežiūrą, atnaujinimą ir tinkamą naudojimą | H40: =SUM(H41:H45) -> 664.8 | I40: =SUM(I41:I45) -> 298.9
B41: 007-01-05-02 (TP) | C41: Viešųjų ir biudžetinių įstaigų stogų remontas | D41: 1 | E41: Rangos darbų viešųjų pirkimų organizavimas (pagal poreikį), rangos darbų koordinavimas, rangovo prisiimtų sutartinių įsipareigojimų vykdymo kontrolė | F41: Statybos skyrius | G41: SB | H41: 85 | I41: 78.8 | J41: Pastatų, kurių stogai remontuoti, skaičius | K41: 5 | L41: 9 | M41: Atlikti Josvainių, Šėtos gimnazijų, lopšelio-darželio „Puriena“, pastato Skongalio g. 23A, mokyklos-darželio „Obelėlė", Sporto centro krepšinio salės (Parko g. 4), bibliotekos (Rinkos a. 5) bei pastato Beržų g. 4A Pelėdnagiuose pastatų dalies stogų remonto darbai, buvusios Aristavos pagrindinės mokyklos lietaus nubėgimo sistemos remontas, taip pat parengtas Kėdainių dailės mokyklos stogo remonto techninis darbo projektas
B42: 007-01-05-03 (TP) | C42: Daugiabučių namų kiemų dangų atnaujinimas (KPP) | D42: 1 | E42: Rangos darbų viešųjų pirkimų organizavimas (pagal poreikį), rangos darbų koordinavimas, rangovo prisiimtų sutartinių įsipareigojimų vykdymo kontrolė | F42: Statybos skyrius | G42: SB | H42: 50 | I42: 50 | J42: Atnaujintų teritorijų skaičius, m2 | K42: ~3500 | L42: ~3400 | M42: Pradėtas rengti Kėdainių miesto Jaugelio Telegos daugiabučių namų kvartalo kompleksinio atnaujinimo techninis projektas. Vykdyta daugiabučių namų kiemų asfaltbetonio duobių remonto darbai (1300 m2)
G43: SBVB | H43: 150 | I43: 120.3 | M43: Atlikti daugiabučių namų ( Respublikos g. 26, Respublikos g. 40, Šėtos g. 79) kiemų dangų atnaujinimo darbai (2100 m2)
B44: 007-01-05-04 (TP) | C44: Infrastruktūros plėtros techninės dokumentacijos rengimas ir infrastruktūros gerinimo darbai (SĮP) | D44: 1 | E44: Techninės dokumentacijos rengimo viešojo pirkimo organizavimas, tiekėjo prisiimtų sutartinių įsipareigojimų vykdymo kontrolė | F44: Architektūros ir urbanistikos skyrius | G44: SB | H44: 124 | I44: 19.4 | J44: Parengtų techninių dokumentacijų skaičius | K44: 2 | L44: 2 | M44: Per 2024 m. gauta prioritetinių Savivaldybės infrastruktūros plėtros įmokų 4,29 tūkst. Eur ir neprioritetinių – 70,54 tūkst. Eur. Lėšos skirtos Kėdainių miesto seniūnijai infrastruktūros gerinimo darbams atlikti neprioritetinės infrastruktūros plėtros teritorijoje prie Dubinės 1-osios ir Dubinės 2-osios gatvių
B45: 007-01-05-05 (TP) | C45: Europos Sąjungos projektų, kuriems taikomas apmokėjimas kompensavimo būdu, išlaidų apmokėjimas | D45: 1 | E45: Priemonės įgyvendinimo koordinavimas | F45: Apskaitos skyrius, Strateginio planavimo ir investicijų skyrius | G45: SB | H45: 255.8 | I45: 30.4 | J45: Projektų, vykdomų apmokėjimo kompensavimo būdus, skaičius | K45: 3 | L45: 4 | M45: Išlaidos skirtos ES finansuojamų projektų išlaidų apmokėjimui kompensavimo būdu (t.y. apmokamos projektų išlaidos, kai ES finansavimas pervedamas - finansinis srautas subalansuojamas ("atstatomas")
B46: IŠ VISO | H46: =+H40+H30+H27+H19+H12 -> 5357.2 | I46: =+I40+I30+I27+I19+I12 -> 4807.2
H47: =+H46-H48 -> 0 | I47: =+I46-I48 -> 0
C48: 1. Savivaldybės biudžetas (įskaitant skolintas lėšas) | H48: =SUM(H50:H55) -> 5357.2 | I48: =SUM(I50:I55) -> 4807.2
C49: Iš jo:
C50: 1.1. savivaldybės biudžeto lėšos (nuosavos, be ankstesnių metų likučio) | G50: SB | H50: =+H45+H44+H42+H41+H39+H38+H37+H33+H32+H29+H28+H26+H25+H24+H23+H22+H21+H18+H15+H14+H13+H34+H35 -> 2305.9 | I50: =+I45+I44+I42+I41+I39+I38+I37+I33+I32+I29+I28+I26+I25+I24+I23+I22+I21+I18+I15+I14+I13+I34+I35 -> 1764.7
C51: 1.2. Lietuvos Respublikos valstybės biudžeto dotacijos | G51: SBVB | H51: =+H43+H31 -> 2845.7 | I51: =+I43+I31 -> 2844.6
C52: 1.3. Pajamų įmokos ir kitos pajamos | G52: ĮP
C53: 1.4. Europos Sąjungos ir kitos tarptautinės finansinės paramos lėšos | G53: ES | H53: =+H36 -> 66.9 | I53: =+I36 -> 60.5
C54: 1.5. Skolintos lėšos | G54: SK | H54: =+H20 -> 138.7 | I54: =+I20 -> 137.4
C55: 1.6. Ankstesnių metų likučiai | G55: SBL
C56: 2. Kiti šaltiniai (Europos Sąjungos finansinė parama projektams įgyvendinti ir kitos teisėtai gautos lėšos, nurodant atskirus šaltinius) | G56: KT
C57: IŠ VISO programai finansuoti pagal finansavimo šaltinius (1 ir 2 punktai) | H57: =+H56+H48 -> 5357.2 | I57: =+I56+I48 -> 4807.2
C58: Iš jų: regioninių pažangos priemonių lėšos | H58: =+H36 -> 66.9 | I58: =+I36 -> 60.5

Sheet 08aplinkosauga
G1: PATVIRTINTA
G2: Kėdainių rajono savivaldybės administracijos direktoriaus
G3: 2024 m. kovo 8 d. įsakymu Nr.AD-1- 182
G4: (Kėdainių rajono savivaldybės administracijos direktoriaus
G5: 2024 m. gruodžio d. įsakymo Nr.AD-1- redakcija)
B7: Programos uždavinio, priemonės kodas ir požymis | C7: Uždavinio, priemonės pavadinimas | D7: Veiklos kodas | E7: Veiklos pavadinimas | F7: Atsakingas vykdytojas | G7: Finansavimo šaltinis | H7: Numatomi 2024 m. asignavimai ir kitos lėšos | I7: Panaudoti 2024 m. asignavimai ir kitos lėšos | J7: Vertinimo kriterijai
J8: Pavadinimas | K8: Planuota reikšmė | L8: Pasiekta reikšmė | M8: Komentarai, pastabos, nukrypimų nuo plano priežastys
B10: 08 APLINKOS APSAUGA
B11: 008-01-01 (T) | C11: Įgyvendinti Aplinkos apsaugos rėmimo specialiosios programos finansuojamas priemones | H11: =SUM(H12:H26) -> 494.4 | I11: =SUM(I12:I26) -> 452.8
B12: 008-01-01-01 (TP) | C12: Aplinkos kokybės gerinimas, atkūrimas ir apsauga, aplinkos priežiūros prevencinių priemonių vykdymas (AA) | D12: 1 | E12: Sosnovskio barščio naikinimo rajono seniūnijose koordinavimas | F12: Aplinkosaugos skyrius | G12: SB | H12: 105.8 | I12: 96.5 | J12: Įgyvendinamų priemonių skaičius | K12: 7 | L12: 7 | M12: Sosnovskio barščių naikinimas vykdytas 7 Kėdainių rajono seniūnijose, vykdytas jūrinių erelių perimviečių stebėjimas, atliktas makrofitų mechaninis pjovimas Nevėžio ir Dotnuvėlės upių pakrantėse, atlikti potvynio pažeisto Nevėžio upės kranto tvarkymo ir sutvirtinimo darbai, rekreacijai pritaikyta Truskavos seniūnijos Dvariškių karjero maudykla, nupirkta 25 litrai naftos produktų surišėjo ir 37 vnt. hidrofobinių bonų (šios priemonės naudojamos ekstremaliose situacijose, incidentuose, įvykiuose), išvalyta ir sutvarkyta bešeimininkėmis atliekomis užteršta teritorija valstybinėje žemėje buvusiame aerodrome Krakių sen. Milvydų k., atliekų tvarkytojui perduotos Josvainių sen. Šingalių k. rastos bešeimininkės pavojingosios atliekos, vykdyta Babėnų šilo atokvėpio vietų, pėsčiųjų takų priežiūra ir tvarkymas, rinktos ir pašalintos atliekos iš miško, atlikti Bakainių piliakalnio šlaitų medžių ir krūmų tvarkymo darbai
D13: 2 | E13: Kraujupio upelio papildymo minimaliam debetui Nevėžio upės vandeniu užtikrinti
D14: 3 | E14: Nevėžio, Dotnuvėlės upių, kitų telkinių pakrančių valymo darbų koordinavimas
D15: 4 | E15: Saugomų teritorijų apsaugos ir tvarkymo darbų koordinavimas (Surviliškio sen.)
D16: 5 | E16: Jūrinių erelių perimviečių stebėjimo užtikrinimas
D17: 6 | E17: Atliekų, kuriomis užteršta teritorija, nustatymo ir atliekomis užterštos teritorijos išvalymo ir sutvarkymo darbų organizavimas (pagal poreikį)
D18: 7 | E18: Babėnų šilo priežiūros, apsaugos ir tvarkymo darbų koordinavimas Miesto seniūnijai vykdant darbus | G18: SBVB | H18: 0 | I18: 13.4
B19: 008-01-01-02 (TP) | C19: Aplinkos monitoringas, aplinkos oro, dirvožemio, požeminio ir paviršinio vandens nuotekų tyrimai (AA) | D19: 1 | E19: 2019–2024 m. aplinkos monitoringo programos įgyvendinimas | F19: Aplinkosaugos skyrius | G19: SB | H19: 29.5 | I19: 28.1 | J19: Tiriamų parametrų skaičius | K19: 5 | L19: 5 | M19: Vykdytas aplinkos oro, paviršinio ir požeminio vandens, dirvožemio ir aplinkos triukšmo monitoringas pagal 2019–2024 metų aplinkos monitoringo programą, vykdyti spenduotų kietųjų dalelių (SKD) matavimai aplinkos ore mieste. Parengta ir rajono taryboje patvirtinta Kėdainių rajono savivaldybės 2025–2030 metų aplinkos monitoringo programa
D20: 2 | E20: Aplinkos oro, dirvožemio, požeminio ir paviršinio vandens nuotekų tyrimai
D21: 3 | E21: Aplinkos oro (KD) tyrimų organizavimas ir koordinavimas
B22: 008-01-01-03 (TP) | C22: Želdynų ir želdinių apsauga, tvarkymas, būklės stebėsena, želdynų kūrimas, veisimas ir inventorizavimas (AA) | D22: 1 | E22: Želdinių priežiūros, naujų želdinių įveisimo organizavimas ir koordinavimas, bendradarbiavimas su seniūnijomis | F22: Aplinkosaugos skyrius | G22: SB | H22: 91.1 | I22: 81.5 | J22: Seniūnijų skaičius, kuriose įgyvendinamos želdynų ir želdinių apsaugos, tvarkymo, būklės stebėsenos, želdynų kūrimo, želdinių veisimo ir inventorizavimo priemonės | K22: 11 | L22: 11 | M22: Seniūnijoms skirtos lėšos želdiniams įsigyti, želdynams prižiūrėti, atliktas viešųjų erdvių apželdinimas Kėdainių mieste daugiamečiais augalais, įsigytos biologinės apsaugos priemonės kaštonams apsaugoti, atnaujinta želdynų ir želdinių apsaugos, tvarkymo ir priežiūros dokumentacija
B23: 008-01-01-04 (TP) | C23: Visuomenės aplinkosauginis švietimas, gražiausiai tvarkomos aplinkos konkurso organizavimas (AA) | D23: 1 | E23: Aplinkosauginio švietimo organizavimas, konkurso Gražiausiai tvarkomos sodybos organizavimas, dalyvavimas vertinimo komisijos veikloje | F23: Aplinkosaugos skyrius | G23: SB | H23: 14.2 | I23: 14 | J23: Surengtų akcijų, seminarų, viešinimo priemonių skaičius | K23: 7 | L23: 7 | M23: Organizuotas Europos judumo savaitei skirtas sporto renginys „Weekend warrior“ (7 dienos), ugdymo įstaigoms prenumeruoti aplinkosauginiai leidiniai, konkurse išrinktos gražiausiai tvarkomos miesto ir kaimo, individualių gyvenamųjų namų, biudžetinių įstaigų, įmonių, įstaigų, organizacijų ir daugiabučių namų aplinkos
B24: 008-01-01-05 (TP) | C24: Prevencinių priemonių, kuriomis siekiama išvengti medžiojamųjų gyvūnų daromos žalos miškui, įgyvendinimas (AA) | D24: 1 | E24: Medžioklės klausimų koordinavimas, dalyvavimas finansinės paramos medžiojamųjų gyvūnų daromos žalos prevencijos priemonėms įgyvendinti komisijoje | F24: Aplinkosaugos skyrius | G24: SB | H24: 62.3 | I24: 61.3 | J24: Finansuotos medžiojamų gyvūnų daromos žalos prevencijos ir kitos priemonės (paraiškų sk.) | K24: 4 | L24: 9 | M24: Lėšos panaudotos tvoroms įrengti pasėliams ir medeliams apsaugoti, želdiniams repelentais apdoroti, aptvarams avių ganymui ir apsaugai nuo vilkų įrengti
B25: 008-01-01-06 (TP) | C25: Krakių tvenkinių valymo darbų vykdymas (AA) | D25: 1 | E25: Rangos darbų viešųjų pirkimų organizavimas, rangos darbų koordinavimas, rangovo prisiimtų sutartinių įsipareigojimų vykdymo kontrolė | F25: Aplinkosaugos skyrius | G25: SB | H25: 142 | I25: 108.9 | J25: Atliktų, einamaisiais metais numatytų darbų, proc. | K25: 100 | L25: 100 | M25: Išvalytas Krakių II tvenkinys, siekiant pagerinti vandens telkinio būklę. Pašalinta vandens augmenija, iškastos susikaupusios dugno sąnašos, tvenkinys labiau pritaikytas rekreaciniams poreikiams
B26: 008-01-01-07 (TP) | C26: Individualių nuotekų valymo įrenginių kompensavimas gyventojams (AA) | D26: 1 | E26: Priemonės koordinavimas ir viešinimas | F26: Aplinkosaugos skyrius | G26: SB | H26: 49.5 | I26: 49.1 | J26: Besikreipiančiųjų ir patenkintų prašymus, proc. | K26: 100 | L26: 100 | M26: 87 fiziniams asmenims (33 iš 2023 m. rezervinio prašymų sąrašo ir 54 iš 2024 m. lėšų) iš dalies kompensuotos individualių nuotekų valymo įrenginių įsigijimo išlaidos
B27: 008-01-02 (T) | C27: Tobulinti atliekų tvarkymo bei aplinkos išsaugojimo sistemą, prižiūrėti, tvarkyti viešąsias teritorijas, užtikrinti sveiką, estetišką aplinką | H27: =SUM(H28:H37) -> 2650.8 | I27: =SUM(I28:I37) -> 2317.4
B28: 008-01-02-01 (TP) | C28: Atliekų tvarkymo sistemos organizavimas | D28: 1 | E28: Priemonės įgyvendinimo koordinavimas | F28: Bendrasis skyrius, Apskaitos skyrius | G28: SB | H28: 1794 | I28: 1793.9 | J28: Surinktų atliekų (bendras) kiekis, ~ tūkst. t. | K28: ~14 | L28: 15 | M28: Savivaldybės teritorijoje iš bendrojo naudojimo ir individualių konteinerių buvo surinka ir sutvarkyta 11,3 tūkst. t mišrių komunalinių atliekų, 2 tūkst. t antrinių žaliavų, 249,8 t tekstilės atliekų. Taip pat iš individualių valdų ir prie bendrojo naudojimo konteinerių surinkta per 641,4 t. didelių gabaritų atliekų. Iš sodų - 717 t. žaliųjų atliekų. Nuo 2024 m. rugsėjo 22 d. mieste pradėtas vykdyti maisto ir virtuvės atliekų surinkimas, pastatytos 33 maisto atliekų surinkimo stoginės, kuriuose pastatyti 54 specializuoti antžeminiai maisto ir virtuvės surinkimo konteineriai (0,24 m3). Iki metų pabaigos surinkta 18,38 t maisto ir virtuvės atliekų. 2024 m. iš fizinių ir juridinių asmenų rinkliavos už komunalinių atliekų surinkimą ir tvarkymą paslaugas surinkta beveik 1,877 mln. Eur
B29: 008-01-02-03 (TP) | C29: Susidariusių atliekų tvarkymas, vartų mokesčio mokėjimas | D29: 1 | E29: Priemonės įgyvendinimo koordinavimas | F29: Bendrasis skyrius, Apskaitos skyrius | G29: SB | H29: =192+141 -> 333 | I29: =192+141 -> 333 | J29: Finansinių įsipareigojimų vykdymas, proc. | K29: 100 | L29: 100 | M29: Už atliekų tvarkymą, mokėtas regioninės sistemos mokestis, kitaip vadinamas „vartų“ mokestis
B30: 008-01-02-04 (TP) | C30: Suteiktų lengvatų už vietinę rinkliavą už komunalinių atliekų surinkimą kompensavimas | D30: 1 | E30: Priemonės įgyvendinimo koordinavimas | F30: Apskaitos skyrius | G30: SB | H30: 150 | I30: 150 | J30: Suteiktų lengvatų, pagal priimtus tarybos sprendimus, proc. | K30: 100 | L30: 100 | M30: 2024 m. vietinės rinkliavos už komunalinių atliekų surinkimą ir tvarkymą bendras lengvatų dydis siekė 57,1 tūkst. Eur
B31: 008-01-02-05 (TP) | C31: Konteinerių, kompostavimo dėžių įsigijimas | D31: 1 | E31: Paraiškos teikimas, priemonės koordinavimas dotacijai gavus | F31: Bendrasis skyrius, Apskaitos skyrius | G31: SB | H31: 242 | I31: 1.9 | J31: Išdalintų kompostavimo dėžių, pastatytų konteinerių skaičius (pagal poreikį) | K31: 2000 | L31: 57 | M31: Dėl kompostavimo dėžių individualioms valdoms (miestams) įsigijimo APVA 2024 m. kvietimo teikti paraiškas neskelbė. Iš Vietinės rinkliavos už komunalines atliekų surinkimo ir tvarkymo lėšas įsigyti maisto ir virtuvės atliekų surinkimo konteineriai su stoginėmis (61,8 tūkst. Eur)
G32: SB | H32: 94,0* | I32: 61,8*
B33: 008-01-02-06 (TP) | C33: Bešeimininkių padangų, automobilių detalių atliekų, tvarkymas | D33: 1 | E33: Paraiškos teikimas, priemonės koordinavimas dotacijai gavus | F33: Bendrasis skyrius, Apskaitos skyrius | G33: SB | H33: 37.2 | I33: 19.1 | J33: Sutvarkyta naudotų padangų, t | K33: ~200 | L33: 70 | M33: Su UAB „Ekobazė“ buvo pasirašyta Bešeimininkių padangų atliekų pakrovimo, transportavimo iki atliekų naudotojo ir perdirbimo paslaugų sutartis ir per 2024 m. Savivaldybės biudžeto lėšomis (12,7 tūkst.) sutvarkyta 70 t bešeimininkių padangų atliekų. Planuota sutvarkyti bešeimininkių padangų daugiau, tačiau nebuvo kvietimo teikti paraiškos finansavimui gauti
G34: SBVB | H34: 2.1 | I34: 2.1
B35: 008-01-02-07 (TP) | C35: Namų ūkiuose susidariusių asbesto atliekų tvarkymas | D35: 1 | E35: Paraiškos teikimas, priemonės koordinavimas dotacijai gavus | F35: Bendrasis skyrius, Apskaitos skyrius | G35: SB | H35: 70 | I35: 0 | J35: Sutvarkyta asbesto atliekų, t. | K35: ~100 | L35: 0 | M35: Administracija 2024 m. paraišką asbesto atliekų tvarkybai . Kadangi kvietime dalyvavo ir Regioniniai atliekų tvarkymo centrai, kurie teikė paraiškas už kelias savivaldybes, Kėdainiai pateko į Rezervinį sąrašą, tačiau 2024 m. finansavimo negavo. 2025 m. jei bus skelbiamas kvietimas, Administracija pakartotinai teiks paraišką
B36: 008-01-02-09 (TP) | C36: Bešeimininkių ir bepriežiūrių gyvūnų surinkimas, gaudymas bei karantinavimas | D36: 1 | E36: Priemonės konkurso organizavimas, sutarties su vykdytoju suderinimas, kontrolė | F36: Aplinkosaugos skyrius | G36: SB | H36: 17.5 | I36: 8.5 | J36: Surinktų, paženklintų beglobių gyvūnų skaičius | K36: 80 | L36: 94 | M36: Atlikus viešųjų pirkimų procedūras 2-jų metų trukmės Bešeimininkių ir bepriežiūrių gyvūnų gaudymo, paėmimo, karantinavimo, eutanazijos, pristatymo utilizuoti, laikinos globos rajone paslaugų sutartis. Paslaugos teikėjas per 2024 m. mikroschemomis paženklino 43 gyvūnus, sugavo 22, o iš namų paėmė 29 bešeimininkius ir bepriežiūrius gyvūnus
B37: 008-01-02-10 (TP) | C37: Gyvūnų globos organizacijų rengiamų bešeimininkių kačių kastravimo programų įgyvendinimo organizavimas | D37: 1 | E37: Priemonės konkurso organizavimas, sutarties su vykdytoju suderinimas, kontrolė | F37: Aplinkosaugos skyrius | G37: SB | H37: 5 | I37: 8.9 | J37: Kastruotų bešeimininkių kačių skaičius | K37: 150 | L37: 266 | M37: Atlikus viešųjų pirkimų procedūras pasirašyta 2-jų metų trukmės Bešeimininkių kačių kastravimo paslaugų sutartis. Paslaugos teikėjas per 2024 m. sugavo, kastravo ir sterilizavo 266 vnt. bešeimininkių katinų (70 vnt.) ir kačių (196 vnt.).
B38: 008-01-03 (T, P) | C38: Gerinti kraštovaizdžio apsaugą, didinti jo patrauklumą | H38: =SUM(H39:H43) -> 203.4 | I38: =SUM(I39:I43) -> 211
B39: 008-01-03-01 (TP) | C39: Apleistų (bešeimininkių ar savivaldybei nuosavybės teise priklausančių) pastatų ar kitų aplinką žalojančių objektų likvidavimas | D39: 1 | E39: Viešųjų pirkimų organizavimas, rangovo prisiimtų sutartinių įsipareigojimų vykdymo kontrolė | F39: Turto valdymo skyrius, Architektūros ir urbanistikos skyrius | G39: SB | H39: 50 | I39: 49.9 | J39: Likviduotų objektų skaičius | K39: 3 | L39: 5 | M39: Nugriauta avarinės būklės katilinė Liepų k., 2 socialiniai būstai (dviejų ir trijų butų gyvenamieji namai) Meironiškių k., miesto parko mūrinė tvora bei vandens bokštas Šėtos seniūnijoje
B40: 008-01-03-02 (TP) | C40: Miesto gėlynų, gėlinių ir dekoratyvinių krūmų priežiūra ir apželdinimas | D40: 1 | E40: Priemonės įgyvendinimo organizavimas, koordinavimas | F40: Aplinkosaugos skyrius | G40: SB | H40: 133.4 | I40: 141.1 | J40: Sudarytų sutarčių skaičius | K40: 1 | L40: 1 | M40: Mieste prižiūrimi esami gėlynai, vykdytas sezoninis pavasarinių, vasarinių ir rudeninių gėlių sodinimas, formuojami bei genėjami dekoratyviniai krūmai, įrengiamos naujos erdvės, tvarkomi gėlių vazonai ir pakabinamos kompozicijos
B41: 008-01-03-03 (PP) | C41: Žaliosios infrastruktūros Kėdainių miesto urbanizuotoje aplinkoje plėtojimas | D41: 1 | E41: Priemonės įgyvendinimo organizavimas, koordinavimas | F41: Aplinkosaugos skyrius | G41: SB | H41: 20 | I41: 20 | J41: Parengtos techninės dokumentacijos skaičius | K41: 1 | L41: 1 | M41: Parengta žaliosios infrastruktūros poreikio analitinė schema
B44: IŠ VISO | H44: =+H38+H27+H11 -> 3348.6 | I44: =+I38+I27+I11 -> 2981.2
B45: iš jų:
C46: 1. Savivaldybės biudžetas (įskaitant skolintas lėšas) | H46: =SUM(H48:H53) -> 3348.6 | I46: =SUM(I48:I53) -> 2981.2
C47: Iš jo:
C48: 1.1. savivaldybės biudžeto lėšos (nuosavos, be ankstesnių metų likučio) | G48: SB | H48: =+H41+H40+H39+H37+H36+H35+H33+H31+H30+H29+H28+H26+H25+H24+H23+H22+H19+H12 -> 3346.5 | I48: =+I41+I40+I39+I37+I36+I35+I33+I31+I30+I29+I28+I26+I25+I24+I23+I22+I19+I12 -> 2965.7
C49: 1.2. Lietuvos Respublikos valstybės biudžeto dotacijos | G49: SBVB | H49: =+H18+H34 -> 2.1 | I49: =+I18+I34 -> 15.5
C50: 1.3. Pajamų įmokos ir kitos pajamos | G50: ĮP
C51: 1.4. Europos Sąjungos ir kitos tarptautinės finansinės paramos lėšos | G51: ES
C52: 1.5. Skolintos lėšos | G52: SK
C53: 1.6. Ankstesnių metų likučiai | G53: SBL
C54: 2. Kiti šaltiniai (Europos Sąjungos finansinė parama projektams įgyvendinti ir kitos teisėtai gautos lėšos, nurodant atskirus šaltinius) | G54: KT
C55: IŠ VISO programai finansuoti pagal finansavimo šaltinius (1 ir 2 punktai) | H55: =+H54+H46 -> 3348.6 | I55: =+I54+I46 -> 2981.2
C56: Iš jų: regioninių pažangos priemonių lėšos

Sheet 09ž.ū.
G1: PATVIRTINTA
G2: Kėdainių rajono savivaldybės administracijos direktoriaus
G3: 2024 m. kovo 8 d. įsakymu Nr.AD-1- 182
G4: (Kėdainių rajono savivaldybės administracijos direktoriaus
G5: 2024 m. gruodžio d. įsakymo Nr.AD-1- redakcija)
B8: Programos uždavinio, priemonės kodas ir požymis | C8: Uždavinio, priemonės pavadinimas | D8: Veiklos kodas | E8: Veiklos pavadinimas | F8: Atsakingas vykdytojas | G8: Finansavimo šaltinis | H8: Numatomi 2024 m. asignavimai ir kitos lėšos | I8: Panaudoti 2024 m. asignavimai ir kitos lėšos | J8: Vertinimo kriterijai
J9: Pavadinimas | K9: Planuota reikšmė | L9: Pasiekta reikšmė | M9: Komentarai, pastabos, nukrypimų nuo plano priežastys
B11: 09 ŽEMĖS ŪKIO PLĖTRA IR MELIORACIJA
B12: 009-01-01 (T) | C12: Sudaryti sąlygas tradicinio bei inovatyvaus žemės ūkio vystymui | H12: =+H13+H17+H22 -> 148.1 | I12: =+I13+I17+I22 -> 152.9
B13: 009-01-01-01 (TP) | C13: Valstybės perduotų savivaldybėms žemės ūkio funkcijų vykdymas, konsultuojant rajono asmenis ūkininkavimo, žemės ūkio technikos registravimo ir kitais su žemės ūkiu susijusiais klausimais | D13: 1 | E13: Žemės ūkio valdų skaičius (įregistravimas, išregistravimas, kasmetinis duomenų atnaujinimas) | F13: Žemės ūkio skyrius | G13: SBVB | H13: 145.1 | I13: 149.9 | J13: Įregistruotų žemės ūkio valdų skaičius (įregistravimas, išregistravimas, kasmetinis duomenų atnaujinimas) | K13: 2660 | L13: 2594 | M13: Rajone registruotų ūkininkų ūkių skaičius per 2022-2024 m. sumažėjo 2,6 proc., o naujai įregistruotų ūkių skaičius sumažėjo net 47,7 proc. Tuo tarpu jaunieji ūkininkai (iki 40 m.) sudaro 56 proc. nuo visų 2024 m. įregistruotų ūkių, kas rodo teigiamą tendenciją jaunimui įsitraukiant į žemės ūkio veiklą.
D14: 2 | E14: Ūkininkų ūkių įregistravimas, išregistravimas, kasmetinis duomenų atnaujinimas | J14: Įregistruotų ūkininkų ūkių skaičius (įregistravimas, išregistravimas, duomenų atnaujinimas) | K14: 1700 | L14: 1665
D15: 3 | E15: Paramos už žemės ūkio naudmenas ir kitus plotus bei gyvulius paraiškos pildymas, deklaruojamų laukų įbraižymas, duomenų keitimas, pasikeitusių KŽS ribų aprašymas | J15: Paramos už žemės ūkio naudmenas ir kitus plotus bei gyvulius priimtų paraiškų skaičius (pasėlių deklaracijos pildymas, deklaruojamų laukų įbraižymas, duomenų keitimas, pasikeitusių KŽS ribų aprašymas) | K15: ~2000 | L15: 1876 | M15: Pateiktų paraiškų skaičius lyginant su 2023 m. mažėjo 5 proc., tuo tarpu deklaruotas pasėlių plotas padidėjo apie 0,53 proc. Vyksta žemės ūkio valdų stambėjimas
D16: 4 | E16: Pagal gautus prašymus pasėliams, miškui padarytos žalos įvertinimas vietoje ir apžiūros aktų surašymas, sprendimų priėmimas, atstovavimas teismuose | J16: Prašymų dėl medžiojamųjų gyvūnų padarytos žalos nustatymo skaičius (pasėliams, miškui padarytos žalos įvertinimas vietoje ir apžiūros aktų surašymas, sprendimų paruošimas) | K16: 30 | L16: 33 | M16: Lyginant su 2024 m. prašymų skaičius bei padarytos bendros žalos suma mažėjo. Tokia situacija gali būti susijusi su geresne prevencija, veiksmingesniu gyvūnų populiacijos valdymu ar sumažėjusia žala ūkiams.
D17: 5 | E17: Paraiškų priėmimas, įvertinimas, kompensuojamų sumų apskaičiavimas, duomenų suvedimas į ŽŪMIS ir KOTIS | J17: Pateiktų paraiškų dalies draudimo įmokų kompensacijai gauti skaičius (augalų draudimas nuo nepalankių oro sąlygų; paraiškų priėmimas, duomenų sutikrinimas, kompensuojamos sumos apskaičiavimas, duomenų suvedimas į ŽŪMIS ir KOTIS) | K17: 100 | L17: 129 | M17: 2024 m. augalų draudimu besinaudojančių žemės ūkio subjektų skaičius bei apdraustas plotas išaugo lyginant su 2023 m. Aktyvesnis draudimo paslaugų naudojimas rodo, kad ūkininkai vis labiau vertina rizikos valdymo priemones, siekdami apsisaugoti nuo nepalankių oro sąlygų poveikio
D18: 6 | E18: Paramos teikimo bičių laikytojams už papildomą bičių maitinimą administravimas | J18: Paraiškų už papildomą bičių maitinimą skaičius | K18: ~125 | L18: 104 | M18: Bitininkystėje matoma sudėtinga situacija: vis dar rengiamas ES Medaus direktyvos perkėlimas į Lietuvos teisę. Kritę pardavimų apimtys ir kainos. Per dvejus metus bičių šeimų skaičius sumažėjo 12,3 proc.
D19: 7 | E19: Pieno pardavimo tiesiogiai vartoti deklaracijų ir kitų dokumentų administravimas | J19: Pieno gamybos ir realizavimo metinių deklaracijų skaičius | K19: 27 | L19: 26 | M19: Pieninių veislių karvių laikymas didžiausiuose ūkiuose išliko stabilus, o produktyvumas didėjo, kas rodo sektoriaus efektyvumą
D20: 8 | E20: Žemės ūkio technikos įregistravimas, perregistravimas, išregistravimas, registracijos dokumentų išdavimas, duomenų suvedimas į registrą | J20: Aptarnaujamos žemės ūkio technikos, įregistruotos rajone, skaičius | K20: ~7000 | L20: 7386 | M20: Aptarnautos rajone registruotos technikos skaičius– 7386 vnt., t. y. 1,18 proc. daugiau nei 2023 m. Lėšų už žemės ūkio technikos registravimą bei žemės ūkio technikos valstybinės techninės apžiūros apžiūras į biudžetą surinkta 19,8 t. Eur.
D21: 9 | E21: Žemės ūkio technikos techninių apžiūrų atlikimas, duomenų suvedimas, talonų išdavimas | J21: Atliktų techninių apžiūrų skaičius | K21: ~1000 | L21: 1215 | M21: Atlikta 1215 vnt. žemės ūkio technikos valstybinės techninės apžiūros, iš jų 105 vnt. neatitiko techninių reikalavimų ir joms buvo surašytos Techninės apžiūros rezultatų kortelės. Žemės ūkio technikos valstybinės techninės apžiūros vykdomos kas 2 m.
B22: 009-01-01-02 (TP) | C22: Metų žemdirbio bei Metų ūkio apdovanojimų teikimas | D22: 1 | E22: Tvarkos aprašo parengimas, konkurso, apdovanojant Metų žemdirbį, organizavimas | F22: Žemės ūkio skyrius | G22: SB | H22: 3 | I22: 3 | J22: Surengtų konkursų skaičius | K22: 2 | L22: 2 | M22: Surengtame ūkininkų pagerbimo renginyje „Metų ūkio 2024“ titulas atiteko Rimanto ir Deimantės Žebarauskų ūkiui, O "Metų žemdirbys 2024" nugalėtoju išrinktas Jono, Šarūno ir Alvydo Bytautų ūkis. Renginio metu pagerbti bei paskatinti ir kiti rajono ūkininkai
B23: 009-01-02 (T) | C23: Prižiūrėti ir plėtoti melioracijos ir hidrotechninių statinių infrastruktūrą | H23: =SUM(H24:H39) -> 1454.6 | I23: =SUM(I24:I39) -> 1324.2
B24: 009-01-02-01 (TP) | C24: Valstybės perduotų savivaldybėm funkcijų vykdymas melioracijos srityje, rekonstruojant remontuojant ir (arba) atnaujinant valstybei nuosavybės teise priklausančią melioracijos, hidrotechnikos infrastruktūrą | D24: 1 | E24: Melioracijos statinių priežiūros ir remonto darbų viešųjų pirkimų organizavimas, darbų koordinavimas, rangovo prisiimtų sutartinių įsipareigojimų vykdymo kontrolė | F24: Žemės ūkio skyrius | G24: SBVB | H24: 360 | I24: 360 | J24: Remontuojamų, prižiūrimų melioracijos griovių ilgis, km | K24: ~40 | L24: 32.7 | M24: 2024 m. valstybės biudžeto lėšomis atlikta melioracijos statinių remonto ir priežiūros darbų: suremontuota drenažo sistemų 32,6 ha plote, 32,7 km magistralinių griovių, 27 vandens pralaidos, kitų statinių (žiotys, kontroliniai šuliniai) 276 vnt., nušienauta 10,85 ha griovių šlaitų, 6,0 km apsauginių pylimų, 1 vandens siurblinė.
D25: 2 | E25: Priešprojektiniai tyrinėjimų techninės sąmatinės dokumentacijos sudarymo, ekspertizės viešųjų pirkimų organizavimas, paslaugų teikėjo prisiimtų sutartinių įsipareigojimų vykdymo kontrolė
D26: 3 | E26: Darbų techninė priežiūros koordinavimas, vykdymo kontrolė
B27: 009-01-02-02 (TP) | C27: Projektų rengimas ir gyvenviečių lietaus nuotekų-drenažų sistemų remontas | D27: 1 | E27: Remonto darbų viešųjų pirkimų organizavimas, rangos darbų koordinavimas, rangovo prisiimtų sutartinių įsipareigojimų vykdymo kontrolė | F27: Žemės ūkio skyrius | G27: SB | H27: 40 | I27: 40 | J27: Gyvenviečių, kuriose atlikti drenažo remonto darbai, skaičius | K27: 10 | L27: 12 | M27: Sudarytos 9 sutartys lietaus kanalizacijos - drenažų avariniai remonto darbams atlikti (Mantviliškio, Devynduonių, Alksnėnų, Lipliūnų, Pavermenio, Pagirių, Ažytėnų, Ivoniškių, Vainotiškių, Ledų gyvenvietėse, Pelėdnagių, Dotnuvos miesteliuose.
B28: 009-01-02-03 (TP) | C28: Hidrotechninių įrenginių atnaujinimui reikalingos techninės dokumentacijos rengimas | D28: 1 | E28: Remonto darbų viešųjų pirkimų organizavimas, rangos darbų koordinavimas, rangovo prisiimtų sutartinių įsipareigojimų vykdymo kontrolė | F28: Žemės ūkio skyrius | G28: SB | H28: 44 | I28: 44 | J28: Parengtų rekonstrukcijos projektų skaičius | K28: 3 | L28: 3 | M28: Parengti rekonstrukcijos projektai investicijoms gauti: Kunionių, Skaisgirių k.v. griovių rekonstrukcijai, Pajieslio k.v. griovių rekonstrukcijai, Vikaičių Miegėnų, Tiskūnų k.v. bei Surviliškio k.v. investiciniai
B29: 009-01-02-04 (TP) | C29: Kėdainių rajono Dotnuvos seniūnijos Kruostos upės Vaidatonių tvenkinio hidrotechnikos statinių rekonstrukcija ir techninės priežiūros vykdymas | D29: 1 | E29: Remonto darbų koordinavimas, rangovo prisiimtų sutartinių įsipareigojimų vykdymo kontrolė | F29: Žemės ūkio skyrius | G29: SK | H29: 255 | I29: 218 | J29: Rekonstruotų hidrotechninių įrenginių skaičius | K29: 1 | L29: 1 | M29: 2023–2024 m. laikotarpiu atlikta Vaidatonių tvenkinio užtvankos rekonstrukcija.
G30: ES | H30: 93.3 | I30: 93.3
G31: SBVB | H31: 16.5 | I31: 16.5
B32: 009-01-02-05 (TP) | C32: Nevėžio upės vientisumo atkūrimas, nugriaunant neeksploatuojamus hidroelektrinės statinius ir techninės priežiūros vykdymas | D32: 1 | E32: Remonto darbų koordinavimas, rangovo prisiimtų sutartinių įsipareigojimų vykdymo kontrolė | F32: Žemės ūkio skyrius | G32: SBVB | H32: 164.6 | I32: 164.5 | J32: Likviduotų neeksploatuojamų statinių skaičius | K32: 1 | L32: 1 | M32: Likviduoti neeksploatuojamos Kruosto hidroelektrinės statinių likučiai, atlikti natūralios Nevėžio upės vagos formavimo darbai, upės šlaitų abiejuose Nevėžio upės krantuose atkūrimo, tvarkymo, planiravimo darbai, parengta išpildomoji dokumentacija
B33: 009-01-02-06 (TP) | C33: Kėdainių rajono savivaldybės Krakių tvenkinių hidrotechnikos statinių remontas ir techninės priežiūros vykdymas | D33: 1 | E33: Rangos darbų, techninės priežiūros viešųjų pirkimų organizavimas, rangos darbų koordinavimas, rangovo prisiimtų sutartinių įsipareigojimų vykdymo kontrolė | F33: Žemės ūkio skyrius | G33: SB | H33: 169.8 | I33: 169.8 | J33: Rekonstruotų hidrotechninių įrenginių skaičius | K33: 1 | L33: 1 | M33: Atlikti Kėdainių rajono Krakių tvenkinio (II) išvalymo darbai (finansuoti AA lėšomis) ir suremontuota užtvanka
B34: 009-01-02-07 (TP) | C34: Kėdainių rajono Truskavos kadastrinės vietovės Linkuvės sausinimo sistemos melioracijos griovių ir juose esančių statinių rekonstrukcija | D34: 1 | E34: Remonto darbų viešųjų pirkimų organizavimas, rangos darbų koordinavimas, rangovo prisiimtų sutartinių įsipareigojimų vykdymo kontrolė | F34: Žemės ūkio skyrius | G34: SBVB | H34: 300 | I34: 210.6 | J34: Rekonstruojamų griovių ilgis, km | K34: ~16 | L34: ~16 | M34: Įgyvendintas rekonstrukcijos projektas: atlikta darbų 15,943 km, rekonstruotas1 tiltas, 15 pralaidų, 2 kontroliniai šuliniai, 129 žiotys
B35: 009-01-02-09 (TP) | C35: Dalyvavimas projekto „Dalies MSNA „Nikys“ nariams priklausančių ir valstybinių melioracijos statinių rekonstravimas“ įgyvendinime | D35: 1 | E35: Priemonės koordinavimas, užtikrinant projekto kofinansavimą | F35: Žemės ūkio skyrius, Apskaitos skyrius | G35: SB | H35: 3.8 | I35: 3.8 | J35: Rekonstruotų rinktuvų, sausintuvų, griovių ilgis, km | K35: 5/6/1,5 | L35: 5/6/1,5 | M35: Koofinansuotas projektas, darbai atlikti
B36: 009-01-02-10 (TP) | C36: Dalyvavimas projekto „MSNA „Balsių melioracija“ nariams priklausančių ir valstybinių melioracijos statinių rekonstravimas“ įgyvendinime | D36: 1 | E36: Priemonės koordinavimas, užtikrinant projekto kofinansavimą | F36: Žemės ūkio skyrius, Apskaitos skyrius | G36: SB | H36: 0 | I36: 0 | J36: Rekonstruotų rinktuvų, sausintuvų, griovių ilgis, km | K36: 5/6/1,5 | L36: 5/6/1,5
B37: 009-01-02-11 (TP) | C37: Dalyvavimas projekto „MSNA „Mantvilonių melioracija“ nariams priklausančių ir valstybinių melioracijos statinių rekonstravimas“ įgyvendinime | D37: 1 | E37: Priemonės koordinavimas, užtikrinant projekto kofinansavimą | F37: Žemės ūkio skyrius, Apskaitos skyrius | G37: SB | H37: 3.8 | I37: 3.7 | J37: Rekonstruotų rinktuvų, sausintuvų, griovių ilgis, km | K37: 5/7/1,5 | L37: 5/7/1,5 | M37: Koofinansuotas projektas, darbai atlikti
B38: 009-01-02-12 (TP) | C38: Dalyvavimas projekto „MSNA „Vilainių drenažas“ nariams priklausančių ir valstybinių melioracijos statinių rekonstravimas“ įgyvendinimui | D38: 1 | E38: Priemonės koordinavimas, užtikrinant projekto kofinansavimą | F38: Žemės ūkio skyrius, Apskaitos skyrius | G38: SB | H38: 3.8 | I38: 0 | J38: Rekonstruotų rinktuvų, sausintuvų ilgis, km | K38: 6/10 | L38: 6/10 | M38: Darbai atlikti, koofinansavimas bus sumokėtas 2025 m.
A40: IŠ VISO | H40: =+H23+H12 -> 1602.7 | I40: =+I23+I12 -> 1477.1
C42: 1. Savivaldybės biudžetas (įskaitant skolintas lėšas) | H42: =SUM(H44:H49) -> 1602.7 | I42: =SUM(I44:I49) -> 1477.1
C43: Iš jo:
C44: 1.1. savivaldybės biudžeto lėšos (nuosavos, be ankstesnių metų likučio) | G44: SB | H44: =+H39+H38+H37+H36+H35+H28+H27+H22+H17+H33 -> 268.2 | I44: =+I39+I38+I37+I36+I35+I28+I27+I22+I17+I33 -> 264.3
C45: 1.2. Lietuvos Respublikos valstybės biudžeto dotacijos | G45: SBVB | H45: =+H34+H32+H31+H24+H13 -> 986.2 | I45: =+I34+I32+I31+I24+I13 -> 901.5
C46: 1.3. Pajamų įmokos ir kitos pajamos | G46: ĮP
C47: 1.4. Europos Sąjungos ir kitos tarptautinės finansinės paramos lėšos | G47: ES | H47: =+H30 -> 93.3 | I47: =+I30 -> 93.3
C48: 1.5. Skolintos lėšos | G48: SK | H48: =+H29 -> 255 | I48: =+I29 -> 218
C49: 1.6. Ankstesnių metų likučiai | G49: SBL
C50: 2. Kiti šaltiniai (Europos Sąjungos finansinė parama projektams įgyvendinti ir kitos teisėtai gautos lėšos, nurodant atskirus šaltinius) | G50: KT
C51: IŠ VISO programai finansuoti pagal finansavimo šaltinius (1 ir 2 punktai) | H51: =+H50+H42 -> 1602.7 | I51: =+I50+I42 -> 1477.1
C52: Iš jų: regioninių pažangos priemonių lėšos

Sheet 10verslas
G1: PATVIRTINTA
G2: Kėdainių rajono savivaldybės administracijos direktoriaus
G3: 2024 m. kovo 8 d. įsakymu Nr.AD-1- 182
G4: (Kėdainių rajono savivaldybės administracijos direktoriaus
G5: 2024 m. gruodžio d. įsakymo Nr.AD-1- redakcija)
B8: Programos uždavinio, priemonės kodas ir požymis | C8: Uždavinio, priemonės pavadinimas | D8: Veiklos kodas | E8: Veiklos pavadinimas | F8: Atsakingas vykdytojas | G8: Finansavimo šaltinis | H8: Numatomi 2024 m. asignavimai ir kitos lėšos | I8: Panaudoti 2024 m. asignavimai ir kitos lėšos | J8: Vertinimo kriterijai
J9: Pavadinimas | K9: Planuota reikšmė | L9: Pasiekta reikšmė | M9: Komentarai, pastabos, nukrypimų nuo plano priežastys
B11: 10 PARAMA VERSLUI IR VERSLO PLĖTRA
B12: 010-01-01 (T, P) | C12: Užtikrinti efektyvią VšĮ Kėdainių turizmo ir verslo informacijos centro veiklą verslo srityje, stiprinti savivaldybės institucijų ir verslo įmonių bendradarbiavimą | H12: =+H13+H14+H15+H16 -> 87 | I12: =+I13+I14+I15+I16 -> 65.9
B13: 010-01-01-01 (TP) | C13: VšĮ Kėdainių turizmo ir verslo informacijos centro viešųjų paslaugų verslui programos finansavimas | D13: 1 | E13: Priemonės įgyvendinimo koordinavimas | F13: Administracijos direktorius | G13: SB | H13: 44 | I13: 44 | J13: Suteiktų informacinių, konsultacinių paslaugų ūkio subjektams ir asmenims pagal paklausimus skaičius, vnt. | K13: ~1000 | L13: 1350 | M13: Įgyvendinant programą buvo vykdomos numatytos priemonės: skatinamas naujų verslo įmonių steigimas, skleidžiama informacija ir kuriama konsultavimo informavimo sistema, atnaujinama įstaigos duomenų bazė, plėtotas bendradarbiavimas su Užimtumo tarnybos Šiaulių departamento Kėdainių skyriumi. 2024 m. Kėdainių TVIC darbuotojai atsakė į 1350 paklausimus, suteikė 350 val. verslo konsultacijų. Per 2024 m. verslą pradėjo 125 naujai įregistruotų įmonių. Kėdainių TVIC konsultacijų ir/ar suteikta pagalba įsikūrė 27 naujos įmonės.
B14: 010-01-01-02 (TP) | C14: Finansinės paramos teikimas verslą pradedantiems ar sunkumų patiriantiems SVV subjektams Kėdainių rajone per Savivaldybės smulkiojo verslo rėmimo fondą | D14: 1 | E14: Priemonės įgyvendinimo koordinavimas | F14: Administracijos direktorius | G14: SB | H14: 36 | I14: 18.4 | J14: Subjektų, kuriems suteikta finansinė parama, skaičius | K14: 20 | L14: 11 | M14: 2024 m. Smulkiojo verslo rėmimo fondo parama pasinaudojo 11 verslo subjektų. Pagal Smulkiojo verslo rėmimo fondo nuostatus verslo subjektai turėjo atitikti bent 2 prioritetines kryptis. Verslininkams skirta SVRF parama už 18,4 tūkst. Eur. Populiariausios Smulkiojo verslo rėmimo fondo paramos priemonė buvo įrangos/darbo priemonių įsigijimo dalinis išlaidų kompensavimas.
B15: 010-01-01-03 (PP) | C15: Dalyvavimas projekte "Inkubavimo, konsultavimo, mentorystės ir tinklaveikos programų vystymas, skatinant pradedančiųjų SVV subjektų kūrimąsi ir augimą regionuose" partnerio teisėmis | D15: 1 | E15: Projekto veiklų koordinavimas, partnerio kofinansavimo dalies užtikrinimas | F15: Strateginio planavimo ir investicijų skyrius | G15: SB | H15: 4 | I15: 3.2 | J15: Dalyvaujančių verslo subjektų (mentorių) ir dalyvių skaičius | K15: 10 | L15: 12 | M15: Koofinansuotas projekto įgyvendinimas. Projekte (I etape) dalyvavo 4 mentoriai ir 8 dalyviai. Jiems suteikta 28 val. individualių konsultacijų verslo vystymo klausimais, 64 val. individualių konsultacijų pardavimų ir rinkodaros klausimais. Visi turėjo galimybę dalyvauti informaciniuose renginiuose, naudotis nemokama darbo vieta, dalyvauti bendruomenės susitikimuose, bei dalyvavo metiniame renginyje "Spiečiamės'24". 2025 m. bus tęsiamos II etapo projekto veiklos
B16: 010-01-01-04 (TP) | C16: Verslumą skatinančių, gerąją verslo patirtį viešinančių renginių organizavimas | D16: 1 | E16: Priemonės įgyvendinimo koordinavimas | F16: Administracijos direktorius | G16: SB | H16: 3 | I16: 0.3 | J16: Suorganizuotas verslininkų pagerbimo renginys ,,Verslo diena" ir nominuoti verslininkai pagal patvirtintus konkurso nuostatus | K16: 1 | L16: 1 | M16: Suorganizuotas renginys skirtas pagerbti verslo bendruomenę, skatinti verslumą ir bendradarbiavimą: „Už Kėdainių garsinimą“ – UAB „Pon Bike Lithuania“ „Už šeimos verslo plėtojimą“ – UAB „Batų namai“ „Už sėkmingą startą“ – UAB „Grynas tinklas“ „Už sėkmingai įveiktus barjerus“ – UAB „Epsoma“ „Už pasiekimus profesinėje veikloje“ – Žaneta Saugūnienė (3 vieta pasaulio permanentinio makiažo čempionate). „Už žydėjimą šilko audiniuose“ – Žiedūnė Aleknaitė (aukso medalis už šilko skarą „Žydėjimas“). Pagerbti ir kiti verslo atstovai
B17: 010-01-02 (T) | C17: Sudaryti palankias sąlygas sumanios pramonės ir logistikos srities verslų atsiradimui, plėtrai bei investicijų pritraukimui | H17: =+H18 -> 189.2 | I17: =+I18 -> 189.2
B18: 010-01-02-01 (PP) | C18: Projekto "Kėdainių miesto viešosios infrastruktūros, svarbios verslui, atnaujinimas ir plėtra "įgyvendinimas | D18: 1 | E18: Vandentvarkos tinklų bei elektros tinklų rekonstrukcijos Kėdainių LEZ teritorijoje techninės dokumentacijos viešojo pirkimo organizavimas, tiekėjo prisiimtų sutartinių įsipareigojimų vykdymo kontrolė | F18: Statybos skyrius, Strateginio planavimo ir investicijų skyrius | G18: SBVB | H18: 189.2 | I18: 189.2 | J18: Parengtos techninės dokumentacijos investicijoms skaičius | K18: 2 | L18: 2 | M18: Parengta techninė dokumentacija svarbios LEZ infrastruktūros gerinimui, siekiant teikti paraiškas pagal Lietuvos Respublikos ekonomikos ir inovacijų ministerijos kuruojamą pažangos priemonę. Nr. 05-001-01-06-03 „Gerinti konkurencinę investicijų pritraukimo aplinką“
B20: IŠ VISO | H20: =+H17+H12 -> 276.2 | I20: =+I17+I12 -> 255.1
H21: =+H20-H22 -> 0 | I21: =+I20-I22 -> 0
C22: 1. Savivaldybės biudžetas (įskaitant skolintas lėšas) | H22: =SUM(H24:H29) -> 276.2 | I22: =SUM(I24:I29) -> 255.1
C23: Iš jo:
C24: 1.1. savivaldybės biudžeto lėšos (nuosavos, be ankstesnių metų likučio) | G24: SB | H24: =+H16+H15+H13+H14 -> 87 | I24: =+I16+I15+I13+I14 -> 65.9
C25: 1.2. Lietuvos Respublikos valstybės biudžeto dotacijos | G25: SBVB | H25: =+H18 -> 189.2 | I25: =+I18 -> 189.2
C26: 1.3. Pajamų įmokos ir kitos pajamos | G26: ĮP
C27: 1.4. Europos Sąjungos ir kitos tarptautinės finansinės paramos lėšos | G27: ES
C28: 1.5. Skolintos lėšos | G28: SK
C29: 1.6. Ankstesnių metų likučiai | G29: SBL
C30: 2. Kiti šaltiniai (Europos Sąjungos finansinė parama projektams įgyvendinti ir kitos teisėtai gautos lėšos, nurodant atskirus šaltinius) | G30: KT
C31: IŠ VISO programai finansuoti pagal finansavimo šaltinius (1 ir 2 punktai) | H31: =+H30+H22 -> 276.2 | I31: =+I30+I22 -> 255.1
C32: Iš jų: regioninių pažangos priemonių lėšos

Sheet 11 valdymas
G1: PATVIRTINTA
G2: Kėdainių rajono savivaldybės administracijos direktoriaus
G3: 2024 m. kovo 8 d. įsakymu Nr.AD-1- 182
G4: (Kėdainių rajono savivaldybės administracijos direktoriaus
G5: 2024 m. gruodžio d. įsakymo Nr.AD-1- redakcija)
B7: Programos uždavinio, priemonės kodas ir požymis | C7: Uždavinio, priemonės pavadinimas | D7: Veiklos kodas | E7: Veiklos pavadinimas | F7: Atsakingas vykdytojas | G7: Finansavimo šaltinis | H7: Numatomi 2024 m. asignavimai ir kitos lėšos | I7: Panaudoti 2024 m. asignavimai ir kitos lėšos | J7: Vertinimo kriterijai
J8: Pavadinimas | K8: Planuota reikšmė | L8: Pasiekta reikšmė | M8: Komentarai, pastabos, nukrypimų nuo plano priežastys
B10: 11 SAVIVALDYBĖS VALDYMO TOBULINIMAS
B11: 011-01-01 (T) | C11: Sudaryti sąlygas kokybiškai įgyvendinti teisės aktuose nustatytas Savivaldybei funkcijas, mažinant administracinę naštą, įgyvendinant lygias galimybes užtikrinančias bei korupcijos prevencijos priemones | H11: =SUM(H12:H22) -> 5855.8 | I11: =SUM(I12:I22) -> 5107.6
B12: 011-01-01-01 (TP) | C12: Savivaldybės tarybos, mero ir jo tarnybos veiklos užtikrinimas | D12: 1 | E12: Tarybos, mero ir jo tarnybos veiklos užtikrinimas pagal nustatytą LR vietos savivaldos įstatymą ir tarybos veiklos reglamentą | F12: Administracijos direktorius, Bendrasis skyrius, Apskaitos skyrius | G12: SB | H12: 640.8 | I12: 686.5 | J12: Tarybos narių dalyvavimas rajono tarybos posėdžiuose, komitetuose, kolegijoje, komisijų veiklose | K12: ne mažiau 90 proc. | L12: 93.2 | M12: Savivaldybės taryba, mero tarnyba ir administracija vykdė Konstitucijos, įstatymų ir vietos savivaldos įstatymo nustatytas savarankiškas ir valstybės perduotas funkcijas. 2024 m. 9 tarybos posėdžių metu priimti 391 Tarybos sprendimas. Užtikrintas nepertraukiamas savivaldybės administracijos darbas, koordinuojant skyrių veiklą ir vykdant pavestas funkcijas. Gyventojams teiktos administracinės ir viešosios paslaugos, efektyviai valdytas savivaldybės biudžetas, užtikrintas savalaikis darbo užmokesčio, sąskaitų ir kitų įsipareigojimų vykdymas, diegti nauji elektroninių paslaugų sprendimai, vykdyti infrastruktūriniai projektai. Daugiausia asmenų į Savivaldybę kreipiasi socialinės paramos, žemės ūkio ir aplinkosaugos, teisės bei bendraisiais klausimais. Savivaldybė 2024 m. gavo beveik 15 tūkst. įvairių raštų bei prašymų, Administracijos direktorius išleido 2013 įsakymų, mers - 1197 potvarkių, personalo bei savivaldybės veiklos organizavimo klausimais.
B13: 011-01-01-03 (TP) | C13: Savivaldybės administracijos veiklos užtikrinimas | D13: 1 | E13: Administracijos skyriams priskirtų funkcijų kokybiško vykdymo, administracinės naštos mažinimo priemonių vykdymo užtikrinimas | F13: Administracijos direktorius, Administracijos struktūriniai padaliniai (skyriai) ir darbuotojai, neįeinantys į struktūrinius padalinius | G13: ĮP | H13: 11.5 | I13: 13.1 | J13: Pareigybių skaičius vykdantis savivaldybei priskirtas funkcijas | K13: 174.05 | L13: 176.05
G14: SB | H14: 5157.9 | I14: 4384.4 | J14: Administracinių paslaugų aprašymų reguliarus peržiūrėjimas, koregavimas (pagal poreikį) | K14: pagal poreikį | L14: pagal poreikį | M14: Administracinės naštos 2023-2025 m. plano laikotarpiu suplanuota 11 priemonių. Centralizuoto vidaus audito skyrius 2024 m. atliko vidaus auditą dėl administracinės naštos mažinimo priemonių plano vykdymo kontrolę. Pagal atliktą vidaus audito išvadą 2024 m. savivaldybės administracijos vidaus kontrolė administracinės naštos mažinimo srityje vertinama gerai.
B15: 011-01-01-04 (TP) | C15: Savivaldybės administracijos administracinės naštos mažinimo plano vykdymas | D15: 1 | E15: Priemonės įgyvendinimo koordinavimas | F15: Vyr. specialistė (jaunimo reikalų koordinatorė)
B16: 011-01-01-05 (TP) | C16: Savivaldybės korupcijos prevencijos veiksmų plano įgyvendinimas | D16: 1 | E16: Priemonės įgyvendinimo koordinavimas | F16: Administracijos direktorius, vyr. specialistė (už korupcijai atsparios aplinkos kūrimą atsakingas asmuo) | J16: Įgyvendinamų priemonių, pagal patvirtintą planą, skaičius, proc. | K16: 100 | L16: 100 | M16: 2022-2024 m. savivaldybės administracijos korupcijos prevencijos plane 20 priemonių, iš kurių visos įvykdytos. 2024 m. parengtos 134 teisės aktų projektų antikorupcinio vertinimo pažymos. Atliktas savivaldybės darbuotojų korupcijos tolerancijos tyrimas, kuris parodė, kad korupcijos netoleravimo lygis - labai aukštas, o korupcinio pobūdžio veikų pasireiškimo galimybė (respondentų nuomone) yra minimali. 2024 m. gruodžio mėn. vykdytas Savivaldybės užsakytas korupcijos tyrimas, siekiant išanalizuoti korupcijos mastą, pagrindines problemas ir gyventojų požiūrį į skaidrumą rajone. Telefoninės apklausos metodudalyvavo 396 nuolatiniai rajono gyventojai. Tyrimo rezultatai - 2025 m. Taip pat vykdyta informacinio, šviečiamojo pobūdžio veikla.
B17: 011-01-01-06 (TP) | C17: Lygių galimybių, moterų ir vyrų lygybės politikos įgyvendinimas bei asmens duomenų apsaugos užtikrinimas | D17: 1 | E17: Priemonės įgyvendinimo koordinavimas | F17: Administracijos direktorius, Teisės ir personalo skyrius | J17: Lygių galimybių veiksmų plano parengimas / Įgyvendinamų aprašo priemonių skaičius, proc. | K17: 1/100 | L17: 1/100 | M17: Savivaldybės administracijoje paskirtas kontaktinis asmuo atsakingas už lygių galimybių įgyvendinimą. Savivaldybės administracijos lygių galimybių politika ir jos įgyvendinimo tvarkos aprašas nustato lygių galimybių Savivaldybės administracijoje principus ir jų įgyvendinimo darbe sąlygas bei tvarką. Pagal Lygių galimybių kontrolieriaus tarnybos atliktą vertinimą Kėdainių rajono savivaldybė priskiriama kaip pasiekusi gerų lyčių lygybės rezultatų , pagal sudarytą Lietuvos savivaldybių lyčių lygybės žemėlapį, Kėdainiai užima 14 vietą, vertinta 20 rodiklių (7,88 balai iš 10)
B18: 011-01-01-07 (TP) | C18: Diasporos politikos įgyvendinimas | D18: 1 | E18: Informacijos talpinimas kedainiai.lt internetinėje svetainėje | F18: Vyr. specialistė (jaunimo reikalų koordinatorė) | J18: Informacijos viešinimas savivaldybės svetainėje | K18: 1 | L18: 1 | M18: 2024 m. savivaldybė prisijungė prie „GlobalM18:O18ios Lietuvos“ programos, pristatydama globalus.kedainiai.lt tinklalapį, kuriuo prisijungiama prie LSA iniciatyvos „Globalūs regionai“. Siekiama išplėsti Lietuvos ribas integruojant išvykusius lietuvius į savo gimtąjį miestą, jo gyvenimą, suteikiant galimybę prisidėti kuriant miesto ekonominę gerovę, viešinant regiono potencialą. Tinklapyje išeivijos kėdainiečiai gali rasti aktualią informaciją, susijusią su Kėdainiais.
B19: 011-01-01-08 (TP) | C19: Asmenų su negalia teisių apsaugos užtikrinimas | D19: 1 | E19: Asmens su negalia teisės apsaugos pareigybės steigimas, asmens su negalia gerovės tarybos steigimas | F19: Administracijos direktorius, Socialinės paramos skyrius | J19: Asmens su negalia gerovės tarybos steigimas | K19: 1 | L19: 1 | M19: 2024 m. gegužės mėn. rajono tarybos sprendimu sudaryta Kėdainių rajono savivaldybės Asmens su negalia gerovės tarybos sudėtis, birželio mėn. patvirtinti jos nuostatai. Taryba posėdžiavo 3 kartus, sudarytas Asmens su negalia dalyvumo užtikrinimo 2025–2026 metų veiksmų planas, patvirtintas tarybos veiklos 2025 m. veiklos planas
B20: 011-01-01-09 (TP) | C20: Kėdainių rajono savivaldybės administracijos kokybės vadybos sistemos priežiūra ir atnaujinimas | D20: 1 | E20: Kokybės vadybos sistemos administracinių paslaugų rodiklių priežiūra | F20: Bendrasis skyrius | J20: Kokybės vadybos sistemos administracinių paslaugų rodiklių pasiekimas | K20: 100 | L20: 100 | M20: Savivaldybės administracijos kokybės vadybos sistema sertifikuota pagal ISO 9001:2015 standarto reikalavimus ir nuolat gerina viešųjų ir administracinių paslaugų teikimą gyventojams, skatina darnų vystymąsi, partnerystę ir bendradarbiavimą, įgyvendina kokybės vadybos metodus, tobulina procesų kokybę, įstaigos veiklos srityse užtikrina kokybę ir nuolatinį veiklos gerinimą. Kokybės vadybos sistema apima nuolatinį valdymo, struktūros, darbo metodų ir veiklos procesų tobulinimą bei optimizavimą.
B21: 011-01-01-10 (TP) | C21: Savivaldybės žmogiškųjų išteklių kompetencijų stiprinimas | D21: 1 | E21: Kompetencijų stiprinimo organizavimas | F21: Teisės ir personalo skyrius | G21: SB | H21: 12 | I21: 7.7 | J21: Darbuotojų, tobulinusių kompetencijas skaičius nuo bendrojo darbuotojų skaičiaus, proc. | K21: 70 | L21: 96 | M21: 41 valstybės tarnautojas dalyvavo kvalifikacijos kėlimo kursuose, kuriam išduoti pažymėjimai. Taip pat administracijojje dirbantys tarnautojai bei darbuotojai (~96 proc.) kompetencijas tobulino seminarų, mokymų, praktinių dirbtuvių metu
B22: 011-01-01-12 (TP) | C22: Seniūnaičių veiklos organizavimas | D22: 1 | E22: Seniūnaičių veiklos užtikrinimas (darbo užmokesčio mokėjimas) | F22: Apskaitos skyrius | G22: SB | H22: 33.6 | I22: 15.9 | J22: Išrinktų seniūnaičių skaičius | K22: 70 | L22: 70 | M22: Rajone išrinkta 70 seniūnaičiai, kurie veikia kaip tarpininkai tarp gyventojų, seniūnijos ir savivaldybės institucijų
B23: 011-01-02 (T) | C23: Organizuoti ir užtikrinti kokybišką valstybės perduotų funkcijų įgyvendinimą | H23: =SUM(H24:H36) -> 237.4 | I23: =SUM(I24:I36) -> 236.6
B24: 011-01-02-01 (TP) | C24: Gyventojų registro tvarkymas ir duomenų valstybės registrui teikimas | D24: 1 | E24: Duomenų teikimas Registrų centrui | F24: Civilinės metrikacijos ir archyvo skyrius | G24: SBVB | H24: 0.8 | I24: 0.8 | J24: Duomenų teikimo skaičius | K24: 1000 | L24: 1895 | M24: VĮ Registrų centrui teikiami duomenys pagal poreikį, t.y. tiek, kiek gauta prašymų iš fizinių ir juridinių asmenų
B25: 011-01-02-02 (TP) | C25: Savivaldybei priskirtų archyvinių dokumentų tvarkymas | D25: 1 | E25: Informacijos paieška, pažymų, išrašų išrašymas, kopijų darymas, dokumentų išdavimas, konsultavimas | F25: Civilinės metrikacijos ir archyvo skyrius | G25: SBVB | H25: 47.9 | I25: 47.9 | J25: Išduotų pažymų skaičius | K25: 700 | L25: 1050 | M25: Juridinius faktus patvirtinančių pažymų, raštų pagal prašymus išduota 1050, t.y. 4,4 proc. daugiau nei 2023 m.
B26: 011-01-02-03 (TP) | C26: Civilinės būklės aktų registravimas | D26: 1 | E26: Įrašų registravimas, papildymas, anuliavimas, atkūrimas. Vardų, pavardžių pakeitimas, ištaisymas | F26: Civilinės metrikacijos ir archyvo skyrius | G26: SBVB | H26: 35.3 | I26: 35.3 | J26: Užregistruotų civilinės būklės aktų skaičius | K26: 1600 | L26: 1515 | M26: Vivilinės būklės aktų įrašų užregistruota tiek, kiek pateikta gauta prašymų
B27: 011-01-02-04 (TP) | C27: Valstybinės kalbos vartojimo ir taisyklingumo kontrolė | D27: 1 | E27: Valstybinės kalbos įstatymo, Valstybinės lietuvių kalbos komisijos nutarimų ir kitų valstybinės kalbos vartojimą ir taisyklingumą reglamentuojančių teisės aktų įgyvendinimo užtikrinimas | F27: Vyr. specialistė (kalbos tvarkytoja) | G27: SBVB | H27: 9 | I27: 9 | J27: Atliktų patikrinimų (įmonių, įstaigų, organizacijų) skaičius | K27: 20 | L27: 37 | M27: 2024 metais patikrinti 37 objektai: 25 švietimo įstaigos (e. svetainės ir dokumentai), 11 seniūnijų (dokumentai) ir 1 laikraštis; suderintas 71 reklaminis projektas. Suteikta vidutiniškai apie 400 kalbos konsultacijų telefonu ir e. paštu. Parašyta 30 kalbinių straipsnelių rajono laikraštyje, suorganizuoti 5 renginiai
B28: 011-01-02-05 (TP) | C28: Koordinuotai teikiamų paslaugų vaikams nuo gimimo iki 18 metų (turintiems didelių ir labai didelių specialiųjų ugdymosi poreikių – iki 21 metų) ir vaiko atstovams pagal įstatymą koordinavimas | D28: 1 | E28: Už vaiko saugumą ir gerovę atsakingų institucijų veiksmų suderinamumas, teikiant koordinuotas paslaugas | F28: Vyr. specialistė (tarpinstitucinio bendradarbiavimo koordinatorė) | G28: SBVB | H28: 22.8 | I28: 22.8 | J28: Suorganizuotų vaiko gerovės komisijų posėdžių skaičius | K28: 5 | L28: 9 | M28: Nuolat bendradarbiauta su vaiko teisių specialistais, atvejo vadybininkais, socialiniais darbuotojais, visuomenės sveikatos biuru, Švietimo pagalbos tarnyba, ikimokyklinio ir bendrojo ugdymo įstaigomis ir kitomis institucijomis. Dažniausi nepilnamečių administraciniai nusižengimai susiję su alkoholio, tabako vartojimu, fizinio skausmo sukėlimu, smulkia vagyste ar sukčiavimu ir kt. Organizuoti 9 Vaiko gerovės komisijos posėdžiai, svarstyta 14 atvejų, 3 atvejams paskirtos minimalios priežiūros priemonės, privalomas ikimokyklinis ugdymas paskirtas 18 šeimų vaikams. Dažniausiai taikytos šios minimalios priežiūros priemonės: tęsti mokymąsi toje pačioje ar kitoje bendrojo ugdymo mokykloje arba profesinio mokymo įstaigoje pagal privalomojo švietimo programas, lankytis pas specialistą ir lankyti neformalius ugdymo užsiėmimus.
B29: 011-01-02-06 (TP) | C29: Jaunimo politikos įgyvendinimas | D29: 1 | E29: Jaunimo iniciatyvų skatinimas užtikrinant jaunų žmonių dalyvavimą sprendžiant savivaldybės jaunimo klausimus, stiprinti bendradarbiavimą tarp institucijų ir jaunimo, su jaunimu dirbančių organizacijų | F29: Vyr. specialistė (jaunimo reikalų koordinatorė) | G29: SBVB | H29: 23.2 | I29: 23.2 | J29: Aktyvaus jaunimo dalis, proc. nuo bendro rajono jaunimo skaičiaus | K29: ~10 | L29: 10 | M29: Rajono jaunimo ir su jaunimu dirbančios organizacijos, jauni žmonės buvo informuojami ir konsultuojami jiems aktualiais klausimais, organizuotas rajono jaunimo iniciatyvų projektų, atvirųjų jaunimo erdvių konkursai, koordinuota mokinių savivaldos programa, Jaunimo vasaros užimtumo ir integracijos į darbo rinką programa, organizuotas Tarptautinės jaunimo dienos renginys
B30: 011-01-02-07 (TP) | C30: Valstybės garantuojamos pirminės teisinės pagalbos teikimas | D30: 1 | E30: Lietuvos Respublikos valstybės garantuojamos teisinės pagalbos įstatymo nustatyta tvarka teisinės informacijos, teisinės konsultacijos teikimas, valstybės ir savivaldybių institucijoms skirtų dokumentų rengimas, išskyrus procesinius dokumentus | F30: Teisės ir personalo skyrius | G30: SBVB | H30: 12.7 | I30: 12.7 | J30: Suteiktos teisinės pagalbos atvejų skaičius | K30: ~800 | L30: 783 | M30: 2024 m. Valstybės garantuojama pirminė teisinė pagalba suteikta 783 asmenims įvairiais klausimais: Šeimos teisė – 288, Civilinė teisė ir civilinis procesas – 310, Darbo teisė – 42, Administracinė teisė ir administracinis procesas – 29, Baudžiamoji teisė ir procesas – 52. 10) ir šeimos teisės (288) klausimais
D31: 2 | E31: Patarimų dėl ginčo išsprendimo ne teismo tvarka, veiksmų dėl taikaus ginčo išsprendimo teikimas, taikos sutarties parengimas
B32: 011-01-02-08 (TP) | C32: Duomenų teikimas valstybės suteiktos pagalbos registrui | D32: 1 | E32: Duomenų teikimas Konkurencijos tarybai | F32: Biudžeto ir finansų skyrius | G32: SBVB | H32: 1.3 | I32: 1.3 | J32: Duomenų teikimo skaičius | K32: 12 | L32: 12 | M32: Funkciją vykdo Biudžeto ir finansų skyrius, duomenys teikiami kas mėnesį
B33: 011-01-02-09 (TP) | C33: Savivaldybių teritorijoje esančių miestų ir miestelių teritorijų ribose valstybinės žemės, perduotos Lietuvos Respublikos Vyriausybės nutarimu, patikėtinio funkcijos vykdymas | D33: 1 | E33: Deleguotos funkcijos vykdymo užtikrinimas | F33: Turto valdymo skyrius | G33: SBVB | H33: 65.8 | I33: 65 | J33: Funkcijos vykdymas, proc. | K33: 100 | L33: 100 | M33: Nuo 2024 m. Administracija pradėjo vykdyti naują funkciją – Savivaldybei patikėjimo teise valdyti perduotų valstybinės žemės sklypų (jų dalių) ir žemės sklypais nesuformuotos valstybinės žemės plotų valdymas ir administravimas. 2024 m. Savivaldybei patikėjimo teise valdyti buvo perduota 2432 ha mieste ir miesteliuose esančios valstybinės žemės – 856 žemės sklypai, kurių bendras plotas beveik 1291 ha, ir 1141 ha žemės plotų.
B35: 011-01-02-11 (TP) | C35: Erdvinių duomenų rinkinio tvarkymas | D35: 1 | E35: Duomenų tvarkymo užtikrinimas | F35: Architektūros ir urbanistikos skyrius | G35: SBVB | H35: 18.6 | I35: 18.6 | J35: Funkcijos vykdymas, proc. | K35: 100 | L35: 100 | M35: Vykdoma Savivaldybės erdvinių duomenų rinkinio (SEDR) tvarkymas
B37: 011-01-03 (T) | C37: Užtikrinti finansavimą nenumatytoms išlaidoms dengti bei valdyti prisiimtus finansinius įsipareigojimus | H37: =SUM(H38:H45) -> 3110.4 | I37: =SUM(I38:I45) -> 2891.5
B38: 011-01-03-01 (TP) | C38: Savivaldybės mero rezervas | D38: 1 | E38: Tikslingas lėšų skyrimas ekstremalioms situacijoms ir arba ekstremaliems įvykiams likviduoti, jų padariniams šalinti, gaisrų ir stichinių nelaimių padariniams likviduoti | F38: Apskaitos skyrius | G38: SB | H38: 123 | I38: 0 | J38: Tikslingai panaudoto rezervo dalis, proc. | K38: 100 | L38: 100 | M38: Vadovaujantis patvirtintu Kėdainių rajono savivaldybės mero rezervo lėšų naudojimo tvarkos aprašu, kuriuo numatoma, kad Mero rezervas gali būti skiriamas ekstremaliosioms situacijoms ir (arba) ekstremaliesiems įvykiams likviduoti, jų padariniams šalinti ir padarytiems nuostoliams iš dalies apmokėti; gaisrų ir stichinių nelaimių ir kitų įvykių padariniams likviduoti ir jų padarytiems nuostoliams iš dalies apmokėti bei dėl nepaprastosios padėties atsiradusioms išlaidoms iš dalies apmokėti ir (arba) jos padariniams šalinti finansavimo 2024 m. neprireikė
B39: 011-01-01-02 (TP) | C39: Savivaldybės mero fondas | D39: 1 | E39: Tikslingas lėšų, skirtų savivaldybės mero fondui, panaudojimas | F39: Apskaitos skyrius | G39: SB | H39: 23.9 | I39: 23.5 | J39: Tikslingai panaudoto fondo dalis, proc. | K39: 100 | L39: 100 | M39: Fondo lėšos panaudotos pagal tarybos nustatytą tvarką, neviršijant bendrų savivaldybės reprezentacijai skirtų lėšų
B40: 011-01-03-03 (TP) | C40: Paskolų grąžinimas, palūkanų ir paskolų aptarnavimo išlaidų apmokėjimas | D40: 1 | E40: Prisiimtų finansinių įsipareigojimų vykdymas pagal nustatytus paskolų grąžinimo grafikus | F40: Biudžeto ir finansų skyrius | G40: SB | H40: 400 | I40: 304.6 | J40: Finansinių įsipareigojimų vykdymo savalaikiškumas, proc. | K40: 100 | L40: 100 | M40: Pagal grafiką grąžintos paskolos, mokėtos palūkanos
G41: SB | H41: 84.8 | I41: 84.8
G42: SK | H42: 1575 | I42: 1574.9
B43: 011-01-03-04 (TP) | C43: UAB "Kėdbusas" nuostolingų maršrutų kompensavimas | D43: 1 | E43: Keleivių vežimo kompensacijos mokėjimo užtikrinimas | F43: Turto valdymo skyrius, Apskaitos skyrius | G43: SB | H43: 793.3 | I43: 793.3 | J43: Patvirtintų pavėžėjimo išlaidų kompensavimas | K43: 100 | L43: 100 | M43: Lėšos skirtos vežėjo patirtų nuostolių už keleivių vežimą vietinio (miesto ir priemiestinio) reguliaraus susisiekimo autobusų maršrutais kompensavimui
B44: 011-01-03-05 (TP) | C44: Kompensuoti savivaldybės patirtas išlaidas valdant nepaprastąją padėtį dėl užsieniečių, pasitraukusių iš Ukrainos dėl Rusijos Federacijos karinių veiksmų Ukrainoje | D44: 1 | E44: Priemonės koordinavimas | F44: Apskaitos skyrius | G44: SBVB | H44: 17.4 | I44: 17.4 | J44: Įstaigų, kurioms kompensuojamos išlaidos / asmenų, pasitraukusių iš Ukrainos dėl Rusijos Federacijos karinių veiksmų Ukrainoje, skaičius | K44: 2/20 | L44: 2/20 | M44: Kompensuotos patirtos išlaidos (komunalinės, dalis priemonių) iš Ukrainos pasitraukusiems asmenims, gyvenantiems Pagalbos šeimai centre bei Spindulio mokykloje
B45: 011-01-03-06 (TP) | C45: Piniginis akcininko įnašas UAB "Kėdainių butai" nuosavam kapitalui atkurti | D45: 1 | E45: Priemonės koordinavimas | F45: Apskaitos skyrius | G45: SB | H45: 93 | I45: 93 | J45: Priemonės vykdymas, proc. | K45: 100 | L45: 100 | M45: Piniginis akcininko įnašas nuosavam kapitalui atkurti skirtas vadovaujantis Kėdainių rajono savivaldybės 2024 m. lapkričio 29 d. sprendimu Nr. TS-344 "Dėl uždarosios akcinės bendrovės „Kėdainių butai“ nuosavo kapitalo"
B46: 011-01-04 (T) | C46: Plėtojant dalykinius santykius ir ryšius su tarptautinėmis ir vietinėmis institucijomis, organizacijomis, rajono bendruomene, stiprinti rajono įvaizdį | H46: =SUM(H47:H51) -> 110.8 | I46: =SUM(I47:I51) -> 102.6
B47: 011-01-04-01 (TP) | C47: Dalyvavimas Lietuvos savivaldybių asociacijos veikloje | D47: 1 | E47: Dalyvavimo LSA veikloje užtikrinimas (mokestis) | F47: Apskaitos skyrius | G47: SB | H47: 22.5 | I47: 26.9 | J47: Veikloje dalyvaujančių partnerių skaičius | K47: 59 | L47: 59 | M47: Dalyvauta regioninio, tarptautinio bendradarbiavimo susitikimuose, renginiuose, forumuose, diskusijose, posėdžiuose
B48: 011-01-04-02 (TP) | C48: Dalyvavimas VšĮ Kauno regiono plėtros agentūros veikloje | D48: 1 | E48: Kauno apskrities savivaldybių regioninis bendradarbiavimas, kvalifikacijos tobulinimas, projektų įgyvendinimas | F48: Administracijos direktorius | G48: SB | H48: 15 | I48: 15 | J48: Programų, kuriose dalyvauja savivaldybė, skaičius | K48: 4 | L48: 4
B49: 011-01-04-03 (TP) | C49: Dalyvavimas Kauno regiono plėtros tarybos veikloje | D49: 1 | E49: Dalyvavimo Kauno regiono plėtros tarybos veikloje užtikrinimas (mokestis) | F49: Apskaitos skyrius | G49: SB | H49: 4.8 | I49: 4.8 | J49: Veikloje dalyvaujančių savivaldybių skaičius | K49: 8 | L49: 8
B50: 011-01-04-04 (TP) | C50: Visuomenės įtraukimas į planavimo, biudžeto formavimo, konsultavimosi procesus, organizuojant dalyvaujamojo biudžeto iniciatyvų konkursą ir iniciatyvų įgyvendinimą | D50: 1 | E50: "Jaukumo ratas“ " iniciatyvos įgyvendinimas: rangos darbų viešojo pirkimo organizavimas, rangos darbų koordinavimas, rangovo prisiimtų sutartinių įsipareigojimų vykdymo kontrolė | F50: Statybos skyrius, vyr. specialistė (jaunimo reikalų koordinatorė) | G50: SB | H50: 40 | I50: 39.9 | J50: Atrinktų iniciatyvų skaičius | K50: 3 | L50: 3 | M50: Įgyvendintos 2023 m. laimėtos gyventojų iniciatyvos: 1) „Jaukumo ratas“ -sutvarkytos VšĮ Kėdainių ligoninės teritorijoje esančios viešosios lauko erdvės pacientams ir jų artimiesiams; 2) „UNITY DOME – kupolas kultūros ir bendruomenės ryšiams“; 3) Babėnų miškas - sveikatingumo trasa" (ddelės apimties projektas) - įgyvendinamas per 2 metus (pagal parengtą techninį projektą bus įgyvendinatas 2025 m.) 2024 m. organizuotas ketvirtasis dalyvaujamojo biudžeto konkursas. Konkursui pateikta 12 projektų idėjų pasiūlymų. Gyventojų balsų dauguma atrintos šios iniciatyvos: „Šviečiančios supynės Kėdainių miesto parke“, „Pelėdnagių paplūdimys“ ir „Kėdainių rajono gyventojo mobili aplikacija“
B51: 011-01-04-05 (TP) | C51: Savivaldybės tarybos ir administracijos komunikacija su bendruomene ir visuomenės informavimo užtikrinimas | D51: 1 | E51: Komunikacijos su bendruomene ir visuomenės informavimo koordinavimas | F51: Administracijos direktorius | G51: SB | H51: 28.5 | I51: 16 | J51: Informacijos teikimas viešųjų ryšių atstovei | K51: nuolat, pagal poreikį | L51: nuolat, pagal poreikį | M51: Informacija apie savivaldybės administracijos, tarybos vykdomą veiklą viešinta respublikinėje, vietinėje spaudoje, televizijoje, savivaldybės internetiniame tinklapyje. Daugiau komunikuota socialiniuose tinkluose, informacija teikta internetinėje svetainėje. Savivaldybės interneto svetainėje naujai struktūrizuotos teikiamos administracinės paslaugos, suinteresuotiems asmenims sudaryta galimybė nesikreipiant į Savivaldybės administracija gauti atsakymus į dažniausiai užduodamus klausimus D.U.K. skiltyje.
B52: 011-01-05 (T) | C52: Gerinti savivaldybės administracijos veiklos kokybę, atnaujinant (diegiant) informacines sistemas, kompiuterinę įrangą, užtikrinant sisteminį viešųjų ir administracinių paslaugų modernizavimą | H52: =SUM(H53:H58) -> 407.2 | I52: =SUM(I53:I58) -> 396.6
B53: 011-01-05-01 (TP) | C53: Informacinių technologijų plėtra savivaldybės administracijoje, administracinių elektroninių paslaugų brandos lygio kėlimas | D53: 1 | E53: IT įrangos, programų, IS atnaujinimo viešųjų pirkimų organizavimas, įdiegtų programų, IS priežiūra ir plėtros organizavimas | F53: Bendrasis skyrius | G53: SB | H53: 359 | I53: 359 | J53: Atnaujinamos, prižiūrimos IS (kaip valdytojos) skaičius | K53: 11 | L53: 11 | M53: Savivaldybės administracija yra 11 informacinių sistemų valdytoja ir tvarkytoja, dar 53 informacinių sistemų - tvarkytoja
B54: 011-01-05-02 (TP) | C54: Kolokacijos paslauga Valstybės duomenų centre | D54: 1 | E54: Paslaugos funkcionalumo užtikrinimas | F54: Bendrasis skyrius | G54: SB | H54: 15 | I54: 12 | J54: Kolokacijos užtikrinimas, proc. | K54: 100 | L54: 100 | M54: Užtikrinta Kolokacijos paslauga Valstybės duomenų centre
B55: 011-01-05-03 (TP) | C55: Kibernetinio saugumo ir elektroninės informacijos saugos užtikrinimas | D55: 1 | E55: Kibernetinio saugumo reikalavimų užtikrinimas | F55: Bendrasis skyrius | G55: SB | H55: 15 | I55: 15 | J55: Kibernetinio saugumo srityje įgyvendintų priemonių skaičius | K55: 3 | L55: 3 | M55: Organizuotos reagavimo, apsauginės, edukacinės, prevencinės priemonės. Organizuota imitacinių socialinės inžinerijos pratybų „PhishEx“ kampanija administracijos darbuotojams, siekiant ugdyti valstybės informacinių išteklių valdytojų, tvarkytojų ir naudotojų atsparumą tikroms kibernetinėms atakoms
B56: 011-01-05-04 (TP) | C56: Kėdainių rajono savivaldybės teikiamų paslaugų informacijos paieškos, naudojant dirbtinį intelektą, sistemos sukūrimas | D56: 1 | E56: Paslaugos funkcionalumo užtikrinimas | F56: Bendrasis skyrius | G56: SB | H56: 18.2 | I56: 10.6 | J56: Sistemos sukūrimas ir palaikymas | K56: 1 | L56: 1 | M56: Siekiama gerinti viešųjų paslaugų teikimą bei gyventojų aptarnavimą, pasitelkti dirbtinio intelekto (DI) pokalbių roboto sprendimai ir technologijos, kurios teikia pagalbą savivaldybės gyventojams, gaunant viešąsias paslaugas. Pokalbių robotas, remdamasis generatyviuoju DI, bendrauja su interesantais tekstiniais pranešimais, gyventojui suteikdamas jo prašomą informaciją. Nuo 2024 m. birželio 20 d. iš viso konsultavimo robotas sulaukė 4 891 klausimo, o į Savivaldybės darbuotoją per konsultavimo robotą gyventojai kreipėsi 231 kartą
B57: 011-01-05-05 (TP) | C57: Savivaldybės ir Valstybės duomenų agentūros bendradarbiavimas dėl VDV IS, apimant "duomenų ežerą" | D57: 1 | E57: Duomenų, informacijos teikimas Valstybės duomenų agentūros valdomo duomenų ežerui | F57: Bendrasis skyrius | G57: SB | H57: 0 | I57: 0 | J57: Atvertų duomenų skaičius | K57: 10 | L57: 9 | M57: Savivaldybės interneto svetainėje atnaujinta skiltis „Atviri duomenys“
B58: 011-01-05-06 (PP) | C58: Viešųjų paslaugų teikimas bei gyventojų aptarnavimas, pasitelkiant dirbtinio intelekto sprendimus, Kėdainių rajono savivaldybėje | D58: 1 | E58: Projekto veiklų koordinavimas gavus ES finansavimą | F58: Bendrasis skyrius, Strateginio planavimo ir investicijų skyrius | G58: ES | H58: 0 | I58: 0 | J58: Sukurtų skaitmeninių sprendimų skaičius
B59: 011-01-06 (T) | C59: Užtikrinti rajono gyventojų viešąją tvarką ir viešąjį saugumą | H59: =SUM(H60:H67) -> 272.9 | I59: =SUM(I60:I67) -> 256.1
B60: 011-01-06-01 (TP) | C60: Prevencinės programos „Saugios aplinkos kūrimas ir bendruomenės teisėtvarkos kūrimas" finansavimas | D60: 1 | E60: Įgyvendinamų programos priemonių koordinavimas | F60: Viešosios tvarkos skyrius | G60: SB | H60: 19.2 | I60: 12 | J60: Įgyvendintų prevencinių priemonių skaičius | K60: 8 | L60: 7 | M60: Organizuoti teisinių žinių, teisinio švietimo (viktorinos, konkursai, protmūšiai) renginiai ir akcijos, vykdytos prevencinės priemonės vyresnio amžiaus žmonėms, skatinti jaunieji policijos rėmėjai, įsigyta kompiuterinė, vaizdo, garso įrašymo technika, reprezentacinė atributika. Nebuvo įgyvendinta 1 priemonė - jaunuolių įtraukimas rinktis policijos pareigūno profesiją. 2024-06-28 rajono tarybos sprendimu Nr. TS-231 buvo patvirtintas Jaunuolių skatinimo pasirinkti policijos pareigūno profesiją tvarkos aprašas. 2024-09-16 pasirašyta bendradarbiavimo sutartis tarp Savivaldybės ir Kauno apskrities vyriausiojo policijos komisariato. Ši programa bus pradėta įgyvendinti 2025 m.
B61: 011-01-06-03 (TP) | C61: Civilinės saugos organizavimas | D61: 1 | E61: Civilinės saugos ekstremaliųjų situacijų valdymo plano prevencinių priemonių rengimas (atnaujinimas) | F61: Pareigūnas, atliekantis savivaldybės parengties pareigūno funkcijas | G61: SBVB | H61: 45.9 | I61: 44.5 | J61: Įgyvendintų ekstremaliųjų situacijų prevencijos priemonių plano vykdymo procentas | K61: 100 | L61: 100 | M61: Vykdant Savivaldybės civilinės saugos ekstremaliųjų situacijų 2024–2026 m. prevencijos priemonių planą. Ekstremalių situacijų operacijų centras į posėdžius rinkosi 3 kartus. Atnaujinti, tikslinti tarpusavio pagalbos planai (sutartys) su gretimomis ir kitomis savivaldybėmis, ūkio subjektais ir kitomis įstaigomis. Savivaldybės teritorijoje yra numatyta 50 kolektyvinės apsaugos statinių (toliau – KAS), iš kurių 21-mieste. Pagal parinktų patalpų plotą šiuo metų KAS telpa ~17 tūkst. gyventojų. Priedangų skaičius padidėjo nuo 122 iki 129 (talpinama per 57 proc. savivaldybės gyventojų). 2024 m. toliau tobulinta Civilinės saugos gyventojų perspėjimo sirenomis sistema ir infrastruktūra. Organizuoti civilinės saugos bei civilinės gynybos mokymai savivaldybės darbuotojams, vykdytas gyventojų švietimas civilinės saugos klausimais
D62: 2 | E62: Administracijos struktūrinių padalinių, įstaigų, įmonių darbų saugos patikrinimų vykdymas, priešgaisrinės tarnybos parengties kontroliavimas | G62: SB | H62: 55.5 | I62: 53.5
D63: 3 | E63: Rajono civilinės saugos perspėjimo sistemos būklės kontroliavimas, civilinės saugos mokymų organizavimas | J63: Modernizuotų gyventojų perspėjimo sistemų skaičius | K63: 2 | L63: 2
B64: 011-01-06-04 (TP) | C64: Dalyvavimas rengiant ir vykdant mobilizaciją, demobilizaciją, priimančiosios šalies paramą | D64: 1 | E64: Pasirengimo mobilizacijai, demobilizacijai ir priimančios šalies paramos teikimo administravimas | F64: Vyr. specialistas (mobilizacijai) | G64: SBVB | H64: 34.3 | I64: 34.3 | J64: Atnaujintų mobilizacijos planų skaičius | K64: 1 | L64: 1 | M64: Sudaryti ir įvykdyti Mobilizacinio ir Priimančios šalies paramos teikimo mokymo planai. Taip pat atnaujintas Savivaldybės mobilizacijos planas, kuriame numatyti veiksmai, užtikrinantys valstybinių mobilizacinių užduočių savivaldybei vykdymą ir teikti paramą LR ginkluotosioms pajėgoms paskelbus mobilizaciją. Sudaryta Mobilizacijos valdymo grupė ir parengti jos nuostatai, sudarytas Civilinio mobilizacinio personalo rezervo sąrašas
D65: 2 | E65: Duomenų rinkimas, sisteminimas, savivaldybės mobilizacijos plano rengimas
D66: 3 | E66: Mobilizacinio ar priimančios šalies paramos teikimo mokymo organizavimas, koordinavimas
B67: 011-01-06-05 (TP) | C67: Gyventojų saugumo, diegiant vaizdo stebėjimo ir saugumo priemones mieste bei rajone užtikrinimas | D67: 1 | E67: Vaizdo stebėjimo sistemos ir transporto priemonių greičio, raudono šviesoforo signalo pažeidimo fiksavimo sistemos įrangos nuomos, šių sistemų įrengimo ir priežiūros sutarties koordinavimas | F67: Bendrasis skyrius | G67: SB | H67: 118 | I67: 111.8 | J67: Stebėjimo vietų viešosiose erdvėse skaičius | K67: 67 | L67: 67 | M67: Mieste esančiomis vaizdo stebėjimo kameromis 2024 m. buvo fiksuoti 595 atvejai apie galimus teisės pažeidimus, 27 kartus skambinta telefonu dėl teisės pažeidimų arba nusikalstamų veikų bendruoju pagalbos telefonu 112, peržiūrėta ir pateikta policijai arba Viešosios tvarkos skyriui 211 vaizdo įrašų.
H68: =+H59+H52+H46+H37+H23+H11 -> 9994.5 | I68: =+I59+I52+I46+I37+I23+I11 -> 8991
H69: =+H68-H70-H78 -> 0 | I69: =+I68-I70-I78 -> 0
C70: 1. Savivaldybės biudžetas (įskaitant skolintas lėšas) | H70: =SUM(H72:H77) -> 9994.5 | I70: =SUM(I72:I77) -> 8991
C71: Iš jo:
C72: 1.1. savivaldybės biudžeto lėšos (nuosavos, be ankstesnių metų likučio) | G72: SB | H72: =+H67+H60+H55+H54+H53+H51+H50+H49+H48+H47+H43+H41+H40+H39+H38+H22+H21+H14+H12+H57+H56+H62+H45 -> 8073 | I72: =+I67+I60+I55+I54+I53+I51+I50+I49+I48+I47+I43+I41+I40+I39+I38+I22+I21+I14+I12+I57+I56+I62+I45 -> 7070.2
C73: 1.2. Lietuvos Respublikos valstybės biudžeto dotacijos | G73: SBVB | H73: =+H64+H61+H44+H36+H35+H34+H33+H32+H30+H29+H28+H27+H26+H25+H24 -> 335 | I73: =+I64+I61+I44+I36+I35+I34+I33+I32+I30+I29+I28+I27+I26+I25+I24 -> 332.8
C74: 1.3. Pajamų įmokos ir kitos pajamos | G74: ĮP | H74: =+H13 -> 11.5 | I74: =+I13 -> 13.1
C75: 1.4. Europos Sąjungos ir kitos tarptautinės finansinės paramos lėšos | G75: ES | H75: =+H58 -> 0 | I75: =+I58 -> 0
C76: 1.5. Skolintos lėšos | G76: SK | H76: =+H42 -> 1575 | I76: =+I42 -> 1574.9
C77: 1.6. Ankstesnių metų likučiai | G77: SBL
C78: 2. Kiti šaltiniai (Europos Sąjungos finansinė parama projektams įgyvendinti ir kitos teisėtai gautos lėšos, nurodant atskirus šaltinius) | G78: KT
C79: IŠ VISO programai finansuoti pagal finansavimo šaltinius (1 ir 2 punktai) | H79: =+H78+H70 -> 9994.5 | I79: =+I78+I70 -> 8991
C80: Iš jų: regioninių pažangos priemonių lėšos
C81: Asignavimų ir kitų lėšų pokytis, palyginti su ankstesnių metų patvirtintų asignavimų ir kitų lėšų planu

Sheet Is viso
B2: Lėšų panaudojimas (tūkst. Eur)
B3: Eil. Nr. | C3: Programos kodas ir pavadinimas | D3: Numatomi 2024 m. asignavimai ir kitos lėšos | E3: Panaudoti 2024 m. asignavimai ir kitos lėšos
B4: 01 | C4: Švietimas ir ugdymas | D4: =+'01šviet.'!G54 -> 5139.6 | E4: =+'01šviet.'!H54 -> 4137.7
B5: 02 | C5: Sveikatos apsauga | D5: =+'02 sveikata'!H45 -> 1280.1 | E5: =+'02 sveikata'!I45 -> 1044.7
B6: 03 | C6: Socialinės apsaugos plėtojimas | D6: =+'03social.'!H66 -> 7094.8 | E6: =+'03social.'!I66 -> 6424.6
B7: 04 | C7: Sporto veiklos plėtra | D7: =+'04sport.'!H37 -> 1543.1 | E7: =+'04sport.'!I37 -> 1525.2
B8: 05 | C8: Kultūros veiklos plėtra | D8: =+'05kultura'!H40 -> 1794.7 | E8: =+'05kultura'!I40 -> 1754.5
B9: 06 | C9: Kultūros paveldo išsaugojimas, turizmo skatinimas | D9: =+'06 turizm'!H31 -> 805.9 | E9: =+'06 turizm'!I31 -> 630.6
B10: 07 | C10: Infrastruktūros objektų priežiūra ir plėtra | D10: =+'07Infrastr.'!H46 -> 5357.2 | E10: =+'07Infrastr.'!I46 -> 4807.2
B11: 08 | C11: Aplinkos apsauga | D11: =+'08aplinkosauga'!H44 -> 3348.6 | E11: =+'08aplinkosauga'!I44 -> 2981.2
B12: 09 | C12: Žemės ūkis ir melioracija | D12: =+'09ž.ū.'!H40 -> 1602.7 | E12: =+'09ž.ū.'!I40 -> 1477.1
B13: 10 | C13: Parama verslui irverslo plėtra | D13: =+'10verslas'!H20 -> 276.2 | E13: =+'10verslas'!I20 -> 255.1
B14: 11 | C14: Savivaldybės valdymo tobulinimas | D14: =+'11 valdymas'!H68 -> 9994.5 | E14: =+'11 valdymas'!I68 -> 8991
C15: IŠ VISO PROGRAMOS ĮGYVENDINTI | D15: =SUM(D4:D14) -> 38237.4 | E15: =SUM(E4:E14) -> 34028.9
B16: 1. Savivaldybės biudžetas (įskaitant skolintas lėšas) | D16: =+'01šviet.'!G56+'02 sveikata'!H47+'03social.'!H68+'04sport.'!H39+'05kultura'!H42+'06 turizm'!H33+'07Infrastr.'!H48+'08aplinkosauga'!H46+'09ž.ū.'!H42+'10verslas'!H22+'11 valdymas'!H70 -> 38237.4 | E16: =+'01šviet.'!H56+'02 sveikata'!I47+'03social.'!I68+'04sport.'!I39+'05kultura'!I42+'06 turizm'!I33+'07Infrastr.'!I48+'08aplinkosauga'!I46+'09ž.ū.'!I42+'10verslas'!I22+'11 valdymas'!I70 -> 34028.9
B17: Iš jo:
B18: 1.1. savivaldybės biudžeto lėšos (nuosavos, be ankstesnių metų likučio) SB | D18: =+'01šviet.'!G58+'02 sveikata'!H49+'03social.'!H70+'04sport.'!H41+'05kultura'!H44+'06 turizm'!H35+'07Infrastr.'!H50+'08aplinkosauga'!H48+'09ž.ū.'!H44+'10verslas'!H24+'11 valdymas'!H72 -> 25141.5 | E18: =+'01šviet.'!H58+'02 sveikata'!I49+'03social.'!I70+'04sport.'!I41+'05kultura'!I44+'06 turizm'!I35+'07Infrastr.'!I50+'08aplinkosauga'!I48+'09ž.ū.'!I44+'10verslas'!I24+'11 valdymas'!I72 -> 22254.2
