Workbook

Sheet 01šviet.
J1: PATVIRTINTA
J2: Kėdainių rajono savivaldybės administracijos direktoriaus
J3: 2025 m. kovo 5 d. įsakymu Nr.AD-1- 218
A6: Kėdainių rajono savivaldybės administracijos 2024 metų veiklos plano ataskaita
A7: Programos uždavinio, priemonės kodas ir požymis | B7: Uždavinio, priemonės pavadinimas | C7: Veiklos kodas | D7: Veiklos pavadinimas | E7: Atsakingas vykdytojas | F7: Finansavimo šaltinis | G7: Numatomi 2024 m. asignavimai ir kitos lėšos | H7: Panaudoti 2024 m. asignavimai ir kitos lėšos | I7: Vertinimo kriterijai
I8: Pavadinimas | J8: Planuota reikšmė | K8: Pasiekta reikšmė | L8: Komentarai, pastabos, nukrypimų nuo plano priežastys
A10: 01 Švietimas ir ugdymas
A11: 001-01-01 (T) | B11: Sudaryti prielaidas ugdymo kokybei gerinti, mažinti ugdymo kokybės skirtumus tarp mokyklų | G11: =SUM(G12:G16) -> 1792.1 | H11: =SUM(H12:H16) -> 1082.1
A12: 001-01-01-03 (PP) | B12: "Tūkstantmečio mokyklos I" projekto įgyvendinimas | C12: 1 | D12: Projekte dalyvaujančių mokyklų vykdomų veiklų koordinavimas, informacijos apie įgyvendinamas veiklas, mokėjimo prašymų kontroliuojančioms institucijoms teikimas | E12: Strateginio planavimo ir investicijų skyrius, Apskaitos skyrius | F12: SB | G12: 50 | H12: 0.6 | I12: Programoje, dalyvaujančių įstaigų skaičius (tinklaveika) | J12: 16 | K12: 16 | L12: Tęsiamos TŪM projekto įgyvendinimas. Projekte dalyvaujančiose 4 rajono mokyklose įkurtos laboratorijos, edukacinės, sporto, kūrybiškumo, sensorinės poilsio, laisvalaikio erdvės, įsigyta reikalinga įranga bei priemonės. Vyksta tinklaveika, TŪM programos investicijas gavusios mokyklos su kitomis savivaldybės mokyklomis dalinasi atnaujintomis pedagoginių darbuotojų žiniomis, naujais veiklos modeliais, mokymosi priemonėmis, atnaujinta infrastruktūra
F13: ES | G13: 1400 | H13: 1052.5
F14: SBVB | G14: 315 | H14: 20.8
A15: 001-01-01-04 (TP) | B15: Centralizuoto vaikų priėmimo į savivaldybės švietimo įstaigų ikimokyklinio ir priešmokyklinio ugdymo grupes, bendrojo ugdymo klases, neformaliojo švietimo grupes bei įstaigų valdymo informacinės sistemos paslaugų diegimas | C15: 1 | D15: Sistemos paslaugų viešojo pirkimo organizavimas, techninės dokumentacijos rengimas sutarties koordinavimas, teikėjų prisiimtų sutartinių įsipareigojimų vykdymo kontrolė | E15: Švietimo, kultūros ir sporto skyrius, Bendrasis skyrius | F15: SB | G15: 18.1 | H15: 12,0* | I15: Įdiegta sistema | J15: 1 | K15: 1 | L15: Įsigyta ir įdiegta centralizuoto vaikų priėmimo į savivaldybės švietimo įstaigas informacinė sistema. Integruotos 28 švietimo įstaigos. Apmokėta iš 11 programos 02 priemonės lėšų
A16: 001-01-01-05 (TP) | B16: "Pirmoko krepšelio" finansavimas | C16: 1 | D16: Priemonės koordinavimas | E16: Švietimo, kultūros ir sporto skyrius | F16: SB | G16: 9 | H16: 8.2 | I16: Pirmoko krepšelį gaunančiųjų skaičius | J16: ~440 | K16: 440 | L16: Visi pirmokai rugsėjo 1 d. buvo apdovanoti „Pirmoko krepšeliu“, kuriame rado svarbiausius mokyklinius reikmenis. Lėšų šiai priemonei prireikė mažiau, nes, įvykdžius viešuosius pirkimus, visi reikalingi daiktai buvo įsigyti už mažesnę pasiūlytą kainą.
A17: 001-01-02 (T, P) | B17: Užtikrinti neformaliojo ugdymo dermę | G17: =SUM(G18:G19) -> 78.8 | H17: =SUM(H18:H19) -> 74.2
A18: 001-01-02-02 (TP) | B18: Vykdyti neformaliojo vaikų švietimo programas | C18: 1 | D18: Priemonės koordinavimas | E18: Švietimo, kultūros ir sporto skyrius | F18: SBVB | G18: 8.8 | H18: 8.5 | I18: Įgyvendinamų programų skaičius | J18: 66 | K18: 66 | L18: 27 NVŠ teikėjai vykdė 66 programas, kuriose vidutiniškai dalyvavo 1 770 mokinių. Apie 200 mokinių, turinčių vidutinių, didelių ir labai didelių specialiųjų ugdymosi poreikių, buvo skirti 2 NVŠ krepšeliai. NVŠ krepšeliu pasinaudojo apie 39 proc. mokinių, iš jų apie 59 proc. – iš miesto mokyklų, apie 41 proc. – kaimiškųjų vietovių. NVŠ veiklose, organizuojamose mokyklų ir kitų švietimo teikėjų, dalyvavo 75,7 proc. Savivaldybės bendrojo ugdymo mokyklų mokinių.
A19: 001-01-02-04 (TP) | B19: Finansuoti vaikų vasaros stovyklų ir kitų neformaliojo vaikų švietimo veiklų programas | C19: 1 | D19: Programų konkurso organizavimas, konsultacijos, paraiškų ir sutarčių derinimas, veiklų stebėjimas, vertinimas, ataskaitų teikimas | E19: Švietimo, kultūros ir sporto skyrius | F19: SB | G19: 70 | H19: 65.7 | I19: Finansuotų vaikų vasaros poilsio ir užimtumo programų skaičius | J19: ~36 | K19: 31 | L19: Finansuota 30 vaikų vasaros poilsio ir užimtumo stovyklų programų, kuriose dalyvavo 750 vaikų, iš jų 54 turintys didelių ir labai didelių specialiųjų ugdymosi poreikių. Papildomai viena stovykla buvo organizuota 30 ukrainiečių vaikų iš Kėdainių miesto partnerio Melitopolio.
A20: 001-01-03 (T) | B20: Gerinti švietimo pagalbos teikimą, įgyvendinti kokybišką įvairių ugdymosi poreikių turinčių mokinių ugdymą taikant inovatyvius ugdymo(si) metodus ir būdus | G20: =SUM(G21:G29) -> 1036.8 | H20: =SUM(H21:H29) -> 945.2
A21: 001-01-03-02 (PP) | B21: Ugdymo prieinamumo didinimas atskirtį patiriantiems vaikams Kėdainių „Ryto“ ir Kėdainių senamiesčio progimnazijose | C21: 1 | D21: Projekto techninės dokumentacijos rengimo sutarčių koordinavimas, teikėjų prisiimtų sutartinių įsipareigojimų vykdymo kontrolė | E21: Statybos skyrius | F21: SB | G21: 0 | H21: 0 | I21: Parengta techninė dokumentacija, vnt. / pateikta paraiška, vnt. | J21: 2/1 | K21: 2/1 | L21: Pateiktas projekto įgyvendinimo planas, pasirašyta finansavimo sutartis, parengti "Ryto“ ir Senamiesčio progimnazijų aplinkos pritaikymo pagal universalaus dizaino elementus techniniai projektai
C22: 2 | D22: Projekto paraiškos teikimas ES finansavimui gauti | E22: Strateginio planavimo ir investicijų skyrius | F22: SK | G22: 50 | H22: 38.5
F23: ES | G23: 0 | H23: 0
A24: 001-01-03-03 (PP) | B24: Įvairialypio švietimo plėtojimas Kėdainių „Aušros“ progimnazijoje ir Vilainių mokykloje-darželyje „Obelėlė“, vykdant visos dienos mokyklos veiklą | C24: 1 | D24: Projekto paraiškos teikimas ES finansavimui gauti | E24: Strateginio planavimo ir investicijų skyrius | F24: SB | G24: 14.8 | H24: 0 | I24: Mokinių, kurie naudosis sukurta visos dienos mokyklos infrastruktūra, skaičius | J24: <900 | K24: <900 | L24: Pateiktas projekto įgyvendinimo planas, pasirašyta finansavimo sutartis, atlikti remonto darbai dalyje mokyklų patalpų, pritaikant jas visos dienos mokyklos veiklai, sutvarkytos lauko erdvės
C25: 2 | D25: Projekto techninės dokumentacijos rengimo sutarčių koordinavimas, teikėjų prisiimtų sutartinių įsipareigojimų vykdymo kontrolė | E25: Statybos skyrius | F25: SK | G25: 120 | H25: 128.2
F26: ES | G26: 697 | H26: 673.1
A27: 001-01-03-04 (PP) | B27: Projekto „Ankstyvojo ugdymo užtikrinimas vaikams iš socialinę riziką patiriančių šeimų“ įgyvendinimas | C27: 1 | D27: Projekto koordinavimas ir administravimas | E27: Švietimo, kultūros ir sporto skyrius | F27: ES | G27: 138 | H27: 84.6 | I27: Socialinę riziką patiriančiose šeimose gyvenančių nuo 3 metų iki privalomo ugdymo amžiaus vaikų, dalyvaujančių ikimokyklinio ugdymo programose, skaičius (skaičiuojama įgyvendinus projektą -2029 m.) | J27: 127 (2024 m.) | K27: 127 (2024 m.) | L27: Projektas pradėtas įgyvendinti 2024 m. rugsėjo mėn., siekiant, kad į ikimokyklinį ir priešmokyklinį ugdymą būtų sėkmingai įtraukti vaikai iš socialinę riziką patiriančių šeimų teikiant jiems pagalbą ugdymo procese
F28: SBVB | G28: 17 | H28: 15.2
A29: 001-01-03-05 | B29: Projekto "Karjeros specialistų tinklo vystymas" administravimas | F29: ES | G29: 0 | H29: 5.6 | I29: Karjeros specialistų skaičius | K29: 6 | L29: Užtikrintas profesinio orientavimo paslaugų teikimas įvairaus amžiaus mokiniams bendrojo ugdymo, profesinio mokymo ir kitose švietimo įstaigose
A30: 001-01-04 (T) | B30: Didinti pedagogų ir mokinių motyvaciją | G30: =SUM(G31:G33) -> 152.5 | H30: =SUM(H31:H33) -> 120.7
A31: 001-01-04-01 (TP) | B31: Mokytojų ir pagalbos mokiniui specialistų motyvacijos programos įgyvendinimas | C31: 1 | D31: Programos įgyvendinimo koordinavimas | E31: Švietimo, kultūros ir sporto skyrius | F31: SB | G31: 123 | H31: 91.4 | I31: Dalykinių olimpiadų ir konkursų prizininkų skaičius, tenkantis 10 tūkst. mokinių (skaičius) | J31: 5.5 | K31: 5.5 | L31: Individualiam pedagogų ir švietimo įstaigų pedagogų bendruomenių skatinimui skirta 80 tūkst. Eur ir 5,1 tūkst. Eur – pedagogines studijas pasirinkusių 3 ikimokyklinio ugdymo mokytojų 100 proc. studijų kainos apmokėjimui
A32: 001-01-04-03 (TP) | B32: Gabių mokinių skatinimas | C32: 1 | D32: Mokyklose besimokančių gabių mokinių, per vienerius mokslo metus pasiekusių puikių mokymosi rezultatų, įvertinimo ir paskatinimo organizavimas | E32: Švietimo, kultūros ir sporto skyrius | F32: SB | G32: 26.5 | H32: 26.3 | I32: Mokinių, kuriems skirti piniginiai prizai, skaičius | J32: 186 | K32: 178 | L32: Už pasiekimus dalykinėse olimpiadose, konkursuose, meno festivaliuose ir sporto varžybose buvo atrinkti ir apdovanoti 166 mokiniai. Už gautus aukštus įvertinimus brandos egzaminuose apdovanota 12 abiturientų
A33: 001-01-04-04 (TP) | B33: Metų mokytojo apdovanojimo teikimas | C33: 1 | D33: Savivaldybės mokytojų kompetencijų, veiklos rezultatų įvertinimo ir paskatinimo profesinei bei kūrybinei iniciatyvai organizavimas | E33: Švietimo, kultūros ir sporto skyrius | F33: SB | G33: 3 | H33: 3 | I33: Įteiktų apdovanojimų skaičius | J33: 1 | K33: 1 | L33: Už puikius pedagoginio darbo rezultatus Kėdainių „Ryto“ progimnazijos muzikos mokytoja metodininkė Žydrė Vancevičienė tapo Savivaldybės Metų mokytoja
A34: 001-01-05 (T) | B34: Užtikrinti sveiką, saugią emocinę ir fizinę aplinką ugdymo įstaigose | G34: =SUM(G35:G38) -> 342.7 | H34: =SUM(H35:H38) -> 342.7
A35: 001-01-05-02 (TP) | B35: Priklausomybę sukeliančių medžiagų vartojimo mažinimo ir prevencijos programos priemonių įgyvendinimas | C35: 1 | D35: Plane 2024 m. numatytų priemonių įgyvendinimas, organizavimas, koordinavimas | E35: Vyr. specialistas (tarpinstitucinio bendradarbiavimo koordinatorius), Patarėja (sveikatos reikalų koordinatorė), Vyr. specialistas (jaunimo reikalų koordinatorius) | F35: SB | G35: 57.7 | H35: 57.7 | I35: Įgyvendinamų priemonių skaičius | J35: 27 | K35: 27 | L35: Priklausomybę sukeliančių medžiagų vartojimo mažinimo ir prevencijos programos priemonės vykdytos pagal patvirtintą planą
A36: 001-01-05-04 (TP) | B36: Saugių ugdymo sąlygų įstaigose, vykdančiose ugdymo programas, užtikrinimas | C36: 1 | D36: Priemonės įgyvendinimo koordinavimas | E36: Švietimo, kultūros ir sporto skyrius, Biudžeto ir finansų skyrius | F36: SB | G36: 150 | H36: 150 | I36: Įstaigų skaičius, kuriose atlikti remonto darbai | J36: 11 | K36: 10 | L36: Lopšelis-darželis "Aviliukas" teritorija apjuosta nauja tvora, lopšelio-darželio "Vyturėlis" pakeista dalis teritorijos juosiančios tvoros, J. Paukštelio progimnazija įsigijo elektroninių cigarečių sensorius
A37: 001-01-05-05 (TP) | B37: Vaikų maitinimo ekologiškais ir pagal nacionalinę maisto kokybės sistemą pagamintais produktais Kėdainių lopšelyje-darželyje "Žilvitis" organizavimas (dalyvavimas projekte) | C37: 1 | D37: Priemonės įgyvendinimo koordinavimas | E37: Švietimo, kultūros ir sporto skyrius, Biudžeto ir finansų skyrius | F37: SB | G37: 35 | H37: 35 | I37: Ekologiškai besimaitinančių vaikų skaičius | J37: ~200 | K37: 208 | L37: Lopšelyje-darželyje "Žilvitis" dalyvaudamas Žemės ūkio ministerijos iniciatyvoje, siekia vaikus maitinti trumposiomis maisto tiekimo grandinėmis tiekiamu vietiniu kokybišku maistu. Parama dengiamas kainų skirtumas, susidarantis renkantis ekologiškus ir pagal nacionalinę maisto kokybės sistemą pagamintus produktus vietoj įprastinių maisto produktų ir žaliavų
A38: 001-01-05-06 (TP) | B38: Mokyklų, organizuojančių maitinimą savarankiškai, finansavimas | C38: 1 | D38: Priemonės įgyvendinimo koordinavimas | E38: Švietimo, kultūros ir sporto skyrius, Biudžeto ir finansų skyrius | F38: SB | G38: 100 | H38: 100 | I38: Mokyklų, organizuojančių maitinimą savarankiškai, skaičius (bendras) | J38: 1 | K38: 1 | L38: Šėtos gimnazijai, atsinaujinus virtuvės patalpas bei įsigijus reikalingą įrangą ir priemones, maitinimas organizuojamas savarankiškai
A39: 001-01-06 (T) | B39: Gerinti ugdymo (-si) infrastruktūrą, materialinę bazę, užtikrinti STEAM dalykų programų įgyvendinimą ir skaitmeninio ugdymo turinio plėtrą savivaldybės ugdymo įstaigose | G39: =SUM(G40:G53) -> 1736.7 | H39: =SUM(H40:H53) -> 1572.8
A40: 001-01-06-01 (TP) | B40: Kėdainių šviesiosios gimnazijos pastato Kėdainiuose, Didžioji g. 60, įveiklinimas | C40: 1 | D40: Priemonės įgyvendinimo koordinavimas | E40: Administracijos direktorius, Švietimo, kultūros ir sporto skyrius, Biudžeto ir finansų skyrius | F40: SB | G40: 400 | H40: 400 | I40: Atlikta einamaisiais metais numatytų darbų, proc. | J40: 100 | K40: 100 | L40: Vykdyti baigiamieji rangos darbai, įsigyti bendrosioms baldai erdvėms baldai, įranga
A41: 001-01-06-02 (TP) | B41: Kėdainių lopšelio-darželio „Varpelis“ (Pavasario g. 8, Kėdainiai) pastato energinio efektyvumo didinimas, vidaus erdvių modernizavimas | C41: 1 | D41: Rangos darbų sutarties koordinavimas, teikėjo prisiimtų sutartinių įsipareigojimų vykdymo kontrolė | E41: Statybos skyrius, Strateginio planavimo ir investicijų skyrius | F41: SB | G41: 181.2 | H41: 181.2 | I41: Pasiekta pastato energijos naudingumo klasė/atnaujintos vidaus erdvės pagal projektą, proc. | J41: B/100 | K41: B/100 | L41: Baigti įstaigos modernizavimo darbai, atnaujintos vidaus erdvės, pasiekta pastato energijos naudingumo B klasė
F42: ES | G42: 167.3 | H42: 103.8
A43: 001-01-06-03 (TP) | B43: Kėdainių lopšelio-darželio „Vyturėlis“ (Josvainių g. 53, Kėdainiai) pastato energinio efektyvumo didinimas, vidaus erdvių modernizavimas | C43: 1 | D43: Rangos darbų sutarties koordinavimas, teikėjo prisiimtų sutartinių įsipareigojimų vykdymo kontrolė | E43: Statybos skyrius, Strateginio planavimo ir investicijų skyrius | F43: SB | G43: 269.4 | H43: 269.4 | I43: Pasiekta pastato energijos naudingumo klasė | J43: B/100 | K43: B/100 | L43: Baigti įstaigos modernizavimo darbai, atnaujintos vidaus erdvės, pasiekta pastato energijos naudingumo B klasė
...

Sheet 02 sveikata
F1: PATVIRTINTA
F2: Kėdainių rajono savivaldybės administracijos direktoriaus
F3: 2024 m. kovo 8 d. įsakymu Nr.AD-1- 182
F4: (Kėdainių rajono savivaldybės administracijos direktoriaus
F5: 2024 m. gruodžio d. įsakymo Nr.AD-1- redakcija)
B7: Programos uždavinio, priemonės kodas ir požymis | C7: Uždavinio, priemonės pavadinimas | D7: Veiklos kodas | E7: Veiklos pavadinimas | F7: Atsakingas vykdytojas | G7: Finansavimo šaltinis | H7: Numatomi 2024 m. asignavimai ir kitos lėšos | I7: Panaudoti 2024 m. asignavimai ir kitos lėšos | J7: Vertinimo kriterijai
J8: Pavadinimas | K8: Planuota reikšmė | L8: Pasiekta reikšmė | M8: Komentarai, pastabos, nukrypimų nuo plano priežastys
B10: 02 Sveikatos apsauga
B11: 002-01-01 (T, P) | C11: Sudaryti sąlygas gyventojams stiprinti sveikatą, kurti ir plėtoti su sveikatos stiprinimu susijusias paslaugas | H11: =SUM(H12:H13) -> 139.1 | I11: =SUM(I12:I13) -> 100.8
B12: 002-01-01-01 (TP) | C12: Visuomenės sveikatos rėmimo specialiosios programos priemonių įgyvendinimas (AA) | D12: 1 | E12: Programos priemonių sveikatos projektų konkurso organizavimas, sutarčių su vykdytojais parengimas, priemonių įgyvendinimo koordinavimas ir kontrolė; užkrečiamųjų ligų plano priemonių vykdymo kontrolė | F12: Patarėja (sveikatos reikalų koordinatorė) | G12: SB | H12: 136.8 | I12: 98.5 | J12: Visuomenės sveikatos rėmimo specialiosios programos įgyvendinimas, proc. | K12: 100 | L12: 100 | M12: Įgyvendinant programą įgyvendinti 28 sveikatos projektai, vykdyta rajono maudyklų vandens kokybės tyrimai, finansuotos visuomenės sveikatos stebėsenos ataskaitos rekomendacijų įgyvendinimo priemonės, vestos prevencinės paskaitos apie psichoaktyvių medžiagų žalą, vykdytas mokyklų aplinkos testavimas dėl narkotinių medžiagų aptikimo, įgyvendintos tikslinės priemonės, reikalingos apsaugoti gyventojų sveikatą
B13: 002-01-01-04 (TP) | C13: Neveiksniais pripažintų asmenų būklės peržiūrėjimas | D13: 1 | E13: Neveiksniais pripažintų asmenų būklės peržiūrėjimo organizavimas | F13: Socialinės paramos skyrius | G13: SBVB | H13: 2.3 | I13: 2.3 | J13: Asmenų, kurių neveiksnumas peržiūrėtas, skaičius | K13: ~60 | L13: 85 | M13: Neveiksnių asmenų būklės peržiūrėjimo komisija peržiūrėjo 85 asmenų būklę
B14: 02-01-02 (T, P) | C14: Siekti gyventojų sveikatos išsaugojimo, gerinant sveikatos priežiūros paslaugų kokybę ir prieinamumą | H14: =SUM(H15:H31) -> 406.9 | I14: =SUM(I15:I31) -> 385.7
B15: 002-01-02-01 (TP) | C15: E. sveikatos informacinės sistemos palaikymo ir tobulinimo VšĮ Kėdainių PSPC 2024–2026 m. programa | D15: 1 | E15: Sutarčių su vykdytojais suderinimas, priemonių koordinavimas ir vykdymo kontrolė | F15: Patarėja (sveikatos reikalų koordinatorė) | G15: SB | H15: 10 | I15: 10 | J15: Atnaujintos ir E. sveikatos IS funkcionalumui pritaikytos įrangos kompl. skaičius | K15: 2 | L15: 2 | M15: Įgyvendinant programą vykdytas E. sveikatos IS funkcionalumų palaikymas (1 kompl.- siuntimų išrašymas, instrumentinių tyrimų atlikimas, neįgalumo ir darbingumo lygio nustatymas, įstaigos resursų administravimas, E. receptas, ataskaitų ir analizės formavimas, tyrimų rezultatai, pacientų perregistravimas, prevencinės programos, nedarbingumo pažymėjimas, IS ir SVDPT vartų bei prieigos priežiūra, laboratorinės informacinės sistemos priežiūra), įsigytas 1 kompl. aptarnavimo paslaugų.
B16: 002-01-02-02 (TP) | C16: E. sveikatos informacinės sistemos palaikymo ir tobulinimo VšĮ Kėdainių ligoninė 2024–2026 m. programa | D16: 1 | E16: Sutarčių su vykdytojais suderinimas, priemonių koordinavimas ir vykdymo kontrolė | F16: Patarėja (sveikatos reikalų koordinatorė) | G16: SB | H16: 10 | I16: 10 | J16: Palaikomų funkcionalumų skaičius | K16: 13 | L16: 13 | M16: Programos lėšomis palaikomi E.sveikatos IS funkcionalumai: siuntimų išrašymas, atsakymų į siuntimą išrašymas, epikrizių išrašymas, E025 išrašymas, mirties liudijimų išrašymas, vaiko gimimo liudijimų išrašymas, nedarbingumo pažymėjimo išrašymas, E. receptas, vaistų verifikavimas, instrumentinių tyrimų atlikimas, SMS žinutės pacientams, medicininių vaizdų siuntimas į MedVAIS, ataskaitų ir analizės formavimas, reabilitacijos modulis.
B17: 002-01-02-03 (TP) | C17: Kėdainių rajono tuberkuliozės prevencijos, ankstyvosios diagnostikos, gydymo ir kontrolės 2023–2027 m. programa | D17: 1 | E17: Sutarčių su vykdytojais suderinimas, priemonių koordinavimas ir vykdymo kontrolė | F17: Patarėja (sveikatos reikalų koordinatorė) | G17: SB | H17: 3 | I17: 3 | J17: Atliktų tyrimų ir paslaugų skaičius per metus | K17: ~1600 | L17: 1571 | M17: Programos lėšomis pirkti tuberkulino mėginiai ir priemonės, vykdyta rizikos grupių asmenų ankstyvoji diagnostika.
B18: 002-01-02-04 (TP) | C18: Žemo slenksčio paslaugų kokybės užtikrinimo Kėdainių rajone 2023-2027 m. programa | D18: 1 | E18: Sutarčių su vykdytojais suderinimas, priemonių koordinavimas ir vykdymo kontrolė | F18: Patarėja (sveikatos reikalų koordinatorė) | G18: SB | H18: 7.8 | I18: 7.8 | J18: Apsilankymai (kartais) žemo slenksčio paslaugų kabinetuose per metus | K18: ~2000 | L18: 2639 | M18: Programos lėšomis teiktos stacionarios Žemo slenksčio kabinete ir mobilios paslaugos 2639 lankytojams, įsigytos priemonės (atrankiniai greitieji ŽIV, Hepatitų C, B, sifilio testai, vienkartinės dezinfekcinės, žaizdų gydymo priemonės, utilizavimo konteineriai ir transportavimo įranga (krepšiai) mobilioms paslaugoms teikti. Pasiektas didesnis rodiklis dėl papildomo finansavimo iš Respublikinio priklausomybės ligų centro.
B19: 002-01-02-05 (TP) | C19: Pirminės asmens sveikatos priežiūros paslaugų prieinamumo ir kokybės užtikrinimo Kėdainių rajono kaimiškųjų vietovių gyventojams programą | D19: 1 | E19: Sutarčių su vykdytojais suderinimas, priemonių koordinavimas ir vykdymo kontrolė | F19: Patarėja (sveikatos reikalų koordinatorė) | G19: SB | H19: 80.4 | I19: 79.2 | J19: Mobilaus medicinos punkto apsilankymų kaimiškųjų vietovių gyventojų namuose (slaugos, taip pat ir profilaktinio darbo) skaičius) | K19: ~6000 | L19: 6024 | M19: Programos lėšomis dalinai finansuotos ambulatorijų ir medicinos punktų komunalinės išlaidos, teiktos Mobilaus medicinos punkto paslaugos. Kiekvieno apsilankymo metu suteikta nuo 2 iki 5 medicininių (taip pat ir profilaktinio darbo) slaugos paslaugų: vertinama paciento būklė, pagal poreikį matuojamas kraujospūdis, atliekama kardiograma, kraujo tyrimai, prižiūrimos pragulos, tvarstomos žaizdos, leidžiami vaistai ir kt.
B20: 002-01-02-06 (TP) | C20: Ambulatorinės akušerinės ir ginekologinės pagalbos kokybės gerinimo Kėdainių rajono savivaldybės moterims 2019-2024 m. programa | D20: 1 | E20: Sutarčių su vykdytojais suderinimas, priemonių koordinavimas ir vykdymo kontrolė | F20: Patarėja (sveikatos reikalų koordinatorė) | G20: SB | H20: 3 | I20: 3 | J20: Vidutinis atliktų ultragarsinių tyrimų skaičius per metus 1 gydytojui | K20: ~285 | L20: 519 | M20: Programos lėšomis mokamos lizingo įmokos už įsigytą ultragarsinį aparatą. Vienam gydytojui per metus teko 519 vnt. moters dubens organų bei vaisiaus ultragarsinių tyrimų.
B21: 002-01-02-07 (TP) | C21: Endoskopinių paslaugų prieinamumo ir kokybės gerinimo Kėdainių rajono savivaldybėje 2020-2025 m. programa | D21: 1 | E21: Sutarčių su vykdytojais suderinimas, priemonių koordinavimas ir vykdymo kontrolė | F21: Patarėja (sveikatos reikalų koordinatorė) | G21: SB | H21: 21 | I21: 21 | J21: Atliktų endoskopijų ir kolonoskopijų skaičius per metus | K21: ~1750 | L21: 2497 | M21: Programos lėšomis mokėtos lizingo įmokos už endoskopinę įrangą su vežimėliu bei endoskopų plovimo ir dezinfekavimo mašiną. Atlikta 1863 (metinio plano įvykdymas 133 proc.) endoskopijos ir 634 (metinio plano įvykdymas 181 proc.) kolonoskopijos tyrimų.
B22: 002-01-02-08 (TP) | C22: Mamografijos paslaugų tęstinumo, kokybės gerinimo Kėdainių rajono savivaldybėje 2020-2025 m. programa | D22: 1 | E22: Sutarčių su vykdytojais suderinimas, priemonių koordinavimas ir vykdymo kontrolė | F22: Patarėja (sveikatos reikalų koordinatorė) | G22: SB | H22: 19.1 | I22: 19.1 | J22: Atliktų mamografijų ir vertinimo paslaugų skaičius per metus | K22: ~1800 | L22: 6106 | M22: Programos lėšomis mokamos lizingo įmokos už skaitmenizuoto mamografo įsigijimą, atlikta mamografijų ir vertinimo paslaugų. Labai aktyviai dirbta viešinimo srityje
B23: 002-01-02-09 (TP) | C23: Anestezijos paslaugų vaikams ir suaugusiesiems kokybės gerinimo Kėdainių rajono savivaldybėje 2022-2027 m. programa | D23: 1 | E23: Sutarčių su vykdytojais suderinimas, priemonių koordinavimas ir vykdymo kontrolė | F23: Patarėja (sveikatos reikalų koordinatorė) | G23: SB | H23: 25.3 | I23: 25.3 | J23: Atliktų bendrųjų anestezijų skaičius per metus | K23: ~1482 | L23: 1870 | M23: Finansuotos lizingo įmokos už įsigytus 2 vnt. anestezijos aparatų su paciento gyvybinių funkcijų montavimo sistema bei elektros energijos generatorius. Anestezijų skaičius padidėjo dėl įsigytos įrangos suteiktų galimybių atlikti daugiau dienos chirurgijos paslaugų ir kitų operacijų savalaikio užtikrinimo
B24: 002-01-02-10 (TP) | C24: Rentgeno paslaugų atnaujinimo, kokybės gerinimo Kėdainių rajono savivaldybėje 2022-2027 m. programa | D24: 1 | E24: Sutarčių su vykdytojais suderinimas, priemonių koordinavimas ir vykdymo kontrolė | F24: Patarėja (sveikatos reikalų koordinatorė) | G24: SB | H24: 28.3 | I24: 28.2 | J24: Atliktų rentgenologinių tyrimų skaičius/trumpesnės registracijos rentgeno tyrimui eilės, dienomis | K24: ~10000/ 4 d. | L24: 18535 4 d. | M24: Programos lėšomis mokėtos lizingo įmokos už skaitmeninis rentgeno diagnostikos medicinos prietaisą. Per metus rentgeno paslaugų suteikta 18 535 vnt.. Įsigytu nauju, moderniu rentgeno aparatu užtikrinamas nepertraukiamas rentgeno diagnostinių paslaugų prieinamumas gyventojams
B25: 002-01-02-11 (TP) | C25: Kompiuterinės tomografijos paslaugų kokybės gerinimo Kėdainių rajono savivaldybėje 2023-2030 m. programa | D25: 1 | E25: Sutarčių su vykdytojais suderinimas, priemonių koordinavimas ir vykdymo kontrolė | F25: Patarėja (sveikatos reikalų koordinatorė) | G25: SB | H25: 52.1 | I25: 52.1 | J25: Atliktų tyrimų skaičius per metus | K25: ~3000 | L25: 5881 | M25: Programos lėšomis mokėtos lizingo įmokos už įsigytą tomografą. Kabineto darbo našumas padidėjo, nes naujuoju tomografu (skanuojant 128 sluoksnių) daug greitesnis skanavimo laikas. Paprastesnis paciento paruošimas, ypač tiems, kuriems reikalingas deguonis. Mažesnė pacientų apšvita, kontrastiniai tyrimai tikslesni tyrimo metu. Atlikta integracija su medicininėmis IS ir MedVAIS
B26: 002-01-02-12 (TP) | C26: VšĮ Kėdainių ligoninės sterilizacinės modernizavimo 2023-2028 m. programa | D26: 1 | E26: Sutarčių su vykdytojais suderinimas, priemonių koordinavimas ir vykdymo kontrolė | F26: Patarėja (sveikatos reikalų koordinatorė) | G26: SB | H26: 31.4 | I26: 31.3 | J26: Sutrumpėjusi sterilizavimo proceso trukmė (iki, min) | K26: ~45 min | L26: 30 min | M26: Programos lėšomis mokėtos lizingo įmokos už įsigytą dezinfekcijos ir sterilizavimo įrangą. Įsigijus naujus sterilizatorius vienu metu per 1,5 val. galima sterilizuoti 600 l kiekį, tuo tarpu senaisiais aparatais vienu metu sterilizuodavo apie 400 l. Kadangi sterilizuojama vienu metu didesnis kiekis, pati sterilizavimo trukmė bendrai sumažėjo apie 30 min.
B27: 002-01-02-13 (TP) | C27: Odontologijos paslaugų plėtros Kėdainių rajono savivaldybėje 2024-2027 m. programa | D27: 1 | E27: Sutarčių su vykdytojais suderinimas, priemonių koordinavimas ir vykdymo kontrolė | F27: Patarėja (sveikatos reikalų koordinatorė) | G27: SB | H27: 23.6 | I27: 23.6 | J27: Įsigytos įrangos komplektas | K27: 1 | L27: 1 | M27: Programos lėšomis įmokėta pradinė įmoka už įsigytą įrangą – odontologijos kėdė su priedais, panoraminis rentgeno aparatas, kompresoriai, vakuuminis siurblys, mikrovariklis, oro sausintuvas, Morita lokatorius, LED diodinė lempa, Osmos filtras
B28: 002-01-02-14 (TP) | C28: Reabilitacijos prieinamumo didinimo Kėdainių rajono savivaldybėje 2024 m. programa | D28: 1 | E28: Sutarčių su vykdytojais suderinimas, priemonių koordinavimas ir vykdymo kontrolė | F28: Patarėja (sveikatos reikalų koordinatorė) | G28: SB | H28: 57 | I28: 57 | J28: Įsigytos įrangos komplektas | K28: 1 | L28: 1 | M28: Programos lėšomis įsigyta moderni fizinės medicinos - reabilitacijos skyriaus įranga, kurią sudaro elektrostimuliatorius, aplikatoriai rankoms, robotinės rankos, kombinuotos terapijos aparatas, vežimėlis su pilnu vakuumo komplektu, aukšto intensyvumo elektromagnetinio lauko terapijos aparatas, Fango parafino šildymo ir maišymo įrenginys, termostatinė spinta, kita reabilitacijos įranga, priemonės
B29: 002-01-02-15 (TP) | C29: Vaikų, turinčių autizmo spektro ir kitų raidos sutrikimų, sveikatos stiprinimas, galimybių siekti asmeninės pažangos, pilnaverčio socialinio dalyvavimo prielaidų užtikrinimas | D29: 1 | E29: Sutarčių su vykdytojais suderinimas, priemonių koordinavimas ir vykdymo kontrolė | F29: Patarėja (sveikatos reikalų koordinatorė) | G29: SB | H29: 15.1 | I29: 15.1 | J29: Paslaugą gaunančių vaikų skaičius | K29: 15 | L29: 15 | M29: Programos lėšomis 15 vaikų, turinčių autizmo spektro ir kitų raidos sutrikimų, teikta sisteminga ir veiksminga reabilitacija, veiklos skatinant jų psichikos, motorikos, kalbos, socialinių, bendravimo, savitarnos ir kitų įgūdžių raidą
B30: 002-01-02-16 (PP) | C30: Mobilių komandų aprūpinimas įranga Kėdainių rajono savivaldybėje | D30: 1 | E30: Projekto veiklų koordinavimas | F30: Patarėja (sveikatos reikalų koordinatorė), Strateginio planavimo ir investicijų skyrius | G30: ES | H30: 16.3 | I30: 0 | J30: Mobilių komandų, aprūpintų įranga teikti paslaugas namuose, skaičius | K30: 1 | L30: 1 | M30: Projektas įgyvendintas, apmokėta kompensavimo būdu, 2025 m. bus kompensuotos ES ir SVBV lėšos. Įsigyta reikalinga medicininė ir kita reikalinga įranga ambulatorines slaugos paslaugas namuose teikiančiai mobiliai komandai
G31: SBVB | H31: 3.5 | I31: 0
B32: 02-01-03 (T) | C32: Pritraukti naujus bei išlaikyti esamus sveikatos priežiūros specialistus | H32: =SUM(H33:H35) -> 186 | I32: =SUM(I33:I35) -> 186
B33: 002-01-03-01 (TP) | C33: Sveikatos priežiūros specialistų skatinimo dirbti VšĮ Kėdainių PSPC 2023-2028 m. programa | D33: 1 | E33: Sutarčių su vykdytojais suderinimas, priemonių koordinavimas ir vykdymo kontrolė | F33: Patarėja (sveikatos reikalų koordinatorė) | G33: SB | H33: 98 | I33: 98 | J33: Taikomų paskatų priemonių skaičius | K33: 5 | L33: 5 | M33: Programoje numatytomis skatinamosiomis priemonėmis pasinaudojo 10 naujai atvykusių specialistų (5 šeimos gydytojai, 4 gydytojai odontologai ir 1 medicinos psichologas). Sveikatos priežiūros specialistams (40 asmenų), gyvenantiems kituose miestuose ar nuo darbo vietos nutolusiose teritorijose, buvo kompensuojamos kelionės išlaidos
B34: 002-01-03-02 (TP) | C34: Trūkstamos sveikatos priežiūros specialistų skatinimo dirbti VšĮ Kėdainių ligoninėje 2023-2026 m. programa | D34: 1 | E34: Sutarčių su vykdytojais suderinimas, priemonių koordinavimas ir vykdymo kontrolė | F34: Patarėja (sveikatos reikalų koordinatorė) | G34: SB | H34: 85 | I34: 85 | J34: Taikomų paskatų priemonių skaičius | K34: 4 | L34: 4 | M34: Programoje numatytomis priemonėmis pasinaudojo 76 sveikatos priežiūros specialistai. Pritraukti 27 trūkstamos profesinės kvalifikacijos gydytojai ir 9 bendrosios praktikos slaugytojai
B35: 002-01-03-03 (TP) | C35: Metų medicinos darbuotojo apdovanojimas | D35: 1 | E35: Metų mediko konkurso organizavimas | F35: Patarėja (sveikatos reikalų koordinatorė) | G35: SB | H35: 3 | I35: 3 | J35: Įteiktas Metų medicinos darbuotojo apdovanojimas | K35: 1 | L35: 1 | M35: Metų medikės titulas teko VšĮ Kėdainių pirminės sveikatos priežiūros centro šeimos gydytojai Vilmai Šnurevičiūtei
B36: 02-01-04 (T, P) | C36: Modernizuoti ir atnaujinti sveikatos priežiūros įstaigų infrastruktūrą sveikatos gerinimo poreikiams | H36: =SUM(H37:H43) -> 548.1 | I36: =SUM(I37:I43) -> 372.2
B37: 002-01-04-01 (TP) | C37: VšĮ Kėdainių PSPC Psichiatrijos dienos stacionaro paslaugų plėtra ir infrastruktūros pritaikymas specialiesiems neįgaliųjų poreikiams | D37: 1 | E37: Sutarčių su vykdytojais suderinimas, priemonių koordinavimas ir vykdymo kontrolė | F37: Patarėja (sveikatos reikalų koordinatorė) | G37: SB | H37: 35 | I37: 35 | J37: Atlikti keltuvo įrengimo ir patalpų pritaikymo darbai, proc. | K37: 100 | L37: 100 | M37: Programos lėšomis prisidėta prie ES įgyvendinimo projekto, įrengiant keltuvą (pritaikymas neįgaliųjų poreikiams)
B38: 002-01-04-02 (TP) | C38: Kėdainių rajono kaimo gyventojų sveikatos gerinimo poreikių užtikrinimas, modernizuojant ir (ar) atnaujinant ambulatorijų infrastruktūrą | D38: 1 | E38: Sutarčių su vykdytojais suderinimas, priemonių koordinavimas ir vykdymo kontrolė | F38: Patarėja (sveikatos reikalų koordinatorė) | G38: SB | H38: 23 | I38: 17.2 | J38: Ambulatorijų skaičius, kuriose pagerinta infrastruktūra | K38: 1 | L38: 1 | M38: Įgyvendinant programą atliktas Krakių ambulatorijos šildymo sistemos remontas (katilinė, šilumos mazgas ir kt.),
B39: 002-01-04-04 (TP) | C39: Tinkamų ir saugių darbo sąlygų užtikrinimo, įrengiant vėdinimo bei kondicionavimo sistemas VšĮ Kėdainių ligoninėje 2023-2028 m. programa | D39: 1 | E39: Sutarčių su vykdytojais suderinimas, priemonių koordinavimas ir vykdymo kontrolė | F39: Patarėja (sveikatos reikalų koordinatorė) | G39: SB | H39: 40 | I39: 40 | J39: Patalpų, kuriose įrengta vėdinimo (kondicionavimo) sistema, skaičius | K39: 31 | L39: 39 | M39: Programos lėšomis įsigyti kondicionieriai įrengti Geriatrijos, Fizinės medicinos ir reabilitacijos, Konsultacijų poliklinikos, Radiologijos skyriuose, Specializuotų skausmo diagnozavimo ir gydymo paslaugų dienos stacionare. Kadangi vykdant viešuosius pirkimus sutaupyta lėšų, kondicionierių įsigyta daugiau nei planuota
B40: 002-01-04-05 (TP) | C40: Tinkamų ir saugių darbo sąlygų užtikrinimo, įrengiant vėdinimo bei kondicionavimo sistemas VšĮ Kėdainių PSPC 2022-2026 m. programa | D40: 1 | E40: Sutarčių su vykdytojais suderinimas, priemonių koordinavimas ir vykdymo kontrolė | F40: Patarėja (sveikatos reikalų koordinatorė) | G40: SB | H40: 37.7 | I40: 37.7 | J40: Patalpų, kuriose įrengta vėdinimo (kondicionavimo) sistema, skaičius | K40: 29 | L40: 34 | M40: Programos lėšomis įsigyti kondicionieriai įrengti Slaugos paslaugų namuose tarnyboje, Odontologijos, Pediatrijos skyriuose, Chirurgijos kabinete, Pernaravos, Šėtos, Gudžiūnų, Lančiūnavos ambulatorijose. Kadangi vykdant viešuosius pirkimus sutaupyta lėšų, kondicionierių įsigyta daugiau nei planuota
B41: 002-01-04-06 (PP) | C41: Sveikatos centro sudėtyje teikiamų sveikatos priežiūros paslaugų infrastruktūros modernizavimas Kėdainių rajono savivaldybėje | D41: 1 | E41: Projekto veiklų koordinavimas | F41: Patarėja (sveikatos reikalų koordinatorė), Strateginio planavimo ir investicijų skyrius | G41: ES | H41: 350.5 | I41: 206 | J41: Pateikta paraiška, pasirašyta finansavimo sutartis | K41: 1 | L41: 1 | M41: Pateikta projekto paraiška, pasirašyta finansavimo sutartis kartu su projekto partneriais VšĮ Kėdainių PSPC, VšĮ Kėdainių ligoninė, UAB Žaliakalnio poliklinika ir UAB Kėdainių šeimos klinika. Pradėtos įgyvendinti projekto veiklos, siekiant atnaujinti įstaigų infrastruktūrą ir medicininę bei kitą įrangą
G42: SBVB | H42: 61.9 | I42: 36.3
...

Sheet 03social.
G1: PATVIRTINTA
G2: Kėdainių rajono savivaldybės administracijos direktoriaus
G3: 2024 m. kovo 8 d. įsakymu Nr.AD-1- 182
G4: (Kėdainių rajono savivaldybės administracijos direktoriaus
G5: 2024 m. gruodžio d. įsakymo Nr.AD-1- redakcija)
B8: Programos uždavinio, priemonės kodas ir požymis | C8: Uždavinio, priemonės pavadinimas | D8: Veiklos kodas | E8: Veiklos pavadinimas | F8: Atsakingas vykdytojas | G8: Finansavimo šaltinis | H8: Numatomi 2024 m. asignavimai ir kitos lėšos | I8: Panaudoti 2024 m. asignavimai ir kitos lėšos | J8: Vertinimo kriterijai
J9: Pavadinimas | K9: Planuota reikšmė | L9: Pasiekta reikšmė | M9: Komentarai, pastabos, nukrypimų nuo plano priežastys
B11: 03 SOCIALINĖS APSAUGOS PLĖTOJIMAS
B12: 003-01-01 (T) | C12: Organizuoti Lietuvos Respublikos teisės aktuose numatytos paramos bei paslaugų asmenims ir šeimoms teikimą, skatinti socialinę integraciją | H12: =SUM(H13:H32) -> 4233.9 | I12: =SUM(I13:I32) -> 3563.5
B13: 003-01-01-01 (TP) | C13: Socialinių išmokų bei kompensacijų (būsto šildymo išlaidų, išlaidų šaltam bei nuotekoms ir išlaidų karštam vandeniui), paramos mirties atveju teikimas ir administravimas | D13: 1 | E13: Koordinavimas, duomenų suvedimas į programą "Parama" | F13: Socialinės paramos skyrius | G13: SBVB | H13: 0 | I13: 0 | J13: Asmenų, gaunančių socialinę pašalpą ir kompensacijas, skaičius | K13: ~10000 | L13: 12410 | M13: Piniginės socialinės paramos gavėjų skaičius ženkliai išaugo dėl pasikeitusių teisės aktų, kurie reglamentavo Valstybės remiamų pajamų didėjimą, kuris tiesiogiai susijęs tiek su kompensacijos dydžiu, tiek nustatant teisę skirti kompensaciją būsto šildymui, šaltam bei karštam vandeniui. Lėšų iš SB reikėjo mažiau, kadangi buvo gauta dotacija iš SBVB lėšų
G14: SB | H14: 1352.2 | I14: 880.4
B15: 003-01-01-02 (TP) | C15: Išlaidų už įsigytus produktus, mokinio reikmenis finansavimas, socialinės paramos mokiniams administravimas | D15: 1 | E15: Koordinavimas, duomenų suvedimas į programą "Parama", informacijos teikimas švietimo įstaigų vadovams | F15: Socialinės paramos skyrius, Švietimo, kultūros ir sporto skyrius | G15: SBVB | H15: 996.3 | I15: 972.9 | J15: Mokinių, gaunančių nemokamą maitinimą, skaičius | K15: ~2140 | L15: 2038 | M15: Mokinių, gaunančių socialinę paramą, skaičius sumažėjo, bet lėšos padidėjo dėl pasikeitusio bazinės socialinės išmokos dydžio ir lėšų, skiriamų maisto produktams įsigyti, didėjimo.
J16: Mokinių, gaunančių būtiniausius mokinio reikmenis, skaičius | K16: ~1320 | L16: 1223
B17: 003-01-01-03 (TP) | C17: Nemokamo socialiai remtinų vaikų maitinimo ikimokyklinėse įstaigose organizavimas | D17: 1 | E17: Informacijos rinkimas, ikimokyklinių įstaigų užmokesčio už vaikų išlaikymą analizė | F17: Švietimo, kultūros ir sporto skyrius | G17: SB | H17: 100 | I17: 89.9 | J17: Vaikų, gaunančių nemokamą maitinimą, skaičius | K17: ~400 | L17: 480 | M17: 480 vaikų iš dalies arba visiškai atleisti nuo mokesčio už maitinimą
B18: 003-01-01-04 (TP) | C18: Nemokamo mokinių maitinimo kainos bendrojo ugdymo mokyklose kompensavimas | D18: 1 | E18: Koordinavimas, duomenų rinkimas, apmokėjimas maitinimo paslaugų teikėjams bei įstaigoms | F18: Socialinės paramos skyrius, Apskaitos skyrius | G18: SB | H18: 206.6 | I18: 206.6 | J18: Mokinių, gaunančių nemokamą maitinimą, skaičius | K18: ~2140 | L18: 2038 | M18: 2038 mokiniams kompensuota nemokamo maitinimo kaina
B19: 003-01-01-05 (TP) | C19: Kelionės išlaidų už lengvatinį keleivių vežimą kompensavimas | D19: 1 | E19: Duomenų ir pateisinamųjų dokumentų iš vežėjų ir įstaigų rinkimas, sisteminimas, analizė ir teikimas Apskaitos bei Biudžeto ir finansų skyriams | F19: Statybos skyrius, Apskaitos skyrius | G19: SB | H19: 796.7 | I19: 795.4 | J19: Finansavimo skyrimo plano vykdymas (proc.) | K19: 100 | L19: 100 | M19: UAB "Kėdbusas" finansuota 795,4 tūkst. Eur už keleivių, turinčių teisę į lengvatas pagal LR Transporto lengvatų įstatymą (moksleiviai, senjorai, asmenys su negalia, užsieniečiai, pasitraukę iš Ukrainos dėl Rusijos Federacijos karinių veiksmų) vežimą. Keleivių skaičius, lyginant su ankstesniais laikotarpiais, išlieka stabilus.
B20: 003-01-01-06 (TP) | C20: Lietuvos Respublikos 2024 metų piniginės socialinės paramos nepasiturintiems gyventojams įstatymo įgyvendinimo užtikrinimas | D20: 1 | E20: Priemonės koordinavimas | F20: Socialinės paramos skyrius | G20: SBVB | H20: 348.9 | I20: 348.9 | J20: Funkcijos vykdymo užtikrinimas | K20: 100 | L20: 100 | M20: Teikta parama pagal poreikį, pagal teisės aktų nuostatas
B21: 003-01-01-07 (TP) | C21: Kompensacijų nepriklausomybės gynėjams mokėjimas | D21: 1 | E21: Priemonės koordinavimas | F21: Socialinės paramos skyrius, Apskaitos skyrius | G21: SBVB | H21: 7.3 | I21: 4.2 | J21: Asmenų, gavusių kompensacijas, skaičius | K21: 13 | L21: 13 | M21: 13 asmenų skirta kompensacija
B22: 003-01-01-10 (TP) | C22: Tikslinių kompensacijų teikimas | D22: 1 | E22: Priemonės koordinavimas | F22: Socialinės paramos skyrius, Apskaitos skyrius | G22: SBVB | H22: 0.2 | I22: 0.1 | J22: Paramos pagal poreikį teikimas | K22: pagal poreikį | L22: pagal poreikį | M22: Teikta parama pagal poreikį, pagal teisės aktų nuostatas
B23: 003-01-01-11(TP) | C23: Būsto nuomos ar išperkamosios būsto nuomos mokesčių dalies kompensavimas | D23: 1 | E23: Asmenų konsultavimas, prašymų priėmimas, sąrašų sudarymas, duomenų vedimas į SPIS programą | F23: Socialinės paramos skyrius | G23: SBVB | H23: 7.7 | I23: 4.3 | J23: Asmenų, gavusių būsto nuomos ar išperkamosios būsto nuomos mokesčių dalies kompensaciją, skaičius | K23: 10 | L23: 8 | M23: Vykdytas viešinimas ir konsultacijos dėl galimybės pasinaudoti šia paslauga, 8 asmenims (šeimoms) skirta kompensacija
B24: 003-01-01-12 (TP) | C24: Išlaidų už būsto suteikimą užsieniečiams, pasitraukusiems iš Ukrainos dėl Rusijos Federacijos karinių veiksmų Ukrainoje finansavimas | D24: 1 | E24: Priemonės koordinavimas | F24: Socialinės paramos skyrius | G24: SBVB | H24: 31.3 | I24: 31.2 | J24: Paramos pagal poreikį teikimas | K24: pagal poreikį | L24: pagal poreikį | M24: Teikta parama pagal poreikį, pagal teisės aktų nuostatas
B25: 003-01-01-13 (TP) | C25: Savivaldybės patirtų išlaidų kompensavimas užsieniečiams, pasitraukusiems iš Ukrainos dėl Rusijos Federacijos karinių veiksmų Ukrainoje, priimti ir pagalbai jiems teikti įgyvendinant Lietuvos Respublikos piniginės socialinės paramos nepasiturintiems gyventojams įstatymą | D25: 1 | E25: Priemonės koordinavimas | F25: Socialinės paramos skyrius, Apskaitos skyrius | G25: SBVB | H25: 171 | I25: 171 | J25: Funkcijos vykdymo užtikrinimas, proc | K25: 100 | L25: 100 | M25: Teikta parama pagal poreikį, pagal teisės aktų nuostatas
B26: 003-01-01-14 (TP) | C26: Vienkartinių išmokų teikimas įsikurti gyvenamojoje vietoje savivaldybės teritorijoje ir (ar) mėnesinių kompensacijų teikimas už kompensacijas vaiko ugdymo pagal ikimokyklinio ir priešmokyklinio ugdymo programą | D26: 1 | E26: Priemonės koordinavimas | F26: Socialinės paramos skyrius, Švietimo skyrius, Apskaitos skyrius | G26: SBVB | H26: 8.5 | I26: 8.4 | J26: Paramos pagal poreikį teikimas | K26: pagal poreikį | L26: pagal poreikį | M26: Teikta parama pagal poreikį, pagal teisės aktų nuostatas
B27: 003-01-01-15 (TP) | C27: Socialinės paramos teikimas mokiniams pagal Lietuvos Respublikos socialinės paramos mokiniams įstatymą užsieniečiams, pasitraukusiems iš Ukrainos dėl Rusijos federacijos karinių veiksmų Ukrainoje | D27: 1 | E27: Priemonės koordinavimas | F27: Socialinės paramos skyrius, Apskaitos skyrius | G27: SBVB | H27: 34.5 | I27: 34.5 | J27: Funkcijos vykdymo užtikrinimas, proc | K27: 100 | L27: 100 | M27: Teikta parama pagal poreikį, pagal teisės aktų nuostatas
B28: 003-01-01-16 (TP) | C28: Paramos būstui išsinuomoti teikimas pagal Lietuvos Respublikos paramos būstui įsigyti ar išsinuomoti įstatymą užsieniečiams, pasitraukusiems iš Ukrainos dėl Rusijos federacijos karinių veiksmų Ukrainoje | D28: 1 | E28: Priemonės koordinavimas | F28: Socialinės paramos skyrius | G28: SBVB | H28: 4.1 | I28: 4.1 | J28: Paramos pagal poreikį teikimas | K28: pagal poreikį | L28: pagal poreikį | M28: Teikta parama pagal poreikį, pagal teisės aktų nuostatas
B29: 003-01-01-17 (TP) | C29: Išlaidų patirtų teikiant specialiąsias socialines paslaugas užsieniečiams, pasitraukusiems iš Ukrainos dėl Rusijos federacijos karinių veiksmų Ukrainoje, apmokėjimas | D29: 1 | E29: Priemonės koordinavimas | F29: Socialinės paramos skyrius | G29: SBVB | H29: 0.8 | I29: 0.8 | J29: Funkcijos vykdymo užtikrinimas, proc | K29: 100 | L29: 100 | M29: Teikta parama pagal poreikį, pagal teisės aktų nuostatas
B30: 003-01-01-18 (TP) | C30: Projekto „Pabėgėlių iš Ukrainos priėmimas ir ankstyva integracija "įgyvendinimas | D30: 1 | E30: Projekto veiklų koordinavimas | F30: Vyr. specialistas (nevyriausybinių organizacijų koordinatorius), Socialinės paramos skyrius | G30: ES | H30: 10 | I30: 9.8 | J30: Vykdomų integracijos veiklų / įgyvendinimo proc. | K30: 10/100 | L30: 10/100 | M30: Visos suplanuotos projekto, finansuoto iš Prieglobsčio, Migracijos ir integracijos fondo priemonės „Pagalba ekstremaliosios situacijos atveju” lėšų, veiklos įgyvendintos 100 proc. Per visą projekto įgyvendinimo laikotarpį projekto veiklose dalyvavo 549 tikslinės grupės dalyviai
B31: 003-01-01-20 (TP) | C31: Laikino atokvėpio paslaugai teikti ir administruoti | D31: 1 | E31: Projekto veiklų koordinavimas | F31: Socialinės paramos skyrius | G31: SBVB | H31: 157.3 | I31: 0.5 | J31: Funkcijos vykdymo užtikrinimas, proc. | K31: 100 | L31: 100 | M31: Paslauga pradėta teikti ir finansuoti nuo 2024 m. liepos 1 d. Per šį laikotarpį, laikino atokvėpio paslaugai gauti kreipėsi 1 asmuo
B32: 003-01-01-21 (TP) | C32: Dotacija skirta išlaidoms, patirtoms mokant laidojimo pašalpą Lietuvos Respublikos socialinės paramos mirties atveju įstatymą užsieniečiams, pasitraukusiems iš Ukrainos dėl Rusijos federacijos karinių veiksmų Ukrainoje | D32: 1 | E32: Priemonės koordinavimas | F32: Socialinės paramos skyrius Apskaitos skyrius | G32: SBVB | H32: 0.5 | I32: 0.5 | J32: Funkcijos vykdymo užtikrinimas, proc | K32: 100 | L32: 100 | M32: Teikta parama pagal poreikį, panaudota 0,5 tūkst. Eur
B33: 003-01-02 (T) | C33: Gerinti socialinę aplinką ir didinti socialinės paramos įvairovę | H33: =SUM(H34:H37) -> 264.3 | I33: =SUM(I34:I37) -> 225.8
B34: 003-01-02-02 (TP) | C34: Kainų skirtumo gyventojams už šildymą kompensavimas | D34: 1 | E34: Apmokėjimų užtikrinimas paslaugų teikėjams | F34: Apskaitos skyrius | G34: SB | H34: 85 | I34: 64.6 | J34: Kainų skirtumo už šildymą kompensavimas teisės aktų nustatyta tvarka, proc. | K34: 100 | L34: 100 | M34: Gyventojams kompensuotas kainų skirtumas už šildymą. Lėšos kompensacijoms skiriamos atsižvelgiant į gyventojų gaunamas pajamas, šildymo sezono trukmę
B35: 003-01-02-03 (TP) | C35: Karšto ir šalto vandens pardavimo kainos socialiai remtiniems asmenims kompensavimas | D35: 1 | E35: Koordinavimas, duomenų teikimas paslaugų teikėjams | F35: Socialinės paramos skyrius, Apskaitos skyrius | G35: SB | H35: 155 | I35: 138 | J35: Karšto ir šalto vandens pardavimo kainos kompensavimas teisės aktų nustatyta tvarka, proc. | K35: 100 | L35: 100 | M35: Asmenims kompensuota karšto ir šalto vandens pardavimo kaina
B36: 003-01-02-04 (TP) | C36: Vienkartinė išmoka gimus vaikui Lietuvos Respublikos teritorijoje ir gyvenančiam Kėdainių rajono savivaldybėje | D36: 1 | E36: Išmokų pervedimas | F36: Apskaitos skyrius | G36: SB | H36: 21.3 | I36: 20.2 | J36: Asmenų, gaunančių kompensaciją, skaičius | K36: ~300 | L36: 202 | M36: 202 vaikams, gimusiems Lietuvoje ir gyvenantiems Kėdainių r. savivaldybėje išmokėtos 100 Eur vienkartinės išmokos.
B37: 003-01-02-07 (TP) | C37: Teikti Metų socialinio darbuotojo apdovanojimą | D37: 1 | E37: Metų socialinio darbuotojo konkurso organizavimas | F37: Socialinės paramos skyrius | G37: SB | H37: 3 | I37: 3 | J37: Įteiktas Metų socialinio darbuotojo apdovanojimas | K37: 1 | L37: 1 | M37: Metų socialinio darbuotojo apdovanojimas skirtas Josvainių socialinio ir ugdymo centro direktorės pavaduotojai socialiniams reikalams Jolantai Maruozienei
B38: 003-01-03 (T, P) | C38: Užtikrinti ir gerinti socialines paslaugas, teikiamas institucijose, namuose ir bendruomenėje pagyvenusio ir senyvo amžiaus asmenims | H38: =SUM(H39:H50) -> 1613.4 | I38: =SUM(I39:I50) -> 1697.3
B39: 003-01-03-01 (TP) | C39: Socialinės globos ir akredituotos socialinės priežiūros paslaugų teikiamo finansavimas ne savivaldybės pavaldumo ir nevyriausybinėse organizacijose, paslaugų įsigijimas | D39: 1 | E39: Apmokėjimas už suteiktas paslaugas ne savivaldybės pavaldumo globos įstaigoms | F39: Apskaitos skyrius, Socialinės paramos skyrius | G39: SB | H39: 640 | I39: 762.3 | J39: Tiekėjų, teikiančių paslaugas, skaičius | K39: 20 | L39: 35 | M39: Asmenims, kuriems nustatytas socialinių paslaugų poreikis, socialinę globą teikė 33 teikėjai, socialinės priežiūros paslaugas - 2. Socialinės paslaugos finansuotos pagal socialinių paslaugų teikimo ir finansavimo sutartis. Per 2024 m. 137 asmenims finansuotos socialinės globos ir akredituotos socialinės priežiūros paslaugos ne savivaldybės pavaldumo įstaigose
B40: 003-01-03-02 (TP) | C40: Finansinės paramos šeimynos teikimas | D40: 1 | E40: Priemonės koordinavimas | F40: Socialinės paramos skyrius, Apskaitos skyrius | G40: SB | H40: 5 | I40: 0 | J40: Paramą, gaunančių šeimynų skaičius | K40: 2 | L40: 0 | M40: Poreikio paramai nebuvo iš SB lėšų nebuvo, šeimynos finansuotos tikslinėmis lėšomis
B41: 003-01-03-07 (TP) | C41: Savarankiško gyvenimo namų paslaugų asmenims su sutrikusiu intelektu teikimo programa | D41: 1 | E41: Sutarčių su vykdytojais suderinimas, priemonių koordinavimas ir vykdymo kontrolė | F41: Socialinės paramos skyrius | G41: SB | H41: 105 | I41: 105 | J41: Paslaugas gavusių asmenų skaičius | K41: 21 | L41: 21 | M41: Finansuota VšĮ "Gyvenimo namai sutrikusio intelekto asmenims" programa, įstaiga paslaugas teikė 21 asmeniui
B42: 003-01-03-08 (TP) | C42: Įgyvendinti savarankiško gyvenimo namų paslaugų senyvo amžiaus asmenims teikimo programą | D42: 1 | E42: Sutarčių su vykdytojais suderinimas, priemonių koordinavimas ir vykdymo kontrolė | F42: Socialinės paramos skyrius | G42: SB | H42: 15 | I42: 15 | J42: Paslaugas gavusių asmenų skaičius | K42: 5 | L42: 5 | M42: Finansuota VšĮ "Langakių savarankiško gyvenimo namai" programa, paslaugos teiktos 5 asmenims
B43: 003-01-03-10 (TP) | C43: Socialinės reabilitacijos paslaugų neįgaliesiems bendruomenėje organizavimas | D43: 1 | E43: Projektų konkurso organizavimas, projektų koordinavimas, sutarčių vykdymo kontrolė | F43: Socialinės paramos skyrius | G43: SBVB | H43: 80.7 | I43: 78.9 | J43: Neįgaliųjų, gavusių paslaugas, skaičius | K43: ~180 | L43: 179 | M43: Socialinės reabilitacijos asmenims su negalia bendruomenėje paslaugas teikė 5 organizacijos, kuriose paslaugas gavo 179 asmenys su negalia
...

Sheet 04sport.
G1: PATVIRTINTA
G2: Kėdainių rajono savivaldybės administracijos direktoriaus
G3: 2024 m. kovo 8 d. įsakymu Nr.AD-1- 182
G4: (Kėdainių rajono savivaldybės administracijos direktoriaus
G5: 2024 m. gruodžio d. įsakymo Nr.AD-1- redakcija)
B8: Programos uždavinio, priemonės kodas ir požymis | C8: Uždavinio, priemonės pavadinimas | D8: Veiklos kodas | E8: Veiklos pavadinimas | F8: Atsakingas vykdytojas | G8: Finansavimo šaltinis | H8: Numatomi 2024 m. asignavimai ir kitos lėšos | I8: Panaudoti 2024 m. asignavimai ir kitos lėšos | J8: Vertinimo kriterijai
J9: Pavadinimas | K9: Planuota reikšmė | L9: Pasiekta reikšmė | M9: Komentarai, pastabos, nukrypimų nuo plano priežastys
B11: 04 SPORTO VEIKLOS PLĖTRA
B12: 004-01-01 (T) | C12: Skatinti gyventojų fizinį aktyvumą, vystyti įvairias gyventojų poreikius atitinkančias sporto šakas | H12: =SUM(H13:H16) -> 143.8 | I12: =SUM(I13:I16) -> 141.9
B13: 004-01-01-01 (TP) | C13: Neįgaliųjų ir senjorų fizinio aktyvumo skatinimas, sporto renginių ir sporto treniruočių stovyklų organizavimas | D13: 1 | E13: Sportinės veiklos organizavimas, koordinavimas | F13: Švietimo, kultūros ir sporto skyrius | G13: SB | H13: 12 | I13: 12 | J13: Fizinio aktyvumo ir sporto renginių skaičius / senjorų sporto šakų skaičius / stovyklų skaičius | K13: 6/ 5 | L13: 7/ 6 | M13: Suorganizuotos ir įvykdytos rajoninės tarporganizacinės neįgaliųjų šaškių, bočios, stalo teniso varžybos, paraplegikų spartakiada, žygiai su šiaurietiškomis lazdomis, Kėdainių r. žmonių su fizine negalia komandos dalyvavo Lietuvos žmonių su fizine negalia bočios, stalo teniso, biliardo-pulo, rankų lenkimo čempionatuose, finansuotos 4 sportinės treniruočių stovyklos, kuriose dalyvavo 15 asmenų. Kėdainių r. veteranų komandos dalyvavo Lietuvos senjorų futbolo pirmenybėse ir Lietuvos veteranų krepšinio lygos 70+ gr. čempionate, kuriame iškovojo sidabro medalius. Dalinai finansuotos 2 sporto treniruočių stovyklos, kuriose dalyvavo 28 asmenys.
B14: 004-01-01-02 (TP) | C14: Rajoninių, respublikinių, tarptautinių visų amžiaus grupių aukšto meistriškumo sporto renginių ir aukšto meistriškumo sporto treniruočių stovyklų organizavimas | D14: 1 | E14: Sportinės veiklos organizavimas, koordinavimas | F14: Švietimo, kultūros ir sporto skyrius | G14: SB | H14: 61.5 | I14: 59.6 | J14: Suorganizuotų rajoninių, respublikinių ir tarptautinių sporto renginių skaičius / stovyklų skaičius | K14: 18/5 | L14: 18/8 | M14: Kėdainių r. pirmą kartą įvykdytas Lietuvos automobilių mini ralio čempionato I etapas „Daumantų Rally Kėdainiai“, įvykdytos bėgimo varžybos „Šėta 2024“ ir LBT XI etapas, respublikinės vaikų sportinio ėjimo varžybos „Krakės 2024“ Baltijos galiūnų komandinis čempionatas; surengtos rajono krepšinio, futbolo, šachmatų ir šaškių sprendimo, teniso, stalo teniso asmeninių ir mišrių dvejetų, sportinių šokių, karate, žolės riedulio ir kitų sporto šakų pirmenybės ir taurės varžybos bei kiti renginiai. Pasiruošimui ir dalyvavimui šalies ir tarptautiniuose sporto renginiuose surengta 8 sporto treniruočių stovyklų (29 dalyviai). Kėdainių rajono sportininkai ir komandos šalies pirmenybėse, čempionatuose, tarptautinėse varžybose įvairaus amžiaus grupėse ir atskirose sporto šakose laimėjo 71 medalį
B15: 004-01-01-03 (TP) | C15: Vaikų mokymo plaukti veiklos programa, dalyvaujant projekte „Mokėk plaukti ir saugiau elgtis vandenyje“ | D15: 1 | E15: Sutarčių su vykdytojais suderinimas, priemonių koordinavimas ir vykdymo kontrolė | F15: Švietimo, kultūros ir sporto skyrius | G15: SB | H15: 10.3 | I15: 10.3 | J15: Programoje dalyvaujančių vaikų skaičius / plaukimo pamokų sk. | K15: 300/14 | L15: 300/14 | M15: Organizuotos mokymo plaukti pamokos 2–4 klasių mokiniams. Mokymo plaukti programa finansuojama Lietuvos plaukimo federacijos informacijos ir paslaugų biuro (18 pamokų rudens ciklas) ir savivaldybės (14 pamokų pavasario ciklas) lėšomis. Programoje dalyvavo 5 ugdymo įstaigos
B16: 004-01-01-05 (TP) | C16: Sporto projektų finansavimas | D16: 1 | E16: Sporto projektų konkurso organizavimas, sutarčių su vykdytojais suderinimas, sutarčių vykdymo kontrolė | F16: Švietimo, kultūros ir sporto skyrius | G16: SB | H16: 60 | I16: 60 | J16: Finansuojamų sporto projektų skaičius | K16: 20 | L16: 19 | M16: Rajono nevyriausybinių organizacijų sporto projektų finansavimo konkurso metu finansuota 19 fizinio aktyvumo (10) ir sporto veiklos (9) projektų
B17: 004-01-02 (T) | C17: Finansuoti sporto veiklos programas, skatinti Kėdainių rajono sporto organizacijas, sporto komandas ir sportininkus | H17: =SUM(H18:H26) -> 704 | I17: =SUM(I18:I26) -> 704
B18: 004-01-02-01 (TP) | C18: Kėdainių krepšinio komandos „Nevėžis-Optibet“ klubinio krepšinio vystymo programa | D18: 1 | E18: Sutarčių su vykdytojais suderinimas, priemonių koordinavimas ir vykdymo kontrolė | F18: Švietimo, kultūros ir sporto skyrius | G18: SB | H18: 300 | I18: 300 | J18: Iškovota vieta LKL / KMT turnyre /socialinių veiklų sk. / atviros treniruotės surengimas su komandos krepšininkais | K18: 7-10 /9-12 / 1/1 | L18: 7-10 /5-8 / 18/2 | M18: Finansuota programa. Krepšinio komanda „Nevėžis-Optibet“ 2023/2024 m. LKL čempionate iškovojo 9 vietą, KMT turnyre pateko į II etapą. Vykdyta programa, kurioje dalyvavo 6 rajono mokyklos (47 fizinio ugdymo pamokos), suorganizuoti 2 krepšinio 3x3 turnyrai klubo fanams ir Kėdainių SC auklėtiniams ir kt. socialinės veiklos, surengtos 2 atviros treniruotės.
B19: 004-01-02-02 (TP) | C19: Futbolo komandos Kėdainių „Nevėžis“ klubinio futbolo vystymo programa | D19: 1 | E19: Sutarčių su vykdytojais suderinimas, priemonių koordinavimas ir vykdymo kontrolė | F19: Švietimo, kultūros ir sporto skyrius | G19: SB | H19: 144 | I19: 144 | J19: Iškovota vieta LFF pirmosios lygos pirmenybėse / išugdytų kėdainiečių, atstovaujančių FK „Nevėžis“ suaugusiųjų komandoje sk. | K19: 3-8 / 6 | L19: 6 /7 | M19: Finansuota programa. Iškovota 6 vieta LFF Optibet Pirmosios lygos pirmenybėse, „Nevėžio“ vyrų komandos sudėtį papildė 7 jaunieji futbolininkai iš Kėdainių.
B20: 004-01-02-03 (TP) | C20: Bokso sporto šakos vystymo programa | D20: 1 | E20: Sutarčių su vykdytojais suderinimas, priemonių koordinavimas ir vykdymo kontrolė | F20: Švietimo, kultūros ir sporto skyrius | G20: SB | H20: 25 | I20: 25 | J20: Šalies bokso čempionatuose ir tarptautinėse bokso varžybose iškovotų medalių sk.//paruoštų boksininkų šalies bokso rinktinei sk. | K20: 10/2 | L20: 10/2 | M20: Finansuota programa. Surengta 15 sporto treniruočių stovyklų. Įvairaus amžiaus grupėse šalies ir rajonų čempionatuose (44) bei tarptautinėse varžybose (5) iškovoti 49 medaliai.
B21: 004-01-02-04 (TP) | C21: Kėdainių rajono vaikų ir jaunimo futbolo plėtros programa | D21: 1 | E21: Sutarčių su vykdytojais suderinimas, priemonių koordinavimas ir vykdymo kontrolė | F21: Švietimo, kultūros ir sporto skyrius | G21: SB | H21: 170 | I21: 170 | J21: Sportuojančių vaikų sk./ dalyvaujančių LFF vaikų pirmenybėse komandų sk./FK „Nevėžis“ vyrų komandos papildymas jaunais žaidėjais skaičius | K21: 280/7/6 | L21: 315/10/7 | M21: Finansuota programa. Sportuojančių sk. 315, Lietuvos futbolo federacijos pirmenybių varžybose dalyvavo 10 amžiaus gr., 7 jauni žaidėjai papildė „Nevėžio“ komandą
M22: Už aukšto meistriškumo sporto pasiekimus apdovanoti 35 sportininkai ir 7 treneriai+M30:M39
B23: 004-01-02-05 (TP) | C23: Moterų futbolo komandos Kėdainių „Nevėžis“ programa | D23: 1 | E23: Sutarčių su vykdytojais suderinimas, priemonių koordinavimas ir vykdymo kontrolė | F23: Švietimo, kultūros ir sporto skyrius | G23: SB | H23: 20 | I23: 20 | J23: Lietuvos moterų futbolo asociacijos I lygos pirmenybėse iškovota vieta / rungtynių sk. / komandai atstovaujančių kėdainiečių sk. | K23: 3-7 /10/8 | L23: 6 /14/10 | M23: Finansuota programa. Lietuvos moterų futbolo asociacijos Pirmos lygos pirmenybėse iškovota 6 vieta, sužaista 14 oficialių varžybų. Komandai atstovauja 10 kėdainiečių.
B24: 004-01-02-06 (TP) | C24: Salės futbolo komandos „Kėdainiai United“ klubinio salės futbolo vystymo programa | D24: 1 | E24: Sutarčių su vykdytojais suderinimas, priemonių koordinavimas ir vykdymo kontrolė | F24: Švietimo, kultūros ir sporto skyrius | G24: SB | H24: 20 | I24: 20 | J24: Iškovota vieta čempionate / kėdainiečių futbolininkų patekimas į Lietuvos rinktinės kandidatų sąrašą / kėdainiečių sk. komandoje | K24: 1-8 /1/14 | L24: 8 /1/14 | M24: Finansuota programa. Lietuvos TOPsport čempionate iškovota 8 v., į Lietuvos rinktinės kandidatų sąrašą įtrauktas 1 kėdainietis, „Kėdainiai United“ komandoje žaidžia 14 kėdainiečių
B25: 004-01-02-07 (TP) | C25: Dziudo sporto šakos vystymo programa | D25: 1 | E25: Sutarčių su vykdytojais suderinimas, priemonių koordinavimas ir vykdymo kontrolė | F25: Švietimo, kultūros ir sporto skyrius | G25: SB | H25: 10 | I25: 10 | J25: Čempionatų sk. pagal amžiaus gr. / dalyvautų Lietuvos ir tarptautinės Dziudo varžybų sk. / iškovotų medalių sk. / suorganizuotų turnyrų sk. | K25: 6/12/14/1 | L25: 7/15/37/1 | M25: Finansuota programa. Dalyvauta Lietuvos ir tarptautinėse 15 dziudo varžybose, jose iškovota 37 medaliai, suorganizuotas tarptautinis dziudo turnyras Arimanto Pocevičiaus taurei laimėti (276 dalyviai).
B26: 004-01-02-08 (TP) | C26: Aukšto meistriškumo sportininkų ir jų trenerių paskatinimas už sporto pasiekimus | D26: 1 | E26: Konkurso, apdovanojant aukšto meistriškumo sportininkus ir jų trenerius už sporto pasiekimus, organizavimas | F26: Švietimo, kultūros ir sporto skyrius | G26: SB | H26: 15 | I26: 15 | J26: Apdovanotųjų skaičius | K26: ~30 | L26: 36 | M26: Už pasiektus aukšto meistriškumo sporto laimėjimus Lietuvos suaugusiųjų čempionatuose skirtos 36 premijos sportininkams (28) ir jų treneriams (8), kurie atstovavo Kėdainių rajono savivaldybei Lietuvos ir Europos čempionatuose bei iškovojo nugalėtojų ir prizininkų vardus Lietuvos suaugusiųjų bokso, Lietuvos kultūrizmo ir fitneso, Lietuvos motociklų motokroso ir Enduro kroso, Lietuvos sportinių šokių, Europos jaunių klasikinio štangos spaudimo, Regionų krepšinio lygos bei kituose čempionatuose
B27: 004-01-03 (T) | C27: Užtikrinti efektyvią Kėdainių sporto centro veiklą, vykdyti organizuojamus renginius, didinti sportinės veiklos žinomumą | H27: =SUM(H28:H29) -> 216.1 | I27: =SUM(I28:I29) -> 216.1
B28: 004-01-03-02 (TP) | C28: Kėdainių sporto centro bazių atnaujinimas | D28: 1 | E28: Priemonės koordinavimas | F28: Švietimo, kultūros ir sporto skyrius, Biudžeto ir finansų skyrius | G28: SB | H28: 100 | I28: 100 | J28: Einamaisiais metais numatytų atlikti darbų, proc. | K28: 100 | L28: 100 | M28: Renovuota miesto stadiono vakarinė žiūrovų tribūna, įsigyta natūralios vejos, futbolo stadiono linijų dažymo įranga (J.Basanavičiaus g. 1), įrengta tinklinio aikštelė (J.Basanavičiaus g. 4), J.Basanavičiaus g. 1A atnaujinta išorės stebėjimo sistema, Parko g. 6 suprojektuota ir įrengta pasato rūsio ventiliacija
B29: 004-01-03-03 (TP) | C29: Kėdainių sporto centro saulės fotovoltinė elektrinė iš saulės elektrinių parko įsigijimas | D29: 1 | E29: Projekto, kurį įgyvendina Kėdainių sporto centras kofinansavimo dalies užtikrinimas | F29: Apskaitos skyrius | G29: SB | H29: 116.1 | I29: 116.1 | J29: Įsigyta nutolusi fotovoltinė saulės elektrinė (kW) | K29: 300 | L29: 300 | M29: Dalyvaujant projekte, įsigyta nutolusi fotovoltinė saulės elektrinė 300 kW
B30: 004-01-04 (T) | C30: Atnaujinti ir (arba) plėsti sporto infrastruktūrą, sudarant sąlygas fizinio aktyvumo ugdymui | H30: =SUM(H31:H36) -> 479.2 | I30: =SUM(I31:I36) -> 463.2
