Workbook

Sheet 01 Visuomenės ugdymo
G1: PATVIRTINTA
G2: Kėdainių rajono savivaldybės administracijos direktoriaus
G3: 2026 m. kovo 16 d. įsakymu Nr.AD-1-236
G4: (Kėdainių rajono savivaldybės administracijos direktoriaus
G5: 2026 m. balandžio 30 d. įsakymo Nr.AD-1-412 redakcija)
G6: 2025 m. d. įsakymo Nr.AD-1- redakcija)
A7: KĖDAINIŲ RAJONO SAVIVALDYBĖS ADMINISTRACIJA
A9: 2026 METŲ VEIKLOS PLANAS
B11: Programos uždavinio, priemonės kodas ir požymis | C11: Uždavinio, priemonės pavadinimas, finansavimo šaltiniai | D11: Veiklos kodas | E11: Veiklos pavadinimas | F11: Atsakingas vykdytojas | G11: Finansavimo šaltinis | H11: 2026 m. asignavimai ir kitos lėšos | I11: Vertinimo kriterijai
I12: Pavadinimas | J12: Planas
B14: 01 AKTYVIOS VISUOMENĖS UGDYMAS
B15: 001-01-01 (T) | C15: Sudaryti prielaidas ugdymo kokybei gerinti, mažinti ugdymo kokybės skirtumus tarp mokyklų, užtikrinti STEAM dalykų programų įgyvendinimą bei skaitmeninio ugdymo turinio plėtrą | H15: =SUM(H16:H23) -> 692.4
B16: 001-01-01-01 (TP) | C16: Švietimo programų įgyvendinimas ir tinkamos ugdymo(si) aplinkos užtikrinimas | D16: 1 | E16: Mokinio padėjėjo skyrimo tvarkos aprašo parengimas, komisijos darbo organizavimas | F16: Švietimo, kultūros ir sporto skyrius, Biudžeto ir finansų skyrius | G16: SB | H16: 100 | I16: Švietimo pagalbos užtikrinimas ugdymo įstaigose, proc. | J16: <90
B17: 001-01-01-02 (PP) | C17: „Tūkstantmečio mokyklos I" projekto įgyvendinimas | D17: 1 | E17: Projekte dalyvaujančių mokyklų vykdomų veiklų koordinavimas, informacijos apie įgyvendinamas veiklas, mokėjimo prašymų įgyvendinančioms institucijoms teikimas | F17: Strateginio planavimo ir investicijų skyrius, Švietimo, kultūros ir sporto skyrius, Apskaitos skyrius | G17: SB | H17: 50 | I17: Programoje, dalyvaujančių įstaigų skaičius (tinklaveika) | J17: 15
G18: ES | H18: 5
G19: SBVB | H19: 281.4
B20: 001-01-01-03 (TP) | C20: Pirmoko krepšelio finansavimas | D20: 1 | E20: Pirmoko krepšelioįsigijimo viešojo pirkimo organizavimas | F20: Bendrasis skyrius | G20: SB | H20: 15 | I20: Pirmoko krepšelį gaunančiųjų skaičius | J20: ~400
B21: 001-01-01-04 (TP, PP) | C21: Švietimo paslaugų kokybės gerinimas, aprūpinant efektyviai veikiančias bendrojo ugdymo mokyklas laboratorine įranga ir priemonėmis | D21: 1 | E21: Biudžeto lėšų skyrimo įsakymo parengimas, priemonės koordinavimas | F21: Švietimo, kultūros ir sporto skyrius | G21: SB | H21: 40 | I21: Bendrojo ugdymo mokyklų (vykdančių vidurinio ar pagrindinio ugdymo programas), turinčių gamtos mokslų laboratorijas/sensorinius kambarius dalis (proc.) | J21: 90/85
D22: 2 | E22: Projekto „Ugdymo priemonės mokykloms“ koordinavimas | G22: ES | H22: 80
B23: 002-01-01-05 (TP, PP) | C23: Skaitmeninio ugdymo plėtra | D23: 1 | E23: Biudžeto lėšų skyrimo įsakymo parengimas, priemonės koordinavimas | F23: Švietimo, kultūros ir sporto skyrius | G23: SB | H23: 121 | I23: Įstaigų, plečiančių skaitmeninimą, skaičius | J23: 15
B24: 001-01-02 (T, P) | C24: Užtikrinti neformaliojo ugdymo dermę | H24: =SUM(H25:H28) -> 388.3
B25: 001-01-02-01 (TP) | C25: Neformaliojo vaikų švietimo, socializacijos, prevencijos veiklų programų plėtojimas, vaikų vasaros stovyklų finansavimas | D25: 1 | E25: Programų konkurso organizavimas, konsultacijos, paraiškų ir sutarčių derinimas, veiklų stebėjimas, vertinimas, ataskaitų teikimas | F25: Švietimo, kultūros ir sporto skyrius | G25: SB | H25: 80 | I25: Mokinių, dalyvavusių vasaros stovyklose, dalis (proc.) | J25: 14,6
G26: SBVB | H26: 8.3
B27: 001-01-02-04 (PP) | C27: Projekto „Išmaniųjų akademija" įgyvendinimas (ES projekto „Kauno regiono funkcinės zonos strategija" dalis) | D27: 1 | E27: ES projekto koordinavimas, informacijos apie įgyvendinamas veiklas, mokėjimo prašymų įgyvendinančioms institucijoms teikimas | F27: Strateginio planavimo ir investicijų skyrius, Apskaitos skyrius | G27: SB | H27: 45 | I27: Projekto veiklų įgyvendinimo proc. (iš viso) | J27: 50
D28: 2 | E28: Remonto darbų koordinavimas, rangovo prisiimtų sutartinių įsipareigojimų vykdymo kontrolė | F28: Statybos skyrius | G28: ES | H28: 255
B29: 001-01-03 (T) | C29: Gerinti švietimo pagalbos teikimą, įgyvendinti kokybišką įvairių ugdymosi poreikių turinčių mokinių ugdymą, taikant inovatyvius ugdymo(si) metodus ir būdus | H29: =SUM(H30:H35) -> 1731
B30: 001-01-03-02 (PP) | C30: Projekto „Ugdymo prieinamumo didinimas atskirtį patiriantiems vaikams Kėdainių „Ryto“ ir Kėdainių senamiesčio progimnazijose" įgyvendinimas | D30: 1 | E30: ES projekto koordinavimas, rangos darbų, įrangos, priemonių įsigijimo sutarčių koordinavimas, rangovo / tiekėjų prisiimtų sutartinių įsipareigojimų vykdymo kontrolė | F30: Strateginio planavimo ir investicijų skyrius, Statybos skyrius, Apskaitos skyrius | G30: SB | H30: 195 | I30: Mokyklų, kuriose įdiegiamos universalaus dizaino ir kitos inžinerinės priemonės aplinką pritaikant asmenims, turintiems negalią, skaičius | J30: 2
G31: ES | H31: 1105
B32: 001-01-03-03 (PP) | C32: Projekto „Įvairialypio švietimo plėtojimas Kėdainių „Aušros“ progimnazijoje ir Vilainių mokykloje-darželyje „Obelėlė“, vykdant visos dienos mokyklos veiklą" įgyvendinimas | D32: 1 | E32: ES projekto koordinavimas, rangos darbų, įrangos, priemonių įsigijimo viešųjų pirkimų organizavimas, sutarčių koordinavimas, rangovo / tiekėjų prisiimtų sutartinių įsipareigojimų vykdymo kontrolė | F32: Strateginio planavimo ir investicijų skyrius, Statybos skyrius, Apskaitos skyrius | G32: SB | H32: 25 | I32: Mokinių, kurie naudojasi sukurta visos dienos mokyklos infrastruktūra, skaičius | J32: <900
G33: ES | H33: 138
B34: 001-01-03-04 (PP) | C34: Projekto „Ankstyvojo ugdymo užtikrinimas vaikams iš socialinę riziką patiriančių šeimų“ įgyvendinimas | D34: 1 | E34: ES projekto koordinavimas, informacijos apie įgyvendinamas veiklas, mokėjimo prašymų įgyvendinančioms institucijoms teikimas | F34: Švietimo, kultūros ir sporto skyrius, Apskaitos skyrius | G34: ES | H34: 250 | I34: Į ikimokyklinį ir priešmokyklinį ugdymą įtrauktų vaikų iš socialinę riziką patiriančių šeimų teikiant jiems pagalbą ugdymo procese dalis | J34: 100
G35: SBVB | H35: 18
B36: 001-01-04 (T) | C36: Didinti pedagogų ir mokinių motyvaciją, užtikrinti sveiką, saugią emocinę ir fizinę aplinką ugdymo įstaigose | H36: =SUM(H37:H43) -> 700.9
B37: 001-01-04-01 (TP) | C37: Mokytojų ir švietimo pagalbos specialistų pritraukimas, perkvalifikavimas ir skatinimas | D37: 1 | E37: Programos įgyvendinimo organizavimas, programos įgyvendinimo koordinavimas | F37: Švietimo, kultūros ir sporto skyrius | G37: SB | H37: 120 | I37: Dalykinių olimpiadų ir konkursų prizininkų skaičius, tenkantis 10 tūkst. mokinių | J37: 5.9
B38: 001-01-04-03 (TP) | C38: Gabių mokinių skatinimas | D38: 1 | E38: Mokyklose besimokančių gabių mokinių, per vienerius mokslo metus pasiekusių puikių mokymosi rezultatų, įvertinimo ir paskatinimo organizavimas | F38: Švietimo, kultūros ir sporto skyrius | G38: SB | H38: 30 | I38: Mokinių, kuriems skirti piniginiai prizai, skaičius | J38: ~170
B39: 001-01-04-04 (TP) | C39: Dalyvaujamojo biudžeto iniciatyvų ugdymo įstaigose įgyvendinimas | D39: 1 | E39: Priemonės įgyvendinimo organizavimas | F39: Švietimo, kultūros ir sporto skyrius | G39: SB | H39: 11 | I39: Į dalyvaujamojo biudžeto iniciatyvas įsitraukusiųjų mokyklų skaičius | J39: 11
B40: 001-01-04-06 (TP) | C40: Priklausomybę sukeliančių medžiagų vartojimo mažinimo ir prevencijos programos priemonių įgyvendinimas | D40: 1 | E40: Programos 2026 m. numatytų priemonių įgyvendinimas, organizavimas, koordinavimas | F40: Vyr. specialistas (tarpinstitucinio bendradarbiavimo koordinatorius), patarėja (sveikatos reikalų koordinatorė), patarėja (jaunimo reikalų koordinatorė) | G40: SB | H40: 89.9 | I40: Įgyvendinamų prevencinių priemonių skaičius | J40: 29
B41: 001-01-04-07 (TP) | C41: Vaikų maitinimo ekologiškais ir pagal nacionalinę maisto kokybės sistemą pagamintais produktais organizavimas (dalyvavimas projekte) | D41: 1 | E41: Priemonės įgyvendinimo koordinavimas, finansavimo skyrimo administravimas ( l/d "Žilvitis", l/d "Pasaka", l/d "Vyturėlis") | F41: Švietimo, kultūros ir sporto skyrius, Biudžeto ir finansų skyrius | G41: SB | H41: 30 | I41: Ekologiškai besimaitinančių vaikų skaičius | J41: ~490
B42: 001-01-04-08 (TP) | C42: Maitinimo savarankiškai organizavimas mokyklose | D42: 1 | E42: Priemonės įgyvendinimo koordinavimas, finansavimo skyrimo administravimas (labūnavos pagrindinė mokykla, Spindulio mokykla) | F42: Švietimo, kultūros ir sporto skyrius, Biudžeto ir finansų skyrius | G42: SB | H42: =150+120 -> 270 | I42: Mokyklų, kuriose stiprinamas savarankiškas maitinimas, skaičius | J42: 2
B43: 001-01-04-09 (TP) | C43: Saugių ugdymo sąlygų įstaigose užtikrinimas | D43: 1 | E43: Priemonės įgyvendinimo koordinavimas, finansavimo skyrimo administravimas | F43: Švietimo, kultūros ir sporto skyrius, Biudžeto ir finansų skyrius | G43: SB | H43: 150 | I43: Įstaigų skaičius, kuriose atlikti remonto darbai / įrengti kondicionieriai | J43: 7/10
...

Sheet 02 Socialinės gerovės
B8: Programos uždavinio, priemonės kodas ir požymis | C8: Uždavinio, priemonės pavadinimas, finansavimo šaltiniai | D8: Veiklos kodas | E8: Veiklos pavadinimas | F8: Atsakingas vykdytojas | G8: Finansavimo šaltinis | H8: 2026 m. asignavimai ir kitos lėšos | I8: Vertinimo kriterijai
I9: Pavadinimas | J9: Planas
B11: 02 SOCIALINĖS GEROVĖS UŽTIKRINIMAS
B12: 002-01-01 (T, P) | C12: Sudaryti sąlygas stiprinti gyventojų sveikatą užtikrinant prieinamų, kokybiškų ir integruotų visuomenės sveikatos bei sveikatos priežiūros paslaugų plėtrą, veiklų tęstinumą ir įgyvendinimą | H12: =SUM(H13:H20) -> 1795.5
B13: 002-01-01-01 (TP) | C13: Visuomenės sveikatos rėmimo specialiosios programos priemonių įgyvendinimas | D13: 1 | E13: Programos priemonių sveikatos projektų konkurso organizavimas, sutarčių su vykdytojais parengimas, priemonių įgyvendinimo koordinavimas ir kontrolė; užkrečiamųjų ligų plano priemonių vykdymo kontrolė | F13: Patarėja (sveikatos reikalų koordinatorė) | G13: SB (AA) | H13: 136.2 | I13: Visuomenės sveikatos rėmimo specialiosios programos įgyvendinimas, proc. | J13: 100 | K13: =+H13+H14+H16+H17+H18+H20+H23+H25 -> 2205.5
B14: 002-01-01-03 (PP) | C14: Projekto „Kokybiškų visuomenės sveikatos paslaugų prieinamumo didinimas Kėdainių rajone" įgyvendinimas | D14: 1 | E14: Visuomenės sveikatos biuro įgyvendinamo projekto finansavimo skyrimo administravimas | F14: Patarėja (sveikatos reikalų koordinatorė), Apskaitos skyrius | G14: SB | H14: 35.3 | I14: Asmenų, dalyvavusių sveikatos raštingumo didinimo veiklose, skaičius | J14: ~220 | K14: =+(H16*100)/K13 -> 60.84788
G15: ES | H15: 150
B16: 002-01-01-04 (TP) | C16: Sveikatos priežiūros paslaugų teikimo pajėgumų stiprinimas, užtikrinant paslaugų kokybę, saugą ir prieinamumą | D16: 1 | E16: Sveikatos srities veiklos programų konkurso aprašo parengimas, konkurso organizavimas, sutarčių su vykdytojais suderinimas, sutarčių vykdymo kontrolė, ataskaitų rinkimas | F16: Patarėja (sveikatos reikalų koordinatorė) | G16: SB | H16: 1342 | I16: Sveikatos srities programoms skirtų savivaldybės biudžeto asignavimų nuo bendro sveikatos sričiai skirto finansavimo, dalis (proc.) | J16: ~60
B17: 002-01-01-05 (PP) | C17: Projekto „Sveikatos priežiūros specialistų rengimas, pritraukimas Kėdainių rajono savivaldybėje" įgyvendinimas | D17: 1 | E17: ES projekto, kuris įgyvendinamas su partneriais, koordinavimas, informacijos apie įgyvendinamas veiklas, mokėjimo prašymų įgyvendinančioms institucijoms teikimas | F17: Strateginio planavimo ir investicijų skyrius, Apskaitos skyrius | G17: ES | H17: 100 | I17: Asmenys, dalyvavę kvalifikacijos įgijimo veiklose | J17: 11
G18: SB | H18: 2
G19: SBVB | H19: 15
B20: 002-01-01-06 (TP) | C20: Vaikų, turinčių autizmo spektro ir kitų raidos sutrikimų, sveikatos stiprinimas, galimybių siekti asmeninės pažangos, visaverčio socialinio dalyvavimo prielaidų užtikrinimas | D20: 1 | E20: Veiklos projektų konkurso organizavimas | F20: Socialinės paramos skyrius | G20: SB | H20: 15 | I20: Finansuotų projektų skaičius | J20: 3
B21: 02-01-02 (T, P) | C21: Modernizuoti ir atnaujinti sveikatos priežiūros įstaigų infrastruktūrą sveikatos gerinimo poreikiams | H21: =SUM(H22:H28) -> 1947
B22: 002-01-02-01 (PP) | C22: Projekto „Sveikatos centro sudėtyje teikiamų sveikatos priežiūros paslaugų infrastruktūros modernizavimas Kėdainių rajono savivaldybėje" įgyvendinimas | D22: 1 | E22: ES projekto, kuris įgyvendinamas su partneriais, koordinavimas, informacijos apie įgyvendinamas veiklas, mokėjimo prašymų įgyvendinančioms institucijoms teikimas | F22: Strateginio planavimo ir investicijų skyrius, Apskaitos skyrius | G22: ES | H22: 654 | I22: Projekto veiklų įgyvendinimo proc. (bendras) | J22: 50
G23: SB | H23: 500
D24: 2 | E24: Odontologijos skyriaus remonto darbų koordinavimas, rangovo prisiimtų sutartinių įsipareigojimų vykdymo kontrolė | F24: Statybos skyrius | G24: SBVB | H24: 116
B25: 002-01-02-02 (PP) | C25: Projekto „Ilgalaikės priežiūros paslaugų plėtojimo užtikrinimas" įgyvendinimas | D25: 1 | E25: Projekto koordinavimas, informacijos apie įgyvendinamas veiklas, mokėjimo prašymų įgyvendinančioms institucijoms teikimas | F25: Strateginio planavimo ir investicijų skyrius, Apskaitos skyrius | G25: SB | H25: 75 | I25: Projekto veiklų įgyvendinimo proc. (bendras) | J25: 20
D26: 2 | E26: Rangos darbų priestato statybai viešųjų pirkimų organizavimas, rangovo prisiimtų sutartinių įsipareigojimų vykdymo kontrolė | F26: Statybos skyrius | G26: ES | H26: 425
B27: 002-01-02-03 (TP) | C27: Projekto „Sveikatos centro veiklos modelio diegimas Kėdainių rajono savivaldybėje" įgyvendinimas | D27: 1 | E27: ES projekto, kuris įgyvendinamas su partneriais, koordinavimas, informacijos apie įgyvendinamas veiklas, mokėjimo prašymų įgyvendinančioms institucijoms teikimas | F27: Strateginio planavimo ir investicijų skyrius, Apskaitos skyrius | G27: ES | H27: 150 | I27: Paramą gavusių nacionalinio, regionų ar vietos lygmens viešojo administravimo ar viešąsias paslaugas teikiančių įstaigų skaičius | J27: 3
G28: SBVB | H28: 27
B29: 002-01-03 (T) | C29: Organizuoti Lietuvos Respublikos teisės aktuose numatytos paramos bei paslaugų asmenims ir šeimoms teikimą, skatinti socialinę integraciją | H29: =SUM(H30:H47) -> 29836.9
B30: 002-01-03-01 (TP) | C30: Socialinių išmokų bei kompensacijų (būsto šildymo, šalto bei karšto vandens), paramos mirties atveju teikimas ir administravimas | D30: 1 | E30: Koordinavimas, duomenų suvedimas į programą "Parama" | F30: Socialinės paramos skyrius | G30: SBVB | H30: 487.3 | I30: Asmenų, gaunančių socialinę pašalpą ir kompensacijas, skaičius | J30: ~12250
G31: SB | H31: 3859.5
B32: 002-01-03-02 (TP) | C32: Išlaidų už įsigytus produktus, mokinio reikmenis finansavimas, socialinės paramos mokiniams administravimas | D32: 1 | E32: Koordinavimas, duomenų suvedimas į programą "Parama", informacijos teikimas švietimo įstaigų vadovams | F32: Socialinės paramos skyrius, Švietimo, kultūros ir sporto skyrius | G32: SBVB | H32: 1345.8 | I32: Mokinių, gaunančių nemokamą maitinimą, skaičius | J32: ~2047
I33: Mokinių, gaunančių būtiniausius mokinio reikmenis, skaičius | J33: ~1320
B34: 002-01-03-03 (TP) | C34: Nemokamo socialiai remtinų vaikų maitinimo ikimokyklinėse įstaigose organizavimas | D34: 1 | E34: Informacijos rinkimas, ikimokyklinių įstaigų užmokesčio už vaikų išlaikymą analizė | F34: Socialinės paramos skyrius, Švietimo, kultūros ir sporto skyrius | G34: SB | H34: 110 | I34: Vaikų, gaunančių nemokamą maitinimą, skaičius | J34: ~450
B35: 002-01-03-04 (TP) | C35: Nemokamo mokinių maitinimo kainos bendrojo ugdymo mokyklose kompensavimas | D35: 1 | E35: Koordinavimas, duomenų rinkimas, apmokėjimas maitinimo paslaugų teikėjams bei įstaigoms | F35: Socialinės paramos skyrius, Apskaitos skyrius | G35: SB | H35: 275.3 | I35: Mokinių, gaunančių nemokamą maitinimą, skaičius | J35: ~2047
B36: 002-01-03-05 (TP) | C36: Kelionės išlaidų už lengvatinį keleivių vežimą kompensavimas | D36: 1 | E36: Duomenų ir pateisinamųjų dokumentų iš vežėjų ir įstaigų rinkimas, sisteminimas, analizė ir teikimas Apskaitos bei Biudžeto ir finansų skyriams | F36: Turto valdymo skyrius, Biudžeto ir finansų skyrius | G36: SB | H36: 835 | I36: Parduotų su nuolaida bilietų skaičius (tūkst.) | J36: ~1000
B37: 002-01-03-06 (TP) | C37: Lietuvos Respublikos piniginės socialinės paramos nepasiturintiems gyventojams įstatymo įgyvendinimo užtikrinimas | D37: 1 | E37: Priemonės koordinavimas | F37: Socialinės paramos skyrius, Apskaitos skyrius | G37: SBVB | H37: 0 | I37: Paramos teikimo nepasiturintiems asmenims užtikrinimas, proc. | J37: 100
B38: 002-01-03-07 (TP) | C38: Kompensacijų nepriklausomybės gynėjams mokėjimas bei išmokų ginkluoto pasipriešinimo dalyviams apmokėjimas | D38: 1 | E38: Numatytų išmokų pervedimo užtikrinimas | F38: Socialinės paramos skyrius, Apskaitos skyrius | G38: SBVB | H38: 7.7 | I38: Asmenų, gavusių kompensacijas, skaičius | J38: 13
B39: 002-01-03-08 (TP) | C39: Būsto nuomos ar išperkamosios būsto nuomos mokesčių dalies kompensavimas | D39: 1 | E39: Asmenų konsultavimas, prašymų priėmimas, sąrašų sudarymas, duomenų vedimas į SPIS programą | F39: Socialinės paramos skyrius | G39: SBVB | H39: 39 | I39: Asmenų, gavusių būsto nuomos ar išperkamosios būsto nuomos mokesčių dalies kompensaciją, skaičius iš bendro asmenų, turinčių teisę į paramą būstui išsinuomoti ir įrašytų į sąrašus, skaičiaus, proc. | J39: 100
B40: 002-01-03-09 (TP) | C40: Individualios pagalbos teikimo išlaidų kompensacijų teikimas ir administravimas | D40: 1 | E40: Koordinavimas, Duomenų suvedimas į programą "Parama", išmokų mokėjimas | F40: Socialinės paramos skyrius, Apskaitos skyrius | G40: SBVB | H40: 6405.5 | I40: Asmenų, gaunančių individualios pagalbos teikimo išlaidų kompensacijas, skaičius | J40: ~2300
G41: SBVB | H41: 0
B42: 002-01-03-10 (TP) | C42: Išmokų vaikams teikimas ir administravimas | D42: 1 | E42: Koordinavimas, Duomenų suvedimas į programą "Parama", išmokų mokėjimas | F42: Socialinės paramos skyrius, Apskaitos skyrius | G42: SBVB | H42: 16333.7 | I42: Asmenų, gaunančių išmokas vaikams, skaičius | J42: ~8100
B43: 002-01-03-11 (TP) | C43: Neveiksniais pripažintų asmenų būklės peržiūrėjimas | D43: 1 | E43: Neveiksniais pripažintų asmenų būklės peržiūrėjimo organizavimas | F43: Socialinės paramos skyrius | G43: SBVB | H43: 1 | I43: Asmenų, kurių neveiksnumas peržiūrėtas, skaičius | J43: 74
B44: 002-01-03-12 (TP) | C44: Lietuvos Respublikos teisės aktuose numatytos paramos teikimas užsieniečiams, pasitraukusiems iš Ukrainos dėl Rusijos Federacijos karinių veiksmų Ukrainoje | D44: 1 | E44: Priemonės koordinavimas | F44: Socialinės paramos skyrius, Apskaitos skyrius | G44: SBVB | H44: 0 | I44: Numatytos paramos teikimas pagal teisės aktus, proc.
B45: 002-01-03-13 (TP) | C45: Užsienio kilmės Lietuvos gyventojų integracijos koordinavimas | D45: 1 | E45: Užsienio kilmės Lietuvos gyventojų integracijos procesų koordinavimas | F45: Socialinės paramos skyrius | G45: ES | H45: 32 | I45: Koordinatoriaus funkcijų vykdymas, proc. | J45: 100
B46: 002-01-03-14 (PP) | C46: Projekto „ Integracijos tiltai: Paslaugų teikimas užsienio kilmės Lietuvos gyventojams Kėdainių rajone" įgyvendinimas | D46: 1 | E46: Užsienio kilmės Lietuvos gyventojų integracijos procesų koordinavimas | F46: Socialinės paramos skyrius, Apskaitos skyrius | G46: ES | H46: 32 | I46: Teikiamų kompleksinių integracijos paslaugų skaičius | J46: 139
B47: 002-01-03-15 (TP) | C47: Kėdainių rajono savivaldybės užimtumo didinimo programos įgyvendinimas | D47: 1 | E47: Užimtumo didinimo programą, skirtą užimtumo skatinimo ir motyvavimo paslaugų nedirbantiems ir socialinę paramą gaunantiems asmenims modeliui įgyvendint | F47: Socialinės paramos skyrius | G47: SBVB | H47: 73.1 | I47: Pasibaigus užimtumo didinimo programoms po 6 mėnesių dirbs arba vykdys savarankišką veiklą asmenų dalis iš užimtumo didinimo programų dalyvių skaičiaus (procentai) | J47: 15
B48: 002-01-04 (T) | C48: Gerinti socialinę aplinką ir didinti socialinės paramos įvairovę | H48: =SUM(H49:H54) -> 817.5
...

Sheet 03 Darnios aplinkos
B8: Programos uždavinio, priemonės kodas ir požymis | C8: Uždavinio, priemonės pavadinimas, finansavimo šaltiniai | D8: Veiklos kodas | E8: Veiklos pavadinimas | F8: Atsakingas vykdytojas | G8: Finansavimo šaltinis | H8: 2026 m. asignavimai ir kitos lėšos | I8: Vertinimo kriterijai
I9: Pavadinimas | J9: Planas
B11: 03 DARNI APLINKA IR INFRASTRUKTŪROS PLĖTRA
B12: 003-01-01 (T) | C12: Remti ir vykdyti aplinkos kokybės gerinimo, aplinkos monitoringo ir kitas aplinkos apsaugos iniciatyvas | H12: =SUM(H13:H23) -> 257.6
B13: 003-01-01-01 (TP) | C13: Aplinkos kokybės gerinimas ir apsauga, visuomenės aplinkosauginis švietimas | D13: 1 | E13: Sosnovskio barščio naikinimo rajono seniūnijose koordinavimas | F13: Aplinkosaugos skyrius | G13: SB (AA) | H13: 146.9 | I13: Invazinių augalų ugaviečių skaičiaus sumažėjimas Kėdainių r. sav., proc. | J13: 20 | K13: =+H13+H21+H22+H23+H31+H37 -> 494.1
D14: 2 | E14: Nevėžio, Dotnuvėlės upių, kitų telkinių pakrančių valymo darbų koordinavimas | G14: SBVB | H14: 0
D15: 3 | E15: Saugomų teritorijų apsaugos ir tvarkymo darbų koordinavimas
D16: 4 | E16: Jūrinių erelių perimviečių stebėjimo užtikrinimas, varninių paukščių gausos reguliavimas
D17: 5 | E17: Gelbėjimo ir cheminių avarijų padarinių likvidavimo ir priemonių finansavimo užtikrinimas
D18: 6 | E18: Visuomenės aplinkosauginio švietimo organizavimas
B21: 003-01-01-02 (TP) | C21: Aplinkos monitoringas, oro, dirvožemio, požeminio ir paviršinio vandens nuotekų tyrimai | D21: 1 | E21: Aplinkos monitoringo programos paslaugų įgyvendinimo koordinavimas | F21: Aplinkosaugos skyrius | G21: SB (AA) | H21: 17 | I21: Pagal patvirtintą aplinkos monitoringo programą per pusmetį nustatytų teršalų koncentracijų verčių viršijimų dalis nuo visų atliktų tyrimų, proc. | J21: ne daugiau 5
B22: 003-01-01-03 (TP) | C22: Prevencinių priemonių, kuriomis siekiama išvengti medžiojamųjų gyvūnų daromos žalos miškui, įgyvendinimas | D22: 1 | E22: Medžioklės klausimų koordinavimas, dalyvavimas finansinės paramos medžiojamųjų gyvūnų daromos žalos prevencijos priemonėms įgyvendinti komisijoje | F22: Aplinkosaugos skyrius | G22: SB (AA) | H22: 63.7 | I22: Per metus registruotų gyvūnų daromos žalos incidentų skaičiaus sumažėjimas, proc. | J22: 15
B23: 003-01-01-04 (TP) | C23: Individualių nuotekų valymo įrenginių kompensavimas gyventojams | D23: 1 | E23: Priemonės koordinavimas ir viešinimas | F23: Aplinkosaugos skyrius | G23: SB (AA) | H23: 30 | I23: Per metus patenkintų prašymų dalis, proc., nuo gautų prašymų skaičiaus | J23: daugiau nei 90
B24: 003-01-02 (T) | C24: Tobulinti atliekų tvarkymo bei aplinkos išsaugojimo sistemą, užtikrinti estetišką aplinką | H24: =SUM(H25:H32) -> 3392.1
B25: 003-01-02-01 (TP) | C25: Atliekų tvarkymo sistemos organizavimas | D25: 1 | E25: Priemonės įgyvendinimo koordinavimas | F25: Aplinkosaugos skyrius, Apskaitos skyrius | G25: SB | H25: 2481.9 | I25: Gautų skundų dėl nesklandaus komunalinių atliekų tvarkymo sistemos veikimo, skaičiaus mažėjimas (kasmet), proc. | J25: 5
D26: 2 | E26: Susidariusių atliekų tvarkymas, vartų mokesčio mokėjimas | F26: Apskaitos skyrius | G26: SB | H26: 450
D27: 3 | E27: Suteiktų lengvatų už vietinę rinkliavą už komunalinių atliekų surinkimą kompensavimas | F27: Apskaitos skyrius
B28: 003-01-02-02 (PP) | C28: Projekto „Rūšiuojamojo atliekų surinkimo skatinimas Kėdainių rajono savivaldybėje“ įgyvendinimas | D28: 1 | E28: ES projekto paraiškos, techninės dokumentacijos rengimui reikalingos informacijos teikimas Kauno RAC | F28: Aplinkosaugos skyrius, Strateginio planavimo ir investicijų skyrius | G28: SB | H28: 10 | I28: Techninės dokumentacijos parengimas | J28: 1
G29: ES | H29: 60
B30: 003-01-02-03 (TP) | C30: Susidariusių atliekų surinkimas, transportavimas, tvarkymas, konteinerių, kompostavimo dėžių įsigijimas | D30: 1 | E30: Konteinerių, kompostavimo dėžių įsigijimo viešųjų pirkimų organizavimas, tiekėjų prisiimtų sutartinių įsipareigojimų vykdymo kontrolė | F30: Aplinkosaugos skyrius | G30: SB | H30: 264.2 | I30: Komunalinių atliekų tvarkymo sistemos įgyvendinimas pagal Kėdainių r. sav. atliekų prevencijos ir tvarkymo 2021-2027 m. planą, proc. | J30: 90
D31: 2 | E31: Atliekų, kurių turėtojo nustatyti neįmanoma arba kuris nebeegzistuoja, tvarkymo priemonių organizavimas ir vykdymas | G31: SB (AA) | H31: 126
G32: SBVB
B33: 003-01-03 (T) | C33: Prižiūrėti, tvarkyti savivaldybės viešąsias teritorijas, gerinti kraštovaizdžio apsaugą, didinti jo patrauklumą | H33: =SUM(H34:H40) -> 750.7
B35: 003-01-03-03 (TP) | C35: Bešeimininkių ir bepriežiūrių gyvūnų surinkimas, karantinavimas, priežiūra | D35: 1 | E35: konkurso organizavimas, sudarytų sutarčių su paslaugų vykdytojais koordinavimas | F35: Aplinkosaugos skyrius | G35: SB | H35: 26.7 | I35: Suteikta laikina globa bešeimininkiams gyvūnams, proc. | J35: 100
B36: 003-01-02-04 (TP) | C36: Apleistų (bešeimininkių ar savivaldybei nuosavybės teise priklausančių) pastatų ar kitų aplinką žalojančių objektų likvidavimas | D36: 1 | E36: Griovimo techninių projektų viešųjų pirkimų organizavimas, paslaugų teikėjo prisiimtų sutartinių įsipareigojimų vykdymo kontrolė | F36: Turto valdymo skyrius, Biudžeto ir finansų skyrius | G36: SB | H36: 50 | I36: Griovimo techninių projektų apleistiems objektams likviduoti parengimas | J36: 3
B37: 003-01-03-05 (TP) | C37: Želdynų ir želdinių apsauga, tvarkymas, būklės stebėsena, gėlynų kūrimas | D37: 1 | E37: Želdinių priežiūros, naujų želdinių įveisimo organizavimas ir koordinavimas, bendradarbiavimas su seniūnijomis | F37: Aplinkosaugos skyrius | G37: SB (AA) | H37: 110.5 | I37: Seniūnijų skaičius, kuriose įgyvendinamos želdynų ir želdinių apsaugos, tvarkymo, būklės stebėsenos, želdynų kūrimo, želdinių veisimo ir inventorizavimo priemonės | J37: 11
D38: 2 | E38: Miesto gėlynų, gėlinių ir dekoratyvinių krūmų priežiūros ir apželdinimo organizavimas ir koordinavimas | G38: SB | H38: 163.5
B39: 003-01-03-06 (PP) | C39: Projekto „Žaliosios infrastruktūros Kėdainių miesto urbanizuotoje aplinkoje plėtojimas“ įgyvendinimas | D39: 1 | E39: ES projekto koordinavimas, informacijos apie įgyvendinamas veiklas, mokėjimo prašymų įgyvendinančioms institucijoms teikimas | F39: Strateginio planavimo ir investicijų skyrius, Statybos skyrius | G39: SB | H39: 60 | I39: Tvarkomų erdvių skaičius, vnt. | J39: 4
D40: 2 | E40: Rangos darbų viešųjų pirkimų organizavimas, rangovo prisiimtų sutartinių įsipareigojimų vykdymo kontrolė | G40: ES | H40: 340
B41: 003-01-04 (T) | C41: Rengti, atnaujinti teritorijų planavimo ir kitus dokumentus, sudarant sąlygas darniai infrastruktūros plėtrai | H41: =SUM(H42:H44) -> 257.54
B42: 003-01-04-01 (TP) | C42: Dokumentų, padedančių užtikrinti darnią rajono savivaldybės teritorijų plėtrą, rengimas | D42: 1 | E42: Specialiųjų, detaliųjų, geodezinių planų rengimo viešųjų pirkimų organizavimas, teikiamų paslaugų koordinavimas, paslaugų teikėjų prisiimtų sutartinių įsipareigojimų vykdymo kontrolė | F42: Architektūros ir urbanistikos skyrius | G42: SB | H42: 110 | I42: Parengtų teritorijų planavimo dokumentų (specialiųjų, detaliųjų, bendrųjų, geodezinių, žemės sklypų formavimo ir pertvarkymo, kadastrinių matavimų ir kt.) skaičius | J42: ~40
B43: 003-01-04-02 (TP) | C43: Investicinių projektų, planų, paraiškų, kitos techninės dokumentacijos rengimas paramai gauti | D43: 1 | E43: Projektinių pasiūlymų, paraiškų ir kitos dokumentacijos parengimo organizavimas ir kontrolė | F43: Strateginio planavimo ir investicijų skyrius | G43: SB | H43: 70 | I43: Parengtos dokumentacijos skaičius | J43: pagal poreikį
B44: 003-01-04-03 (TP) | C44: Išmokos pagal savivaldybės infrastruktūros plėtros sutartis (SĮP) | D44: 1 | E44: Priemonės koordinavimas, išmokų pagal sudarytas sutartis užtikrinimas | F44: Architektūros ir urbanistikos skyrius | G44: SB | H44: 77.54 | I44: Infrastruktūros plėtros sutarčių, pagal kurias išmokėtos išmokos, skaičius, vnt. | J44: pagal subjektų prašymus
B45: 003-01-05 (T) | C45: Užtikrinti inžinerinio aprūpinimo (vandentiekio, nuotekų tinklų ir kt.) sistemų atnaujinimą ir plėtrą | H45: =SUM(H46:H52) -> 1575
B46: 003-01-05-01 (PP) | C46: Projekto „Geriamojo vandens tiekimo ir nuotekų tvarkymo paslaugų prieinamumo didinimas Kėdainių rajone“ įgyvendinimas | D46: 1 | E46: Projekto, kurį įgyvendina UAB „Kėdainių vandenys“, kofinansavimo dalies užtikrinimas | F46: Apskaitos skyrius | G46: SK | H46: 1000 | I46: Įgyvendinta projekto veiklų, proc. (iš viso) | J46: 30
B47: 003-01-05-02 (TP) | C47: Vandentiekio, nuotekų tinklų rekonstrukcija ir plėtra mieste | D47: 1 | E47: Rangos darbų (pagal poreikį) viešojo pirkimo organizavimas, rangos darbų koordinavimas, rangovo prisiimtų sutartinių įsipareigojimų vykdymo kontrolė | F47: Statybos skyrius, Biudžeto ir finansų skyrius | G47: SB | H47: 20 | I47: Paklota vandentiekio ir nuotekų tinklų, m | J47: ~300
B49: 003-01-05-03 (TP) | C49: Geriamojo vandens tiekimo ir buitinių nuotekų tvarkymo infrastruktūros plėtros ir/ar rekonstrukcijos kaimiškosiose gyvenvietėse techninės dokumentacijos rengimas | D49: 1 | E49: Techninės dokumentacijos dėl Aušros k.vandens ir nuotekų tinklų įrengimo parengimo viešojo pirkimo organizavimas, tiekėjų prisiimtų sutartinių įsipareigojimų vykdymo kontrolė | F49: Statybos skyrius | G49: SB | H49: 30 | I49: Parengtos techninės dokumentacijos skaičius | J49: 1
B50: 003-01-05-04 (TP) | C50: Vandentiekio, nuotekų tinklų rekonstrukcija ir plėtra rajone | D50: 1 | E50: Rangos darbų viešojo pirkimo organizavimas, rangos darbų koordinavimas, rangovo prisiimtų sutartinių įsipareigojimų vykdymo kontrolė (Pelėdnagiai-Paobelys; Gineitų k.) | F50: Statybos skyrius | G50: SB | H50: 400 | I50: Paklota vandentiekio ir nuotekų tinklų, m | J50: ~2940
B51: 003-01-05-05 (TP) | C51: Objektų remontai pagal administracijos direktoriaus įsakymus | D51: 1 | E51: Biudžeto lėšų skyrimo įsakymo parengimas, priemonės koordinavimas | F51: Biudžeto ir finansų skyrius | G51: SB | H51: 95 | I51: Remontuotų objektų skaičius | J51: pagal poreikį
B52: 003-01-05-06 (TP) | C52: Avarinių židinių likvidavimas | D52: 1 | E52: Biudžeto lėšų skyrimo įsakymo parengimas, priemonės koordinavimas | F52: Biudžeto ir finansų skyrius | G52: SB | H52: 30 | I52: Objektų skaičius, kuriuose likviduoti avariniai židiniai | J52: pagal poreikį
...

Sheet 04 Ekonominės plėtros
B9: Programos uždavinio, priemonės kodas ir požymis | C9: Uždavinio, priemonės pavadinimas, finansavimo šaltiniai | D9: Veiklos kodas | E9: Veiklos pavadinimas | F9: Atsakingas vykdytojas | G9: Finansavimo šaltinis | H9: 2026 m. asignavimai ir kitos lėšos | I9: Vertinimo kriterijai
I10: Pavadinimas | J10: Planas
B12: 04 EKONOMINĖ PLĖTRA
B13: 004-01-01 (T, P) | C13: Stiprinti savivaldybės institucijų ir verslo įmonių bendradarbiavimą, sudaryti palankias sąlygas sumanios pramonės ir logistikos srities verslų atsiradimui, plėtrai bei investicijų pritraukimui | H13: =SUM(H14:H17) -> 91.4
B14: 004-01-01-01 (TP) | C14: VšĮ Kėdainių turizmo ir verslo informacijos centro efektyvios veiklos užtikrinimas verslo srityje | D14: 1 | E14: Priemonės įgyvendinimo koordinavimas | F14: Administracijos direktorius | G14: SB | H14: 57.4 | I14: Suteiktų informacinių, konsultacinių paslaugų ūkio subjektams ir asmenims pagal paklausimus skaičius, val. | J14: ~520
B15: 004-01-01-02 (TP) | C15: Finansinės paramos teikimas per Savivaldybės smulkiojo verslo rėmimo fondą | D15: 1 | E15: Priemonės įgyvendinimo koordinavimas | F15: Administracijos direktorius | G15: SB | H15: 30 | I15: Subjektų, kuriems suteikta finansinė parama, skaičius | J15: 12
B16: 004-01-01-03 (PP) | C16: Dalyvavimas projekte "Inkubavimo, konsultavimo, mentorystės ir tinklaveikos programų vystymas, skatinant pradedančiųjų SVV subjektų kūrimąsi ir augimą regionuose" partnerio teisėmis | D16: 1 | E16: Projekto partnerio kofinansavimo dalies užtikrinimas | F16: Apskaitos skyrius | G16: SB | H16: 4 | I16: Projekte dalyvaujančių verslo subjektų skaičius | J16: 10
B17: 004-01-01-04 (PP) | C17: Projekto "Kėdainių miesto viešosios infrastruktūros, svarbios verslui, atnaujinimas ir plėtra "įgyvendinimas | D17: 1 | E17: Elektros tinklų rekonstrukcijos Kėdainių LEZ teritorijoje paraiškos teikimas finansavimui gauti | F17: Strateginio planavimo ir investicijų skyrius | G17: SBVB | I17: Investicijoms gerinamas viešųjų teritorijų plotas, ha (LEZ teritorijos bendras plotas) | J17: 130,5
D18: 2
B19: 004-01-02 (T) | C19: Plėtoti tvarų ir efektyvų žemės ūkį | H19: =SUM(H20:H35) -> 1725
B20: 004-01-02-01 (TP) | C20: Valstybės perduotų savivaldybėms žemės ūkio funkcijų vykdymas, konsultuojant rajono asmenis ūkininkavimo, žemės ūkio technikos registravimo ir kitais su žemės ūkiu susijusiais klausimais | D20: 1 | E20: Žemės ūkio valdų, ūkininkų ūkių įregistravimas, išregistravimas, kasmetinis duomenų atnaujinimas) | F20: Žemės ūkio skyrius | G20: SBVB | H20: 134.2 | I20: Žemės ūkio subjektų pateiktų ir nagrinėjamų prašymų, paraiškų, aptarnaujamos žemės ūkio technikos, įregistruotos rajone ir atliktų techninių apžiūrų skaičius | J20: ~16500
D21: 2 | E21: Paramos už žemės ūkio naudmenas ir kitus plotus bei gyvulius paraiškos pildymas, deklaruojamų laukų įbraižymas, duomenų keitimas, pasikeitusių KŽS ribų aprašymas
D22: 3 | E22: Pagal gautus prašymus pasėliams, miškui padarytos žalos įvertinimas vietoje ir apžiūros aktų surašymas, sprendimų priėmimas, atstovavimas teismuose
D23: 4 | E23: Paraiškų priėmimas, įvertinimas, kompensuojamų sumų apskaičiavimas, duomenų suvedimas į ŽŪMIS ir KOTIS
D24: 5 | E24: Paramos teikimo bičių laikytojams už papildomą bičių maitinimą administravimas
D25: 6 | E25: Pieno pardavimo tiesiogiai vartoti deklaracijų ir kitų dokumentų administravimas
D26: 7 | E26: Žemės ūkio technikos įregistravimas, perregistravimas, išregistravimas, registracijos dokumentų išdavimas, duomenų suvedimas į registrą
D27: 8 | E27: Žemės ūkio technikos techninių apžiūrų atlikimas, duomenų suvedimas, talonų išdavimas
B28: 004-01-02-02 (TP) | C28: Valstybės perduotų savivaldybėm funkcijų vykdymas melioracijos srityje, remontuojant valstybei nuosavybės teise priklausančią melioracijos, hidrotechnikos infrastruktūrą | D28: 1 | E28: Melioracijos statinių priežiūros ir remonto darbų viešųjų pirkimų organizavimas, darbų koordinavimas, rangovo prisiimtų sutartinių įsipareigojimų vykdymo kontrolė | F28: Žemės ūkio skyrius | G28: SBVB | H28: 421.8 | I28: Remontuojamų, prižiūrimų melioracijos griovių ilgis, km | J28: ~35
D29: 2 | E29: Priešprojektiniai tyrinėjimų techninės sąmatinės dokumentacijos sudarymo, ekspertizės viešųjų pirkimų organizavimas, paslaugų teikėjo prisiimtų sutartinių įsipareigojimų vykdymo kontrolė
D30: 3 | E30: Darbų techninė priežiūros koordinavimas, vykdymo kontrolė
B31: 004-01-02-03 (TP) | C31: Gyvenviečių lietaus nuotekų-drenažų sistemų remontas | D31: 1 | E31: Remonto darbų viešųjų pirkimų organizavimas, rangos darbų koordinavimas, rangovo prisiimtų sutartinių įsipareigojimų vykdymo kontrolė | F31: Žemės ūkio skyrius | G31: SB | H31: 40 | I31: Gyvenviečių, kuriose atlikti drenažo remonto darbai, skaičius | J31: 5
B32: 004-01-02-04 (TP) | C32: Hidrotechninių įrenginių atnaujinimui reikalingos techninės dokumentacijos rengimas | D32: 1 | E32: Techninės dokumentacijos rengimo viešųjų pirkimų organizavimas, tiekėjo prisiimtų sutartinių įsipareigojimų vykdymo kontrolė | F32: Žemės ūkio skyrius | G32: SB | H32: 50 | I32: Parengtų projektų skaičius | J32: 8
B33: 004-01-02-07 (TP) | C33: Melioracijos inžinerinių statinių rekonstravimas Nevėžio pabaseinyje - Nevėžio ir Šušvės upių žiotyse | D33: 1 | E33: Remonto darbų viešųjų pirkimų organizavimas, rangos darbų koordinavimas, rangovo prisiimtų sutartinių įsipareigojimų vykdymo kontrolė | F33: Žemės ūkio skyrius | G33: SBVB | H33: 1064 | I33: Rekonstruojamų melioracijos griovių ilgis, km | J33: ~40
B34: 004-01-02-08 (PP) | C34: Valstybei nuosavybės teise priklausančių melioracijos statinių ir (ar) sistemų rekonstravimo ir projektavimo darbų bei apleistų žemės plotų mažinimo priemonių įgyvendinimas | D34: 1 | E34: Paraiškos teikimas finansavimui gauti | F34: Žemės ūkio skyrius, Apskaitos skyrius | G34: SB | H34: 15 | I34: Planuojamas atkurti žemės ūkio naudmenų plotas blogos būklės melioruotoje žemėje, patenkančioje į apleistos žemės plotus, ha | J34: 0.42
B36: 004-01-03 (T) | C36: Plėtoti, atnaujinti viešąją infrastruktūrą, atsižvelgiant į turizmo plėtros ir rekreacijos poreikius | H36: =SUM(H37:H44) -> 676
B37: 004-01-03-01 (PP) | C37: Projekto „Kultūros paveldo ir gamtos objektų pritaikymas lankyti Kėdainių rajono savivaldybėje" įgyvendinimas (ES projekto "Kauno regiono funkcinės zonos strategija" dalis) | D37: 1 | E37: ES projekto koordinavimas, informacijos apie įgyvendinamas veiklas, mokėjimo prašymų įgyvendinančioms institucijoms teikimas | F37: Strateginio planavimo ir investicijų skyrius, Apskaitos skyrius | G37: SB | H37: 10 | I37: Projekto veiklų įgyvendinimo proc. | J37: 5
D38: 2 | E38: Projekto techninės dokumentacijos rengimo viešojo pirkimo organizavimas, tiekėjų prisiimtų įsipareigojimų vykdymas | F38: Statybos skyrius | G38: ES | H38: 60
B39: 004-01-03-02 (TP) | C39: Infrastruktūros miesto parke įrengimas | D39: 1 | E39: Atsiskaitymo už atliktus inžinerinių tinklų ir WC, automobilių stovėjimo aikštelės įrengimo darbus užtikrinimas | F39: Statybos skyrius, Apskaitos skyrius | G39: SB | H39: 26 | I39: Įrengiamų/atnaujinamų/pritaikomų parko elementų (erdvių) | J39: 1
B40: 004-01-03-03 (TP) | C40: Babėnų šilo miškotvarka ir pritaikymas patogiam poilsiui, laisvalaikiui | D40: 1 | E40: Šilo tvarkybos ir pritaikymo visuomenės poreikiams rangos darbų viešojo pirkimo organizavimas, rangovo prisiimtų sutartinių įsipareigojimų vykdymo kontrolė | F40: Statybos skyrius, Architektūros ir urbanistikos skyrius | G40: SB | H40: 500 | I40: Einamaisiais metais atliekamų projekte numatytų darbų proc.(bendras) | J40: 40
B41: 004-01-03-05 (TP) | C41: Patrauklios viešosios erdvės kūrimas Aristavos kaime | D41: 1 | E41: ES projekto koordinavimas, informacijos apie įgyvendinamas veiklas įgyvendinančioms institucijoms teikimas | F41: Strateginio planavimo ir investicijų skyrius, Apskaitos skyrius | G41: SB | H41: 40 | I41: Einamaisiais metais atliekamų projekte numatytų darbų proc.(bendras) | J41: 60
D42: 2 | E42: Rangos darbų viešojo pirkimo organizavimas, rangovo prisiimtų įsipareigojimų vykdymas | F42: Statybos skyrius
B43: 004-01-03-06 (TP) | C43: Patrauklios viešosios erdvės kūrimas Dotnuvos miestelyje | D43: 1 | E43: ES projekto koordinavimas, informacijos apie įgyvendinamas veiklas įgyvendinančioms institucijoms teikimas | F43: Strateginio planavimo ir investicijų skyrius, Apskaitos skyrius | G43: SB | H43: 40 | I43: Einamaisiais metais atliekamų projekte numatytų darbų proc.(bendras) | J43: 40
D44: 2 | E44: Rangos darbų viešojo pirkimo organizavimas, rangovo prisiimtų įsipareigojimų vykdymas | F44: Statybos skyrius
B45: 004-01-04 (T) | C45: Išsaugoti istorinį bei kultūros paveldą, didinti jo patrauklumą ir žinomumą | H45: =SUM(H46:H60) -> 595.2
B46: 004-01-03-01 (TP) | C46: VšĮ Kėdainių turizmo ir verslo informacijos centro efektyvios veiklos užtikrinimas turizmo srityje | D46: 1 | E46: Programos įgyvendinimo koordinavimas | F46: Administracijos direktorius | G46: SB | H46: 192.5 | I46: Turizmo ir verslo informacinio centro lankytojų skaičiaus didėjimas, proc., lyginant su praėjusiais metais | J46: 15
B47: 004-01-04-01 (TP) | C47: Lankytinų objektų ir jų teritorijų, kultūros paveldo objektų ar objektų, esančių kultūros paveldo teritorijų prieigose tvarkybos reikalingos dokumentacijos rengimas, objektų atnaujinimas | D47: 1 | E47: Lietuvos partizanų kapų teritorijų tvarkymo darbų rangovo įsipareigojimų vykdymo kontrolė | F47: Architektūros ir urbanistikos skyrius | G47: SB | H47: 160 | I47: Tvarkomų objektų skaičius | J47: 6
D48: 2 | E48: Apytalaukio Šv. apaštalų Petro ir Povilo bažnyčios tvoros remonto darbų sutarties vykdymo kontrolė
D49: 3 | E49: Juciūnų koplyčios ir varpinės perdažymo darbų sutarties vykdymo kontrolė
D50: 4 | E50: Gelnų koplytėlės darbų sutarties vykdymo kontrolė
...

Sheet 05 Valdymo 
B7: Programos uždavinio, priemonės kodas ir požymis | C7: Uždavinio, priemonės pavadinimas, finansavimo šaltiniai | D7: Veiklos kodas | E7: Veiklos pavadinimas | F7: Atsakingas vykdytojas | G7: Finansavimo šaltinis | H7: 2026 m. asignavimai ir kitos lėšos | I7: Vertinimo kriterijai
I8: Pavadinimas | J8: Planas
L9: =+L11+K11-6657.7 -> #REF!
B10: 05 SAVIVALDYBĖS VALDYMO TOBULINIMAS
B11: 005-01-01 (T) | C11: Sudaryti sąlygas kokybiškai įgyvendinti teisės aktuose nustatytas Savivaldybei funkcijas, mažinant administracinę naštą, įgyvendinant lygias galimybes bei korupcijos prevencijos priemones | H11: =SUM(H12:H25) -> 8368.6 | K11: =+H22+H24+H12+#REF!+#REF! -> #REF! | L11: =6657.7-K11 -> #REF!
B12: 005-01-01-01 (TP) | C12: Savivaldybės tarybos, mero ir jo tarnybos veiklos užtikrinimas | D12: 1 | E12: Tarybos, mero ir jo tarnybos veiklos užtikrinimas pagal nustatytą LR vietos savivaldos įstatymą ir tarybos veiklos reglamentą | F12: Administracijos direktorius, Apskaitos skyrius | G12: SB | H12: 776.8 | I12: Tarybos posėdžių, komitetų transliavimo dažnumas, viešumas ir prieinamumas visuomenei, proc. | J12: 100 | L12: =+H12+H22+H24+#REF!+#REF! -> #REF! | M12: 6719.9 | N12: =+M12-L12 -> #REF!
B13: 005-01-01-03 (TP) | C13: Savivaldybės administracijos veiklos užtikrinimas | D13: 1 | E13: Administracijos skyriams priskirtų funkcijų kokybiško vykdymo, administracinės naštos mažinimo priemonių vykdymo užtikrinimas | F13: Administracijos direktorius, Administracijos struktūriniai padaliniai (skyriai) ir darbuotojai, neįeinantys į struktūrinius padalinius | G13: ĮP | H13: 17.3 | I13: Administracijos pareigybių skaičius vykdantis savivaldybei priskirtas funkcijas / savivaldybės administracijos pareigybių skaičius, tenkantis 1000 rajono gyventojų | J13: 180,05 /3,9
G14: SB | H14: 6843.4 | L14: =+M12-L12 -> #REF!
B15: 005-01-01-04 (TP) | C15: Savivaldybės administracijos administracinės naštos mažinimo plano vykdymas | D15: 1 | E15: Administracijos administracinės naštos mažinimo plano priemonių vykdymo vertinimas, ataskaitų teikimas ir viešinimas | F15: Centralizuoto vidaus audito skyrius | I15: Administracinės naštos mažinimo plano metinis įvykdymo proc. | J15: 100
B16: 005-01-01-05 (TP) | C16: Savivaldybės korupcijos prevencijos veiksmų plano įgyvendinimas | D16: 1 | E16: Administracijoje ruošiamų teisės aktų projektų antikorupcinis vertinimas | F16: Vyr. specialistė (už korupcijai atsparios aplinkos kūrimą atsakingas asmuo) | I16: Korupcijos prevencijos veiksmų plano metinis įvykdymas, proc. | J16: 100
D17: 2 | E17: Priežiūros ir (ar) kontrolės veiklų planavimas, koordinavimas, kontrolė, korupcijos prevencijos viešinimo vykdymas
D18: 3 | E18: 2025-2027 m. Korupcijos prevencijos veiksmų plano įgyvendinimo koordinavimas ir ataskaitos rengimas
B19: 005-01-01-06 (TP) | C19: Lygių galimybių, moterų ir vyrų lygybės politikos įgyvendinimas bei asmens duomenų apsaugos užtikrinimas | D19: 1 | E19: Priemonės įgyvendinimo koordinavimas | F19: Socialinės paramos skyrius, Teisės ir personalo skyrius | I19: Vieta pagal lyčių lygybės stebėsenos savivaldybėse rodiklius (2023 m. -12) | J19: 10-tuke
B20: 005-01-01-07 (TP) | C20: Diasporos politikos įgyvendinimas | D20: 1 | E20: Priemonės įgyvendinimo koordinavimas | F20: Patarėja (jaunimo reikalų koordinatorė) | I20: Diasporos atstovų, prisidedančių prie Kėdainių vardo garsinimo ir ryšių su užsienio lietuviais stiprinimo, skaičius | J20: 3
B21: 005-01-01-08 (TP) | C21: Kėdainių rajono savivaldybės administracijos kokybės vadybos sistemos priežiūra ir atnaujinimas | D21: 1 | E21: Kokybės vadybos sistemos administracinių paslaugų rodiklių priežiūra | F21: Bendrasis skyrius | I21: Kokybės vadybos sistemos administracinių paslaugų rodiklių pasiekimas | J21: 100
B22: 005-01-01-09 (TP) | C22: Savivaldybės žmogiškųjų išteklių kompetencijų stiprinimas | D22: 1 | E22: Kompetencijų stiprinimo organizavimas | F22: Teisės ir personalo skyrius | G22: SB | H22: 46.5 | I22: Savivaldybės administracijos darbuotojų, per metus tobulinusių kvalifikaciją, dalis, proc. | J22: ~90
B23: 005-01-01-10 (TP) | C23: IT sistemų atnaujinimas, priežiūra, kibernetinio saugumo užtikrinimas, kolokacijos paslauga Valstybės duomenų centre, bendradarbiavimas dėl VDV IS, apimant "duomenų ežerą" | D23: 1 | E23: IT įrangos, programų, IS atnaujinimo viešųjų pirkimų organizavimas, įdiegtų programų, IS priežiūra ir plėtros organizavimas | F23: Bendrasis skyrius | G23: SB | H23: 420 | I23: KRSA valdomų ir tvarkomų informacinių sistemų skaičius / visuomenei atvertų duomenų rinkinių skaičius (kaupiamieji vienetai) | J23: 62/20
B24: 005-01-01-11 (TP) | C24: Seniūnaičių veiklos organizavimas | D24: 1 | E24: Seniūnaičių veiklos užtikrinimas (darbo užmokesčio mokėjimas) | F24: Apskaitos skyrius | G24: SB | H24: 33.6 | I24: Seniūnijose išrinktų seniūnaičių skaičius | J24: 70
B25: 005-01-01-12 (TP) | C25: Valstybės perduotų savivaldybei funkcijų kokybiškas įgyvendinimas ir organizavimas | D25: 1 | E25: Gyventojų registro tvarkymas ir duomenų valstybės registrui teikimas | F25: Civilinės metrikacijos ir archyvo skyrius | G25: SBVB | H25: 231 | I25: Vykdomų valstybės deleguotų funkcijų skaičius (bendras) | J25: 26
D26: 2 | E26: Savivaldybei priskirtų archyvinių dokumentų tvarkymas | F26: Civilinės metrikacijos ir archyvo skyrius
D27: 3 | E27: Civilinės būklės aktų registravimas | F27: Civilinės metrikacijos ir archyvo skyrius
D28: 4 | E28: Valstybinės kalbos vartojimo ir taisyklingumo kontrolė | F28: Vyr. specialistė (kalbos tvarkytoja)
D29: 5 | E29: Koordinuotai teikiamų paslaugų vaikams nuo gimimo iki 18 metų (turintiems didelių ir labai didelių specialiųjų ugdymosi poreikių – iki 21 metų) ir vaiko atstovams pagal įstatymą koordinavimas | F29: Vyr. specialistė (tarpinstitucinio bendradarbiavimo koordinatorė)
D30: 6 | E30: Jaunimo politikos įgyvendinimas | F30: Patarėja (jaunimo reikalų koordinatorė)
D31: 7 | E31: Valstybės garantuojamos pirminės teisinės pagalbos teikimas | F31: Teisės ir personalo skyrius
D32: 8 | E32: Duomenų teikimas valstybės suteiktos pagalbos registrui | F32: Biudžeto ir finansų skyrius
D33: 9 | E33: Savivaldybių teritorijoje esančių miestų ir miestelių teritorijų ribose valstybinės žemės, perduotos Lietuvos Respublikos Vyriausybės nutarimu, patikėtinio funkcijos vykdymas | F33: Turto valdymo skyrius
D34: 10 | E34: Erdvinių duomenų rinkinio tvarkymas | F34: Architektūros ir urbanistikos skyrius
B35: 005-01-02 (T) | C35: Užtikrinti finansavimą nenumatytoms išlaidoms dengti bei valdyti prisiimtus finansinius įsipareigojimus | H35: =SUM(H36:H40) -> 2770.6
B36: 005-01-02-01 (TP) | C36: Savivaldybės mero rezervas | D36: 1 | E36: Tikslingas lėšų skyrimas ekstremalioms situacijoms ir arba ekstremaliems įvykiams likviduoti, jų padariniams šalinti, gaisrų ir stichinių nelaimių padariniams likviduoti | F36: Apskaitos skyrius | G36: SB | H36: 170 | I36: Tikslingai panaudoto rezervo dalis, proc. | J36: 100
B37: 005-01-02-02 (TP) | C37: Savivaldybės mero fondas | D37: 1 | E37: Tikslingas lėšų, skirtų Kėdainių rajono savivaldybės mero fondui, panaudojimas | F37: Apskaitos skyrius | G37: SB | H37: 29 | I37: Tikslingai panaudoto fondo dalis, proc. | J37: 100
B38: 005-01-02-03 (TP) | C38: Paskolų grąžinimas, palūkanų ir paskolų aptarnavimo išlaidų apmokėjimas | D38: 1 | E38: Prisiimtų finansinių įsipareigojimų vykdymas pagal nustatytus paskolų grąžinimo grafikus | F38: Biudžeto ir finansų skyrius | G38: SB | H38: 430 | I38: Finansinių įsipareigojimų vykdymo savalaikiškumas, proc. | J38: 100
G39: SB | H39: 75.8
G40: SK | H40: 2065.8
B41: 005-01-03 (T) | C41: Skatinti vietos bendruomenę įsitraukti į vietos valdymą | H41: =SUM(H42:H42) -> 90
B42: 005-01-03-02 (TP) | C42: Visuomenės įtraukimas į planavimo, biudžeto formavimo, konsultavimosi procesus, organizuojant dalyvaujamojo biudžeto iniciatyvų konkursą ir iniciatyvų įgyvendinimą | D42: 1 | E42: 2026 m. gyventojų iniciatyvų, skirtų gyvenamajai aplinkai gerinti, projektų idėjų atrankos konkurso organizavimas ir koordinavimas | F42: Patarėja (jaunimo reikalų koordinatorė) | G42: SB | H42: 90 | I42: Įgyvendinamų gyventojų iniciatyvų skaičius | J42: 3
D43: 2 | E43: "Kėdainių rajono gyventojo mobili aplikacija" iniciatyvos įgyvendinimas (II d.): paslaugų, tiekėjo prisiimtų sutartinių įsipareigojimų vykdymo kontrolė | F43: Bendrasis skyrius
D44: 3 | E44: "KULTŪRŲ KIEMAS – pažink Kėdainių istoriją kitaip" iniciatyvos įgyvendinimas: rangos darbų viešojo pirkimo organizavimas, rangos darbų koordinavimas, rangovo prisiimtų sutartinių įsipareigojimų vykdymo kontrolė | F44: Statybos skyrius
D45: 4 | E45: „Viešosios infrastruktūros sutvarkymas Surviliškio miestelio centre“ iniciatyvos įgyvendinimas: darbų bei įrenginių rengimo viešojo pirkimo organizavimas, darbų koordinavimas, rangovo prisiimtų sutartinių įsipareigojimų vykdymo kontrolė | F45: Statybos skyrius
H46: =+H41+H35+H11 -> 11229.2
...

Sheet Lešų poreikis iš viso
B2: 2026 m. lėšų poreikis (tūkst. Eur)
B3: Eil. Nr. | C3: Programos kodas ir pavadinimas | D3: 2026 m. asignavimai ir kitos lėšos
B4: 01 | C4: Aktyvios visuomenės ugdymo programa | D4: =+'01 Visuomenės ugdymo'!H83 -> 7179.6
B5: 02 | C5: Socialinės gerovės užtikrinimo programa | D5: =+'02 Socialinės gerovės'!H104 -> 41043.7
B6: 03 | C6: Darnios aplinkos ir infrastruktūros plėtros programa | D6: =+'03 Darnios aplinkos'!H73 -> 16162.24
B7: 04 | C7: Ekonominės plėtros programa | D7: =+'04 Ekonominės plėtros'!H61 -> 3087.6
B8: 05 | C8: Savivaldybės valdymo tobulinimo programa | D8: =+'05 Valdymo '!H46 -> 11229.2
C9: IŠ VISO PROGRAMOS ĮGYVENDINTI | D9: =SUM(D4:D8) -> 78702.34
B10: 1. Savivaldybės biudžetas (įskaitant skolintas lėšas) | D10: =+'01 Visuomenės ugdymo'!H85+'02 Socialinės gerovės'!H106+'03 Darnios aplinkos'!H75+'04 Ekonominės plėtros'!H63+'05 Valdymo '!H48 -> 78702.34
B11: Iš jo:
B12: 1.1. savivaldybės biudžeto lėšos (nuosavos, be ankstesnių metų likučio) SB | D12: =+'01 Visuomenės ugdymo'!H87+'02 Socialinės gerovės'!H108+'03 Darnios aplinkos'!H77+'04 Ekonominės plėtros'!H65+'05 Valdymo '!H50 -> 34855.04
B13: 1.2. Lietuvos Respublikos valstybės biudžeto dotacijos SBVB | D13: =+'01 Visuomenės ugdymo'!H88+'02 Socialinės gerovės'!H109+'03 Darnios aplinkos'!H78+'04 Ekonominės plėtros'!H66+'05 Valdymo '!H51 -> 33213.5
B14: 1.3. Pajamų įmokos ir kitos pajamos ĮP | D14: =+'01 Visuomenės ugdymo'!H89+'02 Socialinės gerovės'!H110+'03 Darnios aplinkos'!H79+'04 Ekonominės plėtros'!H67+'05 Valdymo '!H52 -> 17.3
B15: 1.4. Europos Sąjungos ir kitos tarptautinės finansinės paramos lėšos ES | D15: =+'01 Visuomenės ugdymo'!H90+'02 Socialinės gerovės'!H111+'03 Darnios aplinkos'!H80+'04 Ekonominės plėtros'!H68+'05 Valdymo '!H53 -> 6408.5
B16: 1.5. Skolintos lėšos SK | D16: =+'01 Visuomenės ugdymo'!H91+'02 Socialinės gerovės'!H112+'03 Darnios aplinkos'!H81+'04 Ekonominės plėtros'!H69+'05 Valdymo '!H54 -> 4208
B17: 1.6. Ankstesnių metų likučiai SBL | D17: =+'01 Visuomenės ugdymo'!H92+'02 Socialinės gerovės'!H113+'03 Darnios aplinkos'!H82+'04 Ekonominės plėtros'!H70+'05 Valdymo '!H55 -> 0
B18: 2. Kiti šaltiniai (Europos Sąjungos finansinė parama projektams įgyvendinti ir kitos teisėtai gautos lėšos, nurodant atskirus šaltinius) KT | D18: =+'01 Visuomenės ugdymo'!H93+'02 Socialinės gerovės'!H114+'03 Darnios aplinkos'!H83+'04 Ekonominės plėtros'!H71+'05 Valdymo '!H56 -> 0
B19: IŠ VISO programai finansuoti pagal finansavimo šaltinius (1 ir 2 punktai) | D19: =+'01 Visuomenės ugdymo'!H94+'02 Socialinės gerovės'!H115+'03 Darnios aplinkos'!H84+'04 Ekonominės plėtros'!H72+'05 Valdymo '!H57 -> 78702.34
B20: Iš jų: regioninių pažangos priemonių lėšos | D20: =+'01 Visuomenės ugdymo'!H95+'02 Socialinės gerovės'!H116+'03 Darnios aplinkos'!H85+'04 Ekonominės plėtros'!H73+'05 Valdymo '!H58 -> 4357
B21: Asignavimų ir kitų lėšų pokytis, palyginti su ankstesnių metų patvirtintų asignavimų ir kitų lėšų planu
