Workbook

Sheet 01 Visuomenės ugdymo
G1: PATVIRTINTA
G2: Kėdainių rajono savivaldybės administracijos direktoriaus
G3: 2026 m. kovo 16 d. įsakymu Nr.AD-1-236
G4: (Kėdainių rajono savivaldybės administracijos direktoriaus
G5: 2026 m. balandžio 30 d. įsakymo Nr.AD-1-412 redakcija)
G6: 2025 m. d. įsakymo Nr.AD-1- redakcija)
A7: KĖDAINIŲ RAJONO SAVIVALDYBĖS ADMINISTRACIJA
A9: 2026 METŲ VEIKLOS PLANAS
B11: Programos uždavinio, priemonės kodas ir požymis | C11: Uždavinio, priemonės pavadinimas, finansavimo šaltiniai | D11: Veiklos kodas | E11: Veiklos pavadinimas | F11: Atsakingas vykdytojas | G11: Finansavimo šaltinis | H11: 2026 m. asignavimai ir kitos lėšos | I11: Vertinimo kriterijai
I12: Pavadinimas | J12: Planas
B14: 01 AKTYVIOS VISUOMENĖS UGDYMAS
B15: 001-01-01 (T) | C15: Sudaryti prielaidas ugdymo kokybei gerinti, mažinti ugdymo kokybės skirtumus tarp mokyklų, užtikrinti STEAM dalykų programų įgyvendinimą bei skaitmeninio ugdymo turinio plėtrą | H15: =SUM(H16:H23) -> 692.4
B16: 001-01-01-01 (TP) | C16: Švietimo programų įgyvendinimas ir tinkamos ugdymo(si) aplinkos užtikrinimas | D16: 1 | E16: Mokinio padėjėjo skyrimo tvarkos aprašo parengimas, komisijos darbo organizavimas | F16: Švietimo, kultūros ir sporto skyrius, Biudžeto ir finansų skyrius | G16: SB | H16: 100 | I16: Švietimo pagalbos užtikrinimas ugdymo įstaigose, proc. | J16: <90
B17: 001-01-01-02 (PP) | C17: „Tūkstantmečio mokyklos I" projekto įgyvendinimas | D17: 1 | E17: Projekte dalyvaujančių mokyklų vykdomų veiklų koordinavimas, informacijos apie įgyvendinamas veiklas, mokėjimo prašymų įgyvendinančioms institucijoms teikimas | F17: Strateginio planavimo ir investicijų skyrius, Švietimo, kultūros ir sporto skyrius, Apskaitos skyrius | G17: SB | H17: 50 | I17: Programoje, dalyvaujančių įstaigų skaičius (tinklaveika) | J17: 15
G18: ES | H18: 5
G19: SBVB | H19: 281.4
B20: 001-01-01-03 (TP) | C20: Pirmoko krepšelio finansavimas | D20: 1 | E20: Pirmoko krepšelioįsigijimo viešojo pirkimo organizavimas | F20: Bendrasis skyrius | G20: SB | H20: 15 | I20: Pirmoko krepšelį gaunančiųjų skaičius | J20: ~400
B21: 001-01-01-04 (TP, PP) | C21: Švietimo paslaugų kokybės gerinimas, aprūpinant efektyviai veikiančias bendrojo ugdymo mokyklas laboratorine įranga ir priemonėmis | D21: 1 | E21: Biudžeto lėšų skyrimo įsakymo parengimas, priemonės koordinavimas | F21: Švietimo, kultūros ir sporto skyrius | G21: SB | H21: 40 | I21: Bendrojo ugdymo mokyklų (vykdančių vidurinio ar pagrindinio ugdymo programas), turinčių gamtos mokslų laboratorijas/sensorinius kambarius dalis (proc.) | J21: 90/85
D22: 2 | E22: Projekto „Ugdymo priemonės mokykloms“ koordinavimas | G22: ES | H22: 80
B23: 002-01-01-05 (TP, PP) | C23: Skaitmeninio ugdymo plėtra | D23: 1 | E23: Biudžeto lėšų skyrimo įsakymo parengimas, priemonės koordinavimas | F23: Švietimo, kultūros ir sporto skyrius | G23: SB | H23: 121 | I23: Įstaigų, plečiančių skaitmeninimą, skaičius | J23: 15
B24: 001-01-02 (T, P) | C24: Užtikrinti neformaliojo ugdymo dermę | H24: =SUM(H25:H28) -> 388.3
B25: 001-01-02-01 (TP) | C25: Neformaliojo vaikų švietimo, socializacijos, prevencijos veiklų programų plėtojimas, vaikų vasaros stovyklų finansavimas | D25: 1 | E25: Programų konkurso organizavimas, konsultacijos, paraiškų ir sutarčių derinimas, veiklų stebėjimas, vertinimas, ataskaitų teikimas | F25: Švietimo, kultūros ir sporto skyrius | G25: SB | H25: 80 | I25: Mokinių, dalyvavusių vasaros stovyklose, dalis (proc.) | J25: 14,6
G26: SBVB | H26: 8.3
B27: 001-01-02-04 (PP) | C27: Projekto „Išmaniųjų akademija" įgyvendinimas (ES projekto „Kauno regiono funkcinės zonos strategija" dalis) | D27: 1 | E27: ES projekto koordinavimas, informacijos apie įgyvendinamas veiklas, mokėjimo prašymų įgyvendinančioms institucijoms teikimas | F27: Strateginio planavimo ir investicijų skyrius, Apskaitos skyrius | G27: SB | H27: 45 | I27: Projekto veiklų įgyvendinimo proc. (iš viso) | J27: 50
D28: 2 | E28: Remonto darbų koordinavimas, rangovo prisiimtų sutartinių įsipareigojimų vykdymo kontrolė | F28: Statybos skyrius | G28: ES | H28: 255
B29: 001-01-03 (T) | C29: Gerinti švietimo pagalbos teikimą, įgyvendinti kokybišką įvairių ugdymosi poreikių turinčių mokinių ugdymą, taikant inovatyvius ugdymo(si) metodus ir būdus | H29: =SUM(H30:H35) -> 1731
B30: 001-01-03-02 (PP) | C30: Projekto „Ugdymo prieinamumo didinimas atskirtį patiriantiems vaikams Kėdainių „Ryto“ ir Kėdainių senamiesčio progimnazijose" įgyvendinimas | D30: 1 | E30: ES projekto koordinavimas, rangos darbų, įrangos, priemonių įsigijimo sutarčių koordinavimas, rangovo / tiekėjų prisiimtų sutartinių įsipareigojimų vykdymo kontrolė | F30: Strateginio planavimo ir investicijų skyrius, Statybos skyrius, Apskaitos skyrius | G30: SB | H30: 195 | I30: Mokyklų, kuriose įdiegiamos universalaus dizaino ir kitos inžinerinės priemonės aplinką pritaikant asmenims, turintiems negalią, skaičius | J30: 2
G31: ES | H31: 1105
B32: 001-01-03-03 (PP) | C32: Projekto „Įvairialypio švietimo plėtojimas Kėdainių „Aušros“ progimnazijoje ir Vilainių mokykloje-darželyje „Obelėlė“, vykdant visos dienos mokyklos veiklą" įgyvendinimas | D32: 1 | E32: ES projekto koordinavimas, rangos darbų, įrangos, priemonių įsigijimo viešųjų pirkimų organizavimas, sutarčių koordinavimas, rangovo / tiekėjų prisiimtų sutartinių įsipareigojimų vykdymo kontrolė | F32: Strateginio planavimo ir investicijų skyrius, Statybos skyrius, Apskaitos skyrius | G32: SB | H32: 25 | I32: Mokinių, kurie naudojasi sukurta visos dienos mokyklos infrastruktūra, skaičius | J32: <900
G33: ES | H33: 138
B34: 001-01-03-04 (PP) | C34: Projekto „Ankstyvojo ugdymo užtikrinimas vaikams iš socialinę riziką patiriančių šeimų“ įgyvendinimas | D34: 1 | E34: ES projekto koordinavimas, informacijos apie įgyvendinamas veiklas, mokėjimo prašymų įgyvendinančioms institucijoms teikimas | F34: Švietimo, kultūros ir sporto skyrius, Apskaitos skyrius | G34: ES | H34: 250 | I34: Į ikimokyklinį ir priešmokyklinį ugdymą įtrauktų vaikų iš socialinę riziką patiriančių šeimų teikiant jiems pagalbą ugdymo procese dalis | J34: 100
G35: SBVB | H35: 18
B36: 001-01-04 (T) | C36: Didinti pedagogų ir mokinių motyvaciją, užtikrinti sveiką, saugią emocinę ir fizinę aplinką ugdymo įstaigose | H36: =SUM(H37:H43) -> 700.9
B37: 001-01-04-01 (TP) | C37: Mokytojų ir švietimo pagalbos specialistų pritraukimas, perkvalifikavimas ir skatinimas | D37: 1 | E37: Programos įgyvendinimo organizavimas, programos įgyvendinimo koordinavimas | F37: Švietimo, kultūros ir sporto skyrius | G37: SB | H37: 120 | I37: Dalykinių olimpiadų ir konkursų prizininkų skaičius, tenkantis 10 tūkst. mokinių | J37: 5.9
B38: 001-01-04-03 (TP) | C38: Gabių mokinių skatinimas | D38: 1 | E38: Mokyklose besimokančių gabių mokinių, per vienerius mokslo metus pasiekusių puikių mokymosi rezultatų, įvertinimo ir paskatinimo organizavimas | F38: Švietimo, kultūros ir sporto skyrius | G38: SB | H38: 30 | I38: Mokinių, kuriems skirti piniginiai prizai, skaičius | J38: ~170
B39: 001-01-04-04 (TP) | C39: Dalyvaujamojo biudžeto iniciatyvų ugdymo įstaigose įgyvendinimas | D39: 1 | E39: Priemonės įgyvendinimo organizavimas | F39: Švietimo, kultūros ir sporto skyrius | G39: SB | H39: 11 | I39: Į dalyvaujamojo biudžeto iniciatyvas įsitraukusiųjų mokyklų skaičius | J39: 11
B40: 001-01-04-06 (TP) | C40: Priklausomybę sukeliančių medžiagų vartojimo mažinimo ir prevencijos programos priemonių įgyvendinimas | D40: 1 | E40: Programos 2026 m. numatytų priemonių įgyvendinimas, organizavimas, koordinavimas | F40: Vyr. specialistas (tarpinstitucinio bendradarbiavimo koordinatorius), patarėja (sveikatos reikalų koordinatorė), patarėja (jaunimo reikalų koordinatorė) | G40: SB | H40: 89.9 | I40: Įgyvendinamų prevencinių priemonių skaičius | J40: 29
B41: 001-01-04-07 (TP) | C41: Vaikų maitinimo ekologiškais ir pagal nacionalinę maisto kokybės sistemą pagamintais produktais organizavimas (dalyvavimas projekte) | D41: 1 | E41: Priemonės įgyvendinimo koordinavimas, finansavimo skyrimo administravimas ( l/d "Žilvitis", l/d "Pasaka", l/d "Vyturėlis") | F41: Švietimo, kultūros ir sporto skyrius, Biudžeto ir finansų skyrius | G41: SB | H41: 30 | I41: Ekologiškai besimaitinančių vaikų skaičius | J41: ~490
B42: 001-01-04-08 (TP) | C42: Maitinimo savarankiškai organizavimas mokyklose | D42: 1 | E42: Priemonės įgyvendinimo koordinavimas, finansavimo skyrimo administravimas (labūnavos pagrindinė mokykla, Spindulio mokykla) | F42: Švietimo, kultūros ir sporto skyrius, Biudžeto ir finansų skyrius | G42: SB | H42: =150+120 -> 270 | I42: Mokyklų, kuriose stiprinamas savarankiškas maitinimas, skaičius | J42: 2
B43: 001-01-04-09 (TP) | C43: Saugių ugdymo sąlygų įstaigose užtikrinimas | D43: 1 | E43: Priemonės įgyvendinimo koordinavimas, finansavimo skyrimo administravimas | F43: Švietimo, kultūros ir sporto skyrius, Biudžeto ir finansų skyrius | G43: SB | H43: 150 | I43: Įstaigų skaičius, kuriose atlikti remonto darbai / įrengti kondicionieriai | J43: 7/10
B44: 001-01-05 (T) | C44: Vystyti jaunimui palankią aplinką, plėsti ir skatinti įvairias veiklas ir užimtumą, formuojant jaunimo politiką | H44: =+H45+H46+H48 -> 102
B45: 001-01-05-01 (TP) | C45: Jaunimui palankios aplinkos vystymas, skatinant įvairias veiklas, formuojant jaunimo politiką | D45: 1 | E45: Jauunimo dienos renginio organizavimas | F45: Patarėja (jaunimo reikalų koordinatorė) | G45: SB | H45: 25 | I45: Suorganizuotas jaunimo dienos renginys | J45: 1
B46: 001-01-05-02 (TP) | C46: Jaunimo veiklos projektų, programų finansavimas | D46: 1 | E46: Jaunimo veiklos projektų konkurso organizavimas, sutarčių rengimas, ataskaitų rinkimas | F46: Patarėja (jaunimo reikalų koordinatorė) | G46: SB | H46: 42 | I46: Finansuotų projektų, programų skaičius | J46: 10
D47: 2 | E47: Kėdainių rajono savivaldybės jaunimo reikalų tarybos veiklos koordinavimas | F47: Patarėja (jaunimo reikalų koordinatorė) | I47: Suorganizuotų susitikimų, posėdžių jaunimo reikalų klausimais skaičius | J47: 7
B48: 001-01-05-03 (TP) | C48: Jaunimo užimtumo vasarą ir integracijos į darbo rinką programos įgyvendinimas, skatinimas užsiimti savanoriška veikla | D48: 1 | E48: Jaunimo užimtumo vasarą ir integracijos į darbo rinką programos koordinavimas ir viešinimas | F48: Patarėja (jaunimo reikalų koordinatorė) | G48: SB | H48: 35 | I48: Pagal programą įdarbintų 14-21 m. jaunuolių skaičius | J48: 25
D49: 2 | E49: Jaunimo savanoriškos veiklos plėtros konkurso organizavimas | F49: Patarėja (jaunimo reikalų koordinatorė) | I49: Veiklose dalyvaujančių savanorių skaičius | J49: 10
B50: 001-01-06 (T) | C50: Skatinti nevyriausybinių ir bendruomeninių organizacijų plėtrą, didinti jų įtrauktį | H50: =SUM(H51:H55) -> 241
B51: 001-01-06-01 (TP) | C51: Nevyriausybinių organizacijų institucinis stiprinimas bei veiklos plėtojimo projektų finansavimas | D51: 1 | E51: Nevyriausybinių organizacijų veiklos projektų konkurso organizavimas | F51: Vyr. specialistė (nevyriausybinių organizacijų koordinatorė) | G51: SB | H51: 46 | I51: Finansuotų projektų skaičius | J51: 10
D52: 2 | E52: Nevyriausybinių organizacijų forumo ir tarptautinės savanorių dienos paminėjimo organizavimas | I52: Paskatintų iniciatyvų bei suorganizuotų veiklų skaičius | J52: 3
B53: 001-01-06-02 (TP) | C53: Bendruomeninių organizacijų veiklos projektų finansavimas, bendruomeninės veiklos stiprinimas | D53: 1 | E53: Rajono bendruomeninių organizacijų veiklos projektų konkurso organizavimas | F53: Vyr. specialistė (nevyriausybinių organizacijų koordinatorė) | G53: SB | H53: 28 | I53: Finansuotų bendruomeninių organizacijų skaičius/ įgyvendintų projekto veiklų proc. | J53: 27/100
D54: 2 | E54: Nevyriausybinių organizacijų ir bendruomeninės veiklos koordinavimas pagal projektą "Stiprinti bendruomeninę veiklą savivaldybėse" | G54: SBVB | H54: 32 | I54: Įgyvendintų projekto veiklų proc. | J54: 100
B55: 001-01-06-03 (TP) | C55: Miesto bei rajono vietos veiklos grupių plėtros strategijų finansavimas | D55: 1 | E55: Sutarčių su strategijos vykdytojais ir projektų vykdytojais sudarymas, kofinansavimo dalies užtikrinimas | F55: Vyr. specialistė (nevyriausybinių organizacijų koordinatorė), Apskaitos skyrius | G55: SB | H55: 135 | I55: Savivaldybės savo indėliu prisidėjusi prie plėtros strategijos projektų, skaičius | J55: 30
B56: 001-01-07 (T) | C56: Organizuoti kultūros įstaigų veiklą, užtikrinti kultūros paslaugų kokybę ir jų prieinamumą, finansuoti renginius bei kultūrines iniciatyvas | H56: =SUM(H57:H62) -> 341.4
B57: 001-01-07-05 (TP) | C57: Rajono savivaldybės renginių, kultūrinių iniciatyvų finansavimas, etninės kultūros puoselėjimas, mėgėjų meno kolektyvų veiklos stiprinimas | D57: 1 | E57: Rajoninių renginių, konkursų, dalyvavimo regioniniuose ir respublikiniuose renginiuose bei konkursuose koordinavimas ir finansavimas | F57: Švietimo, kultūros ir sporto skyrius | G57: SB | H57: 296.4 | I57: Finansuotų veiklų skaičius | J57: >40
D58: 2 | E58: Kėdainių krašto kultūros premijos konkurso organizavimas | I58: Kultūros premijos laureatų skaičius | J58: 1
D59: 3 | E59: Česlavo Milošo premijos konkurso organizavimas | I59: Kultūros premijos laureatų skaičius | J59: 1
D60: 4 | E60: Dalyvavimas tautinių kostiumų ir instrumentų įsigijimo finansavimo konkurse | I60: Koncertinius kostiumų komplektus/instrumentus atsinaujinusių kolektyvų skaičius | J60: 8
D61: 5 | E61: Tarptautinių kultūros mainų koordinavimas | I61: Organizuotų tarptautinių mainų skaičius | J61: 3
B62: 001-01-07-06 (TP) | C62: Kultūrinių veiklos projektų finansavimas | D62: 1 | E62: Kultūros projektų konkurso organizavimas | F62: Švietimo, kultūros ir sporto skyrius | G62: SB | H62: 45 | I62: Finansuotų projektų skaičius / projektų dalyvių ir lankytojų skaičius | J62: >18 / >4500
B63: 001-01-08 (T) | C63: Skatinti gyventojų fizinį aktyvumą, vystyti įvairias gyventojų poreikius atitinkančias sporto šakas, didinti sportinės veiklos žinomumą | H63: =SUM(H64:H68) -> 455.1
B64: 001-01-08-01 (TP) | C64: Fizinio aktyvumo veiklų skatinimas ir aukšto meistriškumo sporto plėtros užtikrinimas | D64: 1 | E64: Sportinės veiklos organizavimas, koordinavimas | F64: Švietimo, kultūros ir sporto skyrius | G64: SB | H64: 104.8 | I64: Fizinio aktyvumo veiklų dalyvių skaičiaus didėjimas (proc.) / rajone organizuojamų aukšto meistriškumo sporto renginių skaičiaus augimas | J64: ~10
B65: 001-01-08-02 (TP) | C65: Sporto projektų finansavimas | D65: 1 | E65: Sporto projektų konkurso organizavimas, sutarčių su vykdytojais suderinimas, sutarčių vykdymo kontrolė | F65: Švietimo, kultūros ir sporto skyrius | G65: SB | H65: 80 | I65: Sporto projektuose vykdytų veiklų ir unikalių dalyvių skaičiaus didėjimas, proc. | J65: 0,7
B66: 001-01-08-03 (TP) | C66: Dalyvavimas vaikų mokymo plaukti projekte „Mokėk plaukti ir saugiau elgtis vandenyje“ | D66: 1 | E66: Sutarčių su vykdytojais suderinimas, priemonių koordinavimas ir vykdymo kontrolė | F66: Švietimo, kultūros ir sporto skyrius | G66: SB | H66: 10.3 | I66: Išmokytų 1-4 klasių mokinių plaukti skaičius nuo dalyvavusių programoje vaikų skaičiaus, proc. | J66: 100
B67: 001-01-08-05 (TP) | C67: Sporto centro bazių atnaujinimas ir plėtra | D67: 1 | E67: Priemonės koordinavimas, įrengiant padelio aikštelę, atnaujinant krepšinio aikštelę, finansavimo skyrimo administravimas | F67: Švietimo, kultūros ir sporto skyrius, Biudžeto ir finansų skyrius | G67: SB | H67: 100 | I67: Per metus atnaujintų arba naujai įrengtų infrastruktūros objektų skaičius (valdomų sporto centro bazių) | J67: 2
B68: 001-01-08-06 (TP) | C68: Bendruomeninės fizinio aktyvumo infrastruktūros atnaujinimas ir (arba) plėtra | D68: 1 | E68: Poreikio išsiaiškinimas, bendradarbiavimas su Kėdainių miesto seniūnija, atnaujinimo darbų vykdymo kontrolė, Biudžeto lėšų skyrimo įsakymo parengimas | F68: Švietimo, kultūros ir sporto skyrius, Biudžeto ir finansų skyrius | G68: SB | H68: 160 | I68: Atnaujintų/įrengtų vaikų sporto ir žaidimų aikštelių skaičius | J68: 6
B69: 001-01-09 (T) | C69: Finansuoti sporto veiklos programas, skatinti sporto organizacijas, sporto komandas ir sportininkus | H69: =SUM(H70:H71) -> 855
B70: 001-01-09-01 (TP) | C70: Sporto veiklos programų finansavimas | D70: 1 | E70: Sporto veiklos programų konkurso organizavimas, sutarčių su vykdytojais suderinimas, sutarčių vykdymo kontrolė, ataskaitų rinkimas | F70: Švietimo, kultūros ir sporto skyrius | G70: SB | H70: 815 | I70: Prioritetinėms sporto šakoms skirtų savivaldybės biudžeto asignavimų nuo bendro sporto veikloms skirto finansavimo, dalis (proc.) | J70: ~60
B71: 001-01-09-02 (TP) | C71: Aukšto meistriškumo sportininkų ir jų trenerių paskatinimas už sporto pasiekimus | D71: 1 | E71: Konkurso, apdovanojant aukšto meistriškumo sportininkus ir jų trenerius už sporto pasiekimus, organizavimas | F71: Švietimo, kultūros ir sporto skyrius | G71: SB | H71: 40 | I71: Iškovotų medalių šalies ir tarptautinėse aukšto meistriškumo varžybose skaičius | J71: > 70
B72: 001-01-10 (T) | C72: Gerinti ugdymo, kultūros, sporto paskirties viešąją infrastruktūrą, modernizuoti materialinę ir edukacinę aplinką, vadovaujantis universalaus dizaino principais | H72: =SUM(H73:H82) -> 1672.5
B73: 001-01-10-01 (TP) | C73: Šėtos gimnazijos I aukšto patalpų bei gimnazijos aplinkos pritaikymas ikimokyklinio / priešmokyklinio ugdymo organizavimui | D73: 1 | E73: Techninio projekto rengimo koordinavimas, rangos darbų viešojo pirkimo organizavimas, rangos darbų koordinavimas, rangovo prisiimtų sutartinių įsipareigojimų vykdymo kontrolė | F73: Statybos skyrius | G73: SB | H73: 427 | I73: Parengta rekonstrukcijos techninė dokumentacija/atlikta numatytų atnaujinimo ir pritaikymo darbų, proc. | J73: 1/100
B74: 001-01-10-02 (TP) | C74: Šėtos gimnazijos sporto aikštyno atnaujinimas | D74: 1 | E74: Rangos darbų koordinavimas, rangovo prisiimtų sutartinių įsipareigojimų vykdymo kontrolė | F74: Statybos skyrius | G74: SB | H74: 177 | I74: Atlikta numatytų atnaujinimo darbų, proc. / atnaujinta sporto infrastruktūra besinaudojančių asmenų skaičiaus | J74: 100/ >370
B75: 001-01-10-03 (TP) | C75: Bendrojo ir ikimokyklinio ugdymo įstaigų (skyrių) pastatų modernizavimo techninės dokumentacijos rengimas bei pastatų modernizavimas | D75: 1 | E75: Lopšelio-darželio "Aviliukas" pastato kapitalinio remonto techninės dokumentacijos rengimo sutarties vykdymo kontrolė, ekspertizės paslaugų tiekėjo prisiimtų sutartinių įsipareigojimų vykdymo kontrolė | F75: Statybos skyrius | G75: SB | H75: 50 | I75: Parengtų įstaigų pastatų modernizavimo techninės dokumentacijos skaičius, vnt. | J75: 1
B76: 001-01-10-04 (TP) | C76: Sporto infrastruktūrai prie ugdymo įstaigų atnaujinti reikalingos techninės dokumentacijos rengimas ir atnaujinimo darbai | D76: 1 | E76: Josvainių gimnazijos sporto aikštyno atnaujinimui finansavimo skyrimo administravimas | F76: Biudžeto ir finansų skyrius | G76: SB | H76: 20 | I76: Parengtų įstaigų pastatų modernizavimo techninės dokumentacijos skaičius, vnt. | J76: 1
B77: 001-01-10-06 (TP) | C77: Dengto futbolo maniežo investicinio projekto parengimas | D77: 1 | E77: Investicinio projekto rengimo viešojo pirkimo organizavimas, esant paskelbtam finansavimo kvietimui | F77: Strateginio planavimo ir investicijų skyrius | G77: SB | H77: 10 | I77: Parengtų įstaigų pastatų modernizavimo techninės dokumentacijos | J77: 1
B78: 001-01-10-07 (TP) | C78: Kėdainių kultūros centro rekonstrukcija ir įveiklinimas | D78: 1 | E78: Reikalingos įrangos įsigijimo koordinavimas, finansavimo skyrimo administravimas | F78: Švietimo, kultūros ir sporto skyrius, Biudžeto ir finansų skyrius | G78: SB | H78: 161.5 | I78: Įsigyto įrangos komplektas, vnt. | J78: 1
B79: 001-01-10-08 (TP) | C79: Krakių kultūros centro patalpų dalies pritaikymas kultūros reikmėms | D79: 1 | E79: Remonto darbų koordinavimas, rangovo prisiimtų sutartinių įsipareigojimų vykdymo kontrolė | F79: Statybos skyrius | G79: SB | H79: 525 | I79: Atlikta numatytų pritaikymo darbų, proc. (bendras) | J79: 100
B80: 001-01-10-09 (TP) | C80: Kultūros centrų ir jų skyrių, bibliotekos ir jos filialų materialinės, infrastruktūrinės aplinkos atnaujinimas | D80: 1 | E80: Priemonės koordinavimas, įsakymų dėl lėšų skyrimo kultūros centrams įrangos įsigijimui rengimas, finansavimo skyrimo administravimas | F80: Švietimo, kultūros ir sporto skyrius, Biudžeto ir finansų skyrius | G80: SB | H80: 50 | I80: Įstaigų, kurioms gerinama materialinė, infrastruktūrinė aplinka, skaičius | J80: 4
B81: 001-01-10-10 (TP) | C81: Interreg Lietuvos-Lenkijos projekto "SEEHEARACT" kofinansavimas, atnaujinant Kėdainių krašto muziejaus ekspozicijas | D81: 1 | E81: Kėdainių krašto muziejaus vykdomo projekto finansavimo skyrimo administravimas | F81: Biudžeto ir finansų skyrius | G81: SB | H81: 52 | I81: Projekto veiklų įgyvendinimo proc., (bendras) | J81: 45
G82: SB | H82: 200
B83: IŠ VISO | H83: =+H72+H69+H63+H56+H44+H36+H29+H24+H15+H50 -> 7179.6
H84: =+H83-H85 -> 0
C85: 1. Savivaldybės biudžetas (įskaitant skolintas lėšas) | H85: =SUM(H87:H92) -> 7179.6
C86: Iš jo:
C87: 1.1. savivaldybės biudžeto lėšos (nuosavos, be ankstesnių metų likučio) | G87: SB | H87: =+H82+H81+H80+H79+H78+H77+H76+H75+H74+H73+H71+H70+H68+H67+H66+H65+H64+H62+H57+H55+H53+H51+H48+H46+H45+H43+H42+H41+H40+H39+H38+H37+H32+H30+H27+H25+H23+H21+H20+H17+H16 -> 5006.9
C88: 1.2. Lietuvos Respublikos valstybės biudžeto dotacijos | G88: SBVB | H88: =+H54+H35+H26+H19 -> 339.7
C89: 1.3. Pajamų įmokos ir kitos pajamos | G89: ĮP
C90: 1.4. Europos Sąjungos ir kitos tarptautinės finansinės paramos lėšos | G90: ES | H90: =+H18+H22+H28+H31+H33+H34 -> 1833
C91: 1.5. Skolintos lėšos | G91: SK
C92: 1.6. Ankstesnių metų likučiai | G92: SBL
C93: 2. Kiti šaltiniai (Europos Sąjungos finansinė parama projektams įgyvendinti ir kitos teisėtai gautos lėšos, nurodant atskirus šaltinius) | G93: KT
C94: IŠ VISO programai finansuoti pagal finansavimo šaltinius (1 ir 2 punktai) | H94: =+H93+H85 -> 7179.6
C95: Iš jų: regioninių pažangos priemonių lėšos
C96: Asignavimų ir kitų lėšų pokytis, palyginti su ankstesnių metų patvirtintų asignavimų ir kitų lėšų planu
H99: =+#REF!+#REF!+#REF! -> #REF!
H100: =+H34+H33+H31+H28+H22+H18 -> 1833
H101: =+H16+H19+H23+#REF!+#REF!+#REF!+H35+H54+#REF!+#REF!+#REF!+H57+#REF!+#REF! -> #REF!

Sheet 02 Socialinės gerovės
B8: Programos uždavinio, priemonės kodas ir požymis | C8: Uždavinio, priemonės pavadinimas, finansavimo šaltiniai | D8: Veiklos kodas | E8: Veiklos pavadinimas | F8: Atsakingas vykdytojas | G8: Finansavimo šaltinis | H8: 2026 m. asignavimai ir kitos lėšos | I8: Vertinimo kriterijai
I9: Pavadinimas | J9: Planas
B11: 02 SOCIALINĖS GEROVĖS UŽTIKRINIMAS
B12: 002-01-01 (T, P) | C12: Sudaryti sąlygas stiprinti gyventojų sveikatą užtikrinant prieinamų, kokybiškų ir integruotų visuomenės sveikatos bei sveikatos priežiūros paslaugų plėtrą, veiklų tęstinumą ir įgyvendinimą | H12: =SUM(H13:H20) -> 1795.5
B13: 002-01-01-01 (TP) | C13: Visuomenės sveikatos rėmimo specialiosios programos priemonių įgyvendinimas | D13: 1 | E13: Programos priemonių sveikatos projektų konkurso organizavimas, sutarčių su vykdytojais parengimas, priemonių įgyvendinimo koordinavimas ir kontrolė; užkrečiamųjų ligų plano priemonių vykdymo kontrolė | F13: Patarėja (sveikatos reikalų koordinatorė) | G13: SB (AA) | H13: 136.2 | I13: Visuomenės sveikatos rėmimo specialiosios programos įgyvendinimas, proc. | J13: 100 | K13: =+H13+H14+H16+H17+H18+H20+H23+H25 -> 2205.5
B14: 002-01-01-03 (PP) | C14: Projekto „Kokybiškų visuomenės sveikatos paslaugų prieinamumo didinimas Kėdainių rajone" įgyvendinimas | D14: 1 | E14: Visuomenės sveikatos biuro įgyvendinamo projekto finansavimo skyrimo administravimas | F14: Patarėja (sveikatos reikalų koordinatorė), Apskaitos skyrius | G14: SB | H14: 35.3 | I14: Asmenų, dalyvavusių sveikatos raštingumo didinimo veiklose, skaičius | J14: ~220 | K14: =+(H16*100)/K13 -> 60.84788
G15: ES | H15: 150
B16: 002-01-01-04 (TP) | C16: Sveikatos priežiūros paslaugų teikimo pajėgumų stiprinimas, užtikrinant paslaugų kokybę, saugą ir prieinamumą | D16: 1 | E16: Sveikatos srities veiklos programų konkurso aprašo parengimas, konkurso organizavimas, sutarčių su vykdytojais suderinimas, sutarčių vykdymo kontrolė, ataskaitų rinkimas | F16: Patarėja (sveikatos reikalų koordinatorė) | G16: SB | H16: 1342 | I16: Sveikatos srities programoms skirtų savivaldybės biudžeto asignavimų nuo bendro sveikatos sričiai skirto finansavimo, dalis (proc.) | J16: ~60
B17: 002-01-01-05 (PP) | C17: Projekto „Sveikatos priežiūros specialistų rengimas, pritraukimas Kėdainių rajono savivaldybėje" įgyvendinimas | D17: 1 | E17: ES projekto, kuris įgyvendinamas su partneriais, koordinavimas, informacijos apie įgyvendinamas veiklas, mokėjimo prašymų įgyvendinančioms institucijoms teikimas | F17: Strateginio planavimo ir investicijų skyrius, Apskaitos skyrius | G17: ES | H17: 100 | I17: Asmenys, dalyvavę kvalifikacijos įgijimo veiklose | J17: 11
G18: SB | H18: 2
G19: SBVB | H19: 15
B20: 002-01-01-06 (TP) | C20: Vaikų, turinčių autizmo spektro ir kitų raidos sutrikimų, sveikatos stiprinimas, galimybių siekti asmeninės pažangos, visaverčio socialinio dalyvavimo prielaidų užtikrinimas | D20: 1 | E20: Veiklos projektų konkurso organizavimas | F20: Socialinės paramos skyrius | G20: SB | H20: 15 | I20: Finansuotų projektų skaičius | J20: 3
B21: 02-01-02 (T, P) | C21: Modernizuoti ir atnaujinti sveikatos priežiūros įstaigų infrastruktūrą sveikatos gerinimo poreikiams | H21: =SUM(H22:H28) -> 1947
B22: 002-01-02-01 (PP) | C22: Projekto „Sveikatos centro sudėtyje teikiamų sveikatos priežiūros paslaugų infrastruktūros modernizavimas Kėdainių rajono savivaldybėje" įgyvendinimas | D22: 1 | E22: ES projekto, kuris įgyvendinamas su partneriais, koordinavimas, informacijos apie įgyvendinamas veiklas, mokėjimo prašymų įgyvendinančioms institucijoms teikimas | F22: Strateginio planavimo ir investicijų skyrius, Apskaitos skyrius | G22: ES | H22: 654 | I22: Projekto veiklų įgyvendinimo proc. (bendras) | J22: 50
G23: SB | H23: 500
D24: 2 | E24: Odontologijos skyriaus remonto darbų koordinavimas, rangovo prisiimtų sutartinių įsipareigojimų vykdymo kontrolė | F24: Statybos skyrius | G24: SBVB | H24: 116
B25: 002-01-02-02 (PP) | C25: Projekto „Ilgalaikės priežiūros paslaugų plėtojimo užtikrinimas" įgyvendinimas | D25: 1 | E25: Projekto koordinavimas, informacijos apie įgyvendinamas veiklas, mokėjimo prašymų įgyvendinančioms institucijoms teikimas | F25: Strateginio planavimo ir investicijų skyrius, Apskaitos skyrius | G25: SB | H25: 75 | I25: Projekto veiklų įgyvendinimo proc. (bendras) | J25: 20
D26: 2 | E26: Rangos darbų priestato statybai viešųjų pirkimų organizavimas, rangovo prisiimtų sutartinių įsipareigojimų vykdymo kontrolė | F26: Statybos skyrius | G26: ES | H26: 425
B27: 002-01-02-03 (TP) | C27: Projekto „Sveikatos centro veiklos modelio diegimas Kėdainių rajono savivaldybėje" įgyvendinimas | D27: 1 | E27: ES projekto, kuris įgyvendinamas su partneriais, koordinavimas, informacijos apie įgyvendinamas veiklas, mokėjimo prašymų įgyvendinančioms institucijoms teikimas | F27: Strateginio planavimo ir investicijų skyrius, Apskaitos skyrius | G27: ES | H27: 150 | I27: Paramą gavusių nacionalinio, regionų ar vietos lygmens viešojo administravimo ar viešąsias paslaugas teikiančių įstaigų skaičius | J27: 3
G28: SBVB | H28: 27
B29: 002-01-03 (T) | C29: Organizuoti Lietuvos Respublikos teisės aktuose numatytos paramos bei paslaugų asmenims ir šeimoms teikimą, skatinti socialinę integraciją | H29: =SUM(H30:H47) -> 29836.9
B30: 002-01-03-01 (TP) | C30: Socialinių išmokų bei kompensacijų (būsto šildymo, šalto bei karšto vandens), paramos mirties atveju teikimas ir administravimas | D30: 1 | E30: Koordinavimas, duomenų suvedimas į programą "Parama" | F30: Socialinės paramos skyrius | G30: SBVB | H30: 487.3 | I30: Asmenų, gaunančių socialinę pašalpą ir kompensacijas, skaičius | J30: ~12250
G31: SB | H31: 3859.5
B32: 002-01-03-02 (TP) | C32: Išlaidų už įsigytus produktus, mokinio reikmenis finansavimas, socialinės paramos mokiniams administravimas | D32: 1 | E32: Koordinavimas, duomenų suvedimas į programą "Parama", informacijos teikimas švietimo įstaigų vadovams | F32: Socialinės paramos skyrius, Švietimo, kultūros ir sporto skyrius | G32: SBVB | H32: 1345.8 | I32: Mokinių, gaunančių nemokamą maitinimą, skaičius | J32: ~2047
I33: Mokinių, gaunančių būtiniausius mokinio reikmenis, skaičius | J33: ~1320
B34: 002-01-03-03 (TP) | C34: Nemokamo socialiai remtinų vaikų maitinimo ikimokyklinėse įstaigose organizavimas | D34: 1 | E34: Informacijos rinkimas, ikimokyklinių įstaigų užmokesčio už vaikų išlaikymą analizė | F34: Socialinės paramos skyrius, Švietimo, kultūros ir sporto skyrius | G34: SB | H34: 110 | I34: Vaikų, gaunančių nemokamą maitinimą, skaičius | J34: ~450
B35: 002-01-03-04 (TP) | C35: Nemokamo mokinių maitinimo kainos bendrojo ugdymo mokyklose kompensavimas | D35: 1 | E35: Koordinavimas, duomenų rinkimas, apmokėjimas maitinimo paslaugų teikėjams bei įstaigoms | F35: Socialinės paramos skyrius, Apskaitos skyrius | G35: SB | H35: 275.3 | I35: Mokinių, gaunančių nemokamą maitinimą, skaičius | J35: ~2047
B36: 002-01-03-05 (TP) | C36: Kelionės išlaidų už lengvatinį keleivių vežimą kompensavimas | D36: 1 | E36: Duomenų ir pateisinamųjų dokumentų iš vežėjų ir įstaigų rinkimas, sisteminimas, analizė ir teikimas Apskaitos bei Biudžeto ir finansų skyriams | F36: Turto valdymo skyrius, Biudžeto ir finansų skyrius | G36: SB | H36: 835 | I36: Parduotų su nuolaida bilietų skaičius (tūkst.) | J36: ~1000
B37: 002-01-03-06 (TP) | C37: Lietuvos Respublikos piniginės socialinės paramos nepasiturintiems gyventojams įstatymo įgyvendinimo užtikrinimas | D37: 1 | E37: Priemonės koordinavimas | F37: Socialinės paramos skyrius, Apskaitos skyrius | G37: SBVB | H37: 0 | I37: Paramos teikimo nepasiturintiems asmenims užtikrinimas, proc. | J37: 100
B38: 002-01-03-07 (TP) | C38: Kompensacijų nepriklausomybės gynėjams mokėjimas bei išmokų ginkluoto pasipriešinimo dalyviams apmokėjimas | D38: 1 | E38: Numatytų išmokų pervedimo užtikrinimas | F38: Socialinės paramos skyrius, Apskaitos skyrius | G38: SBVB | H38: 7.7 | I38: Asmenų, gavusių kompensacijas, skaičius | J38: 13
B39: 002-01-03-08 (TP) | C39: Būsto nuomos ar išperkamosios būsto nuomos mokesčių dalies kompensavimas | D39: 1 | E39: Asmenų konsultavimas, prašymų priėmimas, sąrašų sudarymas, duomenų vedimas į SPIS programą | F39: Socialinės paramos skyrius | G39: SBVB | H39: 39 | I39: Asmenų, gavusių būsto nuomos ar išperkamosios būsto nuomos mokesčių dalies kompensaciją, skaičius iš bendro asmenų, turinčių teisę į paramą būstui išsinuomoti ir įrašytų į sąrašus, skaičiaus, proc. | J39: 100
B40: 002-01-03-09 (TP) | C40: Individualios pagalbos teikimo išlaidų kompensacijų teikimas ir administravimas | D40: 1 | E40: Koordinavimas, Duomenų suvedimas į programą "Parama", išmokų mokėjimas | F40: Socialinės paramos skyrius, Apskaitos skyrius | G40: SBVB | H40: 6405.5 | I40: Asmenų, gaunančių individualios pagalbos teikimo išlaidų kompensacijas, skaičius | J40: ~2300
G41: SBVB | H41: 0
B42: 002-01-03-10 (TP) | C42: Išmokų vaikams teikimas ir administravimas | D42: 1 | E42: Koordinavimas, Duomenų suvedimas į programą "Parama", išmokų mokėjimas | F42: Socialinės paramos skyrius, Apskaitos skyrius | G42: SBVB | H42: 16333.7 | I42: Asmenų, gaunančių išmokas vaikams, skaičius | J42: ~8100
B43: 002-01-03-11 (TP) | C43: Neveiksniais pripažintų asmenų būklės peržiūrėjimas | D43: 1 | E43: Neveiksniais pripažintų asmenų būklės peržiūrėjimo organizavimas | F43: Socialinės paramos skyrius | G43: SBVB | H43: 1 | I43: Asmenų, kurių neveiksnumas peržiūrėtas, skaičius | J43: 74
B44: 002-01-03-12 (TP) | C44: Lietuvos Respublikos teisės aktuose numatytos paramos teikimas užsieniečiams, pasitraukusiems iš Ukrainos dėl Rusijos Federacijos karinių veiksmų Ukrainoje | D44: 1 | E44: Priemonės koordinavimas | F44: Socialinės paramos skyrius, Apskaitos skyrius | G44: SBVB | H44: 0 | I44: Numatytos paramos teikimas pagal teisės aktus, proc.
B45: 002-01-03-13 (TP) | C45: Užsienio kilmės Lietuvos gyventojų integracijos koordinavimas | D45: 1 | E45: Užsienio kilmės Lietuvos gyventojų integracijos procesų koordinavimas | F45: Socialinės paramos skyrius | G45: ES | H45: 32 | I45: Koordinatoriaus funkcijų vykdymas, proc. | J45: 100
B46: 002-01-03-14 (PP) | C46: Projekto „ Integracijos tiltai: Paslaugų teikimas užsienio kilmės Lietuvos gyventojams Kėdainių rajone" įgyvendinimas | D46: 1 | E46: Užsienio kilmės Lietuvos gyventojų integracijos procesų koordinavimas | F46: Socialinės paramos skyrius, Apskaitos skyrius | G46: ES | H46: 32 | I46: Teikiamų kompleksinių integracijos paslaugų skaičius | J46: 139
B47: 002-01-03-15 (TP) | C47: Kėdainių rajono savivaldybės užimtumo didinimo programos įgyvendinimas | D47: 1 | E47: Užimtumo didinimo programą, skirtą užimtumo skatinimo ir motyvavimo paslaugų nedirbantiems ir socialinę paramą gaunantiems asmenims modeliui įgyvendint | F47: Socialinės paramos skyrius | G47: SBVB | H47: 73.1 | I47: Pasibaigus užimtumo didinimo programoms po 6 mėnesių dirbs arba vykdys savarankišką veiklą asmenų dalis iš užimtumo didinimo programų dalyvių skaičiaus (procentai) | J47: 15
B48: 002-01-04 (T) | C48: Gerinti socialinę aplinką ir didinti socialinės paramos įvairovę | H48: =SUM(H49:H54) -> 817.5
B49: 002-01-04-01 (TP) | C49: Savivaldybės finansinė parama pirmąjį būstą įsigyjančioms jaunoms šeimoms | D49: 1 | E49: Savivaldybės finansinės paramos pirmąjį būstą įsigyjančioms jaunoms šeimoms skyrimo administravimas | F49: Socialinės paramos skyrius | G49: SB | H49: 150 | I49: Patenkintų prašymų, gauti finansinę paramą pirmajam būstui įsigyti, proc. | J49: 100
B50: 002-01-04-02 (TP) | C50: Kainų skirtumo gyventojams už šildymą kompensavimas | D50: 1 | E50: Apmokėjimų užtikrinimas paslaugų teikėjams | F50: Apskaitos skyrius | G50: SB | H50: 70 | I50: Kompensacijų teikimo, jų gavėjams užtikrinimas, proc. | J50: 100
B51: 002-01-04-03 (TP) | C51: Karšto ir šalto vandens pardavimo kainos socialiai remtiniems asmenims kompensavimas | D51: 1 | E51: Koordinavimas, duomenų teikimas paslaugų teikėjams | F51: Socialinės paramos skyrius, Apskaitos skyrius | G51: SB | H51: 140 | I51: Kompensacijų teikimo, jų gavėjams užtikrinimas, proc. | J51: 100
B52: 002-01-04-04 (TP) | C52: Vienkartinė išmoka gimus vaikui Lietuvos Respublikos teritorijoje ir gyvenančiam Kėdainių rajono savivaldybėje | D52: 1 | E52: Išmokų pervedimas | F52: Apskaitos skyrius | G52: SB | H52: 40 | I52: Asmenų, gaunančių kompensaciją, skaičius | J52: ~200
B53: 002-01-04-05 (TP) | C53: Pagalbos pinigai globėjams, globojantiems vaikus | D53: 1 | E53: Globėjų pritraukimo ir palaikymo priemonių, siekiant užtikrinti vaikų, likusių be tėvų globos, globą šeimoje, įgyvendinimas | F53: Socialinės paramos skyrius, Apskaitos skyrius | G53: SB | H53: 400 | I53: Globojamų vaikų skaičius | J53: 140
B54: 002-01-04-06 (TP) | C54: Materialinio nepritekliaus mažinimo programos Lietuvoje įgyvendinimas | D54: 1 | E54: Programos administravimas | F54: Socialinės paramos skyrius, Apskaitos skyrius | G54: ES | H54: 17.5 | I54: Paramos gavėjų skaičius | J54: 5800
B55: 002-01-05 (T, P) | C55: Užtikrinti ir gerinti socialines paslaugas, teikiamas institucijose, namuose ir bendruomenėje asmenims su negalia bei senyvo amžiaus asmenims | H55: =SUM(H56:H67) -> 3821.8
B56: 002-01-05-02 (TP) | C56: Socialinės globos ir akredituotos socialinės priežiūros paslaugų teikimo finansavimas ne savivaldybės pavaldumo įstaigose, taip pat įstaigose, kurių dalininkė yra savivaldybė, ir nevyriausybinėse organizacijose | D56: 1 | E56: Apmokėjimas už suteiktas paslaugas ne savivaldybės pavaldumo globos įstaigoms | F56: Apskaitos skyrius, Socialinės paramos skyrius | G56: SB | H56: 1420 | I56: Asmenų, kuriems finansuotos socialinės paslaugos, skaičius | J56: ~200
B57: 002-01-05-04 (TP) | C57: Socialinės reabilitacijos paslaugų asmenims su negalia bendruomenėje organizavimas | D57: 1 | E57: Projektų konkurso organizavimas, projektų koordinavimas, sutarčių vykdymo kontrolė | F57: Socialinės paramos skyrius | G57: SBVB | H57: 78.7 | I57: Asmenų su negalia, gavusių paslaugas, skaičius | J57: 175
G58: SB | H58: 123.3
B59: 002-01-05-05 (TP) | C59: Socialinių dirbtuvių paslaugos organizavimas | D59: 1 | E59: Projektų konkurso organizavimas, projektų koordinavimas, sutarčių vykdymo kontrolė | F59: Socialinės paramos skyrius | G59: SB | H59: 48 | I59: Paslaugų gavėjų skaičius | J59: 12
B60: 002-01-05-06 (PP) | C60: Projekto „Asmenų su intelekto ir (ar) psichikos negalia institucinės globos pertvarkos įgyvendinimas Kėdainių rajono savivaldybėje, įsteigiant socialines dirbtuves" įgyvendinimas | D60: 1 | E60: Projekto koordinavimas, informacijos apie įgyvendinamas veiklas, mokėjimo prašymų įgyvendinančioms institucijoms teikimas | F60: Strateginio planavimo ir investicijų skyrius, Apskaitos skyrius | G60: SB | H60: 7.5 | I60: Paslaugų gavėjų skaičius
D61: 2 | E61: Techninio projekto parengimo viešųjų pirkimų organizavimas, tiekėjo prisiimtų sutartinių įsipareigojimų vykdymo kontrolė | F61: Statybos skyrius | G61: ES | H61: 42.5
B62: 002-01-05-07 (TP) | C62: Socialinės globos asmenims su sunkia negalia teikimas | D62: 1 | E62: Koordinavimas, apmokėjimas už suteiktas paslaugas ne savivaldybės pavaldumo globos įstaigoms | F62: Socialinės paramos skyrius | G62: SBVB | H62: 1900 | I62: Globojamų asmenų skaičius/globojamų asmenų, kuriems teikiamos paslaugos, procentas, palyginus su visais asmenimis, kuriems nustatytas paslaugos poreikis | J62: ~260/98,5
B63: 002-01-05-08 (TP) | C63: Asmeninės pagalbos teikimas ir administravimas | D63: 1 | E63: Asmenų konsultavimas, prašymų priėmimas, sprendimų dėl paslaugų skyrimo rengimas, lėšų poreikio apskaičiavimas ir lėšų pervedimas paslaugos teikėjui, finansinių ir dalykinių ataskaitų teikimas | F63: Socialinės paramos skyrius | G63: SBVB | H63: 88.4 | I63: Asmenų, gaunančių išmokas, skaičius | J63: 17
B64: 002-01-05-09 (TP) | C64: Asmenų su negalia reikalų koordinavimas | D64: 1 | E64: Asmenų su negalia klausimų koordinavimas teisės aktų nustatyta tvarka | F64: Socialinės paramos skyrius | G64: SBVB | H64: 24.4 | I64: Asmenų su negalia klausimų koordinavimo funkcijos vykdymas, proc. | J64: 100
B65: 002-01-05-10 (TP) | C65: Intelekto ir (ar) psichikos negalią turinčių asmenų atvejo vadybos paslaugų teikimas | D65: 1 | E65: Paslaugų, reikalingų asmens poreikių tenkinimui, vertinimas, planavimas, organizavimas ir įgyvendinimo koordinavimas | F65: Socialinės paramos skyrius | G65: ES | H65: 30 | I65: Asmenų, kuriems vienu metu teikiamos atvejo vadybos paslaugos, skaičius | J65: 20
B66: 002-01-05-11 (TP) | C66: Laikino atokvėpio paslaugos teikimas ir administravimas | D66: 1 | E66: Laikino atokvėpio paslaugos organizavimas, suteikiant galimybę paslaugos gavėjui laikinai pailsėti nuo prižiūrimo asmens slaugos | F66: Socialinės paramos skyrius | G66: SBVB | H66: 56 | I66: Paslaugos teikimo užtikrinimas, asmenims, kuriems nustatytas poreikis, proc. | J66: 100
G67: SB | H67: 3
B68: 002-01-06 (T) | C68: Užtikrinti ir gerinti stacionarias ir nestacionarias socialines paslaugas socialinę riziką patiriančioms šeimoms, asmenims ir vaikams | H68: =SUM(H69:H70) -> 537.7
B69: 002-01-06-03 (TP) | C69: Vaikų dienos centrų veiklos programų finansavimas | D69: 1 | E69: Sutarčių sudarymas, programų įgyvendinimo priežiūros organizavimas | F69: Socialinės paramos skyrius | G69: SB | H69: 348.3 | I69: Finansuotų vaikų dienos centrų skaičius/veiklose dalyvavusių vaikų, jaunuolių skaičius | J69: 10/195
G70: SBVB | H70: 189.4
B71: 002-01-07 (T) | C71: Užtikrinti gyventojų socialinį bei viešąjį saugumą | H71: =SUM(H72:H83) -> 503.7
B72: 002-01-07-01 (TP) | C72: Smurto artimoje aplinkoje bei krizių įveikimo prevencija, pagalba socialiai pažeidžiamiems asmenims | D72: 1 | E72: Konkurso organizavimas, priemonių koordinavimas, sutarčių vykdymo kontrolė | F72: Socialinės paramos skyrius | G72: SB | H72: 56 | I72: Asmenų, kuriems suteikta krizių įveikimo, konsultacinė pagalba | J72: ~120
B73: 002-01-07-02 (TP) | C73: Saugios aplinkos kūrimas ir bendruomenės viešosios tvarkos užtikrinimas | D73: 1 | E73: Įgyvendinamų programos priemonių koordinavimas | F73: Viešosios tvarkos skyrius | G73: SB | H73: 12 | I73: Įgyvendintų prevencinių priemonių skaičius | J73: 12
B74: 002-01-07-03 (TP) | C74: Jaunuolių skatinimas pasirinkti policijos pareigūno profesiją | D74: 1 | E74: Įgyvendinamų programos priemonių koordinavimas | F74: Patarėja (jaunimo reikalų koordinatorė) | G74: SB | H74: 17 | I74: Paskatintų jaunuolių skaičius | J74: 2/3
B75: 002-01-07-05 (TP) | C75: Gyventojų civilinio saugumo užtikrinimas | D75: 1 | E75: Civilinės saugos ekstremaliųjų situacijų valdymo plano prevencinių priemonių rengimas (atnaujinimas), operacijų centro veiklos organizavimas | F75: Pareigūnas, atliekantis savivaldybės parengties pareigūno funkcijas | G75: SBVB | H75: 53.2 | I75: Funkcijos vykdymo procentas | J75: 100
D76: 2 | E76: Rajono civilinės saugos perspėjimo sistemos būklės kontroliavimas | G76: SB | H76: 70
D77: 3 | E77: Civilinės saugos sistemos parengties užtikrinimas savivaldybėje (mokymai, pratybos, kolektyvinės apsaugos statiniai ir kitos pasirengimo priemonės)
B78: 002-01-07-06 (TP) | C78: Dalyvavimas rengiant ir vykdant mobilizaciją, demobilizaciją, priimančiosios šalies paramą | D78: 1 | E78: Pasirengimo mobilizacijai, demobilizacijai ir priimančios šalies paramos teikimo administravimas | F78: Vyr. specialistas (mobilizacijai) | G78: SBVB | H78: 71 | I78: Įvykdytų savivaldybės mobilizacijos plano priemonių dalis, proc. | J78: 100
D79: 2 | E79: Duomenų rinkimas, sisteminimas, savivaldybės mobilizacijos plano rengimas | G79: SB | H79: 17.5 | I79: Pilietiškumo, pilietinio atsparumo ir kt. mokymuose dalyvaujančiųjų skaičius | J79: ~400
D80: 3 | E80: Mobilizacinio ar priimančios šalies paramos teikimo mokymo organizavimas, koordinavimas
B81: 002-01-07-07 (PP) | C81: Projekto „Priedangų infrastruktūros plėtra Kėdainių rajono savivaldybėje" įgyvendinimas | D81: 1 | E81: Projekto koordinavimas, informacijos apie įgyvendinamas veiklas, mokėjimo prašymų įgyvendinančioms institucijoms teikimas | F81: Administracijos patarėjas (atliekantis savivaldybės parengties pareigūno funkcijas), Apskaitos skyrius | G81: SBVB | H81: 90 | I81: Patalpų, pritaikytų priedangoms, skaičius | J81: 5
B82: 002-01-07-08 (PP) | C82: Projekto „Pasirengimas evakuojamus gyventojus laikinai apgyvendinti kolektyvinės apsaugos statiniuose" įgyvendinimas | D82: 1 | E82: Projekto koordinavimas, informacijos apie įgyvendinamas veiklas, mokėjimo prašymų įgyvendinančioms institucijoms teikimas | F82: Administracijos patarėjas (atliekantis savivaldybės parengties pareigūno funkcijas), Apskaitos skyrius | G82: SBVB | H82: 87 | I82: Statinių, pritaikytų kolektyvinei apsaugai, skaičius | J82: 4
B83: 002-01-07-09 (TP) | C83: Daugiabučių namų patalpų pritaikymas minimaliems priedangų reikalavimams | D83: 1 | E83: Konkurso organizavimas, priemonės koordinavimas | F83: Pareigūnas, atliekantis savivaldybės parengties pareigūno funkcijas | G83: SB | H83: 30 | I83: Pritaikytų daugiabučių namų minimaliems priedangų reikalavimams skaičius | J83: 6
B84: 002-01-08 (T, P) | C84: Modernizuoti socialines paslaugas teikiančių įstaigų ir socialinio būsto infrastruktūrą, didinant gyventojų socialinę gerovę | H84: =SUM(H85:H103) -> 1783.6
B85: 002-01-08-01 (TP) | C85: Socialinių būstų įsigijimas | D85: 1 | E85: Socialinių būstų įsigijimo procedūrų organizavimas ir vykdymas (esant poreikiui ir galimybei) sutarčių sudarymas, sutarčių vykdymo kontrolė | F85: Turto valdymo skyrius | G85: SB | H85: 71.8 | I85: Įsigytų socialinės paskirties butų skaičius | J85: 1
B86: 002-01-08-02 (TP) | C86: Projekto „Socialinio būsto fondo neįgaliesiems ir gausioms šeimoms plėtra" įgyvendinimas | D86: 1 | E86: ES projekto koordinavimas, informacijos apie įgyvendinamas veiklas, mokėjimo prašymų įgyvendinančioms institucijoms teikimas | F86: Strateginio planavimo ir investicijų skyrius, Apskaitos skyrius | G86: SB | H86: 65 | I86: Įsigytas ir pritaikytas būstas | J86: 3
D87: 2 | E87: Būstų įsigijimo procedūrų organizavimas ir įgyvendinimas | F87: Turto valdymo skyrius, Socialinės paramos skyrius, Statybos skyrius
D88: 3 | E88: Remonto darbų viešojo pirkimo vykdymas, darbų koordinavimas, rangovo prisiimtų sutartinių įsipareigojimų vykdymo kontrolė | F88: Statybos skyrius | G88: ES | H88: 375
D89: 4 | E89: Įrangos, baldų viešųjų pirkimų organizavimas | F89: Strateginio planavimo ir investicijų skyrius
B90: 002-01-08-03 (TP) | C90: Savivaldybės ir socialinio būsto remontas | D90: 1 | E90: Poreikio surinkimas, informacijos susisteminimas, komisijos darbo organizavimas, viešųjų pirkimų organizavimas, rangovo prisiimtų sutartinių įsipareigojimų vykdymo kontrolė | F90: Socialinės paramos skyrius, Statybos skyrius | G90: SB | H90: 200 | I90: Einamaisiais metais pagal poreikį atliktų remontų socialiniuose būstuose skaičius, proc. | J90: 100
B91: 002-01-08-04 (TP) | C91: Prisidėjimas prie Savivaldybei priklausančio būsto renovacijos | D91: 1 | E91: Apmokėjimo užtikrinimas pagal pateiktas paraiškas | F91: Apskaitos skyrius | G91: SB | H91: 25 | I91: Finansavimas pagal teikiamą poreikį | J91: 100
B92: 002-01-08-05 (TP) | C92: Viešosios aplinkos pritaikymas specialiųjų poreikių turintiems gyventojams | D92: 1 | E92: Poreikio surinkimas, viešųjų pirkimų organizavimas, rangovo prisiimtų sutartinių įsipareigojimų vykdymo kontrolė | F92: Socialinės paramos skyrius, Statybos skyrius | G92: SB | H92: 100 | I92: Infrastruktūros vienetų, pritaikytų neįgaliųjų poreikiams, skaičius | J92: 5
B93: 002-01-08-06 (TP) | C93: Būsto pritaikymo asmenims su negalia organizavimas ir dalinis kompensavimas | D93: 1 | E93: Poreikio identifikavimas, viešųjų pirkimų organizavimas, sutarties vykdymo koordinavimas | F93: Socialinės paramos skyrius | G93: SBVB | H93: 61.8 | I93: Pritaikytų būstų neįgaliesiems skaičius | J93: 14
B94: 002-01-08-07 (PP) | C94: Projekto „Asmenų su intelekto ir psichikos negalia institucinės globos pertvarkos įgyvendinimas Kėdainių rajono savivaldybėje, įsteigiant grupinius gyvenimo namus" įgyvendinimas | D94: 1 | E94: ES projekto koordinavimas, informacijos apie įgyvendinamas veiklas, mokėjimo prašymų įgyvendinančioms institucijoms teikimas | F94: Strateginio planavimo ir investicijų skyrius, Apskaitos skyrius | G94: SB | H94: 30 | I94: Projekto veiklų įgyvendinimo proc. | J94: 10
D95: 2 | E95: Naujo pastato statybos viešųjų pirkimų organizavimas, darbų koordinavimas, rangovo prisiimtų sutartinių įsipareigojimų vykdymo kontrolė | F95: Statybos skyrius | G95: ES | H95: 170
B96: 002-01-08-08 (PP) | C96: Projekto „Asmenų su intelekto ir psichikos negalia institucinės globos pertvarkos įgyvendinimas Kėdainių rajono savivaldybėje, įsigyjant apsaugotus būstus" įgyvendinimas | D96: 1 | E96: ES projekto koordinavimas, informacijos apie įgyvendinamas veiklas, mokėjimo prašymų įgyvendinančioms institucijoms teikimas | F96: Strateginio planavimo ir investicijų skyrius, Apskaitos skyrius | G96: SB | H96: 35 | I96: Socialiai pažeidžiamų, socialinę riziką (atskirtį) patiriančių asmenų, gavusių paslaugas naujoje ar modernizuotoje infrastruktūroje skaičius per metus | J96: 4
D97: 2 | E97: Būstų įsigijimo procedūrų organizavimas ir įgyvendinimas | F97: Turto valdymo skyrius, Socialinės paramos skyrius, Statybos skyrius
D98: 3 | E98: Remonto darbų viešojo pirkimo vykdymas, darbų koordinavimas, rangovo prisiimtų sutartinių įsipareigojimų vykdymo kontrolė | F98: Statybos skyrius | G98: ES | H98: 182
D99: 4 | E99: Įrangos, baldų viešųjų pirkimų organizavimas | F99: Strateginio planavimo ir investicijų skyrius
B100: 002-01-08-09 (TP) | C100: Projekto „Socialinių paslaugų įstaigų senyvo amžiaus asmenims infrastruktūros modernizavimas ir plėtra Kėdainių rajono savivaldybėje" įgyvendinimas | D100: 1 | E100: ES projekto koordinavimas, informacijos apie įgyvendinamas veiklas, mokėjimo prašymų įgyvendinančioms institucijoms teikimas | F100: Strateginio planavimo ir investicijų skyrius, Apskaitos skyrius | G100: SB | H100: 34.5 | I100: Atnaujinamos infrastruktūros, vnt. | J100: 3
D101: 2 | E101: Rangos darbų, prekių viešųjų pirkimų organizavimas, tiekėjų prisiimtų sutartinių įsipareigojimų vykdymo kontrolė | F101: Statybos skyrius | G101: ES | H101: 195.5
B102: 002-01-08-10 (PP) | C102: Projekto „Nestacionarių socialinių paslaugų infrastruktūros modernizavimas Kėdainių rajono savivaldybėje" įgyvendinimas | D102: 1 | E102: ES projekto koordinavimas, informacijos apie įgyvendinamas veiklas, mokėjimo prašymų įgyvendinančioms institucijoms teikimas | F102: Strateginio planavimo ir investicijų skyrius, Apskaitos skyrius | G102: SB | H102: 38 | I102: Projekto veiklų įgyvendinimo proc. | J102: 40
D103: 2 | E103: Rangos darbų viešųjų pirkimų organizavimas, tiekėjų prisiimtų sutartinių įsipareigojimų vykdymo kontrolė | F103: Statybos skyrius | G103: ES | H103: 200
B104: IŠ VISO | H104: =+H84+H71+H68+H55+H48+H29+H21+H12 -> 41043.7
C106: 1. Savivaldybės biudžetas (įskaitant skolintas lėšas) | H106: =SUM(H108:H113) -> 41043.7
C107: Iš jo:
C108: 1.1. savivaldybės biudžeto lėšos (nuosavos, be ankstesnių metų likučio) | G108: SB | H108: =+H102+H100+H96+H94+H92+H91+H90+H86+H85+H83+H79+H76+H74+H73+H72+H69+H67+H60+H59+H58+H56+H53+H52+H51+H50+H49+H36+H35+H34+H31+H25+H23+H20+H18+H16+H14+H13 -> 10737.2
C109: 1.2. Lietuvos Respublikos valstybės biudžeto dotacijos | G109: SBVB | H109: =+H93+H82+H81+H78+H75+H70+H66+H64+H63+H62+H57+H47+H44+H43+H42+H41+H40+H39+H38+H37+H32+H30+H28+H24+H19 -> 27551
...

Sheet 03 Darnios aplinkos
B8: Programos uždavinio, priemonės kodas ir požymis | C8: Uždavinio, priemonės pavadinimas, finansavimo šaltiniai | D8: Veiklos kodas | E8: Veiklos pavadinimas | F8: Atsakingas vykdytojas | G8: Finansavimo šaltinis | H8: 2026 m. asignavimai ir kitos lėšos | I8: Vertinimo kriterijai
I9: Pavadinimas | J9: Planas
B11: 03 DARNI APLINKA IR INFRASTRUKTŪROS PLĖTRA
B12: 003-01-01 (T) | C12: Remti ir vykdyti aplinkos kokybės gerinimo, aplinkos monitoringo ir kitas aplinkos apsaugos iniciatyvas | H12: =SUM(H13:H23) -> 257.6
B13: 003-01-01-01 (TP) | C13: Aplinkos kokybės gerinimas ir apsauga, visuomenės aplinkosauginis švietimas | D13: 1 | E13: Sosnovskio barščio naikinimo rajono seniūnijose koordinavimas | F13: Aplinkosaugos skyrius | G13: SB (AA) | H13: 146.9 | I13: Invazinių augalų ugaviečių skaičiaus sumažėjimas Kėdainių r. sav., proc. | J13: 20 | K13: =+H13+H21+H22+H23+H31+H37 -> 494.1
D14: 2 | E14: Nevėžio, Dotnuvėlės upių, kitų telkinių pakrančių valymo darbų koordinavimas | G14: SBVB | H14: 0
D15: 3 | E15: Saugomų teritorijų apsaugos ir tvarkymo darbų koordinavimas
D16: 4 | E16: Jūrinių erelių perimviečių stebėjimo užtikrinimas, varninių paukščių gausos reguliavimas
D17: 5 | E17: Gelbėjimo ir cheminių avarijų padarinių likvidavimo ir priemonių finansavimo užtikrinimas
D18: 6 | E18: Visuomenės aplinkosauginio švietimo organizavimas
B21: 003-01-01-02 (TP) | C21: Aplinkos monitoringas, oro, dirvožemio, požeminio ir paviršinio vandens nuotekų tyrimai | D21: 1 | E21: Aplinkos monitoringo programos paslaugų įgyvendinimo koordinavimas | F21: Aplinkosaugos skyrius | G21: SB (AA) | H21: 17 | I21: Pagal patvirtintą aplinkos monitoringo programą per pusmetį nustatytų teršalų koncentracijų verčių viršijimų dalis nuo visų atliktų tyrimų, proc. | J21: ne daugiau 5
B22: 003-01-01-03 (TP) | C22: Prevencinių priemonių, kuriomis siekiama išvengti medžiojamųjų gyvūnų daromos žalos miškui, įgyvendinimas | D22: 1 | E22: Medžioklės klausimų koordinavimas, dalyvavimas finansinės paramos medžiojamųjų gyvūnų daromos žalos prevencijos priemonėms įgyvendinti komisijoje | F22: Aplinkosaugos skyrius | G22: SB (AA) | H22: 63.7 | I22: Per metus registruotų gyvūnų daromos žalos incidentų skaičiaus sumažėjimas, proc. | J22: 15
B23: 003-01-01-04 (TP) | C23: Individualių nuotekų valymo įrenginių kompensavimas gyventojams | D23: 1 | E23: Priemonės koordinavimas ir viešinimas | F23: Aplinkosaugos skyrius | G23: SB (AA) | H23: 30 | I23: Per metus patenkintų prašymų dalis, proc., nuo gautų prašymų skaičiaus | J23: daugiau nei 90
B24: 003-01-02 (T) | C24: Tobulinti atliekų tvarkymo bei aplinkos išsaugojimo sistemą, užtikrinti estetišką aplinką | H24: =SUM(H25:H32) -> 3392.1
B25: 003-01-02-01 (TP) | C25: Atliekų tvarkymo sistemos organizavimas | D25: 1 | E25: Priemonės įgyvendinimo koordinavimas | F25: Aplinkosaugos skyrius, Apskaitos skyrius | G25: SB | H25: 2481.9 | I25: Gautų skundų dėl nesklandaus komunalinių atliekų tvarkymo sistemos veikimo, skaičiaus mažėjimas (kasmet), proc. | J25: 5
D26: 2 | E26: Susidariusių atliekų tvarkymas, vartų mokesčio mokėjimas | F26: Apskaitos skyrius | G26: SB | H26: 450
D27: 3 | E27: Suteiktų lengvatų už vietinę rinkliavą už komunalinių atliekų surinkimą kompensavimas | F27: Apskaitos skyrius
B28: 003-01-02-02 (PP) | C28: Projekto „Rūšiuojamojo atliekų surinkimo skatinimas Kėdainių rajono savivaldybėje“ įgyvendinimas | D28: 1 | E28: ES projekto paraiškos, techninės dokumentacijos rengimui reikalingos informacijos teikimas Kauno RAC | F28: Aplinkosaugos skyrius, Strateginio planavimo ir investicijų skyrius | G28: SB | H28: 10 | I28: Techninės dokumentacijos parengimas | J28: 1
G29: ES | H29: 60
B30: 003-01-02-03 (TP) | C30: Susidariusių atliekų surinkimas, transportavimas, tvarkymas, konteinerių, kompostavimo dėžių įsigijimas | D30: 1 | E30: Konteinerių, kompostavimo dėžių įsigijimo viešųjų pirkimų organizavimas, tiekėjų prisiimtų sutartinių įsipareigojimų vykdymo kontrolė | F30: Aplinkosaugos skyrius | G30: SB | H30: 264.2 | I30: Komunalinių atliekų tvarkymo sistemos įgyvendinimas pagal Kėdainių r. sav. atliekų prevencijos ir tvarkymo 2021-2027 m. planą, proc. | J30: 90
D31: 2 | E31: Atliekų, kurių turėtojo nustatyti neįmanoma arba kuris nebeegzistuoja, tvarkymo priemonių organizavimas ir vykdymas | G31: SB (AA) | H31: 126
G32: SBVB
B33: 003-01-03 (T) | C33: Prižiūrėti, tvarkyti savivaldybės viešąsias teritorijas, gerinti kraštovaizdžio apsaugą, didinti jo patrauklumą | H33: =SUM(H34:H40) -> 750.7
B35: 003-01-03-03 (TP) | C35: Bešeimininkių ir bepriežiūrių gyvūnų surinkimas, karantinavimas, priežiūra | D35: 1 | E35: konkurso organizavimas, sudarytų sutarčių su paslaugų vykdytojais koordinavimas | F35: Aplinkosaugos skyrius | G35: SB | H35: 26.7 | I35: Suteikta laikina globa bešeimininkiams gyvūnams, proc. | J35: 100
B36: 003-01-02-04 (TP) | C36: Apleistų (bešeimininkių ar savivaldybei nuosavybės teise priklausančių) pastatų ar kitų aplinką žalojančių objektų likvidavimas | D36: 1 | E36: Griovimo techninių projektų viešųjų pirkimų organizavimas, paslaugų teikėjo prisiimtų sutartinių įsipareigojimų vykdymo kontrolė | F36: Turto valdymo skyrius, Biudžeto ir finansų skyrius | G36: SB | H36: 50 | I36: Griovimo techninių projektų apleistiems objektams likviduoti parengimas | J36: 3
B37: 003-01-03-05 (TP) | C37: Želdynų ir želdinių apsauga, tvarkymas, būklės stebėsena, gėlynų kūrimas | D37: 1 | E37: Želdinių priežiūros, naujų želdinių įveisimo organizavimas ir koordinavimas, bendradarbiavimas su seniūnijomis | F37: Aplinkosaugos skyrius | G37: SB (AA) | H37: 110.5 | I37: Seniūnijų skaičius, kuriose įgyvendinamos želdynų ir želdinių apsaugos, tvarkymo, būklės stebėsenos, želdynų kūrimo, želdinių veisimo ir inventorizavimo priemonės | J37: 11
D38: 2 | E38: Miesto gėlynų, gėlinių ir dekoratyvinių krūmų priežiūros ir apželdinimo organizavimas ir koordinavimas | G38: SB | H38: 163.5
B39: 003-01-03-06 (PP) | C39: Projekto „Žaliosios infrastruktūros Kėdainių miesto urbanizuotoje aplinkoje plėtojimas“ įgyvendinimas | D39: 1 | E39: ES projekto koordinavimas, informacijos apie įgyvendinamas veiklas, mokėjimo prašymų įgyvendinančioms institucijoms teikimas | F39: Strateginio planavimo ir investicijų skyrius, Statybos skyrius | G39: SB | H39: 60 | I39: Tvarkomų erdvių skaičius, vnt. | J39: 4
D40: 2 | E40: Rangos darbų viešųjų pirkimų organizavimas, rangovo prisiimtų sutartinių įsipareigojimų vykdymo kontrolė | G40: ES | H40: 340
B41: 003-01-04 (T) | C41: Rengti, atnaujinti teritorijų planavimo ir kitus dokumentus, sudarant sąlygas darniai infrastruktūros plėtrai | H41: =SUM(H42:H44) -> 257.54
B42: 003-01-04-01 (TP) | C42: Dokumentų, padedančių užtikrinti darnią rajono savivaldybės teritorijų plėtrą, rengimas | D42: 1 | E42: Specialiųjų, detaliųjų, geodezinių planų rengimo viešųjų pirkimų organizavimas, teikiamų paslaugų koordinavimas, paslaugų teikėjų prisiimtų sutartinių įsipareigojimų vykdymo kontrolė | F42: Architektūros ir urbanistikos skyrius | G42: SB | H42: 110 | I42: Parengtų teritorijų planavimo dokumentų (specialiųjų, detaliųjų, bendrųjų, geodezinių, žemės sklypų formavimo ir pertvarkymo, kadastrinių matavimų ir kt.) skaičius | J42: ~40
B43: 003-01-04-02 (TP) | C43: Investicinių projektų, planų, paraiškų, kitos techninės dokumentacijos rengimas paramai gauti | D43: 1 | E43: Projektinių pasiūlymų, paraiškų ir kitos dokumentacijos parengimo organizavimas ir kontrolė | F43: Strateginio planavimo ir investicijų skyrius | G43: SB | H43: 70 | I43: Parengtos dokumentacijos skaičius | J43: pagal poreikį
B44: 003-01-04-03 (TP) | C44: Išmokos pagal savivaldybės infrastruktūros plėtros sutartis (SĮP) | D44: 1 | E44: Priemonės koordinavimas, išmokų pagal sudarytas sutartis užtikrinimas | F44: Architektūros ir urbanistikos skyrius | G44: SB | H44: 77.54 | I44: Infrastruktūros plėtros sutarčių, pagal kurias išmokėtos išmokos, skaičius, vnt. | J44: pagal subjektų prašymus
B45: 003-01-05 (T) | C45: Užtikrinti inžinerinio aprūpinimo (vandentiekio, nuotekų tinklų ir kt.) sistemų atnaujinimą ir plėtrą | H45: =SUM(H46:H52) -> 1575
B46: 003-01-05-01 (PP) | C46: Projekto „Geriamojo vandens tiekimo ir nuotekų tvarkymo paslaugų prieinamumo didinimas Kėdainių rajone“ įgyvendinimas | D46: 1 | E46: Projekto, kurį įgyvendina UAB „Kėdainių vandenys“, kofinansavimo dalies užtikrinimas | F46: Apskaitos skyrius | G46: SK | H46: 1000 | I46: Įgyvendinta projekto veiklų, proc. (iš viso) | J46: 30
B47: 003-01-05-02 (TP) | C47: Vandentiekio, nuotekų tinklų rekonstrukcija ir plėtra mieste | D47: 1 | E47: Rangos darbų (pagal poreikį) viešojo pirkimo organizavimas, rangos darbų koordinavimas, rangovo prisiimtų sutartinių įsipareigojimų vykdymo kontrolė | F47: Statybos skyrius, Biudžeto ir finansų skyrius | G47: SB | H47: 20 | I47: Paklota vandentiekio ir nuotekų tinklų, m | J47: ~300
B49: 003-01-05-03 (TP) | C49: Geriamojo vandens tiekimo ir buitinių nuotekų tvarkymo infrastruktūros plėtros ir/ar rekonstrukcijos kaimiškosiose gyvenvietėse techninės dokumentacijos rengimas | D49: 1 | E49: Techninės dokumentacijos dėl Aušros k.vandens ir nuotekų tinklų įrengimo parengimo viešojo pirkimo organizavimas, tiekėjų prisiimtų sutartinių įsipareigojimų vykdymo kontrolė | F49: Statybos skyrius | G49: SB | H49: 30 | I49: Parengtos techninės dokumentacijos skaičius | J49: 1
B50: 003-01-05-04 (TP) | C50: Vandentiekio, nuotekų tinklų rekonstrukcija ir plėtra rajone | D50: 1 | E50: Rangos darbų viešojo pirkimo organizavimas, rangos darbų koordinavimas, rangovo prisiimtų sutartinių įsipareigojimų vykdymo kontrolė (Pelėdnagiai-Paobelys; Gineitų k.) | F50: Statybos skyrius | G50: SB | H50: 400 | I50: Paklota vandentiekio ir nuotekų tinklų, m | J50: ~2940
B51: 003-01-05-05 (TP) | C51: Objektų remontai pagal administracijos direktoriaus įsakymus | D51: 1 | E51: Biudžeto lėšų skyrimo įsakymo parengimas, priemonės koordinavimas | F51: Biudžeto ir finansų skyrius | G51: SB | H51: 95 | I51: Remontuotų objektų skaičius | J51: pagal poreikį
B52: 003-01-05-06 (TP) | C52: Avarinių židinių likvidavimas | D52: 1 | E52: Biudžeto lėšų skyrimo įsakymo parengimas, priemonės koordinavimas | F52: Biudžeto ir finansų skyrius | G52: SB | H52: 30 | I52: Objektų skaičius, kuriuose likviduoti avariniai židiniai | J52: pagal poreikį
B53: 003-01-06 (T) | C53: Prižiūrėti ir plėtoti energetinę infrastruktūrą, diegti energiją taupančias priemones | H53: =SUM(H54:H55) -> 1092.2
B54: 003-01-06-01 (TP) | C54: Gatvių apšvietimo rekonstrukcija, įrengimas, modernizavimas | D54: 1 | E54: Viešųjų pirkimų organizavimas, rangos darbų vykdymo koordinavimas, rangovo prisiimtų sutartinių įsipareigojimų vykdymo kontrolė | F54: Statybos skyrius | G54: SB | H54: 100 | I54: Nutiestų tinklų, pakeistų atramų, šviestuvų kaičius | J54: 1000/30/60
B55: 003-01-06-02 (TP | C55: Nutolusios saulės elektrinės įsigijimas | D55: 1 | E55: Nutolusios saulės elektrinės aptarnavimo ir priežiūros mokesčių administravimas | F55: Apskaitos skyrius | G55: SK | H55: 992.2 | I55: Įsigytos galios nutolusi saulės elektrinė | J55: 1 Mw
B56: 003-01-07 (T) | C56: Gerinti susisiekimo infrastruktūrą, užtikrinant gyventojų darnų judumą bei mobilumą | H56: =SUM(H57:H64) -> 7489.5
B57: 003-01-07-01 (TP) | C57: Vietinės reikšmės kelių ir gatvių remontas, priežiūra ir palaikymas, saugaus eismo ir darnaus judumo priemonių diegimas (KPP) | D57: 1 | E57: Rangos darbų viešųjų pirkimų organizavimas, rangos darbų koordinavimas, rangovo prisiimtų sutartinių įsipareigojimų vykdymo kontrolė, seniūnijų konsultavimas ir bendradarbiavimas | F57: Statybos skyrius | G57: SBVB (KPP) | H57: 3471.8 | I57: KPP lėšomis suremontuotų, rekonstruotų, naujai nutiestų kelių ir pėsčiųjų bei dviračių takų ilgis, km | J57: ~10
B58: 003-01-07-02 (TP) | C58: Kelių dangos gerinimo finansavimas seniūnijose | D58: 1 | E58: Biudžeto lėšų skyrimo įsakymo parengimas, priemonės koordinavimas | F58: Statybos skyrius, Biudžeto ir finansų skyrius | G58: SB | H58: 230 | I58: Prižiūrimų žvyrkelių ilgis, km / diegiamų dulkėtumo mažinimo priemonių skaičius | J58: ~35/1
B59: 003-01-07-03 (TP) | C59: Projekto „Darnaus judumo mieste skatinimas, plėtojant dviračių bei pėsčiųjų takų infrastruktūrą“ įgyvendinimas | D59: 1 | E59: Pėsčiųjų ir dviračių takų įrengimo rangos darbų (Vaivorykštės tiltas - J. Basanavičiaus g., nuo Draugystės g. iki Pušyno, Tilto g., Juodkiškio g., Gegučių parko takų) viešųjų pirkimų organizavimas, rangos darbų koordinavimas, rangovo prisiimtų sutartinių įsipareigojimų vykdymo kontrolė | F59: Statybos skyrius | G59: SB | H59: 90 | I59: Projektuojamų pėsčiųjų ir dviračių takų atkarpų, vnt. / rekonstruotų takų ilgis, km | J59: 3 /~3
D60: 2 | E60: Pėsčiųjų ir dviračių takų atkarpų (Pirmūnų g. , Kalno g., Ganyklų g.) techninės dokumentacijos rengimo koordinavimas, tiekėjo prisiimtų sutartinių įsipareigojimų vykdymo kontrolė | F60: Statybos skyrius | G60: SK | H60: 150
D61: 3 | E61: Projekto veiklų koordinavimas, informacijos apie įgyvendinamas veiklas, mokėjimo prašymų įgyvendinančiai institucijai teikimas | F61: Strateginio planavimo ir investicijų skyrius, Apskaitos skyrius | G61: ES | H61: 1360
B62: 003-01-07-04 (TP) | C62: Biudžetinių įstaigų kiemų dangos atnaujinimas | D62: 1 | E62: Rangos darbų (Josvainių gimnazija, l/d Vyturėlis) viešųjų pirkimų organizavimas, rangos darbų koordinavimas, rangovo prisiimtų sutartinių įsipareigojimų vykdymo kontrolė | F62: Statybos skyrius | G62: SB | H62: 120 | I62: Remontuotų biudžetinių įstaigų kiemų skaičius | J62: 2
B63: 003-01-07-05 (TP) | C63: Nuostolių, susidariusių dėl būtinų keleivinio transporto paslaugų teikimo visuomenei, apmokėjimas | D63: 1 | E63: Keleivių vežimo kompensacijos mokėjimo užtikrinimas | F63: Turto valdymo skyrius, Apskaitos skyrius | G63: SB | H63: 1770 | I63: Autobusų maršrutų skaičius | J63: 29
B64: 003-01-07-06 (TP) | C64: Inžinerinių paslaugų, darbų ir įrenginių finansavimas | D64: 1 | E64: Inžinerinių tinklų perkėlimo darbų organizavimas, tvarkant miesto bei rajono gatves | F64: Statybos skyrius | G64: SB | H64: =200+97.7 -> 297.7 | I64: Tikslingas finansavimas reikalingiems darbams atlikti pagal poreikį, proc. | J64: 100
B65: 003-01-08 (T) | C65: Vystyti gyvenamąją aplinką, užtikrinant viešosios infrastruktūros priežiūrą, atnaujinimą ir tinkamą naudojimą | H65: =SUM(H66:H72) -> 1347.6
B66: 003-01-08-01 (TP) | C66: Seniūnijų administracinių pastatų atnaujinimas | D66: 1 | E66: Miesto seniūnijos pastato atnaujinimo techninės dokumentacijos rengimo sutarties koordinavimas, tiekėjo prisiimtų sutartinių įsipareigojimų vykdymo kontrolė | F66: Statybos skyrius, Biudžeto ir finansų skyrius | G66: SB | H66: 55 | I66: Parengtos techninės dokumentacijos skaičius, skaičius | J66: 1
B67: 003-01-08-02 (TP) | C67: Biudžetinių įstaigų stogų remontas | D67: 1 | E67: Rangos darbų viešųjų pirkimų organizavimas (pagal poreikį), rangos darbų koordinavimas, rangovo prisiimtų sutartinių įsipareigojimų vykdymo kontrolė | F67: Statybos skyrius, Biudžeto ir finansų skyrius | G67: SB | H67: 80 | I67: Pastatų, kurių stogai remontuoti, skaičius | J67: 5
B68: 003-01-08-03 (TP) | C68: Kompleksiškas daugiabučių gyvenamųjų namų kvartalų atnaujinimas | D68: 1 | E68: S. Jaugelio Telegos daugiabučių gyvenamųjų namų kvartalų atnaujinimo darbų viešųjų pirkimų organizavimas, rangos darbų koordinavimas, rangovo prisiimtų sutartinių įsipareigojimų vykdymo kontrolė | F68: Statybos skyrius | G68: SB | H68: 1000 | I68: Atnaujinamų teritorijų skaičius, m2 | J68: ~9000
D69: 2 | E69: Techninės dokumentacijos (Chemikų g. ir Liaudies g. kvartalų) rengimo viešojo pirkimo organizavimas, tiekėjo prisiimtų sutartinių įsipareigojimų vykdymo kontrolė | F69: Statybos skyrius
D70: 3 | E70: Kitų daugiabučių gyvenamųjų namų kvartalų (melioratorių g., Pagirių k., Kaplių k.) atnaujinimo darbų viešųjų pirkimų organizavimas, rangos darbų koordinavimas, rangovo prisiimtų sutartinių įsipareigojimų vykdymo kontrolė | F70: Statybos skyrius
B71: 003-01-08-04 (TP) | C71: Infrastruktūros plėtros techninės dokumentacijos rengimas ir infrastruktūros gerinimo darbai (SĮP) | D71: 1 | E71: Techninės dokumentacijos rengimo (Radvilų g., J.Paukštelio g., P.Rabikausko g.) viešojo pirkimo organizavimas, tiekėjo prisiimtų sutartinių įsipareigojimų vykdymo kontrolė | F71: Architektūros ir urbanistikos skyrius, Statybos skyrius | G71: SB | H71: 112.6 | I71: Parengtų techninių dokumentacijų skaičius | J71: 2
B72: 003-01-08-05 (TP) | C72: Europos Sąjungos infrastruktūros projektų, kuriems taikomas apmokėjimas kompensavimo būdu, išlaidų apmokėjimas | D72: 1 | E72: Priemonės įgyvendinimo koordinavimas | F72: Apskaitos skyrius, Strateginio planavimo ir investicijų skyrius | G72: SB | H72: 100 | I72: Projektų, kuriems reikalingas savivaldybės indėlio prisidėjimas, skaičius | J72: 5
B73: IŠ VISO | H73: =+H65+H56+H53+H45+H41+H33+H24+H12 -> 16162.24
C75: 1. Savivaldybės biudžetas (įskaitant skolintas lėšas) | H75: =SUM(H77:H82) -> 16162.24
C76: Iš jo:
C77: 1.1. savivaldybės biudžeto lėšos (nuosavos, be ankstesnių metų likučio) | G77: SB | H77: =+H72+H71+H68+H67+H66+H64+H63+H62+H59+H58+H54+H52+H51+H50+H49+H47+H44+H43+H42+H39+H38+H37+H36+H35+H34+H31+H30+H28+H26+H25+H23+H22+H21+H13 -> 8788.24
C78: 1.2. Lietuvos Respublikos valstybės biudžeto dotacijos | G78: SBVB | H78: =+H32+H57+H14 -> 3471.8
C79: 1.3. Pajamų įmokos ir kitos pajamos | G79: ĮP
C80: 1.4. Europos Sąjungos ir kitos tarptautinės finansinės paramos lėšos | G80: ES | H80: =+H61+H40+H29 -> 1760
C81: 1.5. Skolintos lėšos | G81: SK | H81: =+H60+H55+H46 -> 2142.2
C82: 1.6. Ankstesnių metų likučiai | G82: SBL
C83: 2. Kiti šaltiniai (Europos Sąjungos finansinė parama projektams įgyvendinti ir kitos teisėtai gautos lėšos, nurodant atskirus šaltinius) | G83: KT
C84: IŠ VISO programai finansuoti pagal finansavimo šaltinius (1 ir 2 punktai) | H84: =+H83+H75 -> 16162.24
C85: Iš jų: regioninių pažangos priemonių lėšos | H85: =+H29+H40+H61 -> 1760
C86: Asignavimų ir kitų lėšų pokytis, palyginti su ankstesnių metų patvirtintų asignavimų ir kitų lėšų planu

Sheet 04 Ekonominės plėtros
B9: Programos uždavinio, priemonės kodas ir požymis | C9: Uždavinio, priemonės pavadinimas, finansavimo šaltiniai | D9: Veiklos kodas | E9: Veiklos pavadinimas | F9: Atsakingas vykdytojas | G9: Finansavimo šaltinis | H9: 2026 m. asignavimai ir kitos lėšos | I9: Vertinimo kriterijai
I10: Pavadinimas | J10: Planas
B12: 04 EKONOMINĖ PLĖTRA
B13: 004-01-01 (T, P) | C13: Stiprinti savivaldybės institucijų ir verslo įmonių bendradarbiavimą, sudaryti palankias sąlygas sumanios pramonės ir logistikos srities verslų atsiradimui, plėtrai bei investicijų pritraukimui | H13: =SUM(H14:H17) -> 91.4
B14: 004-01-01-01 (TP) | C14: VšĮ Kėdainių turizmo ir verslo informacijos centro efektyvios veiklos užtikrinimas verslo srityje | D14: 1 | E14: Priemonės įgyvendinimo koordinavimas | F14: Administracijos direktorius | G14: SB | H14: 57.4 | I14: Suteiktų informacinių, konsultacinių paslaugų ūkio subjektams ir asmenims pagal paklausimus skaičius, val. | J14: ~520
B15: 004-01-01-02 (TP) | C15: Finansinės paramos teikimas per Savivaldybės smulkiojo verslo rėmimo fondą | D15: 1 | E15: Priemonės įgyvendinimo koordinavimas | F15: Administracijos direktorius | G15: SB | H15: 30 | I15: Subjektų, kuriems suteikta finansinė parama, skaičius | J15: 12
B16: 004-01-01-03 (PP) | C16: Dalyvavimas projekte "Inkubavimo, konsultavimo, mentorystės ir tinklaveikos programų vystymas, skatinant pradedančiųjų SVV subjektų kūrimąsi ir augimą regionuose" partnerio teisėmis | D16: 1 | E16: Projekto partnerio kofinansavimo dalies užtikrinimas | F16: Apskaitos skyrius | G16: SB | H16: 4 | I16: Projekte dalyvaujančių verslo subjektų skaičius | J16: 10
B17: 004-01-01-04 (PP) | C17: Projekto "Kėdainių miesto viešosios infrastruktūros, svarbios verslui, atnaujinimas ir plėtra "įgyvendinimas | D17: 1 | E17: Elektros tinklų rekonstrukcijos Kėdainių LEZ teritorijoje paraiškos teikimas finansavimui gauti | F17: Strateginio planavimo ir investicijų skyrius | G17: SBVB | I17: Investicijoms gerinamas viešųjų teritorijų plotas, ha (LEZ teritorijos bendras plotas) | J17: 130,5
D18: 2
B19: 004-01-02 (T) | C19: Plėtoti tvarų ir efektyvų žemės ūkį | H19: =SUM(H20:H35) -> 1725
B20: 004-01-02-01 (TP) | C20: Valstybės perduotų savivaldybėms žemės ūkio funkcijų vykdymas, konsultuojant rajono asmenis ūkininkavimo, žemės ūkio technikos registravimo ir kitais su žemės ūkiu susijusiais klausimais | D20: 1 | E20: Žemės ūkio valdų, ūkininkų ūkių įregistravimas, išregistravimas, kasmetinis duomenų atnaujinimas) | F20: Žemės ūkio skyrius | G20: SBVB | H20: 134.2 | I20: Žemės ūkio subjektų pateiktų ir nagrinėjamų prašymų, paraiškų, aptarnaujamos žemės ūkio technikos, įregistruotos rajone ir atliktų techninių apžiūrų skaičius | J20: ~16500
D21: 2 | E21: Paramos už žemės ūkio naudmenas ir kitus plotus bei gyvulius paraiškos pildymas, deklaruojamų laukų įbraižymas, duomenų keitimas, pasikeitusių KŽS ribų aprašymas
D22: 3 | E22: Pagal gautus prašymus pasėliams, miškui padarytos žalos įvertinimas vietoje ir apžiūros aktų surašymas, sprendimų priėmimas, atstovavimas teismuose
D23: 4 | E23: Paraiškų priėmimas, įvertinimas, kompensuojamų sumų apskaičiavimas, duomenų suvedimas į ŽŪMIS ir KOTIS
D24: 5 | E24: Paramos teikimo bičių laikytojams už papildomą bičių maitinimą administravimas
D25: 6 | E25: Pieno pardavimo tiesiogiai vartoti deklaracijų ir kitų dokumentų administravimas
D26: 7 | E26: Žemės ūkio technikos įregistravimas, perregistravimas, išregistravimas, registracijos dokumentų išdavimas, duomenų suvedimas į registrą
D27: 8 | E27: Žemės ūkio technikos techninių apžiūrų atlikimas, duomenų suvedimas, talonų išdavimas
B28: 004-01-02-02 (TP) | C28: Valstybės perduotų savivaldybėm funkcijų vykdymas melioracijos srityje, remontuojant valstybei nuosavybės teise priklausančią melioracijos, hidrotechnikos infrastruktūrą | D28: 1 | E28: Melioracijos statinių priežiūros ir remonto darbų viešųjų pirkimų organizavimas, darbų koordinavimas, rangovo prisiimtų sutartinių įsipareigojimų vykdymo kontrolė | F28: Žemės ūkio skyrius | G28: SBVB | H28: 421.8 | I28: Remontuojamų, prižiūrimų melioracijos griovių ilgis, km | J28: ~35
D29: 2 | E29: Priešprojektiniai tyrinėjimų techninės sąmatinės dokumentacijos sudarymo, ekspertizės viešųjų pirkimų organizavimas, paslaugų teikėjo prisiimtų sutartinių įsipareigojimų vykdymo kontrolė
D30: 3 | E30: Darbų techninė priežiūros koordinavimas, vykdymo kontrolė
B31: 004-01-02-03 (TP) | C31: Gyvenviečių lietaus nuotekų-drenažų sistemų remontas | D31: 1 | E31: Remonto darbų viešųjų pirkimų organizavimas, rangos darbų koordinavimas, rangovo prisiimtų sutartinių įsipareigojimų vykdymo kontrolė | F31: Žemės ūkio skyrius | G31: SB | H31: 40 | I31: Gyvenviečių, kuriose atlikti drenažo remonto darbai, skaičius | J31: 5
B32: 004-01-02-04 (TP) | C32: Hidrotechninių įrenginių atnaujinimui reikalingos techninės dokumentacijos rengimas | D32: 1 | E32: Techninės dokumentacijos rengimo viešųjų pirkimų organizavimas, tiekėjo prisiimtų sutartinių įsipareigojimų vykdymo kontrolė | F32: Žemės ūkio skyrius | G32: SB | H32: 50 | I32: Parengtų projektų skaičius | J32: 8
B33: 004-01-02-07 (TP) | C33: Melioracijos inžinerinių statinių rekonstravimas Nevėžio pabaseinyje - Nevėžio ir Šušvės upių žiotyse | D33: 1 | E33: Remonto darbų viešųjų pirkimų organizavimas, rangos darbų koordinavimas, rangovo prisiimtų sutartinių įsipareigojimų vykdymo kontrolė | F33: Žemės ūkio skyrius | G33: SBVB | H33: 1064 | I33: Rekonstruojamų melioracijos griovių ilgis, km | J33: ~40
B34: 004-01-02-08 (PP) | C34: Valstybei nuosavybės teise priklausančių melioracijos statinių ir (ar) sistemų rekonstravimo ir projektavimo darbų bei apleistų žemės plotų mažinimo priemonių įgyvendinimas | D34: 1 | E34: Paraiškos teikimas finansavimui gauti | F34: Žemės ūkio skyrius, Apskaitos skyrius | G34: SB | H34: 15 | I34: Planuojamas atkurti žemės ūkio naudmenų plotas blogos būklės melioruotoje žemėje, patenkančioje į apleistos žemės plotus, ha | J34: 0.42
B36: 004-01-03 (T) | C36: Plėtoti, atnaujinti viešąją infrastruktūrą, atsižvelgiant į turizmo plėtros ir rekreacijos poreikius | H36: =SUM(H37:H44) -> 676
B37: 004-01-03-01 (PP) | C37: Projekto „Kultūros paveldo ir gamtos objektų pritaikymas lankyti Kėdainių rajono savivaldybėje" įgyvendinimas (ES projekto "Kauno regiono funkcinės zonos strategija" dalis) | D37: 1 | E37: ES projekto koordinavimas, informacijos apie įgyvendinamas veiklas, mokėjimo prašymų įgyvendinančioms institucijoms teikimas | F37: Strateginio planavimo ir investicijų skyrius, Apskaitos skyrius | G37: SB | H37: 10 | I37: Projekto veiklų įgyvendinimo proc. | J37: 5
D38: 2 | E38: Projekto techninės dokumentacijos rengimo viešojo pirkimo organizavimas, tiekėjų prisiimtų įsipareigojimų vykdymas | F38: Statybos skyrius | G38: ES | H38: 60
B39: 004-01-03-02 (TP) | C39: Infrastruktūros miesto parke įrengimas | D39: 1 | E39: Atsiskaitymo už atliktus inžinerinių tinklų ir WC, automobilių stovėjimo aikštelės įrengimo darbus užtikrinimas | F39: Statybos skyrius, Apskaitos skyrius | G39: SB | H39: 26 | I39: Įrengiamų/atnaujinamų/pritaikomų parko elementų (erdvių) | J39: 1
B40: 004-01-03-03 (TP) | C40: Babėnų šilo miškotvarka ir pritaikymas patogiam poilsiui, laisvalaikiui | D40: 1 | E40: Šilo tvarkybos ir pritaikymo visuomenės poreikiams rangos darbų viešojo pirkimo organizavimas, rangovo prisiimtų sutartinių įsipareigojimų vykdymo kontrolė | F40: Statybos skyrius, Architektūros ir urbanistikos skyrius | G40: SB | H40: 500 | I40: Einamaisiais metais atliekamų projekte numatytų darbų proc.(bendras) | J40: 40
B41: 004-01-03-05 (TP) | C41: Patrauklios viešosios erdvės kūrimas Aristavos kaime | D41: 1 | E41: ES projekto koordinavimas, informacijos apie įgyvendinamas veiklas įgyvendinančioms institucijoms teikimas | F41: Strateginio planavimo ir investicijų skyrius, Apskaitos skyrius | G41: SB | H41: 40 | I41: Einamaisiais metais atliekamų projekte numatytų darbų proc.(bendras) | J41: 60
D42: 2 | E42: Rangos darbų viešojo pirkimo organizavimas, rangovo prisiimtų įsipareigojimų vykdymas | F42: Statybos skyrius
B43: 004-01-03-06 (TP) | C43: Patrauklios viešosios erdvės kūrimas Dotnuvos miestelyje | D43: 1 | E43: ES projekto koordinavimas, informacijos apie įgyvendinamas veiklas įgyvendinančioms institucijoms teikimas | F43: Strateginio planavimo ir investicijų skyrius, Apskaitos skyrius | G43: SB | H43: 40 | I43: Einamaisiais metais atliekamų projekte numatytų darbų proc.(bendras) | J43: 40
D44: 2 | E44: Rangos darbų viešojo pirkimo organizavimas, rangovo prisiimtų įsipareigojimų vykdymas | F44: Statybos skyrius
B45: 004-01-04 (T) | C45: Išsaugoti istorinį bei kultūros paveldą, didinti jo patrauklumą ir žinomumą | H45: =SUM(H46:H60) -> 595.2
B46: 004-01-03-01 (TP) | C46: VšĮ Kėdainių turizmo ir verslo informacijos centro efektyvios veiklos užtikrinimas turizmo srityje | D46: 1 | E46: Programos įgyvendinimo koordinavimas | F46: Administracijos direktorius | G46: SB | H46: 192.5 | I46: Turizmo ir verslo informacinio centro lankytojų skaičiaus didėjimas, proc., lyginant su praėjusiais metais | J46: 15
B47: 004-01-04-01 (TP) | C47: Lankytinų objektų ir jų teritorijų, kultūros paveldo objektų ar objektų, esančių kultūros paveldo teritorijų prieigose tvarkybos reikalingos dokumentacijos rengimas, objektų atnaujinimas | D47: 1 | E47: Lietuvos partizanų kapų teritorijų tvarkymo darbų rangovo įsipareigojimų vykdymo kontrolė | F47: Architektūros ir urbanistikos skyrius | G47: SB | H47: 160 | I47: Tvarkomų objektų skaičius | J47: 6
D48: 2 | E48: Apytalaukio Šv. apaštalų Petro ir Povilo bažnyčios tvoros remonto darbų sutarties vykdymo kontrolė
D49: 3 | E49: Juciūnų koplyčios ir varpinės perdažymo darbų sutarties vykdymo kontrolė
D50: 4 | E50: Gelnų koplytėlės darbų sutarties vykdymo kontrolė
D51: 5 | E51: Apytalaukio dvaro avarinės būklės šalinimo ir konstrukcijų išramstymo darbų sutarties vykdymo kontrolė
D52: 6 | E52: Informacinių nuorodų į kultūros paveldo objektus (su įrengimu) pirkimo organizavimas
D53: 7 | E53: Nekilnojamųjų kultūros vertybių vertinimo medžiagos parengimo organizavimas ir koordinavimas, individualių apsaugos reglamentų nekilnojamiesiems kultūros objektams, vietovėms rengimas
D54: 8 | E54: Senamiesčio objektų apšvietimo (Sinagoga, Daugiakultūris centras, Monkutė Marks muziejus, Škotų 3 namai) paslaugos sutarties vykdymo kontrolė
D55: 9 | E55: Archeologiniai ir kiti tyrinėjimai kultūros paveldo teritorijose, paveldo objektams parengtų tvarkybos projektų ekspertizės vykdymas, sąmatų rengimas
B56: 004-01-04-03 (TP) | C56: Minareto ir jo prieigų tvarkyba | D56: 1 | E56: Prieigų tvarkybos darbų viešojo pirkimo organizavimas, rangovo prisiimtų sutartinių įsipareigojimų vykdymo kontrolė | F56: Architektūros ir urbanistikos skyrius | G56: SB | H56: 110 | I56: Turistams pritaikomų ir patogiai pasiekiamų turizmo objektų skaičius | J56: 1
B57: 004-01-04-04 (TP) | C57: Evangelikų ir reformatų bažnyčios infrastruktūros, jos varpinės atnaujinimas | D57: 1 | E57: Atsiskaitymo už 2025 m. atliktus darbus | F57: Architektūros ir urbanistikos skyrius, Biudžeto ir finansų skyrius | G57: SB | H57: 32.7 | I57: Einamaisiais metais numatytų darbų, proc. | J57: 100
B58: 004-01-04-05 (TP) | C58: Savivaldybės religinių bendruomenių ir bendrijų rėmimo programos įgyvendinimas | D58: 1 | E58: Programos konkurso organizavimas, sutarčių su vykdytojais suderinimas, sutarčių vykdymo kontrolė, ataskaitų rinkimas | F58: Architektūros ir urbanistikos skyrius | G58: SB | H58: 50 | I58: Kulto pastatų, kuriems skirtas finansavimas tvarkybos darbams atlikti, skaičius | J58: 4
B59: 004-01-04-06 (TP) | C59: Kultūros paveldo objektų, esančių Kėdainių rajono savivaldybės teritorijoje, ir kultūros paveldo statinių, esančių Kėdainių senamiesčio dalyje, išsaugojimo darbų finansavimo programa | D59: 1 | E59: Programos konkurso organizavimas, sutarčių su vykdytojais suderinimas, sutarčių vykdymo kontrolė, ataskaitų rinkimas | F59: Architektūros ir urbanistikos skyrius | G59: SB | H59: 50 | I59: Tvarkomų kultūros paveldo objektų ar kultūros paveldo statinių skaičius | J59: 3
A61: IŠ VISO | H61: =+H45+H36+H19+H13 -> 3087.6
C63: 1. Savivaldybės biudžetas (įskaitant skolintas lėšas) | H63: =SUM(H65:H70) -> 3087.6
C64: Iš jo:
C65: 1.1. savivaldybės biudžeto lėšos (nuosavos, be ankstesnių metų likučio) | G65: SB | H65: =+H59+H58+H57+H56+H47+H46+H43+H41+H40+H39+H37+H32+H31+H16+H15+H14+H34 -> 1407.6
C66: 1.2. Lietuvos Respublikos valstybės biudžeto dotacijos | G66: SBVB | H66: =+H33++H28+H20 -> 1620
C67: 1.3. Pajamų įmokos ir kitos pajamos | G67: ĮP
C68: 1.4. Europos Sąjungos ir kitos tarptautinės finansinės paramos lėšos | G68: ES | H68: =+H38 -> 60
C69: 1.5. Skolintos lėšos | G69: SK
C70: 1.6. Ankstesnių metų likučiai | G70: SBL
C71: 2. Kiti šaltiniai (Europos Sąjungos finansinė parama projektams įgyvendinti ir kitos teisėtai gautos lėšos, nurodant atskirus šaltinius) | G71: KT
C72: IŠ VISO programai finansuoti pagal finansavimo šaltinius (1 ir 2 punktai) | H72: =+H71+H63 -> 3087.6
C73: Iš jų: regioninių pažangos priemonių lėšos | H73: =+H38 -> 60
C74: Asignavimų ir kitų lėšų pokytis, palyginti su ankstesnių metų patvirtintų asignavimų ir kitų lėšų planu

Sheet 05 Valdymo 
B7: Programos uždavinio, priemonės kodas ir požymis | C7: Uždavinio, priemonės pavadinimas, finansavimo šaltiniai | D7: Veiklos kodas | E7: Veiklos pavadinimas | F7: Atsakingas vykdytojas | G7: Finansavimo šaltinis | H7: 2026 m. asignavimai ir kitos lėšos | I7: Vertinimo kriterijai
I8: Pavadinimas | J8: Planas
L9: =+L11+K11-6657.7 -> #REF!
B10: 05 SAVIVALDYBĖS VALDYMO TOBULINIMAS
B11: 005-01-01 (T) | C11: Sudaryti sąlygas kokybiškai įgyvendinti teisės aktuose nustatytas Savivaldybei funkcijas, mažinant administracinę naštą, įgyvendinant lygias galimybes bei korupcijos prevencijos priemones | H11: =SUM(H12:H25) -> 8368.6 | K11: =+H22+H24+H12+#REF!+#REF! -> #REF! | L11: =6657.7-K11 -> #REF!
B12: 005-01-01-01 (TP) | C12: Savivaldybės tarybos, mero ir jo tarnybos veiklos užtikrinimas | D12: 1 | E12: Tarybos, mero ir jo tarnybos veiklos užtikrinimas pagal nustatytą LR vietos savivaldos įstatymą ir tarybos veiklos reglamentą | F12: Administracijos direktorius, Apskaitos skyrius | G12: SB | H12: 776.8 | I12: Tarybos posėdžių, komitetų transliavimo dažnumas, viešumas ir prieinamumas visuomenei, proc. | J12: 100 | L12: =+H12+H22+H24+#REF!+#REF! -> #REF! | M12: 6719.9 | N12: =+M12-L12 -> #REF!
B13: 005-01-01-03 (TP) | C13: Savivaldybės administracijos veiklos užtikrinimas | D13: 1 | E13: Administracijos skyriams priskirtų funkcijų kokybiško vykdymo, administracinės naštos mažinimo priemonių vykdymo užtikrinimas | F13: Administracijos direktorius, Administracijos struktūriniai padaliniai (skyriai) ir darbuotojai, neįeinantys į struktūrinius padalinius | G13: ĮP | H13: 17.3 | I13: Administracijos pareigybių skaičius vykdantis savivaldybei priskirtas funkcijas / savivaldybės administracijos pareigybių skaičius, tenkantis 1000 rajono gyventojų | J13: 180,05 /3,9
G14: SB | H14: 6843.4 | L14: =+M12-L12 -> #REF!
B15: 005-01-01-04 (TP) | C15: Savivaldybės administracijos administracinės naštos mažinimo plano vykdymas | D15: 1 | E15: Administracijos administracinės naštos mažinimo plano priemonių vykdymo vertinimas, ataskaitų teikimas ir viešinimas | F15: Centralizuoto vidaus audito skyrius | I15: Administracinės naštos mažinimo plano metinis įvykdymo proc. | J15: 100
B16: 005-01-01-05 (TP) | C16: Savivaldybės korupcijos prevencijos veiksmų plano įgyvendinimas | D16: 1 | E16: Administracijoje ruošiamų teisės aktų projektų antikorupcinis vertinimas | F16: Vyr. specialistė (už korupcijai atsparios aplinkos kūrimą atsakingas asmuo) | I16: Korupcijos prevencijos veiksmų plano metinis įvykdymas, proc. | J16: 100
D17: 2 | E17: Priežiūros ir (ar) kontrolės veiklų planavimas, koordinavimas, kontrolė, korupcijos prevencijos viešinimo vykdymas
D18: 3 | E18: 2025-2027 m. Korupcijos prevencijos veiksmų plano įgyvendinimo koordinavimas ir ataskaitos rengimas
B19: 005-01-01-06 (TP) | C19: Lygių galimybių, moterų ir vyrų lygybės politikos įgyvendinimas bei asmens duomenų apsaugos užtikrinimas | D19: 1 | E19: Priemonės įgyvendinimo koordinavimas | F19: Socialinės paramos skyrius, Teisės ir personalo skyrius | I19: Vieta pagal lyčių lygybės stebėsenos savivaldybėse rodiklius (2023 m. -12) | J19: 10-tuke
B20: 005-01-01-07 (TP) | C20: Diasporos politikos įgyvendinimas | D20: 1 | E20: Priemonės įgyvendinimo koordinavimas | F20: Patarėja (jaunimo reikalų koordinatorė) | I20: Diasporos atstovų, prisidedančių prie Kėdainių vardo garsinimo ir ryšių su užsienio lietuviais stiprinimo, skaičius | J20: 3
B21: 005-01-01-08 (TP) | C21: Kėdainių rajono savivaldybės administracijos kokybės vadybos sistemos priežiūra ir atnaujinimas | D21: 1 | E21: Kokybės vadybos sistemos administracinių paslaugų rodiklių priežiūra | F21: Bendrasis skyrius | I21: Kokybės vadybos sistemos administracinių paslaugų rodiklių pasiekimas | J21: 100
B22: 005-01-01-09 (TP) | C22: Savivaldybės žmogiškųjų išteklių kompetencijų stiprinimas | D22: 1 | E22: Kompetencijų stiprinimo organizavimas | F22: Teisės ir personalo skyrius | G22: SB | H22: 46.5 | I22: Savivaldybės administracijos darbuotojų, per metus tobulinusių kvalifikaciją, dalis, proc. | J22: ~90
B23: 005-01-01-10 (TP) | C23: IT sistemų atnaujinimas, priežiūra, kibernetinio saugumo užtikrinimas, kolokacijos paslauga Valstybės duomenų centre, bendradarbiavimas dėl VDV IS, apimant "duomenų ežerą" | D23: 1 | E23: IT įrangos, programų, IS atnaujinimo viešųjų pirkimų organizavimas, įdiegtų programų, IS priežiūra ir plėtros organizavimas | F23: Bendrasis skyrius | G23: SB | H23: 420 | I23: KRSA valdomų ir tvarkomų informacinių sistemų skaičius / visuomenei atvertų duomenų rinkinių skaičius (kaupiamieji vienetai) | J23: 62/20
B24: 005-01-01-11 (TP) | C24: Seniūnaičių veiklos organizavimas | D24: 1 | E24: Seniūnaičių veiklos užtikrinimas (darbo užmokesčio mokėjimas) | F24: Apskaitos skyrius | G24: SB | H24: 33.6 | I24: Seniūnijose išrinktų seniūnaičių skaičius | J24: 70
B25: 005-01-01-12 (TP) | C25: Valstybės perduotų savivaldybei funkcijų kokybiškas įgyvendinimas ir organizavimas | D25: 1 | E25: Gyventojų registro tvarkymas ir duomenų valstybės registrui teikimas | F25: Civilinės metrikacijos ir archyvo skyrius | G25: SBVB | H25: 231 | I25: Vykdomų valstybės deleguotų funkcijų skaičius (bendras) | J25: 26
D26: 2 | E26: Savivaldybei priskirtų archyvinių dokumentų tvarkymas | F26: Civilinės metrikacijos ir archyvo skyrius
D27: 3 | E27: Civilinės būklės aktų registravimas | F27: Civilinės metrikacijos ir archyvo skyrius
D28: 4 | E28: Valstybinės kalbos vartojimo ir taisyklingumo kontrolė | F28: Vyr. specialistė (kalbos tvarkytoja)
D29: 5 | E29: Koordinuotai teikiamų paslaugų vaikams nuo gimimo iki 18 metų (turintiems didelių ir labai didelių specialiųjų ugdymosi poreikių – iki 21 metų) ir vaiko atstovams pagal įstatymą koordinavimas | F29: Vyr. specialistė (tarpinstitucinio bendradarbiavimo koordinatorė)
D30: 6 | E30: Jaunimo politikos įgyvendinimas | F30: Patarėja (jaunimo reikalų koordinatorė)
D31: 7 | E31: Valstybės garantuojamos pirminės teisinės pagalbos teikimas | F31: Teisės ir personalo skyrius
D32: 8 | E32: Duomenų teikimas valstybės suteiktos pagalbos registrui | F32: Biudžeto ir finansų skyrius
D33: 9 | E33: Savivaldybių teritorijoje esančių miestų ir miestelių teritorijų ribose valstybinės žemės, perduotos Lietuvos Respublikos Vyriausybės nutarimu, patikėtinio funkcijos vykdymas | F33: Turto valdymo skyrius
D34: 10 | E34: Erdvinių duomenų rinkinio tvarkymas | F34: Architektūros ir urbanistikos skyrius
B35: 005-01-02 (T) | C35: Užtikrinti finansavimą nenumatytoms išlaidoms dengti bei valdyti prisiimtus finansinius įsipareigojimus | H35: =SUM(H36:H40) -> 2770.6
B36: 005-01-02-01 (TP) | C36: Savivaldybės mero rezervas | D36: 1 | E36: Tikslingas lėšų skyrimas ekstremalioms situacijoms ir arba ekstremaliems įvykiams likviduoti, jų padariniams šalinti, gaisrų ir stichinių nelaimių padariniams likviduoti | F36: Apskaitos skyrius | G36: SB | H36: 170 | I36: Tikslingai panaudoto rezervo dalis, proc. | J36: 100
B37: 005-01-02-02 (TP) | C37: Savivaldybės mero fondas | D37: 1 | E37: Tikslingas lėšų, skirtų Kėdainių rajono savivaldybės mero fondui, panaudojimas | F37: Apskaitos skyrius | G37: SB | H37: 29 | I37: Tikslingai panaudoto fondo dalis, proc. | J37: 100
B38: 005-01-02-03 (TP) | C38: Paskolų grąžinimas, palūkanų ir paskolų aptarnavimo išlaidų apmokėjimas | D38: 1 | E38: Prisiimtų finansinių įsipareigojimų vykdymas pagal nustatytus paskolų grąžinimo grafikus | F38: Biudžeto ir finansų skyrius | G38: SB | H38: 430 | I38: Finansinių įsipareigojimų vykdymo savalaikiškumas, proc. | J38: 100
G39: SB | H39: 75.8
G40: SK | H40: 2065.8
B41: 005-01-03 (T) | C41: Skatinti vietos bendruomenę įsitraukti į vietos valdymą | H41: =SUM(H42:H42) -> 90
B42: 005-01-03-02 (TP) | C42: Visuomenės įtraukimas į planavimo, biudžeto formavimo, konsultavimosi procesus, organizuojant dalyvaujamojo biudžeto iniciatyvų konkursą ir iniciatyvų įgyvendinimą | D42: 1 | E42: 2026 m. gyventojų iniciatyvų, skirtų gyvenamajai aplinkai gerinti, projektų idėjų atrankos konkurso organizavimas ir koordinavimas | F42: Patarėja (jaunimo reikalų koordinatorė) | G42: SB | H42: 90 | I42: Įgyvendinamų gyventojų iniciatyvų skaičius | J42: 3
D43: 2 | E43: "Kėdainių rajono gyventojo mobili aplikacija" iniciatyvos įgyvendinimas (II d.): paslaugų, tiekėjo prisiimtų sutartinių įsipareigojimų vykdymo kontrolė | F43: Bendrasis skyrius
D44: 3 | E44: "KULTŪRŲ KIEMAS – pažink Kėdainių istoriją kitaip" iniciatyvos įgyvendinimas: rangos darbų viešojo pirkimo organizavimas, rangos darbų koordinavimas, rangovo prisiimtų sutartinių įsipareigojimų vykdymo kontrolė | F44: Statybos skyrius
D45: 4 | E45: „Viešosios infrastruktūros sutvarkymas Surviliškio miestelio centre“ iniciatyvos įgyvendinimas: darbų bei įrenginių rengimo viešojo pirkimo organizavimas, darbų koordinavimas, rangovo prisiimtų sutartinių įsipareigojimų vykdymo kontrolė | F45: Statybos skyrius
H46: =+H41+H35+H11 -> 11229.2
C48: 1. Savivaldybės biudžetas (įskaitant skolintas lėšas) | H48: =SUM(H50:H55) -> 11229.2
C49: Iš jo:
C50: 1.1. savivaldybės biudžeto lėšos (nuosavos, be ankstesnių metų likučio) | G50: SB | H50: =+H42+H39+H38+H37+H36+H24+H23+H22+H14+H12 -> 8915.1
C51: 1.2. Lietuvos Respublikos valstybės biudžeto dotacijos | G51: SBVB | H51: =+H25 -> 231
C52: 1.3. Pajamų įmokos ir kitos pajamos | G52: ĮP | H52: =+H13 -> 17.3
C53: 1.4. Europos Sąjungos ir kitos tarptautinės finansinės paramos lėšos | G53: ES
C54: 1.5. Skolintos lėšos | G54: SK | H54: =+H40 -> 2065.8
C55: 1.6. Ankstesnių metų likučiai | G55: SBL
C56: 2. Kiti šaltiniai (Europos Sąjungos finansinė parama projektams įgyvendinti ir kitos teisėtai gautos lėšos, nurodant atskirus šaltinius) | G56: KT
C57: IŠ VISO programai finansuoti pagal finansavimo šaltinius (1 ir 2 punktai) | H57: =+H56+H48 -> 11229.2
C58: Iš jų: regioninių pažangos priemonių lėšos
C59: Asignavimų ir kitų lėšų pokytis, palyginti su ankstesnių metų patvirtintų asignavimų ir kitų lėšų planu

Sheet Lešų poreikis iš viso
B2: 2026 m. lėšų poreikis (tūkst. Eur)
B3: Eil. Nr. | C3: Programos kodas ir pavadinimas | D3: 2026 m. asignavimai ir kitos lėšos
B4: 01 | C4: Aktyvios visuomenės ugdymo programa | D4: =+'01 Visuomenės ugdymo'!H83 -> 7179.6
B5: 02 | C5: Socialinės gerovės užtikrinimo programa | D5: =+'02 Socialinės gerovės'!H104 -> 41043.7
B6: 03 | C6: Darnios aplinkos ir infrastruktūros plėtros programa | D6: =+'03 Darnios aplinkos'!H73 -> 16162.24
B7: 04 | C7: Ekonominės plėtros programa | D7: =+'04 Ekonominės plėtros'!H61 -> 3087.6
B8: 05 | C8: Savivaldybės valdymo tobulinimo programa | D8: =+'05 Valdymo '!H46 -> 11229.2
C9: IŠ VISO PROGRAMOS ĮGYVENDINTI | D9: =SUM(D4:D8) -> 78702.34
B10: 1. Savivaldybės biudžetas (įskaitant skolintas lėšas) | D10: =+'01 Visuomenės ugdymo'!H85+'02 Socialinės gerovės'!H106+'03 Darnios aplinkos'!H75+'04 Ekonominės plėtros'!H63+'05 Valdymo '!H48 -> 78702.34
B11: Iš jo:
B12: 1.1. savivaldybės biudžeto lėšos (nuosavos, be ankstesnių metų likučio) SB | D12: =+'01 Visuomenės ugdymo'!H87+'02 Socialinės gerovės'!H108+'03 Darnios aplinkos'!H77+'04 Ekonominės plėtros'!H65+'05 Valdymo '!H50 -> 34855.04
B13: 1.2. Lietuvos Respublikos valstybės biudžeto dotacijos SBVB | D13: =+'01 Visuomenės ugdymo'!H88+'02 Socialinės gerovės'!H109+'03 Darnios aplinkos'!H78+'04 Ekonominės plėtros'!H66+'05 Valdymo '!H51 -> 33213.5
B14: 1.3. Pajamų įmokos ir kitos pajamos ĮP | D14: =+'01 Visuomenės ugdymo'!H89+'02 Socialinės gerovės'!H110+'03 Darnios aplinkos'!H79+'04 Ekonominės plėtros'!H67+'05 Valdymo '!H52 -> 17.3
B15: 1.4. Europos Sąjungos ir kitos tarptautinės finansinės paramos lėšos ES | D15: =+'01 Visuomenės ugdymo'!H90+'02 Socialinės gerovės'!H111+'03 Darnios aplinkos'!H80+'04 Ekonominės plėtros'!H68+'05 Valdymo '!H53 -> 6408.5
B16: 1.5. Skolintos lėšos SK | D16: =+'01 Visuomenės ugdymo'!H91+'02 Socialinės gerovės'!H112+'03 Darnios aplinkos'!H81+'04 Ekonominės plėtros'!H69+'05 Valdymo '!H54 -> 4208
B17: 1.6. Ankstesnių metų likučiai SBL | D17: =+'01 Visuomenės ugdymo'!H92+'02 Socialinės gerovės'!H113+'03 Darnios aplinkos'!H82+'04 Ekonominės plėtros'!H70+'05 Valdymo '!H55 -> 0
B18: 2. Kiti šaltiniai (Europos Sąjungos finansinė parama projektams įgyvendinti ir kitos teisėtai gautos lėšos, nurodant atskirus šaltinius) KT | D18: =+'01 Visuomenės ugdymo'!H93+'02 Socialinės gerovės'!H114+'03 Darnios aplinkos'!H83+'04 Ekonominės plėtros'!H71+'05 Valdymo '!H56 -> 0
B19: IŠ VISO programai finansuoti pagal finansavimo šaltinius (1 ir 2 punktai) | D19: =+'01 Visuomenės ugdymo'!H94+'02 Socialinės gerovės'!H115+'03 Darnios aplinkos'!H84+'04 Ekonominės plėtros'!H72+'05 Valdymo '!H57 -> 78702.34
B20: Iš jų: regioninių pažangos priemonių lėšos | D20: =+'01 Visuomenės ugdymo'!H95+'02 Socialinės gerovės'!H116+'03 Darnios aplinkos'!H85+'04 Ekonominės plėtros'!H73+'05 Valdymo '!H58 -> 4357
B21: Asignavimų ir kitų lėšų pokytis, palyginti su ankstesnių metų patvirtintų asignavimų ir kitų lėšų planu
