Workbook

Sheet 01 Visuomenės ugdymo
G1: PATVIRTINTA
G2: Kėdainių rajono savivaldybės administracijos direktoriaus
G3: 2026 m. kovo 3 d. įsakymu Nr.AD-1-187
A7: Kėdainių rajono savivaldybės administracijos 2025 metų veiklos plano ataskaita
B9: Programos uždavinio, priemonės kodas ir požymis | C9: Uždavinio, priemonės pavadinimas, finansavimo šaltiniai | D9: Veiklos kodas | E9: Veiklos pavadinimas | F9: Atsakingas vykdytojas | G9: Finansavimo šaltinis | H9: Numatomi 2025 m. asignavimai ir kitos lėšos, tūkst. Eur | I9: Numatomi 2025 m. asignavimai ir kitos lėšos, tūkst. Eur | J9: Vertinimo kriterijai
J10: Pavadinimas | K10: Planuota reikšmė | L10: Pasiekta reikšmė | M10: Komentarai, pastabos, nukrypimų nuo plano priežastys
B12: 01 AKTYVIOS VISUOMENĖS UGDYMAS
B13: 001-01-01 (T) | C13: Sudaryti prielaidas ugdymo kokybei gerinti, mažinti ugdymo kokybės skirtumus tarp mokyklų, užtikrinti STEAM dalykų programų įgyvendinimą bei skaitmeninio ugdymo turinio plėtrą | H13: =SUM(H14:H21) -> 1038.7 | I13: =SUM(I14:I21) -> 1011.4
B14: 001-01-01-01 (TP) | C14: Švietimo programų įgyvendinimas ir tinkamos ugdymo(si) aplinkos užtikrinimas | D14: 1 | E14: Mokinio padėjėjo skyrimo tvarkos aprašo parengimas, komisijos darbo organizavimas | F14: Švietimo, kultūros ir sporto skyrius, Biudžeto ir finansų skyrius | G14: SB | H14: 40 | I14: 32.5 | J14: Parengtas Mokinio padėjėjo skyrimo tvarkos aprašas | K14: 1 | L14: 1 | M14: 2025 m. rugsėjo 26 d. Kėdainių rajono savivaldybės tarybos sprendimu Nr. TS-238 patvirtintas Mokinio padėjėjų ir švietimo pagalbos specialistų pareigybių finansavimo tvarkos aprašas, reglamentuojantis švietimo įstaigose dirbančių mokinio padėjėjų pareigybių ir švietimo pagalbos specialistų (specialiųjų pedagogų, tiflopedagogų, surdopedagogų, logopedų, socialinių pedagogų, psichologų) paslaugų finansavimo tvarką iš Savivaldybės biudžeto lėšų
B15: 001-01-01-02 (PP) | C15: "Tūkstantmečio mokyklos I" projekto įgyvendinimas | D15: 1 | E15: Projekte dalyvaujančių mokyklų vykdomų veiklų koordinavimas, informacijos apie įgyvendinamas veiklas, mokėjimo prašymų įgyvendinančioms institucijoms teikimas | F15: Strateginio planavimo ir investicijų skyrius, Švietimo, kultūros ir sporto skyrius, Apskaitos skyrius | G15: SB | H15: 5 | I15: 0.8 | J15: Programoje, dalyvaujančių įstaigų skaičius (tinklaveika) | K15: 15 | L15: 15 | M15: Tęstas TŪM projekto įgyvendinimas: keturiose ugdymo šįstaogose įrengtos laboratorijos ir įvairios edukacinės erdvės, įsigyta įranga, vykdyta tinklaveika ir dalijimasis gerąja patirtimi. Veiklas 2025 m. užbaigė "Ryto" ir Senamiesčio progimnazijos bei "Atžalyno" gimnazija, o Šviesioji gimnazija tinklaveiką tęs iki 2026 m.I ketv.
G16: ES | H16: 642 | I16: 632.7
G17: SBVB | H17: 160 | I17: 158.6
B18: 001-01-01-03 (TP) | C18: "Pirmoko krepšelio" finansavimas | D18: 1 | E18: "Pirmoko krepšelio" įsigijimo viešojo pirkimo organizavimas | F18: Bendrasis skyrius | G18: SB | H18: 9.7 | I18: 9.7 | J18: Pirmoko krepšelį gaunančiųjų skaičius | K18: 400 | L18: 400 | M18: Visi pirmokai rugsėjo 1 d. buvo apdovanoti „Pirmoko krepšeliu“, kuriame rado svarbiausius mokyklinius reikmenis
B19: 001-01-01-04 (TP, PP) | C19: Švietimo paslaugų kokybės gerinimas, aprūpinant efektyviai veikiančias bendrojo ugdymo mokyklas laboratorine įranga ir priemonėmis | D19: 1 | E19: Biudžeto lėšų skyrimo įsakymo parengimas, priemonės koordinavimas | F19: Švietimo, kultūros ir sporto skyrius | G19: SB | H19: 50 | I19: 50 | J19: Bendrojo ugdymo mokyklų (vykdančių vidurinio ar pagrindinio ugdymo programas), turinčių gamtos mokslų laboratorijas, dalis (proc.) | K19: 85 | L19: 85 | M19: Savivaldybės biudžeto lėšomis laboratorijų įrangą, priemones įsigijo Šėtos, Josvainių, Krakių Mikalojaus Katkaus ir Akademijos gimnazijos
D20: 2 | E20: Projekto „Ugdymo priemonės mokykloms“ koordinavimas | G20: ES | H20: 15 | I20: 10.1 | M20: 9 ugdymo įstaigos dalyvauja ES projekte, siekiant gerinti švietimo paslaugų kokybę, aprūpinant efektyviai veikiančias bendrojo ugdymo mokyklas laboratorine įranga, priemonėmis ir kompiuterine įranga. 2025 m. projekto dalyvėms paskirti 286 kompiuteriai ir 2 kalbų laboratorijos
B21: 002-01-01-05 (TP, PP) | C21: Skaitmeninio ugdymo plėtra | D21: 1 | E21: Priemonės vykdymo koordinavimas | F21: Švietimo, kultūros ir sporto skyrius | G21: SB | H21: 117 | I21: 117 | J21: Įstaigų, plečiančių skaitmeninimą, skaičius | K21: 15 | L21: 15 | M21: 15 švietimo įstaigų įsigijo skaitmeniniui ugdymui reikalingą įrangą, skaitmenines mokymosi platformas, licencijas
B22: 001-01-02 (T, P) | C22: Užtikrinti neformaliojo ugdymo dermę | H22: =SUM(H23:H26) -> 123.6 | I22: =SUM(I23:I26) -> 123.6
B23: 001-01-02-01 (TP) | C23: Neformaliojo vaikų švietimo, socializacijos, prevencijos veiklų programų plėtojimas, vaikų vasaros stovyklų finansavimas | D23: 1 | E23: Programų konkurso organizavimas, konsultacijos, paraiškų ir sutarčių derinimas, veiklų stebėjimas, vertinimas, ataskaitų teikimas | F23: Švietimo, kultūros ir sporto skyrius | G23: SB | H23: 70 | I23: 70 | J23: Mokinių, dalyvavusių vasaros stovyklose, dalis (proc.) | K23: 14,6 | L23: 14,6 | M23: Finansuota 26 vaikų vasaros poilsio ir užimtumo stovyklų programų, kuriose dalyvavo 705 vaikų, iš jų 69 turintys didelių ir labai didelių specialiųjų ugdymosi poreikių. 27 NVŠ teikėjai vykdė 60 programų, kuriose vidutiniškai dalyvavo 1 873 mokinių. Apie 240 mokinių, turinčių vidutinių, didelių ir labai didelių specialiųjų ugdymosi poreikių, buvo skirti 2 NVŠ krepšeliai. NVŠ krepšeliu pasinaudojo apie 37 proc. mokinių, iš jų apie 46 proc. – iš miesto mokyklų, apie 54 proc. – kaimiškųjų vietovių. NVŠ veiklose, organizuojamose mokyklų ir kitų švietimo teikėjų, dalyvavo 79,1 proc. Savivaldybės bendrojo ugdymo mokyklų mokinių
G24: SBVB | H24: 8.6 | I24: 8.6
B25: 001-01-02-04 (PP) | C25: Projekto "Išmaniųjų akademija" įgyvendinimas (ES projekto "Kauno regiono funkcinės zonos strategija" dalis) | D25: 1 | E25: Projekto finansavimo sutarties derinimas, partnerystės sutarties su Kalbų mokykla rengimas, ES projekto koordinavimas | F25: Strateginio planavimo ir investicijų skyrius | G25: SB | H25: 10 | I25: 10 | J25: Projekto veiklų įgyvendinimo proc. | K25: 5 | L25: 5 | M25: Pasirašyta projekto finansavimo sutartis. Projektas įgyvendinamas kartu su Kėdainių kalbų mokykla. 2025 m. pradėti Kalbų mokyklos patalpų (pasaulio virtuvės) remonto darbai, sudaryta sutartis dėl 5-tų klasių programos turinio kūrimo.
D26: 2 | E26: Remonto darbų viešojo pirkimo vykdymas, darbų koordinavimas, rangovo prisiimtų sutartinių įsipareigojimų vykdymo kontrolė | F26: Statybos skyrius | G26: ES | H26: 35 | I26: 35
B27: 001-01-03 (T) | C27: Gerinti švietimo pagalbos teikimą, įgyvendinti kokybišką įvairių ugdymosi poreikių turinčių mokinių ugdymą, taikant inovatyvius ugdymo(si) metodus ir būdus | H27: =SUM(H28:H33) -> 846.8 | I27: =SUM(I28:I33) -> 645
B28: 001-01-03-02 (PP) | C28: Projekto "Ugdymo prieinamumo didinimas atskirtį patiriantiems vaikams Kėdainių „Ryto“ ir Kėdainių senamiesčio progimnazijose" įgyvendinimas | D28: 1 | E28: ES projekto koordinavimas, rangos darbų, įrangos, priemonių įsigijimo sutarčių koordinavimas, rangovo / tiekėjų prisiimtų sutartinių įsipareigojimų vykdymo kontrolė | F28: Strateginio planavimo ir investicijų skyrius, Statybos skyrius, Apskaitos skyrius | G28: SB | H28: 60 | I28: 26.3 | J28: Įgyvendintų projekto veiklų dalis, proc. (bendras) | K28: 10 | L28: 9 | M28: Pradėtos įgyvendinti projekto veiklos, kuriomis siekiama didinti ugdymo įstaigų įtrauktį: sėkmingai atliktos viešųjų pirkimų procedūros ir Kėdainių Senamiesčio bei „Ryto“ progimnazijose pradėti universalaus dizaino sprendimų įgyvendinimo rangos darbai
G29: ES | H29: 215 | I29: 138.5
B30: 001-01-03-03 (PP) | C30: Projekto "Įvairialypio švietimo plėtojimas Kėdainių „Aušros“ progimnazijoje ir Vilainių mokykloje-darželyje „Obelėlė“, vykdant visos dienos mokyklos veiklą" įgyvendinimas | D30: 1 | E30: ES projekto koordinavimas, rangos darbų, įrangos, priemonių įsigijimo viešųjų pirkimų organizavimas, sutarčių koordinavimas, rangovo / tiekėjų prisiimtų sutartinių įsipareigojimų vykdymo kontrolė | F30: Strateginio planavimo ir investicijų skyrius, Statybos skyrius, Apskaitos skyrius | G30: SB | H30: 79.8 | I30: 53.5 | J30: Įgyvendintų projekto veiklų dalis, proc. (bendras) | K30: 85 | L30: 86 | M30: Atlikus patalpų remonto darbus, ruoštasi visos dienos mokyklos veiklos pradžiai: įsigyjama šiuolaikiška įranga, funkciniai baldai bei ugdymo priemonės, kurios užtikrins kokybišką mokinių užimtumą ir individualią pagalbą ateityje
G31: ES | H31: 180 | I31: 156
B32: 001-01-03-04 (PP) | C32: Projekto „Ankstyvojo ugdymo užtikrinimas vaikams iš socialinę riziką patiriančių šeimų“ įgyvendinimas | D32: 1 | E32: ES projekto koordinavimas | F32: Švietimo, kultūros ir sporto skyrius, Apskaitos skyrius | G32: ES | H32: 260 | I32: 230.3 | J32: Į ikimokyklinį ir priešmokyklinį ugdymą įtrauktų vaikų iš socialinę riziką patiriančių šeimų teikiant jiems pagalbą ugdymo procese dalis (skaičiuojama įgyvendinus projektą -2027 m.) | K32: 100 | L32: 155 | M32: Per 2025 m. į ikimokyklinį ir priešmokyklinį ugdymą sėkmingai įtraukti 155 vaikai iš 18 švietimo įstaigų, teikiant jiems pagalbą ugdymo procese.
G33: SBVB | H33: 52 | I33: 40.4
B34: 001-01-04 (T) | C34: Didinti pedagogų ir mokinių motyvaciją, užtikrinti sveiką, saugią emocinę ir fizinę aplinką ugdymo įstaigose | H34: =SUM(H35:H40) -> 560.8 | I34: =SUM(I35:I40) -> 535.5
B35: 001-01-04-01 (TP) | C35: Mokytojų ir švietimo pagalbos specialistų pritraukimas, perkvalifikavimas ir skatinimas | D35: 1 | E35: Programos įgyvendinimo organizavimas, programos įgyvendinimo koordinavimas | F35: Švietimo, kultūros ir sporto skyrius | G35: SB | H35: 123 | I35: 119.3 | J35: Dalykinių olimpiadų ir konkursų prizininkų skaičius, tenkantis 10 tūkst. mokinių | K35: 5.5 | L35: 5.9 | M35: 2025 m. priemone pasinaudojo 2 pradedantieji pedagogai (finansinis skatinimas), 1 pedagogas gavo būsto išlaidų kompensaciją, 4 pedagogams apmokėtos studijos, daugiau nei 100 pedagogų iš visų ugdymo įstaigų paskatinti už pedagoginę lyderystę ir profesinius pasiekimus, visų ugdymo įstaigų pedagogai dalyvavo psichologinio atsparumo ir profesinių kompetencijų stiprinimo veiklose, taip pat pedagogams organizuoti forumai, konferencijos ir kiti profesiniai renginiai.
B36: 001-01-04-03 (TP) | C36: Gabių mokinių skatinimas | D36: 1 | E36: Mokyklose besimokančių gabių mokinių, per vienerius mokslo metus pasiekusių puikių mokymosi rezultatų, įvertinimo ir paskatinimo organizavimas | F36: Švietimo, kultūros ir sporto skyrius | G36: SB | H36: 45.8 | I36: 45.6 | J36: Paskatintų gabių mokinių skaičius | K36: 145 | L36: 223 | M36: Už pasiekimus dalykinėse olimpiadose, konkursuose, meno festivaliuose ir sporto varžybose buvo atrinkti ir apdovanoti 174 mokiniai. Už gautus aukštus įvertinimus brandos egzaminuose apdovanoti 49 abiturientai. Už puikius pedagoginio darbo rezultatus Kėdainių r. Krakių Mikalojaus Katkaus gimnazijos biologijos mokytoja metodininkė Jolanta Varnienė tapo Savivaldybės Metų mokytoja
B37: 001-01-04-04 (TP) | C37: Dalyvaujamojo biudžeto iniciatyvų ugdymo įstaigose įgyvendinimas | D37: 1 | E37: Priemonės įgyvendinimo organizavimas | F37: Švietimo, kultūros ir sporto skyrius | G37: SB | H37: 11 | I37: 11 | J37: Į dalyvaujamojo biudžeto iniciatyvas įsitraukusiųjų mokyklų skaičius | K37: 11 | L37: 11 | M37: Savivaldybės švietimo įstaigose įgyvendintas Dalyvaujamasis biudžetas, lėšos paskirstytos 11 švietimo įstaigų. Iniciatyva sustiprino demokratinius procesus mokyklose, skatino mokinių pilietiškumą, atsakomybę ir finansinį raštingumą, didino jų įsitraukimą į sprendimų priėmimą bei prisidėjo prie mokyklų aplinkos gerinimo.
B38: 001-01-04-06 (TP) | C38: Priklausomybę sukeliančių medžiagų vartojimo mažinimo ir prevencijos programos priemonių įgyvendinimas | D38: 1 | E38: Programos 2025 m. numatytų priemonių įgyvendinimas, organizavimas, koordinavimas | F38: Vyr. specialistas (tarpinstitucinio bendradarbiavimo koordinatorius), patarėja (sveikatos reikalų koordinatorė), patarėja (jaunimo reikalų koordinatorė) | G38: SB | H38: 82 | I38: 82 | J38: Įgyvendinamų prevencinių priemonių skaičius | K38: 29 | L38: 29 | M38: Savivaldybės ugdymo įstaigose stiprintas saugumas ir prevencinė veikla: 3 įstaigose įrengtos lauko durų užrakinimo sistemos, 9 įstaigose – vaizdo stebėjimo kameros, 1 progimnazijoje – elektroninių cigarečių detektoriai. Suorganizuota sporto mugė, įgyvendintos socialinės-prevencinės kampanijos, kurtos ir tobulintos mokytojų bei pagalbos specialistų emocinės gerovės priemonės, dalyvauta kompetencijų didinimo mokymuose priklausomybių prevencijos tema. Taip pat organizuotos prevencinės paskaitos mokiniams, tėvams ir mokytojams bei seminaras apie psichoaktyvių medžiagų vartojimo prevenciją, plėtotos mobilaus ir atvirojo darbo su jaunimu paslaugos
B39: 001-01-04-07 (TP) | C39: Vaikų maitinimo ekologiškais ir pagal nacionalinę maisto kokybės sistemą pagamintais produktais l/d "Žilvitis" ir "Pasaka" organizavimas (dalyvavimas projekte) | D39: 1 | E39: Priemonės įgyvendinimo koordinavimas | F39: Švietimo, kultūros ir sporto skyrius, Biudžeto ir finansų skyrius | G39: SB | H39: 44 | I39: 28.8 | J39: Ekologiškai besimaitinančių vaikų skaičius | K39: ~355 | L39: 356 | M39: Lopšeliui-darželiui „Žilvitis“ ir lopšeliui-darželiui „Pasaka" dalyvaujant Žemės ūkio ministerijos iniciatyvoje, siekiama vaikus maitinti trumposiomis maisto tiekimo grandinėmis tiekiamu vietiniu kokybišku maistu. Parama dengiamas kainų skirtumas, susidarantis renkantis ekologiškus ir pagal nacionalinę maisto kokybės sistemą pagamintus produktus vietoj įprastinių maisto produktų ir žaliavų
B40: 001-01-04-09 (TP) | C40: Saugių ugdymo sąlygų įstaigose užtikrinimas | D40: 1 | E40: Priemonės įgyvendinimo koordinavimas | F40: Švietimo, kultūros ir sporto skyrius, Biudžeto ir finansų skyrius | G40: SB | H40: 255 | I40: 248.8 | J40: Įstaigų skaičius, kuriose atlikti remonto darbai / įrengti kondicionieriai | K40: 9/ 13 | L40: 9/ 13 | M40: Darbai buvo vykdyti Josvainių, Šviesiosios, Šėtos, Krakių M Katkaus, Akademijos gimnazijose, Senamiesčio, „Ryto“, „Aušros", progimnazijose, lopšeliuose-darželiuose „Vaikystė“, „Puriena“, „Pasaka“, „Varpelis“, „Žilvitis“, Dotnuvos, Labūnavos pagrindinėse mokyklose, Kalbų, Muzikos ir Spindulio mokyklose
B41: 001-01-05 (T) | C41: Vystyti jaunimui palankią aplinką, plėsti ir skatinti įvairias veiklas ir užimtumą, formuojant jaunimo politiką | H41: =+H42+H43+H45 -> 92 | I41: =+I42+I43+I45 -> 90.8
B42: 001-01-05-01 (TP) | C42: Jaunimui palankios aplinkos vystymas, skatinant įvairias veiklas, formuojant jaunimo politiką | D42: 1 | E42: Tarptautinės jaunimo dienos renginio organizavimas | F42: Patarėja (jaunimo reikalų koordinatorė) | G42: SB | H42: 25 | I42: 25 | J42: Suorganizuotas jaunimo dienos renginys | K42: 1 | L42: 1 | M42: Su Savivaldybės jaunimo reikalų taryba, įvairiomis rajono jaunimo ir su jaunimu dirbančiomis organizacijomis suorganizuotas Jaunimo dienos renginys, turėjęs didelį jaunimo susidomėjimą ir populiarumą
B43: 001-01-05-02 (TP) | C43: Jaunimo veiklos projektų, programų finansavimas | D43: 1 | E43: Jaunimo veiklos projektų konkurso organizavimas, sutarčių rengimas, ataskaitų rinkimas | F43: Patarėja (jaunimo reikalų koordinatorė) | G43: SB | H43: 42 | I43: 41 | J43: Finansuotų projektų, programų skaičius | K43: 12 | L43: 12 | M43: 2025 m. rajone veikė 6 atvirosios jaunimo erdvės ir 1 atvirasis jaunimo centras, kuriuose per metus apsilankė daugiau nei 1 tūkst. jaunuolių. Konkurso būdu finansuoti 6 projektai, kurių veiklose dalyvavo 1526 jaunuoliai. Taip pat finansuoti 6 jaunimo ir (ar) su jaunimu dirbančių organizacijų projektai, į kurių veiklas įsitraukė 1492 jaunuoliai (14–29 m.). Įgyvendinta Kėdainių rajono mokinių savivaldos plėtros 2025 m. programa, kurioje dalyvavo 1629 jaunuoliai, surengtas 41 mokymas, susitikimai ir posėdžiai.
D44: 2 | E44: Programų, užtikrinančių jaunimo neformalaus ugdymo plėtrą. sutarčių dėl finansavimo sudarymas, programų įgyvendinimo priežiūros organizavimas, ataskaitų rinkimas | F44: Patarėja (jaunimo reikalų koordinatorė) | J44: Suorganizuotų mokymų, susitikimų, renginių, forumų skaičius | K44: 10 | L44: 10
B45: 001-01-05-03 (TP) | C45: Jaunimo užimtumo vasarą ir integracijos į darbo rinką programos įgyvendinimas, skatinimas užsiimti savanoriška veikla | D45: 1 | E45: Jaunimo užimtumo vasarą ir integracijos į darbo rinką programos koordinavimas ir viešinimas | F45: Patarėja (jaunimo reikalų koordinatorė) | G45: SB | H45: 25 | I45: 24.8 | J45: Pagal programą įdarbintų 14-21 m. jaunuolių skaičius | K45: 25 | L45: 25 | M45: Jaunimo užimtumo vasarą programa, kurios tikslas sudaryti palankias sąlygas kokybiškam jaunimo užimtumui, susidomėjo 11 darbdavių. Programoje dalyvavo 25 jaunuoliai (14−21 m.) Savanoriškos tarnybos įgyvendinimą rajone koordinuoja LPF „Tavo svajonė“. Programos veikloje dalyvavo 13 jaunuolių
D46: 2 | E46: Jaunimo savanoriškos veiklos plėtros konkurso organizavimas | F46: Patarėja (jaunimo reikalų koordinatorė) | J46: Veiklose dalyvaujančių savanorių skaičius | K46: 10 | L46: 10
B47: 001-01-06 (T) | C47: Skatinti nevyriausybinių ir bendruomeninių organizacijų plėtrą, didinti jų įtrauktį | H47: =SUM(H48:H52) -> 183.2 | I47: =SUM(I48:I52) -> 177.4
B48: 001-01-06-01 (TP) | C48: Nevyriausybinių organizacijų institucinis stiprinimas bei veiklos plėtojimo projektų finansavimas | D48: 1 | E48: Nevyriausybinių organizacijų veiklos projektų konkurso organizavimas | F48: Vyr. specialistė (nevyriausybinių organizacijų koordinatorė) | G48: SB | H48: 39 | I48: 38.1 | J48: Finansuotų projektų skaičius | K48: 10 | L48: 10 | M48: Organizuotas Nevyriausybinių organizacijų institucinio stiprinimo ir veiklos plėtojimo projektų finansavimo Savivaldybės biudžeto lėšomis konkursas. Konkurso būdu finansuota 10 projektų
D49: 2 | E49: Nevyriausybinių organizacijų forumo ir tarptautinės savanorių dienos paminėjimo organizavimas | J49: Paskatintų iniciatyvų bei suorganizuotų veiklų skaičius | K49: 3 | L49: 3 | M49: Organizuotos priemonės, skirtos nevyriausybinių organizacijų veiklos stiprinimui ir bendradarbiavimo plėtrai: paminėta Pasaulinė NVO diena, surengtas rajono NVO forumas „Kėdainių rajono NVO vizija 2035“ (52 dalyviai), įvyko išplėstinis Kėdainių ir Raseinių savivaldybių NVO ir bendruomeninių organizacijų tarybų posėdis aktualiems klausimams aptarti, Tarptautinės savanorių dienos proga pagerbti 132 savanoriai. Taip pat koordinuota Savivaldybės NVO tarybos veikla – per metus suorganizuota 11 posėdžių
B50: 001-01-06-02 (TP) | C50: Bendruomeninių organizacijų veiklos projektų finansavimas, bendruomeninės veiklos stiprinimas | D50: 1 | E50: Rajono bendruomeninių organizacijų veiklos projektų konkurso organizavimas | F50: Vyr. specialistė (nevyriausybinių organizacijų koordinatorė) | G50: SB | H50: 27 | I50: 26.5 | J50: Finansuotų bendruomeninių organizacijų skaičius/ įgyvendintų projekto veiklų proc. | K50: 24/100 | L50: 27/100 | M50: Organizuotas Bendruomeninių organizacijų veiklos projektų finansavimo Savivaldybės biudžeto lėšomis konkursas, kurio metu finansuoti 27 projektai
D51: 2 | E51: Nevyriausybinių organizacijų ir bendruomeninės veiklos koordinavimas pagal projektą "Stiprinti bendruomeninę veiklą savivaldybėse" | G51: SBVB | H51: 31.4 | I51: 31.3 | J51: Įgyvendintų projekto veiklų proc. | K51: 100 | L51: 100 | M51: Koordinuotas Nevyriausybinių organizacijų veiklos stiprinimo 2023–2025 metų veiksmų plano 2.1.1.1 priemonės „Stiprinti bendruomeninę veiklą savivaldybėse“ bandomojo modelio Kėdainių rajono savivaldybėje įgyvendinimas. Valstybės biudžeto lėšomis finansuoti ir įgyvendinti 8 bendruomeninės veiklos stiprinimo projektai, kurių metu suplanuotos veiklos įvykdytos 100 proc., veiklose dalyvavo 1238 vietos bendruomenės nariai (gyventojai)
B52: 001-01-06-03 (TP) | C52: Miesto bei rajono vietos veiklos grupių plėtros strategijų finansavimas | D52: 1 | E52: Sutarčių su strategijos vykdytojais ir projektų vykdytojais sudarymas, kofinansavimo dalies užtikrinimas | F52: Vyr. specialistė (nevyriausybinių organizacijų koordinatorė), Apskaitos skyrius | G52: SB | H52: 85.8 | I52: 81.5 | J52: Savivaldybės savo indėliu prisidėjusi prie plėtros strategijos projektų, skaičius | K52: 21 | L52: 18 | M52: Savivaldybė, prisidėdama prie vietos veiklos grupių strategijų įgyvendinimo, pasirašė 7 sutartis su rajono vietos projektų vykdytojais ir 11 sutarčių su miesto vietos veiklos grupės projektų vykdytojais. Savivaldybės biudžeto lėšomis prisidėta prie nevyriausybinių organizacijų ir vietos projektų įgyvendinimo, stiprinant bendruomenines iniciatyvas ir vietos plėtrą rajone bei mieste
B53: 001-01-07 (T) | C53: Organizuoti kultūros įstaigų veiklą, užtikrinti kultūros paslaugų kokybę ir jų prieinamumą, finansuoti renginius bei kultūrines iniciatyvas | H53: =SUM(H54:H58) -> 234.2 | I53: =SUM(I54:I58) -> 223.8
B54: 001-01-07-05 (TP) | C54: Rajono savivaldybės renginių, kultūrinių iniciatyvų finansavimas, etninės kultūros puoselėjimas, mėgėjų meno kolektyvų veiklos stiprinimas | D54: 1 | E54: Rajoninių renginių, konkursų, dalyvavimo regioniniuose ir respublikiniuose renginiuose bei konkursuose koordinavimas ir finansavimas | F54: Švietimo, kultūros ir sporto skyrius | G54: SB | H54: 194.2 | I54: 183.8 | J54: Finansuotų veiklų skaičius | K54: >40 | L54: 42 | M54: Savivaldybės administracija su partneriais (rajono biudžetinėmis įstaigomis, nevyriausybinėmis organizacijomis) organizavo ir finansavo 42 kultūrines iniciatyvas, valstybinių švenčių ir atmintinų dienų renginius. Taip pat organizuotas konkursas ir iš dalies finasuota 13 Lietuvos kultūros tarybos bei Kultūros paveldo departamento projektų. Minint Pasaulinę kultūros dieną, jau tryliktus metus surengtas konkursas „Kultūros versmė“
D55: 2 | E55: Kėdainių krašto kultūros premijos konkurso organizavimas | J55: Kultūros premijos laureatų skaičius | K55: 1 | L55: 1 | M55: Krašto kultūros premijos laurete tapo Loreta Steponavičienė – Kėdainių krašto muziejaus Tradicinių amatų centro Arnetų name tautinio paveldo produktų amatininkė, tradicinių amatų meistrė ir tautodailininkė
D56: 4 | E56: Dalyvavimas tautinių kostiumų ir instrumentų įsigijimo finansavimo konkurse | J56: Koncertinius kostiumų komplektus/instrumentus atsinaujinusių kolektyvų skaičius | K56: 8 | L56: 8 | M56: Skirta lėšų 8 mėgėjų meno kolektyvų tautinių, archeologinių, istorinių kostiumų ir jų dalių bei muzikos instrumentų įsigijimui
D57: 5 | E57: Tarptautinių kultūros mainų koordinavimas | J57: Organizuotų tarptautinių mainų skaičius | K57: 3 | L57: 4 | M57: 2025 m. Savivaldybės administracija dalinai finansavo rajono mėgėjų meno kolektyvų, įskaitant liaudiškų šokių grupes ir chorius, dalyvavimą 4 tarptautiniuose konkursuose ir festivaliuose Ispanijoje bei Lenkijoje, Lietuvos vaikų ir jaunimo festivalyje-konkurse Klaipėdoje bei respublikinių konkursų regioniniuose ir nacionaliniuose etapuose
B58: 001-01-07-06 (TP) | C58: Kultūrinių veiklos projektų finansavimas | D58: 1 | E58: Kultūros projektų konkurso organizavimas | F58: Švietimo, kultūros ir sporto skyrius | G58: SB | H58: 40 | I58: 40 | J58: Finansuotų projektų skaičius / projektų dalyvių ir lankytojų skaičius | K58: >18 / >4500 | L58: 18 / 4549 | M58: Konkurso būdu iš pateiktų 28 paraiškų finansuota 18 projektų,Įgyvendinant projektus buvo organizuota 100 edukacinių užsiėmimų ir seminarų, 7 parodos ir 59 kiti įvairaus pobūdžio renginiai. Projektų veiklose dalyvavo virš 4,5 tūkstančio rajono gyventojų
B59: 001-01-08 (T) | C59: Skatinti gyventojų fizinį aktyvumą, vystyti įvairias gyventojų poreikius atitinkančias sporto šakas, didinti sportinės veiklos žinomumą | H59: =SUM(H60:H65) -> 300.3 | I59: =SUM(I60:I65) -> 290.6
B60: 001-01-08-01 (TP) | C60: Neįgaliųjų ir senjorų fizinio aktyvumo skatinimas, sporto renginių ir sporto treniruočių stovyklų organizavimas | D60: 1 | E60: Sportinės veiklos organizavimas, koordinavimas | F60: Švietimo, kultūros ir sporto skyrius | G60: SB | H60: 7.5 | I60: 7.5 | J60: Neįgaliųjų ir senjorų fizinio aktyvumo veiklose, renginiuose, stovyklose dalyvaujančių unikalių dalyvių skaičiaus didėjimas (proc.) | K60: 12 | L60: 17 | M60: Kėdainių r. žmonių su fizine negalia komandos dalyvavo Lietuvos žmonių su fizine negalia bočios, stalo teniso, biliardo-pulo, rankų lenkimo čempionatuose. Pasirengti šioms varžybos finansuotos 6 sportinės treniruočių stovyklos, kuriose dalyvavo 16 asmenų. Kėdainių rajono veteranų krepšinio komandos dalyvavo Lietuvos veteranų krepšinio lygos 70+ ir 45+ amž. gr. čempionatuose, kuriuose iškovojo bronzos medalius (18 dalyvių) (iš viso 34 unikalų dalyviai, 2024 m. -29)
B61: 001-01-08-02 (TP) | C61: Rajoninių, respublikinių, tarptautinių visų amžiaus grupių aukšto meistriškumo sporto renginių ir aukšto meistriškumo sporto treniruočių stovyklų organizavimas | D61: 1 | E61: Sportinės veiklos organizavimas, koordinavimas | F61: Švietimo, kultūros ir sporto skyrius | G61: SB | H61: 102.5 | I61: 92.8 | J61: Rajone organizuojamų sporto renginių skaičiaus augimas | K61: ≥29 | L61: 30 | M61: 2025 m. rajone suorganizuoti 9 respublikiniai, 13 rajoninių renginių bei 8 aukšto meistriškumo stovyklos. Kėdainių rajono sportininkai ir komandos ruošėsi ir dalyvavo Lietuvos lengvosios atletikos, karate, štangos spaudimo čempionatuose, Lietuvos ir Europos kultūrizmo ir fitneso čempionatuose
B62: 001-01-08-03 (TP) | C62: Gyventojų fizinio aktyvumo ir sporto projektų finansavimas | D62: 1 | E62: Sporto projektų konkurso organizavimas, sutarčių su vykdytojais suderinimas, sutarčių vykdymo kontrolė | F62: Švietimo, kultūros ir sporto skyrius | G62: SB | H62: 60 | I62: 60 | J62: Sporto projektuose vykdytų veiklų ir unikalių dalyvių skaičiaus didėjimas, proc. | K62: 0,7 | L62: 2,5 | M62: 2025 m. konkursui pateiktos 28 paraiškos, finansuota 20 fizinio aktyvumo (10) ir sporto veiklos (10) projektų. Iš viso suorganizuota 827 veiklos, t.y. 133 veiklomis daugiau nei 2024 m. Sporto projektų finansavimas duoda tiesioginę grąžą per gyventojų užimtumą: veiklose dalyvavo 7 421 dalyvis
B63: 001-01-08-04 (TP) | C63: Dalyvavimas vaikų mokymo plaukti projekte „Mokėk plaukti ir saugiau elgtis vandenyje“ | D63: 1 | E63: Sutarčių su vykdytojais suderinimas, priemonių koordinavimas ir vykdymo kontrolė | F63: Švietimo, kultūros ir sporto skyrius | G63: SB | H63: 10.3 | I63: 10.3 | J63: Išmokytų 1-4 klasių mokinių plaukti skaičius nuo dalyvavusių programoje vaikų skaičiaus, proc. | K63: 100 | L63: 100 | M63: Organizuotos mokymo plaukti pamokos 2–4 klasių mokiniams. Mokymo plaukti programa finansuojama Lietuvos plaukimo federacijos informacijos ir paslaugų biuro (18 pamokų rudens ciklas) ir savivaldybės (14 pamokų pavasario ciklas) lėšomis. Programoje dalyvavo 5 ugdymo įstaigos
B64: 001-01-08-06 (TP) | C64: Sporto centro bazių atnaujinimas ir plėtra | D64: 1 | E64: Priemonės koordinavimas, įrengiant padelio aikštelę | F64: Švietimo, kultūros ir sporto skyrius, Biudžeto ir finansų skyrius | G64: SB | H64: 70 | I64: 70 | J64: Per metus atnaujintų arba naujai įrengtų infrastruktūros objektų skaičius (valdomų sporto centro bazių) | K64: 1 | L64: 1 | M64: Įrengta lauko padelio kortų aikštelė
B65: 001-01-08-07 (TP) | C65: Bendruomeninės fizinio aktyvumo infrastruktūros atnaujinimas ir (arba) plėtra | D65: 1 | E65: Poreikio išsiaiškinimas, bendradarbiavimas su Kėdainių miesto seniūnija, atnaujinimo darbų vykdymo kontrolė | F65: Švietimo, kultūros ir sporto skyrius | G65: SB | H65: 50 | I65: 50 | J65: Atnaujintų/įrengtų vaikų sporto ir žaidimų aikštelių skaičius | K65: 3 | L65: 3 | M65: Mieste ir rajone vykdyta vaikų žaidimo aikštelių priežiūra ir atnaujinimas: atnaujinta danga prie Josvainių g. 38A ir Liepos al., įrengta nauja aikštelė su nauja įranga Alksnėnų ir Devynduonių kaimuose, taip pat vykdyti esamų aikštelių smulkūs priežiūros ir remonto darbai
B66: 001-01-09 (T) | C66: Finansuoti sporto veiklos programas, skatinti sporto organizacijas, sporto komandas ir sportininkus | H66: =SUM(H67:H68) -> 865 | I66: =SUM(I67:I68) -> 865
B67: 001-01-09-01 (TP) | C67: Sporto veiklos programų finansavimas | D67: 1 | E67: Sporto veiklos programų konkurso organizavimas, sutarčių su vykdytojais suderinimas, sutarčių vykdymo kontrolė, ataskaitų rinkimas | F67: Švietimo, kultūros ir sporto skyrius | G67: SB | H67: 815 | I67: 815 | J67: Prioritetinėms sporto šakoms skirtų savivaldybės biudžeto asignavimų nuo bendro sporto veikloms skirto finansavimo, dalis (proc.) | K67: ~50 | L67: ~53 | M67: Savivaldybės biudžeto lėšomis finansuotos sporto šakų (1 krepšinio, 3 futbolo, 1 bokso, 1 salės futbolo, 1 dziudo) 7 veiklos programos
B68: 001-01-09-02 (TP) | C68: Aukšto meistriškumo sportininkų ir jų trenerių paskatinimas už sporto pasiekimus | D68: 1 | E68: Konkurso, apdovanojant aukšto meistriškumo sportininkus ir jų trenerius už sporto pasiekimus, organizavimas | F68: Švietimo, kultūros ir sporto skyrius | G68: SB | H68: 50 | I68: 50 | J68: Iškovotų medalių šalies ir tarptautinėse aukšto meistriškumo varžybose skaičius | K68: > 70 | L68: 116 | M68: Už pasiektus sporto laimėjimus premijomis apdovanota 80 sportininkų ir 12 jų trenerių. Kėdainių rajono sportininkai Lietuvos čempionatuose iškovojo 116 medalių: dziudo – 32 medalius, bokso – 25, lengvosios atletikos – 12, krepšinio – 3, mini ralio – 3, kultūrizmo – 2, teniso – 2, karatė – 12, plaukimo – 2, sportinių šokių – 1, moto sporto – 2; tarptautinėse aukšto meistriškumo varžybose pelnyta 20 apdovanojimų
B69: 001-01-10 (T) | C69: Gerinti ugdymo, kultūros, sporto paskirties viešąją infrastruktūrą, modernizuoti materialinę ir edukacinę aplinką, vadovaujantis universalaus dizaino principais | H69: =SUM(H70:H83) -> 2873.6 | I69: =SUM(I70:I83) -> 2648.8
B70: 001-01-10-01 (TP) | C70: Šviesiosios gimnazijos pastato įveiklinimas | D70: 1 | E70: Priemonės įgyvendinimo koordinavimas | F70: Administracijos direktorius, Švietimo, kultūros ir sporto skyrius, Biudžeto ir finansų skyrius | G70: SB | H70: 210 | I70: 210 | J70: Atlikta numatytų įveiklinimo darbų, proc. / moderniomis mokymosi ir darbo sąlygomis besinaudojančių asmenų skaičius | K70: 100/ ~500 | L70: 100/ 530 | M70: 2025 m. Kėdainių šviesiojoje gimnazijoje atidarytos naujos ugdymosi erdvės moderniame trijų aukštų priestate, kuriame įrengtos chemijos, fizikos, biologijos ir biotechnologijų laboratorijos, taip pat kabinetai kūrybiškumo, medijų, dailės, muzikos, lietuvių kalbos mokymui bei kitos šiuolaikiškos mokymosi patalpos
B71: 001-01-10-02 (TP) | C71: Šėtos gimnazijos I aukšto patalpų bei gimnazijos aplinkos pritaikymas ikimokyklinio / priešmokyklinio ugdymo organizavimui | D71: 1 | E71: Techninio projekto rengimo koordinavimas | F71: Statybos skyrius | G71: SB | H71: 32 | I71: 5.3 | J71: Parengta rekonstrukcijos techninė dokumentacija | K71: 1 | L71: 1 | M71: Parengtas patalpų pritaikymo techninis projektas, vykdoma projekto ekspertizė. Apmokėjims už 2026 m.
B72: 001-01-10-03 (TP) | C72: Dailės mokyklos stogo rekonstrukcija bei vėdinimo sistemos atnaujinimas | D72: 1 | E72: Rangos darbų viešojo pirkimo vykdymas, rangos darbų koordinavimas, rangovo prisiimtų sutartinių įsipareigojimų vykdymo kontrolė | F72: Statybos skyrius | G72: SB | H72: 245 | I72: 237.4 | J72: Atlikta numatytų rekonstrukcijos darbų, proc. / pagerintomis mokymosi ir darbo sąlygomis besinaudojančių asmenų skaičius | K72: 100 /~500 | L72: 100 />467 | M72: Pagal parengtą techninį projektą atlikta mokyklos stogo rekonstrukcija, atnaujinta vėdinimo sistema
B73: 001-01-10-04 (TP) | C73: Krakių Mikalojaus Katkaus gimnazijos sporto aikštyno atnaujinimas | D73: 1 | E73: Rangos darbų koordinavimas, rangovo prisiimtų sutartinių įsipareigojimų vykdymo kontrolė | F73: Statybos skyrius | G73: SBVB | H73: 180.7 | I73: 94.3 | J73: Atlikta numatytų atnaujinimo darbų, proc. / atnaujinta sporto infrastruktūra besinaudojančių asmenų skaičiaus | K73: 100/ ~300 | L73: 100/ >305 | M73: Rekonstruotas aikštynas: atnaujinta futbolo aikštė, įrengta krepšinio aikštė, bėgimo takai ir šuoliaduobė, sumontuoti treniruokliai, įrengta sporto aikštelė, pakloti trinkelių priėjimo takai, pastatyta tvora su varteliais.
D74: 2 | E74: Bendradarbiavimas, informacijos, duomenų, ataskaitų teikimas finansavimą skyrusiai institucijai | F74: Strateginio planavimo ir investicijų skyrius, Apskaitos skyrius | G74: SB | H74: 50 | I74: 48.4
B75: 001-01-10-05 (TP) | C75: Šėtos gimnazijos sporto aikštyno atnaujinimas | D75: 1 | E75: Rangos darbų viešojo pirkimo vykdymas, rangos darbų koordinavimas, rangovo prisiimtų sutartinių įsipareigojimų vykdymo kontrolė | F75: Statybos skyrius | G75: SB | H75: 300 | I75: 300 | J75: Atlikta numatytų atnaujinimo darbų, proc. | K75: 50 | L75: 50 | M75: Įvykdytos viešojo pirkimo procedūros, pradėti sporto aikštyno atnaujinimo darbai
B76: 001-01-10-06 (TP) | C76: Bendrojo ir ikimokyklinio ugdymo įstaigų (skyrių) pastatų modernizavimo techninės dokumentacijos rengimas bei pastatų modernizavimas | D76: 1 | E76: Akademijos gimnazijos „Kaštono“ skyriaus pastato kapitalinio remonto techninės dokumentacijos rengimo sutarties vykdymo kontrolė, ekspertizės paslaugų viešojo pirkimo organizavimas, teikėjų prisiimtų sutartinių įsipareigojimų vykdymo kontrolė | F76: Statybos skyrius | G76: SB | H76: 101 | I76: 36.6 | J76: Parengtų įstaigų pastatų modernizavimo techninės dokumentacijos | K76: 2 | L76: 2 | M76: 2025 m. parengtas Akademijos darželio-mokyklos „Kaštonas“ modernizavimo projektas ir atlikta ekspertizė. Taip pat parengtas lopšelio-darželio „Aviliukas“ modernizavimo projektas, šiuo metu vykdoma jo ekspertizė, o atsiskaitymas už projekto parengimą numatytas 2026 m.
D77: 2 | E77: Lopšelio-darželio "Aviliukas" pastato kapitalinio remonto techninės dokumentacijos rengimo sutarties vykdymo kontrolė, ekspertizės paslaugų viešojo pirkimo organizavimas, teikėjų prisiimtų sutartinių įsipareigojimų vykdymo kontrolė | F77: Statybos skyrius
B78: 001-01-10-07 (TP) | C78: Sporto infrastruktūrai prie ugdymo įstaigų atnaujinti reikalingos techninės dokumentacijos rengimas ir atnaujinimo darbai | D78: 1 | E78: "Aušros" progimnazijos aikštyno atnaujinimo techninės dokumentacijos viešojo pirkimo organizavimas, paslaugų teikėjo prisiimtų sutartinių įsipareigojimų vykdymo kontrolė | F78: Statybos skyrius | G78: SB | H78: 50 | I78: 17.8 | J78: Parengtų įstaigų pastatų modernizavimo techninės dokumentacijos | K78: 2 | L78: 1 | M78: 2025 m. parengtas "Aušros" progimnazijos sporto aikštyno atnaujinimo techninis projektas. Taip pat baigiamas rengti Josvainių gimnazijos sporto aikštyno atnaujinimo techninis projektas, o atsiskaitymas už jo parengimą numatytas 2026 m.
D79: 2 | E79: Josvainių gimnazijos sporto aikštyno atnaujinimo techninės dokumentacijos viešojo pirkimo organizavimas, paslaugų teikėjo prisiimtų sutartinių įsipareigojimų vykdymo kontrolė | F79: Statybos skyrius
B80: 001-01-10-09 (TP) | C80: Kėdainių kultūros centro rekonstrukcija ir įveiklinimas | D80: 1 | E80: Užbaigimo rangos darbų koordinavimas, rangovo prisiimtų sutartinių įsipareigojimų vykdymo kontrolė | F80: Statybos skyrius | G80: SB | H80: 1233.9 | I80: 1228 | J80: Atlikta numatytų atnaujinimo ir įveiklinimo darbų, proc. / atnaujinta infrastruktūra galėsiančių naudotis asmenų skaičiaus (tūkst.) | K80: 100/ >40 | L80: 100/ >40 | M80: Atlikti baigiamieji pastato atnaujinimo ir įrengimo darbai. Po rekonstrukcijos centre suformuotos šiuolaikiškos, daugiafunkcės kultūros erdvės, pritaikytos koncertams, teatro spektakliams, parodoms, repeticijoms ir kitoms kultūrinėms veikloms, taip pat įrengtos patogios repeticijų patalpos meno kolektyvams bei sumontuota nauja garso, šviesos ir vaizdo įranga
D81: 2 | E81: Reikalingos įrangos įsigijimo koordinavimas | F81: Biudžeto ir finansų skyrius, Švietimo, kultūros ir sporto skyrius
B82: 001-01-10-10 (TP) | C82: Krakių kultūros centro patalpų dalies pritaikymas kultūros reikmėms | D82: 1 | E82: Remonto darbų viešojo pirkimo vykdymas, darbų koordinavimas, rangovo prisiimtų sutartinių įsipareigojimų vykdymo kontrolė | F82: Statybos skyrius | G82: SB | H82: 400 | I82: 400 | J82: Atlikta numatytų pritaikymo darbų, proc. (bendras) | K82: 40 | L82: 40 | M82: Pradėti Krakių kultūros centro II a. patalpų pritaikymo kultūros reikmėms rangos darbai
B83: 001-01-10-11 (TP) | C83: Kultūros centrų ir jų skyrių, bibliotekos ir jos filialų materialinės, infrastruktūrinės aplinkos atnaujinimas | D83: 1 | E83: Priemonės koordinavimas, įsakymų dėl lėšų skyrimo Josvainių, Akademijos, Šėtos kultūros centrams įrangos įsigijimui, Kėdainių kultūros centro Labūnavos skyriaus remontui | F83: Biudžeto ir finansų skyrius, Švietimo, kultūros ir sporto skyrius | G83: SB | H83: 71 | I83: 71 | J83: Įstaigų, kurioms gerinama materialinė, infrastruktūrinė aplinka, skaičius | K83: 4 | L83: 4 | M83: Atnaujinta Josvainių mažoji salė – įsigyta ir sumontuota apšvietimo bei garso įranga, atliktas Labūnavos skyriaus remontas, modernizuotas Akademijos kultūros centro salės apšvietimas, o Šėtos kultūros centre įrengta nauja garso ir apšvietimo sistema bei projekcinė įranga.
B84: IŠ VISO | H84: =+H69+H66+H59+H53+H41+H34+H27+H22+H13+H47 -> 7118.2 | I84: =+I69+I66+I59+I53+I41+I34+I27+I22+I13+I47 -> 6611.9
C86: 1. Savivaldybės biudžetas (įskaitant skolintas lėšas) | H86: =SUM(H88:H93) -> 7118.2 | I86: =SUM(I88:I93) -> 6611.9
C87: Iš jo:
C88: 1.1. savivaldybės biudžeto lėšos (nuosavos, be ankstesnių metų likučio) | G88: SB | H88: =+H83+H82+H80+H78+H76+H75+H74+H72+H71+H70+H68+H67+H65+H64+H63+H62+H61+H60+H58+H52+H50+H48+H45+H43+H42+H40+H39+H38+H37+H36+H35+H30+H28+H25+H23+H19+H18+H15+H14+H21+H54 -> 5338.5 | I88: =+I83+I82+I80+I78+I76+I75+I74+I72+I71+I70+I68+I67+I65+I64+I63+I62+I61+I60+I58+I52+I50+I48+I45+I43+I42+I40+I39+I38+I37+I36+I35+I30+I28+I25+I23+I19+I18+I15+I14+I21+I54 -> 5076.1
C89: 1.2. Lietuvos Respublikos valstybės biudžeto dotacijos | G89: SBVB | H89: =+H17+H24+H33+H51+H73 -> 432.7 | I89: =+I17+I24+I33+I51+I73 -> 333.2
C90: 1.3. Pajamų įmokos ir kitos pajamos | G90: ĮP
C91: 1.4. Europos Sąjungos ir kitos tarptautinės finansinės paramos lėšos | G91: ES | H91: =+H26+H29+H31+H32+H20+H16 -> 1347 | I91: =+I26+I29+I31+I32+I20+I16 -> 1202.6
C92: 1.5. Skolintos lėšos | G92: SK
C93: 1.6. Ankstesnių metų likučiai | G93: SBL
C94: 2. Kiti šaltiniai (Europos Sąjungos finansinė parama projektams įgyvendinti ir kitos teisėtai gautos lėšos, nurodant atskirus šaltinius) | G94: KT
C95: IŠ VISO programai finansuoti pagal finansavimo šaltinius (1 ir 2 punktai) | H95: =+H94+H86 -> 7118.2 | I95: =+I94+I86 -> 6611.9
C96: Iš jų: regioninių pažangos priemonių lėšos | H96: =+H32+H31+H29+H26 -> 690 | I96: =+I32+I31+I29+I26 -> 559.8
C97: Asignavimų ir kitų lėšų pokytis, palyginti su ankstesnių metų patvirtintų asignavimų ir kitų lėšų planu
H100: =+H79+#REF!+#REF! -> #REF! | I100: =+I79+#REF!+#REF! -> #REF!
H101: =+H32+H31+H29+H26+H20+H16 -> 1347 | I101: =+I32+I31+I29+I26+I20+I16 -> 1202.6
H102: =+H14+H17+H21+#REF!+#REF!+#REF!+H33+H51+#REF!+#REF!+#REF!+H54+#REF!+H73 -> #REF! | I102: =+I14+I17+I21+#REF!+#REF!+#REF!+I33+I51+#REF!+#REF!+#REF!+I54+#REF!+I73 -> #REF!

Sheet 02 Socialinės gerovės
B2: Programos uždavinio, priemonės kodas ir požymis | C2: Uždavinio, priemonės pavadinimas, finansavimo šaltiniai | D2: Veiklos kodas | E2: Veiklos pavadinimas | F2: Atsakingas vykdytojas | G2: Finansavimo šaltinis | H2: Numatomi 2025 m. asignavimai ir kitos lėšos, tūkst. Eur | I2: Numatomi 2025 m. asignavimai ir kitos lėšos, tūkst. Eur | J2: Vertinimo kriterijai
J3: Pavadinimas | K3: Planuota reikšmė | L3: Pasiekta reikšmė | M3: Komentarai, pastabos, nukrypimų nuo plano priežastys
B5: 02 SOCIALINĖS GEROVĖS UŽTIKRINIMAS
B6: 002-01-01 (T, P) | C6: Sudaryti sąlygas gyventojams stiprinti sveikatą, kurti ir plėtoti su sveikatos stiprinimu susijusias paslaugas | H6: =SUM(H7:H9) -> 170.7 | I6: =SUM(I7:I9) -> 123.8
B7: 002-01-01-01 (TP) | C7: Visuomenės sveikatos rėmimo specialiosios programos priemonių įgyvendinimas | D7: 1 | E7: Programos priemonių sveikatos projektų konkurso organizavimas, sutarčių su vykdytojais parengimas, priemonių įgyvendinimo koordinavimas ir kontrolė; užkrečiamųjų ligų plano priemonių vykdymo kontrolė | F7: Patarėja (sveikatos reikalų koordinatorė) | G7: SB (AA) | H7: 144.2 | I7: 106.1 | J7: Visuomenės sveikatos rėmimo specialiosios programos įgyvendinimas, proc. | K7: 100 | L7: 100 | M7: Programa įgyvendinta lėtinių ir užkrečiamųjų ligų prevencijos, psichinės sveikatos stiprinimo, aplinkos sveikatinimo bei fizinio aktyvumo skatinimo srityse. Iš viso finansuota 20 atrinktų sveikatos projektų, o bendrai pagal poveikio sritis paremta 36 bendruomenių vykdytos priemonės | XFD7: =SUBTOTAL(9,A7:XFC7) -> 450.3
B8: 002-01-01-03 (PP) | C8: Projekto "Kokybiškų visuomenės sveikatos paslaugų prieinamumo didinimas Kėdainių rajone" įgyvendinimas | D8: 1 | E8: ES projekto, kurį įgyvendina Visuomenės sveikatos biuras, koordinavimas, užtikrinant projekto kofinansavimą | F8: Strateginio planavimo ir investicijų skyrius, Apskaitos skyrius | G8: SB | H8: 26.5 | I8: 17.7 | J8: Asmenų, dalyvavusių sveikatos raštingumo didinimo veiklose, skaičius | K8: 225 | L8: 226 | M8: Pradėtos įgyvendinti Visuomenės sveikatos biuro administruojamo projekto veiklos, skirtos sveikos gyvensenos skatinimui, ligų prevencijos ir sveikatos priežiūros svarbos didinimui, sveikos mitybos bei fizinio aktyvumo skatinimui, taip pat psichikos sveikatos paslaugų prieinamumo, kokybės ir švietimo gerinimui.
B10: 02-01-02 (T, P) | C10: Siekti gyventojų sveikatos išsaugojimo, gerinant sveikatos priežiūros paslaugų kokybę ir prieinamumą | H10: =SUM(H11:H25) -> 321.7 | I10: =SUM(I11:I25) -> 314
B11: 002-01-02-01 (TP) | C11: E. sveikatos informacinės sistemos palaikymo ir tobulinimo VšĮ Kėdainių PSPC 2024–2027 m. programa | D11: 1 | E11: Sutarčių su vykdytojais suderinimas, programos koordinavimas ir jos vykdymo kontrolė, ataskaitos rinkimas | F11: Patarėja (sveikatos reikalų koordinatorė) | G11: SB | H11: 17.5 | I11: 17.5 | J11: Atnaujintos ir E. sveikatos IS funkcionalumui pritaikytos įrangos kompl. skaičius | K11: 3 | L11: 4 | M11: Įgyvendinant programą užtikrintas E. sveikatos informacinės sistemos funkcionalumų palaikymas: siuntimų išrašymas, instrumentinių tyrimų registravimas, neįgalumo ir darbingumo lygio nustatymo duomenų tvarkymas, įstaigos resursų administravimas, e. receptai, ataskaitų ir analizių formavimas, tyrimų rezultatų valdymas, pacientų perregistravimas, prevencinių programų administravimas, nedarbingumo pažymėjimų tvarkymas, IS ir SVDPT vartų bei prieigų priežiūra, laboratorinės informacinės sistemos priežiūra. Taip pat įsigytas 1 komplektas aptarnavimo paslaugų.
B12: 002-01-02-02 (TP) | C12: E. sveikatos informacinės sistemos palaikymo ir tobulinimo VšĮ Kėdainių ligoninė 2024–2027 m. programa | D12: 1 | E12: Sutarčių su vykdytojais suderinimas, programos koordinavimas ir jos vykdymo kontrolė, ataskaitos rinkimas | F12: Patarėja (sveikatos reikalų koordinatorė) | G12: SB | H12: 10 | I12: 10 | J12: Pacientų patenkintų E. sveikata rezultatais: pacientų, pasinaudojančių E. sveikatos paslaugų prieinamumu, IPR (išankstinės pacientų registracijos) skaičiaus didėjimas (proc.) | K12: 2 | L12: 2 | M12: Įgyvendinant programą įdiegtas spendimas SIGN ON TAB pacientų dokumentų pasirašymas planšetiniuose kompiuteriuose. Įgyvendinta SPĮ IS integracija su ELAB posisteme. Įdiegti papildomi spendimai į SPĮ IS: E090/a Pranešimas apie nustatytą onkologinį susirgimą. E058 Pranešimas apie nustatytą (įtariamą) infekcinį susirgimą ar būklę). 2025 m. įstaigos IPR rodiklis– 100 proc.
B13: 002-01-02-03 (TP) | C13: Kėdainių rajono tuberkuliozės prevencijos, ankstyvosios diagnostikos, gydymo ir kontrolės 2023–2027 m. programa | D13: 1 | E13: Sutarčių su vykdytojais suderinimas, programos koordinavimas ir jos vykdymo kontrolė, ataskaitos rinkimas | F13: Patarėja (sveikatos reikalų koordinatorė) | G13: SB | H13: 3 | I13: 3 | J13: Atliktų tyrimų /suteiktų paslaugų skaičius per metus | K13: 1300 /~300 | L13: 914 /408 | M13: Įgyvendinant programą pirkti tuberkulino mėginiai ir priemonės, vykdyta rizikos grupių asmenų ankstyvoji diagnostika
B14: 002-01-02-04 (TP) | C14: Žemo slenksčio paslaugų kokybės užtikrinimo Kėdainių rajone 2023-2027 m. programa | D14: 1 | E14: Sutarčių su vykdytojais suderinimas, programos koordinavimas ir jos vykdymo kontrolė, ataskaitos rinkimas | F14: Patarėja (sveikatos reikalų koordinatorė) | G14: SB | H14: 7.8 | I14: 7.8 | J14: Apsilankymai (kartais) žemo slenksčio paslaugų kabinetuose per metus | K14: ~2000 | L14: 2845 | M14: Programos lėšomis teiktos stacionarios Žemo slenksčio kabinete ir mobilios paslaugos 2 639 lankytojams, įsigytos priemonės (atrankiniai greitieji ŽIV, hepatitų C, B, sifilio testai, vienkartinės dezinfekcinės, žaizdų gydymo priemonės, utilizavimo konteineriai ir transportavimo įranga (krepšiai) mobilioms paslaugoms teikti. Pasiektas didesnis rodiklis dėl papildomo finansavimo iš Respublikinio priklausomybės ligų centro
B15: 002-01-02-05 (TP) | C15: Pirminės asmens sveikatos priežiūros paslaugų prieinamumo ir kokybės užtikrinimo Kėdainių rajono kaimiškųjų vietovių gyventojams programą | D15: 1 | E15: Sutarčių su vykdytojais suderinimas, programos koordinavimas ir jos vykdymo kontrolė, ataskaitos rinkimas | F15: Patarėja (sveikatos reikalų koordinatorė) | G15: SB | H15: 85.4 | I15: 79.1 | J15: Pacientų, patenkintų pirminės asmens sveikatos priežiūros paslaugų kokybe, skaičiaus didėjimas (proc.). | K15: 2 | L15: 2 | M15: Įgyvendinant programą dalinai finansuotos ambulatorijų ir medicinos punktų komunalinės išlaidos, teiktos mobilaus medicinos punkto paslaugos. Kiekvieno apsilankymo metu suteikta nuo 2 iki 5 medicininių (taip pat ir profilaktinio darbo) slaugos paslaugų: vertinama paciento būklė, pagal poreikį matuojamas kraujospūdis, atliekama kardiograma, kraujo tyrimai, prižiūrimos pragulos, tvarstomos žaizdos, leidžiami vaistai ir kt. Suteiktų paslaugų skaičius - 18616 kartų. Mobilaus med. punkto apsilankymų skaičius - 4654. Mažiau panaudota lėšų, nes nuomos mokestis už Lančiūnavos ambulatorijos patalpas bus sumokėtas 2026 m.
B16: 002-01-02-06 (TP) | C16: Endoskopinių paslaugų prieinamumo ir kokybės gerinimo Kėdainių rajono savivaldybėje 2020-2025 m. programa | D16: 1 | E16: Sutarčių su vykdytojais suderinimas, programos koordinavimas ir jos vykdymo kontrolė, ataskaitos rinkimas | F16: Patarėja (sveikatos reikalų koordinatorė) | G16: SB | H16: 10.5 | I16: 10.5 | J16: Atliktų endoskopijų ir kolonoskopijų skaičius per metus | K16: ~1800 | L16: 2733 | M16: Programos lėšomis buvo mokamos lizingo įmokos už endoskopinę įrangą su vežimėliu bei endoskopų plovimo ir dezinfekavimo mašiną. 2025 m. atliktos 1 896 endoskopijos ir 837 kolonoskopijos.
B17: 002-01-02-07 (TP) | C17: Mamografijos paslaugų tęstinumo, kokybės gerinimo Kėdainių rajono savivaldybėje 2020-2025 m. programa | D17: 1 | E17: Sutarčių su vykdytojais suderinimas, programos koordinavimas ir jos vykdymo kontrolė, ataskaitos rinkimas | F17: Patarėja (sveikatos reikalų koordinatorė) | G17: SB | H17: 3.1 | I17: 3.1 | J17: Atliktų mamografijų ir vertinimo paslaugų skaičius per metus | K17: ~1800 | L17: 8378 | M17: Programos lėšomis mokamos lizingo įmokos už skaitmenizuoto mamografo įsigijimą, atlikta mamografijų ir vertinimo paslaugų. Labai aktyviai dirbta viešinimo srityje
B18: 002-01-02-08 (TP) | C18: Anestezijos paslaugų vaikams ir suaugusiesiems kokybės gerinimo Kėdainių rajono savivaldybėje 2022-2027 m. programa | D18: 1 | E18: Sutarčių su vykdytojais suderinimas, programos koordinavimas ir jos vykdymo kontrolė, ataskaitos rinkimas | F18: Patarėja (sveikatos reikalų koordinatorė) | G18: SB | H18: 25.3 | I18: 25.3 | J18: Atliktų bendrųjų anestezijų skaičius per metus | K18: ~1482 | L18: 2022 | M18: Finansuotos lizingo įmokos už įsigytus 2 vnt. anestezijos aparatų su paciento gyvybinių funkcijų montavimo sistema bei elektros energijos generatorius. Os įrangos dėka yra galimybė atlikti daugiau dienos chirurgijos paslaugų ir kitų operacijų savalaikio užtikrinimo
B19: 002-01-02-09 (TP) | C19: Rentgeno paslaugų atnaujinimo, kokybės gerinimo Kėdainių rajono savivaldybėje 2022-2027 m. programa | D19: 1 | E19: Sutarčių su vykdytojais suderinimas, programos koordinavimas ir jos vykdymo kontrolė, ataskaitos rinkimas | F19: Patarėja (sveikatos reikalų koordinatorė) | G19: SB | H19: 28.3 | I19: 28.2 | J19: Atliktų rentgenologinių tyrimų skaičius/trumpesnės registracijos rentgeno tyrimui eilės, dienomis | K19: ~10000/ 4 d. | L19: ~33399/ 0 d. | M19: Programos lėšomis mokėtos lizingo įmokos už skaitmeninis rentgeno diagnostikos medicinos prietaisą. Per metus rentgeno paslaugų suteikta per 33 tūkst... Įsigytu nauju, moderniu rentgeno aparatu užtikrinamas nepertraukiamas rentgeno diagnostinių paslaugų prieinamumas gyventojams. Eilių į rentgeno procedūra nėra
B20: 002-01-02-10 (TP) | C20: Kompiuterinės tomografijos paslaugų kokybės gerinimo Kėdainių rajono savivaldybėje 2023-2030 m. programa | D20: 1 | E20: Sutarčių su vykdytojais suderinimas, programos koordinavimas ir jos vykdymo kontrolė, ataskaitos rinkimas | F20: Patarėja (sveikatos reikalų koordinatorė) | G20: SB | H20: 52.1 | I20: 52.1 | J20: Atliktų tyrimų skaičius per metus | K20: ~3000 | L20: 5995 | M20: Programos lėšomis mokėtos lizingo įmokos už įsigytą tomografą. Kabineto darbo našumas padidėjo, nes naujuoju tomografu (skanuojant 128 sluoksnių) daug greitesnis skanavimo laikas. Paprastesnis paciento paruošimas, ypač tiems, kuriems reikalingas deguonis. Mažesnė pacientų apšvita, kontrastiniai tyrimai tikslesni tyrimo metu. Atlikta integracija su medicininėmis IS ir MedVAIS
B21: 002-01-02-11 (TP) | C21: VšĮ Kėdainių ligoninės sterilizacinės modernizavimo 2023-2028 m. programa | D21: 1 | E21: Sutarčių su vykdytojais suderinimas, programos koordinavimas ir jos vykdymo kontrolė, ataskaitos rinkimas | F21: Patarėja (sveikatos reikalų koordinatorė) | G21: SB | H21: 31.4 | I21: 31.2 | J21: Sutrumpėjusi sterilizavimo proceso trukmė | K21: ~45 min | L21: 35 | M21: Programos lėšomis mokėtos lizingo įmokos už įsigytą dezinfekcijos ir sterilizavimo įrangą. Įsigijus naujus sterilizatorius vienu metu per 1,5 val. galima sterilizuoti 600 l kiekį, tuo tarpu senaisiais aparatais vienu metu sterilizuodavo apie 400 l. Kadangi sterilizuojama vienu metu didesnis kiekis, pati sterilizavimo trukmė bendrai sumažėjo apie 35 min.
B22: 002-01-02-12 (TP) | C22: Odontologijos paslaugų plėtros Kėdainių rajono savivaldybėje 2024-2027 m. programa | D22: 1 | E22: Sutarčių su vykdytojais suderinimas, programos koordinavimas ir jos vykdymo kontrolė, ataskaitos rinkimas | F22: Patarėja (sveikatos reikalų koordinatorė) | G22: SB | H22: 15.4 | I22: 15.4 | J22: Suteiktų odontologinių paslaugų skaičius per metus | K22: ~400 | L22: 293 | M22: Programos lėšomis įmokėta pradinė įmoka už įsigytą ordontologinę įrangą. Mažiau paslaugų suteikta dėl odontologijos kabinetų perkėlimo iš administracinio korpuso, ruošiantis planuojamiems remonto darbams. Buvo suremontuotos ir pritaikytos naujos patalpos, o veikla atnaujinta 2025-09-15.
B23: 002-01-02-13 (TP) | C23: Vaikų, turinčių autizmo spektro ir kitų raidos sutrikimų, sveikatos stiprinimas, galimybių siekti asmeninės pažangos, pilnaverčio socialinio dalyvavimo prielaidų užtikrinimas | D23: 1 | E23: Veiklos projektų konkurso organizavimas | F23: Patarėja (sveikatos reikalų koordinatorė) | G23: SB | H23: 15 | I23: 14 | J23: Finansuotų projektų skaičius | K23: 3 | L23: 3 | M23: Finansuoti Asociacijos "Kėdainių lietaus vaikai", Šeimų asociacijos "Irvidora" ir VšĮ "Gerų patirčių namai" projektai
B24: 002-01-02-14 (PP) | C24: Projekto "Mobilių komandų aprūpinimas įranga Kėdainių rajono savivaldybėje" įgyvendinimas | D24: 1 | E24: Projekto užbaigimo dokumentacijos teikimas | F24: Strateginio planavimo ir investicijų skyrius, Apskaitos skyrius | G24: ES | H24: 13.9 | I24: 13.9 | J24: Mobilių komandų, aprūpintų įranga teikti paslaugas namuose, skaičius | K24: 1 | L24: 1 | M24: Projektas įgyvendintas, apmokėta kompensavimo būdu, 2025 m. kompensuotos ES ir SVBV lėšos. Įsigyta reikalinga medicininė ir kita reikalinga įranga ambulatorines slaugos paslaugas namuose teikiančiai mobiliai komandai
G25: SBVB | H25: 3 | I25: 2.9
B26: 02-01-03 (T) | C26: Pritraukti naujus bei išlaikyti esamus sveikatos priežiūros specialistus | H26: =SUM(H27:H29) -> 197.4 | I26: =SUM(I27:I29) -> 195.6
B27: 002-01-03-01 (TP) | C27: Sveikatos priežiūros specialistų skatinimo dirbti VšĮ Kėdainių PSPC 2023-2028 m. programa | D27: 1 | E27: Sutarčių su vykdytojais suderinimas, programos koordinavimas ir jos vykdymo kontrolė, ataskaitos rinkimas | F27: Patarėja (sveikatos reikalų koordinatorė) | G27: SB | H27: 98 | I27: 98 | J27: Taikomų paskatų priemonių skaičius | K27: 3 | L27: 3 | M27: Programoje numatytomis skatinamosiomis priemonėmis pasinaudojo 11 naujai atvykusių specialistų (6 šeimos gydytojai, 4 gydytojai odontologai ir 1 medicinos psichologas). Sveikatos priežiūros specialistams (40 asmenų), gyvenantiems kituose miestuose ar nuo darbo vietos nutolusiose teritorijose, buvo kompensuojamos kelionės išlaidos
B28: 002-01-03-02 (TP) | C28: Trūkstamos sveikatos priežiūros specialistų skatinimo dirbti VšĮ Kėdainių ligoninėje 2023-2026 m. programa | D28: 1 | E28: Sutarčių su vykdytojais suderinimas, programos koordinavimas ir jos vykdymo kontrolė, ataskaitos rinkimas | F28: Patarėja (sveikatos reikalų koordinatorė) | G28: SB | H28: 94.4 | I28: 94.4 | J28: Taikomų paskatų priemonių skaičius | K28: 4 | L28: 4 | M28: Programoje numatytomis priemonėmis pasinaudojo 138 sveikatos priežiūros specialistai. Pritraukta trūkstamos profesinės kvalifikacijos gydytojų 20: vidaus ligų gydytojas - 1, anesteziologai – reanimatologai – 3, oftalmologai – 2, gydytojai rezidentai– 3, kineziterapeutai – 2, endoskopuotojai – 1, šeimos gydytojai – 1, medicinos gydytojai - 6, medicinos psichologas - 1; taip pat bendrosios praktikos slaugytojai – 3, paramedikai - 2.
B29: 002-01-03-03 (TP) | C29: Trūkstamos sveikatos priežiūros specialistų skatinimo dirbti Visuomenės sveikatos biure 2024-2027 m. programa | D29: 1 | E29: Sutarčių su vykdytojais suderinimas, programos koordinavimas ir jos vykdymo kontrolė, ataskaitos rinkimas | F29: Patarėja (sveikatos reikalų koordinatorė) | G29: SB | H29: 5 | I29: 3.2 | J29: Taikomų paskatų priemonių skaičius | K29: 1 | L29: 1 | M29: Programoje numatytomis priemonėmis 9 specialistams kompensuotos vykimo į darbą ir iš darbo išlaidos
B30: 02-01-04 (T, P) | C30: Modernizuoti ir atnaujinti sveikatos priežiūros įstaigų infrastruktūrą sveikatos gerinimo poreikiams | H30: =SUM(H31:H47) -> 1158 | I30: =SUM(I31:I47) -> 977.7
B31: 002-01-04-01 (TP) | C31: VšĮ Kėdainių PSPC Psichiatrijos dienos stacionaro paslaugų plėtra ir infrastruktūros pritaikymas specialiesiems neįgaliųjų poreikiams | D31: 1 | E31: Sutarčių su vykdytojais suderinimas, programos koordinavimas ir jos vykdymo kontrolė, ataskaitos rinkimas | F31: Patarėja (sveikatos reikalų koordinatorė) | G31: SB | H31: 82.8 | I31: 0 | J31: Atlikti keltuvo įrengimo ir patalpų pritaikymo darbai, proc./ pagerintomis infrastruktūros sąlygomis besinaudojančių pacientų skaičius | K31: 100/~125 | L31: 0 | M31: Pagal parengtą techninį projektą vykdyti rangos viešojo pirkimo procedūros. Konkursas įvyko, tačiau mažiausia pasiūlytą tiekėjų kaina žymiai viršijo darbams numatytą sumą, todėl sutartis nebuvo sudaryta. 2026 m. bus vykdomas naujas pirkimas.
B32: 002-01-04-02 (TP) | C32: Kėdainių rajono kaimo gyventojų sveikatos gerinimo poreikių užtikrinimas, modernizuojant ir (ar) atnaujinant ambulatorijų infrastruktūrą | D32: 1 | E32: Sutarčių su vykdytojais suderinimas, programos koordinavimas ir jos vykdymo kontrolė, ataskaitos rinkimas | F32: Patarėja (sveikatos reikalų koordinatorė) | G32: SB | H32: 23 | I32: 14 | J32: Ambulatorijų skaičius, kuriose pagerinta infrastruktūra /pagerintomis infrastruktūros sąlygomis besinaudojančių pacientų skaičius | K32: 1/ ~900 | L32: 1/ 789 | M32: 2025 m. vykdyti Šėtos ambulatorijos šildymo sistemos pertvarkymo ir atnaujinimo darbai
B33: 002-01-04-03 (TP) | C33: Tinkamų ir saugių darbo sąlygų užtikrinimo, įrengiant vėdinimo bei kondicionavimo sistemas VšĮ Kėdainių ligoninėje 2023-2028 m. programa | D33: 1 | E33: Sutarčių su vykdytojais suderinimas, programos koordinavimas ir jos vykdymo kontrolė, ataskaitos rinkimas | F33: Patarėja (sveikatos reikalų koordinatorė) | G33: SB | H33: 30.6 | I33: 30.6 | J33: Patalpų, kuriose įrengta vėdinimo (kondicionavimo) sistema, skaičius | K33: 31 | L33: 29 | M33: Programos lėšomis įsigyti kondicionieriai įrengti Neurologijos (8), Odontologijos (3), Vidaus ligų (10), Konsultacijų poliklinikos (4), Radiologijos (2) skyriuose, Sterilizacinėje (2)
B34: 002-01-04-04 (TP) | C34: VšĮ Kėdainių ligoninės karšto ir šalto vandens vamzdynų ir šilumos punkto modernizavimo 2025 m. programa | D34: 1 | E34: Sutarčių su vykdytojais suderinimas, programos koordinavimas ir jos vykdymo kontrolė, ataskaitos rinkimas | F34: Patarėja (sveikatos reikalų koordinatorė) | G34: SB | H34: 112 | I34: 112 | J34: Atlikta einamaisiais metais numatytų darbų, proc. / modernizuotų šilumos punktų proc. | K34: 100/100 | L34: 100/50 | M34: Prieš modernizuojant 5 šilumos punktus, pirmiausia reikėjo atlikti Šilumos ūkio galimybių studiją, atlikti 5 šilumos punktų projektavimo darbus ir parengti 5 punktų techninį pajungimo projektą. Šie darbai užtruko, nes reikėjo keisti šilumos punktų technines sąlygas, todėl per 2025 m. buvo spėta atlikti tik šiuos darbus, atsižvelgiant į laiko sąnaudas
B35: 002-01-04-05 (TP) | C35: VšĮ Kėdainių ligoninės operacinio bloko modernizavimo ir atnaujinimo 2025 m. programa | D35: 1 | E35: Sutarčių su vykdytojais suderinimas, programos koordinavimas ir jos vykdymo kontrolė, ataskaitos rinkimas | F35: Patarėja (sveikatos reikalų koordinatorė) | G35: SB | H35: 160 | I35: 160 | J35: Atlikta einamaisiais metais numatytų ortopedijos-traumatologijos operacinių atnaujinimo darbų, proc. | K35: 100 | L35: 100 | M35: Programos lėšomis pertvarkytos ir atnaujintos 4 operacinės
B36: 002-01-04-06 (TP) | C36: Efektyvių ir kokybiškų pirminės sveikatos centro priežiūros paslaugų užtikrinimo gyventojams, atnaujinant Kėdainių PSPC infrastruktūra 2025 m. programa | D36: 1 | E36: Sutarčių su vykdytojais suderinimas, programos koordinavimas ir jos vykdymo kontrolė, ataskaitos rinkimas | F36: Patarėja (sveikatos reikalų koordinatorė) | G36: SB | H36: 23 | I36: 23 | J36: Atliktas stogo dangos paprastasis remontas, proc. | K36: 100 | L36: 100 | M36: Programos lėšomis vykdyti PSPC pastato stogo remonto darbai
B37: 002-01-04-07 (PP) | C37: Projekto "Sveikatos centro sudėtyje teikiamų sveikatos priežiūros paslaugų infrastruktūros modernizavimas Kėdainių rajono savivaldybėje" įgyvendinimas | D37: 1 | E37: ES projekto, kuris įgyvendinamas su partneriais, koordinavimas, informacijos apie įgyvendinamas veiklas, mokėjimo prašymų įgyvendinančioms institucijoms teikimas | F37: Strateginio planavimo ir investicijų skyrius, Apskaitos skyrius | G37: ES | H37: 300 | I37: 308.9 | J37: Projekto veiklų įgyvendinimo proc. | K37: 15 | L37: 15 | M37: Pradėtos projekto įgyvendinimo veiklos. Projekte dalyvauja Kėdainių PSPC, Kėdainių ligoninė, klinika Armedika, Kėdainių šeimos klinika. Pasirašyta rangos sutartis dėl Odontologijos skyriaus remonto darbų, kurie metų eigoje buvo sustabdyti dėl Klinikinės diagnostikos ir patologijos laboratorijos iškėlimo procedūrų. Kėdainių ligoninė įsigijo endoskopinės ir laparoskopinės įrangos komplektus, endoskopų plovimo ir dezinfekcijos mašiną, operacinį šviestuvą, akumuliatorinius jėgos instrumentus bei retinoskopą. Kėdainių šeimos klinika įsigijo kompiuterinį kardiografą, kompiuterinį kraujospūdžio matuoklį ir holterio sistemą
G38: SB | H38: 0 | I38: 0
D39: 2 | E39: Odontologijos skyriaus remonto darbų viešojo pirkimo vykdymas, darbų koordinavimas, rangovo prisiimtų sutartinių įsipareigojimų vykdymo kontrolė | F39: Statybos skyrius | G39: SBVB | H39: 62.6 | I39: 54.5
B40: 002-01-04-08 (PP) | C40: Projekto "Ilgalaikės priežiūros paslaugų plėtojimo užtikrinimas" įgyvendinimas | D40: 1 | E40: Investicinio projekto parengimo viešųjų pirkimų organizavimas, tiekėjo prisiimtų sutartinių įsipareigojimų vykdymo kontrolė, projekto paraiškos parengimas ir įgyvendinančiai institucijai teikimas finansavimui gauti | F40: Strateginio planavimo ir investicijų skyrius | G40: SB | H40: 4 | I40: 0.4 | J40: Parengtų paraiškų / techninės dokumentacijos skaičius | K40: 1/1 | L40: 1/1 | M40: Pateikta paraiška, pasirašyta finansavimo sutartis ir rengiamas techninis projektas ilgalaikės priežiūros paslaugų plėtrai VšĮ Kėdainių ligoninėje. Numatyta atnaujinti esamas patalpas, statyti priestatą, įrengti paliatyviosios pagalbos dienos centrą ir stacionarą (lovų skaičius didės 10), gerinant paslaugų infrastruktūrą ir sąlygas pacientams.
D41: 2 | E41: Techninio projekto parengimo viešųjų pirkimų organizavimas, tiekėjo prisiimtų sutartinių įsipareigojimų vykdymo kontrolė | F41: Statybos skyrius | G41: ES | H41: 4 | I41: 2.3
B42: 002-01-04-09 (TP) | C42: Projekto "Sveikatos centro veiklos modelio diegimas Kėdainių rajono savivaldybėje" įgyvendinimas | D42: 1 | E42: ES projekto, kuris įgyvendinamas su partneriais, koordinavimas, informacijos apie įgyvendinamas veiklas, mokėjimo prašymų įgyvendinančioms institucijoms teikimas | F42: Strateginio planavimo ir investicijų skyrius, Patarėja (sveikatos reikalų koordinatorė), Apskaitos skyrius | G42: ES | H42: 70 | I42: 17.4 | J42: Paramą gavusių nacionalinio, regionų ar vietos lygmens viešojo administravimo ar viešąsias paslaugas teikiančių įstaigų skaičius | K42: 4 | L42: 4 | M42: Pradėtos įgyvendinti projekto veiklos, kuriose dalyvauja Kėdainių ligoninė, Kėdainių PSPC, Kėdainių šeimos klinika ir klinika „Armedika“. Apmokyti 22 daugiadalykės komandos specialistai, vykdyta 51 asmens, sergančio lėtinėmis ligomis, stebėsena savarankiškam ligos valdymui. Projekto metu įsigyti pacientų stebėjimui skirti prietaisai ir įranga: EKG aparatas, planšetiniai kompiuteriai, medicininės svarstyklės, nuotolinės sveikatos stebėsenos licencija ir įranga, diabeto valdymo rinkiniai ir kt.
G43: SBVB | H43: 6 | I43: 3.1
B44: 002-01-04-10 (TP) | C44: Projekto "Sveikatos priežiūros specialistų rengimas, pritraukimas Kėdainių rajono savivaldybėje" įgyvendinimas | D44: 1 | E44: ES projekto, kuris įgyvendinamas su partneriais, koordinavimas, informacijos apie įgyvendinamas veiklas, mokėjimo prašymų įgyvendinančioms institucijoms teikimas | F44: Strateginio planavimo ir investicijų skyrius,, Patarėja (sveikatos reikalų koordinatorė), Apskaitos skyrius | G44: ES | H44: 64 | I44: 36.5 | J44: Asmenys, dalyvavę kvalifikacijos įgijimo veiklose | K44: 11 | L44: 15 | M44: Pradėtos įgyvendinti projekto veiklos. Projekte dalyvauja Kėdainių ligoninė, Kėdainių PSPC ir klinika Armedika. Projekto tikslinė grupė – gydytojai rezidentai, gydytojai odontologai rezidentai, mokiniai ir studentai. Kvalifikacijos įgijimo veiklose dalyvavo 15 specialistų (apmokėjimas rezidentams ir slaugytojams už studijas)
G45: SB | H45: 1 | I45: 0
G46: SBVB | H46: 5 | I46: 5
B47: 002-01-04-15 (TP) | C47: VšĮ Kėdainių ligoninės Klinikinės diagnostikos ir patologijos laboratorijos iškėlimo ir naujų patalpų pritaikymo programa | D47: 1 | E47: Sutarčių su vykdytojais suderinimas, programos koordinavimas ir jos vykdymo kontrolė, ataskaitos rinkimas | F47: Patarėja (sveikatos reikalų koordinatorė) | G47: SB | H47: 210 | I47: 210 | J47: Pritaikytų patalpų laboratorijos nepertraukiamai veiklai, skaičius | K47: 1 | L47: 1 | M47: Programos lėšomis maujos patalpos pritaikytos Klinikinės diagnostikos ir patologijos laboratorijos veiklai
B48: 002-01-05 (T) | C48: Organizuoti Lietuvos Respublikos teisės aktuose numatytos paramos bei paslaugų asmenims ir šeimoms teikimą, skatinti socialinę integraciją | H48: =SUM(H49:H66) -> 28193.4 | I48: =SUM(I49:I66) -> 27915.3
B49: 002-01-05-01 (TP) | C49: Socialinių išmokų bei kompensacijų (būsto šildymo, šalto bei karšto vandens), paramos mirties atveju teikimas ir administravimas | D49: 1 | E49: Koordinavimas, duomenų suvedimas į programą "Parama" | F49: Socialinės paramos skyrius | G49: SBVB | H49: 121.3 | I49: 102 | J49: Asmenų, gaunančių socialinę pašalpą ir kompensacijas, skaičius | K49: ~13130 | L49: ~11492 | M49: Išmokos, kompensacijos teiktos ir administruotos vadovaujantis galiojančiais teisės aktais, užtikrinant, kad visi teisę turintys asmenys laiku gautų priklausančią paramą. Rodiklio reikšmė mažesnė nei planuota dėl sumažėjusio piniginės socialinės paramos gavėjų skaičiaus – augant darbo užmokesčiui bei didėjant gyventojų pajamoms, dalis asmenų pagal LR piniginės socialinės paramos nepasiturintiems gyventojams įstatymą nebeatitiko nustatytų kriterijų paramai gauti
G50: SB | H50: 1473.7 | I50: 1521.4
B51: 023-01-05-02 (TP) | C51: Išlaidų už įsigytus produktus, mokinio reikmenis finansavimas, socialinės paramos mokiniams administravimas | D51: 1 | E51: Koordinavimas, duomenų suvedimas į programą "Parama", informacijos teikimas švietimo įstaigų vadovams | F51: Socialinės paramos skyrius, Švietimo, kultūros ir sporto skyrius | G51: SBVB | H51: 1258.7 | I51: 1218.7 | J51: Mokinių, gaunančių nemokamą maitinimą, skaičius | K51: 2079 | L51: 2059 | M51: Parama skirta visiems teisę turintiems mokiniams. Mokinių, gaunančių nemokamą maitinimą, skaičiaus mažėjimą lėmė bendras mokinių skaičiaus mažėjimas. O mokinių, gaunančių būtiniausius mokinio reikmenis, skaičius didėjo dėl padidėjusio valstybės remiamų pajamų dydžio, kuris lėmė didesnį besikreipiančių paramos asmenų skaičių
J52: Mokinių, gaunančių būtiniausius mokinio reikmenis, skaičius | K52: 1254 | L52: 1386
B53: 002-01-05-03 (TP) | C53: Nemokamo socialiai remtinų vaikų maitinimo ikimokyklinėse įstaigose organizavimas | D53: 1 | E53: Informacijos rinkimas, ikimokyklinių įstaigų užmokesčio už vaikų išlaikymą analizė | F53: Švietimo, kultūros ir sporto skyrius | G53: SB | H53: 110 | I53: 90.1 | J53: Vaikų, gaunančių nemokamą maitinimą, skaičius | K53: ~480 | L53: 463 | M53: 463 vaikams iš dalies arba visiškai atleisti nuo mokesčio už maitinimą. Skaičiaus mažėjimą lėmė bendras ikimokyklinio ugdymo įstaigas lankančių vaikų skaičiaus mažėjimas
B54: 002-01-05-04 (TP) | C54: Nemokamo mokinių maitinimo kainos bendrojo ugdymo mokyklose kompensavimas | D54: 1 | E54: Koordinavimas, duomenų rinkimas, apmokėjimas maitinimo paslaugų teikėjams bei įstaigoms | F54: Socialinės paramos skyrius, Apskaitos skyrius | G54: SB | H54: 248.9 | I54: 263.6 | J54: Mokinių, gaunančių nemokamą maitinimą, skaičius | K54: 2079 | L54: 2059 | M54: 2029 mokiniams kompensuota maitinimo kaina. Mokinių, gaunančių nemokamą maitinimą, skaičiaus mažėjimą lėmė bendras mokinių skaičiaus mažėjimas.
B55: 002-01-05-05 (TP) | C55: Kelionės išlaidų už lengvatinį keleivių vežimą kompensavimas | D55: 1 | E55: Duomenų ir pateisinamųjų dokumentų iš vežėjų ir įstaigų rinkimas, sisteminimas, analizė ir teikimas Apskaitos bei Biudžeto ir finansų skyriams | F55: Statybos skyrius, Apskaitos skyrius | G55: SB | H55: 889 | I55: 884.5 | J55: Parduotų su nuolaida bilietų skaičius (tūkst.) | K55: ~900 | L55: 1222 | M55: UAB "Kėdbusas" finansuota 862,5 tūkst. Eur už keleivių, turinčių teisę į lengvatas pagal LR Transporto lengvatų įstatymą (moksleiviai, senjorai, asmenys su negalia, užsieniečiai, pasitraukę iš Ukrainos dėl Rusijos Federacijos karinių veiksmų) vežimą
B56: 002-01-05-06 (TP) | C56: Lietuvos Respublikos piniginės socialinės paramos nepasiturintiems gyventojams įstatymo įgyvendinimo užtikrinimas | D56: 1 | E56: Priemonės koordinavimas | F56: Socialinės paramos skyrius | G56: SBVB | H56: 1401.7 | I56: 1346.7 | J56: Paramos teikimo nepasiturintiems asmenims užtikrinimas, proc. | K56: 100 | L56: 100 | M56: Užtikrintas paramos teikimas asmenims turintiems teisę gauti piniginę socialinę paramą.
B57: 002-01-05-07 (TP) | C57: Kompensacijų nepriklausomybės gynėjams mokėjimas bei išmokų ginkluoto pasipriešinimo dalyviams apmokėjimas | D57: 1 | E57: Priemonės koordinavimas | F57: Socialinės paramos skyrius, Apskaitos skyrius | G57: SBVB | H57: 8.1 | I57: 3.2 | J57: Asmenų, gavusių kompensacijas, skaičius | K57: 13 | L57: 13 | M57: 13 asmenų gavo kompensacijas teisės aktų nustatyta tvarka
B58: 002-01-05-08 (TP) | C58: Būsto nuomos ar išperkamosios būsto nuomos mokesčių dalies kompensavimas | D58: 1 | E58: Asmenų konsultavimas, prašymų priėmimas, sąrašų sudarymas, duomenų vedimas į SPIS programą | F58: Socialinės paramos skyrius | G58: SBVB | H58: 17.5 | I58: 17.3 | J58: Asmenų, gavusių būsto nuomos ar išperkamosios būsto nuomos mokesčių dalies kompensaciją, skaičius iš bendro asmenų, turinčių teisę į paramą būstui išsinuomoti ir įrašytų į sąrašus, skaičiaus, proc. | K58: 100 | L58: 100 | M58: Vykdytas viešinimas ir konsultacijos dėl galimybės pasinaudoti šia paslauga, 8 asmenims (šeimoms) skirta kompensacija
B59: 002-01-05-09 (TP) | C59: Individualios pagalbos teikimo išlaidų kompensacijų teikimas ir administravimas | D59: 1 | E59: Koordinavimas, Duomenų suvedimas į programą "Parama", išmokų mokėjimas | F59: Socialinės paramos skyrius, Apskaitos skyrius | G59: SBVB | H59: 6704 | I59: 6585.9 | J59: Asmenų, gaunančių individualios pagalbos teikimo išlaidų kompensacijas, skaičius | K59: ~1980 | L59: 2092 | M59: Asmenų, gaunančių individualios pagalbos teikimo išlaidų kompensacijas skaičius didėjo dėl asmenų, kuriems nustatomi individualios pagalbos teikimo išlaidų kompensacijos poreikiai, didėjimo
G60: SBVB | H60: 0.2 | I60: 0.2
B61: 002-01-05-10 (TP) | C61: Išmokų vaikams teikimas ir administravimas | D61: 1 | E61: Koordinavimas, Duomenų suvedimas į programą "Parama", išmokų mokėjimas | F61: Socialinės paramos skyrius, Apskaitos skyrius | G61: SBVB | H61: 15623.3 | I61: 15570.3 | J61: Asmenų, gaunančių išmokas vaikams, skaičius | K61: ~8400 | L61: 8220 | M61: Pagal LR teisės aktų nustatytą tvarką mokėtos išmokos vaikams Asmenų, gaunančių išmokas vaikams, skaičius mažėjo dėl bendro vaikų gimstamumo mažėjimo
B62: 002-01-05-11 (TP) | C62: Neveiksniais pripažintų asmenų būklės peržiūrėjimas | D62: 1 | E62: Neveiksniais pripažintų asmenų būklės peržiūrėjimo organizavimas | F62: Socialinės paramos skyrius | G62: SBVB | H62: 1.1 | I62: 0.7 | J62: Asmenų, kurių neveiksnumas peržiūrėtas, skaičius | K62: 78 | L62: 76 | M62: Neveiksniais pripažintų asmenų būklės peržiūra atlikta 76 asmenims
B63: 002-01-05-12 (TP) | C63: Lietuvos Respublikos teisės aktuose numatytos paramos teikimas užsieniečiams, pasitraukusiems iš Ukrainos dėl Rusijos Federacijos karinių veiksmų Ukrainoje | D63: 1 | E63: Priemonės koordinavimas | F63: Socialinės paramos skyrius, Apskaitos skyrius | G63: SBVB | H63: 224.9 | I63: 222.9 | J63: Numatytos paramos teikimas pagal teisės aktus, proc. | K63: 100 | L63: 100 | M63: Teikta parama pagal poreikį užsieniečiams, pasitraukusiems iš Ukrainos dėl Rusijos Federacijos karinių veiksmų Ukrainoje, pagal teisės aktų nuostatas
B64: 002-01-05-13 (TP) | C64: Užsienio kilmės Lietuvos gyventojų integracijos koordinavimas | D64: 1 | E64: Užsienio kilmės Lietuvos gyventojų integracijos procesų koordinavimas | F64: Socialinės paramos skyrius | G64: ES | H64: 28.6 | I64: 28.6 | J64: Koordinatoriaus funkcijų vykdymas, proc. | K64: 100 | L64: 100 | M64: Vykdytas užsienio kilmės Lietuvos gyventojų integracijos koordinavimas
B65: 002-01-05-14 (TP) | C65: Socialiai pažeidžiamų, socialinę riziką (atskirtį) patiriančių asmenų socialinės integracijos ir galimybių dalyvauti darbo rinkoje didinimas | D65: 1 | E65: Veiklų, skatinančių nuteistųjų socialinio savarankiškumo ir darbingumo, profesinės kompetencijos ir pajėgumo dalyvauti darbo rinkoje atkūrimo ir didinimo organizavimas, socialinių įgūdžių ugdymo ir palaikymo, palydimosios paslaugos organizavimas | F65: Socialinės paramos skyrius | G65: ES | H65: 22.9 | I65: 0 | J65: Socialiai pažeidžiamų, socialinę riziką (atskirtį) patiriančių asmenų, kurie po dalyvavimo veiklose pradėjo savanoriauti, mokytis, ieškoti darbo arba dirbti, įskaitant savarankišką darbą, dalis (proc.) | K65: 20 | L65: 0 | M65: Projektas neįvyko dėl Europos socialinio fondo agentūros priimto sprendimo nepradėti jo įgyvendinimo
B66: 002-01-05-15 (TP) | C66: Kėdainių rajono savivaldybės užimtumo didinimo programos įgyvendinimas | D66: 1 | E66: Užimtumo didinimo programą, skirtą užimtumo skatinimo ir motyvavimo paslaugų nedirbantiems ir socialinę paramą gaunantiems asmenims modeliui įgyvendint | F66: Socialinės paramos skyrius | G66: SBVB | H66: 59.5 | I66: 59.2 | J66: Pasibaigus užimtumo didinimo programoms po 6 mėnesių dirbs arba vykdys savarankišką veiklą asmenų dalis iš užimtumo didinimo programų dalyvių skaičiaus (procentai) | K66: 14 | L66: 14 | M66: Programoje dalyvavo 133 asmenys. Vykdant programą, seniūnijose pagal terminuotas darbo sutartis buvo įdarbinti 52 asmenys. Pasibaigus 2025 m. užimtumo didinimo programai po 6 mėnesių dirbo 22 asmenys
B67: 002-01-06 (T) | C67: Gerinti socialinę aplinką ir didinti socialinės paramos įvairovę
B68: 002-01-06-02 (TP) | C68: Kainų skirtumo gyventojams už šildymą kompensavimas | D68: 1 | E68: Apmokėjimų užtikrinimas paslaugų teikėjams | F68: Apskaitos skyrius | G68: SB | H68: 66 | I68: 64.6 | J68: Kompensacijų teikimo, jų gavėjams, užtikrinimas, proc. | K68: 100 | L68: 100 | M68: Gyventojams kompensuotas kainų skirtumas už šildymą. Lėšos kompensacijoms skiriamos atsižvelgiant į gyventojų gaunamas pajamas, šildymo sezono trukmę
B69: 002-01-06-03 (TP) | C69: Karšto ir šalto vandens pardavimo kainos socialiai remtiniems asmenims kompensavimas | D69: 1 | E69: Koordinavimas, duomenų teikimas paslaugų teikėjams | F69: Socialinės paramos skyrius, Apskaitos skyrius | G69: SB | H69: 132.5 | I69: 132.5 | J69: Kompensacijų teikimo, jų gavėjams, užtikrinimas, proc. | K69: 100 | L69: 100 | M69: Asmenims kompensuota karšto ir šalto vandens pardavimo kaina.
B70: 002-01-06-04 (TP) | C70: Vienkartinė išmoka gimus vaikui Lietuvos Respublikos teritorijoje ir gyvenančiam Kėdainių rajono savivaldybėje | D70: 1 | E70: Išmokų pervedimas | F70: Apskaitos skyrius | G70: SB | H70: 33.7 | I70: 31.8 | J70: Asmenų, gaunančių kompensaciją, skaičius | K70: ~200 | L70: 159 | M70: 159 vaikams, gimusiems Lietuvoje ir gyvenantiems Kėdainių r. savivaldybėje išmokėtos 200 Eur dydžio vienkartinės išmokos.
B71: 002-01-06-05 (TP) | C71: Pagalbos pinigai globėjams, globojantiems vaikus | D71: 1 | E71: Globėjų pritraukimo ir palaikymo priemonių, siekiant užtikrinti vaikų, likusių be tėvų globos, globą šeimoje, įgyvendinimas | F71: Socialinės paramos skyrius, Apskaitos skyrius | G71: SB | H71: 350.2 | I71: 298.6 | J71: Globojamų vaikų skaičius | K71: 139 | L71: 147 | M71: Įgyvendinta globėjų pritraukimo ir palaikymo priemonė, siekiant užtikrinti vaikų, likusių be tėvų globos, globą šeimoje. Lėšų didėjimą lėmė globojamų vaikų skaičiaus ir bazinės socialinės išmokos, kuri tiesiogiai susijusi su pagalbos pinigų dydžiu, didėjimas
B72: 002-01-06-06 (TP) | C72: Materialinio nepritekliaus mažinimo programos Lietuvoje įgyvendinimas | D72: 1 | E72: Programos administravimas | F72: Socialinės paramos skyrius, Apskaitos skyrius | G72: ES | H72: 15 | I72: 11.5 | J72: Paramos gavėjų skaičius | K72: 5200 | L72: 5779 | M72: Įgyvendinant Materialinio nepritekliaus mažinimo (MNM) programą gyventojams išduotos socialinė kortelė, kuria bus galima įsigyti visus maisto produktus ir kitas būtinojo vartojimo prekes (pvz., asmens higienos, buities apyvokos daiktus, namų švaros prekes, kūdikių prekes, drabužius, avalynę ir kt.).
B73: 002-01-07 (T, P) | C73: Užtikrinti ir gerinti socialines paslaugas, teikiamas institucijose, namuose ir bendruomenėje asmenims su negalia bei senyvo amžiaus asmenims
B74: 002-01-07-02 (TP) | C74: Socialinės globos ir akredituotos socialinės priežiūros paslaugų teikiamo finansavimas ne savivaldybės pavaldumo ir nevyriausybinėse organizacijose, paslaugų įsigijimas | D74: 1 | E74: Apmokėjimas už suteiktas paslaugas ne savivaldybės pavaldumo globos įstaigoms | F74: Apskaitos skyrius, Socialinės paramos skyrius | G74: SB | H74: 950 | I74: 940.3 | J74: Asmenų, kuriems finansuotos socialinės paslaugos, skaičius | K74: ~200 | L74: 204 | M74: Asmenims, kuriems nustatytas socialinių paslaugų poreikis, socialinę globą teikė 33 teikėjai, socialinės priežiūros paslaugas - 2. Socialinės paslaugos finansuotos pagal socialinių paslaugų teikimo ir finansavimo sutartis. Per 2025 m. 204 asmenims finansuotos socialinės globos ir akredituotos socialinės priežiūros paslaugos ne savivaldybės pavaldumo įstaigose
B75: 002-01-07-03 (TP) | C75: Savarankiško gyvenimo namų paslaugų teikimo užtikrinimas | D75: 1 | E75: Sutarčių su vykdytojais suderinimas, priemonių koordinavimas ir vykdymo kontrolė | F75: Socialinės paramos skyrius | G75: SB | H75: 138 | I75: 135.5 | J75: Asmenų, gaunančių socialines paslaugas, skaičius | K75: 26 | L75: 26 | M75: Finansuota VšĮ "Gyvenimo namai sutrikusio intelekto asmenims" programa, įstaiga paslaugas teikė 27 asmenims
B76: 002-01-07-05 (TP) | C76: Socialinės reabilitacijos paslaugų neįgaliesiems bendruomenėje organizavimas | D76: 1 | E76: Projektų konkurso organizavimas, projektų koordinavimas, sutarčių vykdymo kontrolė | F76: Socialinės paramos skyrius | G76: SBVB | H76: 79.3 | I76: 77.8 | J76: Neįgaliųjų, gavusių paslaugas, skaičius | K76: 179 | L76: 175 | M76: Socialinės reabilitacijos asmenims su negalia bendruomenėje paslaugas teikė 5 organizacijos, kuriose paslaugas gavo 175 asmenys su negalia. Paslaugos teiktos skatinant asmenų su negalia socialinę integraciją, siekiant užtikrinti socialinių įgūdžių stiprinimą, savarankiškumo didinimą ir aktyvų dalyvavimą bendruomenėje
G77: SB | H77: 126.1 | I77: 121.4
B78: 002-01-07-06 (TP) | C78: Socialinių dirbtuvių paslaugos organizavimas | D78: 1 | E78: Projektų konkurso organizavimas, projektų koordinavimas, sutarčių vykdymo kontrolė | F78: Socialinės paramos skyrius | G78: SB | H78: 53.3 | I78: 50.4 | J78: Paslaugų gavėjų skaičius | K78: 12 | L78: 12 | M78: 12 asmenų gavo socialinių dirbtuvių paslaugą. Siekiant užtikrinti socialinę integraciją, ugdyti asmenų su negalia darbiniai įgūdžiai, pagaminti rankdarbiai realizuoti mugėse ir socialiniuose tinkluose.
B79: 002-01-07-07 (TP) | C79: Projekto "Asmenų su intelekto ir psichikos negalia institucinės globos pertvarkos įgyvendinimas Kėdainių rajono savivaldybėje, įsteigiant socialines dirbtuves" įgyvendinimas | D79: 1 | E79: Projekto paraiškos parengimas ir įgyvendinančiai institucijai teikimas finansavimui gauti | F79: Strateginio planavimo ir investicijų skyrius | G79: SB | H79: 0 | I79: 0 | J79: Paslaugų gavėjų skaičius
D80: 2 | E80: Techninio projekto parengimo viešųjų pirkimų organizavimas, tiekėjo prisiimtų sutartinių įsipareigojimų vykdymo kontrolė | F80: Statybos skyrius | G80: ES | H80: 0 | I80: 0
B81: 002-01-07-08 (TP) | C81: Socialinės globos asmenims su sunkia negalia teikimas | D81: 1 | E81: Koordinavimas, apmokėjimas už suteiktas paslaugas ne savivaldybės pavaldumo globos įstaigoms | F81: Socialinės paramos skyrius | G81: SBVB | H81: 735.2 | I81: 735.2 | J81: Globojamų asmenų skaičius/globojamų asmenų, kuriems teikiamos paslaugos, procentas, palyginus su visais asmenimis, kuriems nustatytas paslaugos poreikis | K81: ~254/98 | L81: ~254/98 | M81: Tiek namuose, tiek socialinės globos įstaigose socialinės globos paslaugas gaunančių asmenų su sunkia negalia skaičius kasmet auga. Globos teikimas užtikrintas laikantis terminų, nustatytų teisės aktuose
B82: 002-01-07-09 (TP) | C82: Asmeninės pagalbos teikimas ir administravimas | D82: 1 | E82: Asmenų konsultavimas, prašymų priėmimas, sprendimų dėl paslaugų skyrimo rengimas, lėšų poreikio apskaičiavimas ir lėšų pervedimas paslaugos teikėjui, finansinių ir dalykinių ataskaitų teikimas | F82: Socialinės paramos skyrius | G82: SBVB | H82: 37.7 | I82: 37 | J82: Asmenų, gaunančių išmokas, skaičius | K82: ~19 | L82: 16 | M82: 16 asmenų teikta asmeninė pagalba asmens higienos, mitybos, judėjimo/mobilumo, socialinių santykių kūrimo/palaikymo srityse.
B83: 002-01-07-10 (TP) | C83: Asmenų su negalia reikalų koordinavimas | D83: 1 | E83: Asmenų su negalia klausimų koordinavimas teisės aktų nustatyta tvarka | F83: Socialinės paramos skyrius | G83: SBVB | H83: 24.4 | I83: 24.2 | J83: Asmenų su negalia klausimų koordinavimo funkcijos vykdymas, proc. | K83: 100 | L83: 100 | M83: Atlikta savivaldybės įstaigų, teikiančių viešąsias paslaugas Kėdainių rajone, interneto svetainių pritaikymo asmenims su negalia, stebėsena. Parengta Kėdainių rajono kultūros įstaigų prieinamumo asmenims su negalia apžvalga. Inicijuota ir vykdyta apklausa dėl viešųjų erdvių ir lankomų įstaigų pritaikymo asmenims su negalia Kėdainių mieste / rajone. Savivaldybės administracijai teikti pasiūlymai / rekomendacijos dėl miesto bei rajono infrastruktūros pritaikymo asmenims su negalia.
B84: 002-01-07-11 (TP) | C84: Intelekto ir (ar) psichikos negalią turinčių asmenų atvejo vadybos paslaugų teikimas | E84: Paslaugų, reikalingų asmens poreikių tenkinimui, vertinimas, planavimas, organizavimas ir įgyvendinimo koordinavimas | F84: Socialinės paramos skyrius | G84: ES | H84: 36.78 | I84: 19 | J84: Asmenų, kuriems vienu metu teikiamos atvejo vadybos paslaugos, skaičius | K84: 20 | L84: 20 | M84: 20 asmenų vienu metu teiktos atvejo vadybos paslaugos: įvertinus individualius poreikius, atlikta reikalingų paslaugų teikėjų paieška, suteiktos palydėjimo, tarpininkavimo ir atstovavimo paslaugos
B85: 002-01-07-12 (TP) | C85: Laikino atokvėpio paslaugos teikimas ir administravimas | D85: 1 | E85: Laikino atokvėpio paslaugos organizavimas, suteikiant galimybę paslaugos gavėjui laikinai pailsėti nuo prižiūrimo asmens slaugos | F85: Socialinės paramos skyrius | G85: SBVB | H85: 8.6 | I85: 4.4 | J85: Paslaugos teikimo užtikrinimas, asmenims, kuriems nustatytas poreikis, proc. | K85: 100 | L85: 100 | M85: Paslaugos teikimas užtikrintas, asmenims, kuriems nustatytas paslaugos poreikis. Apie šios paslaugos teikimą buvo skelbiama vietinėje spaudoje ir savivaldybės interneto svetainėje
B86: 002-01-08 (T) | C86: Užtikrinti ir gerinti stacionarias ir nestacionarias socialines paslaugas socialinę riziką patiriančioms šeimoms, asmenims ir vaikams
B87: 002-01-08-02 (TP) | C87: Globos šeimoje skatinimas, pagalbos globėjams ir vaikams teikimas | D87: 1 | E87: ES projekto kofinansavimo užtikrinimas Kėdainių pagalbos šeimos centro įgyvendinamam ES projektui | F87: Socialinės paramos skyrius, Apskaitos skyrius | G87: SB | H87: 37.1 | I87: 0 | J87: Asmenų, kuriems suteiktos paslaugos, skaičius | K87: ~150 | L87: 146 | M87: ES projekto kofinansavimas buvo įskaitytas prie Kėdainių pagalbos šeimai centro asignavimų
B88: 002-01-08-03 (TP) | C88: Vaikų dienos centrų veiklos programų finansavimas | D88: 1 | E88: Sutarčių sudarymas, programų įgyvendinimo priežiūros organizavimas | F88: Socialinės paramos skyrius | G88: SB | H88: 227.5 | I88: 225.6 | J88: Finansuotų vaikų dienos centrų skaičius/veiklose dalyvavusių vaikų, jaunuolių skaičius | K88: 10/195 | L88: 10/195 | M88: Finansuota 10 vaikų dienos centrų veiklos, kuriose dalyvavo 195 vaikai
G89: SBVB | H89: 185.6 | I89: 184
B90: 002-01-09 (T) | C90: Užtikrinti gyventojų socialinį bei viešąjį saugumą
B91: 002-01-09-01 (TP) | C91: Smurto artimoje aplinkoje bei krizių įveikimo prevencija, pagalba socialiai pažeidžiamiems asmenims | D91: 1 | E91: Konkurso organizavimas, priemonių koordinavimas, sutarčių vykdymo kontrolė | F91: Socialinės paramos skyrius | G91: SB | H91: 50 | I91: 50 | J91: Asmenų, kuriems suteikta krizių įveikimo, konsultacinė pagalba | K91: ~120 | L91: 120 | M91: Socialinė pagalba suteikta 120 asmenų patiriantiems krizines situacijas, smurtą artimoje aplinkoje, socialinę riziką (ar) socialinę atskirtį. Asmenims teikta psichosocialinė pagalba, bendrosios socialinės paslaugos, pagalba sprendžiant sveikatos, įdarbinimo, gyvenamosios vietos radimo, įsiskolinimų ir kitas socialines problemas. Užtikrintas vaikų su negalia sensorinių poreikių patenkinimas, ugdyti bei stiprinti socialiniai ir emocijai įgūdžiai
B92: 002-01-09-02 (TP) | C92: Saugios aplinkos kūrimas ir bendruomenės viešosios tvarkos užtikrinimas | D92: 1 | E92: Įgyvendinamų programos priemonių koordinavimas | F92: Viešosios tvarkos skyrius | G92: SB | H92: 12 | I92: 12 | J92: Įgyvendintų prevencinių priemonių skaičius | K92: 12 | L92: 12 | M92: Organizuoti teisinių žinių, teisinio švietimo (viktorinos, konkursai, protmūšiai) renginiai ir akcijos, vykdytos prevencinės priemonės vyresnio amžiaus žmonėms, skatinti jaunieji policijos rėmėjai, įsigyta reprezentacinė atributika, vykdytos saugios kaiminystės grupių veiklos.
B93: 002-01-09-03 (TP) | C93: Jaunuolių skatinimas pasirinkti policijos pareigūno profesiją | D93: 1 | E93: Įgyvendinamų programos priemonių koordinavimas | F93: Patarėja (jaunimo reikalų koordinatorė) | G93: SB | H93: 10 | I93: 2.2 | J93: Paskatintų jaunuolių skaičius | K93: 2/3 | L93: 3 | M93: Pagal trūkstamų pirminės ir vidurinės grandies policijos pareigūnų pritraukimo į Kauno apskrities vyriausiojo policijos komisariato Kėdainių rajono policijos komisariatą programą, su kursantais pasirašytos trys dvišalės sutartys. Jaunuoliai pradėjo veiklą nuo 2025 m. spalio mėn., todėl lėšų panaudota mažiau nei planuota
B94: 002-01-09-05 (TP) | C94: Gyventojų civilinio saugumo užtikrinimas | D94: 1 | E94: Civilinės saugos ekstremaliųjų situacijų valdymo plano prevencinių priemonių rengimas (atnaujinimas), operacijų centro veiklos organizavimas | F94: Pareigūnas, atliekantis savivaldybės parengties pareigūno funkcijas | G94: SBVB | H94: 49.3 | I94: 44 | J94: Funkcijos vykdymo procentas | K94: 100 | L94: 100 | M94: Kėdainių rajone civilinės saugos veikla vykdyta pagal 2024–2026 m. ekstremaliųjų situacijų prevencijos priemonių planą. Rajone yra 50 kolektyvinės apsaugos statinių ir 129 priedangos, užtikrinančios gyventojų apsaugą, o gyventojų perspėjimo sirenomis sistemos modernizavimas leido pakeisti 65 proc. senųjų sirenų naujos kartos elektroninėmis. Savivaldybės lygio kompleksinės ir funkcinės pratybos įvertino Ekstremaliųjų situacijų operacijų centro pasirengimą gyventojų apsaugai ir evakuacijai. Gyventojų švietimas civilinės saugos klausimais vyko skleidžiant lankstinukus, plakatus, organizuojant mokymus bendruomenėse, mokyklose bei skelbiant informaciją internete ir vietinėje žiniasklaidoje. SB ir SBVB lėšos panaudotos sirenų modernizavimui, GSM modulių įsigijimui bei rezervinio generatoriaus įsigijimui
D95: 2 | E95: Rajono civilinės saugos perspėjimo sistemos būklės kontroliavimas, civilinės saugos mokymų organizavimas | G95: SB | H95: 69.2 | I95: 69.2
D96: 3 | E96: Kolektyvinės apsaugos statinių ir priedangų parinkimas, pažymėjimas ir parengimas
B97: 002-01-09-06 (TP) | C97: Dalyvavimas rengiant ir vykdant mobilizaciją, demobilizaciją, priimančiosios šalies paramą | D97: 1 | E97: Pasirengimo mobilizacijai, demobilizacijai ir priimančios šalies paramos teikimo administravimas | F97: Vyr. specialistas (mobilizacijai) | G97: SBVB | H97: 36.4 | I97: 36.4 | J97: Įvykdytų savivaldybės mobilizacijos plano priemonių dalis, proc. | K97: 100 | L97: 100 | M97: atnaujintas mobilizacijos planas, surinkta ir pateikta informacija apie savivaldybės teikiamą paramą sąjungininkams, sudarytas Civilinio mobilizacinio personalo rezervo sąrašas, pasirašytos sutartys dėl maisto tiekimo. Bendradarbiauta su Kauno regiono karo komendantūra, organizuoti 3 pilietinio pasipriešinimo mokymai (134 dalyviai) ir dalyvauta mobilizaciniuose bei ekstremalių situacijų mokymuose. Mobilizacijos ir pilietinio pasipriešinimo departamentui pateiktos 4 veiklos ataskaitos
D98: 2 | E98: Duomenų rinkimas, sisteminimas, savivaldybės mobilizacijos plano rengimas
D99: 3 | E99: Mobilizacinio ar priimančios šalies paramos teikimo mokymo organizavimas, koordinavimas
B100: 002-01-09-07 (TP) | C100: Projekto "Priedangų infrastruktūros plėtra Kėdainių rajono savivaldybėje"" įgyvendinimas | D100: 1 | E100: Projekto paraiškos teikimas, finansavimo sutarties derinimas, projekto koordinavimas | F100: Administracijos patarėjas (atliekantis savivaldybės parengties pareigūno funkcijas) | G100: SBVB | H100: 111 | I100: 110.4 | J100: Įgyvendintų projekto veiklų proc. | K100: 40 | L100: 40 | M100: Projekto veiklos įgyvendinamos „Ryto“ progimnazijoje, „Aušros“ progimnazijoje, lopšelyje-darželyje „Žilvytis“, Šėtos gimnazijoje ir „Atžalyno“ gimnazijoje. Projekto metu priedangose įrengta vėdinimo sistema, pritaikyti įėjimai ir išėjimai riboto judumo asmenims, taip pat įrengta rezervinio elektros tiekimo sistema su 5 generatoriais. 2026 m. šių projekto veiklos bus tęsiamos
B101: 002-01-09-08 (TP) | C101: Projekto "Pasirengimas evakuojamus gyventojus laikinai apgyvendinti kolektyvinės apsaugos statiniuose" įgyvendinimas | D101: 1 | E101: Projekto paraiškos teikimas, finansavimo sutarties derinimas, projekto koordinavimas | F101: Administracijos patarėjas (atliekantis savivaldybės parengties pareigūno funkcijas) | G101: SBVB | H101: 138 | I101: 137.2 | J101: Įgyvendintų projekto veiklų proc. | K101: 40 | L101: 40 | M101: Projekto veiklos įgyvendinamos Senamiesčio progimnazijoje, Akademijos gimnazijoje, Suaugusiųjų ir jaunimo mokymo centre bei „Aušros“ progimnazijoje. Projekto metu įrengta rezervinio elektros tiekimo sistema su 3 generatoriais 80 kW ir įsigytos sulankstomos lovos. 2026 m. šių projekto veiklos bus tęsiamos
B102: 002-01-09-09 (TP) | C102: Savivaldybės pavaldymo socialinės globos ir priežiūros įstaigų aprūpinimas elektros generatoriais | D102: 1 | E102: Priemonės koordinavimas | F102: Pareigūnas, atliekantis savivaldybės parengties pareigūno funkcijas | G102: SB | H102: 80 | I102: 73.1 | J102: Įstaigų, aprūpintų elektros generatoriais, skaičius | K102: 5 | L102: 5 | M102: Generatorius įsirengė Dotnuvos slaugos namai, Pagalbos šeimai centras, Josvainių ir Šėtos socialinio ir ugdymo centrai, Kėdainių bendruomenės socialinis centras
B103: 002-01-09-10 (TP) | C103: Daugiabučių namų patalpų pritaikymas minimaliems priedangų reikalavimams | D103: 1 | E103: Konkurso organizavimas, priemonių koordinavimas | F103: Pareigūnas, atliekantis savivaldybės parengties pareigūno funkcijas | G103: SB | H103: 20 | I103: 0 | J103: Pritaikytų daugiabučių namų minimaliems priedangų reikalavimams skaičius | K103: 4 | L103: 0 | M103: 2025 m. rugsėjo mėn. rajono taryboje patvirtinti savivaldybės daugiabučių namų patalpų pritaikymo minimaliems priedangų reikalavimams konkurso nuostatai. Paskelbtas konkursas teikti paraiškas, tačiau paraiškų nebuvo gauta. Priemonė bus tęsiama 2026 m.
...

Sheet 03 Darnios aplinkos
B2: Programos uždavinio, priemonės kodas ir požymis | C2: Uždavinio, priemonės pavadinimas, finansavimo šaltiniai | D2: Veiklos kodas | E2: Veiklos pavadinimas | F2: Atsakingas vykdytojas | G2: Finansavimo šaltinis | H2: Numatomi 2025 m. asignavimai ir kitos lėšos, tūkst. Eur | I2: Numatomi 2025 m. asignavimai ir kitos lėšos, tūkst. Eur | J2: Vertinimo kriterijai
J3: Pavadinimas | K3: Planuota reikšmė | L3: Pasiekta reikšmė | M3: Komentarai, pastabos, nukrypimų nuo plano priežastys
B5: 03 DARNI APLINKA IR INFRASTRUKTŪROS PLĖTRA
B6: 003-01-01 (T) | C6: Remti ir vykdyti aplinkos kokybės gerinimo, aplinkos monitoringo ir kitas aplinkos apsaugos iniciatyvas | H6: =SUM(H7:H19) -> 296.1 | I6: =SUM(I7:I19) -> 244.7
B7: 003-01-01-01 (TP) | C7: Aplinkos kokybės gerinimas ir apsauga, visuomenės aplinkosauginis švietimas | D7: 1 | E7: Sosnovskio barščio naikinimo rajono seniūnijose koordinavimas | F7: Aplinkosaugos skyrius | G7: SB (AA) | H7: 158.6 | I7: 121.7 | J7: Invazinių augalų ugaviečių skaičiaus sumažėjimas Kėdainių r. sav., proc. | K7: 8 | L7: 8 | M7: Koordinuotas Sosnovskio barščio naikinimas Dotnuvos, krakių, Pelėdnagių, Šėtos, Vilainių, Surviliškio, Pernaravos bei Miesto seniūnijose bei organizuotas šio invazinio augalo gausos reguliavimo plano parengimas. Užtikrinta saugomų teritorijų apsauga, Nevėžio ir Dotnuvėlės upių pakrančių valymas, jūrinų erelių perimviečių stebėjimas bei Krakių II tvenkinio įžuvinimas pagal žuvų išteklių atkūrimo planą, finansuotos gelbėjimo ir cheminių avarijų padarinių likvidavimo priemonės. Vykdant aplinkosauginį švietimą, organizuota „Darnaus judumo savaitė“, surengtos virtualios realybės edukacijos „Žalioji viktorina“ bei finansuotas „Atžalyno“ gimnazijos dalyvavimas Gamtosauginių mokyklų programoje
D8: 2 | E8: Sosnovskio barščio gausos reguliavimo veiksmų plano parengimo viešųjų pirkimų organizavimas, plano rengimo koordinavimas | G8: SBVB | H8: 14.1 | I8: 14.1
D9: 3 | E9: Nevėžio, Dotnuvėlės upių, kitų telkinių pakrančių valymo darbų koordinavimas
D10: 4 | E10: Saugomų teritorijų apsaugos ir tvarkymo darbų koordinavimas
D11: 5 | E11: Jūrinių erelių perimviečių stebėjimo užtikrinimas
D12: 6 | E12: Gelbėjimo ir cheminių avarijų padarinių likvidavimo ir priemonių finansavimo užtikrinimas
D13: 7 | E13: Krakių II tvenkinio įžuvinimo pagal žuvų išteklių atkūrimo planą organizavimas
D14: 8 | E14: Visuomenės aplinkosauginio švietimo organizavimas
B15: 003-01-01-02 (TP) | C15: Aplinkos monitoringas, oro, dirvožemio, požeminio ir paviršinio vandens nuotekų tyrimai | D15: 1 | E15: Aplinkos monitoringo programos paslaugų įgyvendinimo koordinavimas | F15: Aplinkosaugos skyrius | G15: SB (AA) | H15: 25.7 | I15: 25.6 | J15: Pagal patvirtintą aplinkos monitoringo programą per pusmetį nustatytų teršalų koncentracijų verčių viršijimų dalis nuo visų atliktų tyrimų, proc. | K15: ne daugiau 5 | L15: 3 | M15: Vykdytas aplinkos oro, paviršinio ir požeminio vandens, dirvožemio bei aplinkos triukšmo monitoringas pagal Kėdainių rajono savivaldybės 2019–2024 metų ir 2025–2030 metų aplinkos monitoringo programas, Vykdyti suspenduotų kietųjų dalelių (SKD) matavimai aplinkos ore Kėdainių mieste, įverinant transporto, šildymo sistemų ir pramonės daromą įtaką vietos ekosistemai bei gyventojų sveikatai. Rezultatai: matavimai 4 miesto vietose atitiko Lietuvos ir ES teisės aktų reikalavimus, o gauti rezultatai neviršijo nustatytų saugių ribinių verčių
D16: 2 | E16: Aplinkos oro, dirvožemio, požeminio ir paviršinio vandens nuotekų tyrimų vykdymas
D17: 3 | E17: Aplinkos oro (KD) tyrimų organizavimas ir koordinavimas
B18: 003-01-01-03 (TP) | C18: Prevencinių priemonių, kuriomis siekiama išvengti medžiojamųjų gyvūnų daromos žalos miškui, įgyvendinimas | D18: 1 | E18: Medžioklės klausimų koordinavimas, dalyvavimas finansinės paramos medžiojamųjų gyvūnų daromos žalos prevencijos priemonėms įgyvendinti komisijoje | F18: Aplinkosaugos skyrius | G18: SB (AA) | H18: 57.7 | I18: 57.2 | J18: Per metus registruotų gyvūnų daromos žalos incidentų skaičius | K18: mažesnis ne pernai | L18: didesnis nei pernai | M18: 2025 m. medžiojamųjų gyvūnų padarytos žalos įvertinimo prašymus pateikė dvigubai daugiau subjektų nei 2024 m. (16 --> 31): iš viso pastatyta 11,85 km tvorų, apsaugant 96,54 ha žemės ir miško plotų, o 8,3 ha plote repelentais nutepta 13 740 eglės sodinukų.Vietoj planuoto žalos incidentų skaičiaus mažėjimo stebimas visų rodiklių (subjektų, prašymų, aktų ir piniginės žalos) augimas. Stumbrų padaryta žala sudaro didelę dalį bendros sumos, taip pat matomas augimas dėl kitų žvėrių padarytos žalos augimo, o vilkų daroma žala fiksuota minimali
B19: 003-01-01-04 (TP) | C19: Individualių nuotekų valymo įrenginių kompensavimas gyventojams | D19: 1 | E19: Priemonės koordinavimas ir viešinimas | F19: Aplinkosaugos skyrius | G19: SB (AA) | H19: 40 | I19: 26.1 | J19: Per metus patenkintų prašymų dalis, proc., nuo gautų prašymų skaičiaus | K19: 90 | L19: 100 | M19: 46 fiziniams asmenims iš dalies kompensuotos individualių nuotekų valymo įrenginių įsigijimo išlaidos
B20: 003-01-02 (T) | C20: Tobulinti atliekų tvarkymo bei aplinkos išsaugojimo sistemą, užtikrinti estetišką aplinką | H20: =SUM(H21:H28) -> 3353.4 | I20: =SUM(I21:I28) -> 3193
B21: 003-01-02-01 (TP) | C21: Atliekų tvarkymo sistemos organizavimas | D21: 1 | E21: Priemonės įgyvendinimo koordinavimas | F21: Aplinkosaugos skyrius, Apskaitos skyrius | G21: SB | H21: 2000 | I21: 1999.9 | J21: Gautų skundų dėl nesklandaus komunalinių atliekų tvarkymo sistemos veikimo, skaičiaus mažėjimas (kasmet), proc. | K21: 5 | L21: 5 | M21: Gyventojų paklausimai dėl atliekų tvarkymo per metus buvo nagrinėjami nuolat – telefonu, el. paštu ir raštu. Kiekvienas atvejis įvertintas individualiai. Dalis situacijų kilo ne dėl paslaugų teikimo trūkumų, o dėl objektyvių aplinkybių: gyventojai nesilaikė išvežimo grafiko, konteineriai buvo neprieinami dėl uždarytų vartų ar neprivažiuojamų kiemų, sudėtingų oro sąlygų. Esant perpildytiems konteineriams, paslaugų teikėjas Econovus visada informuotas ir įpareigotas laikytis sutarties sąlygų. Dėl šių priežasčių paklausimų skaičius sumažėjo, o dauguma jų buvo išspręsti operatyviai.
D22: 2 | E22: Susidariusių atliekų tvarkymas, vartų mokesčio mokėjimas | F22: Apskaitos skyrius | G22: SB | H22: 896.4 | I22: 839.6
D23: 3 | E23: Suteiktų lengvatų už vietinę rinkliavą už komunalinių atliekų surinkimą kompensavimas | F23: Apskaitos skyrius
B24: 003-01-02-02 (PP) | C24: Projekto "Rūšiuojamojo atliekų surinkimo skatinimas Kėdainių rajono savivaldybėje" įgyvendinimas | D24: 1 | E24: ES projekto paraiškos rengimui reikalingos informacijos teikimas Kauno RAC, projekto techninės dokumentacijos rengimo viešojo pirkimo organizavimas, tiekėjo prisiimtų sutartinių įsipareigojimų vykdymo kontrolė | F24: Aplinkosaugos skyrius | G24: SB | H24: 0 | I24: 0 | J24: Techninės dokumentacijos parengimas | K24: 0 | L24: 0 | M24: Techninės dokumentacijos parengimas
G25: ES | H25: 0 | I25: 0
B26: 003-01-02-05 (TP) | C26: Susidariusių atliekų surinkimas, transportavimas, tvarkymas, konteinerių, kompostavimo dėžių įsigijimas | D26: 1 | E26: Konteinerių, kompostavimo dėžių įsigijimo viešųjų pirkimų organizavimas, tiekėjų prisiimtų sutartinių įsipareigojimų vykdymo kontrolė | F26: Aplinkosaugos skyrius | G26: SB | H26: 277.9 | I26: =159.2+1.4 -> 160.6 | J26: Komunalinių atliekų tvarkymo sistemos įgyvendinimas pagal Kėdainių r. sav. atliekų prevencijos ir tvarkymo 2021-2027 m. planą, proc. | K26: 90 | L26: 98 | M26: Vykdytos aplinkosauginės iniciatyvos, apimančios aktyvų visuomenės informavimą (62 pranešimai apie rūšiavimą, 6 – apie maisto švaistymą bei 5 – apie „Daiktų atiduotuvę“) ir praktinį infrastruktūros plėtojimą (pvz., įrengtos dvi geriamojo vandens kolonėlės bei surinkta ir sutvarkyta 77,32 t maisto atliekų). Pradėtos dalinti komposto dėžės, pasirašytas regioninis susitarimas dėl „švediško stalo“ principo diegimo ugdymo įstaigose maisto švaistymui mažinti bei įvertintos galimybės prekybos vietose grąžinti nepanaudotus medžiagų likučius. Be to, visus metus buvo skatinamos pilietinės šiukšlių rinkimo iniciatyvos platformoje „Darom“, 2 kartus per metus organizuotas pavojingų atliekų surinkimas apvažiavimo būdu, o atliekų tvarkymo kontrolė užtikrinta atlikus 40 planinių ir neplaninių patikrinimų
D27: 2 | E27: Atliekų, kurių turėtojo nustatyti neįmanoma arba kuris nebeegzistuoja, tvarkymo priemonių organizavimas ir vykdymas | G27: SB (AA) | H27: 137.1 | I27: 150.9
D28: 3 | E28: Komunalinių atliekų registro programinės priemonės tvarkymui | G28: SBVB | H28: 42 | I28: 42
B29: 003-01-03 (T) | C29: Prižiūrėti, tvarkyti savivaldybės viešąsias teritorijas, gerinti kraštovaizdžio apsaugą, didinti jo patrauklumą | H29: =SUM(H30:H36) -> 379.9 | I29: =SUM(I30:I36) -> 326.7
B30: 003-01-03-02 (TP) | C30: Kapinių teritorijų plėtra, atnaujinimas, kolumbariumų įrengimas, kapinių skaitmeninimas | D30: 1 | E30: Daškonių kapinių plėtros ir gyvūnų kapinių įrengimo techninio projekto parengimo koordinavimas | F30: Statybos skyrius | G30: SB | H30: 35 | I30: 24.4 | J30: Naujų kolumbariumų skaičius / suskaitmenintų kapinių skaičius | K30: 1/4 | L30: 1/4 | M30: 2025 m. Šėtos miestelio kapinėse įrengtas 36 vietų kolumbariumas, taip pat sėkmingai suskaitmenintos Šėtos mstl., Pagirių k., Gėlainių k., Josvainių mstl., Krakių miestelio naujosios (Peštiniukų k.) ir senosios kapinės. koordinuotas Daškonių kapinių plėtros ir gyvūnų kapinių įrengimo techninio projekto parengimas
B31: 003-01-03-03 (TP) | C31: Bešeimininkių ir bepriežiūrių gyvūnų surinkimas, karantinavimas, priežiūra | D31: 1 | E31: Sudarytų sutarčių su paslaugų vykdytojais koordinavimas | F31: Aplinkosaugos skyrius | G31: SB | H31: 24.4 | I31: 10.7 | J31: Suteikta laikina globa bešeimininkiams gyvūnams, proc. | K31: 100 | L31: 100 | M31: Įgyvendinant gyvūnų gerovės priemones, sugaudyta ir sterilizuota bei nuo pasiutligės paskiepyta 118 bešeimininkių kačių. Taip pat sugauti ar iš namų paimti 29 bešeimininkiai bei bepriežiūriai gyvūnai, 25 iš jų paženklinti mikroschemomis, bei užtikrintas gaišenų surinkimas iš viešųjų erdvių
B32: 003-01-02-04 (TP) | C32: Apleistų (bešeimininkių ar savivaldybei nuosavybės teise priklausančių) pastatų ar kitų aplinką žalojančių objektų likvidavimas | D32: 1 | E32: Viešųjų pirkimų organizavimas, rangovo prisiimtų sutartinių įsipareigojimų vykdymo kontrolė | F32: Turto valdymo skyrius | G32: SB | H32: 26.5 | I32: 26.5 | J32: Likviduotų objektų skaičius | K32: 4 | L32: 4 | M32: Buvo likviduoti keli aplinką ir gyventojų saugumą žalojantys objektai: nugriautas apleistas gyvenamasis namas su priklausiniais Vytauto g. 64 Dotnuvoje, pašalintas bešeimininkis garažas Ruokio g. 5 Akademijoje, likviduotas apleistas artezinis šulinys su trasomis Sangailų kaime bei demontuota nenaudojama buitinių nuotekų valykla Aristavos kaime
B33: 003-01-03-05 (TP) | C33: Želdynų ir želdinių apsauga, tvarkymas, būklės stebėsena, gėlynų kūrimas | D33: 1 | E33: Želdinių priežiūros, naujų želdinių įveisimo organizavimas ir koordinavimas, bendradarbiavimas su seniūnijomis | F33: Aplinkosaugos skyrius | G33: SB (AA) | H33: 116.3 | I33: 115.4 | J33: Seniūnijų skaičius, kuriose įgyvendinamos želdynų ir želdinių apsaugos, tvarkymo, būklės stebėsenos, želdynų kūrimo, želdinių veisimo ir inventorizavimo priemonės | K33: 11 | L33: 11 | M33: Seniūnijoms skirtos lėšos želdiniams įsigyti, želdynams prižiūrėti, atliktas viešųjų erdvių apželdinimas Kėdainių mieste daugiamečiais augalais, įsigytos biologinės apsaugos priemonės kaštonams apsaugoti, atnaujinta želdynų ir želdinių apsaugos, tvarkymo ir priežiūros dokumentacija
D34: 2 | E34: Miesto gėlynų, gėlinių ir dekoratyvinių krūmų priežiūros ir apželdinimo organizavimas ir koordinavimas | G34: SB | H34: =92.5+24.5+18.2 -> 135.2 | I34: 149.7
B35: 003-01-03-06 (PP) | C35: Projekto "Žaliosios infrastruktūros Kėdainių miesto urbanizuotoje aplinkoje plėtojimas" įgyvendinimas | D35: 1 | E35: ES projekto paraiškos įgyvendinančiai institucijai teikimas | F35: Strateginio planavimo ir investicijų skyrius, Aplinkosaugos skyrius | G35: SB | H35: 0 | I35: 0 | J35: Parengta paraiška | K35: 1 | L35: 1 | M35: Parengtas techninis projektas ir surengtos konsultacijos su visuomene dėl miesto viešųjų erdvių atnaujinimo. Numatyta sutvarkyti teritorijas Chemikų ir Respublikos gatvių daugiabučių kvartale, Didžiosios gatvės skvere (prie Kėdainių butų) bei Smilgos upės slėnyje – čia bus formuojami želdynai, modernizuojama žalioji infrastruktūra ir įrengiami laidžios dangos takai, gerinant aplinkos estetiką ir patrauklumą gyventojams
G36: ES | H36: 42.5 | I36: 0
B37: 003-01-04 (T) | C37: Rengti, atnaujinti teritorijų planavimo ir kitus dokumentus, sudarant sąlygas darniai infrastruktūros plėtrai | H37: =SUM(H38:H40) -> 295 | I37: =SUM(I38:I40) -> 270.2
B38: 003-01-04-01 (TP) | C38: Dokumentų, padedančių užtikrinti darnią rajono savivaldybės teritorijų plėtrą, rengimas | D38: 1 | E38: Specialiųjų, detaliųjų, geodezinių planų rengimo viešųjų pirkimų organizavimas, teikiamų paslaugų koordinavimas, paslaugų teikėjo prisiimtų sutartinių įsipareigojimų vykdymo kontrolė | F38: Architektūros ir urbanistikos skyrius | G38: SB | H38: 135 | I38: 134.8 | J38: Parengtų teritorijų planavimo dokumentų (specialiųjų, detaliųjų, bendrųjų, geodezinių, žemės sklypų formavimo ir pertvarkymo, kadastrinių matavimų ir kt.) skaičius | K38: ~40 | L38: 48 | M38: Rengti žemės sklypų formavimo ir pertvarkymo projektai, atlikti žemės sklypų paženklinimo darbai, parengtos ir tikslintos kadastro bylos bei žemės sklypų kadastro duomenys. Taip pat parengtos architektūros kokybės kriterijų vertinimo metodikos gairės. Per ataskaitinį laikotarpį užbaigtas Pelėdnagių kaimo detalusis planas, specialusis planas Upytės keliui bei Birutės gatvės projektiniai sprendiniai Kėdainių miesto seniūnijos Daukšių ir Paeismilgio kaimuose
B39: 003-01-04-02 (TP) | C39: Investicinių projektų, planų, paraiškų, kitos techninės dokumentacijos rengimas paramai gauti | D39: 1 | E39: Projektinių pasiūlymų, paraiškų ir kitos dokumentacijos parengimo organizavimas ir kontrolė | F39: Strateginio planavimo ir investicijų skyrius | G39: SB | H39: 60 | I39: 47.5 | J39: Parengtos dokumentacijos skaičius | K39: 10 | L39: 8 | M39: Parengti 8 investiciniai projektai, auditai ir įgyvendinimo planai, sudarantys pagrindą teikti paraiškas ES ir kitų finansavimo šaltinių paramai gauti savivaldybės infrastruktūros gerinimo ir plėtros projektams įgyvendinti
B40: 003-01-04-03 (TP) | C40: Išmokos pagal savivaldybės infrastruktūros plėtros sutartis (SĮP) | D40: 1 | E40: Priemonės koordinavimas | F40: Architektūros ir urbanistikos skyrius | G40: SB | H40: 100 | I40: 87.9 | J40: Sudarytų sutarčių išmokai gauti skaičius einamaisiais metais / iš viso bendras | K40: pagal subjektų prašymus | L40: 1/6 | M40: 2025 m. 58 subjektai kreipėsi dėl savivaldybės infrastruktūros plėtros įmokos apskaičiavimo. Per metus gauta 5,34 tūkst. Eur prioritetinių ir 42,75 tūkst. Eur neprioritetinių įmokų. Taip pat panaudota 87,91 tūkst. Eur neprioritetinių įmokų lėšų išmokai AB „Kauno grūdai“ pagal infrastruktūros plėtros sutartį už Stoties gatvės (Kėdainių m.) privažiavimo kelio projektavimo ir kapitalinio remonto darbus
B41: 003-01-05 (T) | C41: Užtikrinti inžinerinio aprūpinimo (vandentiekio, nuotekų tinklų ir kt.) sistemų atnaujinimą ir plėtrą | H41: =SUM(H42:H47) -> 547.1 | I41: =SUM(I42:I47) -> 373.5
B42: 003-01-05-01 (PP) | C42: Projekto "Geriamojo vandens tiekimo ir nuotekų tvarkymo paslaugų prieinamumo didinimas Kėdainių rajone" įgyvendinimas | D42: 1 | E42: Projekto, kurį įgyvendina UAB "Kėdainių vandenys", kofinansavimo dalies užtikrinimas | F42: Apskaitos skyrius, Strateginio planavimo ir investicijų skyrius | G42: SB | H42: 284.1 | I42: 230.4 | J42: Įgyvendinta projekto veiklų, proc. (iš viso) | K42: 10 | L42: 8 | M42: Įgyvendinant projektą 2025 m. parengti Miegėnų, Kalnaberžės, Krakių ir Meironiškių kaimų vandentvarkos techniniai projektai bei atliktos jų ekspertizės, rengiamas Beinaičiuose TP. Pasirašytos sutartys dėl rangos darbų Šlapaberžėje ir Akademijoje (apimant Tilto, Vingio, Lauko, Dobilo, Pievų ir Kranto gatves). Akademijoje pradėti numatyti inžinerinių tinklų tiesimo darbai
B43: 003-01-05-02 (TP) | C43: Vandentiekio, nuotekų tinklų rekonstrukcija ir plėtra mieste | D43: 1 | E43: Rangos darbų (pagal poreikį) viešojo pirkimo organizavimas, rangos darbų koordinavimas, rangovo prisiimtų sutartinių įsipareigojimų vykdymo kontrolė | F43: Statybos skyrius | G43: SB | H43: 30 | I43: 5.7 | J43: Paklota vandentiekio ir nuotekų tinklų, m | K43: ~300 | L43: 90 | M43: Miesto seniūnija vykdė smulkius darbus miesto teritorijoje, užtikrinant esamų tinklų funkcionavimą ir infrastruktūros priežiūrą.
B44: 003-01-05-03 (TP) | C44: Biologinių nuotekų valymo įrenginių įrengimas | D44: 1 | E44: Rangos darbų viešojo pirkimo organizavimas, rangos darbų koordinavimas, rangovo prisiimtų sutartinių įsipareigojimų vykdymo kontrolė (Labūnavos k) | F44: Statybos skyrius | G44: SB | H44: 23 | I44: 23 | J44: Įsigytų įrenginių skaičius | K44: 1 | L44: 1 | M44: Vietinė buitinių nuotekų valykla įrengta Labūnavos k. Nevėžio g.
B45: 003-01-05-04 (TP) | C45: Geriamojo vandens tiekimo ir buitinių nuotekų tvarkymo infrastruktūros plėtros ir/ar rekonstrukcijos kaimiškosiose gyvenvietėse techninės dokumentacijos rengimas | D45: 1 | E45: Techninės dokumentacijos parengimo viešojo pirkimo organizavimas, tiekėjo prisiimtų sutartinių įsipareigojimų vykdymo kontrolė | F45: Statybos skyrius | G45: SB | H45: 50 | I45: 18.9 | J45: Parengtos techninės dokumentacijos skaičius | K45: 3 | L45: 3 | M45: Parengta techninė dokumentacija vandentiekio tinklams Gineitų kaime ir Ansainių kaime, taip pat paruošta techninė dokumentacija nuotekų tinklų įrengimui ir nuotekų valyklos statybai Langakiuose
B46: 003-01-05-05 (TP) | C46: Objektų remontai pagal administracijos direktoriaus įsakymus | D46: 1 | E46: Priemonės įgyvendinimo koordinavimas | F46: Administracijos direktorius, Biudžeto ir finansų skyrius | G46: SB | H46: 110 | I46: 94.4 | J46: Remontuotų objektų skaičius | K46: pagal poreikį | L46: 12 | M46: Lėšos skirtos 12 objektų remontui
B47: 003-01-05-11 (TP) | C47: Avarinių židinių likvidavimas | D47: 1 | E47: Priemonės įgyvendinimo koordinavimas | F47: Administracijos direktorius, Biudžeto ir finansų skyrius | G47: SB | H47: 50 | I47: 1.1 | J47: Objektų skaičius, kuriuose likviduoti avariniai židiniai | K47: pagal poreikį | L47: 1 | M47: Lėšos skirtos 1 objekto remontui
B48: 003-01-06 (T) | C48: Prižiūrėti ir plėtoti energetinę infrastruktūrą, diegti energiją taupančias priemones | H48: =SUM(H49:H50) -> 1150 | I48: =SUM(I49:I50) -> 140.3
B49: 003-01-06-01 (TP) | C49: Gatvių apšvietimo rekonstrukcija, įrengimas, modernizavimas | D49: 1 | E49: Viešųjų pirkimų organizavimas, rangos darbų vykdymo koordinavimas, rangovo prisiimtų sutartinių įsipareigojimų vykdymo kontrolė | F49: Statybos skyrius | G49: SB | H49: 150 | I49: 140.3 | J49: Nutiestų tinklų, pakeistų atramų, šviestuvų kaičius | K49: 300/25/25 | L49: 1930/34/60 | M49: 2025 m. rajono teritorijoje įgyvendinti gatvių apšvietimo modernizavimo darbai: paklota 760 m oro kabelinės linijos ir 1170 m požeminės kabelinės linijos, sumontuota 29 naujos apšvietimo atramos, pakeistos 5 esamos, įrengta 60 LED šviestuvų bei 9 LED prožektoriai, taip užtikrinant efektyvesnį ir taupesnį viešosios erdvės apšvietimą. Modernizuotas apšvietimas take į ligoninę bei Gegučio g. skersgatvyje, atnaujinti miesto seniūnijos gatvių apšvietimo valdymo pultai, nauji apšvietimo tinklai įrengti J. Basanavičiaus gatvės dalyje, Paberžės k. parko kelyje, Šlapaberžės k. Dvaro g., Langakių k. Rasų g. bei Gudžiūnų mstl. Tujų g. Sumontuoti stulpai su žibintais Senosios Rinkos aikštėje, įrengtas apšvietimas Budrio g. 5 pėsčiųjų take
B50: 003-01-06-02 (TP | C50: Nutolusios saulės elektrinės įsigijimas | D50: 1 | E50: Viešojo pirkimo organizavimas, rangovo prisiimtų sutartinių įsipareigojimų vykdymo kontrolė | F50: Statybos skyrius | G50: SK | H50: 1000 | I50: 0 | J50: Įsigytos galios nutolusi saulės elektrinė | K50: ~1 Mw | L50: 1,2 Mw | M50: 2025 m. pasirašyta sutartis dėl nutolusios saulės elektrinės įsigijimo iš saulės parko Anykščių rajone, įsigijimui imta paskola; faktinis apmokėjimas numatytas 2026 m.
B51: 003-01-07 (T) | C51: Gerinti susisiekimo infrastruktūrą, užtikrinant gyventojų darnų judumą bei mobilumą | H51: =SUM(H52:H60) -> 7067.2 | I51: =SUM(I52:I60) -> 6935.7
B52: 003-01-07-01 (TP) | C52: Vietinės reikšmės kelių ir gatvių remontas, priežiūra ir palaikymas, saugaus eismo ir darnaus judumo priemonių diegimas (KPP) | D52: 1 | E52: Rangos darbų viešųjų pirkimų organizavimas, rangos darbų koordinavimas, rangovo prisiimtų sutartinių įsipareigojimų vykdymo kontrolė, seniūnijų konsultavimas ir bendradarbiavimas | F52: Statybos skyrius | G52: SBVB (KPP) | H52: 3276.2 | I52: 3161.3 | J52: KPP lėšomis suremontuotų, rekonstruotų, naujai nutiestų kelių ir pėsčiųjų bei dviračių takų ilgis, km | K52: ~13 | L52: 15.1 | M52: Vykdomi darbai apėmė gatvių ir žvyruotų kelių stiprinimą, duobių taisymą, asfaltbetonio dangos atnaujinimą bei šaligatvių iš betono trinkelių tvarkymą. Eismo saugumui gerinti seniūnijose įrengta kelio ženklų, sferinių veidrodžių, plieninių apsauginių aitvarų, atlikti horizontalaus ženklinimo darbai ir perėjų kryptinis apšvietimas. Baigti kapitalinio remonto ir rekonstrukcijos darbai Janušavos g., V. Svirskio, Aušros g., Kosmonautų g. 5 akligatviuose, Gėlainių g., Skroblų g., kelio ruože Meironiškiai–Meironiškėliai, Stebulių g., taip pat Dvaro g. šaligatvis; pradėti arba tęsiami darbai Elevatoriaus g. Kėdainiuose ir Parko g. Kalnaberžėje, parengti rekonstravimo ir kapitalinio remonto projektai su ekspertizėmis
B53: 003-01-07-02 (TP) | C53: Kelių dangos gerinimo finansavimas seniūnijose | D53: 1 | E53: Priemonės įgyvendinimo koordinavimas, bendradarbiavimas su seniūnijomis | F53: Statybos skyrius, Biudžeto skyrius | G53: SB | H53: 230 | I53: 229.8 | J53: Prižiūrimų žvyrkelių ilgis, km / diegiamų dulkėtumo mažinimo priemonių skaičius | K53: ~35/1 | L53: ~36,7/1 | M53: 11 seniūnijų teritorijų vykdyti žvyravimo darbai, nužvyruota apie 36,7 km kelių, o dulkėtumo mažinimo priemonės seniūnijose taikytos padengiant žvyrkelius specialiomis priemonėmis, siekiant sumažinti dulkių sklaidą ir pagerinti gyvenimo sąlygas vietos gyventojams. Ši praktika atitinka žvyrkelių dulkėtumo mažinimo standartus, kurių tikslas – užtikrinti saugesnes eismo sąlygas, geresnę gyvenimo kokybę ir aplinkos būklę žvyrkeliais besinaudojančiose teritorijose
B54: 003-01-07-03 (TP) | C54: Projekto "Darnaus judumo mieste skatinimas, plėtojant dviračių bei pėsčiųjų takų infrastruktūrą" įgyvendinimas | D54: 1 | E54: Rangos darbų (S. Dariaus ir S. Girėno g. - Daukšos g.) koordinavimas, rangovo prisiimtų sutartinių įsipareigojimų vykdymo kontrolė | F54: Statybos skyrius | G54: SB | H54: 260 | I54: 255.7 | J54: Projektuojamų pėsčiųjų ir dviračių takų atkarpų, vnt. / rekonstruotų takų ilgis, km | K54: 8 /~3 | L54: 6 /~3,3 | M54: Įgyvendinant projektą 2025 m. pabaigta S. Dariaus ir Girėno g. atkarpos rekonstrukcija (nuo S. Dariaus ir Girėno g. iki Draugystės g.), tuo pat metu parengta projektinė dokumentacija atkarpai nuo Draugystės g. iki Pušyno g. bei pradėti projektavimo darbai ruože nuo Pušyno g. iki Žibuoklių g. Taip pat pradėtas Tilto g., Liaudies g. ir Juodkiškio g. projektavimas, suprojektuotas Gegučių parko takas bei įsigyta ranga. Taip pat suprojektuotas ir šiuo metu ekspertizuojamas Vaivorykštės tako projektas.
D55: 2 | E55: Pėsčiųjų ir dviračių takų atkarpų (Vaivorykštės tiltas - J. Basanavičiaus g., M. Daukšos g. gatvių, Gegučių parko takų) techninės dokumentacijos rengimo koordinavimas, tiekėjo prisiimtų sutartinių įsipareigojimų vykdymo kontrolė | F55: Statybos skyrius
D56: 3 | E56: Pėsčiųjų ir dviračių takų atkarpų (Tilto, Kalno, Pirmūnų, Juodkiškio, M. Daukšos, Liaudies gatvių) techninės dokumentacijos parengimo viešųjų pirkimų organizavimas, projekto rengimo koordinavimas, tiekėjo prisiimtų sutartinių įsipareigojimų vykdymo kontrolė | F56: Statybos skyrius | G56: ES | H56: 1530 | I56: 1519.1
D57: 4 | E57: Projekto veiklų koordinavimas, informacijos apie įgyvendinamas veiklas, mokėjimo prašymų įgyvendinančiai institucijai teikimas | F57: Strateginio planavimo ir investicijų skyrius, Apskaitos skyrius
B58: 003-01-07-04 (TP) | C58: Biudžetinių įstaigų kiemų dangos atnaujinimas | D58: 1 | E58: Rangos darbų (Atžalyno gimnazija, Senamiesčio progimnazija, Muzikos mokykla) viešųjų pirkimų organizavimas, rangos darbų koordinavimas, rangovo prisiimtų sutartinių įsipareigojimų vykdymo kontrolė | F58: Statybos skyrius | G58: SB | H58: 120 | I58: 119 | J58: Remontuotų biudžetinių įstaigų kiemų skaičius | K58: 3 | L58: 4 | M58: Atnaujinta Muzikos mokyklos, "Atžalyno" gimnazijos, Spindulio mokyklos bei Kalbų mokyklos kiemų danga
B59: 003-01-07-05 (TP) | C59: Nuostolių, susidariusių dėl būtinų keleivinio transporto paslaugų teikimo visuomenei, apmokėjimas | D59: 1 | E59: Keleivių vežimo kompensacijos mokėjimo užtikrinimas | F59: Turto valdymo skyrius, Apskaitos skyrius | G59: SB | H59: 1451 | I59: 1451 | J59: Autobusų maršrutų skaičius | K59: 29 | L59: 29 | M59: Lėšos skirtos vežėjo patirtų nuostolių už keleivių vežimą vietinio (miesto ir priemiestinio) reguliaraus susisiekimo autobusų maršrutais kompensavimui
B60: 003-01-07-06 (TP) | C60: Inžinerinių paslaugų, darbų ir įrenginių finansavimas | D60: 1 | E60: Inžinerinių tinklų perkėlimo darbų organizavimas, tvarkant miesto bei rajono gatves | F60: Statybos skyrius | G60: SB | H60: 200 | I60: 199.8 | J60: Tikslingas finansavimas pagal poreikį reikalingiems atlikti darbams, ta pagal poreikį darbų, proc. | K60: 100 | L60: 100 | M60: Pagal poreikį lėšos skirtos darbams, kurie netinkami finansuoti KPPP lėšomis, rekonstruojant gatves, šaligatvius
B61: 003-01-08 (T) | C61: Vystyti gyvenamąją aplinką, užtikrinant viešosios infrastruktūros priežiūrą, atnaujinimą ir tinkamą naudojimą | H61: =SUM(H62:H68) -> 1373.9 | I61: =SUM(I62:I68) -> 1043.5
B62: 003-01-08-01 (TP) | C62: Seniūnijų administracinių pastatų atnaujinimas | D62: 1 | E62: Miesto seniūnijos pastato atnaujinimo techninės dokumentacijos rengimo viešųjų pirkimų organizavimas, tiekėjo prisiimtų sutartinių įsipareigojimų vykdymo kontrolė | F62: Statybos skyrius | G62: SB | H62: 0 | I62: 0 | J62: Atnaujinamų seniūnijų pastatų techninės dokumentacijos parengimas | K62: 0 | L62: 0 | M62: Rengiamas Miesto seniūnijos pastatos modernizavimo techninins projektas
B63: 003-01-08-02 (TP) | C63: Biudžetinių įstaigų stogų remontas | D63: 1 | E63: Rangos darbų viešųjų pirkimų organizavimas (pagal poreikį), rangos darbų koordinavimas, rangovo prisiimtų sutartinių įsipareigojimų vykdymo kontrolė | F63: Statybos skyrius | G63: SB | H63: 80 | I63: 57.5 | J63: Pastatų, kurių stogai remontuoti, skaičius | K63: 4 | L63: 6 | M63: Stogų remonto, lietvamzdžių keitimo ir stogo atramų stiprinimo darbai vykdyti Kėdainių sporto centre, Josvainių gimnazijoje, Mikalojaus Daukšos viešojoje bibliotekoje, Velyčkų koplyčios mozaulio restauravimo objekte, Beinaičių pagrindinėje mokykloje bei Kėdainių kultūros centro Pelėdnagių skyriuje
B64: 003-01-08-03 (TP) | C64: Kompleksiškas daugiabučių gyvenamųjų namų kvartalų atnaujinimas | D64: 1 | E64: S. Jaugelio Telegos daugiabučių gyvenamųjų namų kvartalų atnaujinimo techninio projekto parengimo koordinavimas | F64: Statybos skyrius | G64: SB | H64: 1000 | I64: 1000 | J64: Atnaujinamų teritorijų skaičius, m2 | K64: ~9000 | L64: 10270 | M64: 2025 m. pradėti S. Jaugelio Telegos g. daugiabučių gyvenamųjų namų kvartalo teritorijos atnaujinimo darbai Taip pat atnaujintos daugiabučių namų kiemų dangos prie Gegučių g. 8 ir 11, Mindaugo g. 10 ir 12, P. Lukšio g. 3, Chemikų g. 4, 6 ir 8, Respublikos g. 38, Šėtos g. 79, Sodų g., Vainotiškių k. Ežero g. 13, 15, 17 ir 19 bei Josvainių mstl. Skroblų g. 4, gerinant gyvenamosios aplinkos kokybę mieste ir rajone. Iš viso atnaujinta per 10 tūskt. kv. m. teritorijos.
D65: 2 | E65: S. Jaugelio Telegos daugiabučių gyvenamųjų namų kvartalų atnaujinimo darbų viešųjų pirkimų organizavimas, rangos darbų koordinavimas, rangovo prisiimtų sutartinių įsipareigojimų vykdymo kontrolė | F65: Statybos skyrius
D66: 3 | E66: Gegučių, Mindaugo, Lukšio, Chemikų, Respublikos, Šėtos, Sodų, Vainotiškių k. Ežero, Josvainių mstl. Skroblų gatvių daugiabučių gyvenamųjų namų teritroijų atnaujinimo darbų viešųjų pirkimų organizavimas, rangos darbų koordinavimas, rangovo prisiimtų sutartinių įsipareigojimų vykdymo kontrolė | F66: Statybos skyrius
B67: 003-01-08-04 (TP) | C67: Infrastruktūros plėtros techninės dokumentacijos rengimas ir infrastruktūros gerinimo darbai (SĮP) | D67: 1 | E67: Techninės dokumentacijos rengimo viešojo pirkimo organizavimas, tiekėjo prisiimtų sutartinių įsipareigojimų vykdymo kontrolė | F67: Architektūros ir urbanistikos skyrius | G67: SB | H67: 184.9 | I67: 0 | J67: Parengtų techninių dokumentacijų skaičius | K67: 2 | L67: 0 | M67: Susisiekimo infrastruktūros projektavimo darbai neprioritetinėje infrastruktūros teritorijoje buvo atidėti dėl nacionalinės centrinės perkančiosios organizacijos (CPO LT) elektroninio katalogo diegimo ir paleidimo proceso užtrukimo. Planuota galimybė įsigyti projektavimo paslaugas atsirado tik metų pabaigoje, todėl darbai nebuvo pradėti.
B68: 003-01-08-05 (TP) | C68: Europos Sąjungos infrastruktūros projektų, kuriems taikomas apmokėjimas kompensavimo būdu, išlaidų apmokėjimas | D68: 1 | E68: Priemonės įgyvendinimo koordinavimas | F68: Apskaitos skyrius, Strateginio planavimo ir investicijų skyrius | G68: SB | H68: 109 | I68: -14 | J68: Projektų, kuriems reikalingas savivaldybės indėlio prisidėjimas, skaičius | K68: 8 | L68: 8 | M68: Išlaidos skirtos ES finansuojamų projektų išlaidų apmokėjimui kompensavimo būdu (t.y. apmokamos projektų išlaidos, kai ES finansavimas pervedamas - finansinis srautas subalansuojamas ("atstatomas")
B69: IŠ VISO | H69: =+H61+H51+H48+H41+H37+H29+H20+H6 -> 14462.6 | I69: =+I61+I51+I48+I41+I37+I29+I20+I6 -> 12527.6
C71: 1. Savivaldybės biudžetas (įskaitant skolintas lėšas) | H71: =SUM(H73:H78) -> 14462.6 | I71: =SUM(I73:I78) -> 12527.6
C72: Iš jo:
C73: 1.1. savivaldybės biudžeto lėšos (nuosavos, be ankstesnių metų likučio) | G73: SB | H73: =+H68+H67+H64+H63+H62+H60+H59+H58+H54+H53+H49+H47+H46+H45+H44+H43+H42+H40+H39+H38+H35+H34+H33+H32+H31+H30+H27+H26+H24+H22+H21+H19+H18+H15+H7 -> 8557.8 | I73: =+I68+I67+I64+I63+I62+I60+I59+I58+I54+I53+I49+I47+I46+I45+I44+I43+I42+I40+I39+I38+I35+I34+I33+I32+I31+I30+I27+I26+I24+I22+I21+I19+I18+I15+I7 -> 7791.1
C74: 1.2. Lietuvos Respublikos valstybės biudžeto dotacijos | G74: SBVB | H74: =+H52+H8+H28 -> 3332.3 | I74: =+I52+I8+I28 -> 3217.4
C75: 1.3. Pajamų įmokos ir kitos pajamos | G75: ĮP
C76: 1.4. Europos Sąjungos ir kitos tarptautinės finansinės paramos lėšos | G76: ES | H76: =+H56+H36+H25 -> 1572.5 | I76: =+I56+I36+I25 -> 1519.1
C77: 1.5. Skolintos lėšos | G77: SK | H77: =+H50 -> 1000 | I77: =+I50 -> 0
C78: 1.6. Ankstesnių metų likučiai | G78: SBL
C79: 2. Kiti šaltiniai (Europos Sąjungos finansinė parama projektams įgyvendinti ir kitos teisėtai gautos lėšos, nurodant atskirus šaltinius) | G79: KT
C80: IŠ VISO programai finansuoti pagal finansavimo šaltinius (1 ir 2 punktai) | H80: =+H79+H71 -> 14462.6 | I80: =+I79+I71 -> 12527.6
C81: Iš jų: regioninių pažangos priemonių lėšos | H81: =+H36 -> 42.5 | I81: =+I36 -> 0
C82: Asignavimų ir kitų lėšų pokytis, palyginti su ankstesnių metų patvirtintų asignavimų ir kitų lėšų planu

Sheet 04 Ekonominės plėtros
B3: Programos uždavinio, priemonės kodas ir požymis | C3: Uždavinio, priemonės pavadinimas, finansavimo šaltiniai | D3: Veiklos kodas | E3: Veiklos pavadinimas | F3: Atsakingas vykdytojas | G3: Finansavimo šaltinis | H3: Numatomi 2025 m. asignavimai ir kitos lėšos, tūkst. Eur | I3: Numatomi 2025 m. asignavimai ir kitos lėšos, tūkst. Eur | J3: Vertinimo kriterijai
J4: Pavadinimas | K4: Planuota reikšmė | L4: Pasiekta reikšmė | M4: Komentarai, pastabos, nukrypimų nuo plano priežastys
B6: 04 EKONOMINĖ PLĖTRA
B7: 004-01-01 (T, P) | C7: Stiprinti savivaldybės institucijų ir verslo įmonių bendradarbiavimą, sudaryti palankias sąlygas sumanios pramonės ir logistikos srities verslų atsiradimui, plėtrai bei investicijų pritraukimui | H7: =SUM(H8:H11) -> 1619.4 | I7: =SUM(I8:I11) -> 1339.9
B8: 004-01-01-01 (TP) | C8: VšĮ Kėdainių turizmo ir verslo informacijos centro efektyvios veiklos užtikrinimas verslo srityje | D8: 1 | E8: Priemonės įgyvendinimo koordinavimas | F8: Administracijos direktorius | G8: SB | H8: 45 | I8: 45 | J8: Suteiktų informacinių, konsultacinių paslaugų ūkio subjektams ir asmenims pagal paklausimus skaičius, val. | K8: ~520 | L8: 520 | M8: 2025 m. Kėdainių TVIC įgyvendino viešųjų paslaugų verslui programą – teikė informaciją ir individualias konsultacijas pradedantiesiems bei veikiantiems verslams, administravo Smulkiojo verslo rėmimo fondą, atnaujino savivaldybės įmonių duomenų bazę, analizavo ir viešino verslo situacijos rodiklius, aktyviai skleidė informaciją apie paramos galimybes ir teisės aktų pokyčius bendradarbiaujant su partnerių institucijomis. Siekiant stiprinti rajono verslo žinomumą, organizuotas tradicinis Verslo dienos renginys, kartu su Švietimo pagalbos tarnyba surengta Verslo savaitė moksleiviams, inicijuotas nacionalinės žiniasklaidos atstovų vizitas į rajono įmones, o didžiuosiuose šalies portaluose viešintos Kėdainių verslų sėkmės istorijos, taip prisidedant prie palankios verslo aplinkos formavimo ir investicinio patrauklumo didinimo
B9: 004-01-01-02 (TP) | C9: Finansinės paramos teikimas per Savivaldybės smulkiojo verslo rėmimo fondą | D9: 1 | E9: Priemonės įgyvendinimo koordinavimas | F9: Administracijos direktorius | G9: SB | H9: 40 | I9: 17.3 | J9: Subjektų, kuriems suteikta finansinė parama, skaičius | K9: 12 | L9: 9 | M9: Smulkiojo verslo rėmimo fondo parama pasinaudojo 9 verslo subjektai. Iš viso verslininkams skirta 17 287,91 Eur parama. Parama teikta darbo priemonių ir įrangos įsigijimo, rinkodaros priemonių, interneto svetainių kūrimo, mokymų ir negyvenamųjų patalpų nuomos išlaidų daliniam kompensavimui. Populiariausia paramos priemonė – darbo priemonių / įrangos įsigijimo išlaidų dalinis kompensavimas, kuriai teko didžiausia skirta lėšų dalis ((pasinaudojo 7 pradedančiųjų veiklą įmonių). Vidutinis finansinės paramos dydis vienam verslo subjektui buvo 1 920,87 Eur.
B10: 004-01-01-03 (PP) | C10: Dalyvavimas projekte "Inkubavimo, konsultavimo, mentorystės ir tinklaveikos programų vystymas, skatinant pradedančiųjų SVV subjektų kūrimąsi ir augimą regionuose" partnerio teisėmis | D10: 1 | E10: Projekto veiklų koordinavimas, partnerio kofinansavimo dalies užtikrinimas | F10: Strateginio planavimo ir investicijų skyrius | G10: SB | H10: 4 | I10: 3.2 | J10: Projekte dalyvaujančių verslo subjektų skaičius | K10: 10 | L10: 12 | M10: Projektas subūrė 12 įvairių sričių verslo atstovų, kuriems buvo suteiktos individualios ekspertų konsultacijos, mentorystė bei verslo inkubavimo paslaugos veiklos stiprinimui. Grupiniai susitikimai padėjo stiprinti vietos verslo bendruomeniškumą, skatinti partnerystes ir užtikrinti tvarią pradedančiųjų verslų plėtrą Kėdainių rajone.
B11: 004-01-01-04 (PP) | C11: Projekto "Kėdainių miesto viešosios infrastruktūros, svarbios verslui, atnaujinimas ir plėtra "įgyvendinimas | D11: 1 | E11: Vandentvarkos tinklų bei elektros tinklų rekonstrukcijos Kėdainių LEZ teritorijoje paraiškos teikimas finansavimui gauti, vandentvarkos darbų viešojo pirkimo vykdymas, sutarties koordinavimas | F11: Statybos skyrius, Strateginio planavimo ir investicijų skyrius | G11: SBVB | H11: 1530.4 | I11: 1274.4 | J11: Investicijoms parengtų/pagerintų viešųjų teritorijų plotas, ha (LEZ teritorijos bendras plotas) | K11: 130,5 | L11: 130,5 | M11: 2025 m. pateikta paraiška pagal LR Ekonomikos ir inovacijų ministerijos priemonę, finansavimas skirtas vandentiekio tinklų įrengimui LEZ teritorijoje – Klonio, Juodkiškio, Medelyno, Gamyklų technikos, Biochemikų, Metalistų, Pramonės, Cukraus ir Vakarų gatvėse, nutiesta Ø 300 mm vandentiekio tinklų 6,24 km ir Ø 200 mm tinklų 2,8 km. Taip pat pasirašyta sutartis su AB „Energijos skirstymo operatorius“ dėl elektros tinklų rekonstrukcijos, rengiamas darbų darbo projektas, siekiant užtikrinti modernią ir efektyvią infrastruktūrą LEZ zonoje.
B12: 004-01-02 (T) | C12: Plėtoti tvarų ir efektyvų žemės ūkį | H12: =SUM(H13:H30) -> 1737.8 | I12: =SUM(I13:I30) -> 1701.8
B13: 004-01-02-01 (TP) | C13: Valstybės perduotų savivaldybėms žemės ūkio funkcijų vykdymas, konsultuojant rajono asmenis ūkininkavimo, žemės ūkio technikos registravimo ir kitais su žemės ūkiu susijusiais klausimais | D13: 1 | E13: Žemės ūkio valdų, ūkininkų ūkių įregistravimas, išregistravimas, kasmetinis duomenų atnaujinimas) | F13: Žemės ūkio skyrius | G13: SBVB | H13: 142.5 | I13: 142.5 | J13: Žemės ūkio subjektų pateiktų ir nagrinėjamų prašymų, paraiškų, aptarnaujamos žemės ūkio technikos, įregistruotos rajone ir atliktų techninių apžiūrų skaičius | K13: ~16500 | L13: 17217 | M13: Savivaldybės administracija užtikrino sklandžią paramos ir draudimo administraciją žemės ūkyje, koordinavo paraiškų priėmimą, paramos paskirstymą bei medžiojamųjų gyvūnų padarytos žalos vertinimą, prisidedant prie ūkininkų pajamų stabilumo ir rizikos valdymo. Kai kurių iššūkių, pavyzdžiui, klimato kaitos poveikio ar bičių šeimų mažėjimo, sprendimų tikimasi valstybės lygmens priemonėmis, o administracija užtikrino, kad rajone paramos procesai vyktų sklandžiai ir operatyviai.
D14: 2 | E14: Paramos už žemės ūkio naudmenas ir kitus plotus bei gyvulius paraiškos pildymas, deklaruojamų laukų įbraižymas, duomenų keitimas, pasikeitusių KŽS ribų aprašymas
D15: 3 | E15: Pagal gautus prašymus pasėliams, miškui padarytos žalos įvertinimas vietoje ir apžiūros aktų surašymas, sprendimų priėmimas, atstovavimas teismuose
D16: 4 | E16: Paraiškų priėmimas, įvertinimas, kompensuojamų sumų apskaičiavimas, duomenų suvedimas į ŽŪMIS ir KOTIS
D17: 5 | E17: Paramos teikimo bičių laikytojams už papildomą bičių maitinimą administravimas
D18: 6 | E18: Pieno pardavimo tiesiogiai vartoti deklaracijų ir kitų dokumentų administravimas
D19: 7 | E19: Žemės ūkio technikos įregistravimas, perregistravimas, išregistravimas, registracijos dokumentų išdavimas, duomenų suvedimas į registrą
D20: 8 | E20: Žemės ūkio technikos techninių apžiūrų atlikimas, duomenų suvedimas, talonų išdavimas
B21: 004-01-02-02 (TP) | C21: Valstybės perduotų savivaldybėm funkcijų vykdymas melioracijos srityje, remontuojant valstybei nuosavybės teise priklausančią melioracijos, hidrotechnikos infrastruktūrą | D21: 1 | E21: Melioracijos statinių priežiūros ir remonto darbų viešųjų pirkimų organizavimas, darbų koordinavimas, rangovo prisiimtų sutartinių įsipareigojimų vykdymo kontrolė | F21: Žemės ūkio skyrius | G21: SBVB | H21: 360.5 | I21: 360.5 | J21: Remontuojamų, prižiūrimų melioracijos griovių ilgis, km | K21: 32.25 | L21: 37.5 | M21: Valstybės biudžeto lėšomis atlikta melioracijos statinių remonto ir priežiūros darbų: suremontuota drenažo sistemų 110,42 ha plote, suremontuota 21,604 km magistralinių griovių, 17 vandens pralaidų, kitų statinių (žiotys, kontroliniai šuliniai) 263 vnt., nušienauta 19,12 ha griovių šlaitų, 6,0 km apsauginių pylimų, 1 vandens siurblinė
D22: 2 | E22: Priešprojektiniai tyrinėjimų techninės sąmatinės dokumentacijos sudarymo, ekspertizės viešųjų pirkimų organizavimas, paslaugų teikėjo prisiimtų sutartinių įsipareigojimų vykdymo kontrolė
D23: 3 | E23: Darbų techninė priežiūros koordinavimas, vykdymo kontrolė
B24: 004-01-02-03 (TP) | C24: Gyvenviečių lietaus nuotekų-drenažų sistemų remontas | D24: 1 | E24: Remonto darbų viešųjų pirkimų organizavimas, rangos darbų koordinavimas, rangovo prisiimtų sutartinių įsipareigojimų vykdymo kontrolė | F24: Žemės ūkio skyrius | G24: SB | H24: 40 | I24: 40 | J24: Gyvenviečių, kuriose atlikti drenažo remonto darbai, skaičius | K24: 5 | L24: 5 | M24: Lietaus kanalizacijos ir drenažo remonto darbai įgyvendinti Šėtos sen. A. Kaplių gyvenvietėje, Pernaravos k. Langakių gyvenvietėje, Dotnuvos sen. Vainotiškių k. ir Gudžiūnų sen. Vikaičių k., Vilainių sen. Lančiūnavos gyvenvietėje bei Josvainių sen. Žiedupės upelyje
B25: 004-01-02-04 (TP) | C25: Hidrotechninių įrenginių atnaujinimui reikalingos techninės dokumentacijos rengimas | D25: 1 | E25: Techninės dokumentacijos rengimo viešųjų pirkimų organizavimas, tiekėjo prisiimtų sutartinių įsipareigojimų vykdymo kontrolė | F25: Žemės ūkio skyrius | G25: SB | H25: 50 | I25: 49.6 | J25: Parengtų projektų skaičius | K25: 9 | L25: 9 | M25: Parengti investiciniai ir techniniai projektai bei atlikta techninių projektų ekspertizė Kėdainių rajono Kunionių, Skaistgirių, Pajieslio, Miegėnų, Vikaičių, Surviliškio ir Tiskūnų kadastrinėse vietovėse vykdomų sausinimo sistemų melioracijos griovių ir statinių rekonstrukcijai, užtikrinant infrastruktūros modernizavimą ir efektyvų drenažo sistemos veikimą.
B26: 004-01-02-07 (TP) | C26: Melioracijos inžinerinių statinių rekonstravimas Nevėžio pabaseinyje - Nevėžio ir Šušvės upių žiotyse | D26: 1 | E26: Remonto darbų viešųjų pirkimų organizavimas, rangos darbų koordinavimas, rangovo prisiimtų sutartinių įsipareigojimų vykdymo kontrolė | F26: Žemės ūkio skyrius | G26: SBVB | H26: 1064 | I26: 1028.6 | J26: Rekonstruojamų melioracijos griovių ilgis, km | K26: 62.4 | L26: 62.4 | M26: Įgyvendintas tikslinėmis lėšomis finansuotas investicinis projektas, rekonstruojant Šušvės, Nykio, Palčio ir Kruosto sausinimo sistemų melioracijos griovius bei juose esančius statinius Kunionių, Skaistgirių, Pajieslio, Miegėnų, Vikaičių, Surviliškio ir Akademijos kadastrinėse vietovėse, pagerinant drenažo efektyvumą ir žemės ūkio sklypų naudojimo sąlygas rajone
B27: 004-01-02-08 (TP) | C27: Dalyvavimas projekto „MSNA „Balsių melioracija“ nariams priklausančių ir valstybinių melioracijos statinių rekonstravimas“ įgyvendinime | D27: 1 | E27: Priemonės koordinavimas, užtikrinant projekto kofinansavimą | F27: Žemės ūkio skyrius, Apskaitos skyrius | G27: SB | H27: 3.8 | I27: 3.7 | J27: Rekonstruotų rinktuvų, sausintuvų, griovių ilgis, km | K27: 5/6/1,5 | L27: 5/6/1,5 | M27: Koofinansuotas projektas, darbai atlikti
B28: 004-01-02-09 (TP) | C28: Dalyvavimas projekto „MSNA „Vilainių drenažas“ nariams priklausančių ir valstybinių melioracijos statinių rekonstravimas“ įgyvendinime | D28: 1 | E28: Priemonės koordinavimas, užtikrinant projekto kofinansavimą | F28: Žemės ūkio skyrius, Apskaitos skyrius | G28: SB | H28: 3.8 | I28: 3.7 | J28: Rekonstruotų rinktuvų, sausintuvų ilgis, km | K28: 6/10 | L28: 6/10 | M28: Koofinansuotas projektas, darbai atlikti
B29: 004-01-02-10 (TP) | C29: Kėdainių rajono Dotnuvos seniūnijos Kruostos upės Vaidatonių tvenkinio hidrotechnikos statinių rekonstrukcija ir techninės priežiūros vykdymas | D29: 1 | E29: Projekto baigiamosios dokumentacijos teikimas įgyvendinančiai institucijai | F29: Žemės ūkio skyrius, Apskaitos skyrius | G29: ES | H29: 62.2 | I29: 62.2 | J29: Rekonstruotų hidrotechninių įrenginių skaičius | K29: 1 | L29: 1 | M29: Rekonstrukcija atlikta 2023-2024 m. laikotarpiu atlikta. Administracijai kofinansuotos ES ir SBVB lėšos
D30: 1 | G30: SBVB | H30: 11 | I30: 11
B31: 004-01-03 (T) | C31: Plėtoti, atnaujinti viešąją infrastruktūrą, atsižvelgiant į turizmo plėtros ir rekreacijos poreikius | H31: =SUM(H32:H39) -> 896.9 | I31: =SUM(I32:I39) -> 888.1
B32: 004-01-03-01 (TP) | C32: VšĮ Kėdainių turizmo ir verslo informacijos centro efektyvios veiklos užtikrinimas turizmo srityje | D32: 1 | E32: Programos įgyvendinimo koordinavimas | F32: Administracijos direktorius | G32: SB | H32: 138 | I32: 138 | J32: Turizmo ir verslo informacinio centro lankytojų skaičiaus didėjimas, proc., lyginant su praėjusiais metais | K32: 5 | L32: 18 | M32: 2025 m. Kėdainių TVIC apsilankė 15 222 lankytojai – 18 proc. daugiau nei 2024 m.; augo vietinių turistų skaičius, o užsieniečių šiek tiek sumažėjo, daugiausia dėl neveikusio Radvilų mauzoliejaus. Didėjo susidomėjimas šeimų, kolektyvų ir piligrimų kelionėmis, edukacijomis bei renginiais. TVIC darbuotojai organizavo 73 ekskursijas. Kėdainių TVIC sustiprino turizmo informacijos sklaidą ir rajono žinomumą: aptarnauta 15 222 užklausų (+18 proc.), dalyvauta 5 tarptautinėse ir nacionalinėse parodose, atnaujinta interneto svetainė (627 tūkst. naudotojų), iš naujo sukurti socialiniai tinklai ir per pusmetį pritraukta daugiau kaip 2 000 sekėjų, išleista 8 000 vnt. leidinių, sukurta dvigubai daugiau vizualinio turinio nei planuota, administruota mobilioji programėlė „Visit Kėdainiai“, pastatyti informaciniai stendai. Organizuoti didelio susidomėjimo sulaukę renginiai ir žygiai, vyko mokymai apgyvendinimo sektoriui dėl NTIS sistemos, aktyviai bendradarbiauta su nacionaline turizmo agentūra ir žiniasklaida – publikuoti straipsniai bei TV reportažai, stiprinę Kėdainių krašto matomumą Lietuvoje ir užsienyje
B33: 004-01-03-02 (TP) | C33: Akademijos parko tvarkyba | D33: 1 | E33: Parko tvarkybos darbų koordinavimas, rangovo sutartinių įsipareigojimų vykdymo kontrolė | F33: Statybos skyrius | G33: SB | H33: 300 | I33: 299.7 | J33: Einamaisiais metais numatytų darbų, proc. pagal parengtą techninį projektą | K33: 100 | L33: 100 | M33: Atlikta Akademijos parko tvarkyba: restauruoti keturi istoriniai paminklai (Grafui H. Kreicui, St. Nacevičiui, tremtiniams agronomams bei Klaipėdos sukilimo dalyviams), atliktas profesionalus parko medžių lajų genėjimas bei suremontuoti pėsčiųjų takai. Ypatingas dėmesys skirtas gamtos paveldui – sutvarkyta aplinka prie „Vilniaus ąžuolo“ ir „Instituto alėjos“, taip išsaugojant unikalią parko atmosferą lankytojams
B34: 004-01-03-03 (TP) | C34: Rezistentų paminklinio akmens ir teritorijos, apimančios masinę kapavietę, sutvarkymo darbai (Skongalio g.) | D34: 1 | E34: Remonto darbų viešojo pirkimo vykdymas, darbų koordinavimas, rangovo prisiimtų sutartinių įsipareigojimų vykdymo kontrolė | F34: Statybos skyrius | G34: SB | H34: 211.9 | I34: 211.9 | J34: Einamaisiais metais numatytų darbų, proc. pagal parengtą techninį projektą | K34: 100 | L34: 100 | M34: Kompleksiškai sutvarkytos Rezistentų paminklinio akmens prieigos ir gretima teritorija, rekonstruota dviračių tako atkarpa, pagerintas estetinis vaizdas ir prieinamumas
B35: 004-01-03-04 (PP) | C35: Projekto "Kultūros paveldo ir gamtos objektų pritaikymas lankyti Kėdainių rajono savivaldybėje" įgyvendinimas (ES projekto "Kauno regiono funkcinės zonos strategija" dalis) | D35: 1 | E35: Projekto įgyvendinimo plano parengimas ir pateikimas įgyvendinančiai institucijai, finansavimo s\sutarties pasirašymo koordinavimas | F35: Strateginio planavimo ir investicijų skyrius | G35: SB | H35: 0 | I35: 0 | J35: Pasirašyta projekto finansavimo sutartis | K35: 1 | L35: 1 | M35: Pasirašyta projekto finansavimo sutartis
D36: 2 | E36: Projekto techninės dokumentacijos rengimo viešojo pirkimo organizavimas, tiekėjų prisiimtų įsipareigojimų vykdymas | F36: Statybos skyrius | G36: ES | H36: 0 | I36: 0
B37: 004-01-03-05 (TP) | C37: Infrastruktūros miesto parke įrengimas | D37: 1 | E37: Inžinerinių tinklų ir WC, automobilių stovėjimo aikštelės įrengimo viešojo pirkimo vykdymas, darbų koordinavimas, rangovo prisiimtų sutartinių įsipareigojimų vykdymo kontrolė | F37: Statybos skyrius | G37: SB | H37: 170 | I37: 170 | J37: Įrengiamų/atnaujinamų/pritaikomų parko elementų (erdvių) | K37: 1 | L37: 1 | M37: Sutvarkyta Mickevičiaus g. 26A teritorija, įrengiant automobilių stovėjimo aikštelę, apšvietimą, pastatant modulinį konteinerinį viešąjį tualetą, įrengiant mažąją architektūrą . Taip pat įrengtas takas, jungiantis Mickevičiaus 26A sklypą su miesto parko artimiausiu pėsčiųjų taku
B38: 004-01-03-06 (TP) | C38: Babėnų šilo miškotvarka ir pritaikymas patogiam poilsiui, laisvalaikiui | D38: 1 | E38: Šilo tvarkybos ir pritaikymo visuomenės poreikiams techninio projekto parengimo koordinavimas, paslaugų teikėjo prisiimtų sutartinių įsipareigojimų vykdymo kontrolė | F38: Statybos skyrius, Architektūros ir urbanistikos skyrius | G38: SB | H38: 55 | I38: 51.8 | J38: Parengtos techninės dokumentacijos skaičius | K38: 1 | L38: 1 | M38: Baigtas rengti Babėnų šilo miškotvarkos ir pritaikymo poilsiui bei laisvalaikiui techninis projektas, pagal kurį 2026 m. prasidės darbai, kuriais siekiama natūralią gamtinę erdvę geriau pritaikyti lankytojų poreikiams, kartu išsaugojant jos ekologinę vertę
B39: 004-01-03-07 (TP) | C39: Bakainių piliakalnio ir jo prieigų tvarkyba | D39: 1 | E39: Paraiškos teikimas Kultūros paveldo departamentui, kofinansavimo užtikrinimas | F39: Architektūros ir urbanistikos skyrius | G39: SB | H39: 22 | I39: 16.7 | J39: Atlikti moksliniai taikomieji tyrimai / parengta projektinė dokumentacija | K39: 1/1 | L39: 1/1 | M39: Parengtas Bakainių piliakalnio priešpilio avarijos grėsmės pašalinimo darbų projektas ir gautas leidimas paveldo tvarkybos darbams vykdyti. Pasiruošta paraiškos teikimui finansavimui gauti
B40: 004-01-04 (T) | C40: Išsaugoti istorinį bei kultūros paveldą, didinti jo patrauklumą ir žinomumą | H40: =SUM(H41:H53) -> 564 | I40: =SUM(I41:I53) -> 428.6
B41: 004-01-04-01 (TP) | C41: Lankytinų objektų ir jų teritorijų, kultūros paveldo objektų ar objektų, esančių kultūros paveldo teritorijų prieigose tvarkybos reikalingos dokumentacijos rengimas, objektų atnaujinimas | D41: 1 | E41: Atminties skvero memorialo teritorijos sutvarkymo darbų koordinavimas, rangovo prisiimtų sutartinių įsipareigojimų vykdymo kontrolė | F41: Architektūros ir urbanistikos skyrius | G41: SB | H41: 180 | I41: 130.3 | J41: Tvarkomų objektų skaičius | K41: 6 | L41: 6 | M41: Baigti Atminties skvero memorialo, skirto kovoms už Lietuvos nepriklausomybę, teritorijos sutvarkymo darbai, taip pat atlikti Šventybrasčio 1863 m. sukilėlių kapo bei Nepriklausomybės dešimtmečio paminklo priežiūros darbai. Vykdant paveldo programas, įrengta 18 informacinių kelio ženklų į lankytinas vietas (Surviliškio ir Josvainių tiltus, Zavišinės dvarą, Skinderiškio parką, Plinkaigalio piliakalnį, Gumbių koplytėlę), parengtas Gelnų koplytėlės tvarkybos projektas bei atliktos 4 projektų ekspertizės. Pradėti Apytalaukio bažnyčios tvoros remonto, dvaro rūmų avarijos būklės šalinimo bei partizanų kapų Gudžiūnuose ir Surviliškyje tvarkymo viešieji pirkimai, apšviesta Evangelikų liuteronų bažnyčia, suorganizuotas Europos paveldo dienų renginys bei parengtos 41 kapinių neprižiūrimų kapaviečių teritorijų schemos
D42: 2 | E42: Apytalaukio Šv. apaštalų Petro ir Povilo bažnyčios tvoros remonto projekto parengimas ir remonto darbai
D43: 3 | E43: Lietuvos partizanų kapų teritorijų tvarkymo darbų viešojo pirkimo organizavimas, rangovo prisiimtų sutartinių įsipareigojimų vykdymo kontrolė
D44: 4 | E44: M.Katkaus sodybos-memorialinio muziejaus namo paveldo tvarkybos darbų techninio projekto parengimo viešojo pirkimo organizavimas, paslaugų teikėjo prisiimtų sutartinių įsipareigojimų vykdymo kontrolė
D45: 5 | E45: Kėdainių senamiesčio pastatų ir rajono architektūrinių paminklų apšvietimo paslaugų viešojo pirkimo organizavimas, paslaugų teikėjo prisiimtų sutartinių įsipareigojimų vykdymo kontrolė
D46: 6 | E46: Informacinių nuorodų į kultūros paveldo objektus (su įrengimu) pirkimo organizavimas
D47: 7 | E47: Nekilnojamųjų kultūros vertybių vertinimo medžiagos parengimo organizavimas ir koordinavimas, individualių apsaugos reglamentų nekilnojamiesiems kultūros objektams, vietovėms rengimas
D48: 8 | E48: Archeologiniai ir kiti tyrinėjimai kultūros paveldo teritorijose, paveldo objektams parengtų tvarkybos projektų ekspertizės vykdymas, sąmatų rengimas
B49: 004-01-04-02(TP) | C49: Minareto ir jo prieigų tvarkyba | D49: 1 | E49: Tvarkybos darbų viešojo pirkimo organizavimas, rangovo prisiimtų sutartinių įsipareigojimų vykdymo kontrolė | F49: Architektūros ir urbanistikos skyrius | G49: SB | H49: 145 | I49: 84.6 | J49: Turistams pritaikytų ir patogiai pasiekiamų turizmo objektų skaičius | K49: 1 | L49: 1 | M49: Baigtas Kėdainių dvaro sodybos minareto fasadų tvarkybos etapas: restauruotos sienos, laiptai, nuogrinda ir balkonas, pagal paruoštą grafinę medžiagą atkurta dingusi marmurinė lenta su originaliu tekstu ir brėžiniu. Šiuo metu darbai tęsiami vidaus erdvėse: įstatomos durys ir langai, įrengiamas apšvietimas, turėklai bei apsaugos sistemos, kad objektas būtų pilnai pritaikytas lankymui
B50: 004-01-04-03 (TP) | C50: Evangelikų ir reformatų bažnyčios infrastruktūros, jos varpinės atnaujinimas | D50: 1 | E50: Priemonės koordinavimas | F50: Architektūros ir urbanistikos skyrius, Biudžeto ir finansų skyrius | G50: SB | H50: 159 | I50: 142.7 | J50: Einamaisiais metais numatytų darbų, proc. | K50: 100 | L50: 85 | M50: Atlikti evangelikų reformatų bažnyčios balkono konstrukcijos stiprinimo darbai bei užbaigti vargonų montavimo ir jų derinimo darbai; taip pat vykdyti bažnyčios bokšto fasado ir stogelio smulkūs remonto darbai
B51: 004-01-04-04 (TP) | C51: Savivaldybės bažnyčių rėmimo programos įgyvendinimas | D51: 1 | E51: Programos konkurso organizavimas, sutarčių su vykdytojais suderinimas, sutarčių vykdymo kontrolė, ataskaitų rinkimas | F51: Architektūros ir urbanistikos skyrius | G51: SB | H51: 50 | I51: 50 | J51: Kulto pastatų, kuriems skirtas finansavimas tvarkybos darbams atlikti, skaičius | K51: 4 | L51: 4 | M51: Įgyvendinant programą, pasirašytos 4 biudžeto finansavimo sutartys, pagal kurias Dotnuvos bažnyčioje atnaujintos grindys, Šėtos bažnyčioje suremontuotas ir nudažytas pietinis fasadas, o Paberžės varpinėje atlikti stogo bei fasadų einamosios priežiūros darbai. Taip pat parengtas Šlapaberžės bažnyčios tvarkomųjų statybos darbų projektas, sudarantis pagrindą tolimesniems pastato atnaujinimo etapams.
B52: 004-01-04-05 (TP) | C52: Kultūros paveldo objektų, esančių Kėdainių rajono savivaldybės teritorijoje, ir kultūros paveldo statinių, esančių Kėdainių senamiesčio dalyje, išsaugojimo darbų finansavimo programa | D52: 1 | E52: Programos konkurso organizavimas, sutarčių su vykdytojais suderinimas, sutarčių vykdymo kontrolė, ataskaitų rinkimas | F52: Architektūros ir urbanistikos skyrius | G52: SB | H52: 30 | I52: 21 | J52: Tvarkomų kultūros paveldo objektų ar kultūros paveldo statinių skaičius | K52: 4 | L52: 1 | M52: Įgyvendinant programą, pasirašytos 2 biudžeto finansavimo sutartys. Sėkmingai įgyvendintas Lipliūnų dvaro sodybos fragmentų rūmų tvarkybos etapas: sutvarkytas balkonas ir jo tvorelė, mansardos dalyje pakeisti langai bei durys ir sutvarkyti angokraščiai. Tuo tarpu sutartis dėl pastato Didžioji g. 12 fasado tvarkymo buvo nutraukta laiku neatlikus numatytų darbų
A54: IŠ VISO | H54: =+H40+H31+H12+H7 -> 4818.1 | I54: =+I40+I31+I12+I7 -> 4358.4
C56: 1. Savivaldybės biudžetas (įskaitant skolintas lėšas) | H56: =SUM(H58:H63) -> 4818.1 | I56: =SUM(I58:I63) -> 4358.4
C57: Iš jo:
C58: 1.1. savivaldybės biudžeto lėšos (nuosavos, be ankstesnių metų likučio) | G58: SB | H58: =+H52+H51+H50+H49+H41+H39+H38+H37+H35+H34+H33+H28+H27+H25+H24+H10+H9+H8+H32 -> 1647.5 | I58: =+I52+I51+I50+I49+I41+I39+I38+I37+I35+I34+I33+I28+I27+I25+I24+I10+I9+I8+I32 -> 1479.2
C59: 1.2. Lietuvos Respublikos valstybės biudžeto dotacijos | G59: SBVB | H59: =+H11+H13+H21+H26+H30 -> 3108.4 | I59: =+I11+I13+I21+I26+I30 -> 2817
C60: 1.3. Pajamų įmokos ir kitos pajamos | G60: ĮP
C61: 1.4. Europos Sąjungos ir kitos tarptautinės finansinės paramos lėšos | G61: ES | H61: =+H36+H29 -> 62.2 | I61: =+I36+I29 -> 62.2
C62: 1.5. Skolintos lėšos | G62: SK
C63: 1.6. Ankstesnių metų likučiai | G63: SBL
C64: 2. Kiti šaltiniai (Europos Sąjungos finansinė parama projektams įgyvendinti ir kitos teisėtai gautos lėšos, nurodant atskirus šaltinius) | G64: KT
C65: IŠ VISO programai finansuoti pagal finansavimo šaltinius (1 ir 2 punktai) | H65: =+H64+H56 -> 4818.1 | I65: =+I64+I56 -> 4358.4
C66: Iš jų: regioninių pažangos priemonių lėšos | H66: =+H36 -> 0 | I66: =+I36 -> 0
C67: Asignavimų ir kitų lėšų pokytis, palyginti su ankstesnių metų patvirtintų asignavimų ir kitų lėšų planu

Sheet 05 Valdymo 
B2: Programos uždavinio, priemonės kodas ir požymis | C2: Uždavinio, priemonės pavadinimas, finansavimo šaltiniai | D2: Veiklos kodas | E2: Veiklos pavadinimas | F2: Atsakingas vykdytojas | G2: Finansavimo šaltinis | H2: Numatomi 2025 m. asignavimai ir kitos lėšos, tūkst. Eur | I2: Numatomi 2025 m. asignavimai ir kitos lėšos, tūkst. Eur | J2: Vertinimo kriterijai
J3: Pavadinimas | K3: Planuota reikšmė | L3: Pasiekta reikšmė | M3: Komentarai, pastabos, nukrypimų nuo plano priežastys
B5: 05 SAVIVALDYBĖS VALDYMO TOBULINIMAS
B6: 005-01-01 (T) | C6: Sudaryti sąlygas kokybiškai įgyvendinti teisės aktuose nustatytas Savivaldybei funkcijas, mažinant administracinę naštą, įgyvendinant lygias galimybes užtikrinančias bei korupcijos prevencijos priemones | H6: =SUM(H7:H19) -> 6528.3 | I6: =SUM(I7:I19) -> 6269
B7: 005-01-01-01 (TP) | C7: Savivaldybės tarybos, mero ir jo tarnybos veiklos užtikrinimas | D7: 1 | E7: Tarybos, mero ir jo tarnybos veiklos užtikrinimas pagal nustatytą LR vietos savivaldos įstatymą ir tarybos veiklos reglamentą | F7: Administracijos direktorius, Bendrasis skyrius, Apskaitos skyrius | G7: SB | H7: 741.3 | I7: 702.9 | J7: Tarybos posėdžių, komitetų transliavimo dažnumas, viešumas ir prieinamumas visuomenei, proc. | K7: 100 | L7: 100 | M7: Priemonė įgyvendinta tinkamai ir nuosekliai. Posėdžiai buvo reguliariai transliuojami, informacija apie juos skelbiama iš anksto, o įrašai sudaryti galimybę visuomenei susipažinti su svarstytais klausimais ir priimtais sprendimais patogiu laiku. Tokia praktika užtikrino skaidrumą, atvirumą ir realų gyventojų informavimo bei įsitraukimo principų įgyvendinimą
B8: 005-01-01-03 (TP) | C8: Savivaldybės administracijos veiklos užtikrinimas | D8: 1 | E8: Administracijos skyriams priskirtų funkcijų kokybiško vykdymo, administracinės naštos mažinimo priemonių vykdymo užtikrinimas | F8: Administracijos direktorius, Administracijos struktūriniai padaliniai (skyriai) ir darbuotojai, neįeinantys į struktūrinius padalinius | G8: ĮP | H8: 17.9 | I8: 14.8 | J8: Administracijos pareigybių skaičius vykdantis savivaldybei priskirtas funkcijas / savivaldybės administracijos pareigybių skaičius, tenkantis 1000 rajono gyventojų | K8: 171,05 / 3,8 | L8: 172,05 /3,79 | M8: Administracijos pareigybių skaičius vykdantis savivaldybei priskirtas funkcijas / savivaldybės administracijos pareigybių skaičius, tenkantis 1000 rajono gyventojų
G9: SB | H9: 5462.1 | I9: 5264.2
B10: 005-01-01-04 (TP) | C10: Savivaldybės administracijos administracinės naštos mažinimo plano vykdymas | D10: 1 | E10: Administracijos administracinės naštos mažinimo plano priemonių vykdymo vertinimas, ataskaitų teikimas ir viešinimas | F10: Centralizuoto vidaus audito skyrius | J10: Administracinės naštos mažinimo plano metinis įvykdymo proc. | K10: 100 | L10: 100 | M10: Administracinės naštos 2023-2025 m. plano laikotarpiu suplanuota 11 priemonių. Centralizuoto vidaus audito tarnyba 2025 m. atliko vidaus auditą dėl administracinės naštos mažinimo priemonių plano vykdymo kontrolę. Pagal atliktą vidaus audito išvadą 2025 m. savivaldybės administracijos vidaus kontrolė administracinės naštos mažinimo srityje vertinama gerai.
B11: 005-01-01-05 (TP) | C11: Savivaldybės korupcijos prevencijos veiksmų plano įgyvendinimas | D11: 1 | E11: Administracijoje ruošiamų teisės aktų projektų antikorupcinis vertinimas | F11: Administracijos direktorius, vyr. specialistė (už korupcijai atsparios aplinkos kūrimą atsakingas asmuo) | J11: Korupcijos prevencijos veiksmų plano metinis įvykdymas, proc. | K11: 100 | L11: 100 | M11: 2025 m. patvirtintas Savivaldybės 2025−2027 m. korupcijos prevencijos veiksmų planas, kuriame numatytos 25 prevencijos priemonės skaidrumui Savivaldybės administracijoje didinti. Administracijoje atliktas 101 teisės aktų projekto antikorupcinis vertinimas, parengtos ir viešai paskelbtos pažymos, nuolat atnaujinta skiltis „Korupcijos prevencija“, vykdytas darbuotojų antikorupcinis švietimas bei korupcijos tolerancijos tyrimas, parodęs aukštą netoleravimo lygį ir minimalią galimų pažeidimų tikimybę
D12: 2 | E12: Priežiūros ir (ar) kontrolės veiklų planavimas, koordinavimas, kontrolė, korupcijos prevencijos viešinimo vykdymas
D13: 3 | E13: 2025-2027 m. Korupcijos prevencijos veiksmų plano parengimas, įgyvendinimo koordinavimas ir ataskaitos rengimas
B14: 005-01-01-06 (TP) | C14: Lygių galimybių, moterų ir vyrų lygybės politikos įgyvendinimas bei asmens duomenų apsaugos užtikrinimas | D14: 1 | E14: Priemonės įgyvendinimo koordinavimas | F14: Socialinės paramos skyrius | J14: Vieta pagal lyčių lygybės stebėsenos savivaldybėse rodiklius | K14: 10-tuke | L14: 12 (2023 m. duomenys) | M14: Savivaldybės administracijoje paskirtas kontaktinis asmuo atsakingas už lygių galimybių įgyvendinimą. Savivaldybės administracijos lygių galimybių politika ir jos įgyvendinimo tvarkos aprašas nustato lygių galimybių Savivaldybės administracijoje principus ir jų įgyvendinimo darbe sąlygas bei tvarką. Pagal Lygių galimybių kontrolieriaus tarnybos atliktą vertinimą Kėdainių rajono savivaldybė priskiriama kaip pasiekusi gerų lyčių lygybės rezultatų.
B15: 005-01-01-07 (TP) | C15: Diasporos politikos įgyvendinimas | D15: 1 | E15: Priemonės įgyvendinimo koordinavimas | F15: Patarėja (jaunimo reikalų koordinatorė) | J15: Diasporos atstovų, prisidedančių prie Kėdainių vardo garsinimo ir ryšių su užsienio lietuviais stiprinimo, skaičius | K15: 2 | L15: 3 | M15: Savivaldybė, prisijungusi prie „Globalūs regionai“ iniciatyvos, kurią inicijavo LSA, nuosekliai stiprino ryšius su diaspora – gruodžio mėnesį suorganizavo susitikimą su užsienyje gyvenančiais kraštiečiais, kuriame aptartos sugrįžimo, bendradarbiavimo ir įsitraukimo į rajono socialinį, kultūrinį bei ekonominį gyvenimą galimybės, o rajonui jau atstovauja trys ambasadoriai užsienyje
B16: 005-01-01-08 (TP) | C16: Kėdainių rajono savivaldybės administracijos kokybės vadybos sistemos priežiūra ir atnaujinimas | D16: 1 | E16: Kokybės vadybos sistemos administracinių paslaugų rodiklių priežiūra | F16: Bendrasis skyrius | J16: Kokybės vadybos sistemos administracinių paslaugų rodiklių pasiekimas | K16: 100 | L16: 100 | M16: Savivaldybės administracijos kokybės vadybos sistema sertifikuota pagal ISO 9001:2015 standarto reikalavimus ir nuolat gerina viešųjų ir administracinių paslaugų teikimą gyventojams, skatina darnų vystymąsi, partnerystę ir bendradarbiavimą, įgyvendina kokybės vadybos metodus, tobulina procesų kokybę, įstaigos veiklos srityse užtikrina kokybę ir nuolatinį veiklos gerinimą. Kokybės vadybos sistema apima nuolatinį valdymo, struktūros, darbo metodų ir veiklos procesų tobulinimą bei optimizavimą.
B17: 005-01-01-09 (TP) | C17: Savivaldybės žmogiškųjų išteklių kompetencijų stiprinimas | D17: 1 | E17: Kompetencijų stiprinimo organizavimas | F17: Teisės ir personalo skyrius | G17: SB | H17: 30 | I17: 29.2 | J17: Savivaldybės administracijos darbuotojų, per metus tobulinusių kvalifikaciją, dalis, proc. | K17: 85 | L17: 96 | M17: 2025 m. Administracijos darbuotojai dalyvavo tiek bendruose, tiek pavieniuose kvalifikaciniuose mokymuose ir kursuose, įskaitant pirmos pagalbos teikimo, asmenų aptarnavimo, konfliktų valdymo, asmens duomenų apsaugos, kibernetinės higienos bei pilietinio pasirengimo temas. Mokymuose dalyvavo per 90 proc. personalo
B18: 005-01-01-11 (TP) | C18: Seniūnaičių veiklos organizavimas | D18: 1 | E18: Seniūnaičių veiklos užtikrinimas (darbo užmokesčio mokėjimas) | F18: Apskaitos skyrius | G18: SB | H18: 33.6 | I18: 14.5 | J18: Seniūnijose išrinktų seniūnaičių skaičius | K18: 70 | L18: 70 | M18: Rajone išrinkta 70 seniūnaičiai, kurie veikia kaip tarpininkai tarp gyventojų, seniūnijos ir savivaldybės institucijų
B19: 005-01-01-12 (TP) | C19: Valstybės perduotų savivaldybei funkcijų kokybiškas įgyvendinimas ir organizavimas | D19: 1 | E19: Gyventojų registro tvarkymas ir duomenų valstybės registrui teikimas | F19: Civilinės metrikacijos ir archyvo skyrius | G19: SBVB | H19: 243.4 | I19: 243.4 | J19: Vykdomų valstybės deleguotų funkcijų skaičius (bendras) | K19: 26 | L19: 26 | M19: Savivaldybės administracija įvykdė visas jai priskirtas valstybės deleguotas funkcijas, užtikrindama sklandų paslaugų teikimą gyventojams ir rajono valdymo procesų vykdymą pagal teisės aktų reikalavimus
D20: 2 | E20: Savivaldybei priskirtų archyvinių dokumentų tvarkymas | F20: Civilinės metrikacijos ir archyvo skyrius
D21: 3 | E21: Civilinės būklės aktų registravimas | F21: Civilinės metrikacijos ir archyvo skyrius
D22: 4 | E22: Valstybinės kalbos vartojimo ir taisyklingumo kontrolė | F22: Vyr. specialistė (kalbos tvarkytoja)
D23: 5 | E23: Koordinuotai teikiamų paslaugų vaikams nuo gimimo iki 18 metų (turintiems didelių ir labai didelių specialiųjų ugdymosi poreikių – iki 21 metų) ir vaiko atstovams pagal įstatymą koordinavimas | F23: Vyr. specialistė (tarpinstitucinio bendradarbiavimo koordinatorė)
D24: 6 | E24: Jaunimo politikos įgyvendinimas | F24: Patarėja (jaunimo reikalų koordinatorė)
D25: 7 | E25: Valstybės garantuojamos pirminės teisinės pagalbos teikimas | F25: Teisės ir personalo skyrius
D26: 8 | E26: Duomenų teikimas valstybės suteiktos pagalbos registrui | F26: Biudžeto ir finansų skyrius
D27: 9 | E27: Savivaldybių teritorijoje esančių miestų ir miestelių teritorijų ribose valstybinės žemės, perduotos Lietuvos Respublikos Vyriausybės nutarimu, patikėtinio funkcijos vykdymas | F27: Turto valdymo skyrius
D28: 10 | E28: Erdvinių duomenų rinkinio tvarkymas | F28: Architektūros ir urbanistikos skyrius
B29: 005-01-02 (T) | C29: Užtikrinti finansavimą nenumatytoms išlaidoms dengti bei valdyti prisiimtus finansinius įsipareigojimus | H29: =SUM(H30:H34) -> 2770.6 | I29: =SUM(I30:I34) -> 2425.9
B30: 005-01-02-01 (TP) | C30: Savivaldybės mero rezervas | D30: 1 | E30: Tikslingas lėšų skyrimas ekstremalioms situacijoms ir arba ekstremaliems įvykiams likviduoti, jų padariniams šalinti, gaisrų ir stichinių nelaimių padariniams likviduoti | F30: Apskaitos skyrius | G30: SB | H30: 154 | I30: 0 | J30: Tikslingai panaudoto rezervo dalis, proc. | K30: 100 | L30: 100 | M30: Vadovaujantis patvirtintu Kėdainių rajono savivaldybės mero rezervo lėšų naudojimo tvarkos aprašu, kuriuo numatoma, kad Mero rezervas gali būti skiriamas ekstremaliosioms situacijoms ir (arba) ekstremaliesiems įvykiams likviduoti, jų padariniams šalinti ir padarytiems nuostoliams iš dalies apmokėti; gaisrų ir stichinių nelaimių ir kitų įvykių padariniams likviduoti ir jų padarytiems nuostoliams iš dalies apmokėti bei dėl nepaprastosios padėties atsiradusioms išlaidoms iš dalies apmokėti ir (arba) jos padariniams šalinti finansavimo 2024 m. neprireikė
B31: 005-01-02-02 (TP) | C31: Savivaldybės mero fondas | D31: 1 | E31: Tikslingas lėšų, skirtų Kėdainių rajono savivaldybės mero fondui, panaudojimas | F31: Apskaitos skyrius | G31: SB | H31: 26.7 | I31: 22.6 | J31: Tikslingai panaudoto fondo dalis, proc. | K31: 100 | L31: 100 | M31: Fondo lėšos panaudotos pagal tarybos nustatytą tvarką, neviršijant bendrų savivaldybės reprezentacijai skirtų lėšų
B32: 005-01-02-03 (TP) | C32: Paskolų grąžinimas, palūkanų ir paskolų aptarnavimo išlaidų apmokėjimas | D32: 1 | E32: Prisiimtų finansinių įsipareigojimų vykdymas pagal nustatytus paskolų grąžinimo grafikus | F32: Biudžeto ir finansų skyrius | G32: SB | H32: 400 | I32: 213.4 | J32: Finansinių įsipareigojimų vykdymo savalaikiškumas, proc. | K32: 100 | L32: 100 | M32: Pagal grafiką grąžintos paskolos, mokėtos palūkanos
G33: SB | H33: 124.1 | I33: 124.1
G34: SK | H34: 2065.8 | I34: 2065.8
B35: 005-01-03 (T) | C35: Stiprinti rajono įvaizdį plėtojant dalykinius ryšius, skatinti vietos bendruomenę įsitraukti į vietos valdymą | H35: =SUM(H36:H38) -> 204.6 | I35: =SUM(I36:I38) -> 201.9
B36: 005-01-03-01 (TP) | C36: Dalyvavimas Lietuvos savivaldybių asociacijos, VšĮ Kauno regiono plėtros agentūros, Kauno regiono plėtros tarybos veiklose | D36: 1 | E36: Dalyvavimo veikloje užtikrinimas (mokestis) | F36: Apskaitos skyrius | G36: SB | H36: 32.9 | I36: 32.2 | J36: Savivaldybės narysčių organizacijose skaičius | K36: 3 | L36: 3 | M36: Savivaldybė dalyvavo Lietuvos savivaldybių asociacijos, VšĮ Kauno regiono plėtros agentūros, Kauno regiono plėtros tarybos veiklose
G37: SB | H37: 15 | I37: 15
B38: 005-01-03-02 (TP) | C38: Visuomenės įtraukimas į planavimo, biudžeto formavimo, konsultavimosi procesus, organizuojant dalyvaujamojo biudžeto iniciatyvų konkursą ir iniciatyvų įgyvendinimą | D38: 1 | E38: 2025 m. gyventojų iniciatyvų, skirtų gyvenamajai aplinkai gerinti, projektų idėjų atrankos konkurso organizavimas ir koordinavimas | F38: Patarėja (jaunimo reikalų koordinatorė) | G38: SB | H38: 156.7 | I38: 154.7 | J38: Įgyvendinamų gyventojų iniciatyvų skaičius | K38: 4 | L38: 4 | M38: 2024 m. buvo įgyvendintos gyventojų iniciatyvos „Šviečiančios supynės Kėdainių miesto parke“, „Pelėdnagių paplūdimio“ ir „Babėnų miško – sveikatingumo trasos“, taip pat sukurta ir įdiegta mobili programėlė „Kėdainių rajono gyventojo mobili aplikacija“, kurios įtvirtinimo procesų II etapas numatytas 2026 m. 2025 m. organizuotas penktasis dalyvaujamojo biudžeto konkursas, kuriam pateikta 10 projektų idėjų pasiūlymų; gyventojų balsų dauguma mažos apimties projektų kategorijoje atrinktos iniciatyvos „KULTŪRŲ KIEMAS – pažink Kėdainių istoriją kitaip“ ir „Viešosios infrastruktūros (takų, laiptų) sutvarkymas / įrengimas Surviliškio miestelio centre“, o didelės apimties projektų kategorijoje minimalus reikalaujamas gyventojų balsų skaičius nebuvo surinktas
D39: 2 | E39: "Šviečiančios supynės Kėdainių miesto parke" iniciatyvos įgyvendinimas: rangos darbų viešojo pirkimo organizavimas, rangos darbų koordinavimas, rangovo prisiimtų sutartinių įsipareigojimų vykdymo kontrolė | F39: Statybos skyrius
D40: 3 | E40: "Pelėdnagių paplūdimys" iniciatyvos įgyvendinimas: rangos darbų viešojo pirkimo organizavimas, rangos darbų koordinavimas, rangovo prisiimtų sutartinių įsipareigojimų vykdymo kontrolė | F40: Statybos skyrius
D41: 4 | E41: "Babėnų miškas – sveikatingumo trasa" iniciatyvos įgyvendinimas: darbų bei įrenginių rengimo viešojo pirkimo organizavimas, darbų koordinavimas, rangovo prisiimtų sutartinių įsipareigojimų vykdymo kontrolė | F41: Statybos skyrius
D42: 5 | E42: "Kėdainių rajono gyventojo mobili aplikacija" iniciatyvos įgyvendinimas (I d.): paslaugų viešojo pirkimo organizavimas, koordinavimas, tiekėjo prisiimtų sutartinių įsipareigojimų vykdymo kontrolė | F42: Bendrasis skyrius
B43: 005-01-04 (T) | C43: Gerinti savivaldybės administracijos veiklos kokybę, atnaujinant (diegiant) informacines sistemas, kompiuterinę įrangą, užtikrinant sisteminį viešųjų ir administracinių paslaugų modernizavimą | H43: =SUM(H44:H46) -> 504.8 | I43: =SUM(I44:I46) -> 431.6
B44: 005-01-04-01 (TP) | C44: IT sistemų atnaujinimas, priežiūra, kibernetinio saugumo užtikrinimas, kolokacijos paslauga Valstybės duomenų centre, bendradarbiavimas dėl VDV IS, apimant "duomenų ežerą" | D44: 1 | E44: IT įrangos, programų, IS atnaujinimo viešųjų pirkimų organizavimas, įdiegtų programų, IS priežiūra ir plėtros organizavimas | F44: Bendrasis skyrius | G44: SB | H44: 420 | I44: 347.5 | J44: KRSA valdomų ir tvarkomų informacinių sistemų skaičius / visuomenei atvertų duomenų rinkinių skaičius (kaupiamieji vienetai) | K44: 64/10 | L44: 62/10 | M44: Administracija sustiprino IT ir kibernetinio saugumo infrastruktūrą – įgyvendino TIS2 reikalavimus, atnaujino serverius ir tinklą, užtikrino duomenų saugojimą Valstybiniame duomenų centre, administravo 62 informacines sistemas bei išplėtė skaitmeninių darbo priemonių naudojimą. Taip pat pradėti "duomenų ežero" sprendimo formavimo darbai, siekiant centralizuotai kaupti, struktūruoti ir analizuoti skirtingų IS duomenis, užtikrinti jų vientisumą, saugumą. Įgyvendintos priemonės atspindi atsakingą požiūrį į viešųjų paslaugų kokybę, gyventojų duomenų apsaugą ir tvarią, į inovacijas orientuotą savivaldybės plėtrą.
B45: 005-01-04-02 (PP) | C45: Projekto "Viešųjų paslaugų teikimas bei gyventojų aptarnavimas, pasitelkiant dirbtinio intelekto sprendimus, Kėdainių rajono savivaldybėje" įgyvendinimas | D45: 1 | E45: Viešųjų paslaugų teikimo bei gyventojų aptarnavimo, pasitelkiant dirbtinio intelekto sprendimus viešojo pirkimo organizavimas, sutarties vykdymo kontrolė | F45: Bendrasis skyrius | G45: ES | H45: 67.8 | I45: 67.3 | J45: Sukurtų skaitmeninių sprendimų skaičius | K45: 1 | L45: 1 | M45: Projekto metu sukurtas ir įdiegtas dirbtinio intelekto sprendimas – gyventojų aptarnavimo pokalbių robotas su vidine žinių baze, integruotas į savivaldybės informacinę infrastruktūrą, leidžiantis automatizuoti pasikartojančias konsultavimo užklausas, pagerinti informacijos prieinamumą ir didinti viešųjų paslaugų teikimo efektyvumą
D46: 2 | E46: Projekto veiklų koordinavimas, informacijos apie įgyvendinamas veiklas, mokėjimo prašymų įgyvendinančiai institucijai teikimas | F46: Strateginio planavimo ir investicijų skyrius, Apskaitos skyrius | G46: SB | H46: 17 | I46: 16.8
H47: =+H43+H35+H29+H6 -> 10008.3 | I47: =+I43+I35+I29+I6 -> 9328.4
C49: 1. Savivaldybės biudžetas (įskaitant skolintas lėšas) | H49: =SUM(H51:H56) -> 10008.3 | I49: =SUM(I51:I56) -> 9328.4
C50: Iš jo:
C51: 1.1. savivaldybės biudžeto lėšos (nuosavos, be ankstesnių metų likučio) | G51: SB | H51: =+H46+H44+H38+H37+H36+H33+H32+H31+H30+H18+H17+H9+H7 -> 7613.4 | I51: =+I46+I44+I38+I37+I36+I33+I32+I31+I30+I18+I17+I9+I7 -> 6937.1
C52: 1.2. Lietuvos Respublikos valstybės biudžeto dotacijos | G52: SBVB | H52: =+H19 -> 243.4 | I52: =+I19 -> 243.4
C53: 1.3. Pajamų įmokos ir kitos pajamos | G53: ĮP | H53: =+H8 -> 17.9 | I53: =+I8 -> 14.8
C54: 1.4. Europos Sąjungos ir kitos tarptautinės finansinės paramos lėšos | G54: ES | H54: =+H45 -> 67.8 | I54: =+I45 -> 67.3
C55: 1.5. Skolintos lėšos | G55: SK | H55: =+H34 -> 2065.8 | I55: =+I34 -> 2065.8
C56: 1.6. Ankstesnių metų likučiai | G56: SBL
C57: 2. Kiti šaltiniai (Europos Sąjungos finansinė parama projektams įgyvendinti ir kitos teisėtai gautos lėšos, nurodant atskirus šaltinius) | G57: KT
C58: IŠ VISO programai finansuoti pagal finansavimo šaltinius (1 ir 2 punktai) | H58: =+H57+H49 -> 10008.3 | I58: =+I57+I49 -> 9328.4
C59: Iš jų: regioninių pažangos priemonių lėšos | H59: =+H45 -> 67.8 | I59: =+I45 -> 67.3
C60: Asignavimų ir kitų lėšų pokytis, palyginti su ankstesnių metų patvirtintų asignavimų ir kitų lėšų planu

Sheet Lešų poreikis iš viso
B2: 2025 m. programų finansavimas (tūkst. Eur)
B3: Eil. Nr. | C3: Programos kodas ir pavadinimas | D3: 2025 m. asignavimai ir kitos lėšos | E3: 2025 m. asignavimai ir kitos lėšos
B4: 01 | C4: Aktyvios visuomenės ugdymo programa | D4: =+'01 Visuomenės ugdymo'!H84 -> 7118.2 | E4: =+'01 Visuomenės ugdymo'!I84 -> 6611.9
B5: 02 | C5: Socialinės gerovės užtikrinimo programa | D5: =+'02 Socialinės gerovės'!H126 -> 30041.2 | E5: =+'02 Socialinės gerovės'!I126 -> 29526.4
B6: 03 | C6: Darnios aplinkos ir infrastruktūros plėtros programa | D6: =+'03 Darnios aplinkos'!H69 -> 14462.6 | E6: =+'03 Darnios aplinkos'!I69 -> 12527.6
B7: 04 | C7: Ekonominės plėtros programa | D7: =+'04 Ekonominės plėtros'!H54 -> 4818.1 | E7: =+'04 Ekonominės plėtros'!I54 -> 4358.4
B8: 05 | C8: Savivaldybės valdymo tobulinimo programa | D8: =+'05 Valdymo '!H47 -> 10008.3 | E8: =+'05 Valdymo '!I47 -> 9328.4
C9: IŠ VISO PROGRAMOS ĮGYVENDINTI | D9: =SUM(D4:D8) -> 66448.4 | E9: =SUM(E4:E8) -> 62352.7
B10: 1. Savivaldybės biudžetas (įskaitant skolintas lėšas) | D10: =+'01 Visuomenės ugdymo'!H86+'02 Socialinės gerovės'!H128+'03 Darnios aplinkos'!H71+'04 Ekonominės plėtros'!H56+'05 Valdymo '!H49 -> 70980.88 | E10: =+'01 Visuomenės ugdymo'!I86+'02 Socialinės gerovės'!I128+'03 Darnios aplinkos'!I71+'04 Ekonominės plėtros'!I56+'05 Valdymo '!I49 -> 66506
B11: Iš jo:
B12: 1.1. savivaldybės biudžeto lėšos (nuosavos, be ankstesnių metų likučio) SB | D12: =+'01 Visuomenės ugdymo'!H88+'02 Socialinės gerovės'!H130+'03 Darnios aplinkos'!H73+'04 Ekonominės plėtros'!H58+'05 Valdymo '!H51 -> 30087.7 | E12: =+'01 Visuomenės ugdymo'!I88+'02 Socialinės gerovės'!I130+'03 Darnios aplinkos'!I73+'04 Ekonominės plėtros'!I58+'05 Valdymo '!I51 -> 27839.2
B13: 1.2. Lietuvos Respublikos valstybės biudžeto dotacijos SBVB | D13: =+'01 Visuomenės ugdymo'!H89+'02 Socialinės gerovės'!H131+'03 Darnios aplinkos'!H74+'04 Ekonominės plėtros'!H59+'05 Valdymo '!H52 -> 34082.1 | E13: =+'01 Visuomenės ugdymo'!I89+'02 Socialinės gerovės'!I131+'03 Darnios aplinkos'!I74+'04 Ekonominės plėtros'!I59+'05 Valdymo '!I52 -> 33256.5
B14: 1.3. Pajamų įmokos ir kitos pajamos ĮP | D14: =+'01 Visuomenės ugdymo'!H90+'02 Socialinės gerovės'!H132+'03 Darnios aplinkos'!H75+'04 Ekonominės plėtros'!H60+'05 Valdymo '!H53 -> 17.9 | E14: =+'01 Visuomenės ugdymo'!I90+'02 Socialinės gerovės'!I132+'03 Darnios aplinkos'!I75+'04 Ekonominės plėtros'!I60+'05 Valdymo '!I53 -> 14.8
B15: 1.4. Europos Sąjungos ir kitos tarptautinės finansinės paramos lėšos ES | D15: =+'01 Visuomenės ugdymo'!H91+'02 Socialinės gerovės'!H133+'03 Darnios aplinkos'!H76+'04 Ekonominės plėtros'!H61+'05 Valdymo '!H54 -> 3727.38 | E15: =+'01 Visuomenės ugdymo'!I91+'02 Socialinės gerovės'!I133+'03 Darnios aplinkos'!I76+'04 Ekonominės plėtros'!I61+'05 Valdymo '!I54 -> 3329.7
B16: 1.5. Skolintos lėšos SK | D16: =+'01 Visuomenės ugdymo'!H92+'02 Socialinės gerovės'!H134+'03 Darnios aplinkos'!H77+'04 Ekonominės plėtros'!H62+'05 Valdymo '!H55 -> 3065.8 | E16: =+'01 Visuomenės ugdymo'!I92+'02 Socialinės gerovės'!I134+'03 Darnios aplinkos'!I77+'04 Ekonominės plėtros'!I62+'05 Valdymo '!I55 -> 2065.8
B17: 1.6. Ankstesnių metų likučiai SBL | D17: =+'01 Visuomenės ugdymo'!H93+'02 Socialinės gerovės'!H135+'03 Darnios aplinkos'!H78+'04 Ekonominės plėtros'!H63+'05 Valdymo '!H56 -> 0 | E17: =+'01 Visuomenės ugdymo'!I93+'02 Socialinės gerovės'!I135+'03 Darnios aplinkos'!I78+'04 Ekonominės plėtros'!I63+'05 Valdymo '!I56 -> 0
B18: 2. Kiti šaltiniai (Europos Sąjungos finansinė parama projektams įgyvendinti ir kitos teisėtai gautos lėšos, nurodant atskirus šaltinius) KT | D18: =+'01 Visuomenės ugdymo'!H94+'02 Socialinės gerovės'!H136+'03 Darnios aplinkos'!H79+'04 Ekonominės plėtros'!H64+'05 Valdymo '!H57 -> 0 | E18: =+'01 Visuomenės ugdymo'!I94+'02 Socialinės gerovės'!I136+'03 Darnios aplinkos'!I79+'04 Ekonominės plėtros'!I64+'05 Valdymo '!I57 -> 0
B19: IŠ VISO programai finansuoti pagal finansavimo šaltinius (1 ir 2 punktai) | D19: =+'01 Visuomenės ugdymo'!H95+'02 Socialinės gerovės'!H137+'03 Darnios aplinkos'!H80+'04 Ekonominės plėtros'!H65+'05 Valdymo '!H58 -> 70980.88 | E19: =+'01 Visuomenės ugdymo'!I95+'02 Socialinės gerovės'!I137+'03 Darnios aplinkos'!I80+'04 Ekonominės plėtros'!I65+'05 Valdymo '!I58 -> 66506
B20: Iš jų: regioninių pažangos priemonių lėšos | D20: =+'01 Visuomenės ugdymo'!H96+'02 Socialinės gerovės'!H138+'03 Darnios aplinkos'!H81+'04 Ekonominės plėtros'!H66+'05 Valdymo '!H59 -> 1381.6 | E20: =+'01 Visuomenės ugdymo'!I96+'02 Socialinės gerovės'!I138+'03 Darnios aplinkos'!I81+'04 Ekonominės plėtros'!I66+'05 Valdymo '!I59 -> 1053.7
B21: Asignavimų ir kitų lėšų pokytis, palyginti su ankstesnių metų patvirtintų asignavimų ir kitų lėšų planu
