Workbook

Sheet 01 Visuomenės ugdymo
G1: PATVIRTINTA
G2: Kėdainių rajono savivaldybės administracijos direktoriaus
G3: 2026 m. kovo 3 d. įsakymu Nr.AD-1-187
A7: Kėdainių rajono savivaldybės administracijos 2025 metų veiklos plano ataskaita
B9: Programos uždavinio, priemonės kodas ir požymis | C9: Uždavinio, priemonės pavadinimas, finansavimo šaltiniai | D9: Veiklos kodas | E9: Veiklos pavadinimas | F9: Atsakingas vykdytojas | G9: Finansavimo šaltinis | H9: Numatomi 2025 m. asignavimai ir kitos lėšos, tūkst. Eur | I9: Numatomi 2025 m. asignavimai ir kitos lėšos, tūkst. Eur | J9: Vertinimo kriterijai
J10: Pavadinimas | K10: Planuota reikšmė | L10: Pasiekta reikšmė | M10: Komentarai, pastabos, nukrypimų nuo plano priežastys
B12: 01 AKTYVIOS VISUOMENĖS UGDYMAS
B13: 001-01-01 (T) | C13: Sudaryti prielaidas ugdymo kokybei gerinti, mažinti ugdymo kokybės skirtumus tarp mokyklų, užtikrinti STEAM dalykų programų įgyvendinimą bei skaitmeninio ugdymo turinio plėtrą | H13: =SUM(H14:H21) -> 1038.7 | I13: =SUM(I14:I21) -> 1011.4
B14: 001-01-01-01 (TP) | C14: Švietimo programų įgyvendinimas ir tinkamos ugdymo(si) aplinkos užtikrinimas | D14: 1 | E14: Mokinio padėjėjo skyrimo tvarkos aprašo parengimas, komisijos darbo organizavimas | F14: Švietimo, kultūros ir sporto skyrius, Biudžeto ir finansų skyrius | G14: SB | H14: 40 | I14: 32.5 | J14: Parengtas Mokinio padėjėjo skyrimo tvarkos aprašas | K14: 1 | L14: 1 | M14: 2025 m. rugsėjo 26 d. Kėdainių rajono savivaldybės tarybos sprendimu Nr. TS-238 patvirtintas Mokinio padėjėjų ir švietimo pagalbos specialistų pareigybių finansavimo tvarkos aprašas, reglamentuojantis švietimo įstaigose dirbančių mokinio padėjėjų pareigybių ir švietimo pagalbos specialistų (specialiųjų pedagogų, tiflopedagogų, surdopedagogų, logopedų, socialinių pedagogų, psichologų) paslaugų finansavimo tvarką iš Savivaldybės biudžeto lėšų
B15: 001-01-01-02 (PP) | C15: "Tūkstantmečio mokyklos I" projekto įgyvendinimas | D15: 1 | E15: Projekte dalyvaujančių mokyklų vykdomų veiklų koordinavimas, informacijos apie įgyvendinamas veiklas, mokėjimo prašymų įgyvendinančioms institucijoms teikimas | F15: Strateginio planavimo ir investicijų skyrius, Švietimo, kultūros ir sporto skyrius, Apskaitos skyrius | G15: SB | H15: 5 | I15: 0.8 | J15: Programoje, dalyvaujančių įstaigų skaičius (tinklaveika) | K15: 15 | L15: 15 | M15: Tęstas TŪM projekto įgyvendinimas: keturiose ugdymo šįstaogose įrengtos laboratorijos ir įvairios edukacinės erdvės, įsigyta įranga, vykdyta tinklaveika ir dalijimasis gerąja patirtimi. Veiklas 2025 m. užbaigė "Ryto" ir Senamiesčio progimnazijos bei "Atžalyno" gimnazija, o Šviesioji gimnazija tinklaveiką tęs iki 2026 m.I ketv.
G16: ES | H16: 642 | I16: 632.7
G17: SBVB | H17: 160 | I17: 158.6
B18: 001-01-01-03 (TP) | C18: "Pirmoko krepšelio" finansavimas | D18: 1 | E18: "Pirmoko krepšelio" įsigijimo viešojo pirkimo organizavimas | F18: Bendrasis skyrius | G18: SB | H18: 9.7 | I18: 9.7 | J18: Pirmoko krepšelį gaunančiųjų skaičius | K18: 400 | L18: 400 | M18: Visi pirmokai rugsėjo 1 d. buvo apdovanoti „Pirmoko krepšeliu“, kuriame rado svarbiausius mokyklinius reikmenis
B19: 001-01-01-04 (TP, PP) | C19: Švietimo paslaugų kokybės gerinimas, aprūpinant efektyviai veikiančias bendrojo ugdymo mokyklas laboratorine įranga ir priemonėmis | D19: 1 | E19: Biudžeto lėšų skyrimo įsakymo parengimas, priemonės koordinavimas | F19: Švietimo, kultūros ir sporto skyrius | G19: SB | H19: 50 | I19: 50 | J19: Bendrojo ugdymo mokyklų (vykdančių vidurinio ar pagrindinio ugdymo programas), turinčių gamtos mokslų laboratorijas, dalis (proc.) | K19: 85 | L19: 85 | M19: Savivaldybės biudžeto lėšomis laboratorijų įrangą, priemones įsigijo Šėtos, Josvainių, Krakių Mikalojaus Katkaus ir Akademijos gimnazijos
D20: 2 | E20: Projekto „Ugdymo priemonės mokykloms“ koordinavimas | G20: ES | H20: 15 | I20: 10.1 | M20: 9 ugdymo įstaigos dalyvauja ES projekte, siekiant gerinti švietimo paslaugų kokybę, aprūpinant efektyviai veikiančias bendrojo ugdymo mokyklas laboratorine įranga, priemonėmis ir kompiuterine įranga. 2025 m. projekto dalyvėms paskirti 286 kompiuteriai ir 2 kalbų laboratorijos
B21: 002-01-01-05 (TP, PP) | C21: Skaitmeninio ugdymo plėtra | D21: 1 | E21: Priemonės vykdymo koordinavimas | F21: Švietimo, kultūros ir sporto skyrius | G21: SB | H21: 117 | I21: 117 | J21: Įstaigų, plečiančių skaitmeninimą, skaičius | K21: 15 | L21: 15 | M21: 15 švietimo įstaigų įsigijo skaitmeniniui ugdymui reikalingą įrangą, skaitmenines mokymosi platformas, licencijas
B22: 001-01-02 (T, P) | C22: Užtikrinti neformaliojo ugdymo dermę | H22: =SUM(H23:H26) -> 123.6 | I22: =SUM(I23:I26) -> 123.6
B23: 001-01-02-01 (TP) | C23: Neformaliojo vaikų švietimo, socializacijos, prevencijos veiklų programų plėtojimas, vaikų vasaros stovyklų finansavimas | D23: 1 | E23: Programų konkurso organizavimas, konsultacijos, paraiškų ir sutarčių derinimas, veiklų stebėjimas, vertinimas, ataskaitų teikimas | F23: Švietimo, kultūros ir sporto skyrius | G23: SB | H23: 70 | I23: 70 | J23: Mokinių, dalyvavusių vasaros stovyklose, dalis (proc.) | K23: 14,6 | L23: 14,6 | M23: Finansuota 26 vaikų vasaros poilsio ir užimtumo stovyklų programų, kuriose dalyvavo 705 vaikų, iš jų 69 turintys didelių ir labai didelių specialiųjų ugdymosi poreikių. 27 NVŠ teikėjai vykdė 60 programų, kuriose vidutiniškai dalyvavo 1 873 mokinių. Apie 240 mokinių, turinčių vidutinių, didelių ir labai didelių specialiųjų ugdymosi poreikių, buvo skirti 2 NVŠ krepšeliai. NVŠ krepšeliu pasinaudojo apie 37 proc. mokinių, iš jų apie 46 proc. – iš miesto mokyklų, apie 54 proc. – kaimiškųjų vietovių. NVŠ veiklose, organizuojamose mokyklų ir kitų švietimo teikėjų, dalyvavo 79,1 proc. Savivaldybės bendrojo ugdymo mokyklų mokinių
G24: SBVB | H24: 8.6 | I24: 8.6
B25: 001-01-02-04 (PP) | C25: Projekto "Išmaniųjų akademija" įgyvendinimas (ES projekto "Kauno regiono funkcinės zonos strategija" dalis) | D25: 1 | E25: Projekto finansavimo sutarties derinimas, partnerystės sutarties su Kalbų mokykla rengimas, ES projekto koordinavimas | F25: Strateginio planavimo ir investicijų skyrius | G25: SB | H25: 10 | I25: 10 | J25: Projekto veiklų įgyvendinimo proc. | K25: 5 | L25: 5 | M25: Pasirašyta projekto finansavimo sutartis. Projektas įgyvendinamas kartu su Kėdainių kalbų mokykla. 2025 m. pradėti Kalbų mokyklos patalpų (pasaulio virtuvės) remonto darbai, sudaryta sutartis dėl 5-tų klasių programos turinio kūrimo.
D26: 2 | E26: Remonto darbų viešojo pirkimo vykdymas, darbų koordinavimas, rangovo prisiimtų sutartinių įsipareigojimų vykdymo kontrolė | F26: Statybos skyrius | G26: ES | H26: 35 | I26: 35
B27: 001-01-03 (T) | C27: Gerinti švietimo pagalbos teikimą, įgyvendinti kokybišką įvairių ugdymosi poreikių turinčių mokinių ugdymą, taikant inovatyvius ugdymo(si) metodus ir būdus | H27: =SUM(H28:H33) -> 846.8 | I27: =SUM(I28:I33) -> 645
B28: 001-01-03-02 (PP) | C28: Projekto "Ugdymo prieinamumo didinimas atskirtį patiriantiems vaikams Kėdainių „Ryto“ ir Kėdainių senamiesčio progimnazijose" įgyvendinimas | D28: 1 | E28: ES projekto koordinavimas, rangos darbų, įrangos, priemonių įsigijimo sutarčių koordinavimas, rangovo / tiekėjų prisiimtų sutartinių įsipareigojimų vykdymo kontrolė | F28: Strateginio planavimo ir investicijų skyrius, Statybos skyrius, Apskaitos skyrius | G28: SB | H28: 60 | I28: 26.3 | J28: Įgyvendintų projekto veiklų dalis, proc. (bendras) | K28: 10 | L28: 9 | M28: Pradėtos įgyvendinti projekto veiklos, kuriomis siekiama didinti ugdymo įstaigų įtrauktį: sėkmingai atliktos viešųjų pirkimų procedūros ir Kėdainių Senamiesčio bei „Ryto“ progimnazijose pradėti universalaus dizaino sprendimų įgyvendinimo rangos darbai
G29: ES | H29: 215 | I29: 138.5
B30: 001-01-03-03 (PP) | C30: Projekto "Įvairialypio švietimo plėtojimas Kėdainių „Aušros“ progimnazijoje ir Vilainių mokykloje-darželyje „Obelėlė“, vykdant visos dienos mokyklos veiklą" įgyvendinimas | D30: 1 | E30: ES projekto koordinavimas, rangos darbų, įrangos, priemonių įsigijimo viešųjų pirkimų organizavimas, sutarčių koordinavimas, rangovo / tiekėjų prisiimtų sutartinių įsipareigojimų vykdymo kontrolė | F30: Strateginio planavimo ir investicijų skyrius, Statybos skyrius, Apskaitos skyrius | G30: SB | H30: 79.8 | I30: 53.5 | J30: Įgyvendintų projekto veiklų dalis, proc. (bendras) | K30: 85 | L30: 86 | M30: Atlikus patalpų remonto darbus, ruoštasi visos dienos mokyklos veiklos pradžiai: įsigyjama šiuolaikiška įranga, funkciniai baldai bei ugdymo priemonės, kurios užtikrins kokybišką mokinių užimtumą ir individualią pagalbą ateityje
G31: ES | H31: 180 | I31: 156
B32: 001-01-03-04 (PP) | C32: Projekto „Ankstyvojo ugdymo užtikrinimas vaikams iš socialinę riziką patiriančių šeimų“ įgyvendinimas | D32: 1 | E32: ES projekto koordinavimas | F32: Švietimo, kultūros ir sporto skyrius, Apskaitos skyrius | G32: ES | H32: 260 | I32: 230.3 | J32: Į ikimokyklinį ir priešmokyklinį ugdymą įtrauktų vaikų iš socialinę riziką patiriančių šeimų teikiant jiems pagalbą ugdymo procese dalis (skaičiuojama įgyvendinus projektą -2027 m.) | K32: 100 | L32: 155 | M32: Per 2025 m. į ikimokyklinį ir priešmokyklinį ugdymą sėkmingai įtraukti 155 vaikai iš 18 švietimo įstaigų, teikiant jiems pagalbą ugdymo procese.
G33: SBVB | H33: 52 | I33: 40.4
B34: 001-01-04 (T) | C34: Didinti pedagogų ir mokinių motyvaciją, užtikrinti sveiką, saugią emocinę ir fizinę aplinką ugdymo įstaigose | H34: =SUM(H35:H40) -> 560.8 | I34: =SUM(I35:I40) -> 535.5
B35: 001-01-04-01 (TP) | C35: Mokytojų ir švietimo pagalbos specialistų pritraukimas, perkvalifikavimas ir skatinimas | D35: 1 | E35: Programos įgyvendinimo organizavimas, programos įgyvendinimo koordinavimas | F35: Švietimo, kultūros ir sporto skyrius | G35: SB | H35: 123 | I35: 119.3 | J35: Dalykinių olimpiadų ir konkursų prizininkų skaičius, tenkantis 10 tūkst. mokinių | K35: 5.5 | L35: 5.9 | M35: 2025 m. priemone pasinaudojo 2 pradedantieji pedagogai (finansinis skatinimas), 1 pedagogas gavo būsto išlaidų kompensaciją, 4 pedagogams apmokėtos studijos, daugiau nei 100 pedagogų iš visų ugdymo įstaigų paskatinti už pedagoginę lyderystę ir profesinius pasiekimus, visų ugdymo įstaigų pedagogai dalyvavo psichologinio atsparumo ir profesinių kompetencijų stiprinimo veiklose, taip pat pedagogams organizuoti forumai, konferencijos ir kiti profesiniai renginiai.
B36: 001-01-04-03 (TP) | C36: Gabių mokinių skatinimas | D36: 1 | E36: Mokyklose besimokančių gabių mokinių, per vienerius mokslo metus pasiekusių puikių mokymosi rezultatų, įvertinimo ir paskatinimo organizavimas | F36: Švietimo, kultūros ir sporto skyrius | G36: SB | H36: 45.8 | I36: 45.6 | J36: Paskatintų gabių mokinių skaičius | K36: 145 | L36: 223 | M36: Už pasiekimus dalykinėse olimpiadose, konkursuose, meno festivaliuose ir sporto varžybose buvo atrinkti ir apdovanoti 174 mokiniai. Už gautus aukštus įvertinimus brandos egzaminuose apdovanoti 49 abiturientai. Už puikius pedagoginio darbo rezultatus Kėdainių r. Krakių Mikalojaus Katkaus gimnazijos biologijos mokytoja metodininkė Jolanta Varnienė tapo Savivaldybės Metų mokytoja
B37: 001-01-04-04 (TP) | C37: Dalyvaujamojo biudžeto iniciatyvų ugdymo įstaigose įgyvendinimas | D37: 1 | E37: Priemonės įgyvendinimo organizavimas | F37: Švietimo, kultūros ir sporto skyrius | G37: SB | H37: 11 | I37: 11 | J37: Į dalyvaujamojo biudžeto iniciatyvas įsitraukusiųjų mokyklų skaičius | K37: 11 | L37: 11 | M37: Savivaldybės švietimo įstaigose įgyvendintas Dalyvaujamasis biudžetas, lėšos paskirstytos 11 švietimo įstaigų. Iniciatyva sustiprino demokratinius procesus mokyklose, skatino mokinių pilietiškumą, atsakomybę ir finansinį raštingumą, didino jų įsitraukimą į sprendimų priėmimą bei prisidėjo prie mokyklų aplinkos gerinimo.
B38: 001-01-04-06 (TP) | C38: Priklausomybę sukeliančių medžiagų vartojimo mažinimo ir prevencijos programos priemonių įgyvendinimas | D38: 1 | E38: Programos 2025 m. numatytų priemonių įgyvendinimas, organizavimas, koordinavimas | F38: Vyr. specialistas (tarpinstitucinio bendradarbiavimo koordinatorius), patarėja (sveikatos reikalų koordinatorė), patarėja (jaunimo reikalų koordinatorė) | G38: SB | H38: 82 | I38: 82 | J38: Įgyvendinamų prevencinių priemonių skaičius | K38: 29 | L38: 29 | M38: Savivaldybės ugdymo įstaigose stiprintas saugumas ir prevencinė veikla: 3 įstaigose įrengtos lauko durų užrakinimo sistemos, 9 įstaigose – vaizdo stebėjimo kameros, 1 progimnazijoje – elektroninių cigarečių detektoriai. Suorganizuota sporto mugė, įgyvendintos socialinės-prevencinės kampanijos, kurtos ir tobulintos mokytojų bei pagalbos specialistų emocinės gerovės priemonės, dalyvauta kompetencijų didinimo mokymuose priklausomybių prevencijos tema. Taip pat organizuotos prevencinės paskaitos mokiniams, tėvams ir mokytojams bei seminaras apie psichoaktyvių medžiagų vartojimo prevenciją, plėtotos mobilaus ir atvirojo darbo su jaunimu paslaugos
B39: 001-01-04-07 (TP) | C39: Vaikų maitinimo ekologiškais ir pagal nacionalinę maisto kokybės sistemą pagamintais produktais l/d "Žilvitis" ir "Pasaka" organizavimas (dalyvavimas projekte) | D39: 1 | E39: Priemonės įgyvendinimo koordinavimas | F39: Švietimo, kultūros ir sporto skyrius, Biudžeto ir finansų skyrius | G39: SB | H39: 44 | I39: 28.8 | J39: Ekologiškai besimaitinančių vaikų skaičius | K39: ~355 | L39: 356 | M39: Lopšeliui-darželiui „Žilvitis“ ir lopšeliui-darželiui „Pasaka" dalyvaujant Žemės ūkio ministerijos iniciatyvoje, siekiama vaikus maitinti trumposiomis maisto tiekimo grandinėmis tiekiamu vietiniu kokybišku maistu. Parama dengiamas kainų skirtumas, susidarantis renkantis ekologiškus ir pagal nacionalinę maisto kokybės sistemą pagamintus produktus vietoj įprastinių maisto produktų ir žaliavų
B40: 001-01-04-09 (TP) | C40: Saugių ugdymo sąlygų įstaigose užtikrinimas | D40: 1 | E40: Priemonės įgyvendinimo koordinavimas | F40: Švietimo, kultūros ir sporto skyrius, Biudžeto ir finansų skyrius | G40: SB | H40: 255 | I40: 248.8 | J40: Įstaigų skaičius, kuriose atlikti remonto darbai / įrengti kondicionieriai | K40: 9/ 13 | L40: 9/ 13 | M40: Darbai buvo vykdyti Josvainių, Šviesiosios, Šėtos, Krakių M Katkaus, Akademijos gimnazijose, Senamiesčio, „Ryto“, „Aušros", progimnazijose, lopšeliuose-darželiuose „Vaikystė“, „Puriena“, „Pasaka“, „Varpelis“, „Žilvitis“, Dotnuvos, Labūnavos pagrindinėse mokyklose, Kalbų, Muzikos ir Spindulio mokyklose
B41: 001-01-05 (T) | C41: Vystyti jaunimui palankią aplinką, plėsti ir skatinti įvairias veiklas ir užimtumą, formuojant jaunimo politiką | H41: =+H42+H43+H45 -> 92 | I41: =+I42+I43+I45 -> 90.8
B42: 001-01-05-01 (TP) | C42: Jaunimui palankios aplinkos vystymas, skatinant įvairias veiklas, formuojant jaunimo politiką | D42: 1 | E42: Tarptautinės jaunimo dienos renginio organizavimas | F42: Patarėja (jaunimo reikalų koordinatorė) | G42: SB | H42: 25 | I42: 25 | J42: Suorganizuotas jaunimo dienos renginys | K42: 1 | L42: 1 | M42: Su Savivaldybės jaunimo reikalų taryba, įvairiomis rajono jaunimo ir su jaunimu dirbančiomis organizacijomis suorganizuotas Jaunimo dienos renginys, turėjęs didelį jaunimo susidomėjimą ir populiarumą
B43: 001-01-05-02 (TP) | C43: Jaunimo veiklos projektų, programų finansavimas | D43: 1 | E43: Jaunimo veiklos projektų konkurso organizavimas, sutarčių rengimas, ataskaitų rinkimas | F43: Patarėja (jaunimo reikalų koordinatorė) | G43: SB | H43: 42 | I43: 41 | J43: Finansuotų projektų, programų skaičius | K43: 12 | L43: 12 | M43: 2025 m. rajone veikė 6 atvirosios jaunimo erdvės ir 1 atvirasis jaunimo centras, kuriuose per metus apsilankė daugiau nei 1 tūkst. jaunuolių. Konkurso būdu finansuoti 6 projektai, kurių veiklose dalyvavo 1526 jaunuoliai. Taip pat finansuoti 6 jaunimo ir (ar) su jaunimu dirbančių organizacijų projektai, į kurių veiklas įsitraukė 1492 jaunuoliai (14–29 m.). Įgyvendinta Kėdainių rajono mokinių savivaldos plėtros 2025 m. programa, kurioje dalyvavo 1629 jaunuoliai, surengtas 41 mokymas, susitikimai ir posėdžiai.
D44: 2 | E44: Programų, užtikrinančių jaunimo neformalaus ugdymo plėtrą. sutarčių dėl finansavimo sudarymas, programų įgyvendinimo priežiūros organizavimas, ataskaitų rinkimas | F44: Patarėja (jaunimo reikalų koordinatorė) | J44: Suorganizuotų mokymų, susitikimų, renginių, forumų skaičius | K44: 10 | L44: 10
B45: 001-01-05-03 (TP) | C45: Jaunimo užimtumo vasarą ir integracijos į darbo rinką programos įgyvendinimas, skatinimas užsiimti savanoriška veikla | D45: 1 | E45: Jaunimo užimtumo vasarą ir integracijos į darbo rinką programos koordinavimas ir viešinimas | F45: Patarėja (jaunimo reikalų koordinatorė) | G45: SB | H45: 25 | I45: 24.8 | J45: Pagal programą įdarbintų 14-21 m. jaunuolių skaičius | K45: 25 | L45: 25 | M45: Jaunimo užimtumo vasarą programa, kurios tikslas sudaryti palankias sąlygas kokybiškam jaunimo užimtumui, susidomėjo 11 darbdavių. Programoje dalyvavo 25 jaunuoliai (14−21 m.) Savanoriškos tarnybos įgyvendinimą rajone koordinuoja LPF „Tavo svajonė“. Programos veikloje dalyvavo 13 jaunuolių
...

Sheet 02 Socialinės gerovės
B2: Programos uždavinio, priemonės kodas ir požymis | C2: Uždavinio, priemonės pavadinimas, finansavimo šaltiniai | D2: Veiklos kodas | E2: Veiklos pavadinimas | F2: Atsakingas vykdytojas | G2: Finansavimo šaltinis | H2: Numatomi 2025 m. asignavimai ir kitos lėšos, tūkst. Eur | I2: Numatomi 2025 m. asignavimai ir kitos lėšos, tūkst. Eur | J2: Vertinimo kriterijai
J3: Pavadinimas | K3: Planuota reikšmė | L3: Pasiekta reikšmė | M3: Komentarai, pastabos, nukrypimų nuo plano priežastys
B5: 02 SOCIALINĖS GEROVĖS UŽTIKRINIMAS
B6: 002-01-01 (T, P) | C6: Sudaryti sąlygas gyventojams stiprinti sveikatą, kurti ir plėtoti su sveikatos stiprinimu susijusias paslaugas | H6: =SUM(H7:H9) -> 170.7 | I6: =SUM(I7:I9) -> 123.8
B7: 002-01-01-01 (TP) | C7: Visuomenės sveikatos rėmimo specialiosios programos priemonių įgyvendinimas | D7: 1 | E7: Programos priemonių sveikatos projektų konkurso organizavimas, sutarčių su vykdytojais parengimas, priemonių įgyvendinimo koordinavimas ir kontrolė; užkrečiamųjų ligų plano priemonių vykdymo kontrolė | F7: Patarėja (sveikatos reikalų koordinatorė) | G7: SB (AA) | H7: 144.2 | I7: 106.1 | J7: Visuomenės sveikatos rėmimo specialiosios programos įgyvendinimas, proc. | K7: 100 | L7: 100 | M7: Programa įgyvendinta lėtinių ir užkrečiamųjų ligų prevencijos, psichinės sveikatos stiprinimo, aplinkos sveikatinimo bei fizinio aktyvumo skatinimo srityse. Iš viso finansuota 20 atrinktų sveikatos projektų, o bendrai pagal poveikio sritis paremta 36 bendruomenių vykdytos priemonės | XFD7: =SUBTOTAL(9,A7:XFC7) -> 450.3
B8: 002-01-01-03 (PP) | C8: Projekto "Kokybiškų visuomenės sveikatos paslaugų prieinamumo didinimas Kėdainių rajone" įgyvendinimas | D8: 1 | E8: ES projekto, kurį įgyvendina Visuomenės sveikatos biuras, koordinavimas, užtikrinant projekto kofinansavimą | F8: Strateginio planavimo ir investicijų skyrius, Apskaitos skyrius | G8: SB | H8: 26.5 | I8: 17.7 | J8: Asmenų, dalyvavusių sveikatos raštingumo didinimo veiklose, skaičius | K8: 225 | L8: 226 | M8: Pradėtos įgyvendinti Visuomenės sveikatos biuro administruojamo projekto veiklos, skirtos sveikos gyvensenos skatinimui, ligų prevencijos ir sveikatos priežiūros svarbos didinimui, sveikos mitybos bei fizinio aktyvumo skatinimui, taip pat psichikos sveikatos paslaugų prieinamumo, kokybės ir švietimo gerinimui.
B10: 02-01-02 (T, P) | C10: Siekti gyventojų sveikatos išsaugojimo, gerinant sveikatos priežiūros paslaugų kokybę ir prieinamumą | H10: =SUM(H11:H25) -> 321.7 | I10: =SUM(I11:I25) -> 314
B11: 002-01-02-01 (TP) | C11: E. sveikatos informacinės sistemos palaikymo ir tobulinimo VšĮ Kėdainių PSPC 2024–2027 m. programa | D11: 1 | E11: Sutarčių su vykdytojais suderinimas, programos koordinavimas ir jos vykdymo kontrolė, ataskaitos rinkimas | F11: Patarėja (sveikatos reikalų koordinatorė) | G11: SB | H11: 17.5 | I11: 17.5 | J11: Atnaujintos ir E. sveikatos IS funkcionalumui pritaikytos įrangos kompl. skaičius | K11: 3 | L11: 4 | M11: Įgyvendinant programą užtikrintas E. sveikatos informacinės sistemos funkcionalumų palaikymas: siuntimų išrašymas, instrumentinių tyrimų registravimas, neįgalumo ir darbingumo lygio nustatymo duomenų tvarkymas, įstaigos resursų administravimas, e. receptai, ataskaitų ir analizių formavimas, tyrimų rezultatų valdymas, pacientų perregistravimas, prevencinių programų administravimas, nedarbingumo pažymėjimų tvarkymas, IS ir SVDPT vartų bei prieigų priežiūra, laboratorinės informacinės sistemos priežiūra. Taip pat įsigytas 1 komplektas aptarnavimo paslaugų.
B12: 002-01-02-02 (TP) | C12: E. sveikatos informacinės sistemos palaikymo ir tobulinimo VšĮ Kėdainių ligoninė 2024–2027 m. programa | D12: 1 | E12: Sutarčių su vykdytojais suderinimas, programos koordinavimas ir jos vykdymo kontrolė, ataskaitos rinkimas | F12: Patarėja (sveikatos reikalų koordinatorė) | G12: SB | H12: 10 | I12: 10 | J12: Pacientų patenkintų E. sveikata rezultatais: pacientų, pasinaudojančių E. sveikatos paslaugų prieinamumu, IPR (išankstinės pacientų registracijos) skaičiaus didėjimas (proc.) | K12: 2 | L12: 2 | M12: Įgyvendinant programą įdiegtas spendimas SIGN ON TAB pacientų dokumentų pasirašymas planšetiniuose kompiuteriuose. Įgyvendinta SPĮ IS integracija su ELAB posisteme. Įdiegti papildomi spendimai į SPĮ IS: E090/a Pranešimas apie nustatytą onkologinį susirgimą. E058 Pranešimas apie nustatytą (įtariamą) infekcinį susirgimą ar būklę). 2025 m. įstaigos IPR rodiklis– 100 proc.
B13: 002-01-02-03 (TP) | C13: Kėdainių rajono tuberkuliozės prevencijos, ankstyvosios diagnostikos, gydymo ir kontrolės 2023–2027 m. programa | D13: 1 | E13: Sutarčių su vykdytojais suderinimas, programos koordinavimas ir jos vykdymo kontrolė, ataskaitos rinkimas | F13: Patarėja (sveikatos reikalų koordinatorė) | G13: SB | H13: 3 | I13: 3 | J13: Atliktų tyrimų /suteiktų paslaugų skaičius per metus | K13: 1300 /~300 | L13: 914 /408 | M13: Įgyvendinant programą pirkti tuberkulino mėginiai ir priemonės, vykdyta rizikos grupių asmenų ankstyvoji diagnostika
B14: 002-01-02-04 (TP) | C14: Žemo slenksčio paslaugų kokybės užtikrinimo Kėdainių rajone 2023-2027 m. programa | D14: 1 | E14: Sutarčių su vykdytojais suderinimas, programos koordinavimas ir jos vykdymo kontrolė, ataskaitos rinkimas | F14: Patarėja (sveikatos reikalų koordinatorė) | G14: SB | H14: 7.8 | I14: 7.8 | J14: Apsilankymai (kartais) žemo slenksčio paslaugų kabinetuose per metus | K14: ~2000 | L14: 2845 | M14: Programos lėšomis teiktos stacionarios Žemo slenksčio kabinete ir mobilios paslaugos 2 639 lankytojams, įsigytos priemonės (atrankiniai greitieji ŽIV, hepatitų C, B, sifilio testai, vienkartinės dezinfekcinės, žaizdų gydymo priemonės, utilizavimo konteineriai ir transportavimo įranga (krepšiai) mobilioms paslaugoms teikti. Pasiektas didesnis rodiklis dėl papildomo finansavimo iš Respublikinio priklausomybės ligų centro
B15: 002-01-02-05 (TP) | C15: Pirminės asmens sveikatos priežiūros paslaugų prieinamumo ir kokybės užtikrinimo Kėdainių rajono kaimiškųjų vietovių gyventojams programą | D15: 1 | E15: Sutarčių su vykdytojais suderinimas, programos koordinavimas ir jos vykdymo kontrolė, ataskaitos rinkimas | F15: Patarėja (sveikatos reikalų koordinatorė) | G15: SB | H15: 85.4 | I15: 79.1 | J15: Pacientų, patenkintų pirminės asmens sveikatos priežiūros paslaugų kokybe, skaičiaus didėjimas (proc.). | K15: 2 | L15: 2 | M15: Įgyvendinant programą dalinai finansuotos ambulatorijų ir medicinos punktų komunalinės išlaidos, teiktos mobilaus medicinos punkto paslaugos. Kiekvieno apsilankymo metu suteikta nuo 2 iki 5 medicininių (taip pat ir profilaktinio darbo) slaugos paslaugų: vertinama paciento būklė, pagal poreikį matuojamas kraujospūdis, atliekama kardiograma, kraujo tyrimai, prižiūrimos pragulos, tvarstomos žaizdos, leidžiami vaistai ir kt. Suteiktų paslaugų skaičius - 18616 kartų. Mobilaus med. punkto apsilankymų skaičius - 4654. Mažiau panaudota lėšų, nes nuomos mokestis už Lančiūnavos ambulatorijos patalpas bus sumokėtas 2026 m.
B16: 002-01-02-06 (TP) | C16: Endoskopinių paslaugų prieinamumo ir kokybės gerinimo Kėdainių rajono savivaldybėje 2020-2025 m. programa | D16: 1 | E16: Sutarčių su vykdytojais suderinimas, programos koordinavimas ir jos vykdymo kontrolė, ataskaitos rinkimas | F16: Patarėja (sveikatos reikalų koordinatorė) | G16: SB | H16: 10.5 | I16: 10.5 | J16: Atliktų endoskopijų ir kolonoskopijų skaičius per metus | K16: ~1800 | L16: 2733 | M16: Programos lėšomis buvo mokamos lizingo įmokos už endoskopinę įrangą su vežimėliu bei endoskopų plovimo ir dezinfekavimo mašiną. 2025 m. atliktos 1 896 endoskopijos ir 837 kolonoskopijos.
B17: 002-01-02-07 (TP) | C17: Mamografijos paslaugų tęstinumo, kokybės gerinimo Kėdainių rajono savivaldybėje 2020-2025 m. programa | D17: 1 | E17: Sutarčių su vykdytojais suderinimas, programos koordinavimas ir jos vykdymo kontrolė, ataskaitos rinkimas | F17: Patarėja (sveikatos reikalų koordinatorė) | G17: SB | H17: 3.1 | I17: 3.1 | J17: Atliktų mamografijų ir vertinimo paslaugų skaičius per metus | K17: ~1800 | L17: 8378 | M17: Programos lėšomis mokamos lizingo įmokos už skaitmenizuoto mamografo įsigijimą, atlikta mamografijų ir vertinimo paslaugų. Labai aktyviai dirbta viešinimo srityje
B18: 002-01-02-08 (TP) | C18: Anestezijos paslaugų vaikams ir suaugusiesiems kokybės gerinimo Kėdainių rajono savivaldybėje 2022-2027 m. programa | D18: 1 | E18: Sutarčių su vykdytojais suderinimas, programos koordinavimas ir jos vykdymo kontrolė, ataskaitos rinkimas | F18: Patarėja (sveikatos reikalų koordinatorė) | G18: SB | H18: 25.3 | I18: 25.3 | J18: Atliktų bendrųjų anestezijų skaičius per metus | K18: ~1482 | L18: 2022 | M18: Finansuotos lizingo įmokos už įsigytus 2 vnt. anestezijos aparatų su paciento gyvybinių funkcijų montavimo sistema bei elektros energijos generatorius. Os įrangos dėka yra galimybė atlikti daugiau dienos chirurgijos paslaugų ir kitų operacijų savalaikio užtikrinimo
B19: 002-01-02-09 (TP) | C19: Rentgeno paslaugų atnaujinimo, kokybės gerinimo Kėdainių rajono savivaldybėje 2022-2027 m. programa | D19: 1 | E19: Sutarčių su vykdytojais suderinimas, programos koordinavimas ir jos vykdymo kontrolė, ataskaitos rinkimas | F19: Patarėja (sveikatos reikalų koordinatorė) | G19: SB | H19: 28.3 | I19: 28.2 | J19: Atliktų rentgenologinių tyrimų skaičius/trumpesnės registracijos rentgeno tyrimui eilės, dienomis | K19: ~10000/ 4 d. | L19: ~33399/ 0 d. | M19: Programos lėšomis mokėtos lizingo įmokos už skaitmeninis rentgeno diagnostikos medicinos prietaisą. Per metus rentgeno paslaugų suteikta per 33 tūkst... Įsigytu nauju, moderniu rentgeno aparatu užtikrinamas nepertraukiamas rentgeno diagnostinių paslaugų prieinamumas gyventojams. Eilių į rentgeno procedūra nėra
B20: 002-01-02-10 (TP) | C20: Kompiuterinės tomografijos paslaugų kokybės gerinimo Kėdainių rajono savivaldybėje 2023-2030 m. programa | D20: 1 | E20: Sutarčių su vykdytojais suderinimas, programos koordinavimas ir jos vykdymo kontrolė, ataskaitos rinkimas | F20: Patarėja (sveikatos reikalų koordinatorė) | G20: SB | H20: 52.1 | I20: 52.1 | J20: Atliktų tyrimų skaičius per metus | K20: ~3000 | L20: 5995 | M20: Programos lėšomis mokėtos lizingo įmokos už įsigytą tomografą. Kabineto darbo našumas padidėjo, nes naujuoju tomografu (skanuojant 128 sluoksnių) daug greitesnis skanavimo laikas. Paprastesnis paciento paruošimas, ypač tiems, kuriems reikalingas deguonis. Mažesnė pacientų apšvita, kontrastiniai tyrimai tikslesni tyrimo metu. Atlikta integracija su medicininėmis IS ir MedVAIS
B21: 002-01-02-11 (TP) | C21: VšĮ Kėdainių ligoninės sterilizacinės modernizavimo 2023-2028 m. programa | D21: 1 | E21: Sutarčių su vykdytojais suderinimas, programos koordinavimas ir jos vykdymo kontrolė, ataskaitos rinkimas | F21: Patarėja (sveikatos reikalų koordinatorė) | G21: SB | H21: 31.4 | I21: 31.2 | J21: Sutrumpėjusi sterilizavimo proceso trukmė | K21: ~45 min | L21: 35 | M21: Programos lėšomis mokėtos lizingo įmokos už įsigytą dezinfekcijos ir sterilizavimo įrangą. Įsigijus naujus sterilizatorius vienu metu per 1,5 val. galima sterilizuoti 600 l kiekį, tuo tarpu senaisiais aparatais vienu metu sterilizuodavo apie 400 l. Kadangi sterilizuojama vienu metu didesnis kiekis, pati sterilizavimo trukmė bendrai sumažėjo apie 35 min.
B22: 002-01-02-12 (TP) | C22: Odontologijos paslaugų plėtros Kėdainių rajono savivaldybėje 2024-2027 m. programa | D22: 1 | E22: Sutarčių su vykdytojais suderinimas, programos koordinavimas ir jos vykdymo kontrolė, ataskaitos rinkimas | F22: Patarėja (sveikatos reikalų koordinatorė) | G22: SB | H22: 15.4 | I22: 15.4 | J22: Suteiktų odontologinių paslaugų skaičius per metus | K22: ~400 | L22: 293 | M22: Programos lėšomis įmokėta pradinė įmoka už įsigytą ordontologinę įrangą. Mažiau paslaugų suteikta dėl odontologijos kabinetų perkėlimo iš administracinio korpuso, ruošiantis planuojamiems remonto darbams. Buvo suremontuotos ir pritaikytos naujos patalpos, o veikla atnaujinta 2025-09-15.
B23: 002-01-02-13 (TP) | C23: Vaikų, turinčių autizmo spektro ir kitų raidos sutrikimų, sveikatos stiprinimas, galimybių siekti asmeninės pažangos, pilnaverčio socialinio dalyvavimo prielaidų užtikrinimas | D23: 1 | E23: Veiklos projektų konkurso organizavimas | F23: Patarėja (sveikatos reikalų koordinatorė) | G23: SB | H23: 15 | I23: 14 | J23: Finansuotų projektų skaičius | K23: 3 | L23: 3 | M23: Finansuoti Asociacijos "Kėdainių lietaus vaikai", Šeimų asociacijos "Irvidora" ir VšĮ "Gerų patirčių namai" projektai
B24: 002-01-02-14 (PP) | C24: Projekto "Mobilių komandų aprūpinimas įranga Kėdainių rajono savivaldybėje" įgyvendinimas | D24: 1 | E24: Projekto užbaigimo dokumentacijos teikimas | F24: Strateginio planavimo ir investicijų skyrius, Apskaitos skyrius | G24: ES | H24: 13.9 | I24: 13.9 | J24: Mobilių komandų, aprūpintų įranga teikti paslaugas namuose, skaičius | K24: 1 | L24: 1 | M24: Projektas įgyvendintas, apmokėta kompensavimo būdu, 2025 m. kompensuotos ES ir SVBV lėšos. Įsigyta reikalinga medicininė ir kita reikalinga įranga ambulatorines slaugos paslaugas namuose teikiančiai mobiliai komandai
G25: SBVB | H25: 3 | I25: 2.9
B26: 02-01-03 (T) | C26: Pritraukti naujus bei išlaikyti esamus sveikatos priežiūros specialistus | H26: =SUM(H27:H29) -> 197.4 | I26: =SUM(I27:I29) -> 195.6
B27: 002-01-03-01 (TP) | C27: Sveikatos priežiūros specialistų skatinimo dirbti VšĮ Kėdainių PSPC 2023-2028 m. programa | D27: 1 | E27: Sutarčių su vykdytojais suderinimas, programos koordinavimas ir jos vykdymo kontrolė, ataskaitos rinkimas | F27: Patarėja (sveikatos reikalų koordinatorė) | G27: SB | H27: 98 | I27: 98 | J27: Taikomų paskatų priemonių skaičius | K27: 3 | L27: 3 | M27: Programoje numatytomis skatinamosiomis priemonėmis pasinaudojo 11 naujai atvykusių specialistų (6 šeimos gydytojai, 4 gydytojai odontologai ir 1 medicinos psichologas). Sveikatos priežiūros specialistams (40 asmenų), gyvenantiems kituose miestuose ar nuo darbo vietos nutolusiose teritorijose, buvo kompensuojamos kelionės išlaidos
B28: 002-01-03-02 (TP) | C28: Trūkstamos sveikatos priežiūros specialistų skatinimo dirbti VšĮ Kėdainių ligoninėje 2023-2026 m. programa | D28: 1 | E28: Sutarčių su vykdytojais suderinimas, programos koordinavimas ir jos vykdymo kontrolė, ataskaitos rinkimas | F28: Patarėja (sveikatos reikalų koordinatorė) | G28: SB | H28: 94.4 | I28: 94.4 | J28: Taikomų paskatų priemonių skaičius | K28: 4 | L28: 4 | M28: Programoje numatytomis priemonėmis pasinaudojo 138 sveikatos priežiūros specialistai. Pritraukta trūkstamos profesinės kvalifikacijos gydytojų 20: vidaus ligų gydytojas - 1, anesteziologai – reanimatologai – 3, oftalmologai – 2, gydytojai rezidentai– 3, kineziterapeutai – 2, endoskopuotojai – 1, šeimos gydytojai – 1, medicinos gydytojai - 6, medicinos psichologas - 1; taip pat bendrosios praktikos slaugytojai – 3, paramedikai - 2.
B29: 002-01-03-03 (TP) | C29: Trūkstamos sveikatos priežiūros specialistų skatinimo dirbti Visuomenės sveikatos biure 2024-2027 m. programa | D29: 1 | E29: Sutarčių su vykdytojais suderinimas, programos koordinavimas ir jos vykdymo kontrolė, ataskaitos rinkimas | F29: Patarėja (sveikatos reikalų koordinatorė) | G29: SB | H29: 5 | I29: 3.2 | J29: Taikomų paskatų priemonių skaičius | K29: 1 | L29: 1 | M29: Programoje numatytomis priemonėmis 9 specialistams kompensuotos vykimo į darbą ir iš darbo išlaidos
B30: 02-01-04 (T, P) | C30: Modernizuoti ir atnaujinti sveikatos priežiūros įstaigų infrastruktūrą sveikatos gerinimo poreikiams | H30: =SUM(H31:H47) -> 1158 | I30: =SUM(I31:I47) -> 977.7
B31: 002-01-04-01 (TP) | C31: VšĮ Kėdainių PSPC Psichiatrijos dienos stacionaro paslaugų plėtra ir infrastruktūros pritaikymas specialiesiems neįgaliųjų poreikiams | D31: 1 | E31: Sutarčių su vykdytojais suderinimas, programos koordinavimas ir jos vykdymo kontrolė, ataskaitos rinkimas | F31: Patarėja (sveikatos reikalų koordinatorė) | G31: SB | H31: 82.8 | I31: 0 | J31: Atlikti keltuvo įrengimo ir patalpų pritaikymo darbai, proc./ pagerintomis infrastruktūros sąlygomis besinaudojančių pacientų skaičius | K31: 100/~125 | L31: 0 | M31: Pagal parengtą techninį projektą vykdyti rangos viešojo pirkimo procedūros. Konkursas įvyko, tačiau mažiausia pasiūlytą tiekėjų kaina žymiai viršijo darbams numatytą sumą, todėl sutartis nebuvo sudaryta. 2026 m. bus vykdomas naujas pirkimas.
B32: 002-01-04-02 (TP) | C32: Kėdainių rajono kaimo gyventojų sveikatos gerinimo poreikių užtikrinimas, modernizuojant ir (ar) atnaujinant ambulatorijų infrastruktūrą | D32: 1 | E32: Sutarčių su vykdytojais suderinimas, programos koordinavimas ir jos vykdymo kontrolė, ataskaitos rinkimas | F32: Patarėja (sveikatos reikalų koordinatorė) | G32: SB | H32: 23 | I32: 14 | J32: Ambulatorijų skaičius, kuriose pagerinta infrastruktūra /pagerintomis infrastruktūros sąlygomis besinaudojančių pacientų skaičius | K32: 1/ ~900 | L32: 1/ 789 | M32: 2025 m. vykdyti Šėtos ambulatorijos šildymo sistemos pertvarkymo ir atnaujinimo darbai
B33: 002-01-04-03 (TP) | C33: Tinkamų ir saugių darbo sąlygų užtikrinimo, įrengiant vėdinimo bei kondicionavimo sistemas VšĮ Kėdainių ligoninėje 2023-2028 m. programa | D33: 1 | E33: Sutarčių su vykdytojais suderinimas, programos koordinavimas ir jos vykdymo kontrolė, ataskaitos rinkimas | F33: Patarėja (sveikatos reikalų koordinatorė) | G33: SB | H33: 30.6 | I33: 30.6 | J33: Patalpų, kuriose įrengta vėdinimo (kondicionavimo) sistema, skaičius | K33: 31 | L33: 29 | M33: Programos lėšomis įsigyti kondicionieriai įrengti Neurologijos (8), Odontologijos (3), Vidaus ligų (10), Konsultacijų poliklinikos (4), Radiologijos (2) skyriuose, Sterilizacinėje (2)
B34: 002-01-04-04 (TP) | C34: VšĮ Kėdainių ligoninės karšto ir šalto vandens vamzdynų ir šilumos punkto modernizavimo 2025 m. programa | D34: 1 | E34: Sutarčių su vykdytojais suderinimas, programos koordinavimas ir jos vykdymo kontrolė, ataskaitos rinkimas | F34: Patarėja (sveikatos reikalų koordinatorė) | G34: SB | H34: 112 | I34: 112 | J34: Atlikta einamaisiais metais numatytų darbų, proc. / modernizuotų šilumos punktų proc. | K34: 100/100 | L34: 100/50 | M34: Prieš modernizuojant 5 šilumos punktus, pirmiausia reikėjo atlikti Šilumos ūkio galimybių studiją, atlikti 5 šilumos punktų projektavimo darbus ir parengti 5 punktų techninį pajungimo projektą. Šie darbai užtruko, nes reikėjo keisti šilumos punktų technines sąlygas, todėl per 2025 m. buvo spėta atlikti tik šiuos darbus, atsižvelgiant į laiko sąnaudas
B35: 002-01-04-05 (TP) | C35: VšĮ Kėdainių ligoninės operacinio bloko modernizavimo ir atnaujinimo 2025 m. programa | D35: 1 | E35: Sutarčių su vykdytojais suderinimas, programos koordinavimas ir jos vykdymo kontrolė, ataskaitos rinkimas | F35: Patarėja (sveikatos reikalų koordinatorė) | G35: SB | H35: 160 | I35: 160 | J35: Atlikta einamaisiais metais numatytų ortopedijos-traumatologijos operacinių atnaujinimo darbų, proc. | K35: 100 | L35: 100 | M35: Programos lėšomis pertvarkytos ir atnaujintos 4 operacinės
B36: 002-01-04-06 (TP) | C36: Efektyvių ir kokybiškų pirminės sveikatos centro priežiūros paslaugų užtikrinimo gyventojams, atnaujinant Kėdainių PSPC infrastruktūra 2025 m. programa | D36: 1 | E36: Sutarčių su vykdytojais suderinimas, programos koordinavimas ir jos vykdymo kontrolė, ataskaitos rinkimas | F36: Patarėja (sveikatos reikalų koordinatorė) | G36: SB | H36: 23 | I36: 23 | J36: Atliktas stogo dangos paprastasis remontas, proc. | K36: 100 | L36: 100 | M36: Programos lėšomis vykdyti PSPC pastato stogo remonto darbai
B37: 002-01-04-07 (PP) | C37: Projekto "Sveikatos centro sudėtyje teikiamų sveikatos priežiūros paslaugų infrastruktūros modernizavimas Kėdainių rajono savivaldybėje" įgyvendinimas | D37: 1 | E37: ES projekto, kuris įgyvendinamas su partneriais, koordinavimas, informacijos apie įgyvendinamas veiklas, mokėjimo prašymų įgyvendinančioms institucijoms teikimas | F37: Strateginio planavimo ir investicijų skyrius, Apskaitos skyrius | G37: ES | H37: 300 | I37: 308.9 | J37: Projekto veiklų įgyvendinimo proc. | K37: 15 | L37: 15 | M37: Pradėtos projekto įgyvendinimo veiklos. Projekte dalyvauja Kėdainių PSPC, Kėdainių ligoninė, klinika Armedika, Kėdainių šeimos klinika. Pasirašyta rangos sutartis dėl Odontologijos skyriaus remonto darbų, kurie metų eigoje buvo sustabdyti dėl Klinikinės diagnostikos ir patologijos laboratorijos iškėlimo procedūrų. Kėdainių ligoninė įsigijo endoskopinės ir laparoskopinės įrangos komplektus, endoskopų plovimo ir dezinfekcijos mašiną, operacinį šviestuvą, akumuliatorinius jėgos instrumentus bei retinoskopą. Kėdainių šeimos klinika įsigijo kompiuterinį kardiografą, kompiuterinį kraujospūdžio matuoklį ir holterio sistemą
G38: SB | H38: 0 | I38: 0
D39: 2 | E39: Odontologijos skyriaus remonto darbų viešojo pirkimo vykdymas, darbų koordinavimas, rangovo prisiimtų sutartinių įsipareigojimų vykdymo kontrolė | F39: Statybos skyrius | G39: SBVB | H39: 62.6 | I39: 54.5
B40: 002-01-04-08 (PP) | C40: Projekto "Ilgalaikės priežiūros paslaugų plėtojimo užtikrinimas" įgyvendinimas | D40: 1 | E40: Investicinio projekto parengimo viešųjų pirkimų organizavimas, tiekėjo prisiimtų sutartinių įsipareigojimų vykdymo kontrolė, projekto paraiškos parengimas ir įgyvendinančiai institucijai teikimas finansavimui gauti | F40: Strateginio planavimo ir investicijų skyrius | G40: SB | H40: 4 | I40: 0.4 | J40: Parengtų paraiškų / techninės dokumentacijos skaičius | K40: 1/1 | L40: 1/1 | M40: Pateikta paraiška, pasirašyta finansavimo sutartis ir rengiamas techninis projektas ilgalaikės priežiūros paslaugų plėtrai VšĮ Kėdainių ligoninėje. Numatyta atnaujinti esamas patalpas, statyti priestatą, įrengti paliatyviosios pagalbos dienos centrą ir stacionarą (lovų skaičius didės 10), gerinant paslaugų infrastruktūrą ir sąlygas pacientams.
D41: 2 | E41: Techninio projekto parengimo viešųjų pirkimų organizavimas, tiekėjo prisiimtų sutartinių įsipareigojimų vykdymo kontrolė | F41: Statybos skyrius | G41: ES | H41: 4 | I41: 2.3
B42: 002-01-04-09 (TP) | C42: Projekto "Sveikatos centro veiklos modelio diegimas Kėdainių rajono savivaldybėje" įgyvendinimas | D42: 1 | E42: ES projekto, kuris įgyvendinamas su partneriais, koordinavimas, informacijos apie įgyvendinamas veiklas, mokėjimo prašymų įgyvendinančioms institucijoms teikimas | F42: Strateginio planavimo ir investicijų skyrius, Patarėja (sveikatos reikalų koordinatorė), Apskaitos skyrius | G42: ES | H42: 70 | I42: 17.4 | J42: Paramą gavusių nacionalinio, regionų ar vietos lygmens viešojo administravimo ar viešąsias paslaugas teikiančių įstaigų skaičius | K42: 4 | L42: 4 | M42: Pradėtos įgyvendinti projekto veiklos, kuriose dalyvauja Kėdainių ligoninė, Kėdainių PSPC, Kėdainių šeimos klinika ir klinika „Armedika“. Apmokyti 22 daugiadalykės komandos specialistai, vykdyta 51 asmens, sergančio lėtinėmis ligomis, stebėsena savarankiškam ligos valdymui. Projekto metu įsigyti pacientų stebėjimui skirti prietaisai ir įranga: EKG aparatas, planšetiniai kompiuteriai, medicininės svarstyklės, nuotolinės sveikatos stebėsenos licencija ir įranga, diabeto valdymo rinkiniai ir kt.
G43: SBVB | H43: 6 | I43: 3.1
...

Sheet 03 Darnios aplinkos
B2: Programos uždavinio, priemonės kodas ir požymis | C2: Uždavinio, priemonės pavadinimas, finansavimo šaltiniai | D2: Veiklos kodas | E2: Veiklos pavadinimas | F2: Atsakingas vykdytojas | G2: Finansavimo šaltinis | H2: Numatomi 2025 m. asignavimai ir kitos lėšos, tūkst. Eur | I2: Numatomi 2025 m. asignavimai ir kitos lėšos, tūkst. Eur | J2: Vertinimo kriterijai
J3: Pavadinimas | K3: Planuota reikšmė | L3: Pasiekta reikšmė | M3: Komentarai, pastabos, nukrypimų nuo plano priežastys
B5: 03 DARNI APLINKA IR INFRASTRUKTŪROS PLĖTRA
B6: 003-01-01 (T) | C6: Remti ir vykdyti aplinkos kokybės gerinimo, aplinkos monitoringo ir kitas aplinkos apsaugos iniciatyvas | H6: =SUM(H7:H19) -> 296.1 | I6: =SUM(I7:I19) -> 244.7
B7: 003-01-01-01 (TP) | C7: Aplinkos kokybės gerinimas ir apsauga, visuomenės aplinkosauginis švietimas | D7: 1 | E7: Sosnovskio barščio naikinimo rajono seniūnijose koordinavimas | F7: Aplinkosaugos skyrius | G7: SB (AA) | H7: 158.6 | I7: 121.7 | J7: Invazinių augalų ugaviečių skaičiaus sumažėjimas Kėdainių r. sav., proc. | K7: 8 | L7: 8 | M7: Koordinuotas Sosnovskio barščio naikinimas Dotnuvos, krakių, Pelėdnagių, Šėtos, Vilainių, Surviliškio, Pernaravos bei Miesto seniūnijose bei organizuotas šio invazinio augalo gausos reguliavimo plano parengimas. Užtikrinta saugomų teritorijų apsauga, Nevėžio ir Dotnuvėlės upių pakrančių valymas, jūrinų erelių perimviečių stebėjimas bei Krakių II tvenkinio įžuvinimas pagal žuvų išteklių atkūrimo planą, finansuotos gelbėjimo ir cheminių avarijų padarinių likvidavimo priemonės. Vykdant aplinkosauginį švietimą, organizuota „Darnaus judumo savaitė“, surengtos virtualios realybės edukacijos „Žalioji viktorina“ bei finansuotas „Atžalyno“ gimnazijos dalyvavimas Gamtosauginių mokyklų programoje
D8: 2 | E8: Sosnovskio barščio gausos reguliavimo veiksmų plano parengimo viešųjų pirkimų organizavimas, plano rengimo koordinavimas | G8: SBVB | H8: 14.1 | I8: 14.1
D9: 3 | E9: Nevėžio, Dotnuvėlės upių, kitų telkinių pakrančių valymo darbų koordinavimas
D10: 4 | E10: Saugomų teritorijų apsaugos ir tvarkymo darbų koordinavimas
D11: 5 | E11: Jūrinių erelių perimviečių stebėjimo užtikrinimas
D12: 6 | E12: Gelbėjimo ir cheminių avarijų padarinių likvidavimo ir priemonių finansavimo užtikrinimas
D13: 7 | E13: Krakių II tvenkinio įžuvinimo pagal žuvų išteklių atkūrimo planą organizavimas
D14: 8 | E14: Visuomenės aplinkosauginio švietimo organizavimas
B15: 003-01-01-02 (TP) | C15: Aplinkos monitoringas, oro, dirvožemio, požeminio ir paviršinio vandens nuotekų tyrimai | D15: 1 | E15: Aplinkos monitoringo programos paslaugų įgyvendinimo koordinavimas | F15: Aplinkosaugos skyrius | G15: SB (AA) | H15: 25.7 | I15: 25.6 | J15: Pagal patvirtintą aplinkos monitoringo programą per pusmetį nustatytų teršalų koncentracijų verčių viršijimų dalis nuo visų atliktų tyrimų, proc. | K15: ne daugiau 5 | L15: 3 | M15: Vykdytas aplinkos oro, paviršinio ir požeminio vandens, dirvožemio bei aplinkos triukšmo monitoringas pagal Kėdainių rajono savivaldybės 2019–2024 metų ir 2025–2030 metų aplinkos monitoringo programas, Vykdyti suspenduotų kietųjų dalelių (SKD) matavimai aplinkos ore Kėdainių mieste, įverinant transporto, šildymo sistemų ir pramonės daromą įtaką vietos ekosistemai bei gyventojų sveikatai. Rezultatai: matavimai 4 miesto vietose atitiko Lietuvos ir ES teisės aktų reikalavimus, o gauti rezultatai neviršijo nustatytų saugių ribinių verčių
D16: 2 | E16: Aplinkos oro, dirvožemio, požeminio ir paviršinio vandens nuotekų tyrimų vykdymas
D17: 3 | E17: Aplinkos oro (KD) tyrimų organizavimas ir koordinavimas
B18: 003-01-01-03 (TP) | C18: Prevencinių priemonių, kuriomis siekiama išvengti medžiojamųjų gyvūnų daromos žalos miškui, įgyvendinimas | D18: 1 | E18: Medžioklės klausimų koordinavimas, dalyvavimas finansinės paramos medžiojamųjų gyvūnų daromos žalos prevencijos priemonėms įgyvendinti komisijoje | F18: Aplinkosaugos skyrius | G18: SB (AA) | H18: 57.7 | I18: 57.2 | J18: Per metus registruotų gyvūnų daromos žalos incidentų skaičius | K18: mažesnis ne pernai | L18: didesnis nei pernai | M18: 2025 m. medžiojamųjų gyvūnų padarytos žalos įvertinimo prašymus pateikė dvigubai daugiau subjektų nei 2024 m. (16 --> 31): iš viso pastatyta 11,85 km tvorų, apsaugant 96,54 ha žemės ir miško plotų, o 8,3 ha plote repelentais nutepta 13 740 eglės sodinukų.Vietoj planuoto žalos incidentų skaičiaus mažėjimo stebimas visų rodiklių (subjektų, prašymų, aktų ir piniginės žalos) augimas. Stumbrų padaryta žala sudaro didelę dalį bendros sumos, taip pat matomas augimas dėl kitų žvėrių padarytos žalos augimo, o vilkų daroma žala fiksuota minimali
B19: 003-01-01-04 (TP) | C19: Individualių nuotekų valymo įrenginių kompensavimas gyventojams | D19: 1 | E19: Priemonės koordinavimas ir viešinimas | F19: Aplinkosaugos skyrius | G19: SB (AA) | H19: 40 | I19: 26.1 | J19: Per metus patenkintų prašymų dalis, proc., nuo gautų prašymų skaičiaus | K19: 90 | L19: 100 | M19: 46 fiziniams asmenims iš dalies kompensuotos individualių nuotekų valymo įrenginių įsigijimo išlaidos
B20: 003-01-02 (T) | C20: Tobulinti atliekų tvarkymo bei aplinkos išsaugojimo sistemą, užtikrinti estetišką aplinką | H20: =SUM(H21:H28) -> 3353.4 | I20: =SUM(I21:I28) -> 3193
B21: 003-01-02-01 (TP) | C21: Atliekų tvarkymo sistemos organizavimas | D21: 1 | E21: Priemonės įgyvendinimo koordinavimas | F21: Aplinkosaugos skyrius, Apskaitos skyrius | G21: SB | H21: 2000 | I21: 1999.9 | J21: Gautų skundų dėl nesklandaus komunalinių atliekų tvarkymo sistemos veikimo, skaičiaus mažėjimas (kasmet), proc. | K21: 5 | L21: 5 | M21: Gyventojų paklausimai dėl atliekų tvarkymo per metus buvo nagrinėjami nuolat – telefonu, el. paštu ir raštu. Kiekvienas atvejis įvertintas individualiai. Dalis situacijų kilo ne dėl paslaugų teikimo trūkumų, o dėl objektyvių aplinkybių: gyventojai nesilaikė išvežimo grafiko, konteineriai buvo neprieinami dėl uždarytų vartų ar neprivažiuojamų kiemų, sudėtingų oro sąlygų. Esant perpildytiems konteineriams, paslaugų teikėjas Econovus visada informuotas ir įpareigotas laikytis sutarties sąlygų. Dėl šių priežasčių paklausimų skaičius sumažėjo, o dauguma jų buvo išspręsti operatyviai.
D22: 2 | E22: Susidariusių atliekų tvarkymas, vartų mokesčio mokėjimas | F22: Apskaitos skyrius | G22: SB | H22: 896.4 | I22: 839.6
D23: 3 | E23: Suteiktų lengvatų už vietinę rinkliavą už komunalinių atliekų surinkimą kompensavimas | F23: Apskaitos skyrius
B24: 003-01-02-02 (PP) | C24: Projekto "Rūšiuojamojo atliekų surinkimo skatinimas Kėdainių rajono savivaldybėje" įgyvendinimas | D24: 1 | E24: ES projekto paraiškos rengimui reikalingos informacijos teikimas Kauno RAC, projekto techninės dokumentacijos rengimo viešojo pirkimo organizavimas, tiekėjo prisiimtų sutartinių įsipareigojimų vykdymo kontrolė | F24: Aplinkosaugos skyrius | G24: SB | H24: 0 | I24: 0 | J24: Techninės dokumentacijos parengimas | K24: 0 | L24: 0 | M24: Techninės dokumentacijos parengimas
G25: ES | H25: 0 | I25: 0
B26: 003-01-02-05 (TP) | C26: Susidariusių atliekų surinkimas, transportavimas, tvarkymas, konteinerių, kompostavimo dėžių įsigijimas | D26: 1 | E26: Konteinerių, kompostavimo dėžių įsigijimo viešųjų pirkimų organizavimas, tiekėjų prisiimtų sutartinių įsipareigojimų vykdymo kontrolė | F26: Aplinkosaugos skyrius | G26: SB | H26: 277.9 | I26: =159.2+1.4 -> 160.6 | J26: Komunalinių atliekų tvarkymo sistemos įgyvendinimas pagal Kėdainių r. sav. atliekų prevencijos ir tvarkymo 2021-2027 m. planą, proc. | K26: 90 | L26: 98 | M26: Vykdytos aplinkosauginės iniciatyvos, apimančios aktyvų visuomenės informavimą (62 pranešimai apie rūšiavimą, 6 – apie maisto švaistymą bei 5 – apie „Daiktų atiduotuvę“) ir praktinį infrastruktūros plėtojimą (pvz., įrengtos dvi geriamojo vandens kolonėlės bei surinkta ir sutvarkyta 77,32 t maisto atliekų). Pradėtos dalinti komposto dėžės, pasirašytas regioninis susitarimas dėl „švediško stalo“ principo diegimo ugdymo įstaigose maisto švaistymui mažinti bei įvertintos galimybės prekybos vietose grąžinti nepanaudotus medžiagų likučius. Be to, visus metus buvo skatinamos pilietinės šiukšlių rinkimo iniciatyvos platformoje „Darom“, 2 kartus per metus organizuotas pavojingų atliekų surinkimas apvažiavimo būdu, o atliekų tvarkymo kontrolė užtikrinta atlikus 40 planinių ir neplaninių patikrinimų
D27: 2 | E27: Atliekų, kurių turėtojo nustatyti neįmanoma arba kuris nebeegzistuoja, tvarkymo priemonių organizavimas ir vykdymas | G27: SB (AA) | H27: 137.1 | I27: 150.9
D28: 3 | E28: Komunalinių atliekų registro programinės priemonės tvarkymui | G28: SBVB | H28: 42 | I28: 42
B29: 003-01-03 (T) | C29: Prižiūrėti, tvarkyti savivaldybės viešąsias teritorijas, gerinti kraštovaizdžio apsaugą, didinti jo patrauklumą | H29: =SUM(H30:H36) -> 379.9 | I29: =SUM(I30:I36) -> 326.7
B30: 003-01-03-02 (TP) | C30: Kapinių teritorijų plėtra, atnaujinimas, kolumbariumų įrengimas, kapinių skaitmeninimas | D30: 1 | E30: Daškonių kapinių plėtros ir gyvūnų kapinių įrengimo techninio projekto parengimo koordinavimas | F30: Statybos skyrius | G30: SB | H30: 35 | I30: 24.4 | J30: Naujų kolumbariumų skaičius / suskaitmenintų kapinių skaičius | K30: 1/4 | L30: 1/4 | M30: 2025 m. Šėtos miestelio kapinėse įrengtas 36 vietų kolumbariumas, taip pat sėkmingai suskaitmenintos Šėtos mstl., Pagirių k., Gėlainių k., Josvainių mstl., Krakių miestelio naujosios (Peštiniukų k.) ir senosios kapinės. koordinuotas Daškonių kapinių plėtros ir gyvūnų kapinių įrengimo techninio projekto parengimas
B31: 003-01-03-03 (TP) | C31: Bešeimininkių ir bepriežiūrių gyvūnų surinkimas, karantinavimas, priežiūra | D31: 1 | E31: Sudarytų sutarčių su paslaugų vykdytojais koordinavimas | F31: Aplinkosaugos skyrius | G31: SB | H31: 24.4 | I31: 10.7 | J31: Suteikta laikina globa bešeimininkiams gyvūnams, proc. | K31: 100 | L31: 100 | M31: Įgyvendinant gyvūnų gerovės priemones, sugaudyta ir sterilizuota bei nuo pasiutligės paskiepyta 118 bešeimininkių kačių. Taip pat sugauti ar iš namų paimti 29 bešeimininkiai bei bepriežiūriai gyvūnai, 25 iš jų paženklinti mikroschemomis, bei užtikrintas gaišenų surinkimas iš viešųjų erdvių
B32: 003-01-02-04 (TP) | C32: Apleistų (bešeimininkių ar savivaldybei nuosavybės teise priklausančių) pastatų ar kitų aplinką žalojančių objektų likvidavimas | D32: 1 | E32: Viešųjų pirkimų organizavimas, rangovo prisiimtų sutartinių įsipareigojimų vykdymo kontrolė | F32: Turto valdymo skyrius | G32: SB | H32: 26.5 | I32: 26.5 | J32: Likviduotų objektų skaičius | K32: 4 | L32: 4 | M32: Buvo likviduoti keli aplinką ir gyventojų saugumą žalojantys objektai: nugriautas apleistas gyvenamasis namas su priklausiniais Vytauto g. 64 Dotnuvoje, pašalintas bešeimininkis garažas Ruokio g. 5 Akademijoje, likviduotas apleistas artezinis šulinys su trasomis Sangailų kaime bei demontuota nenaudojama buitinių nuotekų valykla Aristavos kaime
B33: 003-01-03-05 (TP) | C33: Želdynų ir želdinių apsauga, tvarkymas, būklės stebėsena, gėlynų kūrimas | D33: 1 | E33: Želdinių priežiūros, naujų želdinių įveisimo organizavimas ir koordinavimas, bendradarbiavimas su seniūnijomis | F33: Aplinkosaugos skyrius | G33: SB (AA) | H33: 116.3 | I33: 115.4 | J33: Seniūnijų skaičius, kuriose įgyvendinamos želdynų ir želdinių apsaugos, tvarkymo, būklės stebėsenos, želdynų kūrimo, želdinių veisimo ir inventorizavimo priemonės | K33: 11 | L33: 11 | M33: Seniūnijoms skirtos lėšos želdiniams įsigyti, želdynams prižiūrėti, atliktas viešųjų erdvių apželdinimas Kėdainių mieste daugiamečiais augalais, įsigytos biologinės apsaugos priemonės kaštonams apsaugoti, atnaujinta želdynų ir želdinių apsaugos, tvarkymo ir priežiūros dokumentacija
D34: 2 | E34: Miesto gėlynų, gėlinių ir dekoratyvinių krūmų priežiūros ir apželdinimo organizavimas ir koordinavimas | G34: SB | H34: =92.5+24.5+18.2 -> 135.2 | I34: 149.7
B35: 003-01-03-06 (PP) | C35: Projekto "Žaliosios infrastruktūros Kėdainių miesto urbanizuotoje aplinkoje plėtojimas" įgyvendinimas | D35: 1 | E35: ES projekto paraiškos įgyvendinančiai institucijai teikimas | F35: Strateginio planavimo ir investicijų skyrius, Aplinkosaugos skyrius | G35: SB | H35: 0 | I35: 0 | J35: Parengta paraiška | K35: 1 | L35: 1 | M35: Parengtas techninis projektas ir surengtos konsultacijos su visuomene dėl miesto viešųjų erdvių atnaujinimo. Numatyta sutvarkyti teritorijas Chemikų ir Respublikos gatvių daugiabučių kvartale, Didžiosios gatvės skvere (prie Kėdainių butų) bei Smilgos upės slėnyje – čia bus formuojami želdynai, modernizuojama žalioji infrastruktūra ir įrengiami laidžios dangos takai, gerinant aplinkos estetiką ir patrauklumą gyventojams
G36: ES | H36: 42.5 | I36: 0
B37: 003-01-04 (T) | C37: Rengti, atnaujinti teritorijų planavimo ir kitus dokumentus, sudarant sąlygas darniai infrastruktūros plėtrai | H37: =SUM(H38:H40) -> 295 | I37: =SUM(I38:I40) -> 270.2
B38: 003-01-04-01 (TP) | C38: Dokumentų, padedančių užtikrinti darnią rajono savivaldybės teritorijų plėtrą, rengimas | D38: 1 | E38: Specialiųjų, detaliųjų, geodezinių planų rengimo viešųjų pirkimų organizavimas, teikiamų paslaugų koordinavimas, paslaugų teikėjo prisiimtų sutartinių įsipareigojimų vykdymo kontrolė | F38: Architektūros ir urbanistikos skyrius | G38: SB | H38: 135 | I38: 134.8 | J38: Parengtų teritorijų planavimo dokumentų (specialiųjų, detaliųjų, bendrųjų, geodezinių, žemės sklypų formavimo ir pertvarkymo, kadastrinių matavimų ir kt.) skaičius | K38: ~40 | L38: 48 | M38: Rengti žemės sklypų formavimo ir pertvarkymo projektai, atlikti žemės sklypų paženklinimo darbai, parengtos ir tikslintos kadastro bylos bei žemės sklypų kadastro duomenys. Taip pat parengtos architektūros kokybės kriterijų vertinimo metodikos gairės. Per ataskaitinį laikotarpį užbaigtas Pelėdnagių kaimo detalusis planas, specialusis planas Upytės keliui bei Birutės gatvės projektiniai sprendiniai Kėdainių miesto seniūnijos Daukšių ir Paeismilgio kaimuose
B39: 003-01-04-02 (TP) | C39: Investicinių projektų, planų, paraiškų, kitos techninės dokumentacijos rengimas paramai gauti | D39: 1 | E39: Projektinių pasiūlymų, paraiškų ir kitos dokumentacijos parengimo organizavimas ir kontrolė | F39: Strateginio planavimo ir investicijų skyrius | G39: SB | H39: 60 | I39: 47.5 | J39: Parengtos dokumentacijos skaičius | K39: 10 | L39: 8 | M39: Parengti 8 investiciniai projektai, auditai ir įgyvendinimo planai, sudarantys pagrindą teikti paraiškas ES ir kitų finansavimo šaltinių paramai gauti savivaldybės infrastruktūros gerinimo ir plėtros projektams įgyvendinti
B40: 003-01-04-03 (TP) | C40: Išmokos pagal savivaldybės infrastruktūros plėtros sutartis (SĮP) | D40: 1 | E40: Priemonės koordinavimas | F40: Architektūros ir urbanistikos skyrius | G40: SB | H40: 100 | I40: 87.9 | J40: Sudarytų sutarčių išmokai gauti skaičius einamaisiais metais / iš viso bendras | K40: pagal subjektų prašymus | L40: 1/6 | M40: 2025 m. 58 subjektai kreipėsi dėl savivaldybės infrastruktūros plėtros įmokos apskaičiavimo. Per metus gauta 5,34 tūkst. Eur prioritetinių ir 42,75 tūkst. Eur neprioritetinių įmokų. Taip pat panaudota 87,91 tūkst. Eur neprioritetinių įmokų lėšų išmokai AB „Kauno grūdai“ pagal infrastruktūros plėtros sutartį už Stoties gatvės (Kėdainių m.) privažiavimo kelio projektavimo ir kapitalinio remonto darbus
B41: 003-01-05 (T) | C41: Užtikrinti inžinerinio aprūpinimo (vandentiekio, nuotekų tinklų ir kt.) sistemų atnaujinimą ir plėtrą | H41: =SUM(H42:H47) -> 547.1 | I41: =SUM(I42:I47) -> 373.5
B42: 003-01-05-01 (PP) | C42: Projekto "Geriamojo vandens tiekimo ir nuotekų tvarkymo paslaugų prieinamumo didinimas Kėdainių rajone" įgyvendinimas | D42: 1 | E42: Projekto, kurį įgyvendina UAB "Kėdainių vandenys", kofinansavimo dalies užtikrinimas | F42: Apskaitos skyrius, Strateginio planavimo ir investicijų skyrius | G42: SB | H42: 284.1 | I42: 230.4 | J42: Įgyvendinta projekto veiklų, proc. (iš viso) | K42: 10 | L42: 8 | M42: Įgyvendinant projektą 2025 m. parengti Miegėnų, Kalnaberžės, Krakių ir Meironiškių kaimų vandentvarkos techniniai projektai bei atliktos jų ekspertizės, rengiamas Beinaičiuose TP. Pasirašytos sutartys dėl rangos darbų Šlapaberžėje ir Akademijoje (apimant Tilto, Vingio, Lauko, Dobilo, Pievų ir Kranto gatves). Akademijoje pradėti numatyti inžinerinių tinklų tiesimo darbai
...

Sheet 04 Ekonominės plėtros
B3: Programos uždavinio, priemonės kodas ir požymis | C3: Uždavinio, priemonės pavadinimas, finansavimo šaltiniai | D3: Veiklos kodas | E3: Veiklos pavadinimas | F3: Atsakingas vykdytojas | G3: Finansavimo šaltinis | H3: Numatomi 2025 m. asignavimai ir kitos lėšos, tūkst. Eur | I3: Numatomi 2025 m. asignavimai ir kitos lėšos, tūkst. Eur | J3: Vertinimo kriterijai
J4: Pavadinimas | K4: Planuota reikšmė | L4: Pasiekta reikšmė | M4: Komentarai, pastabos, nukrypimų nuo plano priežastys
B6: 04 EKONOMINĖ PLĖTRA
B7: 004-01-01 (T, P) | C7: Stiprinti savivaldybės institucijų ir verslo įmonių bendradarbiavimą, sudaryti palankias sąlygas sumanios pramonės ir logistikos srities verslų atsiradimui, plėtrai bei investicijų pritraukimui | H7: =SUM(H8:H11) -> 1619.4 | I7: =SUM(I8:I11) -> 1339.9
B8: 004-01-01-01 (TP) | C8: VšĮ Kėdainių turizmo ir verslo informacijos centro efektyvios veiklos užtikrinimas verslo srityje | D8: 1 | E8: Priemonės įgyvendinimo koordinavimas | F8: Administracijos direktorius | G8: SB | H8: 45 | I8: 45 | J8: Suteiktų informacinių, konsultacinių paslaugų ūkio subjektams ir asmenims pagal paklausimus skaičius, val. | K8: ~520 | L8: 520 | M8: 2025 m. Kėdainių TVIC įgyvendino viešųjų paslaugų verslui programą – teikė informaciją ir individualias konsultacijas pradedantiesiems bei veikiantiems verslams, administravo Smulkiojo verslo rėmimo fondą, atnaujino savivaldybės įmonių duomenų bazę, analizavo ir viešino verslo situacijos rodiklius, aktyviai skleidė informaciją apie paramos galimybes ir teisės aktų pokyčius bendradarbiaujant su partnerių institucijomis. Siekiant stiprinti rajono verslo žinomumą, organizuotas tradicinis Verslo dienos renginys, kartu su Švietimo pagalbos tarnyba surengta Verslo savaitė moksleiviams, inicijuotas nacionalinės žiniasklaidos atstovų vizitas į rajono įmones, o didžiuosiuose šalies portaluose viešintos Kėdainių verslų sėkmės istorijos, taip prisidedant prie palankios verslo aplinkos formavimo ir investicinio patrauklumo didinimo
B9: 004-01-01-02 (TP) | C9: Finansinės paramos teikimas per Savivaldybės smulkiojo verslo rėmimo fondą | D9: 1 | E9: Priemonės įgyvendinimo koordinavimas | F9: Administracijos direktorius | G9: SB | H9: 40 | I9: 17.3 | J9: Subjektų, kuriems suteikta finansinė parama, skaičius | K9: 12 | L9: 9 | M9: Smulkiojo verslo rėmimo fondo parama pasinaudojo 9 verslo subjektai. Iš viso verslininkams skirta 17 287,91 Eur parama. Parama teikta darbo priemonių ir įrangos įsigijimo, rinkodaros priemonių, interneto svetainių kūrimo, mokymų ir negyvenamųjų patalpų nuomos išlaidų daliniam kompensavimui. Populiariausia paramos priemonė – darbo priemonių / įrangos įsigijimo išlaidų dalinis kompensavimas, kuriai teko didžiausia skirta lėšų dalis ((pasinaudojo 7 pradedančiųjų veiklą įmonių). Vidutinis finansinės paramos dydis vienam verslo subjektui buvo 1 920,87 Eur.
B10: 004-01-01-03 (PP) | C10: Dalyvavimas projekte "Inkubavimo, konsultavimo, mentorystės ir tinklaveikos programų vystymas, skatinant pradedančiųjų SVV subjektų kūrimąsi ir augimą regionuose" partnerio teisėmis | D10: 1 | E10: Projekto veiklų koordinavimas, partnerio kofinansavimo dalies užtikrinimas | F10: Strateginio planavimo ir investicijų skyrius | G10: SB | H10: 4 | I10: 3.2 | J10: Projekte dalyvaujančių verslo subjektų skaičius | K10: 10 | L10: 12 | M10: Projektas subūrė 12 įvairių sričių verslo atstovų, kuriems buvo suteiktos individualios ekspertų konsultacijos, mentorystė bei verslo inkubavimo paslaugos veiklos stiprinimui. Grupiniai susitikimai padėjo stiprinti vietos verslo bendruomeniškumą, skatinti partnerystes ir užtikrinti tvarią pradedančiųjų verslų plėtrą Kėdainių rajone.
