Workbook

Sheet 01šviet.
I1: Kėdainių rajono savivaldybės tarybos
I2: 2023 m. rugsėjo 29 d. sprendimo Nr. TS- 238
I3: priedas
A5: Kėdainių rajono savivaldybės 2023-2025 metų strateginio veiklos plano programų
A6: strateginius tikslus įgyvendinančių programų asignavimų priedai
J7: 1 priedas
A8: 1 lentelė. 2023–2025 m. Švietimo ir ugdymo programos (01) tikslai, uždaviniai, priemonės, asignavimai ir vertinimo kriterijai
K9: tūkst. Eur
A10: Programos tikslo kodas | B10: Uždavinio kodas | C10: Priemonės kodas | D10: Priemonės pavadinimas | E10: Finansavimo šaltinis | F10: * 2023-ųjų m. asignavimai | G10: Patikslinti 2023-ųjų m. asignavimai | H10: Numatomi 2024-ųjų m. asignavimai | I10: Numatomi 2025-ųjų m. asignavimai | J10: Vertinimo kriterijai
J11: Pavadinimas
K12: 2023 -ieji m. | L12: 2024 -ieji m. | M12: 2025 -ieji m.
A15: 01 ŠVIETIMAS IR UGDYMAS
A16: 01 | B16: Plėtoti kokybišką, visiems prieinamą, tęstinę švietimo sistemą savivaldybėje
A17: 01 | B17: 01 | C17: Sudaryti prielaidas ugdymo kokybei gerinti, mažinti ugdymo kokybės skirtumus tarp mokyklų, didinti pedagogų motyvaciją
A18: 01 | B18: 01 | C18: 01 | D18: Vykdyti švietimo programų įgyvendinimą ir užtikrinti tinkamą ugdymo(si) aplinką | E18: SBVB | F18: 18159.2 | G18: 18585.6 | H18: 18990 | I18: 19650 | J18: Vaikų skaičius ikimokyklinio ugdymo grupėse | K18: 1400 | L18: 1350 | M18: 1300
J19: Vaikų skaičius priešmokyklinio ugdymo grupėse | K19: 400 | L19: 370 | M19: 350
E20: SB | F20: 11471.7 | G20: 12251.4 | H20: 13500 | I20: 13900 | J20: Bendrojo ugdymo mokyklas lankančiųjų mokinių skaičius | K20: 5200 | L20: 5150 | M20: 5150
E21: ES | F21: 100 | G21: 100 | H21: 50 | I21: 50 | J21: Nelankančių bendrojo ugdymo mokyklų vaikų iki 16 metų skaičius | K21: 0 | L21: 0 | M21: 0
E22: ĮP | F22: 925.3 | G22: 925.3 | H22: 925 | I22: 925
A23: 01 | B23: 01 | C23: 02 | D23: Užtikrinti ugdymo programų įgyvendinimą ir tinkamą ugdymo (si) aplinką Kėdainių Dailės, Kalbų ir Muzikos mokyklose | E23: SBVB | F23: 59.6 | G23: 59.6 | H23: 64 | I23: 69 | J23: Vaikų, lankančių neformaliojo vaikų švietimo mokyklas, skaičius | K23: 1370 | L23: 1370 | M23: 1370
E24: SB | F24: 1654.8 | G24: 1800.4 | H24: 1950 | I24: 2080
E25: ĮP | F25: 252 | G25: 252 | H25: 252 | I25: 252
A26: 01 | B26: 01 | C26: 03 | D26: Teikti kvalifikuotą švietimo pagalbą mokiniui, mokytojui, mokyklai | E26: SBVB | F26: 747.9 | G26: 747.8 | H26: 750 | I26: 750 | J26: Organizuotų kvalifikacijos tobulinimo renginių skaičius / kvalifikaciją ir kompetenciją tobulinusių pedagogų, pagalbos mokinių specialistų, vadovų skaičius | K26: 150 / 3500 | L26: 150 / 3500 | M26: 150 / 3500
E27: SB | F27: 139.6 | G27: 150 | H27: 165 | I27: 171
E28: ĮP | F28: 19.4 | G28: 19.4 | H28: 19.5 | I28: 19.5
A29: 01 | B29: 01 | C29: 04 | D29: Organizuoti brandos egzaminų sesiją, pagrindinio ugdymo pasiekimų patikrinimą, nacionalinį mokinių pasiekimų patikrinimą bei tyrimus | E29: SBVB | F29: 9.6 | G29: 9.6 | H29: 9.6 | I29: 9.6 | J29: Brandos egzaminus laikančiųjų skaičius | K29: 370 | L29: 370 | M29: 370
A30: 01 | B30: 01 | C30: 05 | D30: Vykdyti neformaliojo vaikų švietimo programas | E30: SBVB | F30: 265 | G30: 261.6 | H30: 270 | I30: 275 | J30: Įgyvendinamų programų skaičius | K30: 66 | L30: 70 | M30: 70
E31: SB | F31: 245.1 | G31: 245.1 | H31: 283 | I31: 303
A32: 01 | B32: 01 | C32: 06 | D32: Įgyvendinti neformaliojo suaugusiųjų švietimo ir tęstinio mokymosi veiksmų planą | E32: SB | F32: 7 | G32: 7 | H32: 7 | I32: 7 | J32: Įgyvendintų programų skaičius | K32: 10 | L32: 10 | M32: 10
A33: 01 | B33: 01 | C33: 07 | D33: Įgyvendinti mokytojų ir pagalbos mokiniui specialistų motyvacijos programą | E33: SB | F33: 95 | G33: 95 | H33: 100 | I33: 120 | J33: Savivaldybės švietimo įstaigose dirbančių mokytojų, specialistų, kurie paskatinti, skaičius | K33: 780 | L33: 780 | M33: 780
A34: 01 | B34: 01 | C34: 08 | D34: Vykdyti socialinio - emocinio ugdymo programas | E34: SB | F34: 30.2 | G34: 30.2 | H34: 0 | I34: 0 | J34: Įstaigų, kuriose vykdomos socialinio - emocinio ugdymo programos, skaičius | K34: 23 | L34: 23 | M34: 23
A35: 01 | B35: 01 | C35: 09 | D35: Kompensuoti švietimo įstaigų darbuotojų važiavimo į/iš darbo išlaidas | E35: SB | F35: 98.9 | G35: 98.9 | H35: 100 | I35: 105 | J35: Mokytojų ir kitų ugdymo procese dalyvaujančių specialistų, kuriems kompensuojamos išlaidos, skaičius | K35: 247 | L35: 250 | M35: 250
A36: 01 | B36: 01 | C36: 10 | D36: Vykdyti skaitmeninio ugdymo plėtrą | E36: SBVB | F36: 52.1 | G36: 52.1 | H36: 100 | I36: 100 | J36: Įstaigų, plečiančių skaitmeninimą, skaičius | K36: 7 | L36: 12 | M36: 12
A37: 01 | B37: 01 | C37: 11 | D37: Finansuoti vaikų vasaros stovyklų ir kitų neformaliojo vaikų švietimo veiklų programas | E37: SB | F37: 50 | G37: 50 | H37: 50 | I37: 50 | J37: Finansuotų vaikų vasaros poilsio ir užimtumo programų skaičius | K37: 36 | L37: 36 | M37: 36
A38: 01 | B38: 01 | C38: 12 | D38: Skatinti savivaldybės gabius mokinius | E38: SB | F38: 17 | G38: 9 | H38: 17 | I38: 17 | J38: Mokinių, kuriems skirti piniginiai prizai, skaičius | K38: 153 | L38: 150 | M38: 150
E39: PR | F39: 0 | G39: 7 | H39: 0 | I39: 0
A40: 01 | B40: 01 | C40: 13 | D40: Įgyvendinti "Tūkstantmečio mokyklos I" projektą | E40: ES | F40: 250 | G40: 567 | H40: 1500 | I40: 433 | J40: Programoje, dalyvaujančių įstaigų skaičius | K40: 16 | L40: 16 | M40: 16
E41: VB | F41: 0 | G41: 100 | H41: 315 | I41: 46
A42: 01 | B42: 01 | C42: 14 | D42: Koofinansuoti ugdymo įstaigų dalyvavimą infrastruktūros gerinimo/modernizavimo projektuose | E42: SB | F42: 20 | G42: 5 | H42: 20 | I42: 20 | J42: Įstaigų, kurioms skirtas finansavimas, skaičius | K42: 1 | L42: 2 | M42: 2
A43: 01 | B43: 01 | C43: 15 | D43: Organizuoti ir užtikrinti Švietimo skyriaus specialistų darbą | E43: SB | F43: 178.7 | G43: 178.7 | H43: 189 | I43: 193 | J43: Kuruojamų švietimo įstaigų skaičius | K43: 27 | L43: 27 | M43: 27
...

Sheet 01 prgr 01 01 07 priemone
A1: KĖDAINIŲ RAJONO SAVIVALDYBĖS MOKYTOJŲ IR PAGALBOS MOKINIUI SPECIALISTŲ MOTYVACIJOS PROGRAMA
A3: I SKYRIUS
A4: BENDROSIOS NUOSTATOS
A6: 1. Kėdainių rajono savivaldybės mokytojų, dirbančių pagal ikimokyklinio, priešmokyklinio, pradinio, pagrindinio, vidurinio, specialiojo ugdymo, neformaliojo švietimo programas, ir pagalbos mokiniui specialistų (psichologų, specialiųjų pedagogų, tiflopedagogų, surdopedagogų, logopedų, socialinių pedagogų) (toliau kartu vadinama – Pedagogai) motyvacijos programa (toliau – Programa) parengta atsižvelgiant į Lietuvos pažangos strategiją „Lietuva 2030“, Valstybinės švietimo 2013–2022 metų strategijos nuostatas, Lietuvos Respublikos švietimo, mokslo ir sporto ministerijos analizę „Lietuva. Švietimas šalyje ir regionuose 2022. Įtraukusis ugdymas“, Kėdainių rajono savivaldybės administracijos Švietimo skyriaus švietimo stebėsenos rodiklius, Programa siekiama prisidėti prie idėjos Lietuvai „Mokytojas – prestižinė profesija iki 2025 metų“ įgyvendinimo Kėdainių rajono savivaldybėje (toliau – Savivaldybė). Programos tikslas – imtis priemonių, kaip užtikrinti reikiamą Pedagogų poreikį ugdymo procesui organizuoti ir pritraukti Pedagogus dirbti švietimo įstaigose (toliau – mokykla).
A7: 2. Programa taikoma mokykloms, kurių savininkė yra Kėdainių rajono savivaldybės taryba.
A8: 3. Apraše vartojamos sąvokos:
A9: 3.1. motyvacija – priemonės ir metodai Pedagogus į mokyklas pritraukti;
A10: 3.2. trūkstamas Pedagogas – pedagogas, apie kurio poreikį ir laisvą vietą mokykloje paskelbta Švietimo, mokslo ir sporto ministerijos sukurtoje platformoje ieškantiems mokytojų, turintis teisę dalyvauti Pedagogų pritraukimo Programoje.
A12: II SKYRIUS
A13: SITUACIJOS ANALIZĖ
A15: 4. Valstybinės švietimo 2013–2022 m. strategijos (toliau – Strategija) tiksluose ir švietimo kaitos kryptyse (uždaviniuose) pažymima, jog „svarbi parama jaunam, pradedančiam veiklą mokytojui ir dėstytojui sukuriant palankias sąlygas karjerai“. Vienas Strategijos tikslų – mokytojo asmenybė: „pasiekti tokį pedagoginių bendruomenių lygį, kai jų daugumą sudaro apmąstantys, nuolat tobulėjantys ir rezultatyviai dirbantys profesionalūs mokytojai ir dėstytojai“. Šiam Strategijos tikslui pasiekti numatomos veiklos kryptys (uždaviniai): „motyvuoti gabius jaunus žmones rinktis karjerą formaliojo ir neformaliojo švietimo įstaigose“; „stiprinti motyvaciją suteikiant galimybių mokytojams ir dėstytojams nuolat tobulinti kvalifikaciją, plečiant kultūrinį akiratį, didinant šiuolaikinių technologijų išmanymą, orientuojantis į kūrybiškumo, pilietiškumo, lyderystės, verslumo ugdymą ir atrandant įvairesnį pedagoginių funkcijų spektrą.“
A16: 5. Lietuvos Respublikos švietimo, mokslo ir sporto ministerijos analizėje „Lietuva. Švietimo būklės apžvalga 2018. Gera mokykla“ pabrėžiama, kad Savivaldybėje reikia ieškoti priemonių mažinant miesto ir kaimo pagrindinio ugdymo programos mokinių mokymosi pasiekimų skirtumus; pritraukti daugiau jaunų mokytojų į savivaldybės mokyklas; tvarkyti mokyklų tinklą, didinti mokinių, vežiojamų į kaimo gimnazijas ar pagrindines mokyklas, skaičių.
... A22: 11. Į Savivaldybės bendrojo ugdymo, ikimokyklinio ugdymo ir neformaliojo vaikų švietimo mokyklas jaunų pedagogų dirbti ateina vis mažiau. 2022–2023 mokslo metais pedagogai iki 30 m. amžiaus tesudaro tik 2 proc., panaši tendencija buvo 2020 ir 2021 m. analizėse. Sulaukusių 60 m. ir vyresnio amžiaus pedagogų dalis sudaro 25 procentus (žr. 2 diagramą).
A26: 1 diagrama. Pedagogų skaičius 2020–2022 m. | C26: 2 diagrama. Pedagogų pasiskirstymas pagal pedagogų amžių
A29: 12. Švietimo, mokslo ir sporto ministerijos sukurtoje pedagogų poreikio platformoje 2022 m. lapkričio mėnesį Kėdainių r. savivaldybės švietimo įstaigos siūlė darbą 11 pedagogų: 3 psichologams, 2 fizikos mokytojams, 1 logopedui, socialiniam pedagogui, pradinio ugdymo, biologijos, chemijos ir matematikos mokytojui.
A31: III SKYRIUS
A32: PROGRAMOS ĮGYVENDINIMO PRIEMONIŲ PLANAS
A34: 13. Programos įgyvendinimo laikotarpis – 2023–2025 m.
A35: 14. Programos įgyvendinimo priemonių plane numatytos šios prioritetinės veiklos sritys, orientuotos į Pedagogų motyvacijos didinimą:
A36: 14.1. Pedagogų darbo ir socialinių sąlygų gerinimas;
A37: 14.2. Pedagogų pritraukimo įgyvendinimas;
A38: 14.3. Pedagogų emocinės saugios, draugiškos aplinkos gerinimas;
A39: 14.4. Pedagogų kvalifikacijos, profesinių kompetencijų ir profesinio augimo tobulinimas;
A40: 14.5. Pedagogų skatinimas už kryptingą pedagoginę veiklą ir rezultatus;
A41: 14.6. Pedagogų ir socialinių partnerių bendradarbiavimo stiprinimas.
A42: 15. Pateikiamas detalus Pedagogų motyvacijos programos įgyvendinimo priemonių planas: (žr. 1 lentelę):
A44: 1 lentelė. Pedagogų motyvacijos programos įgyvendinimo priemonių planas
A45: Eil. Nr. | B45: Priemonės, veiklos* | C45: Vykdytojai, socialiniai partneriai | D45: Lėšų poreikis (Eur)
D46: 2023 m. | E46: 2024 m. | F46: 2025 m.
A47: 15.1. | B47: Pedagogų darbo ir socialinių sąlygų gerinimas | C47: Savivaldybės administracija, | D47: Savivaldybės tarybos sprendimas | E47: Savivaldybės tarybos sprendimas | F47: Savivaldybės tarybos sprendimas
B48: 15.1.1. Važiavimo dirbti išlaidų kompensavimas | C48: mokyklų vadovai
A49: 15.2. | B49: Trūkstamų Pedagogų pritraukimo įgyvendinimas | C49: Savivaldybės administracija, mokyklų vadovai
B50: 15.2.1. Skatinti mokyklas teikti paraiškas programai „Renkuosi mokyti“
B54: 15.2.2. Būsto nuomos dalinė kompensacija (3 Pedagogams iki 200 Eur / mėn., nuomos sutartis privalo būti įregistruota Nekilnojamo turto registre.
D55: 7200 | E55: 7200 | F55: 7200
D56: 4800
B57: 15.2.3. Persikėlimo išlaidų dalinis kompensavimas (300 Eur vienkartinė išmoka) | D57: 900 | E57: 900 | F57: 900
D58: 600
B59: 15.2.4. vienkartinė materialinė iki 2400 Eur išmoka (neatskaičius mokesčių) su sąlyga, kad į laisvą Pedagogo pareigybę švietimo įstaigoje priimtas asmuo įsipareigoja dirbti ne trumpiau kaip vienerius mokslo metus. | D59: 7 200 | E59: 7 200 | F59: 7200
D60: 4800
...

Sheet 02sveikat.
J1: 2 priedas
A2: 2 lentelė. 2023–2025 m. Sveikatos apsaugos (02) programos tikslai, uždaviniai, priemonės, asignavimai ir vertinimo kriterijai
J3: tūkst. Eur
A4: Programos tikslo kodas | B4: Uždavinio kodas | C4: Priemonės kodas | D4: Priemonės pavadinimas | E4: Finansavimo šaltinis | F4: * 2023-ųjų m. asignavimai | G4: Patikslinti 2023-ųjų m. asignavimai | H4: Numatomi 2024-ųjų m. asignavimai | I4: Numatomi 2025-ųjų m. asignavimai | J4: Vertinimo kriterijai
J5: Pavadinimas
K6: 2023 -ieji m. | L6: 2024 -ieji m. | M6: 2025 -ieji m.
A9: 02 SVEIKATOS APSAUGA
A10: 01 | B10: Stiprinti ir išsaugoti gyventojų sveikatą
A11: 01 | B11: 01 | C11: Sudaryti sąlygas gyventojams stiprinti sveikatą, kurti ir plėtoti su sveikatos stiprinimu susijusias paslaugas
A12: 01 | B12: 01 | C12: 01 | D12: Vykdyti Visuomenės sveikatos rėmimo specialiosios programos priemones | E12: AA | F12: 132.4 | G12: 149 | H12: 93 | I12: 93 | J12: Visuomenės sveikatos rėmimo specialiosios programos įgyvendinimas, proc. | K12: 100 | L12: 100 | M12: 100
A13: 01 | B13: 01 | C13: 02 | D13: Užtikrinti Kėdainių rajono savivaldybės visuomenės sveikatos biuro veiklą, vykdant visuomenės sveikatos priežiūros funkcijas | E13: SB | F13: 61.3 | G13: 68.6 | H13: 72 | I13: 76 | J13: Visuomenės sveikatos priežiūros funkcijų vykdymas, proc. | K13: 100 | L13: 100 | M13: 100
E14: SBVB | F14: 504.8 | G14: 504.8 | H14: 520 | I14: 530
E15: ĮP | F15: 23 | G15: 23 | H15: 23 | I15: 23
A16: 01 | B16: 01 | C16: 03 | D16: Peržiūrėti neveiksniais pripažintų asmenų būklę | E16: SBVB | F16: 1.8 | G16: 1.8 | H16: 1.8 | I16: 1.8 | J16: Asmenų, kurių neveiksnumas peržiūrėtas, skaičius | K16: 60 | L16: 60 | M16: 60
A17: 01 | B17: 01 | C17: 04 | D17: Gerinti pirminės asmens sveikatos priežiūros paslaugų teikimo prieinamumą tuberkuliozės srityje | E17: SB | F17: 0.6 | G17: 0.6 | H17: 0 | I17: 0 | J17: Tuberkulioze sergančių pacientų, kuriems buvo suteiktos socialinės paramos priemonės tuberkuliozės gydymo metu | K17: 4
E18: ES | F18: 7.2 | G18: 7.2 | H18: 0 | I18: 0
E19: VB | F19: 0.6 | G19: 0.6 | H19: 0 | I19: 0
A20: 01 | B20: 01 | C20: 05 | D20: Įgyvendinti projektą "Jaunimui palankios sveikatos priežiūros paslaugos" ir užtikrinti jo tęstinumą | E20: SB | F20: 15 | G20: 15 | H20: 19 | I20: 19 | J20: Tikslinių grupių asmenys, dalyvaujantys projekte skaičius | K20: 500 | L20: 600 | M20: 600
E21: ES | F21: 21 | G21: 21 | H21: 0 | I21: 0
A22: 01 | B22: 01 | C22: 06 | D22: Aprūpinti ikimokyklinio ugdymo įstaigų sveikatos kabinetus metodinėmis priemonėmis | E22: SB | F22: 16 | G22: 16 | H22: 0 | I22: 0 | J22: Ikimokyklinio ir mokyklinio ugdymo įstaigų sveikatos kabinetų, kuriuose atliktas remontas/ kabinetų, aprūpintų metodinėmis priemonėmis, skaičius | K22: 10/29
E23: ES | F23: 16.4 | G23: 16.4 | H23: 0 | I23: 0
E24: VB | F24: 2.6 | G24: 2.6 | H24: 0 | I24: 0
A25: 01 | B25: 01 | C25: 07 | D25: Užtikrinti projekto "Neįtikėtini metai" tęstinumą | E25: SB | F25: 5.3 | G25: 1.6 | H25: 15.8 | I25: 15.8 | J25: Projekte dalyvaujančiųjų skaičius | K25: 10 | L25: 30 | M25: 30
A26: 01 | B26: 01 | C26: Iš viso uždaviniui | F26: =SUM(F12:F25) -> 808 | G26: =SUM(G12:G25) -> 828.2 | H26: =SUM(H12:H25) -> 744.6 | I26: =SUM(I12:I25) -> 758.6
A27: 01 | B27: Iš viso tikslui | F27: =+F26 -> 808 | G27: =+G26 -> 828.2 | H27: =+H26 -> 744.6 | I27: =+I26 -> 758.6
A28: 02 | B28: Gerinti sveikatos priežiūros paslaugų kokybę ir prieinamumą, plėsti paslaugų spektrą, atnaujinti materialinę aplinką
A29: 02 | B29: 01 | C29: Siekti gyventojų sveikatos išsaugojimo, gerinant sveikatos priežiūros paslaugų kokybę ir prieinamumą
A30: 02 | B30: 01 | C30: 01 | D30: Vykdyti E. sveikatos informacinės sistemos palaikymo ir tobulinimo VšĮ Kėdainių PSPC ir VšĮ Kėdainių ligoninėje 2022-2026 m. programą | E30: SB | F30: 20 | G30: 20 | H30: 20 | I30: 20 | J30: Atnaujintos ir E. sveikatos IS funkcionalumui pritaikytos įrangos kompl. skaičius | K30: 6 | L30: 6 | M30: 6
E31: PR | F31: 42.2 | G31: 42.2 | H31: 42.2 | I31: 42.2
A32: 02 | B32: 01 | C32: 02 | D32: Vykdyti Kėdainių rajono tuberkuliozės prevencijos, ankstyvosios diagnostikos, gydymo ir kontrolės 2023–2027 m. programą | E32: SB | F32: 1.8 | G32: 1.8 | H32: 3 | I32: 3 | J32: Atliktų tyrimų ir paslaugų sk. | K32: 380 | L32: 380 | M32: 380
E33: PR | F33: 1.8 | G33: 1.8 | H33: 0.6 | I33: 0.6
A34: 02 | B34: 01 | C34: 03 | D34: Vykdyti pirminės asmens sveikatos priežiūros paslaugų prieinamumo ir kokybės užtikrinimo Kėdainių rajono kaimiškųjų vietovių gyventojams 2017–2025 m. programą | E34: SB | F34: 65 | G34: 75 | H34: 65 | I34: 65 | J34: Pacientų, patenkintų pirminės asmens sveikatos priežiūros paslaugų kokybe, skaičiaus didėjimas (proc.). | K34: 3 | L34: 3 | M34: 3
A35: 02 | B35: 01 | C35: 04 | D35: Vykdyti ambulatorinės akušerinės ir ginekologinės pagalbos kokybės gerinimo Kėdainių rajono savivaldybės moterims 2019-2024 m. programą | E35: SB | F35: 7 | G35: 7 | H35: 3 | I35: 0 | J35: Įsigytos įrangos skaičius/ vidutinis atliktų ultragarsinių tyrimų skaičius | K35: 285 | L35: 285
A36: 02 | B36: 01 | C36: 05 | D36: Vykdyti endoskopinių paslaugų prieinamumo ir kokybės gerinimo Kėdainių rajono savivaldybėje 2020-2025 m. programą | E36: SB | F36: 21.1 | G36: 21.1 | H36: 21.1 | I36: 10.5 | J36: Įsigytos įrangos skaičius / atliktų endoskopijų ir kolonoskopijų skaičius | K36: 1800 | L36: 1800 | M36: 1800
A37: 02 | B37: 01 | C37: 06 | D37: Vykdyti mamografijos paslaugų tęstinumo, kokybės gerinimo Kėdainių rajono savivaldybėje 2020-2025 m. programą | E37: SB | F37: 19.1 | G37: 19.1 | H37: 19.1 | I37: 3.1 | J37: Įsigytos įrangos skaičius / atliktų mamografijų ir vertinimo paslaugų skaičius per metus | K37: 1800 | L37: 1800 | M37: 1800
A38: 02 | B38: 01 | C38: 07 | D38: Vykdyti anestezijos paslaugų vaikams ir suaugusiesiems kokybės gerinimo Kėdainių rajono savivaldybėje 2022-2027 m. programą | E38: SB | F38: 25.9 | G38: 75.9 | H38: 25.9 | I38: 25.9 | J38: Atliktų bendrųjų anestezijų skaičius per metus | K38: 1482 | L38: 1482 | M38: 1482
E39: PR | F39: 0 | G39: 0 | H39: 0 | I39: 0
A40: 02 | B40: 01 | C40: 08 | D40: Vykdyti rentgeno paslaugų atnaujinimo, kokybės gerinimo Kėdainių rajono savivaldybėje 2022-2027 m. programą | E40: SB | F40: 28.5 | G40: 28.5 | H40: 28.3 | I40: 28.3 | J40: Atliktų rentgenologinių tyrimų skaičius/trumpesnės registracijos rentgeno tyrimui eilės, dienomis | K40: 10000/ 4 d. | L40: 10000/ 4 d. | M40: 10000/ 4 d.
A41: 02 | B41: 01 | C41: 09 | D41: Vykdyti tinkamų ir saugių darbo sąlygų užtikrinimo, įrengiant vėdinimo bei kondicionavimo sistemas VšĮ Kėdainių ligoninėje 2023-2028 m. programą | E41: SB | F41: 50.7 | G41: 50.7 | H41: 50.7 | I41: 50.7 | J41: Patalpų, kuriose įrengta vėdinimo (kondicionavimo) sistema, skaičius | K41: 39 | L41: 39 | M41: 39
A42: 02 | B42: 01 | C42: 10 | D42: Vykdyti tinkamų ir saugių darbo sąlygų užtikrinimo, įrengiant vėdinimo bei kondicionavimo sistemas VšĮ Kėdainių PSPC 2022-2026 m. programą | E42: SB | F42: 37.7 | G42: 37.7 | H42: 37.7 | I42: 36.4 | J42: Patalpų, kuriose įrengta vėdinimo (kondicionavimo) sistema, skaičius | K42: 29 | L42: 29 | M42: 28
...

Sheet 03social.
J1: 3 priedas
A2: 3 lentelė. 2023–2025 m. Socialinės apsaugos plėtojimo programos (03) tikslai, uždaviniai, priemonės, asignavimai ir vertinimo kriterijai
K3: tūkst. Eur
A4: Programos tikslo kodas | B4: Uždavinio kodas | C4: Priemonės kodas | D4: Priemonės pavadinimas | E4: Finansavimo šaltinis | F4: * 2023-ųjų m. asignavimai | G4: Patikslinti 2023-ųjų m. asignavimai | H4: Numatomi 2024-ųjų m. asignavimai | I4: Numatomi 2025-ųjų m. asignavimai | J4: Vertinimo kriterijai
J5: Pavadinimas
K6: 2023 -ieji m. | L6: 2024 -ieji m. | M6: 2025 -ieji m.
A9: 03 SOCIALINĖS APSAUGOS PLĖTOJIMAS
A10: 01 | B10: Organizuoti socialinę paramą ir skatinti socialinę integraciją
A11: 01 | B11: 01 | C11: Organizuoti Lietuvos Respublikos teisės aktuose numatytos paramos bei paslaugų asmenims ir šeimoms teikimą
A12: 01 | B12: 01 | C12: 01 | D12: Teikti ir administruoti paramą mirties atveju, teikti ir administruoti socialines išmokas bei kompensacijas (būsto šildymo išlaidų, išlaidų šaltam bei nuotekoms ir išlaidų karštam vandeniui) | E12: SBVB | F12: 398.5 | G12: 398.5 | H12: 425 | I12: 425 | J12: Asmenų, gaunančių socialinę pašalpą ir kompensacijas, skaičius | K12: 10000 | L12: 10000 | M12: 10000
E13: SB | F13: 6254.6 | G13: 6280.6 | H13: 6500 | I13: 6500
A14: 01 | B14: 01 | C14: 02 | D14: Dengti išlaidas už įsigytus produktus, mokinio reikmenis, administruoti socialinę paramą mokiniams | E14: SBVB | F14: 947.6 | G14: 947.6 | H14: 965 | I14: 985 | J14: Mokinių, gaunančių nemokamą maitinimą, skaičius | K14: 2140 | L14: 2140 | M14: 2140
J15: Mokinių, gaunančių būtiniausius mokinio reikmenis, skaičius | K15: 1320 | L15: 1320 | M15: 1320
A16: 01 | B16: 01 | C16: 03 | D16: Organizuoti nemokamą socialiai remtinų vaikų maitinimą ikimokyklinėse įstaigose | E16: SB | F16: 75 | G16: 75 | H16: 75 | I16: 75 | J16: Vaikų, gaunančių nemokamą maitinimą, skaičius | K16: 440 | L16: 440 | M16: 440
A17: 01 | B17: 01 | C17: 04 | D17: Kompensuoti nemokamo mokinių maitinimo kainą bendrojo lavinimo mokyklose | E17: SB | F17: 240 | G17: 240 | H17: 245 | I17: 250 | J17: Mokinių, gaunančių nemokamą maitinimą, skaičius | K17: 2140 | L17: 2140 | M17: 2300
A18: 01 | B18: 01 | C18: 05 | D18: Teikti tikslines kompensacijas, išmokas neįgaliesiems | E18: VB | F18: 3144 | G18: 3144 | H18: 3180 | I18: 3240 | J18: Asmenų, gaunančių šalpos išmokas, skaičius | K18: 1456 | L18: 1460 | M18: 1460
E19: SBVB | F19: 0.1 | G19: 0.1 | H19: 0.1 | I19: 0.1
A20: 01 | B20: 01 | C20: 06 | D20: Teikti išmokas vaikams | E20: VB | F20: 11433.2 | G20: 11433.2 | H20: 11500 | I20: 11500 | J20: Asmenų, gaunančių išmokas vaikams, skaičius | K20: 11500 | L20: 11300 | M20: 11300
A21: 01 | B21: 01 | C21: 07 | D21: Teikti kompensacijas ginkluoto pasipriešinimo dalyvių šeimoms, sovietinėje armijoje sužalotiems asmenims bei žuvusiųjų šeimoms | E21: VB | F21: 8.1 | G21: 8.1 | H21: 8.1 | I21: 8.1 | J21: Asmenų, gavusių kompensacijas, skaičius | K21: 2 | L21: 2 | M21: 2
A22: 01 | B22: 01 | C22: 08 | D22: Kompensuoti būsto nuomos ar išperkamosios būsto nuomos mokesčių dalį | E22: SBVB | F22: 0.7 | G22: 13.1 | H22: 13 | I22: 13 | J22: Asmenų, gavusių būsto nuomos ar išperkamosios būsto nuomos mokesčių dalies kompensaciją, skaičius iš bendro asmenų, turinčių teisę į paramą būstui išsinuomoti ir įrašytų į sąrašus, skaičiaus, proc. | K22: 10 | L22: 11 | M22: 12
A23: 01 | B23: 01 | C23: 09 | D23: Finansuoti išlaidas už būsto suteikimą užsieniečiams, pasitraukusiems iš Ukrainos dėl Rusijos Federacijos karinių veiksmų Ukrainoje | E23: SBVB | F23: 100 | G23: 200.4 | H23: 0 | I23: 0 | J23: Paramos pagal poreikį teikimas | K23: 100
A24: 01 | B24: 01 | C24: 10 | D24: Kompensuoti savivaldybės patirtas išlaidas užsieniečiams, pasitraukusiems iš Ukrainos dėl Rusijos Federacijos karinių veiksmų Ukrainoje, priimti ir pagalbai jiems teikti įgyvendinant Lietuvos Respublikos piniginės socialinės paramos nepasiturintiems gyventojams įstatymą | E24: SBVB | F24: 40 | G24: 97.7 | H24: 0 | I24: 0 | J24: Gautos kompensacijos dalis, proc., per numatytą laikotarpį | K24: 100
A25: 01 | B25: 01 | C25: 11 | D25: Teikti vienkartines išmokas įsikurti gyvenamojoje vietoje savivaldybės teritorijoje ir (ar) mėnesines kompensacijas vaiko ugdymo pagal ikimokyklinio ir priešmokyklinio ugdymo programą | E25: SBVB | F25: 0.6 | G25: 2.6 | H25: 0 | I25: 0 | J25: Paramos pagal poreikį teikimas
A26: 01 | B26: 01 | C26: 12 | D26: Kompensuoti kelionės išlaidas už lengvatinį keleivių vežimą | E26: SB | F26: 707.2 | G26: 707.2 | H26: 707.2 | I26: 707.2 | J26: Parduotų su nuolaida bilietų skaičius (tūkst.) | K26: 900 | L26: 900 | M26: 900
A27: 01 | B27: 01 | C27: 13 | D27: Užtikrinti Lietuvos Respublikos piniginės socialinės paramos nepasiturintiems gyventojams įstatymo įgyvendinimą | E27: SBVB | F27: 0 | G27: 1639.3 | H27: 0 | I27: 0 | J27: Paramos pagal poreikį teikimas
A28: 01 | B28: 01 | C28: 14 | D28: Apmokėti būstų nuomai iš fizinių ar juridinių asmenų | E28: SBVB | F28: 0 | G28: 0.7 | H28: 0 | I28: 0 | J28: Funkcijos vykdymo užtikrinimas | K28: 100
A29: 01 | B29: 01 | C29: 15 | D29: Teikti socialinę paramą mokiniams pagal Lietuvos Respublikos socialinės paramos mokiniams įstatymą užsieniečiams, pasitraukusiems iš Ukrainos dėl Rusijos federacijos karinių veiksmų Ukrainoje | E29: SBVB | F29: 0 | G29: 16 | H29: 0 | I29: 0 | J29: Funkcijos vykdymo užtikrinimas | K29: 100
A30: 01 | B30: 01 | C30: 16 | D30: Teikti paramą būstui išsinuomoti pagal Lietuvos Respublikos paramos būstui įsigyti ar išsinuomoti įstatymą užsieniečiams, pasitraukusiems iš Ukrainos dėl Rusijos federacijos karinių veiksmų Ukrainoje | E30: SBVB | F30: 0 | G30: 1 | H30: 0 | I30: 0 | J30: Funkcijos vykdymo užtikrinimas | K30: 100
A31: 01 | B31: 01 | C31: 17 | D31: Padengti išlaidas patirtas teikiant specialiąsias socialines paslaugas užsieniečiams, pasitraukusiems iš Ukrainos dėl Rusijos federacijos karinių veiksmų Ukrainoje | E31: SBVB | F31: 0 | G31: 0.8 | H31: 0 | I31: 0 | J31: Funkcijos vykdymo užtikrinimas | K31: 100
A32: 01 | B32: 01 | C32: Iš viso uždaviniui | F32: =SUM(F12:F31) -> 23349.6 | G32: =SUM(G12:G31) -> 25205.9 | H32: =SUM(H12:H31) -> 23618.4 | I32: =SUM(I12:I31) -> 23703.4
A33: 01 | B33: 02 | C33: Gerinti socialinę aplinką ir didinti socialinės paramos įvairovę
A34: 01 | B34: 02 | C34: 01 | D34: Teikti savivaldybės paramą socialiai pažeidžiamoms grupėms (šeimoms patiriančioms riziką, senyvo amžiaus, neįgaliems asmenims ir kt.) | E34: SB | F34: 201.9 | G34: 214.3 | H34: 214.3 | I34: 214.3 | J34: Asmenų, gaunančių savivaldybės paramą, skaičius | K34: 4300 | L34: 4300 | M34: 4300
A35: 01 | B35: 02 | C35: 02 | D35: Dengti kainų skirtumą gyventojams už šildymą | E35: SB | F35: 153.5 | G35: 153.5 | H35: 153.5 | I35: 153.5 | J35: Bendras gyvenamas plotas, kuriam dengiamas kainų skirtumas (tūkst. kv. metrų) | K35: 500 | L35: 500 | M35: 500
A36: 01 | B36: 02 | C36: 03 | D36: Kompensuoti karšto ir šalto vandens pardavimo kainą socialiai remtiniems asmenims | E36: SB | F36: 170 | G36: 170 | H36: 170 | I36: 170 | J36: Asmenų, gaunančių kompensaciją, skaičius | K36: 8000 | L36: 8000 | M36: 8000
A37: 01 | B37: 02 | C37: 04 | D37: Teikti vienkartinę išmoką gimus vaikui Lietuvos Respublikos teritorijoje ir gyvenančiam Kėdainių rajono savivaldybėje | E37: SB | F37: 30 | G37: 30 | H37: 30 | I37: 30 | J37: Asmenų, gaunančių kompensaciją, skaičius | K37: 320 | L37: 320 | M37: 320
A38: 01 | B38: 02 | C38: 05 | D38: Kompensuoti socialinių įstaigų darbuotojų važiavimo į/iš darbo išlaidas | E38: SB | F38: 35.6 | G38: 35.6 | H38: 35.6 | I38: 35.6 | J38: Darbuotojų, kuriems kompensuojamos išlaidos, skaičius | K38: 65 | L38: 65 | M38: 65
A39: 01 | B39: 02 | C39: 06 | D39: Teikti Metų socialinio darbuotojo apdovanojimą | E39: SB | F39: 3 | G39: 3 | H39: 3 | I39: 3 | J39: Įteiktas Metų socialinio darbuotojo apdovanojimas | K39: 1 | L39: 1 | M39: 1
A40: 01 | B40: 02 | C40: Iš viso uždaviniui | F40: =SUM(F34:F39) -> 594 | G40: =SUM(G34:G39) -> 606.4 | H40: =SUM(H34:H39) -> 606.4 | I40: =SUM(I34:I39) -> 606.4
A41: 01 | B41: Iš viso tikslui | F41: =+F40+F32 -> 23943.6 | G41: =+G40+G32 -> 25812.3 | H41: =+H40+H32 -> 24224.8 | I41: =+I40+I32 -> 24309.8
A42: 02 | B42: Gerinti socialinių paslaugų prieinamumą, užtikrinti jų teikimą bei didinti socialinių paslaugų ir jų teikėjų įvairovę
...

Sheet 04sport.
J1: 4 priedas
A2: 4 lentelė. 2023–2025 m. Sporto veiklos plėtros programos (04) tikslai, uždaviniai, priemonės, asignavimai ir vertinimo kriterijai
J3: tūkst. Eur
A4: Programos tikslo kodas | B4: Uždavinio kodas | C4: Priemonės kodas | D4: Priemonės pavadinimas | E4: Finansavimo šaltinis | F4: * 2023-ųjų m. asignavimai | G4: Patikslinti 2023-ųjų m. asignavimai | H4: Numatomi 2024-ųjų m. asignavimai | I4: Numatomi 2025-ųjų m. asignavimai | J4: Vertinimo kriterijai
J5: Pavadinimas
K6: 2023 -ieji m. | L6: 2024 -ieji m. | M6: 2025 -ieji m.
A9: 04 SPORTO VEIKLOS PLĖTRA
A10: 01 | B10: 01 tikslas. Didinti gyventojų fizinį aktyvumą, ugdyti sportišką bendruomenę
A11: 01 | B11: 01 | C11: Užtikrinti Kultūros ir sporto skyriaus veiklą kūno kultūros ir sporto srityje
A12: 01 | B12: 01 | C12: 01 | D12: Organizuoti ir užtikrinti Kultūros ir sporto skyriaus veiklą kūno kultūros ir sporto srityje | E12: SB | F12: 56.1 | G12: 56.1 | H12: 57.5 | I12: 58.5 | J12: Kultivuojamų sporto šakų skaičius | K12: 31 | L12: 31 | M12: 31
A13: 01 | B13: 01 | C13: Iš viso uždaviniui | F13: =SUM(F12) -> 56.1 | G13: =SUM(G12) -> 56.1 | H13: =SUM(H12) -> 57.5 | I13: =SUM(I12) -> 58.5
A14: 01 | B14: 02 | C14: Užtikrinti efektyvią Kėdainių sporto centro veiklą, vykdyti organizuojamus renginius
A15: 01 | B15: 02 | C15: 01 | D15: Organizuoti ir užtikrinti Kėdainių sporto centro veiklą, organizuoti ir vykdyti sveikatingumo bei sportinius renginius | E15: SB | F15: 1083.9 | G15: 1151.4 | H15: 1220 | I15: 1350 | J15: Asmenų, lankančių įstaigą, skaičius /sveikatingumo, sportinių renginių rajone skaičius | K15: 500/5/ 14 | L15: 500/5/ 14 | M15: 500/5/ 14
E16: SBVB | F16: 57.9 | G16: 57.9 | H16: 61.5 | I16: 63
E17: ĮP | F17: 108.7 | G17: 108.7 | H17: 108.7 | I17: 108.7
F18: =SUM(F15:F17) -> 1250.5 | G18: =SUM(G15:G17) -> 1318 | H18: =SUM(H15:H17) -> 1390.2 | I18: =SUM(I15:I17) -> 1521.7
A19: 01 | B19: 03 | C19: Skatinti gyventojų fizinį aktyvumą, vystyti įvairias gyventojų poreikius atitinkančias sporto šakas
A20: 01 | B20: 03 | C20: 01 | D20: Finansuoti vaikų mokymo plaukti veiklos programą, dalyvaujant projekte „Mokėk plaukti ir saugiau elgtis vandenyje“ | E20: SB | F20: 10.3 | G20: 10.3 | H20: 10.3 | I20: 10.3 | J20: Programoje dalyvaujančių vaikų skaičius / plaukimo pamokų sk. | K20: 300/14 | L20: 300/14 | M20: 300/14
E21: VB | F21: 15.4 | G21: 15.4 | H21: 16.2 | I21: 16.2
A22: 01 | B22: 03 | C22: 02 | D22: Skatinti neįgaliųjų ir senjorų fizinį aktyvumą, organizuoti sporto renginius ir sporto treniruočių stovyklas | E22: SB | F22: 12 | G22: 12 | H22: 12.5 | I22: 13 | J22: Neįgaliųjų fizinio aktyvumo ir sporto renginių skaičius / senjorų sporto šakų skaičius / stovyklų skaičius | K22: 6/ 12 /5 | L22: 6/ 12 / 6 | M22: 6/ 12 / 7
A23: 01 | B23: 03 | C23: 03 | D23: Organizuoti sporto metodininkų veiklas kaimiškosiose seniūnijose | E23: SB | F23: 29.1 | G23: 32.8 | H23: 33.5 | I23: 34 | J23: Metodininkų, besirūpinančių sportine veikla seniūnijose, skaičius | K23: 9 | L23: 9 | M23: 9
A24: 01 | B24: 03 | C24: 04 | D24: Organizuoti rajoninius, respublikinius, tarptautinius visų amžiaus grupių aukšto meistriškumo sporto renginius ir aukšto meistriškumo sporto treniruočių stovyklas | E24: SB | F24: 52.5 | G24: 52.5 | H24: 52.5 | I24: 52.5 | J24: Suorganizuotų rajoninių, respublikinių ir tarptautinių sporto renginių skaičius / stovyklų skaičius | K24: 18/5 | L24: 18/5 | M24: 18/5
A25: 01 | B25: 03 | C25: Iš viso uždaviniui | F25: =SUM(F20:F24) -> 119.3 | G25: =SUM(G20:G24) -> 123 | H25: =SUM(H20:H24) -> 125 | I25: =SUM(I20:I24) -> 126
A26: 01 | B26: 04 | C26: Skatinti Kėdainių rajono sporto organizacijas, sporto komandas ir sportininkus, finansuoti sporto veiklos projektus ir programas
A27: 01 | B27: 04 | C27: 01 | D27: Finansuoti sporto šakų programas, iš jų: | E27: SB | F27: =SUM(F28:F33) -> 515 | G27: =SUM(G28:G33) -> 515 | H27: =SUM(H28:H33) -> 515 | I27: =SUM(I28:I33) -> 515 | J27: Finansuotų sporto šakų programų skaičius | K27: 6 | L27: 6 | M27: 6
C28: 01. 01 | D28: Kėdainių krepšinio komandos „Nevėžis-Optibet“ klubinio krepšinio vystymo programai | E28: SB | F28: 220 | G28: 220 | H28: 220 | I28: 220 | J28: Užimta vieta LKL čempionate/ žiūrovų stebinčių rungtynes skaičiaus vidurkis/socialinių veiklų krašto bendruomenei skaičius / vasaros stovyklų kėdainiečiams vaikams skaičius / atviros treniruotės | K28: 7-10/ 800 / 3/2/2 | L28: 7-10/ 800 / 3/2/2 | M28: 7-10/ 800 / 3/2/2
C29: 01. 02 | D29: Futbolo komandos Kėdainių „Nevėžis“ klubinio futbolo vystymo programai | E29: SB | F29: 120 | G29: 120 | H29: 120 | I29: 120 | J29: Užimta vieta LFF pirmosios lygos pirmenybėse / žiūrovų stebinčių rungtynes skaičiaus vidurkis/ sportinių-mokomųjų stovyklų skaičius/išugdytų kėdainiečių, atstovaujančių FK "Nevėžis" suaugusiųjų komandoje skaičius | K29: 3-8 /200/8/6 | L29: 5-6 /200/8/6 | M29: 5-6 /200/8/6
C30: 01. 03 | D30: Bokso sporto šakos vystymo programai | E30: SB | F30: 15 | G30: 15 | H30: 15 | I30: 15 | J30: Įvairaus amžiaus grupių šalies bokso čempionatuose iškovotų medalių skaičius/tarptautinėse bokso varžybose iškovotų medalių skaičius/sporto treniruočių stovyklų skaičius/paruoštų boksininkų šalies bokso rinktinei skaičius | K30: 5/5/15/2 | L30: 10/5/14/ 1 | M30: 10/5/14/1
C31: 01. 04 | D31: Kėdainių rajono vaikų ir jaunimo futbolo plėtros programai | E31: SB | F31: 120 | G31: 120 | H31: 120 | I31: 120 | J31: Sportuojančių vaikų skaičius/ dalyvaujančių LFF vaikų pirmenybėse komandų skaičius/FK „Nevėžis“ vyrų komandos papildymas jaunais žaidėjais skaičius | K31: 250/7/6 | L31: 250/7/6 | M31: 250/7/6
C32: 01. 05 | D32: 3 prieš 3 krepšinio plėtros programai | E32: SB | F32: 20 | G32: 20 | H32: 20 | I32: 20 | J32: Sportuojančių sk., / Tarptautinių FIBA Challenger turnyrų, kuriuose dalyvauta, skaičius / Kėdainiečių sportininkų atstovavimas komandai | K32: 50/2/3 | L32: 50/2/3 | M32: 50/2/3
C33: 01. 06 | D33: Moterų futbolo komandos Kėdainių „Nevėžis“ programai | E33: SB | F33: 20 | G33: 20 | H33: 20 | I33: 20 | J33: Lietuvos moterų futbolo asociacijos Pirmos lygos pirmenybėse iškovota vieta /sporto treniruočių sk. / komandai atstovaujančių kėdainiečių sk. | K33: 3-7 / 3 / 8 | L33: 3-7 / 3 / 8 | M33: 3-7 / 3 / 8
A34: 01 | B34: 04 | C34: 02 | D34: Finansuoti sporto projektus | E34: SB | F34: 55 | G34: 55 | H34: 60 | I34: 60 | J34: Finansuojamų sporto / fizinio aktyvumo projektų skaičius | K34: 9/11 | L34: 10 / 15 | M34: 10 / 15
A35: 01 | B35: 04 | C35: 03 | D35: Teikti apdovanojimus aukšto meistriškumo sportininkams ir jų treneriams už sporto pasiekimus | E35: SB | F35: 10 | G35: 10 | H35: 10 | I35: 10 | J35: Apdovanotųjų skaičius | K35: 30 | L35: 30 | M35: 30
A36: 01 | B36: 05 | C36: Iš viso uždaviniui | F36: =+F34+F27+F35 -> 580 | G36: =+G34+G27+G35 -> 580 | H36: =+H34+H27+H35 -> 585 | I36: =+I34+I27+I35 -> 585
A37: 01 | B37: Iš viso tikslui | F37: =+F36+F25+F18+F13 -> 2005.9 | G37: =+G36+G25+G18+G13 -> 2077.1 | H37: =+H36+H25+H18+H13 -> 2157.7 | I37: =+I36+I25+I18+I13 -> 2291.2
A38: 02 | B38: Atnaujinti ir plėsti Kėdainių rajono savivaldybės sporto infrastruktūrą, pritaikyti ją šiuolaikiniams poreikiams
A39: 02 | B39: 01 | C39: Modernizuoti sporto objektų materialinę bazę, sudarant sąlygas fizinio aktyvumo ugdymui
A40: 02 | B40: 01 | C40: 01 | D40: Atnaujinti ir (arba) plėsti bendruomeninę fizinio aktyvumo infrastruktūrą mieste ir rajone, pritaikant ją bendruomenės poreikiams bei laisvalaikiui | E40: SB | F40: 50 | G40: 50 | H40: 50 | I40: 50 | J40: Atnaujintų/įrengtų vaikų sporto ir žaidimų aikštelių skaičius | K40: 3 | L40: 3 | M40: 3
A41: 02 | B41: 03 | C41: 02 | D41: Atnaujinti Kėdainių „Ryto“ progimnazijos stadioną ir sporto aikštyną (pagal projektą Tūkstantmečio mokyklos I) | E41: SB | F41: 0 | G41: 0 | H41: 0 | I41: 0 | J41: Atnaujinamų objektų skaičius
E42: SK | F42: 50 | G42: 0 | H42: 0 | I42: 0
...

Sheet 05kultura
K1: 5 priedas
A2: 5 lentelė. 2023–2025 m. Kultūros veiklos plėtros programos (05) tikslai, uždaviniai, priemonės, asignavimai ir vertinimo kriterijai
A3: tūkst. Eur
A4: Programos tikslo kodas | B4: Uždavinio kodas | C4: Priemonės kodas | D4: Priemonės pavadinimas | E4: Finansavimo šaltinis | F4: * 2023-ųjų m. asignavimai | G4: Patikslinti 2023-ųjų m. asignavimai | H4: Numatomi 2024-ųjų m. asignavimai | I4: Numatomi 2025-ųjų m. asignavimai | J4: Vertinimo kriterijai
J5: Pavadinimas
K6: 2023 -ieji m. | L6: 2024 -ieji m. | M6: 2025 -ieji m.
A9: 05 KULTŪROS VEIKLOS PLĖTRA
A10: 01 | B10: Tobulinti ir plėsti kultūrinės informacijos paslaugas Kėdainių rajono savivaldybės Mikalojaus Daukšos viešojoje bibliotekoje, siekiant didinti jų prieinamumą
A11: 01 | B11: 01 | C11: Užtikrinti efektyvią Kėdainių rajono savivaldybės Mikalojaus Daukšos viešosios bibliotekos veiklą
A12: 01 | B12: 01 | C12: 01 | D12: Organizuoti ir užtikrinti Kėdainių rajono savivaldybės Mikalojaus Daukšos viešosios bibliotekos bei jos filialų veiklą | E12: SB | F12: 1241.4 | G12: 1337 | H12: 1420 | I12: 1500 | J12: Išduotų leidinių skaičius per metus (tūkst.) | K12: >300 | L12: >300 | M12: >300
E13: ĮP | F13: 10.6 | G13: 10.6 | H13: 10.6 | I13: 10.6 | J13: Apsilankymų bibliotekose skaičius (tūkst. kartų) | K13: >180 | L13: >180 | M13: >180
E14: SBVB | F14: 54.6 | G14: 54.6 | H14: 55 | I14: 55
A15: 01 | B15: 01 | C15: 02 | D15: Atnaujinti Kėdainių rajono savivaldybės Mikalojaus Daukšos viešosios bibliotekos filialų informacinių technologijų įrangą, žaislotekas, įsigyti baldų/įrangos užimtumo centrams | E15: SB | F15: 10 | G15: 10 | H15: 10 | I15: 10 | J15: IT įranga, baldais aprūpintų filialų skaičius | K15: 10 | L15: 10 | M15: 10
E16: VB | F16: 10 | G16: 10 | H16: 10 | I16: 10
A17: 01 | B17: 01 | C17: Iš viso uždaviniui | F17: =SUM(F12:F16) -> 1326.6 | G17: =SUM(G12:G16) -> 1422.2 | H17: =SUM(H12:H16) -> 1505.6 | I17: =SUM(I12:I16) -> 1585.6
A18: 01 | B18: Iš viso tikslui | F18: =+F17 -> 1326.6 | G18: =+G17 -> 1422.2 | H18: =+H17 -> 1505.6 | I18: =+I17 -> 1585.6
A19: 02 | B19: Išsaugoti istorinę atmintį, tobulinti ir plėsti kultūros paslaugas Kėdainių krašto muziejuje, siekiant didinti jų prieinamumą
A20: 02 | B20: 01 | C20: Užtikrinti efektyvią Kėdainių krašto muziejaus veiklą
A21: 02 | B21: 01 | C21: 01 | D21: Organizuoti ir užtikrinti Kėdainių krašto muziejaus ir jo skyrių veiklą | E21: SB | F21: 651.7 | G21: 696.8 | H21: 730 | I21: 765 | J21: Suorganizuotų renginių, edukacinių pamokų muziejuje ir jo skyriuose skaičius | K21: >650 | L21: >650 | M21: >650
E22: SBVB | F22: 2.4 | G22: 0 | H22: 0 | I22: 0
E23: ĮP | F23: 57.8 | G23: 57.8 | H23: 57.8 | I23: 57.8 | J23: Muziejaus lankytojų skaičius (tūkst.) | K23: >20 | L23: >20 | M23: >20
A24: 02 | B24: 01 | C24: 02 | D24: Dalyvauti Žydų kultūros paveldo kelio asociacijos veikloje ir puoselėti žydų kultūros paveldo atminimą Kėdainiuose | E24: SB | F24: 5.2 | G24: 5.2 | H24: 5.2 | I24: 5.2 | J24: Įgyvendinamų programų/priemonių/renginių skaičius | K24: 2 | L24: 2 | M24: 2
A25: 02 | B25: 01 | C25: Iš viso uždaviniui | F25: =SUM(F21:F24) -> 717.1 | G25: =SUM(G21:G24) -> 759.8 | H25: =SUM(H21:H24) -> 793 | I25: =SUM(I21:I24) -> 828
A26: 02 | B26: Iš viso tikslui | F26: =+F25 -> 717.1 | G26: =+G25 -> 759.8 | H26: =+H25 -> 793 | I26: =+I25 -> 828
A27: 03 | B27: Sudaryti sąlygas krašto bendruomenei dalyvauti kultūrinėje bei kūrybinėje veikloje
A28: 03 | B28: 01 | C28: Užtikrinti efektyvią rajono kultūros centrų veiklą, vykdyti organizuojamų renginių informacijos sklaidą
A29: 03 | B29: 01 | C29: 01 | D29: Organizuoti ir užtikrinti kultūros centrų ir jų skyrių veiklą | E29: SB | F29: 1775.1 | G29: 1903.6 | H29: 2020 | I29: 2050 | J29: Kultūros centrų organizuojamų veiklų lankytojų skaičius | K29: >95 | L29: >95 | M29: >95
E30: SBVB | F30: 4.9 | G30: 0 | H30: 0 | I30: 0
E31: ĮP | F31: 19.6 | G31: 19.6 | H31: 19.6 | I31: 19.6
A32: 03 | B32: 01 | C32: 02 | D32: Organizuoti valstybinių, profesinių švenčių, atmintinų dienų minėjimus, įvairius renginius bendruomenės poreikiams tenkinti | E32: SB | F32: 165 | G32: 165 | H32: 170 | I32: 175 | J32: Kultūros centrų organizuojamų veiklų skaičius | K32: >1000 | L32: >1000 | M32: >1000
A33: 03 | B33: 01 | C33: 03 | D33: Kompensuoti kultūros įstaigų darbuotojų važiavimo į/iš darbo išlaidas | E33: SB | F33: 21.2 | G33: 21.2 | H33: 21.2 | I33: 21.5 | J33: Darbuotojų, kuriems kompensuojamos išlaidos, skaičius | K33: 46 | L33: 46 | M33: 46
A34: 03 | B34: 01 | C34: Iš viso uždaviniui | F34: =SUM(F29:F33) -> 1985.8 | G34: =SUM(G29:G33) -> 2109.4 | H34: =SUM(H29:H33) -> 2230.8 | I34: =SUM(I29:I33) -> 2266.1
A35: 03 | B35: 02 | C35: Sudaryti sąlygas kultūros plėtrai rajone
A36: 03 | B36: 02 | C36: 01 | D36: Organizuoti ir užtikrinti Kultūros ir sporto skyriaus specialistų darbą kultūros srityje | E36: SB | F36: 81.9 | G36: 97.1 | H36: 98 | I36: 103 | J36: Suorganizuotų renginių skaičius | K36: 35 | L36: 40 | M36: 40
A37: 03 | B37: 02 | C37: 02 | D37: Finansuoti rajono savivaldybės renginius ir kultūrines iniciatyvas | E37: SB | F37: 233 | G37: 233 | H37: 245 | I37: 250
A38: 03 | B38: 02 | C38: 03 | D38: Finansuoti kultūrinės veiklos projektus | E38: SB | F38: 30 | G38: 30 | H38: 30 | I38: 30 | J38: Finansuotų projektų skaičius | K38: 19 | L38: 20 | M38: 20
A39: 03 | B39: 02 | C39: 04 | D39: Teikti Krašto kultūros premiją | E39: SB | F39: 3 | G39: 3 | H39: 3 | I39: 3 | J39: Kultūros premijos laureatų skaičius | K39: 1 | L39: 1 | M39: 1
A40: 03 | B40: 02 | C40: 05 | D40: Teikti Česlavo Milošo premiją | E40: SB | F40: 5 | G40: 5 | H40: 5 | I40: 5 | J40: Kultūros premijos laureatų skaičius | K40: 1 | L40: 1 | M40: 1
A41: 03 | B41: 02 | C41: 06 | D41: Aprūpinti mėgėjų meno kolektyvus tautiniais ir kitais koncertiniais kostiumais bei muzikos instrumentais | E41: SB | F41: 15 | G41: 15 | H41: 20 | I41: 15 | J41: Koncertinius kostiumų komplektus/instrumentus atsinaujinusių kolektyvų skaičius | K41: 10 | L41: 10 | M41: 5
E42: VB | F42: 5 | G42: 1.8 | H42: 5 | I42: 5
...

Sheet 06turizm_paveld
K1: 6 priedas
A2: 6 lentelė. 2023–2025 m. Kultūros paveldo išsaugojimo, turizmo skatinimo ir vystymo programos (06) tikslai, uždaviniai, priemonės, asignavimai vertinimo kriterijai
J3: tūkst. Eur
A4: Programos tikslo kodas | B4: Uždavinio kodas | C4: Priemonės kodas | D4: Priemonės pavadinimas | E4: Finansavimo šaltinis | F4: * 2023-ųjų m. asignavimai | G4: Patikslinti 2023-ųjų m. asignavimai | H4: Numatomi 2024-ųjų m. asignavimai | I4: Numatomi 2025-ųjų m. asignavimai | J4: Vertinimo kriterijai
J5: Pavadinimas
K6: 2023 -ieji m. | L6: 2024 -ieji m. | M6: 2025 -ieji m.
A9: 06 KULTŪROS PAVELDO IŠSAUGOJIMAS, TURIZMO SKATINIMAS IR VYSTYMAS
A10: 01 | B10: Skatinti vietinį bei atvykstamąjį turizmą, plėtoti turizmo rinkodarą
A11: 01 | B11: 01 | C11: Užtikrinti efektyvią VšĮ Kėdainių turizmo ir verslo informacijos centro veiklą turizmo srityje
A12: 01 | B12: 01 | C12: 01 | D12: Finansuoti VšĮ Kėdainių turizmo ir verslo informacijos centro turizmo veiklos programą: | E12: SB | F12: 85 | G12: 80.4 | H12: 88 | I12: 75 | J12: Kėdainių rajono savivaldybėje apsilankiusių turistų skaičius per metus (tūkst. asmenų/ per metus) (vertinami Kėdainių TVIC apsilankę turistai) | K12: 9.5 | L12: 10 | M12: 10.5
D13: turizmo maršrutų, individualių ekskursijų programų rengimas
D14: kartografinių-informacinių turistinių leidinių leidyba
D15: turizmo informacijos apie gamtos, architektūros, istorijos, kultūros paveldo objektus, lankytinas vietas, maitinimo, apgyvendinimo, kaimo turizmo sodybas, amatus teikimas, kaupimas, sisteminimas ir atnaujinimas | E15: PR | F15: 4 | G15: 4 | H15: 4 | I15: 4 | J15: Turizmo statistikos duomenų apskaita ir analizė, val. | K15: 160 | L15: 160 | M15: 160
D16: dalyvavimas turizmo parodose, mugėse, šventėse | J16: Parodų, mugių, kuriuose dalyvauta, skaičius | K16: 4 | L16: 4 | M16: 4
D17: turizmo informacijos sklaida socialiniuose tinkluose, spaudoje | J17: Informacijos sklaida, val. | K17: 1390 | L17: 1390 | M17: 1390
A18: 01 | B18: 01 | C18: Iš viso uždaviniui | F18: =SUM(F12:F17) -> 89 | G18: =SUM(G12:G17) -> 84.4 | H18: =SUM(H12:H17) -> 92 | I18: =SUM(I12:I17) -> 79
A19: 01 | B19: Iš viso tikslui | F19: =+F18 -> 89 | G19: =+G18 -> 84.4 | H19: =+H18 -> 92 | I19: =+I18 -> 79
A20: 02 | B20: Pritaikyti viešąją infrastruktūrą visuomenės turizmo ir rekreacijos poreikiams, įveiklinti kultūros ir gamtos paveldą
A21: 02 | B21: 01 | C21: Išsaugoti istorinį bei kultūros paveldą, didinti jo patrauklumą ir žinomumą
A22: 02 | B22: 02 | C22: 01 | D22: Parengti Nekilnojamųjų kultūros vertybių vertinimo medžiagą, nekilnojamųjų kultūros paveldo objektų, vietovių individualius apsaugos reglamentus | E22: SB | F22: 6 | G22: 6 | H22: 6 | I22: 6 | J22: Skaičius objektų, esančių Kultūros vertybių registre, kurių duomenys / objektų skaičius, kuriems parengti individualūs apsaugos reglamentai | K22: 1 | L22: 1 | M22: 1
A23: 02 | B23: 01 | C23: 02 | D23: Įgyvendinti Kėdainių rajono savivaldybės bažnyčių rėmimo programą | E23: SB | F23: 50 | G23: 50 | H23: 60 | I23: 60 | J23: Kulto pastatų, kuriems skirtas finansavimas tvarkybos darbams atlikti, skaičius | K23: 5 | L23: 3 | M23: 3
E24: PR | F24: 10 | G24: 13 | H24: 10 | I24: 10
A25: 02 | B25: 02 | C25: 03 | D25: Rengti dokumentaciją, atlikti lankytinų objektų, kultūros paveldo objektų ar objektų, esančių kultūros paveldo teritorijų prieigose, tvarkybos, atnaujinimo, restauravimo darbus seniūnijose | E25: SB | F25: 80 | G25: 80 | H25: 110 | I25: 150 | J25: Tvarkomų objektų skaičius | K25: 6 | L25: 6 | M25: 7
A26: 02 | B26: 01 | C26: 04 | D26: Modernizuoti Kėdainių krašto muziejaus Daugiakultūrį centrą | E26: SB | F26: 30 | G26: 30 | H26: 0 | I26: 0 | J26: Modernizuotų objektų skaičius | K26: 1
E27: ES | F27: 106 | G27: 106 | H27: 0 | I27: 0
A28: 02 | B28: 01 | C28: 05 | D28: Remontuoti Minareto fasadą | E28: SB | F28: 0 | G28: 0 | H28: 85 | I28: 40 | J28: Suremontuotų objektų skaičius | M28: 1
A29: 02 | B29: 01 | C29: 06 | D29: Atlikti Paberžės klebonijos ir svirno restauravimo ir remonto darbus | E29: SB | F29: 47 | G29: 47 | H29: 0 | I29: 0 | J29: Restauruotų objektų skaičius | K29: 2
E30: VB | F30: 100 | G30: 100 | H30: 0 | I30: 0
A31: 02 | B31: 01 | C31: 07 | D31: Įrengti valstybinės reikšmės kelių nuorodas į savivaldybės kultūros paveldo objektus | E31: SB | F31: 11 | G31: 11 | H31: 3 | I31: 3 | J31: Įrengtų/tvarkomų informacinių ženklinimo infrastruktūros objektų skaičius | K31: 6 | L31: 6 | M31: 6
A32: 02 | B32: 01 | C32: 08 | D32: Atlikti archeologinius ir kitus tyrinėjimus kultūros paveldo teritorijose, vykdyti paveldo objektams parengtų tvarkybos projektų ekspertizę, parengti sąmatas | E32: SB | F32: 3 | G32: 3 | H32: 3 | I32: 3 | J32: Einamaisiais metais numatomų atlikti tyrinėjimų/ Ekspertuotų projektų skaičius (pagal poreikį) | K32: 1/1 | L32: 1/2 | M32: 1/2
A33: 02 | B33: 01 | C33: 09 | D33: Parengti ritualinio skerdiko namo tvoros ir vartų su saulės laikrodžiu pamatų konservavimo ir vartų atstatymo projektą ir atlikti darbus | E33: SB | F33: 0 | G33: 0 | H33: 100 | I33: 0 | J33: Atstatytų objektų skaičius | L33: 1
A34: 02 | B34: 01 | C34: 10 | D34: Vykdyti rezistentų paminklinio akmens ir teritorijos, apimančios masinę kapavietę, sutvarkymo darbus (Skongalio g.) | E34: SB | F34: 0 | G34: 0 | H34: 150 | I34: 0 | J34: Atnaujintų objektų skaičius | L34: 1
A35: 02 | B35: 01 | C35: 11 | D35: Atlikti Bakainių piliakalnio su priešpiliu ir papiliu, priešpilio tvarkybos darbus | E35: SB | F35: 0 | G35: 0 | H35: 20 | I35: 40 | J35: Atlikti moksliniai taikomieji tyrimai / parengta projektinė dokumentacija / einamaisiais metais numatyta atliktų darbų | K35: 1/0/0 | L35: 1/1/0 | M35: 1/1 /100
E36: AA | F36: 23 | G36: 23 | H36: 0 | I36: 0
E37: VB | F37: 0 | G37: 0 | H37: 20 | I37: 40
A38: 02 | B38: 01 | C38: 12 | D38: Įgyvendinti kultūros paveldo objektų, esančių Kėdainių rajono savivaldybės teritorijoje, ir kultūros paveldo statinių, esančių Kėdainių senamiesčio dalyje, išsaugojimo darbų finansavimo programą | E38: SB | F38: 20 | G38: 20 | H38: 25 | I38: 25 | J38: Tvarkomų kultūros paveldo objektų ar kultūros paveldo statinių skaičius | K38: 3 | L38: 3 | M38: 3
A39: 02 | B39: 01 | C39: 13 | D39: Parengti Kėdainių evangelikų ir reformatų bažnyčios tvarkybos darbų projektą ir atlikti tvarkybos darbus | E39: SB | F39: 11 | G39: 11 | H39: 20 | I39: 100 | J39: Atnaujintų kultūros paveldo objektų skaičius | M39: 1
E40: ES | F40: 0 | G40: 0 | H40: 135 | I40: 570
A41: 02 | B41: 01 | C41: Iš viso uždaviniui | F41: =SUM(F22:F40) -> 497 | G41: =SUM(G22:G40) -> 500 | H41: =SUM(H22:H40) -> 747 | I41: =SUM(I22:I40) -> 1047
A42: 02 | B42: 02 | C42: Plėtoti, atnaujinti viešąją infrastruktūrą, atsižvelgiant į turizmo plėtros ir rekreacijos poreikius
...

Sheet 07Infrastr.
K1: 7 priedas
A2: 7 lentelė. 2023–2025 m. Infrastruktūros objektų priežiūros ir plėtros programos (07) tikslai, uždaviniai, priemonės, asignavimai ir vertinimo kriterijai
J3: tūkst. Eur
A4: Programos tikslo kodas | B4: Uždavinio kodas | C4: Priemonės kodas | D4: Priemonės pavadinimas | E4: Finansavimo šaltinis | F4: * 2023-ųjų m. asignavimai | G4: Patikslinti 2023-ųjų m. asignavimai | H4: Numatomi 2024-ųjų m. asignavimai | I4: Numatomi 2025-ųjų m. asignavimai | J4: Vertinimo kriterijai
J5: Pavadinimas
K6: 2023 -ieji m. | L6: 2024 -ieji m. | M6: 2025 -ieji m.
A9: 07 INFRASTRUKTŪROS OBJEKTŲ PRIEŽIŪRA IR PLĖTRA
A10: 01 tikslas. Kurti ir pritaikyti viešąją infrastruktūrą su darnia aplinka šiuolaikiniams poreikiams
A11: 01 uždavinys. Rengti ir (arba) atnaujinti Kėdainių rajono savivaldybės teritorijų planavimo ir kitus dokumentus, sudarant sąlyga infrastruktūros plėtrai
A12: 01 | B12: 01 | C12: 01 | D12: Rengti specialiuosius, bendruosius, detaliuosius, geodezinius planus bei topografines nuotraukas | E12: SB | F12: 75 | G12: 75 | H12: 75 | I12: 75 | J12: Parengtų specialiųjų, detaliųjų, geodezinių planų skaičius | K12: 50 | L12: 50 | M12: 50
A13: 01 | B13: 01 | C13: 02 | D13: Parengti Senojo Upytės kelio specialųjį planą ("Isos slėnis") | E13: SB | F13: 50 | G13: 50 | H13: 40 | I13: 0 | J13: Parengtų specialiųjų planų skaičius | L13: 1
A14: 01 | B14: 01 | C14: 03 | D14: Atlikti turto inventorizavimą, teisinę registraciją, parengti dokumentus turto pardavimui | E14: SB | F14: 25 | G14: 25 | H14: 25 | I14: 25 | J14: Inventorizuotų nekilnojamojo turto objektų skaičius | K14: 50 | L14: 50 | M14: 50
A15: 01 | B15: 01 | C15: 04 | D15: Rengti infrastruktūros objektų tvarkymo investicinius projektus, planus, paraiškas, kitą techninę dokumentaciją Europos Sąjungos ar kitų fondų paramai gauti | E15: SB | F15: 60 | G15: 60 | H15: 60 | I15: 60 | J15: Parengtos dokumentacijos skaičius | K15: 4 | L15: 4 | M15: 4
A16: 01 | B16: 01 | C16: 05 | D16: Rengti infrastruktūros plėtros technines dokumentacijas | E16: SB | F16: 50 | G16: 50 | H16: 50 | I16: 50 | J16: Parengtų techninių dokumentacijų skaičius | K16: 2 | L16: 2 | M16: 2
A17: 01 | B17: 01 | C17: Iš viso 01 uždaviniui | F17: =SUM(F12:F16) -> 260 | G17: =SUM(G12:G16) -> 260 | H17: =SUM(H12:H16) -> 250 | I17: =SUM(I12:I16) -> 210
E18: Iš viso SB | F18: =+F15+F14+F12+F13+F16 -> 260 | G18: =+G15+G14+G12+G13+G16 -> 260 | H18: =+H15+H14+H12+H13+H16 -> 250 | I18: =+I15+I14+I12+I13+I16 -> 210
A20: 02 uždavinys. Užtikrinti inžinerinio aprūpinimo (vandentiekio, nuotekų tinklų ir kt.) sistemų atnaujinimą ir plėtrą
A21: 01 | B21: 02 | C21: 01 | D21: Įrengti, rekonstruoti, išplėsti vandentiekio ir/ar nuotekų tinklus Kėdainių mieste (Šviesos, g. Pievų g.) | E21: SB | F21: 60 | G21: 83.1 | H21: 120 | I21: 120 | J21: Paklota vandentiekio ir nuotekų tinklų, m | K21: ~300 | L21: ~350 | M21: ~350
A22: 01 | B22: 02 | C22: 02 | D22: Rekonstruoti ir plėsti vandentiekio ir buitinių nuotekų infrastruktūrą Šėtos miestelyje, Kunionių kaime bei Kėdainių mieste | E22: SB | F22: 145.3 | G22: 145.3 | H22: 0 | I22: 0 | J22: Rekonstruojamų/naujai paklotų vandentiekio ir nuotekų tinklų, km (iš viso suminis) | K22: ~11
E23: AA | F23: 0 | G23: 150 | H23: 0 | I23: 0
E24: ES | F24: 803.5 | G24: 1272.5 | H24: 0 | I24: 0
E25: PR | F25: 374.1 | G25: 692.2 | H25: 0 | I25: 0
A26: 01 | B26: 02 | C26: 03 | D26: Rekonstruoti ir plėsti Kėdainių miesto paviršinių nuotekų tinklus | E26: SB | F26: 0 | G26: 0 | H26: 0 | I26: 0 | J26: Paklota/rekonstruota paviršinių nuotekų tinklų, km (iš viso suminis) | K26: ~9
E27: ES | F27: 55.7 | G27: 255.5 | H27: 0 | I27: 0
E28: PR | F28: 23.5 | G28: 23.5 | H28: 0 | I28: 0
A29: 01 | B29: 02 | C29: 04 | D29: Rekonstruoti Kėdainių miesto nuotekų valyklą | E29: SB | F29: 39.5 | G29: 39.5 | H29: 0 | I29: 0 | J29: Rekonstruotų objektų skaičius | K29: 1
E30: ES | F30: 167.4 | G30: 167.4 | H30: 0 | I30: 0
E31: PR | F31: 64.9 | G31: 64.9 | H31: 0 | I31: 0
A32: 01 | B32: 02 | C32: 05 | D32: Rekonstruoti Akademijos nuotekų valyklą | E32: SB | F32: 0 | G32: 0 | H32: 0 | I32: 0 | J32: Rekonstruoti nuotekų valykla | K32: 1
E33: ES | F33: 170.7 | G33: 170.7 | H33: 0 | I33: 0
E34: PR | F34: 61.7 | G34: 61.7 | H34: 0 | I34: 0
A35: 01 | B35: 02 | C35: 06 | D35: Išplėsti buitinių nuotekų tinklus Labūnavos gyvenvietėje, Nevėžio g, ir Vainikų g. | E35: SB | F35: 0 | G35: 0 | H35: 0 | I35: 0 | J35: Paklota vandentiekio buitinių nuotekų tinklų, m | K35: ~3100
E36: SK | F36: 210 | G36: 210 | H36: 0 | I36: 0
A37: 01 | B37: 02 | C37: 07 | D37: Suprojektuoti ir įrengti inžinerinius tinklus Kėdainių miesto vakariniame kvartale | E37: PR | F37: 0 | G37: 0 | H37: 0 | I37: 0 | J37: Įrengta inžinerinių tinklų, m | L37: ~335 | M37: ~335
E38: SB | F38: 0 | G38: 0 | H38: 25 | I38: 25
A39: 01 | B39: 02 | C39: 08 | D39: Plėsti vandentiekio ir nuotekų tinklus Šlapaberžės kaime | E39: SB | F39: 13.5 | G39: 13.5 | H39: 200 | I39: 300 | J39: Parengtos techninės dokumentacijos skaičius / Paklota vandentiekio ir/ ar nuotekų tinklų, m | K39: 1/0 | L39: ~200 | M39: ~450
A40: 01 | B40: 02 | C40: 09 | D40: Įrengti buitinių nuotekų tinklus Aušros k. Ąžuolaičių g. ir Volučių g. | E40: SB | F40: 0 | G40: 0 | H40: 15 | I40: 70 | J40: Parengtos techninės dokumentacijos skaičius /Paklota nuotekų tinklų, m | L40: 1/0 | M40: 1/~ 600
A41: 01 | B41: 02 | C41: 10 | D41: Remontuoti objektus pagal administracijos direktoriaus įsakymus | E41: SB | F41: 40 | G41: 40 | H41: 40 | I41: 40 | J41: Remontuotų objektų skaičius | K41: 6 | L41: 6 | M41: 6
A42: 01 | B42: 02 | C42: 11 | D42: Likviduoti avarinius židinius | E42: SB | F42: 40 | G42: 40 | H42: 40 | I42: 40 | J42: Objektų skaičius, kuriuose likviduoti avariniai židiniai | K42: 6 | L42: 6 | M42: 6
A43: 01 | B43: 02 | C43: 12 | D43: Plėsti vandentiekio ir nuotekų tinklus Pagirių miestelyje | E43: SB | F43: 0 | G43: 0 | H43: 15 | I43: 0 | J43: Parengtos techninės dokumentacijos skaičius | L43: 1
...

Sheet 08aplinkosauga
K1: 8 priedas
A2: 8 lentelė. 2023–2025 m. Aplinkos apsaugos programos (08) tikslai, uždaviniai, priemonės, asignavimai ir vertinimo kriterijai
J3: tūkst. Eur
A4: Programos tikslo kodas | B4: Uždavinio kodas | C4: Priemonės kodas | D4: Priemonės pavadinimas | E4: Finansavimo šaltinis | F4: * 2023-ųjų m. asignavimai | G4: Patikslinti 2023-ųjų m. asignavimai | H4: Numatomi 2024-ųjų m. asignavimai | I4: Numatomi 2025-ųjų m. asignavimai | J4: Vertinimo kriterijai
J5: Pavadinimas
K6: 2023 -ieji m. | L6: 2024 -ieji m. | M6: 2025 -ieji m.
A9: 08 APLINKOS APSAUGA
A10: 01 | B10: Įgyvendinti Aplinkos apsaugos rėmimo specialiosios programos finansuojamas priemones
A11: 01 | B11: 01 | C11: Gerinti aplinkos kokybę ir apsaugą
A12: 01 | B12: 01 | C12: 01 | D12: Įgyvendinti aplinkos kokybės gerinimo ir apsaugos priemones | E12: AA | F12: 78.6 | G12: 91.3 | H12: 75 | I12: 75 | J12: Įgyvendinamų priemonių skaičius | K12: 5 | L12: 5 | M12: 5
E13: SBVB | F13: 7.2 | G13: =7.1+14.1 -> 21.2 | H13: 0 | I13: 0
A14: 01 | B14: 01 | C14: 02 | D14: Įgyvendinti aplinkos atkūrimo, prevencines priemones, tvarkant vandens telkinius, jų pakrantes, vykdyti atliekų tvarkymo infrastruktūros plėtros priemones | E14: AA | F14: 37.2 | G14: 37.2 | H14: 90 | I14: 90 | J14: Įgyvendintų priemonių skaičius | K14: 5 | L14: 6 | M14: 6
A15: 01 | B15: 01 | C15: 03 | D15: Vykdyti aplinkos oro, paviršinio ir požeminio vandens, dirvožemio ir triukšmo stebėseną Kėdainių mieste ir rajone (įskaitant pramonės rajoną) | E15: AA | F15: 25.5 | G15: 25.5 | H15: 25.5 | I15: 25.5 | J15: Tiriamų parametrų skaičius | K15: 5 | L15: 5 | M15: 5
A16: 01 | B16: 01 | C16: 04 | D16: Įgyvendinti želdynų ir želdinių apsaugos, tvarkymo, būklės stebėsenos, želdynų kūrimo, želdinių veisimo ir inventorizavimo priemones | E16: AA | F16: 105.3 | G16: 110.3 | H16: 110 | I16: 110 | J16: Seniūnijų skaičius, kuriose įgyvendinamos želdynų ir želdinių apsaugos, tvarkymo, būklės stebėsenos, želdynų kūrimo, želdinių veisimo ir inventorizavimo priemonės | K16: 11 | L16: 11 | M16: 11
A17: 01 | B17: 01 | C17: Iš viso uždaviniui | F17: =SUM(F12:F16) -> 253.8 | G17: =SUM(G12:G16) -> 285.5 | H17: =SUM(H12:H16) -> 300.5 | I17: =SUM(I12:I16) -> 300.5
A18: 01 | B18: 02 | C18: Vykdyti žalos aplinkai prevenciją
A19: 01 | B19: 02 | C19: 01 | D19: Įgyvendinti prevencinės priemones, kuriomis siekiama išvengti medžiojamųjų gyvūnų daromos žalos miškui | E19: AA | F19: 82.7 | G19: 82.7 | H19: 80.7 | I19: 80.7 | J19: Finansuotos medžiojamų gyvūnų daromos žalos prevencijos ir kitos priemonės (paraiškų sk.) | K19: 4 | L19: 4 | M19: 4
A20: 01 | B20: 02 | C20: Iš viso uždaviniui | F20: =+F19 -> 82.7 | G20: =+G19 -> 82.7 | H20: =+H19 -> 80.7 | I20: =+I19 -> 80.7
A21: 01 | B21: 03 | C21: Skatinti aplinkos apsaugos iniciatyvas, vykdyti gyventojų aplinkosauginį švietimą
A22: 01 | B22: 03 | C22: 01 | D22: Įgyvendinti visuomenės aplinkosauginio švietimo priemones | E22: AA | F22: 6 | G22: 6 | H22: 8 | I22: 8 | J22: Surengtų akcijų, seminarų, viešinimo priemonių skaičius | K22: 7 | L22: 7 | M22: 7
A23: 01 | B23: 03 | C23: 02 | D23: Finansuoti konkursą "Gražiausiai tvarkoma aplinka" | E23: AA | F23: 7 | G23: 7 | H23: 7 | I23: 7 | J23: Išrinktų gražiausiai besitvarkančių aplinką savininkų skaičius | K23: 10 | L23: 10 | M23: 10
A24: 01 | B24: 03 | C24: 03 | D24: Įsigyti priemonių, susijusių su visuomenės informavimu ir ekologiniu švietimu, kitos išlaidos | E24: AA | F24: 8.5 | G24: 7 | H24: 8.5 | I24: 8.5 | J24: Prenumeruojamų leidinių skaičius | K24: 4 | L24: 4 | M24: 4
A25: 01 | B25: 02 | C25: Iš viso uždaviniui | F25: =SUM(F22:F24) -> 21.5 | G25: =SUM(G22:G24) -> 20 | H25: =SUM(H22:H24) -> 23.5 | I25: =SUM(I22:I24) -> 23.5
A26: 01 | B26: Iš viso tikslui | F26: =+F25+F20+F17 -> 358 | G26: =+G25+G20+G17 -> 388.2 | H26: =+H25+H20+H17 -> 404.7 | I26: =+I25+I20+I17 -> 404.7
A27: 02 | B27: Tobulinti atliekų tvarkymo bei aplinkos išsaugojimo sistemą, gerinti kraštovaizdžio apsaugą
A28: 02 | B28: 01 | C28: Tinkamai tvarkyti komunalines atliekas, palaikyti tvarką ir švarą rajono bendrojo naudojimo teritorijose
A29: 02 | B29: 01 | C29: 01 | D29: Vykdyti atliekų tvarkymo sistemos organizavimo funkciją | E29: SB | F29: 1613 | G29: 1613 | H29: 1600 | I29: 1600 | J29: Surinktų atliekų (bendras) kiekis, ~ tūkst. t. | K29: 14 | L29: 14 | M29: 14
A30: 02 | B30: 01 | C30: 02 | D30: Prižiūrėti ir tvarkyti bendro naudojimo teritorijas, įsigyti teritorijų priežiūrai reikalingą įrangą | E30: SB | F30: 3321.1 | G30: 3396.1 | H30: 3400 | I30: 3550
E31: ĮP | F31: 10.2 | G31: 10.2 | H31: 10.2 | I31: 10.2
A32: 02 | B32: 01 | C32: 03 | D32: Finansuoti žvyro įsigijimą seniūnijų keliams prižiūrėti | E32: SB | F32: 230 | G32: 230 | H32: 230 | I32: 230 | J32: Prižiūrimų žvyrkelių ilgis, km | K32: ~40 | L32: ~40 | M32: ~40
A33: 02 | B33: 01 | C33: 04 | D33: Atnaujinti ir plėsti komunalinių atliekų tvarkymo infrastruktūrą Kėdainių rajono savivaldybėje | E33: SB | F33: 70 | G33: 60 | H33: 0 | I33: 0 | J33: Įrengtų/atnaujintų požeminių, pusiau požeminių ir antžeminių konteinerių aikštelių skaičius | K33: 29
E34: SK | F34: 0 | G34: 0 | H34: 0 | I34: 0
E35: ES | F35: 367 | G35: 307.4 | H35: 0 | I35: 0
A36: 02 | B36: 01 | C36: 05 | D36: Sutvarkyti naudotas padangas, kurių turėtojų nustatyti neįmanoma arba kurie neegzistuoja | E36: SB | F36: 11.6 | G36: 11.6 | H36: 0 | I36: 0 | J36: |Sutvarkyta nadotų padangų, t | K36: 227
E37: SBVB | F37: 25 | G37: 15.4 | H37: 0 | I37: 0
A38: 02 | B38: 01 | C38: 06 | D38: Sutvarkyti namų ūkiuose susidariusias asbesto atliekas | E38: SB | F38: 9.2 | G38: 9.2 | H38: 0 | I38: 0 | J38: Sutvarkyta asbesto atliekų, t. | K38: 130
E39: SBVB | F39: 27.9 | G39: 27.8 | H39: 0 | I39: 0
A40: 02 | B40: 01 | C40: 07 | D40: Įsigyti tekstilės atliekų surinkimo konteinerius | E40: SB | F40: 7.6 | G40: 7.6 | H40: 0 | I40: 0 | J40: Įsigytų konteinerių skaičius | K40: 39
E41: SBVB | F41: 42.9 | G41: 42.9 | H41: 0 | I41: 0
A42: 02 | B42: 01 | C42: Iš viso uždaviniui | F42: =SUM(F29:F41) -> 5735.5 | G42: =SUM(G29:G41) -> 5731.2 | H42: =SUM(H29:H41) -> 5240.2 | I42: =SUM(I29:I41) -> 5390.2
...

Sheet 09ž.ū.
K1: 9 priedas
A2: 9 lentelė. 2023–2025 m. Žemės ūkio plėtros ir melioracijos programos (09) tikslai, uždaviniai, priemonės, asignavimai ir vertinimo kriterijai
J3: tūkst. Eur
