Workbook

Sheet 01šviet.
I1: Kėdainių rajono savivaldybės tarybos
I2: 2023 m. rugsėjo 29 d. sprendimo Nr. TS- 238
I3: priedas
A5: Kėdainių rajono savivaldybės 2023-2025 metų strateginio veiklos plano programų
A6: strateginius tikslus įgyvendinančių programų asignavimų priedai
J7: 1 priedas
A8: 1 lentelė. 2023–2025 m. Švietimo ir ugdymo programos (01) tikslai, uždaviniai, priemonės, asignavimai ir vertinimo kriterijai
K9: tūkst. Eur
A10: Programos tikslo kodas | B10: Uždavinio kodas | C10: Priemonės kodas | D10: Priemonės pavadinimas | E10: Finansavimo šaltinis | F10: * 2023-ųjų m. asignavimai | G10: Patikslinti 2023-ųjų m. asignavimai | H10: Numatomi 2024-ųjų m. asignavimai | I10: Numatomi 2025-ųjų m. asignavimai | J10: Vertinimo kriterijai
J11: Pavadinimas
K12: 2023 -ieji m. | L12: 2024 -ieji m. | M12: 2025 -ieji m.
A15: 01 ŠVIETIMAS IR UGDYMAS
A16: 01 | B16: Plėtoti kokybišką, visiems prieinamą, tęstinę švietimo sistemą savivaldybėje
A17: 01 | B17: 01 | C17: Sudaryti prielaidas ugdymo kokybei gerinti, mažinti ugdymo kokybės skirtumus tarp mokyklų, didinti pedagogų motyvaciją
A18: 01 | B18: 01 | C18: 01 | D18: Vykdyti švietimo programų įgyvendinimą ir užtikrinti tinkamą ugdymo(si) aplinką | E18: SBVB | F18: 18159.2 | G18: 18585.6 | H18: 18990 | I18: 19650 | J18: Vaikų skaičius ikimokyklinio ugdymo grupėse | K18: 1400 | L18: 1350 | M18: 1300
J19: Vaikų skaičius priešmokyklinio ugdymo grupėse | K19: 400 | L19: 370 | M19: 350
E20: SB | F20: 11471.7 | G20: 12251.4 | H20: 13500 | I20: 13900 | J20: Bendrojo ugdymo mokyklas lankančiųjų mokinių skaičius | K20: 5200 | L20: 5150 | M20: 5150
E21: ES | F21: 100 | G21: 100 | H21: 50 | I21: 50 | J21: Nelankančių bendrojo ugdymo mokyklų vaikų iki 16 metų skaičius | K21: 0 | L21: 0 | M21: 0
E22: ĮP | F22: 925.3 | G22: 925.3 | H22: 925 | I22: 925
A23: 01 | B23: 01 | C23: 02 | D23: Užtikrinti ugdymo programų įgyvendinimą ir tinkamą ugdymo (si) aplinką Kėdainių Dailės, Kalbų ir Muzikos mokyklose | E23: SBVB | F23: 59.6 | G23: 59.6 | H23: 64 | I23: 69 | J23: Vaikų, lankančių neformaliojo vaikų švietimo mokyklas, skaičius | K23: 1370 | L23: 1370 | M23: 1370
E24: SB | F24: 1654.8 | G24: 1800.4 | H24: 1950 | I24: 2080
E25: ĮP | F25: 252 | G25: 252 | H25: 252 | I25: 252
A26: 01 | B26: 01 | C26: 03 | D26: Teikti kvalifikuotą švietimo pagalbą mokiniui, mokytojui, mokyklai | E26: SBVB | F26: 747.9 | G26: 747.8 | H26: 750 | I26: 750 | J26: Organizuotų kvalifikacijos tobulinimo renginių skaičius / kvalifikaciją ir kompetenciją tobulinusių pedagogų, pagalbos mokinių specialistų, vadovų skaičius | K26: 150 / 3500 | L26: 150 / 3500 | M26: 150 / 3500
E27: SB | F27: 139.6 | G27: 150 | H27: 165 | I27: 171
E28: ĮP | F28: 19.4 | G28: 19.4 | H28: 19.5 | I28: 19.5
A29: 01 | B29: 01 | C29: 04 | D29: Organizuoti brandos egzaminų sesiją, pagrindinio ugdymo pasiekimų patikrinimą, nacionalinį mokinių pasiekimų patikrinimą bei tyrimus | E29: SBVB | F29: 9.6 | G29: 9.6 | H29: 9.6 | I29: 9.6 | J29: Brandos egzaminus laikančiųjų skaičius | K29: 370 | L29: 370 | M29: 370
A30: 01 | B30: 01 | C30: 05 | D30: Vykdyti neformaliojo vaikų švietimo programas | E30: SBVB | F30: 265 | G30: 261.6 | H30: 270 | I30: 275 | J30: Įgyvendinamų programų skaičius | K30: 66 | L30: 70 | M30: 70
E31: SB | F31: 245.1 | G31: 245.1 | H31: 283 | I31: 303
A32: 01 | B32: 01 | C32: 06 | D32: Įgyvendinti neformaliojo suaugusiųjų švietimo ir tęstinio mokymosi veiksmų planą | E32: SB | F32: 7 | G32: 7 | H32: 7 | I32: 7 | J32: Įgyvendintų programų skaičius | K32: 10 | L32: 10 | M32: 10
A33: 01 | B33: 01 | C33: 07 | D33: Įgyvendinti mokytojų ir pagalbos mokiniui specialistų motyvacijos programą | E33: SB | F33: 95 | G33: 95 | H33: 100 | I33: 120 | J33: Savivaldybės švietimo įstaigose dirbančių mokytojų, specialistų, kurie paskatinti, skaičius | K33: 780 | L33: 780 | M33: 780
A34: 01 | B34: 01 | C34: 08 | D34: Vykdyti socialinio - emocinio ugdymo programas | E34: SB | F34: 30.2 | G34: 30.2 | H34: 0 | I34: 0 | J34: Įstaigų, kuriose vykdomos socialinio - emocinio ugdymo programos, skaičius | K34: 23 | L34: 23 | M34: 23
A35: 01 | B35: 01 | C35: 09 | D35: Kompensuoti švietimo įstaigų darbuotojų važiavimo į/iš darbo išlaidas | E35: SB | F35: 98.9 | G35: 98.9 | H35: 100 | I35: 105 | J35: Mokytojų ir kitų ugdymo procese dalyvaujančių specialistų, kuriems kompensuojamos išlaidos, skaičius | K35: 247 | L35: 250 | M35: 250
A36: 01 | B36: 01 | C36: 10 | D36: Vykdyti skaitmeninio ugdymo plėtrą | E36: SBVB | F36: 52.1 | G36: 52.1 | H36: 100 | I36: 100 | J36: Įstaigų, plečiančių skaitmeninimą, skaičius | K36: 7 | L36: 12 | M36: 12
A37: 01 | B37: 01 | C37: 11 | D37: Finansuoti vaikų vasaros stovyklų ir kitų neformaliojo vaikų švietimo veiklų programas | E37: SB | F37: 50 | G37: 50 | H37: 50 | I37: 50 | J37: Finansuotų vaikų vasaros poilsio ir užimtumo programų skaičius | K37: 36 | L37: 36 | M37: 36
A38: 01 | B38: 01 | C38: 12 | D38: Skatinti savivaldybės gabius mokinius | E38: SB | F38: 17 | G38: 9 | H38: 17 | I38: 17 | J38: Mokinių, kuriems skirti piniginiai prizai, skaičius | K38: 153 | L38: 150 | M38: 150
E39: PR | F39: 0 | G39: 7 | H39: 0 | I39: 0
A40: 01 | B40: 01 | C40: 13 | D40: Įgyvendinti "Tūkstantmečio mokyklos I" projektą | E40: ES | F40: 250 | G40: 567 | H40: 1500 | I40: 433 | J40: Programoje, dalyvaujančių įstaigų skaičius | K40: 16 | L40: 16 | M40: 16
E41: VB | F41: 0 | G41: 100 | H41: 315 | I41: 46
A42: 01 | B42: 01 | C42: 14 | D42: Koofinansuoti ugdymo įstaigų dalyvavimą infrastruktūros gerinimo/modernizavimo projektuose | E42: SB | F42: 20 | G42: 5 | H42: 20 | I42: 20 | J42: Įstaigų, kurioms skirtas finansavimas, skaičius | K42: 1 | L42: 2 | M42: 2
A43: 01 | B43: 01 | C43: 15 | D43: Organizuoti ir užtikrinti Švietimo skyriaus specialistų darbą | E43: SB | F43: 178.7 | G43: 178.7 | H43: 189 | I43: 193 | J43: Kuruojamų švietimo įstaigų skaičius | K43: 27 | L43: 27 | M43: 27
E44: SBVB | F44: 0 | G44: 0 | H44: 0 | I44: 0
A45: 01 | B45: 01 | C45: 16 | D45: Teikti Metų mokytojo apdovanojimą | E45: SB | F45: 3 | G45: 3 | H45: 3 | I45: 3 | J45: Įteiktų apdovanojimų skaičius | K45: 1 | L45: 1 | M45: 1
A46: 01 | B46: 01 | C46: Iš viso uždaviniui | F46: =SUM(F18:F45) -> 34851.1 | G46: =SUM(G18:G45) -> 36610.7 | H46: =SUM(H18:H45) -> 39629.1 | I46: =SUM(I18:I45) -> 39548.1
A47: 01 | B47: Iš viso tikslui | F47: =+F46 -> 34851.1 | G47: =+G46 -> 36610.7 | H47: =+H46 -> 39629.1 | I47: =+I46 -> 39548.1
E48: SB | F48: =+F45+F43+F42+F38+F37+F35+F33+F32+F31+F27+F24+F20 -> 13980.8 | G48: =+G45+G43+G42+G38+G37+G35+G33+G32+G31+G27+G24+G20 -> 14893.5 | H48: =+H45+H43+H42+H38+H37+H35+H33+H32+H31+H27+H24+H20 -> 16384 | I48: =+I45+I43+I42+I38+I37+I35+I33+I32+I31+I27+I24+I20 -> 16969
E49: SBVB | F49: =+F44+F36+F30+F29+F26+F23+F18 -> 19293.4 | G49: =+G44+G36+G30+G29+G26+G23+G18 -> 19716.3 | H49: =+H44+H36+H30+H29+H26+H23+H18 -> 20183.6 | I49: =+I44+I36+I30+I29+I26+I23+I18 -> 20853.6
E50: ES | F50: =+F21 -> 100 | G50: =+G21 -> 100 | H50: =+H21 -> 50 | I50: =+I21 -> 50
E51: VB | F51: =+F41 -> 0 | G51: =+G41 -> 100 | H51: =+H41 -> 315 | I51: =+I41 -> 46
E52: PR | F52: =+F39 -> 0 | G52: =+G39 -> 7 | H52: =+H39 -> 0 | I52: =+I39 -> 0
E53: ĮP | F53: =+F28+F25+F22 -> 1196.7 | G53: =+G28+G25+G22 -> 1196.7 | H53: =+H28+H25+H22 -> 1196.5 | I53: =+I28+I25+I22 -> 1196.5
A54: 02 | B54: Tobulinti ugdymo(si) infrastruktūrą, aplinką, diegti inovacijas
A55: 02 | B55: 01 | C55: Gerinti darbo ir mokymo(si) sąlygas savivaldybės švietimo įstaigose
A56: 02 | B56: 01 | C56: 01 | D56: Modernizuoti Kėdainių šviesiosios gimnazijos pastatą Kėdainiuose, Didžioji g. 60 | E56: SBVB | F56: 353 | G56: 484 | H56: 0 | I56: 0 | J56: Atlikta einamaisiais metais numatytų darbų, proc. | K56: 100 | L56: 100 | M56: 100
E57: SK | F57: 100 | G57: 0 | H57: 0 | I57: 0
E58: SB | F58: 0 | G58: 0 | H58: 600 | I58: 600
A59: 02 | B59: 01 | C59: 02 | D59: Remontuoti Kėdainių „Ryto“ progimnaziją, kuriant šiuolaikines mokymosi erdves | E59: SB | F59: 20 | G59: 20 | H59: 50 | I59: 50 | J59: Įgyvendintų veiklų, modernizuojant edukacines erdves einamaisiais metais, proc. | K59: 100 | L59: 100 | M59: 100
A60: 02 | B60: 01 | C60: 03 | D60: Atnaujinti Lietuvos sporto universiteto Kėdainių „Aušros“ progimnaziją, kuriant modernias ir saugias erdves | E60: SB | F60: 89 | G60: 171 | H60: 0 | I60: 0 | J60: Įgyvendintų veiklų, atnaujinant progimnaziją bei modernizuojant edukacines erdves einamaisiais metais, proc. | K60: 100 | L60: 100
E61: SK | F61: 260 | G61: 260 | H61: 0 | I61: 0
E62: ES | F62: 22.4 | G62: 22.4 | H62: 0 | I62: 0
E63: VB | F63: 1.9 | G63: 1.9 | H63: 0 | I63: 0
A64: 02 | B64: 01 | C64: 04 | D64: Sudaryti saugias ugdymo sąlygas įstaigose, vykdančiose ugdymo programas | E64: SB | F64: 50 | G64: 63 | H64: 100 | I64: 100 | J64: Įstaigų skaičius, kuriose atlikti remonto darbai | K64: 2 | L64: 4 | M64: 4
A65: 02 | B65: 01 | C65: 05 | D65: Įrengti vėdinimo ir kondicionavimo sistemas savivaldybės ugdymo įstaigose | E65: SB | F65: 30 | G65: 30 | H65: 50 | I65: 50 | J65: Grupių, klasių ir egzaminų centrų skaičius, kuriose įrengta vėdinimo (kondicionavimo) sistema | K65: 23 | L65: 35 | M65: 35
A66: 02 | B66: 01 | C66: 06 | D66: Įrengti gamtos ir technologijų mokslų laboratorijas | E66: SB | F66: 50 | G66: 50 | H66: 50 | I66: 50 | J66: Įstaigų skaičius, kuriose įrengtos laboratorijos | K66: 4 | L66: 1 | M66: 1
A67: 02 | B67: 01 | C67: 07 | D67: Atnaujinti Kėdainių muzikos mokyklos pastato fasadą, laiptus į rūsį | E67: SB | F67: 5 | G67: 7 | H67: 15 | I67: 100 | J67: Atlikta numatytų darbų, proc. | K67: 100 | L67: 100 | M67: 100
A68: 02 | B68: 01 | C68: 08 | D68: Parengti bendrojo ir ikimokyklinio ugdymo įstaigų (skyrių) pastatų modernizavimo technines dokumentacijas | E68: SB | F68: 18 | G68: 18 | H68: 40 | I68: 40 | J68: Parengtos techninės dokumentacijos skaičius | K68: 1 | L68: 2 | M68: 2
A69: 02 | B69: 01 | C69: 09 | D69: Parengti Kėdainių šviesiosios gimnazijos fasado tvarkybos projektą | E69: SB | F69: 0 | G69: 0 | H69: 0 | I69: 15 | J69: Parengtų tvarkybos projektų skaičius | M69: 1
A70: 02 | B70: 01 | C70: 10 | D70: Kurti modernias ir šiuolaikines mokymosi erdves Kėdainių kalbų mokykloje | E70: SB | F70: 11 | G70: 11 | H70: 0 | I70: 0 | J70: Įkurta šiuolaikiška moderni mokymosi erdvė | K70: 1
E71: PR | F71: 6 | G71: 6 | H71: 0 | I71: 0
A72: 02 | B72: 01 | C72: 11 | D72: Įdiegti saulės elektrinės pagamintos energijos kaupimo įrenginį Kėdainių r. Šėtos gimnazijoje | E72: SB | F72: 15.7 | G72: 15.7 | H72: 0 | I72: 0 | J72: Įsigytas saulės energijos įrenginys, skaičius | K72: 1
E73: SBVB | F73: 62.6 | G73: 62.6 | H73: 0 | I73: 0
A74: 02 | B74: 01 | C74: 12 | D74: Didinti Kėdainių lopšelio-darželio „Varpelis“ (Pavasario g. 8, Kėdainiai) pastato energinį efektyvumą, modernizuoti vidaus erdves | E74: SK | F74: 426 | G74: 426 | H74: 0 | I74: 0 | J74: Pasiekta pastato energijos naudingumo klasė / atnaujintos vidaus erdvės | K74: B | L74: 100
E75: SB | F75: 0 | G75: 220 | H75: 120 | I75: 0
E76: ES | F76: 426 | G76: 426 | H76: 0 | I76: 0
A77: 02 | B77: 01 | C77: 13 | D77: Didinti Kėdainių lopšelio-darželio „Vyturėlis“ (Josvainių g. 53, Kėdainiai) pastato energinį efektyvumą, modernizuoti vidaus erdves | E77: SK | F77: 532 | G77: 682 | H77: 0 | I77: 0 | J77: Pasiekta pastato energijos naudingumo klasė / atnaujintos vidaus erdvės | K77: B | L77: 100
E78: SB | F78: 0 | G78: 450 | H78: 420 | I78: 0
E79: ES | F79: 532 | G79: 532 | H79: 0 | I79: 0
A80: 02 | B80: 01 | C80: 14 | D80: Didinti ugdymo prieinamumą atskirtį patiriantiems vaikams | E80: SB | F80: 30 | G80: 10 | H80: 52 | I80: 18 | J80: Mokyklų, kuriose įdiegtos universalaus dizaino ir kitos inžinerinės priemonės aplinką pritaikant asmenims, turintiems negalią, skaičius | M80: 2
E81: ES | F81: 0 | G81: 0 | H81: 300 | I81: 1200
E82: VB | F82: 0 | G82: 0 | H82: 40.5 | I82: 162
A83: 02 | B83: 01 | C83: 15 | D83: Plėtoti įvairialypį švietimą, vykdant visos dienos mokyklos veiklą | E83: SB | F83: 30 | G83: 10 | H83: 25 | I83: 11 | J83: Mokinių, kurie naudojasi sukurta visos dienos mokyklos infrastruktūra, skaičius | M83: <900
E84: ES | F84: 0 | G84: 0 | H84: 300 | I84: 700
E85: VB | F85: 0 | G85: 0 | H85: 40.5 | I85: 94.5
A86: 02 | B86: 01 | C86: 16 | D86: Vykdyti Kėdainių lopšelio-darželio „Žilvitis“ infrastruktūros modernizavimo projektą | E86: SB | F86: 1 | G86: 1 | H86: 0 | I86: 0 | J86: Projekto įgyvendinimas, proc. | K86: 100
E87: VB | F87: 0.8 | G87: 0.8 | H87: 0 | I87: 0
E88: ES | F88: 8.4 | G88: 8.4 | H88: 0 | I88: 0
A89: 02 | B89: 01 | C89: Iš viso uždaviniui | F89: =SUM(F56:F88) -> 3080.8 | G89: =SUM(G56:G88) -> 3988.8 | H89: =SUM(H56:H88) -> 2203 | I89: =SUM(I56:I88) -> 3190.5
A90: 02 | B90: Iš viso tikslui | F90: =+F89 -> 3080.8 | G90: =+G89 -> 3988.8 | H90: =+H89 -> 2203 | I90: =+I89 -> 3190.5
A91: Iš viso programai | F91: =+F90+F47 -> 37931.9 | G91: =+G90+G47 -> 40599.5 | H91: =+H90+H47 -> 41832.1 | I91: =+I90+I47 -> 42738.6
A92: iš jų:
A93: SAVIVALDYBĖS LĖŠOS | F93: =SUM(F94:F99) -> 36584.4 | G93: =SUM(G94:G99) -> 38828 | H93: =SUM(H94:H99) -> 39286.1 | I93: =SUM(I94:I99) -> 40053.1
A94: Savivaldybės biudžetas SB | F94: =+F86+F83+F80+F78+F75+F72+F70+F69+F68+F67+F66+F65+F64+F60+F59+F58+F45+F43+F42+F38+F37+F35+F33+F32+F31+F27+F24+F20+F34 -> 14360.7 | G94: =+G86+G83+G80+G78+G75+G72+G70+G69+G68+G67+G66+G65+G64+G60+G59+G58+G45+G43+G42+G38+G37+G35+G33+G32+G31+G27+G24+G20+G34 -> 16000.4 | H94: =+H86+H83+H80+H78+H75+H72+H70+H69+H68+H67+H66+H65+H64+H60+H59+H58+H45+H43+H42+H38+H37+H35+H33+H32+H31+H27+H24+H20+H34 -> 17906 | I94: =+I86+I83+I80+I78+I75+I72+I70+I69+I68+I67+I66+I65+I64+I60+I59+I58+I45+I43+I42+I38+I37+I35+I33+I32+I31+I27+I24+I20+I34 -> 18003
A95: Valstybės biudžeto specialiosios tikslinės dotacijos lėšos SBVB | F95: =+F18+F23+F26+F29+F30+F36+F44+F56+F73 -> 19709 | G95: =+G18+G23+G26+G29+G30+G36+G44+G56+G73 -> 20262.9 | H95: =+H18+H23+H26+H29+H30+H36+H44+H56+H73 -> 20183.6 | I95: =+I18+I23+I26+I29+I30+I36+I44+I56+I73 -> 20853.6
A96: Aplinkos apsaugos rėmimo specialiosios programos lėšos AA
A97: Iš pajamų už suteiktas paslaugas lėšos ĮP | F97: =+F22+F25+F28 -> 1196.7 | G97: =+G22+G25+G28 -> 1196.7 | H97: =+H22+H25+H28 -> 1196.5 | I97: =+I22+I25+I28 -> 1196.5
A98: Skolintos lėšos SK | F98: =+F77+F74+F61+F57 -> 1318 | G98: =+G77+G74+G61+G57 -> 1368 | H98: =+H77+H74+H61+H57 -> 0 | I98: =+I77+I74+I61+I57 -> 0
A99: Kelių priežiūros ir plėtros programos lėšos KPP
A100: KITOS LĖŠOS | F100: =+F101+F102+F103+F104 -> 1347.5 | G100: =+G101+G102+G103+G104 -> 1771.5 | H100: =+H101+H102+H103+H104 -> 2546 | I100: =+I101+I102+I103+I104 -> 2685.5
A101: Europos Sąjungos lėšos, užsienio fondų lėšos ES | F101: =+F88+F84+F81+F79+F76+F62+F40+F21 -> 1338.8 | G101: =+G88+G84+G81+G79+G76+G62+G40+G21 -> 1655.8 | H101: =+H88+H84+H81+H79+H76+H62+H40+H21 -> 2150 | I101: =+I88+I84+I81+I79+I76+I62+I40+I21 -> 2383
A102: Valstybės biudžeto lėšos VB | F102: =+F87+F85+F82+F63+F41 -> 2.7 | G102: =+G87+G85+G82+G63+G41 -> 102.7 | H102: =+H87+H85+H82+H63+H41 -> 396 | I102: =+I87+I85+I82+I63+I41 -> 302.5
A103: Privačios – investuotojų lėšos PR | F103: =+F71+F52 -> 6 | G103: =+G71+G52 -> 13 | H103: =+H71+H52 -> 0 | I103: =+I71+I52 -> 0
...

Sheet 01 prgr 01 01 07 priemone
A1: KĖDAINIŲ RAJONO SAVIVALDYBĖS MOKYTOJŲ IR PAGALBOS MOKINIUI SPECIALISTŲ MOTYVACIJOS PROGRAMA
A3: I SKYRIUS
A4: BENDROSIOS NUOSTATOS
A6: 1. Kėdainių rajono savivaldybės mokytojų, dirbančių pagal ikimokyklinio, priešmokyklinio, pradinio, pagrindinio, vidurinio, specialiojo ugdymo, neformaliojo švietimo programas, ir pagalbos mokiniui specialistų (psichologų, specialiųjų pedagogų, tiflopedagogų, surdopedagogų, logopedų, socialinių pedagogų) (toliau kartu vadinama – Pedagogai) motyvacijos programa (toliau – Programa) parengta atsižvelgiant į Lietuvos pažangos strategiją „Lietuva 2030“, Valstybinės švietimo 2013–2022 metų strategijos nuostatas, Lietuvos Respublikos švietimo, mokslo ir sporto ministerijos analizę „Lietuva. Švietimas šalyje ir regionuose 2022. Įtraukusis ugdymas“, Kėdainių rajono savivaldybės administracijos Švietimo skyriaus švietimo stebėsenos rodiklius, Programa siekiama prisidėti prie idėjos Lietuvai „Mokytojas – prestižinė profesija iki 2025 metų“ įgyvendinimo Kėdainių rajono savivaldybėje (toliau – Savivaldybė). Programos tikslas – imtis priemonių, kaip užtikrinti reikiamą Pedagogų poreikį ugdymo procesui organizuoti ir pritraukti Pedagogus dirbti švietimo įstaigose (toliau – mokykla).
A7: 2. Programa taikoma mokykloms, kurių savininkė yra Kėdainių rajono savivaldybės taryba.
A8: 3. Apraše vartojamos sąvokos:
A9: 3.1. motyvacija – priemonės ir metodai Pedagogus į mokyklas pritraukti;
A10: 3.2. trūkstamas Pedagogas – pedagogas, apie kurio poreikį ir laisvą vietą mokykloje paskelbta Švietimo, mokslo ir sporto ministerijos sukurtoje platformoje ieškantiems mokytojų, turintis teisę dalyvauti Pedagogų pritraukimo Programoje.
A12: II SKYRIUS
A13: SITUACIJOS ANALIZĖ
A15: 4. Valstybinės švietimo 2013–2022 m. strategijos (toliau – Strategija) tiksluose ir švietimo kaitos kryptyse (uždaviniuose) pažymima, jog „svarbi parama jaunam, pradedančiam veiklą mokytojui ir dėstytojui sukuriant palankias sąlygas karjerai“. Vienas Strategijos tikslų – mokytojo asmenybė: „pasiekti tokį pedagoginių bendruomenių lygį, kai jų daugumą sudaro apmąstantys, nuolat tobulėjantys ir rezultatyviai dirbantys profesionalūs mokytojai ir dėstytojai“. Šiam Strategijos tikslui pasiekti numatomos veiklos kryptys (uždaviniai): „motyvuoti gabius jaunus žmones rinktis karjerą formaliojo ir neformaliojo švietimo įstaigose“; „stiprinti motyvaciją suteikiant galimybių mokytojams ir dėstytojams nuolat tobulinti kvalifikaciją, plečiant kultūrinį akiratį, didinant šiuolaikinių technologijų išmanymą, orientuojantis į kūrybiškumo, pilietiškumo, lyderystės, verslumo ugdymą ir atrandant įvairesnį pedagoginių funkcijų spektrą.“
A16: 5. Lietuvos Respublikos švietimo, mokslo ir sporto ministerijos analizėje „Lietuva. Švietimo būklės apžvalga 2018. Gera mokykla“ pabrėžiama, kad Savivaldybėje reikia ieškoti priemonių mažinant miesto ir kaimo pagrindinio ugdymo programos mokinių mokymosi pasiekimų skirtumus; pritraukti daugiau jaunų mokytojų į savivaldybės mokyklas; tvarkyti mokyklų tinklą, didinti mokinių, vežiojamų į kaimo gimnazijas ar pagrindines mokyklas, skaičių.
... A22: 11. Į Savivaldybės bendrojo ugdymo, ikimokyklinio ugdymo ir neformaliojo vaikų švietimo mokyklas jaunų pedagogų dirbti ateina vis mažiau. 2022–2023 mokslo metais pedagogai iki 30 m. amžiaus tesudaro tik 2 proc., panaši tendencija buvo 2020 ir 2021 m. analizėse. Sulaukusių 60 m. ir vyresnio amžiaus pedagogų dalis sudaro 25 procentus (žr. 2 diagramą).
A26: 1 diagrama. Pedagogų skaičius 2020–2022 m. | C26: 2 diagrama. Pedagogų pasiskirstymas pagal pedagogų amžių
A29: 12. Švietimo, mokslo ir sporto ministerijos sukurtoje pedagogų poreikio platformoje 2022 m. lapkričio mėnesį Kėdainių r. savivaldybės švietimo įstaigos siūlė darbą 11 pedagogų: 3 psichologams, 2 fizikos mokytojams, 1 logopedui, socialiniam pedagogui, pradinio ugdymo, biologijos, chemijos ir matematikos mokytojui.
A31: III SKYRIUS
A32: PROGRAMOS ĮGYVENDINIMO PRIEMONIŲ PLANAS
A34: 13. Programos įgyvendinimo laikotarpis – 2023–2025 m.
A35: 14. Programos įgyvendinimo priemonių plane numatytos šios prioritetinės veiklos sritys, orientuotos į Pedagogų motyvacijos didinimą:
A36: 14.1. Pedagogų darbo ir socialinių sąlygų gerinimas;
A37: 14.2. Pedagogų pritraukimo įgyvendinimas;
A38: 14.3. Pedagogų emocinės saugios, draugiškos aplinkos gerinimas;
A39: 14.4. Pedagogų kvalifikacijos, profesinių kompetencijų ir profesinio augimo tobulinimas;
A40: 14.5. Pedagogų skatinimas už kryptingą pedagoginę veiklą ir rezultatus;
A41: 14.6. Pedagogų ir socialinių partnerių bendradarbiavimo stiprinimas.
A42: 15. Pateikiamas detalus Pedagogų motyvacijos programos įgyvendinimo priemonių planas: (žr. 1 lentelę):
A44: 1 lentelė. Pedagogų motyvacijos programos įgyvendinimo priemonių planas
A45: Eil. Nr. | B45: Priemonės, veiklos* | C45: Vykdytojai, socialiniai partneriai | D45: Lėšų poreikis (Eur)
D46: 2023 m. | E46: 2024 m. | F46: 2025 m.
A47: 15.1. | B47: Pedagogų darbo ir socialinių sąlygų gerinimas | C47: Savivaldybės administracija, | D47: Savivaldybės tarybos sprendimas | E47: Savivaldybės tarybos sprendimas | F47: Savivaldybės tarybos sprendimas
B48: 15.1.1. Važiavimo dirbti išlaidų kompensavimas | C48: mokyklų vadovai
A49: 15.2. | B49: Trūkstamų Pedagogų pritraukimo įgyvendinimas | C49: Savivaldybės administracija, mokyklų vadovai
B50: 15.2.1. Skatinti mokyklas teikti paraiškas programai „Renkuosi mokyti“
B54: 15.2.2. Būsto nuomos dalinė kompensacija (3 Pedagogams iki 200 Eur / mėn., nuomos sutartis privalo būti įregistruota Nekilnojamo turto registre.
D55: 7200 | E55: 7200 | F55: 7200
D56: 4800
B57: 15.2.3. Persikėlimo išlaidų dalinis kompensavimas (300 Eur vienkartinė išmoka) | D57: 900 | E57: 900 | F57: 900
D58: 600
B59: 15.2.4. vienkartinė materialinė iki 2400 Eur išmoka (neatskaičius mokesčių) su sąlyga, kad į laisvą Pedagogo pareigybę švietimo įstaigoje priimtas asmuo įsipareigoja dirbti ne trumpiau kaip vienerius mokslo metus. | D59: 7 200 | E59: 7 200 | F59: 7200
D60: 4800
B61: 15.2.5. iki 100 proc. studijų kainos apmokėjimas studentams, pasirinkusiems pedagogines studijas dalykų, kurių mokymui trūksta Pedagogų. Baigęs studijas pedagogas privalo dirbti mokykloje pagal įgytą specialybę ne mažiau kaip 5 metus.
D66: 12 000 | E66: 20 000 | F66: 28000
B67: 15.2.6. 200 Eur / mėn. tikslinės stipendijos studentams, pasirinkusiems pedagogines studijas dalykų, kurių mokymui trūksta Pedagogų. Baigęs studijas pedagogas privalo dirbti mokykloje pagal įgytą specialybę ne mažiau kaip 5 metus. | D67: 17100
B68: 15.2.7. Pedagogų darbo sąlygų gerinimas, palankaus psichologinio klimato kūrimas, darbo vietos pritaikymas.
B69: 15.2.8. Užtikrinti Pedagogą dėl darbo krūvio sandaros sudarymo nepažeidžiamumo mokykloje
B70: 15.2.9. Pedagoginė stažuotė pirmaisiais darbo metais – teikiama individuali praktinė pagalba (mentoriai)
A71: 15.3. | B71: Mokyklų emocinės saugios, draugiškos aplinkos gerinimas | C71: Savivaldybės administracija, mokyklų vadovai, Kėdainių švietimo pagalbos tarnyba
B72: 15.3.1. Inicijuoti ir vykdyti emocinės aplinkos mokyklose tyrimus ir aptarimus
B74: 15.3.2. Organizuoti tęstinius praktinius mokymus už socialinio emocinio ugdymo plėtojimą mokyklose atsakingiems asmenims
B75: 15.3.3. Plėtoti „Facebook“ paskyrą „Kėdainių r. savivaldybė“ organizuojant švietimo bendruomenės diskusijas ir apklausas
A76: 15.4. | B76: Pedagogų kvalifikacijos, profesinių kompetencijų ir profesinio augimo tobulinimas | C76: Savivaldybės administracija,
B77: 15.4.1. Pedagogų ir kitų ugdymo procese dalyvaujančių asmenų kvalifikacijos tobulinimas | C77: mokyklų vadovai
D79: Mokymo lėšos | E79: Mokymo lėšos | F79: Mokymo lėšos
B80: 15.4.2. Dalinis tarptautinių kvalifikacijos tobulinimo renginių bei bendradarbiavimo su savivaldybės užsienio partneriais išlaidų kompensavimas
B82: 15.4.3. Dalinis persikvalifikuojančių Pedagogų studijų finansavimas | D82: 3000 | E82: 3000 | F82: 3000
B83: 15.4.4. Pedagogų skaitmeninio raštingumo kompetencijų pagal skaitmeninio raštingumo programas tobulinimas | D83: Mokymo lėšos skaitmeninio ugdymo plėtrai | E83: Mokymo lėšos skaitmeninio ugdymo plėtrai | F83: Mokymo lėšos skaitmeninio ugdymo plėtrai
A84: 15.5. | B84: Pedagogų skatinimas už kryptingą pedagoginę veiklą ir rezultatus | C84: Savivaldybės administracija,
B85: 15.5.1. Skirti lėšas Pedagogų skatinimui už mokinių parengimą olimpiadoms ir pasiekimus, už inovatyvias ugdymo idėjas ir jų įgyvendinimą | C85: mokyklų vadovai
D87: 60000 | E87: 60000 | F87: 60000
B88: 15.5.2. Organizuoti forumus, konferencijas ir kitus renginius | C88: Savivaldybės administracija, | D88: 4700 | E88: 4700 | F88: 4700
C89: Kėdainių švietimo pagalbos tarnyba
A90: Iš viso: | D90: 95000 | E90: 103000 | F90: 111000
A92: 16. Pedagogui gali būti suteiktos visos arba dalis skatinimo priemonių pasirinktinai, išskyrus 15.2.2. – 15.2.56 punktuose numatytas priemones, iš kurių suteikiama tik viena pasirinkta.
A94: IV SKYRIUS
A95: DOKUMENTŲ PATEIKIMO TVARKA IR EIGA
A97: 17. Kasmet Savivaldybės administracijos švietimo skyrius surenka trūkstamų Pedagogų poreikį, patikrina, ar apie jį paskelbta Švietimo, mokslo ir sporto ministerijos platformoje ,,Mokyklos kviečia dirbti“. Trūkstamų pareigybių Pedagogai įgyja teisę dalyvauti Programoje.
A98: 18. Mokyklos, kurioms trūksta Pedagogų, teikia prašymą Savivaldybės administracijos direktoriui ( dėl 165.2 papunktyje išvardintų skatinimo priemonių skyrimo įdarbinamam Pedagogui. Prie prašymo pridedami priemonės skyrimo reikalingumą pagrindžiantys dokumentai (toliau – priedai).
A99: 19. Mokyklos prašymą nagrinėja Savivaldybės administracijos švietimo skyrius. Įvertinęs mokyklos prašymą ir priedus, teikia Savivaldybės administracijos direktoriui motyvuotą siūlymą dėl skatinimo priemonių skyrimo siūlomam kandidatui: skirti skatinimo priemones, skirti dalį priemonių, neskirti priemonių, nurodant motyvus.
A100: 20. Sprendimą dėl skatinimo priemonės skyrimo priima Savivaldybės administracijos direktorius.
A101: 21. Mokykla apie priimtą sprendimą dėl skatinimo priemonės teikimo Pedagogui informuojama ne vėliau kaip per 5 darbo dienas nuo sprendimo priėmimo dienos. Mokyklai elektroniniu būdu išsiunčiama Savivaldybės administracijos direktoriaus įsakymo kopija.
A102: 22. Skiriant numatytas skatinimo priemones, lėšos mokyklai pervedamos Administracijos direktoriaus įsakymu.
A103: 23. Jei sąlygos tinkamos visoms šalims, Savivaldybės administracijos direktorius, mokykla ir Pedagogas pasirašo trišalę sutartį dėl dalyvavimo Programoje.
A104: 24. Už sutartinių įsipareigojimų įvykdymą atsakinga mokykla, pasiūliusi Pedagogo kandidatūrą ir su juo sudariusi sutartį.
A107: V SKYRIUS
... A127: Švietimo skyriaus vedėja Vilma Dobrovolskienė

Sheet 02sveikat.
J1: 2 priedas
A2: 2 lentelė. 2023–2025 m. Sveikatos apsaugos (02) programos tikslai, uždaviniai, priemonės, asignavimai ir vertinimo kriterijai
J3: tūkst. Eur
A4: Programos tikslo kodas | B4: Uždavinio kodas | C4: Priemonės kodas | D4: Priemonės pavadinimas | E4: Finansavimo šaltinis | F4: * 2023-ųjų m. asignavimai | G4: Patikslinti 2023-ųjų m. asignavimai | H4: Numatomi 2024-ųjų m. asignavimai | I4: Numatomi 2025-ųjų m. asignavimai | J4: Vertinimo kriterijai
J5: Pavadinimas
K6: 2023 -ieji m. | L6: 2024 -ieji m. | M6: 2025 -ieji m.
A9: 02 SVEIKATOS APSAUGA
A10: 01 | B10: Stiprinti ir išsaugoti gyventojų sveikatą
A11: 01 | B11: 01 | C11: Sudaryti sąlygas gyventojams stiprinti sveikatą, kurti ir plėtoti su sveikatos stiprinimu susijusias paslaugas
A12: 01 | B12: 01 | C12: 01 | D12: Vykdyti Visuomenės sveikatos rėmimo specialiosios programos priemones | E12: AA | F12: 132.4 | G12: 149 | H12: 93 | I12: 93 | J12: Visuomenės sveikatos rėmimo specialiosios programos įgyvendinimas, proc. | K12: 100 | L12: 100 | M12: 100
A13: 01 | B13: 01 | C13: 02 | D13: Užtikrinti Kėdainių rajono savivaldybės visuomenės sveikatos biuro veiklą, vykdant visuomenės sveikatos priežiūros funkcijas | E13: SB | F13: 61.3 | G13: 68.6 | H13: 72 | I13: 76 | J13: Visuomenės sveikatos priežiūros funkcijų vykdymas, proc. | K13: 100 | L13: 100 | M13: 100
E14: SBVB | F14: 504.8 | G14: 504.8 | H14: 520 | I14: 530
E15: ĮP | F15: 23 | G15: 23 | H15: 23 | I15: 23
A16: 01 | B16: 01 | C16: 03 | D16: Peržiūrėti neveiksniais pripažintų asmenų būklę | E16: SBVB | F16: 1.8 | G16: 1.8 | H16: 1.8 | I16: 1.8 | J16: Asmenų, kurių neveiksnumas peržiūrėtas, skaičius | K16: 60 | L16: 60 | M16: 60
A17: 01 | B17: 01 | C17: 04 | D17: Gerinti pirminės asmens sveikatos priežiūros paslaugų teikimo prieinamumą tuberkuliozės srityje | E17: SB | F17: 0.6 | G17: 0.6 | H17: 0 | I17: 0 | J17: Tuberkulioze sergančių pacientų, kuriems buvo suteiktos socialinės paramos priemonės tuberkuliozės gydymo metu | K17: 4
E18: ES | F18: 7.2 | G18: 7.2 | H18: 0 | I18: 0
E19: VB | F19: 0.6 | G19: 0.6 | H19: 0 | I19: 0
A20: 01 | B20: 01 | C20: 05 | D20: Įgyvendinti projektą "Jaunimui palankios sveikatos priežiūros paslaugos" ir užtikrinti jo tęstinumą | E20: SB | F20: 15 | G20: 15 | H20: 19 | I20: 19 | J20: Tikslinių grupių asmenys, dalyvaujantys projekte skaičius | K20: 500 | L20: 600 | M20: 600
E21: ES | F21: 21 | G21: 21 | H21: 0 | I21: 0
A22: 01 | B22: 01 | C22: 06 | D22: Aprūpinti ikimokyklinio ugdymo įstaigų sveikatos kabinetus metodinėmis priemonėmis | E22: SB | F22: 16 | G22: 16 | H22: 0 | I22: 0 | J22: Ikimokyklinio ir mokyklinio ugdymo įstaigų sveikatos kabinetų, kuriuose atliktas remontas/ kabinetų, aprūpintų metodinėmis priemonėmis, skaičius | K22: 10/29
E23: ES | F23: 16.4 | G23: 16.4 | H23: 0 | I23: 0
E24: VB | F24: 2.6 | G24: 2.6 | H24: 0 | I24: 0
A25: 01 | B25: 01 | C25: 07 | D25: Užtikrinti projekto "Neįtikėtini metai" tęstinumą | E25: SB | F25: 5.3 | G25: 1.6 | H25: 15.8 | I25: 15.8 | J25: Projekte dalyvaujančiųjų skaičius | K25: 10 | L25: 30 | M25: 30
A26: 01 | B26: 01 | C26: Iš viso uždaviniui | F26: =SUM(F12:F25) -> 808 | G26: =SUM(G12:G25) -> 828.2 | H26: =SUM(H12:H25) -> 744.6 | I26: =SUM(I12:I25) -> 758.6
A27: 01 | B27: Iš viso tikslui | F27: =+F26 -> 808 | G27: =+G26 -> 828.2 | H27: =+H26 -> 744.6 | I27: =+I26 -> 758.6
A28: 02 | B28: Gerinti sveikatos priežiūros paslaugų kokybę ir prieinamumą, plėsti paslaugų spektrą, atnaujinti materialinę aplinką
A29: 02 | B29: 01 | C29: Siekti gyventojų sveikatos išsaugojimo, gerinant sveikatos priežiūros paslaugų kokybę ir prieinamumą
A30: 02 | B30: 01 | C30: 01 | D30: Vykdyti E. sveikatos informacinės sistemos palaikymo ir tobulinimo VšĮ Kėdainių PSPC ir VšĮ Kėdainių ligoninėje 2022-2026 m. programą | E30: SB | F30: 20 | G30: 20 | H30: 20 | I30: 20 | J30: Atnaujintos ir E. sveikatos IS funkcionalumui pritaikytos įrangos kompl. skaičius | K30: 6 | L30: 6 | M30: 6
E31: PR | F31: 42.2 | G31: 42.2 | H31: 42.2 | I31: 42.2
A32: 02 | B32: 01 | C32: 02 | D32: Vykdyti Kėdainių rajono tuberkuliozės prevencijos, ankstyvosios diagnostikos, gydymo ir kontrolės 2023–2027 m. programą | E32: SB | F32: 1.8 | G32: 1.8 | H32: 3 | I32: 3 | J32: Atliktų tyrimų ir paslaugų sk. | K32: 380 | L32: 380 | M32: 380
E33: PR | F33: 1.8 | G33: 1.8 | H33: 0.6 | I33: 0.6
A34: 02 | B34: 01 | C34: 03 | D34: Vykdyti pirminės asmens sveikatos priežiūros paslaugų prieinamumo ir kokybės užtikrinimo Kėdainių rajono kaimiškųjų vietovių gyventojams 2017–2025 m. programą | E34: SB | F34: 65 | G34: 75 | H34: 65 | I34: 65 | J34: Pacientų, patenkintų pirminės asmens sveikatos priežiūros paslaugų kokybe, skaičiaus didėjimas (proc.). | K34: 3 | L34: 3 | M34: 3
A35: 02 | B35: 01 | C35: 04 | D35: Vykdyti ambulatorinės akušerinės ir ginekologinės pagalbos kokybės gerinimo Kėdainių rajono savivaldybės moterims 2019-2024 m. programą | E35: SB | F35: 7 | G35: 7 | H35: 3 | I35: 0 | J35: Įsigytos įrangos skaičius/ vidutinis atliktų ultragarsinių tyrimų skaičius | K35: 285 | L35: 285
A36: 02 | B36: 01 | C36: 05 | D36: Vykdyti endoskopinių paslaugų prieinamumo ir kokybės gerinimo Kėdainių rajono savivaldybėje 2020-2025 m. programą | E36: SB | F36: 21.1 | G36: 21.1 | H36: 21.1 | I36: 10.5 | J36: Įsigytos įrangos skaičius / atliktų endoskopijų ir kolonoskopijų skaičius | K36: 1800 | L36: 1800 | M36: 1800
A37: 02 | B37: 01 | C37: 06 | D37: Vykdyti mamografijos paslaugų tęstinumo, kokybės gerinimo Kėdainių rajono savivaldybėje 2020-2025 m. programą | E37: SB | F37: 19.1 | G37: 19.1 | H37: 19.1 | I37: 3.1 | J37: Įsigytos įrangos skaičius / atliktų mamografijų ir vertinimo paslaugų skaičius per metus | K37: 1800 | L37: 1800 | M37: 1800
A38: 02 | B38: 01 | C38: 07 | D38: Vykdyti anestezijos paslaugų vaikams ir suaugusiesiems kokybės gerinimo Kėdainių rajono savivaldybėje 2022-2027 m. programą | E38: SB | F38: 25.9 | G38: 75.9 | H38: 25.9 | I38: 25.9 | J38: Atliktų bendrųjų anestezijų skaičius per metus | K38: 1482 | L38: 1482 | M38: 1482
E39: PR | F39: 0 | G39: 0 | H39: 0 | I39: 0
A40: 02 | B40: 01 | C40: 08 | D40: Vykdyti rentgeno paslaugų atnaujinimo, kokybės gerinimo Kėdainių rajono savivaldybėje 2022-2027 m. programą | E40: SB | F40: 28.5 | G40: 28.5 | H40: 28.3 | I40: 28.3 | J40: Atliktų rentgenologinių tyrimų skaičius/trumpesnės registracijos rentgeno tyrimui eilės, dienomis | K40: 10000/ 4 d. | L40: 10000/ 4 d. | M40: 10000/ 4 d.
A41: 02 | B41: 01 | C41: 09 | D41: Vykdyti tinkamų ir saugių darbo sąlygų užtikrinimo, įrengiant vėdinimo bei kondicionavimo sistemas VšĮ Kėdainių ligoninėje 2023-2028 m. programą | E41: SB | F41: 50.7 | G41: 50.7 | H41: 50.7 | I41: 50.7 | J41: Patalpų, kuriose įrengta vėdinimo (kondicionavimo) sistema, skaičius | K41: 39 | L41: 39 | M41: 39
A42: 02 | B42: 01 | C42: 10 | D42: Vykdyti tinkamų ir saugių darbo sąlygų užtikrinimo, įrengiant vėdinimo bei kondicionavimo sistemas VšĮ Kėdainių PSPC 2022-2026 m. programą | E42: SB | F42: 37.7 | G42: 37.7 | H42: 37.7 | I42: 36.4 | J42: Patalpų, kuriose įrengta vėdinimo (kondicionavimo) sistema, skaičius | K42: 29 | L42: 29 | M42: 28
A43: 02 | B43: 01 | C43: 11 | D43: Įgyvendinti žemo slenksčio paslaugų kokybės Kėdainių rajone užtikrinimo 2023-2027 m. programą | E43: SB | F43: 4.8 | G43: 4.8 | H43: 9 | I43: 9 | J43: Apsilankymai (kartais) žemo slenksčio paslaugų kabinetuose per metus | K43: 1000 | L43: 1000 | M43: 1000
E44: PR | F44: 4.7 | G44: 4.7 | H44: 0.5 | I44: 0.5
A45: 02 | B45: 01 | C45: 12 | D45: Vykdyti kompiuterinės tomografijos paslaugų kokybės gerinimo Kėdainių rajono savivaldybėje 2023-2030 m. programą | E45: SB | F45: 122.1 | G45: 122.1 | H45: 52.1 | I45: 52.1 | J45: Įsigytos įrangos skaičius / atliktų tyrimų skaičius | K45: 1/1500 | L45: 1/3000 | M45: 1/3000
A46: 02 | B46: 01 | C46: 13 | D46: Stiprinti vaikų, turinčių autizmo spektro ir kitų raidos sutrikimų, sveikatą, sudaryti galimybes siekti asmeninės pažangos, užtikrinti pilnaverčio socialinio dalyvavimo prielaidas | E46: SB | F46: 15 | G46: 15 | H46: 0 | I46: 0 | J46: Paslaugą gaunančių vaikų skaičius | K46: 15
A47: 02 | B47: 01 | C47: 14 | D47: Teikti Metų medicinos darbuotojo apdovanojimą | E47: SB | F47: 3 | G47: 3 | H47: 3 | I47: 3 | J47: Įteiktas Metų medicinos darbuotojo apdovanojimas | K47: 1 | L47: 1 | M47: 1
A48: 02 | B48: 01 | C48: 15 | D48: Vykdyti trūkstamos sveikatos priežiūros specialistų skatinimo dirbti VšĮ Kėdainių PSPC 2022-2026 m. programą | E48: SB | F48: 105.1 | G48: 49 | H48: 105.1 | I48: 105.1 | J48: Paskatintų specialistų skaičius / paskatų priemonių skaičius | K48: 10/1 | L48: 22/5 | M48: 22/5
E49: PR | F49: 75 | G49: 75 | H49: 75 | I49: 75
A50: 02 | B50: 01 | C50: 16 | D50: Vykdyti trūkstamos sveikatos priežiūros specialistų skatinimo dirbti VšĮ Kėdainių ligoninėje 2023-2026 m. programą | E50: SB | F50: 120 | G50: 70 | H50: 120 | I50: 120 | J50: Paskatintų specialistų skaičius (metinis vidurkis) / paskatų priemonių skaičius | K50: ~80/1 | L50: ~80/1 | M50: ~80/1
A51: 02 | B51: 01 | C51: 17 | D51: Vykdyti VšĮ Kėdainių ligoninės sterilizacinės modernizavimo 2023-2028 m. programą | E51: SB | F51: 53.3 | G51: 53.3 | H51: 31 | I51: 31 | J51: Įsigytos dezinfekacijos ir sterilizavimo įrangos (lizingas) skaičius /sutrumpėjusi sterilizavimo proceso trukmė | K51: 13 / ~45 min | L51: 13 / ~45 min | M51: 13 / ~45 min
A52: 02 | B52: 01 | C52: 18 | D52: Vykdyti pacientų eilių valdymo sistemos palaikymo VšĮ Kėdainių pirminės priežiūros centre 2022-2026 m. programą | E52: SB | F52: 3 | G52: 3 | H52: 3 | I52: 3 | J52: Pacientų, patenkintų eilių valdymo sistemos kokybe, skaičiaus didėjimas, proc. | K52: +5 | L52: +5 | M52: +5
E53: PR | F53: 0 | G53: 0 | H53: 0 | I53: 0
A54: 02 | B54: 01 | C54: Iš viso uždaviniui | F54: =SUM(F30:F53) -> 826.8 | G54: =SUM(G30:G53) -> 780.7 | H54: =SUM(H30:H53) -> 715.3 | I54: =SUM(I30:I53) -> 684.4
A55: 02 | B55: Iš viso tikslui | F55: =+F54 -> 826.8 | G55: =+G54 -> 780.7 | H55: =+H54 -> 715.3 | I55: =+I54 -> 684.4
A56: 03 | B56: Pritaikyti viešąją infrastruktūrą sveikatos gerinimo poreikiams
A57: 03 | B57: 01 | C57: Modernizuoti ir atnaujinti sveikatos priežiūros vidaus ir išorės infrastruktūrą
A58: 03 | B58: 01 | C58: 01 | D58: Rekonstruoti VšĮ Kėdainių ligoninės laboratorinio-stomatologinio korpusą | E58: SBVB | F58: 0 | G58: 0 | H58: 500 | I58: 500 | J58: Įgyvendinta einamaisiais metais numatomų atlikti projekto veiklų, proc. | L58: 100 | M58: 100
A59: 03 | B59: 01 | C59: 02 | D59: Remontuoti VšĮ Kėdainių ligoninės Neurologijos ir Priėmimo–skubios pagalbos skyrius | E59: SBVB | F59: 0 | G59: 0 | H59: 255 | I59: 0 | J59: Įgyvendinta einamaisiais metais numatomų atlikti projekto veiklų, proc. | L59: 100
A60: 03 | B60: 01 | C60: 03 | D60: Didinti pirminės asmens sveikatos priežiūros veiklos efektyvumą VšĮ Kėdainių pirminės sveikatos priežiūros centre | E60: SB | F60: 3.4 | G60: 3.4 | H60: 0 | I60: 0 | J60: Viešąsias sveikatos priežiūros paslaugas teikiančių įstaigų, kuriose pagerinta paslaugų teikimo infrastruktūra, skaičius / Gyventojų, pasinaudojusių pagerintomis paslaugomis, skaičius tūkst. | K60: 1 /40,3
E61: ES | F61: 38.5 | G61: 38.5 | H61: 0 | I61: 0
E62: VB | F62: 3.4 | G62: 3.4 | H62: 0 | I62: 0
A63: 03 | B63: 01 | C63: 04 | D63: Įgyvendinti priemones, skirtas žemo slenksčio paslaugų kokybės gerinimui Kėdainių rajono savivaldybėje | E63: ES | F63: 5.5 | G63: 5.5 | H63: 0 | I63: 0 | J63: Apsilankymai (kartais) žemo slenksčio paslaugų kabinetuose per metus | K63: 1562
E64: VB | F64: 1.1 | G64: 1.1 | H64: 0 | I64: 0
A65: 03 | B65: 01 | C65: Iš viso uždaviniui | F65: =SUM(F58:F64) -> 51.9 | G65: =SUM(G58:G64) -> 51.9 | H65: =SUM(H58:H64) -> 755 | I65: =SUM(I58:I64) -> 500
A66: 03 | B66: Iš viso tikslui | F66: =+F65 -> 51.9 | G66: =+G65 -> 51.9 | H66: =+H65 -> 755 | I66: =+I65 -> 500
A67: Iš viso programai | F67: =+F66+F55+F27 -> 1686.7 | G67: =+G66+G55+G27 -> 1660.8 | H67: =+H66+H55+H27 -> 2214.9 | I67: =+I66+I55+I27 -> 1943
A68: iš jų:
A69: SAVIVALDYBĖS LĖŠOS | F69: =SUM(F70:F75) -> 1466.7 | G69: =SUM(G70:G75) -> 1440.8 | H69: =SUM(H70:H75) -> 2096.6 | I69: =SUM(I70:I75) -> 1824.7
A70: Savivaldybės biudžetas SB | F70: =+F60+F47+F42+F41+F40+F38+F36+F37+F35+F34+F30+F22+F20+F17+F13+F46+F45+F43+F32+F52+F51+F50+F48+F25 -> 804.7 | G70: =+G60+G47+G42+G41+G40+G38+G36+G37+G35+G34+G30+G22+G20+G17+G13+G46+G45+G43+G32+G52+G51+G50+G48+G25 -> 762.2 | H70: =+H60+H47+H42+H41+H40+H38+H36+H37+H35+H34+H30+H22+H20+H17+H13+H46+H45+H43+H32+H52+H51+H50+H48+H25 -> 703.8 | I70: =+I60+I47+I42+I41+I40+I38+I36+I37+I35+I34+I30+I22+I20+I17+I13+I46+I45+I43+I32+I52+I51+I50+I48+I25 -> 676.9
A71: Valstybės biudžeto specialiosios tikslinės dotacijos lėšos SBVB | F71: =+F59+F58+F16+F14 -> 506.6 | G71: =+G59+G58+G16+G14 -> 506.6 | H71: =+H59+H58+H16+H14 -> 1276.8 | I71: =+I59+I58+I16+I14 -> 1031.8
A72: Aplinkos apsaugos rėmimo specialiosios programos lėšos AA | F72: =+F12 -> 132.4 | G72: =+G12 -> 149 | H72: =+H12 -> 93 | I72: =+I12 -> 93
A73: Iš pajamų už suteiktas paslaugas lėšos ĮP | F73: =+F15 -> 23 | G73: =+G15 -> 23 | H73: =+H15 -> 23 | I73: =+I15 -> 23
A74: Skolintos lėšos SK
A75: Kelių priežiūros ir plėtros programos lėšos KPP
A76: KITOS LĖŠOS | F76: =SUM(F77:F80) -> 220 | G76: =SUM(G77:G80) -> 220 | H76: =SUM(H77:H80) -> 118.3 | I76: =SUM(I77:I80) -> 118.3
A77: Europos Sąjungos lėšos, užsienio fondų lėšos ES | F77: =+F63+F61+F23+F21+F18 -> 88.6 | G77: =+G63+G61+G23+G21+G18 -> 88.6 | H77: =+H63+H61+H23+H21+H18 -> 0 | I77: =+I63+I61+I23+I21+I18 -> 0
A78: Valstybės biudžeto lėšos VB | F78: =+F64+F62+F19+F24 -> 7.7 | G78: =+G64+G62+G19+G24 -> 7.7 | H78: =+H64+H62+H19+H24 -> 0 | I78: =+I64+I62+I19+I24 -> 0
A79: Privačios – investuotojų lėšos PR | F79: =+F31+F39+F44+F33+F53+F49 -> 123.7 | G79: =+G31+G39+G44+G33+G53+G49 -> 123.7 | H79: =+H31+H39+H44+H33+H53+H49 -> 118.3 | I79: =+I31+I39+I44+I33+I53+I49 -> 118.3
A80: Kiti finansavimo šaltiniai KT
A81: *Patvirtinta 2023 m. sausio 27 d. Kėdainių rajono tarybos sprendimu Nr.TS-1

Sheet 03social.
J1: 3 priedas
A2: 3 lentelė. 2023–2025 m. Socialinės apsaugos plėtojimo programos (03) tikslai, uždaviniai, priemonės, asignavimai ir vertinimo kriterijai
K3: tūkst. Eur
A4: Programos tikslo kodas | B4: Uždavinio kodas | C4: Priemonės kodas | D4: Priemonės pavadinimas | E4: Finansavimo šaltinis | F4: * 2023-ųjų m. asignavimai | G4: Patikslinti 2023-ųjų m. asignavimai | H4: Numatomi 2024-ųjų m. asignavimai | I4: Numatomi 2025-ųjų m. asignavimai | J4: Vertinimo kriterijai
J5: Pavadinimas
K6: 2023 -ieji m. | L6: 2024 -ieji m. | M6: 2025 -ieji m.
A9: 03 SOCIALINĖS APSAUGOS PLĖTOJIMAS
A10: 01 | B10: Organizuoti socialinę paramą ir skatinti socialinę integraciją
A11: 01 | B11: 01 | C11: Organizuoti Lietuvos Respublikos teisės aktuose numatytos paramos bei paslaugų asmenims ir šeimoms teikimą
A12: 01 | B12: 01 | C12: 01 | D12: Teikti ir administruoti paramą mirties atveju, teikti ir administruoti socialines išmokas bei kompensacijas (būsto šildymo išlaidų, išlaidų šaltam bei nuotekoms ir išlaidų karštam vandeniui) | E12: SBVB | F12: 398.5 | G12: 398.5 | H12: 425 | I12: 425 | J12: Asmenų, gaunančių socialinę pašalpą ir kompensacijas, skaičius | K12: 10000 | L12: 10000 | M12: 10000
E13: SB | F13: 6254.6 | G13: 6280.6 | H13: 6500 | I13: 6500
A14: 01 | B14: 01 | C14: 02 | D14: Dengti išlaidas už įsigytus produktus, mokinio reikmenis, administruoti socialinę paramą mokiniams | E14: SBVB | F14: 947.6 | G14: 947.6 | H14: 965 | I14: 985 | J14: Mokinių, gaunančių nemokamą maitinimą, skaičius | K14: 2140 | L14: 2140 | M14: 2140
J15: Mokinių, gaunančių būtiniausius mokinio reikmenis, skaičius | K15: 1320 | L15: 1320 | M15: 1320
A16: 01 | B16: 01 | C16: 03 | D16: Organizuoti nemokamą socialiai remtinų vaikų maitinimą ikimokyklinėse įstaigose | E16: SB | F16: 75 | G16: 75 | H16: 75 | I16: 75 | J16: Vaikų, gaunančių nemokamą maitinimą, skaičius | K16: 440 | L16: 440 | M16: 440
A17: 01 | B17: 01 | C17: 04 | D17: Kompensuoti nemokamo mokinių maitinimo kainą bendrojo lavinimo mokyklose | E17: SB | F17: 240 | G17: 240 | H17: 245 | I17: 250 | J17: Mokinių, gaunančių nemokamą maitinimą, skaičius | K17: 2140 | L17: 2140 | M17: 2300
A18: 01 | B18: 01 | C18: 05 | D18: Teikti tikslines kompensacijas, išmokas neįgaliesiems | E18: VB | F18: 3144 | G18: 3144 | H18: 3180 | I18: 3240 | J18: Asmenų, gaunančių šalpos išmokas, skaičius | K18: 1456 | L18: 1460 | M18: 1460
E19: SBVB | F19: 0.1 | G19: 0.1 | H19: 0.1 | I19: 0.1
A20: 01 | B20: 01 | C20: 06 | D20: Teikti išmokas vaikams | E20: VB | F20: 11433.2 | G20: 11433.2 | H20: 11500 | I20: 11500 | J20: Asmenų, gaunančių išmokas vaikams, skaičius | K20: 11500 | L20: 11300 | M20: 11300
A21: 01 | B21: 01 | C21: 07 | D21: Teikti kompensacijas ginkluoto pasipriešinimo dalyvių šeimoms, sovietinėje armijoje sužalotiems asmenims bei žuvusiųjų šeimoms | E21: VB | F21: 8.1 | G21: 8.1 | H21: 8.1 | I21: 8.1 | J21: Asmenų, gavusių kompensacijas, skaičius | K21: 2 | L21: 2 | M21: 2
A22: 01 | B22: 01 | C22: 08 | D22: Kompensuoti būsto nuomos ar išperkamosios būsto nuomos mokesčių dalį | E22: SBVB | F22: 0.7 | G22: 13.1 | H22: 13 | I22: 13 | J22: Asmenų, gavusių būsto nuomos ar išperkamosios būsto nuomos mokesčių dalies kompensaciją, skaičius iš bendro asmenų, turinčių teisę į paramą būstui išsinuomoti ir įrašytų į sąrašus, skaičiaus, proc. | K22: 10 | L22: 11 | M22: 12
A23: 01 | B23: 01 | C23: 09 | D23: Finansuoti išlaidas už būsto suteikimą užsieniečiams, pasitraukusiems iš Ukrainos dėl Rusijos Federacijos karinių veiksmų Ukrainoje | E23: SBVB | F23: 100 | G23: 200.4 | H23: 0 | I23: 0 | J23: Paramos pagal poreikį teikimas | K23: 100
A24: 01 | B24: 01 | C24: 10 | D24: Kompensuoti savivaldybės patirtas išlaidas užsieniečiams, pasitraukusiems iš Ukrainos dėl Rusijos Federacijos karinių veiksmų Ukrainoje, priimti ir pagalbai jiems teikti įgyvendinant Lietuvos Respublikos piniginės socialinės paramos nepasiturintiems gyventojams įstatymą | E24: SBVB | F24: 40 | G24: 97.7 | H24: 0 | I24: 0 | J24: Gautos kompensacijos dalis, proc., per numatytą laikotarpį | K24: 100
A25: 01 | B25: 01 | C25: 11 | D25: Teikti vienkartines išmokas įsikurti gyvenamojoje vietoje savivaldybės teritorijoje ir (ar) mėnesines kompensacijas vaiko ugdymo pagal ikimokyklinio ir priešmokyklinio ugdymo programą | E25: SBVB | F25: 0.6 | G25: 2.6 | H25: 0 | I25: 0 | J25: Paramos pagal poreikį teikimas
A26: 01 | B26: 01 | C26: 12 | D26: Kompensuoti kelionės išlaidas už lengvatinį keleivių vežimą | E26: SB | F26: 707.2 | G26: 707.2 | H26: 707.2 | I26: 707.2 | J26: Parduotų su nuolaida bilietų skaičius (tūkst.) | K26: 900 | L26: 900 | M26: 900
A27: 01 | B27: 01 | C27: 13 | D27: Užtikrinti Lietuvos Respublikos piniginės socialinės paramos nepasiturintiems gyventojams įstatymo įgyvendinimą | E27: SBVB | F27: 0 | G27: 1639.3 | H27: 0 | I27: 0 | J27: Paramos pagal poreikį teikimas
A28: 01 | B28: 01 | C28: 14 | D28: Apmokėti būstų nuomai iš fizinių ar juridinių asmenų | E28: SBVB | F28: 0 | G28: 0.7 | H28: 0 | I28: 0 | J28: Funkcijos vykdymo užtikrinimas | K28: 100
A29: 01 | B29: 01 | C29: 15 | D29: Teikti socialinę paramą mokiniams pagal Lietuvos Respublikos socialinės paramos mokiniams įstatymą užsieniečiams, pasitraukusiems iš Ukrainos dėl Rusijos federacijos karinių veiksmų Ukrainoje | E29: SBVB | F29: 0 | G29: 16 | H29: 0 | I29: 0 | J29: Funkcijos vykdymo užtikrinimas | K29: 100
A30: 01 | B30: 01 | C30: 16 | D30: Teikti paramą būstui išsinuomoti pagal Lietuvos Respublikos paramos būstui įsigyti ar išsinuomoti įstatymą užsieniečiams, pasitraukusiems iš Ukrainos dėl Rusijos federacijos karinių veiksmų Ukrainoje | E30: SBVB | F30: 0 | G30: 1 | H30: 0 | I30: 0 | J30: Funkcijos vykdymo užtikrinimas | K30: 100
A31: 01 | B31: 01 | C31: 17 | D31: Padengti išlaidas patirtas teikiant specialiąsias socialines paslaugas užsieniečiams, pasitraukusiems iš Ukrainos dėl Rusijos federacijos karinių veiksmų Ukrainoje | E31: SBVB | F31: 0 | G31: 0.8 | H31: 0 | I31: 0 | J31: Funkcijos vykdymo užtikrinimas | K31: 100
A32: 01 | B32: 01 | C32: Iš viso uždaviniui | F32: =SUM(F12:F31) -> 23349.6 | G32: =SUM(G12:G31) -> 25205.9 | H32: =SUM(H12:H31) -> 23618.4 | I32: =SUM(I12:I31) -> 23703.4
A33: 01 | B33: 02 | C33: Gerinti socialinę aplinką ir didinti socialinės paramos įvairovę
A34: 01 | B34: 02 | C34: 01 | D34: Teikti savivaldybės paramą socialiai pažeidžiamoms grupėms (šeimoms patiriančioms riziką, senyvo amžiaus, neįgaliems asmenims ir kt.) | E34: SB | F34: 201.9 | G34: 214.3 | H34: 214.3 | I34: 214.3 | J34: Asmenų, gaunančių savivaldybės paramą, skaičius | K34: 4300 | L34: 4300 | M34: 4300
A35: 01 | B35: 02 | C35: 02 | D35: Dengti kainų skirtumą gyventojams už šildymą | E35: SB | F35: 153.5 | G35: 153.5 | H35: 153.5 | I35: 153.5 | J35: Bendras gyvenamas plotas, kuriam dengiamas kainų skirtumas (tūkst. kv. metrų) | K35: 500 | L35: 500 | M35: 500
A36: 01 | B36: 02 | C36: 03 | D36: Kompensuoti karšto ir šalto vandens pardavimo kainą socialiai remtiniems asmenims | E36: SB | F36: 170 | G36: 170 | H36: 170 | I36: 170 | J36: Asmenų, gaunančių kompensaciją, skaičius | K36: 8000 | L36: 8000 | M36: 8000
A37: 01 | B37: 02 | C37: 04 | D37: Teikti vienkartinę išmoką gimus vaikui Lietuvos Respublikos teritorijoje ir gyvenančiam Kėdainių rajono savivaldybėje | E37: SB | F37: 30 | G37: 30 | H37: 30 | I37: 30 | J37: Asmenų, gaunančių kompensaciją, skaičius | K37: 320 | L37: 320 | M37: 320
A38: 01 | B38: 02 | C38: 05 | D38: Kompensuoti socialinių įstaigų darbuotojų važiavimo į/iš darbo išlaidas | E38: SB | F38: 35.6 | G38: 35.6 | H38: 35.6 | I38: 35.6 | J38: Darbuotojų, kuriems kompensuojamos išlaidos, skaičius | K38: 65 | L38: 65 | M38: 65
A39: 01 | B39: 02 | C39: 06 | D39: Teikti Metų socialinio darbuotojo apdovanojimą | E39: SB | F39: 3 | G39: 3 | H39: 3 | I39: 3 | J39: Įteiktas Metų socialinio darbuotojo apdovanojimas | K39: 1 | L39: 1 | M39: 1
A40: 01 | B40: 02 | C40: Iš viso uždaviniui | F40: =SUM(F34:F39) -> 594 | G40: =SUM(G34:G39) -> 606.4 | H40: =SUM(H34:H39) -> 606.4 | I40: =SUM(I34:I39) -> 606.4
A41: 01 | B41: Iš viso tikslui | F41: =+F40+F32 -> 23943.6 | G41: =+G40+G32 -> 25812.3 | H41: =+H40+H32 -> 24224.8 | I41: =+I40+I32 -> 24309.8
A42: 02 | B42: Gerinti socialinių paslaugų prieinamumą, užtikrinti jų teikimą bei didinti socialinių paslaugų ir jų teikėjų įvairovę
A43: 02 | B43: 01 | C43: Plėsti socialinių paslaugų įvairovę, skatinti socialines inovacijas
A44: 02 | B44: 01 | C44: 01 | D44: Finansuoti socialinės globos ir akredituotos socialinės priežiūros paslaugas teikiamas ne savivaldybės pavaldumo ir nevyriausybinėse organizacijose, pirkti paslaugas | E44: SB | F44: 520 | G44: 520 | H44: 580 | I44: 640 | J44: Tiekėjų, teikiančių paslaugas, skaičius | K44: 17 | L44: 19 | M44: 21
A45: 02 | B45: 01 | C45: 02 | D45: Plėsti Kėdainių rajono savivaldybės socialines paslaugas teikiančių įstaigų informacinių technologijų aplinką bei elektronines paslaugas | E45: SB | F45: 10.8 | G45: 10.8 | H45: 10.8 | I45: 10.8 | J45: Įstaigų, taikančių inovatyvias informacines technologijas, skaičius | K45: 2 | L45: 3 | M45: 4
A46: 02 | B46: 01 | C46: Iš viso uždaviniui | F46: =+F45+F44 -> 530.8 | G46: =+G45+G44 -> 530.8 | H46: =+H45+H44 -> 590.8 | I46: =+I45+I44 -> 650.8
A47: 02 | B47: 02 | C47: Užtikrinti ir gerinti socialines paslaugas, teikiamas institucijose, namuose ir bendruomenėje pagyvenusio ir senyvo amžiaus asmenims
A48: 02 | B48: 02 | C48: 01 | D48: Užtikrinti paslaugų teikimą Kėdainių bendruomenės socialiniame centre | E48: SB | F48: 1167.5 | G48: 1202.1 | H48: 1380 | I48: 1477 | J48: Asmenų, gaunančių socialines paslaugas, skaičius /asmenų, kuriems teikiamos paslaugos procentas, palyginus su visais asmenimis, kuriems nustatytas paslaugos poreikis | K48: 430/98 | L48: 430/98 | M48: 430/98
E49: SBVB | F49: 0 | G49: 66.1 | H49: 0 | I49: 0
E50: ĮP | F50: 87.7 | G50: 87.7 | H50: 87.7 | I50: 87.7
A51: 02 | B51: 02 | C51: 02 | D51: Užtikrinti paslaugų teikimą Dotnuvos slaugos namuose | E51: SB | F51: 328.2 | G51: 341.3 | H51: 368 | I51: 394
E52: SBVB | F52: 0 | G52: 11.5 | H52: 0 | I52: 0
E53: ĮP | F53: 346.1 | G53: 346.1 | H53: 350 | I53: 360
A54: 02 | B54: 02 | C54: 03 | D54: Užtikrinti paslaugų teikimą Josvainių socialinio ir ugdymo centre | E54: SB | F54: 346.9 | G54: 362.2 | H54: 393 | I54: 421
E55: SBVB | F55: 0 | G55: 14.8 | H55: 0 | I55: 0
E56: ĮP | F56: 231.7 | G56: 231.7 | H56: 240 | I56: 250
A57: 02 | B57: 02 | C57: 04 | D57: Užtikrinti paslaugų teikimą Šėtos socialinio ir ugdymo centre | E57: SB | F57: 393.3 | G57: 413.4 | H57: 412 | I57: 441
E58: SBVB | F58: 0 | G58: 15.7 | H58: 0 | I58: 0
E59: ĮP | F59: 246.9 | G59: 246.9 | H59: 250 | I59: 260
A60: 02 | B60: 02 | C60: 05 | D60: Įgyvendinti savarankiško gyvenimo namų paslaugų asmenims su sutrikusiu intelektu teikimo programą | E60: SB | F60: 90 | G60: 90 | H60: 90 | I60: 90 | J60: Paslaugas gavusių asmenų skaičius | K60: 21 | L60: 21 | M60: 21
A61: 02 | B61: 02 | C61: 06 | D61: Įgyvendinti savarankiško gyvenimo namų paslaugų senyvo amžiaus asmenims teikimo programą | E61: SB | F61: 15 | G61: 15 | H61: 15 | I61: 15 | J61: Paslaugas gavusių asmenų skaičius | K61: 5 | L61: 5 | M61: 5
A62: 02 | B62: 02 | C62: 07 | D62: Teikti integralią pagalbą į namus Kėdainių rajone | E62: SB | F62: 10 | G62: 0 | H62: 10 | I62: 10 | J62: Paslaugas gavusių asmenų skaičius | K62: 35 | L62: 35 | M62: 35
E63: ES | F63: 100 | G63: 100 | H63: 100 | I63: 100
A64: 02 | B64: 02 | C64: 08 | D64: Organizuoti socialinės reabilitacijos paslaugų neįgaliesiems bendruomenėje projektų konkursus | E64: SBVB | F64: 102.6 | G64: 93.7 | H64: 102.6 | I64: 102.6 | J64: Neįgaliųjų, gavusių paslaugas, skaičius | K64: 180 | L64: 200 | M64: 200
E65: SB | F65: 58.5 | G65: 58.5 | H65: 60 | I65: 65
A66: 02 | B66: 02 | C66: 09 | D66: Teikti socialinę globą asmenims su sunkia negalia | E66: SBVB | F66: 615 | G66: 721.9 | H66: 1200 | I66: 1200 | J66: Globojamų asmenų skaičius/globojamų asmenų, kuriems teikiamos paslaugos, procentas, palyginus su visais asmenimis, kuriems nustatytas paslaugos poreikis | K66: 230/98 | L66: 230/98 | M66: 230/98
A67: 02 | B67: 02 | C67: 10 | D67: Teikti ir administruoti asmeninę pagalbą | E67: SBVB | F67: 132.8 | G67: 67.7 | H67: 150.4 | I67: 150.4 | J67: Asmenų, gaunančių išmokas, skaičius, tūkst. | K67: 10 | L67: 12 | M67: 14
E68: SB | F68: 2 | G68: 2 | H68: 2 | I68: 2
A69: 02 | B69: 02 | C69: Iš viso uždaviniui | F69: =SUM(F48:F68) -> 4274.2 | G69: =SUM(G48:G68) -> 4488.3 | H69: =SUM(H48:H68) -> 5210.7 | I69: =SUM(I48:I68) -> 5425.7
A70: 02 | B70: 03 | C70: Užtikrinti ir gerinti stacionarias ir nestacionarias socialines paslaugas socialinę riziką patiriančioms šeimoms, asmenims ir vaikams
A71: 02 | B71: 03 | C71: 01 | D71: Užtikrinti stacionarių ir nestacionarių socialinių paslaugų teikimą Kėdainių pagalbos šeimai centre | E71: SB | F71: 1379.8 | G71: 1423.2 | H71: 1699 | I71: 1818 | J71: Asmenų, gaunančių socialines paslaugas, skaičius /asmenų, kuriems teikiamos paslaugos procentas, palyginus su visais asmenimis, kuriems nustatytas paslaugos poreikis | K71: 430/98 | L71: 430/98 | M71: 430/98
E72: SBVB | F72: 136 | G72: 193.1 | H72: 136 | I72: 136
E73: ĮP | F73: 13 | G73: 13 | H73: 13 | I73: 13
A74: 02 | B74: 03 | C74: 02 | D74: Teikti šeimoms ir asmenims kompleksinę pagalbą | E74: ES | F74: 123.4 | G74: 123.4 | H74: 100 | I74: 100 | J74: Asmenų, kuriems suteiktos paslaugos, skaičius | K74: 200 | L74: 200 | M74: 200
E75: SBVB | F75: 24.7 | G75: 24.7 | H75: 24.7 | I75: 24.7 | J75: Bendruomeninių šeimos namų darbuotojų pareigybių skaičius | K75: 1 | L75: 1 | M75: 1
A76: 02 | B76: 03 | C76: 03 | D76: Skatinti globą šeimoje, teikti pagalbą globėjams ir vaikams | E76: ES | F76: 103 | G76: 103 | H76: 103 | I76: 103 | J76: Asmenų, kuriems suteiktos paslaugos, skaičius | K76: 150 | L76: 150 | M76: 150
E77: SB | F77: 103 | G77: 103 | H77: 103 | I77: 103
A78: 02 | B78: 03 | C78: 04 | D78: Finansuoti vaikų dienos centrų veiklos programas | E78: SB | F78: 117.1 | G78: 117.1 | H78: 130 | I78: 140 | J78: Finansuotų vaikų dienos centrų skaičius/veiklose dalyvavusių vaikų, jaunuolių skaičius | K78: 9/155 | L78: 9/155 | M78: 9/155
E79: SBVB | F79: 160.7 | G79: 160.7 | H79: 160.7 | I79: 160.7
A80: 02 | B80: 03 | C80: 05 | D80: Teikti pagalbą į krizines situacijas patekusiems, smurtą artimoje aplinkoje patyrusiems asmenims ir jų šeimų nariams | E80: SB | F80: 18.4 | G80: 18.4 | H80: 18.4 | I80: 18.4 | J80: Asmenų, kuriems suteikta psichologinė, konsultacinė pagalba, skaičius | K80: 100 | L80: 100 | M80: 100
A81: 02 | B81: 03 | C81: 06 | D81: Užtikrinti laisvės atėmimo bausmę atlikusių asmenų integraciją į visuomenę | E81: SB | F81: 10 | G81: 10 | H81: 10 | I81: 10 | J81: Asmenų, kuriems suteikta pagalba, skaičius | K81: 40 | L81: 40 | M81: 40
A82: 02 | B82: 03 | C82: 07 | D82: Teikti socialinę priežiūrą šeimoms, patiriančioms socialinę riziką | E82: SBVB | F82: 1008.1 | G82: 872.1 | H82: 1008.1 | I82: 1008.1 | J82: Socialinių darbuotojų ir atvejo vadybininkų darbui su šeimomis, patiriančiomis socialinę riziką, skaičius/šeimų, kurioms teikiamos paslaugos, procentas, palyginus su visomis šeimomis, kurioms nustatytas paslaugos poreikis | K82: 32/100 | L82: 32/100 | M82: 32/100
A83: 02 | B83: 03 | C83: 08 | D83: Įgyvendinti Kėdainių rajono savivaldybės užimtumo didinimo programą | E83: SBVB | F83: 190.1 | G83: 190.1 | H83: 190.1 | I83: 190.1 | J83: Pasibaigus užimtumo didinimo programoms po 6 mėnesių dirbs arba vykdys savarankišką veiklą asmenų dalis iš užimtumo didinimo programų dalyvių skaičiaus (procentai) | K83: 13 | L83: 13 | M83: 13
E84: SB | F84: 59.1 | G84: 59.1 | H84: 59.1 | I84: 59.1
A85: 02 | B85: 01 | C85: Iš viso uždaviniui | F85: =SUM(F71:F84) -> 3446.4 | G85: =SUM(G71:G84) -> 3410.9 | H85: =SUM(H71:H84) -> 3755.1 | I85: =SUM(I71:I84) -> 3884.1
A86: 02 | B86: Iš viso tikslui | F86: =+F85+F69+F46 -> 8251.4 | G86: =+G85+G69+G46 -> 8430 | H86: =+H85+H69+H46 -> 9556.6 | I86: =+I85+I69+I46 -> 9960.6
A87: 03 | B87: Modernizuoti socialinių paslaugų įstaigų infrastruktūrą
A88: 03 | B88: 01 | C88: Gerinti socialines paslaugas teikiančių įstaigų ir socialinio būsto infrastruktūrą
A89: 03 | B89: 01 | C89: 01 | D89: Užtikrinti socialinio būsto fondo plėtrą Kėdainiuose | E89: SB | F89: 220 | G89: 220 | H89: 200 | I89: 200 | J89: Įsigytų socialinės paskirties butų skaičius | K89: 5 | L89: 5 | M89: 5
E90: ES | F90: 9.8 | G90: 9.8 | H90: 0 | I90: 0
A91: 03 | B91: 01 | C91: 02 | D91: Remontuoti savivaldybės ir socialinį būstą | E91: SB | F91: 150 | G91: 150 | H91: 200 | I91: 200 | J91: Einamaisiais metais pagal poreikį atliktų remontų socialiniuose būstuose skaičius, proc. | K91: 100 | L91: 100 | M91: 100
A92: 03 | B92: 01 | C92: 03 | D92: Prisidėti prie savivaldybei priklausančio būsto renovacijos savivaldybės biudžeto lėšomis | E92: SB | F92: 15 | G92: 15.5 | H92: 15 | I92: 15 | J92: Finansavimas pagal teikiamą poreikį | K92: 100 | L92: 100 | M92: 100
A93: 03 | B93: 01 | C93: 04 | D93: Pritaikyti viešąją aplinką specialiųjų poreikių turintiems gyventojams | E93: SB | F93: 42 | G93: 42 | H93: 42 | I93: 42 | J93: Objektų, pritaikytų neįgaliųjų poreikiams, skaičius | K93: 2 | L93: 2 | M93: 2
A94: 03 | B94: 01 | C94: 05 | D94: Organizuoti ir dalinai kompensuoti būsto pritaikymą neįgaliesiems | E94: SBVB | F94: 37.5 | G94: 28.7 | H94: 37.5 | I94: 37.5 | J94: Pritaikytų būstų neįgaliesiems skaičius | K94: 6 | L94: 6 | M94: 6
A95: 03 | B95: 01 | C95: Iš viso uždaviniui | F95: =SUM(F89:F94) -> 474.3 | G95: =SUM(G89:G94) -> 466 | H95: =SUM(H89:H94) -> 494.5 | I95: =SUM(I89:I94) -> 494.5
A96: 03 | B96: Iš viso tikslui | F96: =+F95 -> 474.3 | G96: =+G95 -> 466 | H96: =+H95 -> 494.5 | I96: =+I95 -> 494.5
A97: Iš viso programai | F97: =+F96+F86+F41 -> 32669.3 | G97: =+G96+G86+G41 -> 34708.3 | H97: =+H96+H86+H41 -> 34275.9 | I97: =+I96+I86+I41 -> 34764.9
A98: iš jų:
A99: SAVIVALDYBĖS LĖŠOS | F99: =SUM(F100:F105) -> 17747.8 | G99: =SUM(G100:G105) -> 19786.8 | H99: =SUM(H100:H105) -> 19284.8 | I99: =SUM(I100:I105) -> 19713.8
A100: Savivaldybės biudžetas SB | F100: =+F93+F91+F89+F81+F80+F78+F77+F71+F68+F65+F62+F61+F60+F57+F54+F51+F48+F45+F44+F39+F38+F37+F36+F35+F34+F26+F17+F16+F13+F84+F92 -> 12927.4 | G100: =+G93+G91+G89+G81+G80+G78+G77+G71+G68+G65+G62+G61+G60+G57+G54+G51+G48+G45+G44+G39+G38+G37+G36+G35+G34+G26+G17+G16+G13+G84+G92 -> 13082.8 | H100: =+H93+H91+H89+H81+H80+H78+H77+H71+H68+H65+H62+H61+H60+H57+H54+H51+H48+H45+H44+H39+H38+H37+H36+H35+H34+H26+H17+H16+H13+H84+H92 -> 13930.9 | I100: =+I93+I91+I89+I81+I80+I78+I77+I71+I68+I65+I62+I61+I60+I57+I54+I51+I48+I45+I44+I39+I38+I37+I36+I35+I34+I26+I17+I16+I13+I84+I92 -> 14309.9
A101: Valstybės biudžeto specialiosios tikslinės dotacijos lėšos SBVB | F101: =+F94+F82+F79+F72+F67+F66+F64+F58+F55+F52+F49+F28+F27+F25+F24+F23+F22+F19+F14+F12+F83+F75+F31+F30+F29 -> 3895 | G101: =+G94+G82+G79+G72+G67+G66+G64+G58+G55+G52+G49+G28+G27+G25+G24+G23+G22+G19+G14+G12+G83+G75+G31+G30+G29 -> 5778.6 | H101: =+H94+H82+H79+H72+H67+H66+H64+H58+H55+H52+H49+H28+H27+H25+H24+H23+H22+H19+H14+H12+H83+H75+H31+H30+H29 -> 4413.2 | I101: =+I94+I82+I79+I72+I67+I66+I64+I58+I55+I52+I49+I28+I27+I25+I24+I23+I22+I19+I14+I12+I83+I75+I31+I30+I29 -> 4433.2
A102: Aplinkos apsaugos rėmimo specialiosios programos lėšos AA
...

Sheet 04sport.
J1: 4 priedas
A2: 4 lentelė. 2023–2025 m. Sporto veiklos plėtros programos (04) tikslai, uždaviniai, priemonės, asignavimai ir vertinimo kriterijai
J3: tūkst. Eur
A4: Programos tikslo kodas | B4: Uždavinio kodas | C4: Priemonės kodas | D4: Priemonės pavadinimas | E4: Finansavimo šaltinis | F4: * 2023-ųjų m. asignavimai | G4: Patikslinti 2023-ųjų m. asignavimai | H4: Numatomi 2024-ųjų m. asignavimai | I4: Numatomi 2025-ųjų m. asignavimai | J4: Vertinimo kriterijai
J5: Pavadinimas
K6: 2023 -ieji m. | L6: 2024 -ieji m. | M6: 2025 -ieji m.
A9: 04 SPORTO VEIKLOS PLĖTRA
A10: 01 | B10: 01 tikslas. Didinti gyventojų fizinį aktyvumą, ugdyti sportišką bendruomenę
A11: 01 | B11: 01 | C11: Užtikrinti Kultūros ir sporto skyriaus veiklą kūno kultūros ir sporto srityje
A12: 01 | B12: 01 | C12: 01 | D12: Organizuoti ir užtikrinti Kultūros ir sporto skyriaus veiklą kūno kultūros ir sporto srityje | E12: SB | F12: 56.1 | G12: 56.1 | H12: 57.5 | I12: 58.5 | J12: Kultivuojamų sporto šakų skaičius | K12: 31 | L12: 31 | M12: 31
A13: 01 | B13: 01 | C13: Iš viso uždaviniui | F13: =SUM(F12) -> 56.1 | G13: =SUM(G12) -> 56.1 | H13: =SUM(H12) -> 57.5 | I13: =SUM(I12) -> 58.5
A14: 01 | B14: 02 | C14: Užtikrinti efektyvią Kėdainių sporto centro veiklą, vykdyti organizuojamus renginius
A15: 01 | B15: 02 | C15: 01 | D15: Organizuoti ir užtikrinti Kėdainių sporto centro veiklą, organizuoti ir vykdyti sveikatingumo bei sportinius renginius | E15: SB | F15: 1083.9 | G15: 1151.4 | H15: 1220 | I15: 1350 | J15: Asmenų, lankančių įstaigą, skaičius /sveikatingumo, sportinių renginių rajone skaičius | K15: 500/5/ 14 | L15: 500/5/ 14 | M15: 500/5/ 14
E16: SBVB | F16: 57.9 | G16: 57.9 | H16: 61.5 | I16: 63
E17: ĮP | F17: 108.7 | G17: 108.7 | H17: 108.7 | I17: 108.7
F18: =SUM(F15:F17) -> 1250.5 | G18: =SUM(G15:G17) -> 1318 | H18: =SUM(H15:H17) -> 1390.2 | I18: =SUM(I15:I17) -> 1521.7
A19: 01 | B19: 03 | C19: Skatinti gyventojų fizinį aktyvumą, vystyti įvairias gyventojų poreikius atitinkančias sporto šakas
A20: 01 | B20: 03 | C20: 01 | D20: Finansuoti vaikų mokymo plaukti veiklos programą, dalyvaujant projekte „Mokėk plaukti ir saugiau elgtis vandenyje“ | E20: SB | F20: 10.3 | G20: 10.3 | H20: 10.3 | I20: 10.3 | J20: Programoje dalyvaujančių vaikų skaičius / plaukimo pamokų sk. | K20: 300/14 | L20: 300/14 | M20: 300/14
E21: VB | F21: 15.4 | G21: 15.4 | H21: 16.2 | I21: 16.2
A22: 01 | B22: 03 | C22: 02 | D22: Skatinti neįgaliųjų ir senjorų fizinį aktyvumą, organizuoti sporto renginius ir sporto treniruočių stovyklas | E22: SB | F22: 12 | G22: 12 | H22: 12.5 | I22: 13 | J22: Neįgaliųjų fizinio aktyvumo ir sporto renginių skaičius / senjorų sporto šakų skaičius / stovyklų skaičius | K22: 6/ 12 /5 | L22: 6/ 12 / 6 | M22: 6/ 12 / 7
A23: 01 | B23: 03 | C23: 03 | D23: Organizuoti sporto metodininkų veiklas kaimiškosiose seniūnijose | E23: SB | F23: 29.1 | G23: 32.8 | H23: 33.5 | I23: 34 | J23: Metodininkų, besirūpinančių sportine veikla seniūnijose, skaičius | K23: 9 | L23: 9 | M23: 9
A24: 01 | B24: 03 | C24: 04 | D24: Organizuoti rajoninius, respublikinius, tarptautinius visų amžiaus grupių aukšto meistriškumo sporto renginius ir aukšto meistriškumo sporto treniruočių stovyklas | E24: SB | F24: 52.5 | G24: 52.5 | H24: 52.5 | I24: 52.5 | J24: Suorganizuotų rajoninių, respublikinių ir tarptautinių sporto renginių skaičius / stovyklų skaičius | K24: 18/5 | L24: 18/5 | M24: 18/5
A25: 01 | B25: 03 | C25: Iš viso uždaviniui | F25: =SUM(F20:F24) -> 119.3 | G25: =SUM(G20:G24) -> 123 | H25: =SUM(H20:H24) -> 125 | I25: =SUM(I20:I24) -> 126
A26: 01 | B26: 04 | C26: Skatinti Kėdainių rajono sporto organizacijas, sporto komandas ir sportininkus, finansuoti sporto veiklos projektus ir programas
A27: 01 | B27: 04 | C27: 01 | D27: Finansuoti sporto šakų programas, iš jų: | E27: SB | F27: =SUM(F28:F33) -> 515 | G27: =SUM(G28:G33) -> 515 | H27: =SUM(H28:H33) -> 515 | I27: =SUM(I28:I33) -> 515 | J27: Finansuotų sporto šakų programų skaičius | K27: 6 | L27: 6 | M27: 6
C28: 01. 01 | D28: Kėdainių krepšinio komandos „Nevėžis-Optibet“ klubinio krepšinio vystymo programai | E28: SB | F28: 220 | G28: 220 | H28: 220 | I28: 220 | J28: Užimta vieta LKL čempionate/ žiūrovų stebinčių rungtynes skaičiaus vidurkis/socialinių veiklų krašto bendruomenei skaičius / vasaros stovyklų kėdainiečiams vaikams skaičius / atviros treniruotės | K28: 7-10/ 800 / 3/2/2 | L28: 7-10/ 800 / 3/2/2 | M28: 7-10/ 800 / 3/2/2
C29: 01. 02 | D29: Futbolo komandos Kėdainių „Nevėžis“ klubinio futbolo vystymo programai | E29: SB | F29: 120 | G29: 120 | H29: 120 | I29: 120 | J29: Užimta vieta LFF pirmosios lygos pirmenybėse / žiūrovų stebinčių rungtynes skaičiaus vidurkis/ sportinių-mokomųjų stovyklų skaičius/išugdytų kėdainiečių, atstovaujančių FK "Nevėžis" suaugusiųjų komandoje skaičius | K29: 3-8 /200/8/6 | L29: 5-6 /200/8/6 | M29: 5-6 /200/8/6
C30: 01. 03 | D30: Bokso sporto šakos vystymo programai | E30: SB | F30: 15 | G30: 15 | H30: 15 | I30: 15 | J30: Įvairaus amžiaus grupių šalies bokso čempionatuose iškovotų medalių skaičius/tarptautinėse bokso varžybose iškovotų medalių skaičius/sporto treniruočių stovyklų skaičius/paruoštų boksininkų šalies bokso rinktinei skaičius | K30: 5/5/15/2 | L30: 10/5/14/ 1 | M30: 10/5/14/1
C31: 01. 04 | D31: Kėdainių rajono vaikų ir jaunimo futbolo plėtros programai | E31: SB | F31: 120 | G31: 120 | H31: 120 | I31: 120 | J31: Sportuojančių vaikų skaičius/ dalyvaujančių LFF vaikų pirmenybėse komandų skaičius/FK „Nevėžis“ vyrų komandos papildymas jaunais žaidėjais skaičius | K31: 250/7/6 | L31: 250/7/6 | M31: 250/7/6
C32: 01. 05 | D32: 3 prieš 3 krepšinio plėtros programai | E32: SB | F32: 20 | G32: 20 | H32: 20 | I32: 20 | J32: Sportuojančių sk., / Tarptautinių FIBA Challenger turnyrų, kuriuose dalyvauta, skaičius / Kėdainiečių sportininkų atstovavimas komandai | K32: 50/2/3 | L32: 50/2/3 | M32: 50/2/3
C33: 01. 06 | D33: Moterų futbolo komandos Kėdainių „Nevėžis“ programai | E33: SB | F33: 20 | G33: 20 | H33: 20 | I33: 20 | J33: Lietuvos moterų futbolo asociacijos Pirmos lygos pirmenybėse iškovota vieta /sporto treniruočių sk. / komandai atstovaujančių kėdainiečių sk. | K33: 3-7 / 3 / 8 | L33: 3-7 / 3 / 8 | M33: 3-7 / 3 / 8
A34: 01 | B34: 04 | C34: 02 | D34: Finansuoti sporto projektus | E34: SB | F34: 55 | G34: 55 | H34: 60 | I34: 60 | J34: Finansuojamų sporto / fizinio aktyvumo projektų skaičius | K34: 9/11 | L34: 10 / 15 | M34: 10 / 15
A35: 01 | B35: 04 | C35: 03 | D35: Teikti apdovanojimus aukšto meistriškumo sportininkams ir jų treneriams už sporto pasiekimus | E35: SB | F35: 10 | G35: 10 | H35: 10 | I35: 10 | J35: Apdovanotųjų skaičius | K35: 30 | L35: 30 | M35: 30
A36: 01 | B36: 05 | C36: Iš viso uždaviniui | F36: =+F34+F27+F35 -> 580 | G36: =+G34+G27+G35 -> 580 | H36: =+H34+H27+H35 -> 585 | I36: =+I34+I27+I35 -> 585
A37: 01 | B37: Iš viso tikslui | F37: =+F36+F25+F18+F13 -> 2005.9 | G37: =+G36+G25+G18+G13 -> 2077.1 | H37: =+H36+H25+H18+H13 -> 2157.7 | I37: =+I36+I25+I18+I13 -> 2291.2
A38: 02 | B38: Atnaujinti ir plėsti Kėdainių rajono savivaldybės sporto infrastruktūrą, pritaikyti ją šiuolaikiniams poreikiams
A39: 02 | B39: 01 | C39: Modernizuoti sporto objektų materialinę bazę, sudarant sąlygas fizinio aktyvumo ugdymui
A40: 02 | B40: 01 | C40: 01 | D40: Atnaujinti ir (arba) plėsti bendruomeninę fizinio aktyvumo infrastruktūrą mieste ir rajone, pritaikant ją bendruomenės poreikiams bei laisvalaikiui | E40: SB | F40: 50 | G40: 50 | H40: 50 | I40: 50 | J40: Atnaujintų/įrengtų vaikų sporto ir žaidimų aikštelių skaičius | K40: 3 | L40: 3 | M40: 3
A41: 02 | B41: 03 | C41: 02 | D41: Atnaujinti Kėdainių „Ryto“ progimnazijos stadioną ir sporto aikštyną (pagal projektą Tūkstantmečio mokyklos I) | E41: SB | F41: 0 | G41: 0 | H41: 0 | I41: 0 | J41: Atnaujinamų objektų skaičius
E42: SK | F42: 50 | G42: 0 | H42: 0 | I42: 0
E43: ES | F43: 0 | G43: 0 | H43: 0 | I43: 0
E44: VB | F44: 0 | G44: 0 | H44: 0 | I44: 0
E45: SBVB | F45: 450 | G45: 0 | H45: 0 | I45: 0
A46: 02 | B46: 03 | C46: 03 | D46: Atnaujinti Kėdainių Juozo Paukštelio progimnazijos sporto aikštyną | E46: SB | F46: 0 | G46: 60 | H46: 230 | I46: 0 | J46: Atnaujinamų objektų skaičius | L46: 1
E47: SBVB | F47: 250 | G47: 232 | H47: 0 | I47: 0
A48: 02 | B48: 03 | C48: 04 | D48: Atnaujinti Krakių Mikalojaus Katkaus gimnazijos sporto aikštyną | E48: SB | F48: 0 | G48: 0 | H48: 0 | I48: 340 | J48: Atnaujinamų objektų skaičius | M48: 1
A49: 02 | B49: 01 | C49: 05 | D49: Rengti techninę dokumentaciją ugdymo įstaigų stadionų /sporto aikštynų atnaujinimui | E49: SB | F49: 22 | G49: 22 | H49: 20 | I49: 20 | J49: Parengtos techninės dokumentacijos skaičius | K49: 1 | L49: 1 | M49: 1
A50: 02 | B50: 01 | C50: 06 | D50: Atnaujinti Kėdainių sporto centro bazes | E50: SB | F50: 0 | G50: 0 | H50: 50 | I50: 50 | J50: Einamaisiais metais numatytų atlikti darbų, proc. | L50: 100 | M50: 100
A51: 02 | B51: 01 | C51: 07 | D51: Įsigyti saulės fotovoltinę elektrinę iš saulės elektinių parko (Kėdainių sporto centras) | E51: SB | F51: 0 | G51: 0 | H51: 116.1 | I51: 0 | J51: Įsigyta nutolusi fotoviltinė saulės elektrinė (kW) | L51: 300
E52: ES | F52: 238.2 | G52: 0 | H52: 283.9 | I52: 0
A53: 02 | B53: 01 | C53: Iš viso uždaviniui | F53: =SUM(F40:F52) -> 1060.2 | G53: =SUM(G40:G52) -> 364 | H53: =SUM(H40:H52) -> 750 | I53: =SUM(I40:I52) -> 460
A54: 02 | B54: Iš viso tikslui | F54: =+F53 -> 1060.2 | G54: =+G53 -> 364 | H54: =+H53 -> 750 | I54: =+I53 -> 460
A55: Iš viso programai | F55: =+F54+F37 -> 3066.1 | G55: =+G54+G37 -> 2441.1 | H55: =+H54+H37 -> 2907.7 | I55: =+I54+I37 -> 2751.2
A56: iš jų:
A57: SAVIVALDYBĖS LĖŠOS | F57: =SUM(F58:F63) -> 2812.5 | G57: =SUM(G58:G63) -> 2425.7 | H57: =SUM(H58:H63) -> 2607.6 | I57: =SUM(I58:I63) -> 2735
A58: Savivaldybės biudžetas SB | F58: =+F50+F49+F41+F40+F34+F27+F23+F22+F20+F15+F12+F35+F46+F48+F24+F51 -> 1895.9 | G58: =+G50+G49+G41+G40+G34+G27+G23+G22+G20+G15+G12+G35+G46+G48+G24+G51 -> 2027.1 | H58: =+H50+H49+H41+H40+H34+H27+H23+H22+H20+H15+H12+H35+H46+H48+H24+H51 -> 2437.4 | I58: =+I50+I49+I41+I40+I34+I27+I23+I22+I20+I15+I12+I35+I46+I48+I24+I51 -> 2563.3
A59: Valstybės biudžeto specialiosios tikslinės dotacijos lėšos SBVB | F59: =+F16+F47+F45 -> 757.9 | G59: =+G16+G47+G45 -> 289.9 | H59: =+H16+H47+H45 -> 61.5 | I59: =+I16+I47+I45 -> 63
A60: Aplinkos apsaugos rėmimo specialiosios programos lėšos AA
A61: Iš pajamų už suteiktas paslaugas lėšos ĮP | F61: =+F17 -> 108.7 | G61: =+G17 -> 108.7 | H61: =+H17 -> 108.7 | I61: =+I17 -> 108.7
A62: Skolintos lėšos SK | F62: =+F42 -> 50 | G62: =+G42 -> 0 | H62: =+H42 -> 0 | I62: =+I42 -> 0
A63: Kelių priežiūros ir plėtros programos lėšos KPP
A64: KITOS LĖŠOS | F64: =SUM(F65:F68) -> 253.6 | G64: =SUM(G65:G68) -> 15.4 | H64: =SUM(H65:H68) -> 300.1 | I64: =SUM(I65:I68) -> 16.2
A65: Europos Sąjungos lėšos, užsienio fondų lėšos ES | F65: =+F52+F43 -> 238.2 | G65: =+G52+G43 -> 0 | H65: =+H52+H43 -> 283.9 | I65: =+I52+I43 -> 0
A66: Valstybės biudžeto lėšos VB | F66: =+F21+F44 -> 15.4 | G66: =+G21+G44 -> 15.4 | H66: =+H21+H44 -> 16.2 | I66: =+I21+I44 -> 16.2
A67: Privačios – investuotojų lėšos PR
A68: Kiti finansavimo šaltiniai KT
A69: *Patvirtinta 2023 m. sausio 27 d. Kėdainių rajono tarybos sprendimu Nr.TS-1

Sheet 05kultura
K1: 5 priedas
A2: 5 lentelė. 2023–2025 m. Kultūros veiklos plėtros programos (05) tikslai, uždaviniai, priemonės, asignavimai ir vertinimo kriterijai
A3: tūkst. Eur
A4: Programos tikslo kodas | B4: Uždavinio kodas | C4: Priemonės kodas | D4: Priemonės pavadinimas | E4: Finansavimo šaltinis | F4: * 2023-ųjų m. asignavimai | G4: Patikslinti 2023-ųjų m. asignavimai | H4: Numatomi 2024-ųjų m. asignavimai | I4: Numatomi 2025-ųjų m. asignavimai | J4: Vertinimo kriterijai
J5: Pavadinimas
K6: 2023 -ieji m. | L6: 2024 -ieji m. | M6: 2025 -ieji m.
A9: 05 KULTŪROS VEIKLOS PLĖTRA
A10: 01 | B10: Tobulinti ir plėsti kultūrinės informacijos paslaugas Kėdainių rajono savivaldybės Mikalojaus Daukšos viešojoje bibliotekoje, siekiant didinti jų prieinamumą
A11: 01 | B11: 01 | C11: Užtikrinti efektyvią Kėdainių rajono savivaldybės Mikalojaus Daukšos viešosios bibliotekos veiklą
A12: 01 | B12: 01 | C12: 01 | D12: Organizuoti ir užtikrinti Kėdainių rajono savivaldybės Mikalojaus Daukšos viešosios bibliotekos bei jos filialų veiklą | E12: SB | F12: 1241.4 | G12: 1337 | H12: 1420 | I12: 1500 | J12: Išduotų leidinių skaičius per metus (tūkst.) | K12: >300 | L12: >300 | M12: >300
E13: ĮP | F13: 10.6 | G13: 10.6 | H13: 10.6 | I13: 10.6 | J13: Apsilankymų bibliotekose skaičius (tūkst. kartų) | K13: >180 | L13: >180 | M13: >180
E14: SBVB | F14: 54.6 | G14: 54.6 | H14: 55 | I14: 55
A15: 01 | B15: 01 | C15: 02 | D15: Atnaujinti Kėdainių rajono savivaldybės Mikalojaus Daukšos viešosios bibliotekos filialų informacinių technologijų įrangą, žaislotekas, įsigyti baldų/įrangos užimtumo centrams | E15: SB | F15: 10 | G15: 10 | H15: 10 | I15: 10 | J15: IT įranga, baldais aprūpintų filialų skaičius | K15: 10 | L15: 10 | M15: 10
E16: VB | F16: 10 | G16: 10 | H16: 10 | I16: 10
A17: 01 | B17: 01 | C17: Iš viso uždaviniui | F17: =SUM(F12:F16) -> 1326.6 | G17: =SUM(G12:G16) -> 1422.2 | H17: =SUM(H12:H16) -> 1505.6 | I17: =SUM(I12:I16) -> 1585.6
A18: 01 | B18: Iš viso tikslui | F18: =+F17 -> 1326.6 | G18: =+G17 -> 1422.2 | H18: =+H17 -> 1505.6 | I18: =+I17 -> 1585.6
A19: 02 | B19: Išsaugoti istorinę atmintį, tobulinti ir plėsti kultūros paslaugas Kėdainių krašto muziejuje, siekiant didinti jų prieinamumą
A20: 02 | B20: 01 | C20: Užtikrinti efektyvią Kėdainių krašto muziejaus veiklą
A21: 02 | B21: 01 | C21: 01 | D21: Organizuoti ir užtikrinti Kėdainių krašto muziejaus ir jo skyrių veiklą | E21: SB | F21: 651.7 | G21: 696.8 | H21: 730 | I21: 765 | J21: Suorganizuotų renginių, edukacinių pamokų muziejuje ir jo skyriuose skaičius | K21: >650 | L21: >650 | M21: >650
E22: SBVB | F22: 2.4 | G22: 0 | H22: 0 | I22: 0
E23: ĮP | F23: 57.8 | G23: 57.8 | H23: 57.8 | I23: 57.8 | J23: Muziejaus lankytojų skaičius (tūkst.) | K23: >20 | L23: >20 | M23: >20
A24: 02 | B24: 01 | C24: 02 | D24: Dalyvauti Žydų kultūros paveldo kelio asociacijos veikloje ir puoselėti žydų kultūros paveldo atminimą Kėdainiuose | E24: SB | F24: 5.2 | G24: 5.2 | H24: 5.2 | I24: 5.2 | J24: Įgyvendinamų programų/priemonių/renginių skaičius | K24: 2 | L24: 2 | M24: 2
A25: 02 | B25: 01 | C25: Iš viso uždaviniui | F25: =SUM(F21:F24) -> 717.1 | G25: =SUM(G21:G24) -> 759.8 | H25: =SUM(H21:H24) -> 793 | I25: =SUM(I21:I24) -> 828
A26: 02 | B26: Iš viso tikslui | F26: =+F25 -> 717.1 | G26: =+G25 -> 759.8 | H26: =+H25 -> 793 | I26: =+I25 -> 828
A27: 03 | B27: Sudaryti sąlygas krašto bendruomenei dalyvauti kultūrinėje bei kūrybinėje veikloje
A28: 03 | B28: 01 | C28: Užtikrinti efektyvią rajono kultūros centrų veiklą, vykdyti organizuojamų renginių informacijos sklaidą
A29: 03 | B29: 01 | C29: 01 | D29: Organizuoti ir užtikrinti kultūros centrų ir jų skyrių veiklą | E29: SB | F29: 1775.1 | G29: 1903.6 | H29: 2020 | I29: 2050 | J29: Kultūros centrų organizuojamų veiklų lankytojų skaičius | K29: >95 | L29: >95 | M29: >95
E30: SBVB | F30: 4.9 | G30: 0 | H30: 0 | I30: 0
E31: ĮP | F31: 19.6 | G31: 19.6 | H31: 19.6 | I31: 19.6
A32: 03 | B32: 01 | C32: 02 | D32: Organizuoti valstybinių, profesinių švenčių, atmintinų dienų minėjimus, įvairius renginius bendruomenės poreikiams tenkinti | E32: SB | F32: 165 | G32: 165 | H32: 170 | I32: 175 | J32: Kultūros centrų organizuojamų veiklų skaičius | K32: >1000 | L32: >1000 | M32: >1000
A33: 03 | B33: 01 | C33: 03 | D33: Kompensuoti kultūros įstaigų darbuotojų važiavimo į/iš darbo išlaidas | E33: SB | F33: 21.2 | G33: 21.2 | H33: 21.2 | I33: 21.5 | J33: Darbuotojų, kuriems kompensuojamos išlaidos, skaičius | K33: 46 | L33: 46 | M33: 46
A34: 03 | B34: 01 | C34: Iš viso uždaviniui | F34: =SUM(F29:F33) -> 1985.8 | G34: =SUM(G29:G33) -> 2109.4 | H34: =SUM(H29:H33) -> 2230.8 | I34: =SUM(I29:I33) -> 2266.1
A35: 03 | B35: 02 | C35: Sudaryti sąlygas kultūros plėtrai rajone
A36: 03 | B36: 02 | C36: 01 | D36: Organizuoti ir užtikrinti Kultūros ir sporto skyriaus specialistų darbą kultūros srityje | E36: SB | F36: 81.9 | G36: 97.1 | H36: 98 | I36: 103 | J36: Suorganizuotų renginių skaičius | K36: 35 | L36: 40 | M36: 40
A37: 03 | B37: 02 | C37: 02 | D37: Finansuoti rajono savivaldybės renginius ir kultūrines iniciatyvas | E37: SB | F37: 233 | G37: 233 | H37: 245 | I37: 250
A38: 03 | B38: 02 | C38: 03 | D38: Finansuoti kultūrinės veiklos projektus | E38: SB | F38: 30 | G38: 30 | H38: 30 | I38: 30 | J38: Finansuotų projektų skaičius | K38: 19 | L38: 20 | M38: 20
A39: 03 | B39: 02 | C39: 04 | D39: Teikti Krašto kultūros premiją | E39: SB | F39: 3 | G39: 3 | H39: 3 | I39: 3 | J39: Kultūros premijos laureatų skaičius | K39: 1 | L39: 1 | M39: 1
A40: 03 | B40: 02 | C40: 05 | D40: Teikti Česlavo Milošo premiją | E40: SB | F40: 5 | G40: 5 | H40: 5 | I40: 5 | J40: Kultūros premijos laureatų skaičius | K40: 1 | L40: 1 | M40: 1
A41: 03 | B41: 02 | C41: 06 | D41: Aprūpinti mėgėjų meno kolektyvus tautiniais ir kitais koncertiniais kostiumais bei muzikos instrumentais | E41: SB | F41: 15 | G41: 15 | H41: 20 | I41: 15 | J41: Koncertinius kostiumų komplektus/instrumentus atsinaujinusių kolektyvų skaičius | K41: 10 | L41: 10 | M41: 5
E42: VB | F42: 5 | G42: 1.8 | H42: 5 | I42: 5
A43: 03 | B43: 02 | C43: 07 | D43: Plėtoti tarptautinius kultūros mainus | E43: SB | F43: 10 | G43: 10 | H43: 15 | I43: 15 | J43: Organizuotų tarptautinių mainų skaičius | K43: 3 | L43: 5 | M43: 5
A44: 03 | B44: 02 | C44: Iš viso uždaviniui | F44: =SUM(F36:F43) -> 382.9 | G44: =SUM(G36:G43) -> 394.9 | H44: =SUM(H36:H43) -> 421 | I44: =SUM(I36:I43) -> 426
A45: 03 | B45: Iš viso tikslui | F45: =+F44+F34 -> 2368.7 | G45: =+G44+G34 -> 2504.3 | H45: =+H44+H34 -> 2651.8 | I45: =+I44+I34 -> 2692.1
A46: 04 | B46: Vystyti jaunimui palankią aplinką bei infrastruktūrą, plėsti ir skatinti įvairias jaunimo veiklas ir užimtumą, formuojant jaunimo politiką Kėdainių rajone
A47: 04 | B47: 01 | C47: Skatinti Kėdainių rajono jaunimo ir su jaunimu dirbančių organizacijų nuolatinę ir ilgalaikę programinę veiklą, jaunimo veiklos projektus, jaunimo iniciatyvas
A48: 04 | B48: 01 | C48: 01 | D48: Finansuoti jaunimo veiklos projektus | E48: SB | F48: 11 | G48: 11 | H48: 11 | I48: 11 | J48: Finansuotų projektų skaičius | K48: 5 | L48: 5 | M48: 5
A49: 04 | B49: 01 | C49: 02 | D49: Finansuoti programas, užtikrinančias jaunimo neformalaus ugdymo plėtrą | E49: SB | F49: 5 | G49: 5 | H49: 5 | I49: 5 | J49: Suorganizuotų mokymų, susitikimų, renginių, forumų skaičius | K49: 10 | L49: 10 | M49: 10
A50: 04 | B50: 01 | C50: 03 | D50: Finansuoti Atviro jaunimo centro ir atvirųjų jaunimo erdvių veiklos projektus | E50: SB | F50: 16 | G50: 16 | H50: 20 | I50: 20 | J50: Finansuotų projektų skaičius | K50: 6 | L50: 6 | M50: 6
A51: 04 | B51: 01 | C51: 04 | D51: Plėtoti jaunimo savanorystę Kėdainių rajone ir skatinti jaunimą užsiimti savanoriška veikla | E51: SB | F51: 3 | G51: 3 | H51: 3 | I51: 3 | J51: Finansuotų projektų skaičius | K51: 1 | L51: 1 | M51: 1
A52: 04 | B52: 01 | C52: 05 | D52: Organizuoti Tarptautinės jaunimo dienos renginį | E52: SB | F52: 15 | G52: 15 | H52: 15 | I52: 15 | J52: Suorganizuotų renginius skaičius | K52: 1 | L52: 1 | M52: 1
A53: 04 | B53: 01 | C53: 06 | D53: Dalyvauti jaunimo užimtumo vasarą ir integracijos į darbo rinką programoje | E53: SB | F53: 7 | G53: 7 | H53: 7 | I53: 7 | J53: Pagal programą įdarbintų 14-18 m. jaunuolių skaičius | K53: 14 | L53: 14 | M53: 14
E54: VB | F54: 12 | G54: 12 | H54: 12 | I54: 12
A55: 04 | B55: 01 | C55: Iš viso uždaviniui | F55: =SUM(F48:F54) -> 69 | G55: =SUM(G48:G54) -> 69 | H55: =SUM(H48:H54) -> 73 | I55: =SUM(I48:I54) -> 73
A56: 04 | B56: Iš viso tikslui | F56: =+F55 -> 69 | G56: =+G55 -> 69 | H56: =+H55 -> 73 | I56: =+I55 -> 73
A57: 05 | B57: Skatinti nevyriausybinių organizacijų veiklą, didinti jų įtrauktį
A58: 05 | B58: 01 | C58: Skatinti nevyriausybinių ir bendruomeninių organizacijų plėtrą Kėdainių rajone
A59: 05 | B59: 01 | C59: 01 | D59: Užtikrinti rajono nevyriausybinių organizacijų (įskaitant bendruomenines organizacijas) plėtrą, finansuojant projektus socialinio, pilietinio, kultūros paveldo pažinimo, etninės kultūros puoselėjimo, užimtumo bei verslumo srityse | E59: SB | F59: 27 | G59: 27 | H59: 27 | I59: 30 | J59: Finansuotų projektų skaičius | K59: 8 | L59: 12 | M59: 12
E60: VB | F60: 4 | G60: 4 | H60: 4 | I60: 4.5
E61: PR | F61: 1.5 | G61: 1.5 | H61: 1.5 | I61: 2
A62: 05 | B62: 01 | C62: 02 | D62: Sudaryti sąlygas bendruomeninių organizacijų veiklai | E62: SB | F62: 25 | G62: 25 | H62: 25 | I62: 27 | J62: Finansuotų bendruomeninių organizacijų skaičius | K62: 28 | L62: 28 | M62: 30
E63: VB | F63: 24.5 | G63: 24.5 | H63: 24.5 | I63: 25
A64: 05 | B64: 01 | C64: 03 | D64: Finansuoti Kėdainių rajono vietos veiklos grupės teritorijos vietos plėtros 2015-2023 m. strategijos įgyvendinimą | E64: SB | F64: 36 | G64: 36 | H64: 29 | I64: 0 | J64: Finansuotų projektų skaičius | K64: 11 | L64: 4 | M64: 0
E65: ES | F65: 290 | G65: 290 | H65: 145 | I65: 0
A66: 05 | B66: 01 | C66: 04 | D66: Užtikrinti Kėdainių miesto vietos veiklos grupės 2023–2027 m. vietos plėtros strategijos parengimą ir programos "Vietos plėtros strategijos rengimo ir įgyvendinimo programa" įgyvendinimą | E66: SB | F66: 19 | G66: 19 | H66: 20 | I66: 30 | J66: Parengta strategija /finansuotų projektų skaičius | K66: 1/0 | L66: 10 | M66: 14
E67: ES | F67: 10 | G67: 10 | H67: 350 | I67: 550
A68: 05 | B68: 01 | C68: 05 | D68: Remti bendruomenių veiklą savivaldybėje | E68: VB | F68: 0 | G68: 0 | H68: 0 | I68: 0 | J68: Įgyvendinta projektų veiklų proc. | K68: 100 | L68: 100 | M68: 100
E69: SBVB | F69: 32.8 | G69: 32 | H69: 32.8 | I69: 32.8
A70: 05 | B70: 01 | C70: 06 | D70: Skatinti nevyriausybinių organizacijų, bendruomeninių organizacijų plėtrą rajone | E70: SB | F70: 10 | G70: 10 | H70: 10 | I70: 10 | J70: Paskatintų iniciatyvų bei suorganizuotų veiklų skaičius | K70: 3 | L70: 3 | M70: 3
A71: 05 | B71: 01 | C71: Iš viso uždaviniui | F71: =SUM(F59:F70) -> 479.8 | G71: =SUM(G59:G70) -> 479 | H71: =SUM(H59:H70) -> 668.8 | I71: =SUM(I59:I70) -> 711.3
A72: 05 | B72: Iš viso tikslui | F72: =+F71 -> 479.8 | G72: =+G71 -> 479 | H72: =+H71 -> 668.8 | I72: =+I71 -> 711.3
A73: 06 | B73: Atnaujinti ir plėsti kultūros įstaigų viešąją infrastruktūrą, pritaikyti ją kultūriniams ir bendruomeniniams poreikiams
A74: 06 | B74: 01 | C74: Gerinti kultūros paskirties viešąją infrastruktūrą, modernizuoti materialinę ir edukacinę aplinką
A75: 06 | B75: 01 | C75: 01 | D75: Rekonstruoti Kėdainių kultūros centrą | E75: SBVB | F75: 300 | G75: 300 | H75: 0 | I75: 0 | J75: Įgyvendinta einamaisiais metais numatomų atlikti projekto veiklų proc. | K75: 100 | L75: 100 | M75: 100
E76: SB | F76: 0 | G76: 0 | H76: 600 | I76: 600
E77: SK | F77: 106 | G77: 106 | H77: 0 | I77: 0
A78: 06 | B78: 01 | C78: 02 | D78: Aktualizuoti Kėdainių krašto muziejų, padidinant kultūros paveldo aktualumą, lankomumą ir žinomumą (įskaitant ekspozicijų atnaujinimą) | E78: SB | F78: 10 | G78: 10 | H78: 0 | I78: 0 | J78: Aktualizuotų objektų skaičius | K78: 1
E79: SK | F79: 0 | G79: 0 | H79: 0 | I79: 0
E80: ES | F80: 0 | G80: 0 | H80: 0 | I80: 0
A81: 06 | B81: 01 | C81: 03 | D81: Remontuoti Kėdainių rajono savivaldybės Mikalojaus Daukšos biblioteką ir jos filialus | E81: SB | F81: 0 | G81: 0 | H81: 20 | I81: 20 | J81: Suremontuotų viešosios bibliotekos filialų skaičius | L81: 2 | M81: 2
A82: 06 | B82: 01 | C82: 04 | D82: Atlikti Šėtos kultūros centro vidaus remonto darbus | E82: SB | F82: 0 | G82: 0 | H82: 0 | I82: 15 | J82: Atlikta einamaisiais metais numatytų darbų, proc. | M82: 100
A83: 06 | B83: 01 | C83: 05 | D83: Remontuoti Akademijos kultūros centrą | E83: SB | F83: 0 | G83: 14.6 | H83: 20 | I83: 0 | J83: Atlikta einamaisiais metais numatytų darbų, proc. | K83: 100 | L83: 100
E84: SK | F84: 170 | G84: 170 | H84: 0 | I84: 0
A85: 06 | B85: 01 | C85: 06 | D85: Įrengti reikalingą infrastruktūrą atlikėjams prie Kėdainių miesto parko didžiosios scenos | E85: SB | F85: 0 | G85: 0 | H85: 20 | I85: 100 | J85: Parengta vizija/techninė dokumentacija/ įrengta persirengimo/ poilsio/laukimo infrastruktūra atlikėjams | L85: 1/1/1 | M85: 1/1/1
A86: 06 | B86: 01 | C86: 07 | D86: Įsigyti Janinos Monkutės-Marks pastatą | E86: SB | F86: 267.3 | G86: 267.3 | H86: 0 | I86: 0 | J86: Įsigytų objektų visuomenės poreikiams skaičius | K86: 1
A87: 06 | B87: 01 | C87: 08 | D87: Įdiegti saulės elektrinės pagamintos energijos kaupimo įrenginį Krakių kultūros centre | E87: SB | F87: 0 | G87: 0 | H87: 7.9 | I87: 0 | J87: Įsigytas saulės energijos įrenginys, skaičius | L87: 1
E88: SBVB | F88: 0 | G88: 0 | H88: 31.3 | I88: 0
A89: 06 | B89: 01 | C89: Iš viso uždaviniui | F89: =SUM(F75:F88) -> 853.3 | G89: =SUM(G75:G88) -> 867.9 | H89: =SUM(H75:H88) -> 699.2 | I89: =SUM(I75:I88) -> 735
A90: 06 | B90: Iš viso tikslui | F90: =+F89 -> 853.3 | G90: =+G89 -> 867.9 | H90: =+H89 -> 699.2 | I90: =+I89 -> 735
A91: Iš viso programai | F91: =+F90+F72+F56+F45+F26+F18 -> 5814.5 | G91: =+G90+G72+G56+G45+G26+G18 -> 6102.2 | H91: =+H90+H72+H56+H45+H26+H18 -> 6391.4 | I91: =+I90+I72+I56+I45+I26+I18 -> 6625
A92: iš jų:
A93: SAVIVALDYBĖS LĖŠOS | F93: =SUM(F94:F99) -> 5457.5 | G93: =SUM(G94:G99) -> 5748.4 | H93: =SUM(H94:H99) -> 5839.4 | I93: =SUM(I94:I99) -> 6016.5
A94: Savivaldybės biudžetas SB | F94: =+F86+F85+F83+F82+F81+F78+F70+F66+F64+F62+F59+F53+F52+F51+F50+F49+F48+F43+F41+F40+F39+F38+F37+F36+F33+F32+F29+F24+F21+F15+F12+F87+F76 -> 4698.8 | G94: =+G86+G85+G83+G82+G81+G78+G70+G66+G64+G62+G59+G53+G52+G51+G50+G49+G48+G43+G41+G40+G39+G38+G37+G36+G33+G32+G29+G24+G21+G15+G12+G87+G76 -> 4997.8 | H94: =+H86+H85+H83+H82+H81+H78+H70+H66+H64+H62+H59+H53+H52+H51+H50+H49+H48+H43+H41+H40+H39+H38+H37+H36+H33+H32+H29+H24+H21+H15+H12+H87+H76 -> 5632.3 | I94: =+I86+I85+I83+I82+I81+I78+I70+I66+I64+I62+I59+I53+I52+I51+I50+I49+I48+I43+I41+I40+I39+I38+I37+I36+I33+I32+I29+I24+I21+I15+I12+I87+I76 -> 5840.7
A95: Valstybės biudžeto specialiosios tikslinės dotacijos lėšos SBVB | F95: =+F14+F22+F30+F69+F75+F88 -> 394.7 | G95: =+G14+G22+G30+G69+G75+G88 -> 386.6 | H95: =+H14+H22+H30+H69+H75+H88 -> 119.1 | I95: =+I14+I22+I30+I69+I75+I88 -> 87.8
A96: Aplinkos apsaugos rėmimo specialiosios programos lėšos AA
A97: Iš pajamų už suteiktas paslaugas lėšos ĮP | F97: =+F13+F23+F31 -> 88 | G97: =+G13+G23+G31 -> 88 | H97: =+H13+H23+H31 -> 88 | I97: =+I13+I23+I31 -> 88
A98: Skolintos lėšos SK | F98: =+F84+F77 -> 276 | G98: =+G84+G77 -> 276 | H98: =+H84+H77 -> 0 | I98: =+I84+I77 -> 0
A99: Kelių priežiūros ir plėtros programos lėšos KPP
A100: KITOS LĖŠOS | F100: =SUM(F101:F104) -> 357 | G100: =SUM(G101:G104) -> 353.8 | H100: =SUM(H101:H104) -> 552 | I100: =SUM(I101:I104) -> 608.5
A101: Europos Sąjungos lėšos, užsienio fondų lėšos ES | F101: =+F65+F67+F80 -> 300 | G101: =+G65+G67+G80 -> 300 | H101: =+H65+H67+H80 -> 495 | I101: =+I65+I67+I80 -> 550
A102: Valstybės biudžeto lėšos VB | F102: =+F68+F63+F60+F54+F42+F16 -> 55.5 | G102: =+G68+G63+G60+G54+G42+G16 -> 52.3 | H102: =+H68+H63+H60+H54+H42+H16 -> 55.5 | I102: =+I68+I63+I60+I54+I42+I16 -> 56.5
...

Sheet 06turizm_paveld
K1: 6 priedas
A2: 6 lentelė. 2023–2025 m. Kultūros paveldo išsaugojimo, turizmo skatinimo ir vystymo programos (06) tikslai, uždaviniai, priemonės, asignavimai vertinimo kriterijai
J3: tūkst. Eur
A4: Programos tikslo kodas | B4: Uždavinio kodas | C4: Priemonės kodas | D4: Priemonės pavadinimas | E4: Finansavimo šaltinis | F4: * 2023-ųjų m. asignavimai | G4: Patikslinti 2023-ųjų m. asignavimai | H4: Numatomi 2024-ųjų m. asignavimai | I4: Numatomi 2025-ųjų m. asignavimai | J4: Vertinimo kriterijai
J5: Pavadinimas
K6: 2023 -ieji m. | L6: 2024 -ieji m. | M6: 2025 -ieji m.
A9: 06 KULTŪROS PAVELDO IŠSAUGOJIMAS, TURIZMO SKATINIMAS IR VYSTYMAS
A10: 01 | B10: Skatinti vietinį bei atvykstamąjį turizmą, plėtoti turizmo rinkodarą
A11: 01 | B11: 01 | C11: Užtikrinti efektyvią VšĮ Kėdainių turizmo ir verslo informacijos centro veiklą turizmo srityje
A12: 01 | B12: 01 | C12: 01 | D12: Finansuoti VšĮ Kėdainių turizmo ir verslo informacijos centro turizmo veiklos programą: | E12: SB | F12: 85 | G12: 80.4 | H12: 88 | I12: 75 | J12: Kėdainių rajono savivaldybėje apsilankiusių turistų skaičius per metus (tūkst. asmenų/ per metus) (vertinami Kėdainių TVIC apsilankę turistai) | K12: 9.5 | L12: 10 | M12: 10.5
D13: turizmo maršrutų, individualių ekskursijų programų rengimas
D14: kartografinių-informacinių turistinių leidinių leidyba
D15: turizmo informacijos apie gamtos, architektūros, istorijos, kultūros paveldo objektus, lankytinas vietas, maitinimo, apgyvendinimo, kaimo turizmo sodybas, amatus teikimas, kaupimas, sisteminimas ir atnaujinimas | E15: PR | F15: 4 | G15: 4 | H15: 4 | I15: 4 | J15: Turizmo statistikos duomenų apskaita ir analizė, val. | K15: 160 | L15: 160 | M15: 160
D16: dalyvavimas turizmo parodose, mugėse, šventėse | J16: Parodų, mugių, kuriuose dalyvauta, skaičius | K16: 4 | L16: 4 | M16: 4
D17: turizmo informacijos sklaida socialiniuose tinkluose, spaudoje | J17: Informacijos sklaida, val. | K17: 1390 | L17: 1390 | M17: 1390
A18: 01 | B18: 01 | C18: Iš viso uždaviniui | F18: =SUM(F12:F17) -> 89 | G18: =SUM(G12:G17) -> 84.4 | H18: =SUM(H12:H17) -> 92 | I18: =SUM(I12:I17) -> 79
A19: 01 | B19: Iš viso tikslui | F19: =+F18 -> 89 | G19: =+G18 -> 84.4 | H19: =+H18 -> 92 | I19: =+I18 -> 79
A20: 02 | B20: Pritaikyti viešąją infrastruktūrą visuomenės turizmo ir rekreacijos poreikiams, įveiklinti kultūros ir gamtos paveldą
A21: 02 | B21: 01 | C21: Išsaugoti istorinį bei kultūros paveldą, didinti jo patrauklumą ir žinomumą
A22: 02 | B22: 02 | C22: 01 | D22: Parengti Nekilnojamųjų kultūros vertybių vertinimo medžiagą, nekilnojamųjų kultūros paveldo objektų, vietovių individualius apsaugos reglamentus | E22: SB | F22: 6 | G22: 6 | H22: 6 | I22: 6 | J22: Skaičius objektų, esančių Kultūros vertybių registre, kurių duomenys / objektų skaičius, kuriems parengti individualūs apsaugos reglamentai | K22: 1 | L22: 1 | M22: 1
A23: 02 | B23: 01 | C23: 02 | D23: Įgyvendinti Kėdainių rajono savivaldybės bažnyčių rėmimo programą | E23: SB | F23: 50 | G23: 50 | H23: 60 | I23: 60 | J23: Kulto pastatų, kuriems skirtas finansavimas tvarkybos darbams atlikti, skaičius | K23: 5 | L23: 3 | M23: 3
E24: PR | F24: 10 | G24: 13 | H24: 10 | I24: 10
A25: 02 | B25: 02 | C25: 03 | D25: Rengti dokumentaciją, atlikti lankytinų objektų, kultūros paveldo objektų ar objektų, esančių kultūros paveldo teritorijų prieigose, tvarkybos, atnaujinimo, restauravimo darbus seniūnijose | E25: SB | F25: 80 | G25: 80 | H25: 110 | I25: 150 | J25: Tvarkomų objektų skaičius | K25: 6 | L25: 6 | M25: 7
A26: 02 | B26: 01 | C26: 04 | D26: Modernizuoti Kėdainių krašto muziejaus Daugiakultūrį centrą | E26: SB | F26: 30 | G26: 30 | H26: 0 | I26: 0 | J26: Modernizuotų objektų skaičius | K26: 1
E27: ES | F27: 106 | G27: 106 | H27: 0 | I27: 0
A28: 02 | B28: 01 | C28: 05 | D28: Remontuoti Minareto fasadą | E28: SB | F28: 0 | G28: 0 | H28: 85 | I28: 40 | J28: Suremontuotų objektų skaičius | M28: 1
A29: 02 | B29: 01 | C29: 06 | D29: Atlikti Paberžės klebonijos ir svirno restauravimo ir remonto darbus | E29: SB | F29: 47 | G29: 47 | H29: 0 | I29: 0 | J29: Restauruotų objektų skaičius | K29: 2
E30: VB | F30: 100 | G30: 100 | H30: 0 | I30: 0
A31: 02 | B31: 01 | C31: 07 | D31: Įrengti valstybinės reikšmės kelių nuorodas į savivaldybės kultūros paveldo objektus | E31: SB | F31: 11 | G31: 11 | H31: 3 | I31: 3 | J31: Įrengtų/tvarkomų informacinių ženklinimo infrastruktūros objektų skaičius | K31: 6 | L31: 6 | M31: 6
A32: 02 | B32: 01 | C32: 08 | D32: Atlikti archeologinius ir kitus tyrinėjimus kultūros paveldo teritorijose, vykdyti paveldo objektams parengtų tvarkybos projektų ekspertizę, parengti sąmatas | E32: SB | F32: 3 | G32: 3 | H32: 3 | I32: 3 | J32: Einamaisiais metais numatomų atlikti tyrinėjimų/ Ekspertuotų projektų skaičius (pagal poreikį) | K32: 1/1 | L32: 1/2 | M32: 1/2
A33: 02 | B33: 01 | C33: 09 | D33: Parengti ritualinio skerdiko namo tvoros ir vartų su saulės laikrodžiu pamatų konservavimo ir vartų atstatymo projektą ir atlikti darbus | E33: SB | F33: 0 | G33: 0 | H33: 100 | I33: 0 | J33: Atstatytų objektų skaičius | L33: 1
A34: 02 | B34: 01 | C34: 10 | D34: Vykdyti rezistentų paminklinio akmens ir teritorijos, apimančios masinę kapavietę, sutvarkymo darbus (Skongalio g.) | E34: SB | F34: 0 | G34: 0 | H34: 150 | I34: 0 | J34: Atnaujintų objektų skaičius | L34: 1
A35: 02 | B35: 01 | C35: 11 | D35: Atlikti Bakainių piliakalnio su priešpiliu ir papiliu, priešpilio tvarkybos darbus | E35: SB | F35: 0 | G35: 0 | H35: 20 | I35: 40 | J35: Atlikti moksliniai taikomieji tyrimai / parengta projektinė dokumentacija / einamaisiais metais numatyta atliktų darbų | K35: 1/0/0 | L35: 1/1/0 | M35: 1/1 /100
E36: AA | F36: 23 | G36: 23 | H36: 0 | I36: 0
E37: VB | F37: 0 | G37: 0 | H37: 20 | I37: 40
A38: 02 | B38: 01 | C38: 12 | D38: Įgyvendinti kultūros paveldo objektų, esančių Kėdainių rajono savivaldybės teritorijoje, ir kultūros paveldo statinių, esančių Kėdainių senamiesčio dalyje, išsaugojimo darbų finansavimo programą | E38: SB | F38: 20 | G38: 20 | H38: 25 | I38: 25 | J38: Tvarkomų kultūros paveldo objektų ar kultūros paveldo statinių skaičius | K38: 3 | L38: 3 | M38: 3
A39: 02 | B39: 01 | C39: 13 | D39: Parengti Kėdainių evangelikų ir reformatų bažnyčios tvarkybos darbų projektą ir atlikti tvarkybos darbus | E39: SB | F39: 11 | G39: 11 | H39: 20 | I39: 100 | J39: Atnaujintų kultūros paveldo objektų skaičius | M39: 1
E40: ES | F40: 0 | G40: 0 | H40: 135 | I40: 570
A41: 02 | B41: 01 | C41: Iš viso uždaviniui | F41: =SUM(F22:F40) -> 497 | G41: =SUM(G22:G40) -> 500 | H41: =SUM(H22:H40) -> 747 | I41: =SUM(I22:I40) -> 1047
A42: 02 | B42: 02 | C42: Plėtoti, atnaujinti viešąją infrastruktūrą, atsižvelgiant į turizmo plėtros ir rekreacijos poreikius
A43: 02 | B43: 02 | C43: 01 | D43: Parengti Akademijos parko tvarkybos bei techninius projektus ir atlikti darbus | E43: SB | F43: 23 | G43: 23 | H43: 20 | I43: 100 | J43: Parengta techninė dokumentacija / atlikta einamaisiais metais numatytų darbų, proc. | K43: 1/0 | L43: 1/100 | M43: 1/100
A44: 02 | B44: 02 | C44: 02 | D44: Kompleksiškai sutvarkyti ir pritaikyti bendruomenei ir verslui Kėdainių miesto viešąsias erdves | E44: ES | F44: 250.8 | G44: 250.8 | H44: 0 | I44: 0 | J44: Projekto veiklų įgyveninimo proc | K44: 100
E45: VB | F45: 20.3 | G45: 20.3 | H45: 0 | I45: 0
A46: 02 | B46: 02 | C46: 03 | D46: Parengti Paberžės parko tvarkybos projektą ir atlikti darbus | E46: SB | F46: 0 | G46: 0 | H46: 0 | I46: 20 | J46: Parengta techninė dokumentacija | M46: 1
A47: 02 | B47: 02 | C47: Iš viso uždaviniui | F47: =SUM(F43:F46) -> 294.1 | G47: =SUM(G43:G46) -> 294.1 | H47: =SUM(H43:H46) -> 20 | I47: =SUM(I43:I46) -> 120
A48: 11 | B48: Iš viso tikslui | F48: =+F47+F41 -> 791.1 | G48: =+G47+G41 -> 794.1 | H48: =+H47+H41 -> 767 | I48: =+I47+I41 -> 1167
A49: Iš viso programai | F49: =+F48+F19 -> 880.1 | G49: =+G48+G19 -> 878.5 | H49: =+H48+H19 -> 859 | I49: =+I48+I19 -> 1246
A50: iš jų:
A51: SAVIVALDYBĖS LĖŠOS | F51: =SUM(F52:F57) -> 389 | G51: =SUM(G52:G57) -> 384.4 | H51: =SUM(H52:H57) -> 690 | I51: =SUM(I52:I57) -> 622
A52: Savivaldybės biudžetas SB | F52: =+F46+F43+F38+F35+F34+F33+F32+F31+F29+F28+F26+F25+F23+F22+F12+F39 -> 366 | G52: =+G46+G43+G38+G35+G34+G33+G32+G31+G29+G28+G26+G25+G23+G22+G12+G39 -> 361.4 | H52: =+H46+H43+H38+H35+H34+H33+H32+H31+H29+H28+H26+H25+H23+H22+H12+H39 -> 690 | I52: =+I46+I43+I38+I35+I34+I33+I32+I31+I29+I28+I26+I25+I23+I22+I12+I39 -> 622
A53: Valstybės biudžeto specialiosios tikslinės dotacijos lėšos SBVB
A54: Aplinkos apsaugos rėmimo specialiosios programos lėšos AA | F54: =+F36 -> 23 | G54: =+G36 -> 23 | H54: =+H36 -> 0 | I54: =+I36 -> 0
A55: Iš pajamų už suteiktas paslaugas lėšos ĮP
A56: Skolintos lėšos SK
A57: Kelių priežiūros ir plėtros programos lėšos KPP
A58: KITOS LĖŠOS | F58: =SUM(F59:F62) -> 491.1 | G58: =SUM(G59:G62) -> 494.1 | H58: =SUM(H59:H62) -> 169 | I58: =SUM(I59:I62) -> 624
A59: Europos Sąjungos lėšos, užsienio fondų lėšos ES | F59: =+F27+F44+F40 -> 356.8 | G59: =+G27+G44+G40 -> 356.8 | H59: =+H27+H44+H40 -> 135 | I59: =+I27+I44+I40 -> 570
A60: Valstybės biudžeto lėšos VB | F60: =+F37+F30+F45 -> 120.3 | G60: =+G37+G30+G45 -> 120.3 | H60: =+H37+H30+H45 -> 20 | I60: =+I37+I30+I45 -> 40
A61: Privačios – investuotojų lėšos PR | F61: =+F24+F15 -> 14 | G61: =+G24+G15 -> 17 | H61: =+H24+H15 -> 14 | I61: =+I24+I15 -> 14
A63: *Patvirtinta 2023 m. sausio 27 d. Kėdainių rajono tarybos sprendimu Nr.TS-1

Sheet 07Infrastr.
K1: 7 priedas
A2: 7 lentelė. 2023–2025 m. Infrastruktūros objektų priežiūros ir plėtros programos (07) tikslai, uždaviniai, priemonės, asignavimai ir vertinimo kriterijai
J3: tūkst. Eur
A4: Programos tikslo kodas | B4: Uždavinio kodas | C4: Priemonės kodas | D4: Priemonės pavadinimas | E4: Finansavimo šaltinis | F4: * 2023-ųjų m. asignavimai | G4: Patikslinti 2023-ųjų m. asignavimai | H4: Numatomi 2024-ųjų m. asignavimai | I4: Numatomi 2025-ųjų m. asignavimai | J4: Vertinimo kriterijai
J5: Pavadinimas
K6: 2023 -ieji m. | L6: 2024 -ieji m. | M6: 2025 -ieji m.
A9: 07 INFRASTRUKTŪROS OBJEKTŲ PRIEŽIŪRA IR PLĖTRA
A10: 01 tikslas. Kurti ir pritaikyti viešąją infrastruktūrą su darnia aplinka šiuolaikiniams poreikiams
A11: 01 uždavinys. Rengti ir (arba) atnaujinti Kėdainių rajono savivaldybės teritorijų planavimo ir kitus dokumentus, sudarant sąlyga infrastruktūros plėtrai
A12: 01 | B12: 01 | C12: 01 | D12: Rengti specialiuosius, bendruosius, detaliuosius, geodezinius planus bei topografines nuotraukas | E12: SB | F12: 75 | G12: 75 | H12: 75 | I12: 75 | J12: Parengtų specialiųjų, detaliųjų, geodezinių planų skaičius | K12: 50 | L12: 50 | M12: 50
A13: 01 | B13: 01 | C13: 02 | D13: Parengti Senojo Upytės kelio specialųjį planą ("Isos slėnis") | E13: SB | F13: 50 | G13: 50 | H13: 40 | I13: 0 | J13: Parengtų specialiųjų planų skaičius | L13: 1
A14: 01 | B14: 01 | C14: 03 | D14: Atlikti turto inventorizavimą, teisinę registraciją, parengti dokumentus turto pardavimui | E14: SB | F14: 25 | G14: 25 | H14: 25 | I14: 25 | J14: Inventorizuotų nekilnojamojo turto objektų skaičius | K14: 50 | L14: 50 | M14: 50
A15: 01 | B15: 01 | C15: 04 | D15: Rengti infrastruktūros objektų tvarkymo investicinius projektus, planus, paraiškas, kitą techninę dokumentaciją Europos Sąjungos ar kitų fondų paramai gauti | E15: SB | F15: 60 | G15: 60 | H15: 60 | I15: 60 | J15: Parengtos dokumentacijos skaičius | K15: 4 | L15: 4 | M15: 4
A16: 01 | B16: 01 | C16: 05 | D16: Rengti infrastruktūros plėtros technines dokumentacijas | E16: SB | F16: 50 | G16: 50 | H16: 50 | I16: 50 | J16: Parengtų techninių dokumentacijų skaičius | K16: 2 | L16: 2 | M16: 2
A17: 01 | B17: 01 | C17: Iš viso 01 uždaviniui | F17: =SUM(F12:F16) -> 260 | G17: =SUM(G12:G16) -> 260 | H17: =SUM(H12:H16) -> 250 | I17: =SUM(I12:I16) -> 210
E18: Iš viso SB | F18: =+F15+F14+F12+F13+F16 -> 260 | G18: =+G15+G14+G12+G13+G16 -> 260 | H18: =+H15+H14+H12+H13+H16 -> 250 | I18: =+I15+I14+I12+I13+I16 -> 210
A20: 02 uždavinys. Užtikrinti inžinerinio aprūpinimo (vandentiekio, nuotekų tinklų ir kt.) sistemų atnaujinimą ir plėtrą
A21: 01 | B21: 02 | C21: 01 | D21: Įrengti, rekonstruoti, išplėsti vandentiekio ir/ar nuotekų tinklus Kėdainių mieste (Šviesos, g. Pievų g.) | E21: SB | F21: 60 | G21: 83.1 | H21: 120 | I21: 120 | J21: Paklota vandentiekio ir nuotekų tinklų, m | K21: ~300 | L21: ~350 | M21: ~350
A22: 01 | B22: 02 | C22: 02 | D22: Rekonstruoti ir plėsti vandentiekio ir buitinių nuotekų infrastruktūrą Šėtos miestelyje, Kunionių kaime bei Kėdainių mieste | E22: SB | F22: 145.3 | G22: 145.3 | H22: 0 | I22: 0 | J22: Rekonstruojamų/naujai paklotų vandentiekio ir nuotekų tinklų, km (iš viso suminis) | K22: ~11
E23: AA | F23: 0 | G23: 150 | H23: 0 | I23: 0
E24: ES | F24: 803.5 | G24: 1272.5 | H24: 0 | I24: 0
E25: PR | F25: 374.1 | G25: 692.2 | H25: 0 | I25: 0
A26: 01 | B26: 02 | C26: 03 | D26: Rekonstruoti ir plėsti Kėdainių miesto paviršinių nuotekų tinklus | E26: SB | F26: 0 | G26: 0 | H26: 0 | I26: 0 | J26: Paklota/rekonstruota paviršinių nuotekų tinklų, km (iš viso suminis) | K26: ~9
E27: ES | F27: 55.7 | G27: 255.5 | H27: 0 | I27: 0
E28: PR | F28: 23.5 | G28: 23.5 | H28: 0 | I28: 0
A29: 01 | B29: 02 | C29: 04 | D29: Rekonstruoti Kėdainių miesto nuotekų valyklą | E29: SB | F29: 39.5 | G29: 39.5 | H29: 0 | I29: 0 | J29: Rekonstruotų objektų skaičius | K29: 1
E30: ES | F30: 167.4 | G30: 167.4 | H30: 0 | I30: 0
E31: PR | F31: 64.9 | G31: 64.9 | H31: 0 | I31: 0
A32: 01 | B32: 02 | C32: 05 | D32: Rekonstruoti Akademijos nuotekų valyklą | E32: SB | F32: 0 | G32: 0 | H32: 0 | I32: 0 | J32: Rekonstruoti nuotekų valykla | K32: 1
E33: ES | F33: 170.7 | G33: 170.7 | H33: 0 | I33: 0
E34: PR | F34: 61.7 | G34: 61.7 | H34: 0 | I34: 0
A35: 01 | B35: 02 | C35: 06 | D35: Išplėsti buitinių nuotekų tinklus Labūnavos gyvenvietėje, Nevėžio g, ir Vainikų g. | E35: SB | F35: 0 | G35: 0 | H35: 0 | I35: 0 | J35: Paklota vandentiekio buitinių nuotekų tinklų, m | K35: ~3100
E36: SK | F36: 210 | G36: 210 | H36: 0 | I36: 0
A37: 01 | B37: 02 | C37: 07 | D37: Suprojektuoti ir įrengti inžinerinius tinklus Kėdainių miesto vakariniame kvartale | E37: PR | F37: 0 | G37: 0 | H37: 0 | I37: 0 | J37: Įrengta inžinerinių tinklų, m | L37: ~335 | M37: ~335
E38: SB | F38: 0 | G38: 0 | H38: 25 | I38: 25
A39: 01 | B39: 02 | C39: 08 | D39: Plėsti vandentiekio ir nuotekų tinklus Šlapaberžės kaime | E39: SB | F39: 13.5 | G39: 13.5 | H39: 200 | I39: 300 | J39: Parengtos techninės dokumentacijos skaičius / Paklota vandentiekio ir/ ar nuotekų tinklų, m | K39: 1/0 | L39: ~200 | M39: ~450
A40: 01 | B40: 02 | C40: 09 | D40: Įrengti buitinių nuotekų tinklus Aušros k. Ąžuolaičių g. ir Volučių g. | E40: SB | F40: 0 | G40: 0 | H40: 15 | I40: 70 | J40: Parengtos techninės dokumentacijos skaičius /Paklota nuotekų tinklų, m | L40: 1/0 | M40: 1/~ 600
A41: 01 | B41: 02 | C41: 10 | D41: Remontuoti objektus pagal administracijos direktoriaus įsakymus | E41: SB | F41: 40 | G41: 40 | H41: 40 | I41: 40 | J41: Remontuotų objektų skaičius | K41: 6 | L41: 6 | M41: 6
A42: 01 | B42: 02 | C42: 11 | D42: Likviduoti avarinius židinius | E42: SB | F42: 40 | G42: 40 | H42: 40 | I42: 40 | J42: Objektų skaičius, kuriuose likviduoti avariniai židiniai | K42: 6 | L42: 6 | M42: 6
A43: 01 | B43: 02 | C43: 12 | D43: Plėsti vandentiekio ir nuotekų tinklus Pagirių miestelyje | E43: SB | F43: 0 | G43: 0 | H43: 15 | I43: 0 | J43: Parengtos techninės dokumentacijos skaičius | L43: 1
A44: 01 | B44: 02 | C44: 13 | D44: Plėsti vandentiekio ir buitinių nuotekų tinklus Miegėnų kaime | E44: SB | F44: 0 | G44: 0 | H44: 15 | I44: 0 | J44: Parengtos techninės dokumentacijos skaičius | L44: 1
A45: 01 | B45: 02 | C45: 14 | D45: Parengti Dotnuvos miestelio Tilto ir Vingio g. ir Akademijos miestelio Lauko g., Tujų g., Sodų, Pievų, Dobilo, Kranto g. vandentiekio ir nuotekų tinklų išplėtimo projektą | E45: PR | F45: 31 | G45: 31 | H45: 0 | I45: =SUM(28+59) -> 87 | J45: Parengtos techninės dokumentacijos skaičius/gatvių skaičius, kuriose klojama nuotekų ir vandentiekio tinklų, m | K45: 1 | M45: 1/600
E46: SB | F46: 0 | G46: 0 | H46: 0 | I46: 28
E47: ES | F47: 0 | G47: 0 | H47: 0 | I47: 225
A48: 01 | B48: 02 | C48: 15 | D48: Įrengti individualią buitinių nuotekų valyklą Aukštųjų Kaplių k. Liepų g. | E48: SB | F48: 0 | G48: 0 | H48: 0 | I48: 0 | J48: Įrengta individuali buitinių nuotekų valykla | K48: 1
E49: AA | F49: 142 | G49: 42 | H49: 0 | I49: 0
A50: 01 | B50: 02 | C50: 16 | D50: Parengti vandentiekio ir nuotekų tinklų išplėtimo Angirių k. techninę dokumentaciją ir atlikti darbus | E50: SB | F50: 0 | G50: 0 | H50: 200 | I50: 160 | J50: Išplėsta vandentiekio ir nuotekų tinklų m | K50: ~500 | L50: ~700 | M50: ~400
E51: SK | F51: 150 | G51: 150 | H51: 0 | I51: 0
A52: 01 | B52: 02 | C52: 17 | D52: Parengti vandentiekio ir nuotekų tinklų įrengimo Meironiškio k. techninę dokumentaciją | E52: SB | F52: 0 | G52: 0 | H52: 15 | I52: 0 | J52: Parengtos techninės dokumentacijos skaičius | L52: 1
A53: 01 | B53: 02 | C53: 18 | D53: Parengti vandentiekio ir nuotekų tinklų išplėtimo Mantviliškio kaime techninį projektą | E53: SB | F53: 20 | G53: 5 | H53: 30 | I53: 0 | J53: Parengtos techninės dokumentacijos skaičius | L53: 1
A54: 01 | B54: 02 | C54: 19 | D54: Įrengti biologinius nuotekų valymo įrenginius | E54: SB | F54: 15 | G54: 15 | H54: 15 | I54: 15 | J54: Įsigytų įrenginių skaičius | K54: 1 | L54: 1 | M54: 1
A55: 01 | B55: 02 | C55: 20 | D55: Parengti nuotekų tinklų ir nuotekų valyklos įrengimo Okainių k. techninį projektą | E55: SB | F55: 10 | G55: 10 | H55: 0 | I55: 0 | J55: Parengtos techninės dokumentacijos skaičius | L55: 1
A56: 01 | B56: 02 | C56: 21 | D56: Įrengti vandens gręžinį ir vandentiekio tinklus Gineitų k., Vilainių sen. | E56: SB | F56: 0 | G56: 0 | H56: 15 | I56: 0 | J56: Įrengtas gręžinys/ pastatytų vandens kolonėlių / gerinimo stočių skaičius / techninio projekto parengimas | L56: 1
E57: PR | F57: 0 | G57: 0 | H57: 0 | I57: 0
A58: 01 | B58: 02 | C58: 22 | D58: Išplėsti Krakių valymo įrenginius | E58: PR | F58: 10 | G58: 10 | H58: 0 | I58: 0 | J58: Įrengtų valymo įrenginių skaičius | K58: 1
A59: 01 | B59: 02 | C59: 23 | D59: Pastatyti vandens gerinimo stotį Taujankoje | E59: PR | F59: 20 | G59: 20 | H59: 0 | I59: 0 | J59: Pastatytų įrenginių skaičius | K59: 1
A60: 01 | B60: 02 | C60: 24 | D60: Perkloti senus vandentiekio tinklus Vainikų kaimo Nevėžio g. kiemuose | E60: PR | F60: 18 | G60: 0 | H60: 0 | I60: 0 | J60: Rekonstruotų vandentiekio tinklų, m
A61: 01 | B61: 02 | C61: 25 | D61: Rekonstruoti nuotekų tinklus Tuopų g. iki nuotekų siurblinės, Vilainių k. | E61: PR | F61: 0 | G61: 0 | H61: 0 | I61: 15 | J61: Parengtos techninės dokumentacijos skaičius /Rekonstruotų nuotekų tinklų, m | M61: 1/0
A62: 01 | B62: 02 | C62: 26 | D62: Suprojektuoti ir įrengti naują geriamojo vandens tinklą Pelėdnagiai-Paobelys | E62: PR | F62: 9 | G62: 9 | H62: 0 | I62: 80 | J62: Parengta techninė dokumentacija /trasos įrengimas, m | K62: 1/0 | M62: ~
E63: SB | F63: 0 | G63: 0 | H63: 0 | I63: 44
E64: ES | F64: 0 | G64: 0 | H64: 0 | I64: 88
A65: 01 | B65: 02 | C65: 27 | D65: Iškelti vandens tinklą iš privačios valdos Vilniaus g. 30 D200 | E65: PR | F65: 0 | G65: 0 | H65: 0 | I65: 61 | J65: Įrengta vandentiekio tinklų, m | M65: ~160
A66: 01 | B66: 02 | C66: 28 | D66: Perkloti vandentiekio liniją Derliaus g. D400 Kėdainiuose | E66: PR | F66: 0 | G66: 0 | H66: 0 | I66: 60 | J66: Įrengta vandentiekio tinklų, m | M66: ~430
A67: 01 | B67: 02 | C67: 29 | D67: Rekonstruoti nuotekų tinklus nuo Respublikos-Janušavos g. sankryžos iki nuotekų siurblinės | E67: PR | F67: 0 | G67: 0 | H67: 0 | I67: 15 | J67: Parengtos techninės dokumentacijos skaičius / Rekonstruota nuotekų tinklų, m | L67: 1/0 | M67: 1/0
A68: 01 | B68: 02 | C68: 30 | D68: Pastatyti vandens gerinimo stotį Paežerių km. | E68: PR | F68: 0 | G68: 0 | H68: 0 | I68: 24 | J68: Pastatytų įrenginių skaičius | M68: 1
A69: 01 | B69: 02 | C69: 31 | D69: Rekonstruoti vandenvietės elektros pastotės skydinės 2 įvadą (Dotnuvos g. 5) | E69: PR | F69: 0 | G69: 0 | H69: 0 | I69: 85 | J69: Rekonstruotų el. pastočių | M69: 1
A70: 01 | B70: 02 | C70: 32 | D70: Parengti vandentiekio ir nuotekų tinklų, nuotekų valyklos įrengimo Langakių k. techninį projektą | E70: SB | F70: 17 | G70: 5 | H70: 30 | I70: 0 | J70: Parengtos techninės dokumentacijos skaičius | K70: 1
A71: 01 | B71: 02 | C71: 33 | D71: Parengti nuotekų tinklų įrengimo Josvainių mstl. P.Cvirkos g. projektą | E71: SB | F71: 4 | G71: 4 | H71: 0 | I71: 0 | J71: Parengtos techninės dokumentacijos skaičius
A72: 01 | B72: 02 | C72: 34 | D72: Suprojektuoti ir įrengti naujus nuotekų valymo įrenginius Barkūniškio kaime | E72: PR | F72: 0 | G72: 0 | H72: 40 | I72: 0 | J72: Pastatytų įrenginių skaičius | L72: 1
A73: 01 | B73: 02 | C73: 35 | D73: Suprojektuoti ir įrengti naujus nuotekų valymo įrenginius Liepų kaime | E73: PR | F73: 0 | G73: 0 | H73: 0 | I73: 90 | J73: Pastatytų įrenginių skaičius | M73: 1
A74: 01 | B74: 02 | C74: 36 | D74: Rekonstruoti nuotekų valymo įrenginius Labūnavos kaime | E74: PR | F74: 118 | G74: 0 | H74: 0 | I74: 118 | J74: Pastatytų įrenginių skaičius
A75: 01 | B75: 02 | C75: 37 | D75: Suprojektuoti ir įrengti naujus nuotekų valymo įrenginius Pagirių kaime | E75: PR | F75: 0 | G75: 0 | H75: 0 | I75: 170 | J75: Pastatytų įrenginių skaičius | L75: 1
A76: 01 | B76: 02 | C76: 38 | D76: Įrengti naujus vandentiekio tinklus Kaplių kaime, Liepų-Mokyklos gatvėse | E76: PR | F76: 0 | G76: 0 | H76: 0 | I76: 50 | J76: Įrengta vandentiekio tinklų, m | M76: ~170
A77: 01 | B77: 02 | C77: 39 | D77: Suprojektuoti ir įrengti vandentiekio ir nuotekų tinklus Kėdainiuose tarp Žemaitės ir Rūtų gatvių | E77: PR | F77: 0 | G77: 5 | H77: 60 | I77: 0 | J77: Parengta techninė dokumentacija, įrengta vandentiekio / nuotekų tinklų, m | K77: 1 | L77: ~170
A78: 01 | B78: 02 | C78: 40 | D78: Suprojektuoti ir įrengti vandentiekio ir nuotekų tinklus Kėdainiuose, Vyturių g. | E78: PR | F78: 5 | G78: 5 | H78: 0 | I78: 60 | J78: Parengta techninė dokumentacija, įrengta vandentiekio / nuotekų tinklų, m | K78: 1 | M78: ~150
A79: 01 | B79: 02 | C79: 41 | D79: Rekonstruoti vandentiekio ir nuotekų tinklus Josvainiuose, Skroblų g. | E79: PR | F79: 0 | G79: 5 | H79: 150 | I79: 0 | J79: Rekonstruota vandentiekio /nuotekų tinklų, m | L79: ~660
A80: 01 | B80: 02 | C80: 42 | D80: Rekonstruoti Šlapaberžės nuotekų siurblinę, valymo įrenginius | E80: PR | F80: 0 | G80: 144 | H80: 0 | I80: 0 | J80: Rekonstruotų siurblinių /valymo įrenginių skaičius | K80: 1/1
A81: 01 | B81: 02 | C81: 43 | D81: Rekonstruoti Nociūnų nuotekų siurblinę | E81: PR | F81: 0 | G81: 33 | H81: 0 | I81: 0 | J81: Rekonstruotų siurblinių skaičius | K81: 1
A82: 01 | B82: 02 | C82: 44 | D82: Rekonstruoti Kėdainių miesto vandens gerinimo stootį, uždengti Kėdainių miesto valymo įrenginių priėmimo kameras, pakeisti apšvietimo lempas į LED | E82: PR | F82: 0 | G82: 60 | H82: 13 | I82: 0 | J82: Rekonstruotų gerinimo stočių/uždengtų priėmimo kamerų/pakeitų lempų skaičius įrenginių skaičius | K82: 1/1/0 | L82: 0/1/35
A83: 01 | B83: 02 | C83: 45 | D83: Rekonstruoti nuotekų tinklus Barupės g. Labūnavoje, įrengti nuotekų tinklus Daržų g., Kėdainiuose bei vandentiekio tinklus Langakių k. Langakių g. | E83: PR | F83: 0 | G83: 28 | H83: 0 | I83: 0 | J83: Rekonstruotų/į rengtų nuotekų tinklų m / įrengtų vandentiekio tinklų m | K83: 81/25/ 90
A84: 01 | B84: 02 | C84: Iš viso 02 uždaviniui | F84: =SUM(F21:F83) -> 2838.8 | G84: =SUM(G21:G83) -> 4010.8 | H84: =SUM(H21:H83) -> 1038 | I84: =SUM(I21:I83) -> 2070
E85: Iš viso SB | F85: =+F54+F52+F50+F48+F43+F42+F41+F40+F39+F35+F32+F29+F26+F22+F21+F44+F53+F56+F38+F70+F71+F46+F63+F55 -> 404.3 | G85: =+G54+G52+G50+G48+G43+G42+G41+G40+G39+G35+G32+G29+G26+G22+G21+G44+G53+G56+G38+G70+G71+G46+G63+G55 -> 400.4 | H85: =+H54+H52+H50+H48+H43+H42+H41+H40+H39+H35+H32+H29+H26+H22+H21+H44+H53+H56+H38+H70+H71+H46+H63+H55 -> 775 | I85: =+I54+I52+I50+I48+I43+I42+I41+I40+I39+I35+I32+I29+I26+I22+I21+I44+I53+I56+I38+I70+I71+I46+I63+I55 -> 842
E86: Iš viso ES | F86: =+F47+F33+F30+F27+F24+F64 -> 1197.3 | G86: =+G47+G33+G30+G27+G24+G64 -> 1866.1 | H86: =+H47+H33+H30+H27+H24+H64 -> 0 | I86: =+I47+I33+I30+I27+I24+I64 -> 313
E87: Iš viso PR | F87: =+F69+F68+F66+F65+F62+F60+F59+F58+F57+F45+F37+F34+F28+F25+F31+F67+F61+F79+F78+F77+F76+F75+F74+F73+F72+F80+F81+F82+F83 -> 735.2 | G87: =+G69+G68+G66+G65+G62+G60+G59+G58+G57+G45+G37+G34+G28+G25+G31+G67+G61+G79+G78+G77+G76+G75+G74+G73+G72+G80+G81+G82+G83 -> 1192.3 | H87: =+H69+H68+H66+H65+H62+H60+H59+H58+H57+H45+H37+H34+H28+H25+H31+H67+H61+H79+H78+H77+H76+H75+H74+H73+H72+H80+H81+H82+H83 -> 263 | I87: =+I69+I68+I66+I65+I62+I60+I59+I58+I57+I45+I37+I34+I28+I25+I31+I67+I61+I79+I78+I77+I76+I75+I74+I73+I72+I80+I81+I82+I83 -> 915
E88: Iš viso SK | F88: =+F51+F36 -> 360 | G88: =+G51+G36 -> 360 | H88: =+H51+H36 -> 0 | I88: =+I51+I36 -> 0
E89: Iš viso AA | F89: =+F49+F23 -> 142 | G89: =+G49+G23 -> 192 | H89: =+H49+H23 -> 0 | I89: =+I49+I23 -> 0
E90: Iš viso VB
A91: 03 uždavinys. Atnaujinti ir (arba) plėsti miesto ir rajono gatvių, kelių, viešųjų teritorijų apšvietimą, naudojant energiją taupančias priemones
A92: 01 | B92: 03 | C92: 01 | D92: Rekonstruoti/įrengti/modernizuoti Kėdainių miesto bei rajono gatvių apšvietimą | E92: SB | F92: 60 | G92: 70 | H92: 80 | I92: 80 | J92: Oro kabelinės linijos įrengimas, m / pakeistų atramų/šviestuvų skaičius | K92: 300/25/ 25 | L92: 300/25/ 25 | M92: 300/25/ 25
A93: 01 | B93: 03 | C93: 02 | D93: Įgyvendinti projektą "Kėdainių gatvių apšvietimo modernizavimas" | E93: SB | F93: 75 | G93: 65 | H93: 0 | I93: 0 | J93: Modernizuotų šviestuvų skaičius / planuojamas elektros energijos sutaupymas, proc. | K93: 293/43
E94: SK | F94: 0 | G94: 0 | H94: 0 | I94: 0
E95: ES | F95: 56 | G95: 75 | H95: 0 | I95: 0
A96: 01 | B96: 03 | C96: 03 | D96: Eksploatuoti, prižiūrėti ir remontuoti gatvių apšvietimo tinklus seniūnijose | E96: SB | F96: 1030.2 | G96: 1034.7 | H96: 1100 | I96: 1100 | J96: Seniūnijų, kuriose vykdyta gatvių apšvietimo tinklų priežiūra ir remontas, skaičius | K96: 11 | L96: 11 | M96: 11
D97: Iš viso 03 uždaviniui | F97: =SUM(F92:F96) -> 1221.2 | G97: =SUM(G92:G96) -> 1244.7 | H97: =SUM(H92:H96) -> 1180 | I97: =SUM(I92:I96) -> 1180
E98: Iš viso SB | F98: =+F92+F96+F93 -> 1165.2 | G98: =+G92+G96+G93 -> 1169.7 | H98: =+H92+H96+H93 -> 1180 | I98: =+I92+I96+I93 -> 1180
E99: Iš viso ES | F99: =+F95 -> 56 | G99: =+G95 -> 75 | H99: =+H95 -> 0 | I99: =+I95 -> 0
E100: Iš viso VB
E101: Iš viso SK | F101: =+F94 -> 0 | G101: =+G94 -> 0 | H101: =+H94 -> 0 | I101: =+I94 -> 0
E102: Iš viso PR
A103: 04 uždavinys. Gerinti rajono susisiekimo infrastruktūrą, užtikrinant gyventojų darnų judumą bei mobilumą
...

Sheet 08aplinkosauga
K1: 8 priedas
A2: 8 lentelė. 2023–2025 m. Aplinkos apsaugos programos (08) tikslai, uždaviniai, priemonės, asignavimai ir vertinimo kriterijai
J3: tūkst. Eur
A4: Programos tikslo kodas | B4: Uždavinio kodas | C4: Priemonės kodas | D4: Priemonės pavadinimas | E4: Finansavimo šaltinis | F4: * 2023-ųjų m. asignavimai | G4: Patikslinti 2023-ųjų m. asignavimai | H4: Numatomi 2024-ųjų m. asignavimai | I4: Numatomi 2025-ųjų m. asignavimai | J4: Vertinimo kriterijai
J5: Pavadinimas
K6: 2023 -ieji m. | L6: 2024 -ieji m. | M6: 2025 -ieji m.
A9: 08 APLINKOS APSAUGA
A10: 01 | B10: Įgyvendinti Aplinkos apsaugos rėmimo specialiosios programos finansuojamas priemones
A11: 01 | B11: 01 | C11: Gerinti aplinkos kokybę ir apsaugą
A12: 01 | B12: 01 | C12: 01 | D12: Įgyvendinti aplinkos kokybės gerinimo ir apsaugos priemones | E12: AA | F12: 78.6 | G12: 91.3 | H12: 75 | I12: 75 | J12: Įgyvendinamų priemonių skaičius | K12: 5 | L12: 5 | M12: 5
E13: SBVB | F13: 7.2 | G13: =7.1+14.1 -> 21.2 | H13: 0 | I13: 0
A14: 01 | B14: 01 | C14: 02 | D14: Įgyvendinti aplinkos atkūrimo, prevencines priemones, tvarkant vandens telkinius, jų pakrantes, vykdyti atliekų tvarkymo infrastruktūros plėtros priemones | E14: AA | F14: 37.2 | G14: 37.2 | H14: 90 | I14: 90 | J14: Įgyvendintų priemonių skaičius | K14: 5 | L14: 6 | M14: 6
A15: 01 | B15: 01 | C15: 03 | D15: Vykdyti aplinkos oro, paviršinio ir požeminio vandens, dirvožemio ir triukšmo stebėseną Kėdainių mieste ir rajone (įskaitant pramonės rajoną) | E15: AA | F15: 25.5 | G15: 25.5 | H15: 25.5 | I15: 25.5 | J15: Tiriamų parametrų skaičius | K15: 5 | L15: 5 | M15: 5
A16: 01 | B16: 01 | C16: 04 | D16: Įgyvendinti želdynų ir želdinių apsaugos, tvarkymo, būklės stebėsenos, želdynų kūrimo, želdinių veisimo ir inventorizavimo priemones | E16: AA | F16: 105.3 | G16: 110.3 | H16: 110 | I16: 110 | J16: Seniūnijų skaičius, kuriose įgyvendinamos želdynų ir želdinių apsaugos, tvarkymo, būklės stebėsenos, želdynų kūrimo, želdinių veisimo ir inventorizavimo priemonės | K16: 11 | L16: 11 | M16: 11
A17: 01 | B17: 01 | C17: Iš viso uždaviniui | F17: =SUM(F12:F16) -> 253.8 | G17: =SUM(G12:G16) -> 285.5 | H17: =SUM(H12:H16) -> 300.5 | I17: =SUM(I12:I16) -> 300.5
A18: 01 | B18: 02 | C18: Vykdyti žalos aplinkai prevenciją
A19: 01 | B19: 02 | C19: 01 | D19: Įgyvendinti prevencinės priemones, kuriomis siekiama išvengti medžiojamųjų gyvūnų daromos žalos miškui | E19: AA | F19: 82.7 | G19: 82.7 | H19: 80.7 | I19: 80.7 | J19: Finansuotos medžiojamų gyvūnų daromos žalos prevencijos ir kitos priemonės (paraiškų sk.) | K19: 4 | L19: 4 | M19: 4
A20: 01 | B20: 02 | C20: Iš viso uždaviniui | F20: =+F19 -> 82.7 | G20: =+G19 -> 82.7 | H20: =+H19 -> 80.7 | I20: =+I19 -> 80.7
A21: 01 | B21: 03 | C21: Skatinti aplinkos apsaugos iniciatyvas, vykdyti gyventojų aplinkosauginį švietimą
A22: 01 | B22: 03 | C22: 01 | D22: Įgyvendinti visuomenės aplinkosauginio švietimo priemones | E22: AA | F22: 6 | G22: 6 | H22: 8 | I22: 8 | J22: Surengtų akcijų, seminarų, viešinimo priemonių skaičius | K22: 7 | L22: 7 | M22: 7
A23: 01 | B23: 03 | C23: 02 | D23: Finansuoti konkursą "Gražiausiai tvarkoma aplinka" | E23: AA | F23: 7 | G23: 7 | H23: 7 | I23: 7 | J23: Išrinktų gražiausiai besitvarkančių aplinką savininkų skaičius | K23: 10 | L23: 10 | M23: 10
A24: 01 | B24: 03 | C24: 03 | D24: Įsigyti priemonių, susijusių su visuomenės informavimu ir ekologiniu švietimu, kitos išlaidos | E24: AA | F24: 8.5 | G24: 7 | H24: 8.5 | I24: 8.5 | J24: Prenumeruojamų leidinių skaičius | K24: 4 | L24: 4 | M24: 4
A25: 01 | B25: 02 | C25: Iš viso uždaviniui | F25: =SUM(F22:F24) -> 21.5 | G25: =SUM(G22:G24) -> 20 | H25: =SUM(H22:H24) -> 23.5 | I25: =SUM(I22:I24) -> 23.5
A26: 01 | B26: Iš viso tikslui | F26: =+F25+F20+F17 -> 358 | G26: =+G25+G20+G17 -> 388.2 | H26: =+H25+H20+H17 -> 404.7 | I26: =+I25+I20+I17 -> 404.7
A27: 02 | B27: Tobulinti atliekų tvarkymo bei aplinkos išsaugojimo sistemą, gerinti kraštovaizdžio apsaugą
A28: 02 | B28: 01 | C28: Tinkamai tvarkyti komunalines atliekas, palaikyti tvarką ir švarą rajono bendrojo naudojimo teritorijose
A29: 02 | B29: 01 | C29: 01 | D29: Vykdyti atliekų tvarkymo sistemos organizavimo funkciją | E29: SB | F29: 1613 | G29: 1613 | H29: 1600 | I29: 1600 | J29: Surinktų atliekų (bendras) kiekis, ~ tūkst. t. | K29: 14 | L29: 14 | M29: 14
A30: 02 | B30: 01 | C30: 02 | D30: Prižiūrėti ir tvarkyti bendro naudojimo teritorijas, įsigyti teritorijų priežiūrai reikalingą įrangą | E30: SB | F30: 3321.1 | G30: 3396.1 | H30: 3400 | I30: 3550
E31: ĮP | F31: 10.2 | G31: 10.2 | H31: 10.2 | I31: 10.2
A32: 02 | B32: 01 | C32: 03 | D32: Finansuoti žvyro įsigijimą seniūnijų keliams prižiūrėti | E32: SB | F32: 230 | G32: 230 | H32: 230 | I32: 230 | J32: Prižiūrimų žvyrkelių ilgis, km | K32: ~40 | L32: ~40 | M32: ~40
A33: 02 | B33: 01 | C33: 04 | D33: Atnaujinti ir plėsti komunalinių atliekų tvarkymo infrastruktūrą Kėdainių rajono savivaldybėje | E33: SB | F33: 70 | G33: 60 | H33: 0 | I33: 0 | J33: Įrengtų/atnaujintų požeminių, pusiau požeminių ir antžeminių konteinerių aikštelių skaičius | K33: 29
E34: SK | F34: 0 | G34: 0 | H34: 0 | I34: 0
E35: ES | F35: 367 | G35: 307.4 | H35: 0 | I35: 0
A36: 02 | B36: 01 | C36: 05 | D36: Sutvarkyti naudotas padangas, kurių turėtojų nustatyti neįmanoma arba kurie neegzistuoja | E36: SB | F36: 11.6 | G36: 11.6 | H36: 0 | I36: 0 | J36: |Sutvarkyta nadotų padangų, t | K36: 227
E37: SBVB | F37: 25 | G37: 15.4 | H37: 0 | I37: 0
A38: 02 | B38: 01 | C38: 06 | D38: Sutvarkyti namų ūkiuose susidariusias asbesto atliekas | E38: SB | F38: 9.2 | G38: 9.2 | H38: 0 | I38: 0 | J38: Sutvarkyta asbesto atliekų, t. | K38: 130
E39: SBVB | F39: 27.9 | G39: 27.8 | H39: 0 | I39: 0
A40: 02 | B40: 01 | C40: 07 | D40: Įsigyti tekstilės atliekų surinkimo konteinerius | E40: SB | F40: 7.6 | G40: 7.6 | H40: 0 | I40: 0 | J40: Įsigytų konteinerių skaičius | K40: 39
E41: SBVB | F41: 42.9 | G41: 42.9 | H41: 0 | I41: 0
A42: 02 | B42: 01 | C42: Iš viso uždaviniui | F42: =SUM(F29:F41) -> 5735.5 | G42: =SUM(G29:G41) -> 5731.2 | H42: =SUM(H29:H41) -> 5240.2 | I42: =SUM(I29:I41) -> 5390.2
A43: 02 | B43: 02 | C43: Gerinti kraštovaizdžio apsaugą bei didinti jo patrauklumą
A44: 02 | B44: 02 | C44: 01 | D44: Likviduoti apleistus (bešeimininkius ar savivaldybei nuosavybės teise priklausančius) pastatus ir kitus aplinką žalojančius objektus | E44: SB | F44: 10 | G44: 10 | H44: 20 | I44: 20 | J44: Likviduotų apleistų bešeimininkių pastatų skaičius | K44: 2 | L44: 3 | M44: 3
E45: ES | F45: 10 | G45: 10 | H45: 0 | I45: 0
A46: 02 | B46: 02 | C46: 02 | D46: Sutvirtinti pažeistus Dotnuvėlės upelio krantus | E46: AA | F46: 33 | G46: 33 | H46: 0 | I46: 0 | J46: Atliktų einamaisiais metais numatytų darbų, proc. | K46: 100
A47: 02 | B47: 02 | C47: 03 | D47: Vykdyti Krakių tvenkinių valymo darbus | E47: AA | F47: 0 | G47: 0 | H47: 142 | I47: 135.3 | J47: Atliktų, einamaisiais metais numatytų darbų, proc. | L47: 100 | M47: 100
A48: 02 | B48: 02 | C48: 04 | D48: Vykdyti bešeimininkių ir bepriežiūrių gyvūnų surinkimą, gaudymą bei karantinavimą | E48: SB | F48: 17.5 | G48: 17.5 | H48: 17.5 | I48: 17.5 | J48: Surinktų beglobių gyvūnų skaičius | K48: 80 | L48: 80 | M48: 80
A49: 02 | B49: 02 | C49: 05 | D49: Organizuoti Gyvūnų globos organizacijų rengiamų bešeimininkių kačių kastravimo programų įgyvendinimą | E49: SB | F49: 5 | G49: 5 | H49: 5 | I49: 5 | J49: Kastruotų bešeimininkių kačių skaičius | K49: 160 | L49: 150 | M49: 150
A50: 02 | B50: 02 | C50: 06 | D50: Vykdyti gyvūnų augintinių gerovės ir apsaugos 2020-2025 m. prevencinę programą | E50: SB | F50: 2.5 | G50: 2.5 | H50: 2.5 | I50: 2.5 | J50: Bepriežiūrių ir bešeimininkių gyvūnų skaičiaus mažėjimas (lyginant su praėjusiais metais), proc. | K50: 7 | L50: 8 | M50: 8
E51: PR | F51: 3.5 | G51: 3.5 | H51: 3.5 | I51: 3.5
A52: 02 | B52: 02 | C52: Iš viso uždaviniui | F52: =SUM(F44:F51) -> 81.5 | G52: =SUM(G44:G51) -> 81.5 | H52: =SUM(H44:H51) -> 190.5 | I52: =SUM(I44:I51) -> 183.8
A53: 02 | B53: Iš viso tikslui | F53: =+F52+F42 -> 5817 | G53: =+G52+G42 -> 5812.7 | H53: =+H52+H42 -> 5430.7 | I53: =+I52+I42 -> 5574
A54: Iš viso programai | F54: =+F53+F26 -> 6175 | G54: =+G53+G26 -> 6200.9 | H54: =+H53+H26 -> 5835.4 | I54: =+I53+I26 -> 5978.7
A55: iš jų:
A56: SAVIVALDYBĖS LĖŠOS | F56: =SUM(F57:F62) -> 5794.5 | G56: =SUM(G57:G62) -> 5880 | H56: =SUM(H57:H62) -> 5831.9 | I56: =SUM(I57:I62) -> 5975.2
A57: Savivaldybės biudžetas SB | F57: =+F50+F49+F48+F44+F33+F32+F30+F29+F40+F38+F36 -> 5297.5 | G57: =+G50+G49+G48+G44+G33+G32+G30+G29+G40+G38+G36 -> 5362.5 | H57: =+H50+H49+H48+H44+H33+H32+H30+H29+H40+H38+H36 -> 5275 | I57: =+I50+I49+I48+I44+I33+I32+I30+I29+I40+I38+I36 -> 5425
A58: Valstybės biudžeto specialiosios tikslinės dotacijos lėšos SBVB | F58: =+F13+F41+F39+F37 -> 103 | G58: =+G13+G41+G39+G37 -> 107.3 | H58: =+H13+H41+H39+H37 -> 0 | I58: =+I13+I41+I39+I37 -> 0
A59: Aplinkos apsaugos rėmimo specialiosios programos lėšos AA | F59: =+F24+F23+F22+F19+F16+F15+F14+F12+F46+F47 -> 383.8 | G59: =+G24+G23+G22+G19+G16+G15+G14+G12+G46+G47 -> 400 | H59: =+H24+H23+H22+H19+H16+H15+H14+H12+H46+H47 -> 546.7 | I59: =+I24+I23+I22+I19+I16+I15+I14+I12+I46+I47 -> 540
A60: Iš pajamų už suteiktas paslaugas lėšos ĮP | F60: =+F31 -> 10.2 | G60: =+G31 -> 10.2 | H60: =+H31 -> 10.2 | I60: =+I31 -> 10.2
A61: Skolintos lėšos SK | F61: =+F34 -> 0 | G61: =+G34 -> 0 | H61: =+H34 -> 0 | I61: =+I34 -> 0
A62: Kelių priežiūros ir plėtros programos lėšos KPP
A63: KITOS LĖŠOS | F63: =SUM(F64:F67) -> 380.5 | G63: =SUM(G64:G67) -> 320.9 | H63: =SUM(H64:H67) -> 3.5 | I63: =SUM(I64:I67) -> 3.5
A64: Europos Sąjungos lėšos, užsienio fondų lėšos ES | F64: =+F45+F35 -> 377 | G64: =+G45+G35 -> 317.4 | H64: =+H45+H35 -> 0 | I64: =+I45+I35 -> 0
A65: Valstybės biudžeto lėšos VB
A66: Privačios – investuotojų lėšos PR | F66: =+F51 -> 3.5 | G66: =+G51 -> 3.5 | H66: =+H51 -> 3.5 | I66: =+I51 -> 3.5
A67: Kiti finansavimo šaltiniai KT
A68: *Patvirtinta 2023 m. sausio 27 d. Kėdainių rajono tarybos sprendimu Nr.TS-1

Sheet 09ž.ū.
K1: 9 priedas
A2: 9 lentelė. 2023–2025 m. Žemės ūkio plėtros ir melioracijos programos (09) tikslai, uždaviniai, priemonės, asignavimai ir vertinimo kriterijai
J3: tūkst. Eur
A4: Programos tikslo kodas | B4: Uždavinio kodas | C4: Priemonės kodas | D4: Priemonės pavadinimas | E4: Finansavimo šaltinis | F4: * 2023-ųjų m. asignavimai | G4: Patikslinti 2023-ųjų m. asignavimai | H4: Numatomi 2024-ųjų m. asignavimai | I4: Numatomi 2025-ųjų m. asignavimai | J4: Vertinimo kriterijai
J5: Pavadinimas
K6: 2023 -ieji m. | L6: 2024 -ieji m. | M6: 2025 -ieji m.
A9: 09 ŽEMĖS ŪKIO PLĖTRA IR MELIORACIJA
A10: 01 | B10: Įgyvendinti Savivaldybės teritorijoje valstybės politiką kaimo plėtros, žemės ūkio ir melioracijos srityse, sudaryti sąlygas inovatyvaus žemės ūkio vystymui
A11: 01 | B11: 01 | C11: Vykdyti valstybinių (valstybės perduotas savivaldybėms) funkcijas žemės ūkio srityje, konsultuojant rajono asmenis ūkininkavimo, melioracijos, žemės ūkio technikos registravimo ir kitais su žemės ūkiu susijusiais klausimais
A12: 01 | B12: 01 | C12: 01 | D12: Organizuoti ir užtikrinti Žemės ūkio ir aplinkosaugos skyriaus darbą, kuruojant valstybės perduotas savivaldybėms funkcijas žemės ūkio srityje | E12: SBVB | F12: 254.8 | G12: 254.8 | H12: 254.8 | I12: 254.8 | J12: Įregistruotų žemės ūkio valdų skaičius (įregistravimas, išregistravimas, kasmetinis duomenų atnaujinimas) | K12: 2660 | L12: 2640 | M12: 2640
J13: Įregistruotų ūkininkų ūkių skaičius (įregistravimas, išregistravimas, duomenų atnaujinimas) | K13: 1700 | L13: 1690 | M13: 1690
J14: Paramos už žemės ūkio naudmenas ir kitus plotus bei gyvulius priimtų paraiškų skaičius (pasėlių deklaracijos pildymas, deklaruojamų laukų įbraižymas, duomenų keitimas, pasikeitusių KŽS ribų aprašymas) | K14: 2000 | L14: 2000 | M14: 2000
J18: Prašymų dėl medžiojamųjų gyvūnų padarytos žalos nustatymo skaičius (pasėliams, miškui padarytos žalos įvertinimas vietoje ir apžiūros aktų surašymas, sprendimų paruošimas) | K18: 30 | L18: 30 | M18: 30
E19: SB | F19: 116.5 | G19: 116.5 | H19: 116.5 | I19: 116.5 | J19: Pateiktų paraiškų dalies draudimo įmokų kompensacijai gauti skaičius (augalų draudimas nuo nepalankių oro sąlygų; paraiškų priėmimas, duomenų sutikrinimas, kompensuojamos sumos apskaičiavimas, duomenų suvedimas į ŽŪMIS ir KOTIS) | K19: 100 | L19: 100 | M19: 100
J20: Paramos paraiškų pagal Lietuvos kaimo plėtros 2014–2020 metų programos priemonės „Rizikos valdymas“ veiklos srities ,,Pasėlių, gyvūnų ir augalų draudimo įmokos“, susijusios su pasėlių ir augalų, ūkinių gyvūnų draudimo įmokų kompensavimu, skaičius | K20: 55 | L20: 55 | M20: 55
J21: Paraiškų už papildomą bičių maitinimą skaičius | K21: 125 | L21: 125 | M21: 125
J22: Pieno gamybos ir realizavimo metinių deklaracijų skaičius | K22: 27 | L22: 25 | M22: 20
J23: Aptarnaujamos žemės ūkio technikos, įregistruotos rajone, skaičius | K23: 7200 | L23: 7200 | M23: 7200
J24: Atliktų techninių apžiūrų skaičius | K24: 2800 | L24: 800 | M24: 2800
A25: 01 | B25: 01 | C25: 02 | D25: Tvarkyti erdvinių duomenų rinkinį | E25: SBVB | F25: 19.9 | G25: 19.9 | H25: 22.1 | I25: 22.1 | J25: Erdvinių duomenų rinkinio tvarkymo užtikrinimas, proc. | K25: 100 | L25: 100 | M25: 100
A26: 01 | B26: 01 | C26: 03 | D26: Teikti Metų žemdirbio apdovanojimą | E26: SB | F26: 3 | G26: 3 | H26: 3 | I26: 3 | J26: Įteiktų apdovanojimų skaičius | K26: 1 | L26: 1 | M26: 1
A27: 01 | B27: 01 | C27: Iš viso uždaviniui | F27: =+F12+F25+F26+F19 -> 394.2 | G27: =+G12+G25+G26+G19 -> 394.2 | H27: =+H12+H25+H26+H19 -> 396.4 | I27: =+I12+I25+I26+I19 -> 396.4
A28: 01 | B28: 02 | C28: Vykdyti valstybines (perduotas savivaldybėms) funkcijas melioracijos srityje, rekonstruojant remontuojant ir (arba) atnaujinant valstybei nuosavybės teise priklausančią melioracijos, hidrotechnikos infrastruktūrą Kėdainių rajono savivaldybės teritorijoje
A29: 01 | B29: 02 | C29: 01 | D29: Gerinti hidrotechninių statinių ir kitų melioracijos sistemų būklę | E29: SBVB | F29: 360 | G29: 360 | H29: 400 | I29: 400 | J29: Remontuojamų, prižiūrimų melioracijos griovių ilgis, km | K29: 45 | L29: 45 | M29: 45
A30: 01 | B30: 02 | C30: 02 | D30: Rengti projektus ir remontuoti gyvenviečių lietaus nuotekų-drenažų sistemas | E30: SB | F30: 40 | G30: 40 | H30: 40 | I30: 40 | J30: Gyvenviečių, kuriose atlikti drenažo remonto darbai, skaičius | K30: 10 | L30: 10 | M30: 10
A31: 01 | B31: 02 | C31: 03 | D31: Vykdyti Kėdainių rajono Saviečių kadastrinės vietovės Mėklos sausinimo sistemos melioracijos griovių ir juose esančių statinių rekonstrukciją | E31: SBVB | F31: 300 | G31: 300 | H31: 191 | I31: 0 | J31: Rekonstruotų griovių ilgis, km | L31: 15.9
A32: 01 | B32: 02 | C32: 04 | D32: Parengti projektus hidrotechninių įrenginių atnaujinimui | E32: SB | F32: 10 | G32: 10 | H32: 10 | I32: 10 | J32: Parengtų projektų skaičius/rekonstruojamų hidrotechnikos įrenginių skaičius | K32: 2 | L32: 2 | M32: 2
A33: 01 | B33: 02 | C33: 05 | D33: Vykdyti Kėdainių rajono Truskavos kadastrinės vietovės Linkuvės sausinimo sistemos melioracijos griovių ir juose esančių statinių rekonstrukciją | E33: SBVB | F33: 0 | G33: 0 | H33: 217.8 | I33: 0 | J33: Rekonstruotų griovių ilgis, km | L33: 15.943
A34: 01 | B34: 02 | C34: 06 | D34: Vykdyti Kėdainių rajono Dotnuvos seniūnijos Kruostos upės Vaidatonių tvenkinio hidrotechnikos statinių rekonstrukciją ir techninės priežiūros paslaugas | E34: SB | F34: 151 | G34: 151 | H34: 246 | I34: 0 | J34: Rekonstruotų hidrotechninių įrenginių skaičius | L34: 1
E35: ES | F35: 76 | G35: 76 | H35: 125 | I35: 0
E36: VB | F36: 14 | G36: 14 | H36: 22 | I36: 0
A37: 01 | B37: 02 | C37: 07 | D37: Vykdyti Nevėžio upės vientisumo atkūrimą nugriaunant neeksploatuojamus hidroelektrinės statinius ir techninės priežiūros paslaugas | E37: SBVB | F37: 282 | G37: 282 | H37: 153 | I37: 0 | J37: Likviduotų neeksploatuojamų statinių skaičius | L37: 1
A38: 01 | B38: 02 | C38: 08 | D38: Vykdyti Kėdainių rajono savivaldybės Krakių tvenkinių hidrotechnikos statinių remontą ir techninės priežiūros paslaugas | E38: SK | F38: 0 | G38: 0 | H38: 206 | I38: 159 | J38: Rekonstruotų hidrotechninių įrenginių skaičius | L38: 1 | M38: 1
A39: 01 | B39: 02 | C39: 09 | D39: Dalyvauti projekto „Dalies MSNA „Nikys“ nariams priklausančių ir valstybinių melioracijos statinių rekonstravimas“ įgyvendinime | E39: SB | F39: 0 | G39: 0 | H39: 3.8 | I39: 0 | J39: Rekonstruotų rinktuvų, sausintuvų, griovių ilgis, km | L39: 5/6/ 1,5
A40: 01 | B40: 02 | C40: 10 | D40: Dalyvauti projekto „MSNA „Balsių melioracija“ nariams priklausančių ir valstybinių melioracijos statinių rekonstravimas“ įgyvendinime | E40: SB | F40: 0 | G40: 0 | H40: 3.8 | I40: 0 | J40: Rekonstruotų rinktuvų, sausintuvų, griovių ilgis, km | L40: 5/6/ 1,5
A41: 01 | B41: 02 | C41: 11 | D41: Dalyvauti projekto „MSNA „Mantvilonių melioracija“ nariams priklausančių ir valstybinių melioracijos statinių rekonstravimas“ įgyvendinime | E41: SB | F41: 0 | G41: 0 | H41: 3.8 | I41: 0 | J41: Rekonstruotų rinktuvų, sausintuvų, griovių ilgis, km | L41: 5/7/ 1,5
A42: 01 | B42: 02 | C42: 12 | D42: Dalyvauti projekto „MSNA „Vilainių drenažas“ nariams priklausančių ir valstybinių melioracijos statinių rekonstravimas“ įgyvendinimui | E42: SB | F42: 0 | G42: 0 | H42: 3.8 | I42: 0 | J42: Rekonstruotų rinktuvų, sausintuvų ilgis, km | L42: 6/10
A43: 01 | B43: 02 | C43: 13 | D43: Dalyvauti projekto „MSNA „Daukšių drenažas“ nariams priklausančių ir valstybinių melioracijos statinių rekonstravimas“ įgyvendinime | E43: SB | F43: 3.8 | G43: 3.8 | H43: 0 | I43: 0 | J43: Rekonstruotų rinktuvų, sausintuvų, griovių ilgis, km | K43: 10/12 / 1,5
A44: 01 | B44: 02 | C44: 14 | D44: Parengti techninę dokumentaciją ir atlikti Kėdainių miesto hidrotechnikos statinio ant Dotnuvėlės upės remonto darbus | E44: SB | F44: 30 | G44: 30 | H44: 600 | I44: 600 | J44: Rekonstruotų hidrotechninių įrenginių skaičius | M44: 1
A45: 01 | B45: 02 | C45: Iš viso uždaviniui | F45: =SUM(F29:F44) -> 1266.8 | G45: =SUM(G29:G44) -> 1266.8 | H45: =SUM(H29:H44) -> 2226 | I45: =SUM(I29:I44) -> 1209
A46: 01 | B46: Iš viso tikslui | F46: =+F45+F27 -> 1661 | G46: =+G45+G27 -> 1661 | H46: =+H45+H27 -> 2622.4 | I46: =+I45+I27 -> 1605.4
A47: Iš viso programai | F47: =+F46 -> 1661 | G47: =+G46 -> 1661 | H47: =+H46 -> 2622.4 | I47: =+I46 -> 1605.4
A48: iš jų:
A49: SAVIVALDYBĖS LĖŠOS | F49: =SUM(F50:F55) -> 1571 | G49: =SUM(G50:G55) -> 1571 | H49: =SUM(H50:H55) -> 2475.4 | I49: =SUM(I50:I55) -> 1605.4
A50: Savivaldybės biudžetas SB | F50: =+F44+F43+F42+F41+F40+F39+F34+F32+F30+F26+F19 -> 354.3 | G50: =+G44+G43+G42+G41+G40+G39+G34+G32+G30+G26+G19 -> 354.3 | H50: =+H44+H43+H42+H41+H40+H39+H34+H32+H30+H26+H19 -> 1030.7 | I50: =+I44+I43+I42+I41+I40+I39+I34+I32+I30+I26+I19 -> 769.5
A51: Valstybės biudžeto specialiosios tikslinės dotacijos lėšos SBVB | F51: =+F37+F29+F25+F12+F31+F33 -> 1216.7 | G51: =+G37+G29+G25+G12+G31+G33 -> 1216.7 | H51: =+H37+H29+H25+H12+H31+H33 -> 1238.7 | I51: =+I37+I29+I25+I12+I31+I33 -> 676.9
A52: Aplinkos apsaugos rėmimo specialiosios programos lėšos AA
A53: Iš pajamų už suteiktas paslaugas lėšos ĮP
A54: Skolintos lėšos SK | F54: =+F38 -> 0 | G54: =+G38 -> 0 | H54: =+H38 -> 206 | I54: =+I38 -> 159
A55: Kelių priežiūros ir plėtros programos lėšos KPP
A56: KITOS LĖŠOS | F56: =SUM(F57:F60) -> 90 | G56: =SUM(G57:G60) -> 90 | H56: =SUM(H57:H60) -> 147 | I56: =SUM(I57:I60) -> 0
A57: Europos Sąjungos lėšos, užsienio fondų lėšos ES | F57: =+F35 -> 76 | G57: =+G35 -> 76 | H57: =+H35 -> 125 | I57: =+I35 -> 0
A58: Valstybės biudžeto lėšos VB | F58: =+F36 -> 14 | G58: =+G36 -> 14 | H58: =+H36 -> 22 | I58: =+I36 -> 0
A59: Privačios – investuotojų lėšos PR
A60: Kiti finansavimo šaltiniai KT
A61: *Patvirtinta 2023 m. sausio 27 d. Kėdainių rajono tarybos sprendimu Nr.TS-1

Sheet 10verslas
K1: 10 priedas
A2: 10 lentelė. 2023–2025 m. Paramos verslui bei verslo plėtros programos (10) tikslai, uždaviniai, priemonės, asignavimai ir vertinimo kriterijai
J3: tūkst. Eur
A4: Programos tikslo kodas | B4: Uždavinio kodas | C4: Priemonės kodas | D4: Priemonės pavadinimas | E4: Finansavimo šaltinis | F4: * 2023-ųjų m. asignavimai | G4: Patikslinti 2023-ųjų m. asignavimai | H4: Numatomi 2024-ųjų m. asignavimai | I4: Numatomi 2025-ųjų m. asignavimai | J4: Vertinimo kriterijai
J5: Pavadinimas
K6: 2023 -ieji m. | L6: 2024 -ieji m. | M6: 2025 -ieji m.
A9: 10 PARAMA VERSLUI IR VERSLO PLĖTRA
A10: 01 | B10: Gerinti verslo paramos bei informavimo sistemą, plėtoti viešojo ir privataus sektorių bendradarbiavimą, gyventojų verslumą
A11: 01 | B11: 01 | C11: Stiprinti savivaldybės institucijų ir verslo įmonių bendradarbiavimą rengiant, įgyvendinant bendrus projektus
A12: 01 | B12: 01 | C12: 01 | D12: Finansuoti VšĮ Kėdainių turizmo ir verslo informacijos centro viešųjų paslaugų verslui programą: | E12: SB | F12: 36 | G12: 36 | H12: 38 | I12: 38 | J12: Suteiktų informacinių, konsultacinių paslaugų ūkio subjektams ir asmenims pagal paklausimus skaičius, vnt. | K12: 900 | L12: 1000 | M12: 1000
A13: 01 | B13: 01 | C13: 01.01 | D13: techninės ir metodinės pagalbos rajono verslininkams, verslo įmonėms, asmenims, ketinantiems pradėti verslą, investuotojams teikimas | J13: Paklausimų, telefonu internetu, centre teikimas, val. | K13: 300 | L13: 300 | M13: 300
A14: 01 | B14: 01 | C14: 01.02 | D14: Kėdainių rajono savivaldybės smulkaus verslo rėmimo fondo administravimas | J14: Konsultuotų subjektų skaičius | K14: 110 | L14: 140 | M14: 140
A15: 01 | B15: 01 | C15: 01.03 | D15: savivaldybės įmonių duomenų bazės atnaujinimas, verslo situacijos analizė, duomenų apdorojimas ir viešinimas | E15: PR | F15: 95 | G15: 95 | H15: 95 | I15: 95 | J15: Verslo aplinkos statistikos duomenų analizė, val. | K15: 20 | L15: 20 | M15: 20
A16: 01 | B16: 01 | C16: 01.04 | D16: viešojo ir privataus sektorių bendravimo skatinimas, susitikimų, forumų organizavimas | J16: Organizuotų, inicijuotų susitikimų skaičius | K16: 2 | L16: 2 | M16: 2
A17: 01 | B17: 01 | C17: 01.05 | D17: savivaldybės administracijos, Kėdainių TVIC ir verslą vienijančių asociacijų bendradarbiavimo stiprinimas
A18: 01 | B18: 01 | C18: 02 | D18: Teikti finansinę paramą verslą pradedantiems ar sunkumų patiriantiems SVV subjektams Kėdainių rajone per Savivaldybės smulkiojo verslo rėmimo fondą | E18: KT (FL) | F18: 26.15 | G18: 26.15 | H18: 0 | I18: 0 | J18: Subjektų, kuriems suteikta finansinė parama, skaičius | K18: 37 | L18: 40 | M18: 40
E19: SB | F19: 50 | G19: 50 | H19: 100 | I19: 100
A20: 01 | B20: 01 | C20: 03 | D20: Organizuoti ir viešinti verslumą skatinančius, gerąją verslo patirtį viešinančius renginius Kėdainių rajone | E20: SB | F20: 3 | G20: 3 | H20: 3 | I20: 3 | J20: Suorganizuotas verslininkų pagerbimo renginys ,,Verslo diena" ir nominuoti verslininkai pagal patvirtintus konkurso nuostatus | K20: 1 | L20: 1 | M20: 1
A21: 01 | B21: 01 | C21: Iš viso uždaviniui | F21: =SUM(F12:F20) -> 210.15 | G21: =SUM(G12:G20) -> 210.15 | H21: =SUM(H12:H20) -> 236 | I21: =SUM(I12:I20) -> 236
A22: 01 | B22: Iš viso tikslui | F22: =+F21 -> 210.15 | G22: =+G21 -> 210.15 | H22: =+H21 -> 236 | I22: =+I21 -> 236
A23: 02 | B23: Kurti ekonominį augimą skatinančios verslo aplinkos plėtrą
A24: 02 | B24: 01 | C24: Sudaryti palankias sąlygas sumanios pramonės ir logistikos srities verslų atsiradimui, plėtrai bei investicijų pritraukimui
A25: 02 | B25: 01 | C25: 01 | D25: Vykdyti rinkodarinę Kėdainių LEZ veiklą, dalyvaujant verslo misijose, susitikimuose, parodose ir pan. | E25: PR | F25: 20 | G25: 20 | H25: 20 | I25: 20 | J25: Pasirašytų sutarčių su investuotojais Kėdainių LEZ skaičius (iš viso) | K25: 8 | L25: 9 | M25: 9
A26: 02 | B26: 01 | C26: 02 | D26: Įgyvendinti projektą "Kėdainių miesto viešosios infrastruktūros, svarbios verslui, atnaujinimas ir plėtra" | E26: SBVB | F26: 1000 | G26: 3978.9 | H26: 0 | I26: 0 | J26: Investicijoms parengtų viešųjų teritorijų plotas, ha | K26: ~12
A27: 03 | B27: 01 | C27: Iš viso uždaviniui | F27: =SUM(F25:F26) -> 1020 | G27: =SUM(G25:G26) -> 3998.9 | H27: =SUM(H25:H26) -> 20 | I27: =SUM(I25:I26) -> 20
A28: 03 | B28: Iš viso tikslui | F28: =+F27 -> 1020 | G28: =+G27 -> 3998.9 | H28: =+H27 -> 20 | I28: =+I27 -> 20
A29: Iš viso programai | F29: =+F28+F22 -> 1230.15 | G29: =+G28+G22 -> 4209.05 | H29: =+H28+H22 -> 256 | I29: =+I28+I22 -> 256
A30: iš jų:
A31: SAVIVALDYBĖS LĖŠOS | F31: =SUM(F32:F37) -> 1089 | G31: =SUM(G32:G37) -> 4067.9 | H31: =SUM(H32:H37) -> 141 | I31: =SUM(I32:I37) -> 141
A32: Savivaldybės biudžetas SB | F32: =+F20+F12+F19 -> 89 | G32: =+G20+G12+G19 -> 89 | H32: =+H20+H12+H19 -> 141 | I32: =+I20+I12+I19 -> 141
A33: Valstybės biudžeto specialiosios tikslinės dotacijos lėšos SBVB | F33: =+F26 -> 1000 | G33: =+G26 -> 3978.9 | H33: =+H26 -> 0 | I33: =+I26 -> 0
A34: Aplinkos apsaugos rėmimo specialiosios programos lėšos AA
A35: Iš pajamų už suteiktas paslaugas lėšos ĮP
A36: Skolintos lėšos SK
A37: Kelių priežiūros ir plėtros programos lėšos KPP
A38: KITOS LĖŠOS | F38: =SUM(F39:F42) -> 141.15 | G38: =SUM(G39:G42) -> 141.15 | H38: =SUM(H39:H42) -> 115 | I38: =SUM(I39:I42) -> 115
A39: Europos Sąjungos lėšos, užsienio fondų lėšos ES
A40: Valstybės biudžeto lėšos VB
A41: Privačios – investuotojų lėšos PR | F41: =+F25+F15 -> 115 | G41: =+G25+G15 -> 115 | H41: =+H25+H15 -> 115 | I41: =+I25+I15 -> 115
A42: Kiti finansavimo šaltiniai KT | F42: =+F18 -> 26.15 | G42: =+G18 -> 26.15 | H42: =+H18 -> 0 | I42: =+I18 -> 0
A43: *Patvirtinta 2023 m. sausio 27 d. Kėdainių rajono tarybos sprendimu Nr.TS-1

Sheet 11valdym.
K1: 11 priedas
A2: 11 lentelė. 2023–2025 m. Savivaldybės valdymo tobulinimo programos (11) tikslai, uždaviniai, priemonės, asignavimai ir vertinimo kriterijai
J3: tūkst. Eur
A4: Programos tikslo kodas | B4: Uždavinio kodas | C4: Priemonės kodas | D4: Priemonės pavadinimas | E4: Finansavimo šaltinis | F4: * 2023-ųjų m. asignavimai | G4: Patikslinti 2023-ųjų m. asignavimai | H4: Numatomi 2024-ųjų m. asignavimai | I4: Numatomi 2025-ųjų m. asignavimai | J4: Vertinimo kriterijai
J5: Pavadinimas
K6: 2023 -ieji m. | L6: 2024 -ieji m. | M6: 2025 -ieji m.
A9: 11 SAVIVALDYBĖS VALDYMO TOBULINIMAS
A10: 01 | B10: Didinti savivaldybės valdymo ir veiklos efektyvumą, gerinti žmogiškųjų išteklių kompetencijas
A11: 01 | B11: 01 | C11: Sudaryti sąlygas kokybiškai įgyvendinti Savivaldybės funkcijas, mažinant administracinę naštą, įgyvendinant lygias galimybes užtikrinančias bei korupcijos prevencijos priemones
A12: 01 | B12: 01 | C12: 01 | D12: Organizuoti Savivaldybės tarybos ir Savivaldybės administracijos veiklą, įgyvendinant administracinės naštos, lygių galimybių bei korupcijos prevencijos priemones, stiprinti darbuotojų kompetencijas | E12: SB | F12: 4681.4 | G12: 5071 | H12: 5175 | I12: 5300 | J12: Priimtų tarybos sprendimų skaičius | K12: 300 | L12: 300 | M12: 300
J13: Prašymų, į kuriuos atsakymai fiziniams asmenims pateikti per įstatymais nustatytus terminus dalis nuo visų gautų prašymų, proc. | K13: 100 | L13: 100 | M13: 100
J14: Įgyvendintų administracinės naštos mažinimo priemonių, įgyvendinamų pagal patvirtintą planą, skaičius | K14: 15 | L14: 15 | M14: 15
E15: ĮP | F15: 24.3 | G15: 24.3 | H15: 24.3 | I15: 24.3 | J15: Įgyvendintų korupcijos prevencijos priemonių pagal patvirtintą planą skaičius | K15: 12 | L15: 12 | M15: 12
J16: Įgyvendintų lygias galimybes užtikrinančių priemonių skaičius | K16: 7 | L16: 7 | M16: 7
A17: 01 | B17: 01 | C17: 02 | D17: Organizuoti Savivaldybės kontrolės ir audito tarnybos veiklą | E17: SB | F17: 171.1 | G17: 185.7 | H17: 198 | I17: 212 | J17: Atliktų kontrolės ir audito tarnybos auditų skaičius pagal patvirtintą metų planą (proc.) | K17: 100 | L17: 100 | M17: 100
A18: 01 | B18: 01 | C18: 03 | D18: Organizuoti seniūnijų veiklą, įgyvendinant joms pavestas viešojo administravimo funkcijas | E18: SB | F18: 1401 | G18: 1497.9 | H18: 1600 | I18: 1750 | J18: Savivaldybėje esančių seniūnijų skaičius | K18: 11 | L18: 11 | M18: 11
E19: ĮP | F19: 58.2 | G19: 58.2 | H19: 58.2 | I19: 58.2
A20: 01 | B20: 01 | C20: 04 | D20: Didinti piliečių įtraukimo į biudžeto formavimą galimybes, įgyvendinant dalyvaujamojo biudžeto iniciatyvas | E20: SB | F20: 40 | G20: 40 | H20: 140 | I20: 140 | J20: Finansuotų gyventojų iniciatyvų skaičius | K20: 2 | L20: 3 | M20: 3
A21: 01 | B21: 01 | C21: Iš viso uždaviniui | F21: =SUM(F12:F20) -> 6376 | G21: =SUM(G12:G20) -> 6877.1 | H21: =SUM(H12:H20) -> 7195.5 | I21: =SUM(I12:I20) -> 7484.5
A22: 01 | B22: 02 | C22: Organizuoti ir užtikrinti kokybišką valstybės perduotų funkcijų įgyvendinimą
A23: 01 | B23: 02 | C23: 01 | D23: Vykdyti gyventojų registrų tvarkymo ir duomenų valstybės registrui teikimo funkciją | E23: SBVB | F23: 0.8 | G23: 0.8 | H23: 0.8 | I23: 0.8 | J23: Duomenų teikimo skaičius | K23: 2000 | L23: 2000 | M23: 2000
A24: 01 | B24: 02 | C24: 02 | D24: Tvarkyti archyvinius dokumentus | E24: SBVB | F24: 47.9 | G24: 47.9 | H24: 47.9 | I24: 47.9 | J24: Išduotų pažymų skaičius | K24: 700 | L24: 700 | M24: 700
A25: 01 | B25: 02 | C25: 03 | D25: Registruoti civilinės būklės aktus | E25: SBVB | F25: 35.5 | G25: 35.5 | H25: 35.5 | I25: 35.5 | J25: Užregistruotų civilinės būklės aktų skaičius | K25: 1600 | L25: 1600 | M25: 1600
A26: 01 | B26: 02 | C26: 04 | D26: Vykdyti valstybinės kalbos vartojimo ir taisyklingumo kontrolę | E26: SBVB | F26: 9 | G26: 9 | H26: 9 | I26: 9 | J26: Atliktų patikrinimų (įmonių, įstaigų, organizacijų) skaičius | K26: 20 | L26: 20 | M26: 20
A27: 01 | B27: 02 | C27: 05 | D27: Koordinuoti koordinuotai teikiamas paslaugas vaikams nuo gimimo iki 18 m. ir vaiko atstovams | E27: SBVB | F27: 20.2 | G27: 20.2 | H27: 20.2 | I27: 20.2 | J27: Suorganizuotų vaiko gerovės komisijų posėdžių skaičius | K27: 5 | L27: 5 | M27: 5
A28: 01 | B28: 02 | C28: 06 | D28: Vykdyti jaunimo teisių apsaugą | E28: SBVB | F28: 19.5 | G28: 19.5 | H28: 19.5 | I28: 19.5 | J28: Aktyvaus jaunimo dalis, proc. nuo bendro rajono jaunimo skaičiaus | K28: 10 | L28: 10 | M28: 10
A29: 01 | B29: 02 | C29: 07 | D29: Teikti pirminę teisinę pagalbą | E29: SBVB | F29: 12.2 | G29: 12.2 | H29: 12.2 | I29: 12.2 | J29: Suteiktos teisinės pagalbos atvejų skaičius | K29: 800 | L29: 800 | M29: 800
A30: 01 | B30: 02 | C30: 08 | D30: Teikti duomenis Valstybės suteiktos pagalbos registrui | E30: SBVB | F30: 1.2 | G30: 1.2 | H30: 1.2 | I30: 1.2 | J30: Duomenų teikimo skaičius | K30: 12 | L30: 12 | M30: 12
A31: 01 | B31: 02 | C31: 09 | D31: Vykdyti valstybinės žemės ir kito turto valdymo, naudojimo ir disponavimo juo patikėjimo teise, funkciją | E31: SBVB | F31: 0 | G31: 0 | H31: 0 | I31: 0 | J31: Savivaldybei patikėjimo teise perduotų valstybinės žemės sklypų skaičius | K31: 1 | L31: 1 | M31: 1
A32: 01 | B32: 02 | C32: 10 | D32: Vykdyti gyvenamosios vietos deklaravimo duomenų ir gyvenamosios vietos nedeklaravusių asmenų apskaitos duomenų tvarkymo funkciją | E32: SBVB | F32: 5 | G32: 5 | H32: 5 | I32: 5 | J32: Funkciją įgyvendinančių institucijų skaičius | K32: 11 | L32: 11 | M32: 11
A33: 01 | B33: 02 | C33: 11 | D33: Užtikrinti valstybės tarybos reformos įgyvendinimą | E33: SBVB | F33: 0 | G33: 6.3 | H33: 0 | I33: 0
A34: 01 | B34: 02 | C34: Iš viso uždaviniui | F34: =SUM(F23:F33) -> 151.3 | G34: =SUM(G23:G33) -> 157.6 | H34: =SUM(H23:H33) -> 151.3 | I34: =SUM(I23:I33) -> 151.3
A35: 01 | B35: 03 | C35: Užtikrinti finansavimą nenumatytoms išlaidoms dengti bei valdyti prisiimtus finansinius įsipareigojimus
A36: 01 | B36: 03 | C36: 01 | D36: Įgyvendinti priemones, finansuojamas iš Savivaldybės mero rezervo | E36: SB | F36: 120 | G36: 120 | H36: 120 | I36: 120 | J36: Rezervo panaudojimo proc. | K36: 100 | L36: 100 | M36: 100
A37: 01 | B37: 03 | C37: 02 | D37: Įgyvendinti priemones, finansuojamas iš Savivaldybės mero fondo | E37: SB | F37: 21.6 | G37: 21.6 | H37: 21.6 | I37: 21.6 | J37: Fondo panaudojimo proc. | K37: 100 | L37: 100 | M37: 100
A38: 01 | B38: 03 | C38: 03 | D38: Imti ir grąžinti paskolas, mokėti palūkanas, vykdyti finansinius įsipareigojimus | E38: SB | F38: 110 | G38: 230 | H38: 400 | I38: 400 | J38: Finansinių įsipareigojimų vykdymo savalaikiškumas, proc. | K38: 100 | L38: 100 | M38: 100
E39: SB | F39: 48.1 | G39: 48.1 | H39: 48.1 | I39: 48.3
E40: SB | F40: 0 | G40: 0 | H40: 0 | I40: 0
E41: SK | F41: 1836.7 | G41: 1836.7 | H41: 1523.2 | I41: 1293.7
A42: 01 | B42: 03 | C42: 04 | D42: Kompensuoti UAB "Kėdbusas" nuostolingus maršrutus | E42: SB | F42: 1050 | G42: 1050 | H42: 1150 | I42: 1150 | J42: Patvirtintų pavėžėjimo išlaidų kompensavimas | K42: 100 | L42: 100 | M42: 100
A43: 01 | B43: 03 | C43: 05 | D43: Kompensuoti dalį išlaidų savivaldybėms, siekiant šalinti COVID-19 ligos (koronaviruso infekcijos) padarinius ir valdyti jos plitimą, esant valstybės lygio ekstremaliai situacijai | E43: SBVB | F43: 0 | G43: 0 | H43: 0 | I43: 0 | J43: Finansinių įsipareigojimų vykdymas, proc.
A44: 01 | B44: 03 | C44: 06 | D44: Kompensuoti savivaldybės patirtas išlaidas valdant nepaprastąją padėtį dėl užsieniečių, pasitraukusių iš Ukrainos dėl Rusijos Federacijos karinių veiksmų Ukrainoje | E44: SBVB | F44: 0 | G44: 19.1 | H44: 0 | I44: 0 | J44: Įstaigų, kurioms kompensuojamos išlaidos / asmenų, pasitraukusių iš Ukrainos dėl Rusijos Federacijos karinių veiksmų Ukrainoje, skaičius | K44: 2/20
A45: 01 | B45: 03 | C45: Iš viso uždaviniui | F45: =SUM(F36:F44) -> 3186.4 | G45: =SUM(G36:G44) -> 3325.5 | H45: =SUM(H36:H44) -> 3262.9 | I45: =SUM(I36:I44) -> 3033.6
A46: 01 | B46: Iš viso tikslui | F46: =+F45+F34+F21 -> 9713.7 | G46: =+G45+G34+G21 -> 10360.2 | H46: =+H45+H34+H21 -> 10609.7 | I46: =+I45+I34+I21 -> 10669.4
A47: 02 | B47: Gerinti Kėdainių rajono savivaldybės tarybos ir administracijos komunikavimo ir įvaizdžio formavimo funkcijas
A48: 02 | B48: 01 | C48: Užtikrinti savivaldybės veiklos viešumą, gerinti komunikavimo ryšį su rajono bendruomenės nariais
A49: 02 | B49: 01 | C49: 01 | D49: Tobulinti Kėdainių rajono savivaldybės tarybos ir administracijos komunikaciją su bendruomene ir visuomenės informavimą | E49: SB | F49: 29 | G49: 29 | H49: 29 | I49: 29 | J49: Informacijos apie Savivaldybės veiklą, sprendimus, projektus, renginius spaudoje, interneto svetainėje, televizijoje, socialiniuose tinkluose, leidiniuose ir kt. žiniasklaidos priemonėse skleidimas | K49: 100 | L49: 100 | M49: 100
A50: 02 | B50: 01 | C50: Iš viso uždaviniui | F50: =+F49 -> 29 | G50: =+G49 -> 29 | H50: =+H49 -> 29 | I50: =+I49 -> 29
A51: 02 | B51: 02 | C51: Plėtojant dalykinius santykius ir ryšius su tarptautinėmis ir vietinėmis institucijomis bei organizacijomis, stiprinti rajono įvaizdį
A52: 02 | B52: 02 | C52: 01 | D52: Dalyvauti Lietuvos savivaldybių asociacijos veikloje | E52: SB | F52: 20 | G52: 20 | H52: 20 | I52: 20 | J52: Veikloje dalyvaujančių partnerių skaičius | K52: 59 | L52: 59 | M52: 59
A53: 02 | B53: 02 | C53: 02 | D53: Dalyvauti Kauno regiono plėtros agentūros veikloje | E53: SB | F53: 15 | G53: 15 | H53: 15 | I53: 15 | J53: Programų, kuriose dalyvauja savivaldybė, skaičius | K53: 4 | L53: 4 | M53: 4
A54: 02 | B54: 02 | C54: Iš viso uždaviniui | F54: =SUM(F52:F53) -> 35 | G54: =SUM(G52:G53) -> 35 | H54: =SUM(H52:H53) -> 35 | I54: =SUM(I52:I53) -> 35
A55: 02 | B55: Iš viso tikslui | F55: =+F54+F50 -> 64 | G55: =+G54+G50 -> 64 | H55: =+H54+H50 -> 64 | I55: =+I54+I50 -> 64
A56: 03 | B56: Gerinti savivaldybės administracijos darbo kokybę, atnaujinant (diegiant) informacines sistemas, kompiuterinę įrangą, užtikrinant sisteminį viešųjų ir administracinių paslaugų modernizavimą
A57: 03 | B57: 01 | C57: Organizuoti savivaldybės veiklą vadovaujantis šiuolaikiniais vadybos principais, tobulinti darbuotojų kompetenciją
A58: 03 | B58: 01 | C58: 01 | D58: Užtikrinti informacinių technologijų plėtrą savivaldybės administracijoje, kelti elektroninių paslaugų brandos lygį, naudoti elektroninį parašą | E58: SB | F58: 161.5 | G58: 161.5 | H58: 200 | I58: 230 | J58: Atnaujintos/prižiūrimos IT įrangos skaičius | K58: 50 | L58: 50 | M58: 50
A59: 03 | B59: 01 | C59: Iš viso uždaviniui | F59: =SUM(F58:F58) -> 161.5 | G59: =SUM(G58:G58) -> 161.5 | H59: =SUM(H58:H58) -> 200 | I59: =SUM(I58:I58) -> 230
A60: 03 | B60: Iš viso tikslui | F60: =+F59 -> 161.5 | G60: =+G59 -> 161.5 | H60: =+H59 -> 200 | I60: =+I59 -> 230
A61: 04 | B61: Didinti saugumą rajone
A62: 04 | B62: 01 | C62: Užtikrinti rajono gyventojų viešąją tvarką ir viešąjį saugumą
A63: 04 | B63: 01 | C63: 01 | D63: Finansuoti prevencinę programą „Saugios aplinkos kūrimas ir bendruomenės teisėtvarkos kūrimas" | E63: SB | F63: 12 | G63: 12 | H63: 12 | I63: 12 | J63: Įgyvendintų prevencinių priemonių skaičius | K63: 20 | L63: 20 | M63: 20
A64: 04 | B64: 01 | C64: 02 | D64: Užtikrinti savivaldybės priešgaisrinės tarnybos veiklą ir modernizuoti infrastruktūrą | E64: SB | F64: 92 | G64: 93.4 | H64: 100 | I64: 100 | J64: Savanorių ugniagesių veikloje dalyvaujančių gyventojų skaičius | K64: 27 | L64: 27 | M64: 27
E65: SBVB | F65: 1234.6 | G65: 1234.6 | H65: 1285 | I65: 1330
E66: ĮP | F66: 1.1 | G66: 1.1 | H66: 1.1 | I66: 1.1
A67: 04 | B67: 01 | C67: 03 | D67: Organizuoti civilinę saugą | E67: SBVB | F67: 57.8 | G67: 57.8 | H67: 57.8 | I67: 57.8 | J67: Įgyvendintų ekstremaliųjų situacijų prevencijos priemonių plano vykdymo procentas | K67: 100 | L67: 100 | M67: 100
A68: 04 | B68: 01 | C68: 04 | D68: Vykdyti mobilizacijos administravimą | E68: SBVB | F68: 32.3 | G68: 32.6 | H68: 32.3 | I68: 32.3 | J68: Parengtų mobilizacijos planų skaičius | K68: 1 | L68: 1 | M68: 1
A69: 04 | B69: 01 | C69: 05 | D69: Modernizuoti gyventojų perspėjimo sistemą bei įrengti Ekstremalių situacijų operacijų centro patalpas | E69: SB | F69: 18 | G69: 18 | H69: 0 | I69: 0 | J69: Įrengta Ekstremaliųjų situacijų operacijų centro patalpa/Diegiamų šiuolaikinių elektroninių akustinių sirenų skaičius | K69: 0/2
A70: 04 | B70: 01 | C70: 06 | D70: Užtikrinti gyventojų saugumą, diegiant vaizdo stebėjimo ir saugumo priemones mieste | E70: SB | F70: 141.9 | G70: 141.9 | H70: 170 | I70: 170 | J70: Stebėjimo vietų viešosiose erdvėse skaičius | K70: 67 | L70: 77 | M70: 77
A71: 04 | B71: 01 | C71: 07 | D71: Užtikrinti gyventojų saugumą, diegiant vaizdo stebėjimo ir saugumo priemones rajone | E71: SB | F71: 10 | G71: 10 | H71: 10 | I71: 10 | J71: Stebėjimo vietų viešosiose erdvėse skaičius | K71: 64 | L71: 74 | M71: 84
A72: 04 | B72: 02 | C72: Iš viso uždaviniui | F72: =SUM(F63:F71) -> 1599.7 | G72: =SUM(G63:G71) -> 1601.4 | H72: =SUM(H63:H71) -> 1668.2 | I72: =SUM(I63:I71) -> 1713.2
A73: 04 | B73: Iš viso tikslui | F73: =+F72 -> 1599.7 | G73: =+G72 -> 1601.4 | H73: =+H72 -> 1668.2 | I73: =+I72 -> 1713.2
A74: Iš viso programai | F74: =+F73+F60+F55+F46 -> 11538.9 | G74: =+G73+G60+G55+G46 -> 12187.1 | H74: =+H73+H60+H55+H46 -> 12541.9 | I74: =+I73+I60+I55+I46 -> 12676.6
A75: Finansavimo šaltiniai
A76: SAVIVALDYBĖS LĖŠOS | F76: =SUM(F77:F82) -> 11538.9 | G76: =SUM(G77:G82) -> 12187.1 | H76: =SUM(H77:H82) -> 12541.9 | I76: =SUM(I77:I82) -> 12676.6
A77: Savivaldybės biudžetas SB | F77: =+F70+F64+F63+F58+F53+F52+F49+F42+F38+F37+F36+F18+F17+F12+F69+F71+F39+F20+F40 -> 8142.6 | G77: =+G70+G64+G63+G58+G53+G52+G49+G42+G38+G37+G36+G18+G17+G12+G69+G71+G39+G20+G40 -> 8765.1 | H77: =+H70+H64+H63+H58+H53+H52+H49+H42+H38+H37+H36+H18+H17+H12+H69+H71+H39+H20+H40 -> 9408.7 | I77: =+I70+I64+I63+I58+I53+I52+I49+I42+I38+I37+I36+I18+I17+I12+I69+I71+I39+I20+I40 -> 9727.9
A78: Valstybės biudžeto specialiosios tikslinės dotacijos lėšos SBVB | F78: =+F68+F67+F65+F32+F31+F30+F29+F28+F27+F26+F25+F24+F23+F43+F44+F33 -> 1476 | G78: =+G68+G67+G65+G32+G31+G30+G29+G28+G27+G26+G25+G24+G23+G43+G44+G33 -> 1501.7 | H78: =+H68+H67+H65+H32+H31+H30+H29+H28+H27+H26+H25+H24+H23+H43+H44+H33 -> 1526.4 | I78: =+I68+I67+I65+I32+I31+I30+I29+I28+I27+I26+I25+I24+I23+I43+I44+I33 -> 1571.4
A79: Aplinkos apsaugos rėmimo specialiosios programos lėšos AA
A80: Iš pajamų už suteiktas paslaugas lėšos ĮP | F80: =+F15+F19+F66 -> 83.6 | G80: =+G15+G19+G66 -> 83.6 | H80: =+H15+H19+H66 -> 83.6 | I80: =+I15+I19+I66 -> 83.6
A81: Skolintos lėšos SK | F81: =+F41 -> 1836.7 | G81: =+G41 -> 1836.7 | H81: =+H41 -> 1523.2 | I81: =+I41 -> 1293.7
A82: Kelių priežiūros ir plėtros programos lėšos KPP
A83: KITOS LĖŠOS | F83: =SUM(F84:F87) -> 0 | G83: =SUM(G84:G87) -> 0 | H83: =SUM(H84:H87) -> 0 | I83: =SUM(I84:I87) -> 0
A84: Europos Sąjungos lėšos, užsienio fondų lėšos ES
A85: Valstybės biudžeto lėšos VB
A86: Privačios – investuotojų lėšos PR
A87: Kiti finansavimo šaltiniai KT
A88: *Patvirtinta 2023 m. sausio 27 d. Kėdainių rajono tarybos sprendimu Nr.TS-1

Sheet Lešu poreikis iš viso
I1: 12 priedas
A2: Finansavimo poreikis 2023–2025 m. strateginio veiklos plano programų vykdymui
I3: tūkst. Eur
A4: Finansavimo šaltinis | F4: Numatomi 2023-ųjų m. asignavimai | G4: Patikslinti 2023-ųjų m. asignavimai | H4: Numatomi 2024-ųjų m. asignavimai | I4: Numatomi 2025-ųjų m. asignavimai
A9: IŠ VISO PROGRAMOMS | F9: =+'01šviet.'!F91+'02sveikat.'!F67+'03social.'!F97+'04sport.'!F55+'05kultura'!F91+'06turizm_paveld'!F49+'07Infrastr.'!F137+'08aplinkosauga'!F54+'09ž.ū.'!F47+'10verslas'!F29+'11valdym.'!F74 -> 110533.85 | G9: =+'01šviet.'!G91+'02sveikat.'!G67+'03social.'!G97+'04sport.'!G55+'05kultura'!G91+'06turizm_paveld'!G49+'07Infrastr.'!G137+'08aplinkosauga'!G54+'09ž.ū.'!G47+'10verslas'!G29+'11valdym.'!G74 -> 119634.75 | H9: =+'01šviet.'!H91+'02sveikat.'!H67+'03social.'!H97+'04sport.'!H55+'05kultura'!H91+'06turizm_paveld'!H49+'07Infrastr.'!H137+'08aplinkosauga'!H54+'09ž.ū.'!H47+'10verslas'!H29+'11valdym.'!H74 -> 116914.7 | I9: =+'01šviet.'!I91+'02sveikat.'!I67+'03social.'!I97+'04sport.'!I55+'05kultura'!I91+'06turizm_paveld'!I49+'07Infrastr.'!I137+'08aplinkosauga'!I54+'09ž.ū.'!I47+'10verslas'!I29+'11valdym.'!I74 -> 119385.4
A10: Finansavimo šaltiniai | F10: =+'01šviet.'!F92+'02sveikat.'!F68+'03social.'!F98+'04sport.'!F56+'05kultura'!F92+'06turizm_paveld'!F50+'07Infrastr.'!F138+'08aplinkosauga'!F55+'09ž.ū.'!F48+'10verslas'!F30+'11valdym.'!F75 -> 0 | G10: =+'01šviet.'!G92+'02sveikat.'!G68+'03social.'!G98+'04sport.'!G56+'05kultura'!G92+'06turizm_paveld'!G50+'07Infrastr.'!G138+'08aplinkosauga'!G55+'09ž.ū.'!G48+'10verslas'!G30+'11valdym.'!G75 -> 0 | H10: =+'01šviet.'!H92+'02sveikat.'!H68+'03social.'!H98+'04sport.'!H56+'05kultura'!H92+'06turizm_paveld'!H50+'07Infrastr.'!H138+'08aplinkosauga'!H55+'09ž.ū.'!H48+'10verslas'!H30+'11valdym.'!H75 -> 0 | I10: =+'01šviet.'!I92+'02sveikat.'!I68+'03social.'!I98+'04sport.'!I56+'05kultura'!I92+'06turizm_paveld'!I50+'07Infrastr.'!I138+'08aplinkosauga'!I55+'09ž.ū.'!I48+'10verslas'!I30+'11valdym.'!I75 -> 0
A11: SAVIVALDYBĖS LĖŠOS | F11: =+'01šviet.'!F93+'02sveikat.'!F69+'03social.'!F99+'04sport.'!F57+'05kultura'!F93+'06turizm_paveld'!F51+'07Infrastr.'!F139+'08aplinkosauga'!F56+'09ž.ū.'!F49+'10verslas'!F31+'11valdym.'!F76 -> 90307.8 | G11: =+'01šviet.'!G93+'02sveikat.'!G69+'03social.'!G99+'04sport.'!G57+'05kultura'!G93+'06turizm_paveld'!G51+'07Infrastr.'!G139+'08aplinkosauga'!G56+'09ž.ū.'!G49+'10verslas'!G31+'11valdym.'!G76 -> 98137.8 | H11: =+'01šviet.'!H93+'02sveikat.'!H69+'03social.'!H99+'04sport.'!H57+'05kultura'!H93+'06turizm_paveld'!H51+'07Infrastr.'!H139+'08aplinkosauga'!H56+'09ž.ū.'!H49+'10verslas'!H31+'11valdym.'!H76 -> 97209.7 | I11: =+'01šviet.'!I93+'02sveikat.'!I69+'03social.'!I99+'04sport.'!I57+'05kultura'!I93+'06turizm_paveld'!I51+'07Infrastr.'!I139+'08aplinkosauga'!I56+'09ž.ū.'!I49+'10verslas'!I31+'11valdym.'!I76 -> 97935.3
A12: Savivaldybės biudžetas SB | F12: =+'01šviet.'!F94+'02sveikat.'!F70+'03social.'!F100+'04sport.'!F58+'05kultura'!F94+'06turizm_paveld'!F52+'07Infrastr.'!F140+'08aplinkosauga'!F57+'09ž.ū.'!F50+'10verslas'!F32+'11valdym.'!F77 -> 51241.4 | G12: =+'01šviet.'!G94+'02sveikat.'!G70+'03social.'!G100+'04sport.'!G58+'05kultura'!G94+'06turizm_paveld'!G52+'07Infrastr.'!G140+'08aplinkosauga'!G57+'09ž.ū.'!G50+'10verslas'!G32+'11valdym.'!G77 -> 54072.7 | H12: =+'01šviet.'!H94+'02sveikat.'!H70+'03social.'!H100+'04sport.'!H58+'05kultura'!H94+'06turizm_paveld'!H52+'07Infrastr.'!H140+'08aplinkosauga'!H57+'09ž.ū.'!H50+'10verslas'!H32+'11valdym.'!H77 -> 60320.8 | I12: =+'01šviet.'!I94+'02sveikat.'!I70+'03social.'!I100+'04sport.'!I58+'05kultura'!I94+'06turizm_paveld'!I52+'07Infrastr.'!I140+'08aplinkosauga'!I57+'09ž.ū.'!I50+'10verslas'!I32+'11valdym.'!I77 -> 61201.2
A13: Valstybės biudžeto specialiosios tikslinės dotacijos lėšos SBVB | F13: =+'01šviet.'!F95+'02sveikat.'!F71+'03social.'!F101+'04sport.'!F59+'05kultura'!F95+'06turizm_paveld'!F53+'07Infrastr.'!F141+'08aplinkosauga'!F58+'09ž.ū.'!F51+'10verslas'!F33+'11valdym.'!F78 -> 29058.9 | G13: =+'01šviet.'!G95+'02sveikat.'!G71+'03social.'!G101+'04sport.'!G59+'05kultura'!G95+'06turizm_paveld'!G53+'07Infrastr.'!G141+'08aplinkosauga'!G58+'09ž.ū.'!G51+'10verslas'!G33+'11valdym.'!G78 -> 34029.2 | H13: =+'01šviet.'!H95+'02sveikat.'!H71+'03social.'!H101+'04sport.'!H59+'05kultura'!H95+'06turizm_paveld'!H53+'07Infrastr.'!H141+'08aplinkosauga'!H58+'09ž.ū.'!H51+'10verslas'!H33+'11valdym.'!H78 -> 28819.3 | I13: =+'01šviet.'!I95+'02sveikat.'!I71+'03social.'!I101+'04sport.'!I59+'05kultura'!I95+'06turizm_paveld'!I53+'07Infrastr.'!I141+'08aplinkosauga'!I58+'09ž.ū.'!I51+'10verslas'!I33+'11valdym.'!I78 -> 28717.7
A14: Aplinkos apsaugos rėmimo specialiosios programos lėšos AA | F14: =+'01šviet.'!F96+'02sveikat.'!F72+'03social.'!F102+'04sport.'!F60+'05kultura'!F96+'06turizm_paveld'!F54+'07Infrastr.'!F142+'08aplinkosauga'!F59+'09ž.ū.'!F52+'10verslas'!F34+'11valdym.'!F79 -> 681.2 | G14: =+'01šviet.'!G96+'02sveikat.'!G72+'03social.'!G102+'04sport.'!G60+'05kultura'!G96+'06turizm_paveld'!G54+'07Infrastr.'!G142+'08aplinkosauga'!G59+'09ž.ū.'!G52+'10verslas'!G34+'11valdym.'!G79 -> 764 | H14: =+'01šviet.'!H96+'02sveikat.'!H72+'03social.'!H102+'04sport.'!H60+'05kultura'!H96+'06turizm_paveld'!H54+'07Infrastr.'!H142+'08aplinkosauga'!H59+'09ž.ū.'!H52+'10verslas'!H34+'11valdym.'!H79 -> 639.7 | I14: =+'01šviet.'!I96+'02sveikat.'!I72+'03social.'!I102+'04sport.'!I60+'05kultura'!I96+'06turizm_paveld'!I54+'07Infrastr.'!I142+'08aplinkosauga'!I59+'09ž.ū.'!I52+'10verslas'!I34+'11valdym.'!I79 -> 633
A15: Iš pajamų už suteiktas paslaugas lėšos ĮP | F15: =+'01šviet.'!F97+'02sveikat.'!F73+'03social.'!F103+'04sport.'!F61+'05kultura'!F97+'06turizm_paveld'!F55+'07Infrastr.'!F143+'08aplinkosauga'!F60+'09ž.ū.'!F53+'10verslas'!F35+'11valdym.'!F80 -> 2435.6 | G15: =+'01šviet.'!G97+'02sveikat.'!G73+'03social.'!G103+'04sport.'!G61+'05kultura'!G97+'06turizm_paveld'!G55+'07Infrastr.'!G143+'08aplinkosauga'!G60+'09ž.ū.'!G53+'10verslas'!G35+'11valdym.'!G80 -> 2435.6 | H15: =+'01šviet.'!H97+'02sveikat.'!H73+'03social.'!H103+'04sport.'!H61+'05kultura'!H97+'06turizm_paveld'!H55+'07Infrastr.'!H143+'08aplinkosauga'!H60+'09ž.ū.'!H53+'10verslas'!H35+'11valdym.'!H80 -> 2450.7 | I15: =+'01šviet.'!I97+'02sveikat.'!I73+'03social.'!I103+'04sport.'!I61+'05kultura'!I97+'06turizm_paveld'!I55+'07Infrastr.'!I143+'08aplinkosauga'!I60+'09ž.ū.'!I53+'10verslas'!I35+'11valdym.'!I80 -> 2480.7
A16: Skolintos lėšos SK | F16: =+'01šviet.'!F98+'02sveikat.'!F74+'03social.'!F104+'04sport.'!F62+'05kultura'!F98+'06turizm_paveld'!F56+'07Infrastr.'!F144+'08aplinkosauga'!F61+'09ž.ū.'!F54+'10verslas'!F36+'11valdym.'!F81 -> 3840.7 | G16: =+'01šviet.'!G98+'02sveikat.'!G74+'03social.'!G104+'04sport.'!G62+'05kultura'!G98+'06turizm_paveld'!G56+'07Infrastr.'!G144+'08aplinkosauga'!G61+'09ž.ū.'!G54+'10verslas'!G36+'11valdym.'!G81 -> 3840.7 | H16: =+'01šviet.'!H98+'02sveikat.'!H74+'03social.'!H104+'04sport.'!H62+'05kultura'!H98+'06turizm_paveld'!H56+'07Infrastr.'!H144+'08aplinkosauga'!H61+'09ž.ū.'!H54+'10verslas'!H36+'11valdym.'!H81 -> 1729.2 | I16: =+'01šviet.'!I98+'02sveikat.'!I74+'03social.'!I104+'04sport.'!I62+'05kultura'!I98+'06turizm_paveld'!I56+'07Infrastr.'!I144+'08aplinkosauga'!I61+'09ž.ū.'!I54+'10verslas'!I36+'11valdym.'!I81 -> 1452.7
A17: Kelių priežiūros ir plėtros programos lėšos KPP | F17: =+'01šviet.'!F99+'02sveikat.'!F75+'03social.'!F105+'04sport.'!F63+'05kultura'!F99+'06turizm_paveld'!F57+'07Infrastr.'!F145+'08aplinkosauga'!F62+'09ž.ū.'!F55+'10verslas'!F37+'11valdym.'!F82 -> 3050 | G17: =+'01šviet.'!G99+'02sveikat.'!G75+'03social.'!G105+'04sport.'!G63+'05kultura'!G99+'06turizm_paveld'!G57+'07Infrastr.'!G145+'08aplinkosauga'!G62+'09ž.ū.'!G55+'10verslas'!G37+'11valdym.'!G82 -> 2995.6 | H17: =+'01šviet.'!H99+'02sveikat.'!H75+'03social.'!H105+'04sport.'!H63+'05kultura'!H99+'06turizm_paveld'!H57+'07Infrastr.'!H145+'08aplinkosauga'!H62+'09ž.ū.'!H55+'10verslas'!H37+'11valdym.'!H82 -> 3250 | I17: =+'01šviet.'!I99+'02sveikat.'!I75+'03social.'!I105+'04sport.'!I63+'05kultura'!I99+'06turizm_paveld'!I57+'07Infrastr.'!I145+'08aplinkosauga'!I62+'09ž.ū.'!I55+'10verslas'!I37+'11valdym.'!I82 -> 3450
A18: KITOS LĖŠOS | F18: =+'01šviet.'!F100+'02sveikat.'!F76+'03social.'!F106+'04sport.'!F64+'05kultura'!F100+'06turizm_paveld'!F58+'07Infrastr.'!F146+'08aplinkosauga'!F63+'09ž.ū.'!F56+'10verslas'!F38+'11valdym.'!F83 -> 20226.05 | G18: =+'01šviet.'!G100+'02sveikat.'!G76+'03social.'!G106+'04sport.'!G64+'05kultura'!G100+'06turizm_paveld'!G58+'07Infrastr.'!G146+'08aplinkosauga'!G63+'09ž.ū.'!G56+'10verslas'!G38+'11valdym.'!G83 -> 21496.95 | H18: =+'01šviet.'!H100+'02sveikat.'!H76+'03social.'!H106+'04sport.'!H64+'05kultura'!H100+'06turizm_paveld'!H58+'07Infrastr.'!H146+'08aplinkosauga'!H63+'09ž.ū.'!H56+'10verslas'!H38+'11valdym.'!H83 -> 19705 | I18: =+'01šviet.'!I100+'02sveikat.'!I76+'03social.'!I106+'04sport.'!I64+'05kultura'!I100+'06turizm_paveld'!I58+'07Infrastr.'!I146+'08aplinkosauga'!I63+'09ž.ū.'!I56+'10verslas'!I38+'11valdym.'!I83 -> 21450.1
A19: Europos Sąjungos lėšos, užsienio fondų lėšos ES | F19: =+'01šviet.'!F101+'02sveikat.'!F77+'03social.'!F107+'04sport.'!F65+'05kultura'!F101+'06turizm_paveld'!F59+'07Infrastr.'!F147+'08aplinkosauga'!F64+'09ž.ū.'!F57+'10verslas'!F39+'11valdym.'!F84 -> 4400.1 | G19: =+'01šviet.'!G101+'02sveikat.'!G77+'03social.'!G107+'04sport.'!G65+'05kultura'!G101+'06turizm_paveld'!G59+'07Infrastr.'!G147+'08aplinkosauga'!G64+'09ž.ū.'!G57+'10verslas'!G39+'11valdym.'!G84 -> 5107.1 | H19: =+'01šviet.'!H101+'02sveikat.'!H77+'03social.'!H107+'04sport.'!H65+'05kultura'!H101+'06turizm_paveld'!H59+'07Infrastr.'!H147+'08aplinkosauga'!H64+'09ž.ū.'!H57+'10verslas'!H39+'11valdym.'!H84 -> 3991.9 | I19: =+'01šviet.'!I101+'02sveikat.'!I77+'03social.'!I107+'04sport.'!I65+'05kultura'!I101+'06turizm_paveld'!I59+'07Infrastr.'!I147+'08aplinkosauga'!I64+'09ž.ū.'!I57+'10verslas'!I39+'11valdym.'!I84 -> 5119
A20: Valstybės biudžeto lėšos VB | F20: =+'01šviet.'!F102+'02sveikat.'!F78+'03social.'!F108+'04sport.'!F66+'05kultura'!F102+'06turizm_paveld'!F60+'07Infrastr.'!F148+'08aplinkosauga'!F65+'09ž.ū.'!F58+'10verslas'!F40+'11valdym.'!F85 -> 14800.9 | G20: =+'01šviet.'!G102+'02sveikat.'!G78+'03social.'!G108+'04sport.'!G66+'05kultura'!G102+'06turizm_paveld'!G60+'07Infrastr.'!G148+'08aplinkosauga'!G65+'09ž.ū.'!G58+'10verslas'!G40+'11valdym.'!G85 -> 14897.7 | H20: =+'01šviet.'!H102+'02sveikat.'!H78+'03social.'!H108+'04sport.'!H66+'05kultura'!H102+'06turizm_paveld'!H60+'07Infrastr.'!H148+'08aplinkosauga'!H65+'09ž.ū.'!H58+'10verslas'!H40+'11valdym.'!H85 -> 15197.8 | I20: =+'01šviet.'!I102+'02sveikat.'!I78+'03social.'!I108+'04sport.'!I66+'05kultura'!I102+'06turizm_paveld'!I60+'07Infrastr.'!I148+'08aplinkosauga'!I65+'09ž.ū.'!I58+'10verslas'!I40+'11valdym.'!I85 -> 15163.3
... A22: Kiti finansavimo šaltiniai KT | F22: =+'01šviet.'!F104+'02sveikat.'!F80+'03social.'!F110+'04sport.'!F68+'05kultura'!F104+'06turizm_paveld'!F62+'07Infrastr.'!F150+'08aplinkosauga'!F67+'09ž.ū.'!F60+'10verslas'!F42+'11valdym.'!F87 -> 26.15 | G22: =+'01šviet.'!G104+'02sveikat.'!G80+'03social.'!G110+'04sport.'!G68+'05kultura'!G104+'06turizm_paveld'!G62+'07Infrastr.'!G150+'08aplinkosauga'!G67+'09ž.ū.'!G60+'10verslas'!G42+'11valdym.'!G87 -> 26.15 | H22: =+'01šviet.'!H104+'02sveikat.'!H80+'03social.'!H110+'04sport.'!H68+'05kultura'!H104+'06turizm_paveld'!H62+'07Infrastr.'!H150+'08aplinkosauga'!H67+'09ž.ū.'!H60+'10verslas'!H42+'11valdym.'!H87 -> 0 | I22: =+'01šviet.'!I104+'02sveikat.'!I80+'03social.'!I110+'04sport.'!I68+'05kultura'!I104+'06turizm_paveld'!I62+'07Infrastr.'!I150+'08aplinkosauga'!I67+'09ž.ū.'!I60+'10verslas'!I42+'11valdym.'!I87 -> 0
A23: *Patvirtinta 2023 m. sausio 27 d. Kėdainių rajono tarybos sprendimu Nr.TS-1
