Workbook
Name _ftn1: 'Sveikatos 02.01.16'!#REF!
Name _ftnref1: 'Sveikatos 02.01.16'!$A$18
Name _Hlk85616660: 'Sveikatos 02.01.16'!$A$4

Sheet 01šviet.
I1: Kėdainių rajono savivaldybės tarybos
I2: 2022 m. rugsėjo 30 d. sprendimo Nr. TS-225
I3: priedas
A5: Kėdainių rajono savivaldybės 2022-2024 metų strateginio veiklos plano programų
A6: strateginius tikslus įgyvendinančių programų asignavimų priedai
J7: 1 priedas
A8: 1 lentelė. 2022–2024 m. Švietimo ir ugdymo programos (01) tikslai, uždaviniai, priemonės, asignavimai ir vertinimo kriterijai
L9: tūkst. Eur
A10: Programos tikslo kodas | B10: Uždavinio kodas | C10: Priemonės kodas | D10: Priemonės pavadinimas | E10: Finansavimo šaltinis | F10: * 2022-ųjų m. asignavimai | G10: Patikslinti 2022-ųjų m. asignavimai | H10: Numatomi 2023-ųjų m. asignavimai | I10: Numatomi 2024-ųjų m. asignavimai | J10: Vertinimo kriterijai
J11: Pavadinimas
K12: 2022 -ieji m. | L12: 2023 -ieji m. | M12: 2024 -ieji m.
A15: 01 ŠVIETIMAS IR UGDYMAS
A16: 01 | B16: Plėtoti kokybišką, visiems prieinamą, tęstinę švietimo sistemą savivaldybėje
A17: 01 | B17: 01 | C17: Sudaryti prielaidas ugdymo kokybei gerinti, mažinti ugdymo kokybės skirtumus tarp mokyklų, didinti pedagogų motyvaciją
A18: 01 | B18: 01 | C18: 01 | D18: Vykdyti švietimo programų įgyvendinimą ir užtikrinti tinkamą ugdymo(si) aplinką | E18: SBVB | F18: 17283.2 | G18: 17465.1 | H18: 17700 | I18: 18200 | J18: Vaikų skaičius ikimokyklinio ugdymo grupėse | K18: 1480 | L18: 1500 | M18: 1500
J19: Vaikų skaičius priešmokyklinio ugdymo grupėse | K19: 400 | L19: 400 | M19: 400
E20: SB | F20: 9315.4 | G20: 9623.7 | H20: 10195 | I20: 11650 | J20: Bendrojo ugdymo mokyklas lankančiųjų mokinių skaičius | K20: 5100 | L20: 5050 | M20: 5050
E21: ES | F21: 174.2 | G21: 174.2 | H21: 174.2 | I21: 174.2 | J21: Nelankančių bendrojo ugdymo mokyklų vaikų iki 16 metų skaičius | K21: 0 | L21: 0 | M21: 0
E22: ĮP | F22: 730.4 | G22: 730.4 | H22: 730 | I22: 730
A23: 01 | B23: 01 | C23: 02 | D23: Užtikrinti ugdymo programų įgyvendinimą ir tinkamą ugdymo (si) aplinką Kėdainių Dailės, Kalbų ir Muzikos mokyklose | E23: SBVB | F23: 67.2 | G23: 74.2 | H23: 75 | I23: 82 | J23: Vaikų, lankančių neformaliojo vaikų švietimo mokyklas, skaičius | K23: 1085 | L23: 1085 | M23: 1085
E24: SB | F24: 1512.1 | G24: 1528.7 | H24: 1590 | I24: 1630
E25: ĮP | F25: 184.2 | G25: 184.2 | H25: 180 | I25: 180
A26: 01 | B26: 01 | C26: 03 | D26: Teikti kvalifikuotą švietimo pagalbą mokiniui, mokytojui, mokyklai | E26: SBVB | F26: 374.6 | G26: 374.6 | H26: 410 | I26: 450 | J26: Organizuotų kvalifikacijos tobulinimo renginių skaičius / kvalifikaciją ir kompetenciją tobulinusių pedagogų, pagalbos mokinių specialistų, vadovų skaičius | K26: 150 / 3500 | L26: 150 / 3500 | M26: 150 / 3500
E27: SB | F27: 135 | G27: 140.3 | H27: 145 | I27: 155
E28: ES | F28: 0 | G28: 0 | H28: 0 | I28: 0
E29: ĮP | F29: 12.2 | G29: 12.2 | H29: 12 | I29: 12
A30: 01 | B30: 01 | C30: 04 | D30: Organizuoti brandos egzaminų sesiją, pagrindinio ugdymo pasiekimų patikrinimą, nacionalinį mokinių pasiekimų patikrinimą bei tyrimus | E30: SBVB | F30: 9.4 | G30: 9.4 | H30: 9.4 | I30: 9.4 | J30: Brandos egzaminus laikančiųjų skaičius | K30: 375 | L30: 370 | M30: 370
A31: 01 | B31: 01 | C31: 05 | D31: Vykdyti neformaliojo vaikų švietimo programas | E31: SBVB | F31: 262.8 | G31: 262.8 | H31: 275 | I31: 280 | J31: Įgyvendinamų programų skaičius | K31: 40 | L31: 40 | M31: 40
E32: SB | F32: 229.1 | G32: 229.1 | H32: 260 | I32: 280
A33: 01 | B33: 01 | C33: 06 | D33: Įgyvendinti neformaliojo suaugusiųjų švietimo ir tęstinio mokymosi veiksmų planą | E33: SB | F33: 5 | G33: 5 | H33: 5 | I33: 5 | J33: Įgyvendintų programų skaičius | K33: 8 | L33: 8 | M33: 8
A34: 01 | B34: 01 | C34: 07 | D34: Įgyvendinti Kėdainių rajono savivaldybės mokytojų motyvacijos programą | E34: SB | F34: 69 | G34: 69 | H34: 69 | I34: 69 | J34: Savivaldybės mokyklose dirbančių mokytojų, kurie paskatinti, skaičius | K34: 600 | L34: 600 | M34: 600
A35: 01 | B35: 01 | C35: 08 | D35: Kompensuoti švietimo įstaigų darbuotojų važiavimo į/iš darbo išlaidas | E35: SB | F35: 98 | G35: 98 | H35: 98 | I35: 98 | J35: Mokytojų ir kitų ugdymo procese dalyvaujančių specialistų, kuriems kompensuojamos išlaidos, skaičius | K35: 250 | L35: 250 | M35: 250
A36: 01 | B36: 01 | C36: 09 | D36: Vykdyti skaitmeninio ugdymo plėtrą | E36: SBVB | F36: 155.8 | G36: 155.8 | H36: 150 | I36: 150 | J36: Įstaigų, plečiančių skaitmeninimą, skaičius | K36: 17 | L36: 17 | M36: 17
A37: 01 | B37: 01 | C37: 10 | D37: Finansuoti vaikų vasaros stovyklų ir kitų neformaliojo vaikų švietimo veiklų programas | E37: SB | F37: 50 | G37: 50 | H37: 50 | I37: 50 | J37: Finansuotų vaikų vasaros poilsio ir užimtumo programų skaičius | K37: 35 | L37: 35 | M37: 35
E38: SBVB | F38: 0 | G38: 0 | H38: 0 | I38: 0
A39: 01 | B39: 01 | C39: 11 | D39: Skatinti savivaldybės gabius mokinius | E39: SB | F39: 14 | G39: 14 | H39: 14 | I39: 14 | J39: Mokinių, kuriems skirti piniginiai prizai, skaičius | K39: 110 | L39: 110 | M39: 110
A40: 01 | B40: 01 | C40: 12 | D40: Koofinansuoti švietimo įstaigų dalyvavimą infrastruktūros gerinimo/modernizavimo projektuose | E40: SB | F40: 50 | G40: 50 | H40: 40 | I40: 40 | J40: Įstaigų, kurioms skirtas finansavimas, skaičius | K40: 3 | L40: 3 | M40: 3
A41: 01 | B41: 01 | C41: 13 | D41: Organizuoti ir užtikrinti Švietimo skyriaus specialistų darbą | E41: SB | F41: 152.2 | G41: 152.2 | H41: 165 | I41: 170 | J41: Kuruojamų švietimo įstaigų skaičius | K41: 28 | L41: 28 | M41: 28
E42: SBVB | F42: 8.1 | G42: 8.1 | H42: 8.1 | I42: 8.1
A43: 01 | B43: 01 | C43: 14 | D43: Teikti Metų mokytojo apdovanojimą | E43: SB | F43: 3 | G43: 3 | H43: 3 | I43: 3 | J43: Įteiktų apdovanojimų skaičius | K43: 1 | L43: 1 | M43: 1
A44: 01 | B44: 01 | C44: Iš viso uždaviniui | F44: =SUM(F18:F43) -> 30894.9 | G44: =SUM(G18:G43) -> 31414 | H44: =SUM(H18:H43) -> 32357.7 | I44: =SUM(I18:I43) -> 34439.7
A45: 01 | B45: Iš viso tikslui | F45: =+F44 -> 30894.9 | G45: =+G44 -> 31414 | H45: =+H44 -> 32357.7 | I45: =+I44 -> 34439.7
E46: SB | F46: =+F43+F41+F40+F39+F37+F35+F34+F33+F32+F27+F24+F20 -> 11632.8 | G46: =+G43+G41+G40+G39+G37+G35+G34+G33+G32+G27+G24+G20 -> 11963 | H46: =+H43+H41+H40+H39+H37+H35+H34+H33+H32+H27+H24+H20 -> 12634 | I46: =+I43+I41+I40+I39+I37+I35+I34+I33+I32+I27+I24+I20 -> 14164
E47: SBVB | F47: =+F42+F38+F36+F31+F30+F26+F23+F18 -> 18161.1 | G47: =+G42+G38+G36+G31+G30+G26+G23+G18 -> 18350 | H47: =+H42+H38+H36+H31+H30+H26+H23+H18 -> 18627.5 | I47: =+I42+I38+I36+I31+I30+I26+I23+I18 -> 19179.5
E48: ES | F48: =+F28+F21 -> 174.2 | G48: =+G28+G21 -> 174.2 | H48: =+H28+H21 -> 174.2 | I48: =+I28+I21 -> 174.2
E49: VB
E50: ĮP | F50: =+F29+F25+F22 -> 926.8 | G50: =+G29+G25+G22 -> 926.8 | H50: =+H29+H25+H22 -> 922 | I50: =+I29+I25+I22 -> 922
A51: 02 | B51: Tobulinti ugdymo(si) infrastruktūrą, aplinką, diegti inovacijas
A52: 02 | B52: 01 | C52: Gerinti darbo ir mokymo(si) sąlygas savivaldybės švietimo įstaigose
A53: 02 | B53: 01 | C53: 01 | D53: Modernizuoti Kėdainių šviesiosios gimnazijos pastatą Kėdainiuose, Didžioji g. 60 | E53: SBVB | F53: 474 | G53: 474 | H53: 643 | I53: 91 | J53: Atlikta einamaisiais metais numatytų darbų, proc. | K53: 100 | L53: 100 | M53: 100
E54: SB | F54: 0 | G54: 157.2 | H54: 100 | I54: 100
A55: 02 | B55: 01 | C55: 02 | D55: Remontuoti Kėdainių „Ryto“ progimnaziją, kuriant šiuolaikines mokymosi erdves | E55: SB | F55: 30 | G55: 30 | H55: 50 | I55: 100 | J55: Įgyvendintų veiklų, modernizuojant edukacines erdves einamaisiais metais, proc. | K55: 100 | L55: 100 | M55: 100
A56: 02 | B56: 01 | C56: 03 | D56: Atnaujinti Lietuvos sporto universiteto Kėdainių „Aušros“ progimnaziją, kuriant modernias ir saugias erdves | E56: SB | F56: 124.1 | G56: 124.1 | H56: 260 | I56: 0 | J56: Įgyvendintų veiklų, atnaujinant progimnaziją bei modernizuojant edukacines erdves einamaisiais metais, proc. | K56: 100 | L56: 100
E57: ES | F57: 33.4 | G57: 58.4 | H57: 0 | I57: 0
E58: VB | F58: 3 | G58: 3 | H58: 0 | I58: 0
A59: 02 | B59: 01 | C59: 04 | D59: Sudaryti saugias ugdymo sąlygas įstaigose, vykdančiose ugdymo programas | E59: SB | F59: 100 | G59: 100 | H59: 100 | I59: 150 | J59: Įstaigų skaičius, kuriose atlikti remonto darbai | K59: 4 | L59: 5 | M59: 5
A60: 02 | B60: 01 | C60: 05 | D60: Įrengti vėdinimo ir kondicionavimo sistemas savivaldybės ugdymo įstaigose | E60: SB | F60: 50 | G60: 50 | H60: 50 | I60: 50 | J60: Grupių, klasių ir egzaminų centrų skaičius, kuriose įrengta vėdinimo (kondicionavimo) sistema | K60: 37 | L60: 37 | M60: 37
A61: 02 | B61: 01 | C61: 06 | D61: Įrengti gamtos ir technologijų mokslų laboratorijas | E61: SB | F61: 20 | G61: 20 | H61: 20 | I61: 20 | J61: Įstaigų skaičius, kuriose įrengtos laboratorijos | K61: 4 | L61: 5 | M61: 5
E62: ES | F62: 0 | G62: 0 | H62: 100 | I62: 100
A63: 02 | B63: 01 | C63: 07 | D63: Atnaujinti Kėdainių muzikos mokyklos pastato fasadą, laiptus į rūsį | E63: SB | F63: 50 | G63: 50 | H63: 0 | I63: 0 | J63: Atlikta numatytų darbų, proc. | K63: 100
A64: 02 | B64: 01 | C64: 08 | D64: Parengti bendrojo ir ikimokyklinio ugdymo įstaigų (skyrių) pastatų modernizavimo technines dokumentacijas ir atlikti darbus | E64: SB | F64: 30 | G64: 40 | H64: 30 | I64: 30 | J64: Parengtos techninės dokumentacijos skaičius/Atlikta einamaisiais metais numatytų darbų, proc. | K64: 2/100 | L64: 2/100 | M64: 2/100
E65: SK | F65: 400 | G65: 400 | H65: 1300 | I65: 400
A66: 02 | B66: 01 | C66: 09 | D66: Parengti Kėdainių šviesiosios gimnazijos fasado tvarkybos projektą | E66: SB | F66: 0 | G66: 0 | H66: 0 | I66: 15 | J66: Parengtų tvarkybos projektų skaičius | M66: 1
A67: 02 | B67: 01 | C67: 10 | D67: Kurti modernias ir šiuolaikines mokymosi erdves Kėdainių kalbų mokykloje | E67: SB | F67: 5 | G67: 5 | H67: 11 | I67: 0 | J67: Įkurta šiuolaikiška moderni mokymosi erdvė | L67: 1
E68: PR | F68: 5 | G68: 5 | H68: 6 | I68: 0
A69: 02 | B69: 01 | C69: 11 | D69: Atnaujinti Kėdainių J.Paukštelio progimnazijos vidaus erdves | E69: SB | F69: 25 | G69: 25 | H69: 0 | I69: 0 | J69: Einamaisiais metais numatyta atlikti darbų, proc. | K69: 100
A70: 02 | B70: 01 | C70: 12 | D70: Vykdyti Kėdainių lopšelio-darželio „Žilvitis“ infrastruktūros modernizavimo projektą | E70: SB | F70: 0 | G70: 0.5 | H70: 0 | I70: 0 | J70: Įsigytų edukacinių priemonių skaičius | K70: 3
E71: ES | F71: 0 | G71: 6.2 | H71: 0 | I71: 0
A72: 02 | B72: 01 | C72: Iš viso uždaviniui | F72: =SUM(F53:F71) -> 1349.5 | G72: =SUM(G53:G71) -> 1548.4 | H72: =SUM(H53:H71) -> 2670 | I72: =SUM(I53:I71) -> 1056
A73: 02 | B73: Iš viso tikslui | F73: =+F72 -> 1349.5 | G73: =+G72 -> 1548.4 | H73: =+H72 -> 2670 | I73: =+I72 -> 1056
A74: Iš viso programai | F74: =+F73+F45 -> 32244.4 | G74: =+G73+G45 -> 32962.4 | H74: =+H73+H45 -> 35027.7 | I74: =+I73+I45 -> 35495.7
A75: iš jų:
A76: SAVIVALDYBĖS LĖŠOS | F76: =SUM(F77:F82) -> 32028.8 | G76: =SUM(G77:G82) -> 32715.6 | H76: =SUM(H77:H82) -> 34747.5 | I76: =SUM(I77:I82) -> 35221.5
A77: Savivaldybės biudžetas SB | F77: =+F66+F64+F63+F61+F60+F59+F56+F55+F54+F46+F67+F69+F70 -> 12066.9 | G77: =+G66+G64+G63+G61+G60+G59+G56+G55+G54+G46+G67+G69+G70 -> 12564.8 | H77: =+H66+H64+H63+H61+H60+H59+H56+H55+H54+H46+H67+H69+H70 -> 13255 | I77: =+I66+I64+I63+I61+I60+I59+I56+I55+I54+I46+I67+I69+I70 -> 14629
A78: Valstybės biudžeto specialiosios tikslinės dotacijos lėšos SBVB | F78: =+F53+F47 -> 18635.1 | G78: =+G53+G47 -> 18824 | H78: =+H53+H47 -> 19270.5 | I78: =+I53+I47 -> 19270.5
A79: Aplinkos apsaugos rėmimo specialiosios programos lėšos AA
A80: Iš pajamų už suteiktas paslaugas lėšos ĮP | F80: =+F50 -> 926.8 | G80: =+G50 -> 926.8 | H80: =+H50 -> 922 | I80: =+I50 -> 922
A81: Skolintos lėšos SK | F81: =+F65 -> 400 | G81: =+G65 -> 400 | H81: =+H65 -> 1300 | I81: =+I65 -> 400
A82: Kelių priežiūros ir plėtros programos lėšos KPP
A83: KITOS LĖŠOS | F83: =+F84+F85+F86+F87 -> 215.6 | G83: =+G84+G85+G86+G87 -> 246.8 | H83: =+H84+H85+H86+H87 -> 280.2 | I83: =+I84+I85+I86+I87 -> 274.2
A84: Europos Sąjungos lėšos, užsienio fondų lėšos ES | F84: =+F57+F48+F62+F71 -> 207.6 | G84: =+G57+G48+G62+G71 -> 238.8 | H84: =+H57+H48+H62+H71 -> 274.2 | I84: =+I57+I48+I62+I71 -> 274.2
A85: Valstybės biudžeto lėšos VB | F85: =+F58+F49 -> 3 | G85: =+G58+G49 -> 3 | H85: =+H58+H49 -> 0 | I85: =+I58+I49 -> 0
A86: Privačios – investuotojų lėšos PR | F86: =+F68 -> 5 | G86: =+G68 -> 5 | H86: =+H68 -> 6 | I86: =+I68 -> 0
A87: Kiti finansavimo šaltiniai KT
A88: *Patvirtinta 2022 m. vasario 18 d. rajono tarybos sprendimu Nr.TS-1

Sheet 02sveikat.
J1: 2 priedas
A2: 2 lentelė. 2022–2024 m. Sveikatos apsaugos (02) programos tikslai, uždaviniai, priemonės, asignavimai ir vertinimo kriterijai
J3: tūkst. Eur
A4: Programos tikslo kodas | B4: Uždavinio kodas | C4: Priemonės kodas | D4: Priemonės pavadinimas | E4: Finansavimo šaltinis | F4: * 2022-ųjų m. asignavimai | G4: Patikslinti 2022-ųjų m. asignavimai | H4: Numatomi 2023-ųjų m. asignavimai | I4: Numatomi 2024-ųjų m. asignavimai | J4: Vertinimo kriterijai
J5: Pavadinimas
K6: 2022 -ieji m. | L6: 2023 -ieji m. | M6: 2024 -ieji m.
A9: 02 SVEIKATOS APSAUGA
A10: 01 | B10: Stiprinti ir išsaugoti gyventojų sveikatą
A11: 01 | B11: 01 | C11: Sudaryti sąlygas gyventojams stiprinti sveikatą, kurti ir plėtoti su sveikatos stiprinimu susijusias paslaugas
A12: 01 | B12: 01 | C12: 01 | D12: Vykdyti Visuomenės sveikatos rėmimo specialiosios programos priemones | E12: AA | F12: 87.3 | G12: 87.3 | H12: 70 | I12: 70 | J12: Visuomenės sveikatos rėmimo specialiosios programos įgyvendinimas, proc. | K12: 100 | L12: 100 | M12: 100
A13: 01 | B13: 01 | C13: 02 | D13: Užtikrinti Kėdainių rajono savivaldybės visuomenės sveikatos biuro veiklą, vykdant visuomenės sveikatos priežiūros funkcijas | E13: SB | F13: 63.7 | G13: 93.7 | H13: 66 | I13: 76 | J13: Visuomenės sveikatos biuro vykdomų priemonių / dalyvavusiųjų skaičius | K13: 2250/ 42000 | L13: 2300/ 45000 | M13: 2300/ 45000
E14: SBVB | F14: 543.5 | G14: 593.5 | H14: 593.5 | I14: 593.5
E15: ĮP | F15: 11.8 | G15: 11.8 | H15: 11.8 | I15: 11.8
A16: 01 | B16: 01 | C16: 03 | D16: Peržiūrėti neveiksniais pripažintų asmenų būklę | E16: SBVB | F16: 2.5 | G16: 2.5 | H16: 1.7 | I16: 1.7 | J16: Asmenų, kurių neveiksnumas peržiūrėtas, skaičius | K16: 60 | L16: 60 | M16: 60
A17: 01 | B17: 01 | C17: 04 | D17: Gerinti pirminės asmens sveikatos priežiūros paslaugų teikimo prieinamumą tuberkuliozės srityje | E17: SB | F17: 7 | G17: 0.1 | H17: 0.6 | I17: 0 | J17: Tuberkulioze sergančių pacientų, kuriems buvo suteiktos socialinės paramos priemonės tuberkuliozės gydymo metu | K17: 4 | L17: 4
E18: ES | F18: 7.4 | G18: 0.4 | H18: 7 | I18: 0
E19: VB | F19: 0.7 | G19: 0.1 | H19: 0.6 | I19: 0
A20: 01 | B20: 01 | C20: 05 | D20: Įgyvendinti projektą "Jaunimui palankios sveikatos priežiūros paslaugos" | E20: SB | F20: 0 | G20: 0 | H20: 15 | I20: 19 | J20: Tikslinių grupių asmenys, dalyvaujantys projekte/pasitenkinimo suteiktomis paslaugomis lygis penkių balų sistemoje (ne mažiau) | M20: 500/ 4,5
E21: ES | F21: 40 | G21: 40 | H21: 21 | I21: 0
A22: 01 | B22: 01 | C22: 06 | D22: Aprūpinti ikimokyklinio ugdymo įstaigų sveikatos kabinetus metodinėmis priemonėmis | E22: SB | F22: 35 | G22: 35 | H22: 16 | I22: 0 | J22: Ikimokyklinio ir mokyklinio ugdymo įstaigų sveikatos kabinetų, kuriuose atliktas remontas/ kabinetų, aprūpintų metodinėmis priemonėmis, skaičius | L22: 10/29
E23: ES | F23: 100 | G23: 100 | H23: 46 | I23: 0
A24: 01 | B24: 01 | C24: 07 | D24: Kompensuoti patirtas išlaidas už skiepijimo nuo COVID-19 ligos (koronaviruso infekcijos) paslaugas | E24: SBVB | F24: 300 | G24: 0 | H24: 0 | I24: 0 | J24: Paskiepytų vakcina gyventojų procentinė dalis (ne mažiau)
A25: 01 | B25: 01 | C25: Iš viso uždaviniui | F25: =SUM(F12:F24) -> 1198.9 | G25: =SUM(G12:G24) -> 964.4 | H25: =SUM(H12:H24) -> 849.2 | I25: =SUM(I12:I24) -> 772
A26: 01 | B26: Iš viso tikslui | F26: =+F25 -> 1198.9 | G26: =+G25 -> 964.4 | H26: =+H25 -> 849.2 | I26: =+I25 -> 772
A27: 02 | B27: Gerinti sveikatos priežiūros paslaugų kokybę ir prieinamumą, plėsti paslaugų spektrą, atnaujinti materialinę aplinką
A28: 02 | B28: 01 | C28: Siekti gyventojų sveikatos išsaugojimo, gerinant sveikatos priežiūros paslaugų kokybę ir prieinamumą
A29: 02 | B29: 01 | C29: 01 | D29: Vykdyti E. sveikatos informacinės sistemos diegimo, palaikymo ir tobulinimo VšĮ PSPC ir VšĮ Kėdainių ligoninėje 2022-2026 m. programą | E29: SB | F29: 43.9 | G29: 44.9 | H29: 20 | I29: 20 | J29: Atnaujintos ir E. sveikatos IS funkcionalumui pritaikytos įrangos skaičius | K29: 6 | L29: 6 | M29: 6
E30: PR | F30: 35.5 | G30: 35.5 | H30: 47.2 | I30: 47.2
A31: 02 | B31: 01 | C31: 02 | D31: Vykdyti VšĮ Kėdainių ligoninės dantų protezavimo programą | E31: SB | F31: 20 | G31: 20 | H31: 20 | I31: 20 | J31: Suteiktų dantų protezavimo paslaugų, finansuojamų savivaldybės biudžeto lėšomis, skaičius | K31: 41 | L31: 41 | M31: 41
A32: 02 | B32: 01 | C32: 03 | D32: Vykdyti Kėdainių rajono tuberkuliozės prevencijos, ankstyvosios diagnostikos, gydymo ir kontrolės 2017–2022 m. programą | E32: SB | F32: 26.2 | G32: 26.2 | H32: 0 | I32: 0 | J32: Įsigytos įrangos skaičius (lizingas)/atliktų tyrimų ir paslaugų sk. | K32: 1/3000/ 5000
E33: PR | F33: 1 | G33: 1 | H33: 0 | I33: 0
A34: 02 | B34: 01 | C34: 04 | D34: Vykdyti Ultragarsinių diagnostinių paslaugų teikimo efektyvumo gerinimo Kėdainių rajono savivaldybėje 2017–2022 m. programą | E34: SB | F34: 5.2 | G34: 5.2 | H34: 0 | I34: 0 | J34: Atliktų echoskopijų skaičius per metus | K34: 14500
A35: 02 | B35: 01 | C35: 05 | D35: Vykdyti pirminės asmens sveikatos priežiūros paslaugų prieinamumo ir kokybės užtikrinimo Kėdainių rajono kaimiškųjų vietovių gyventojams 2017–2023 m. programą | E35: SB | F35: 48 | G35: 96.5 | H35: 30 | I35: 0 | J35: Pacientų, patenkintų pirminės asmens sveikatos priežiūros paslaugų kokybe, skaičiaus didėjimas (proc.). | K35: 3 | L35: 3
A36: 02 | B36: 01 | C36: 06 | D36: Vykdyti ambulatorinės akušerinės ir ginekologinės pagalbos kokybės gerinimo Kėdainių rajono savivaldybės moterims 2019-2024 m. programą | E36: SB | F36: 7 | G36: 6 | H36: 7 | I36: 3 | J36: Įsigytos įrangos skaičius/ vidutinis atliktų ultragarsinių tyrimų skaičius | K36: 285 | L36: 285 | M36: 285
A37: 02 | B37: 01 | C37: 07 | D37: Vykdyti endoskopinių paslaugų prieinamumo ir kokybės gerinimo Kėdainių rajono savivaldybėje 2020-2025 m. programą | E37: SB | F37: 21.1 | G37: 21.1 | H37: 21.1 | I37: 21.1 | J37: Įsigytos įrangos skaičius / atliktų endoskopijų ir kolonoskopijų skaičius | K37: 1750 | L37: 1750 | M37: 1750
A38: 02 | B38: 01 | C38: 08 | D38: Vykdyti mamografijos paslaugų tęstinumo, kokybės gerinimo Kėdainių rajono savivaldybėje 2020-2025 m. programą | E38: SB | F38: 19.1 | G38: 19.1 | H38: 19.1 | I38: 19.1 | J38: Įsigytos įrangos skaičius / atliktų mamografijų ir vertinimo paslaugų skaičius per metus | K38: 1800 | L38: 1800 | M38: 1800
A39: 02 | B39: 01 | C39: 09 | D39: Vykdyti trūkstamos sveikatos priežiūros specialistų skatinimo dirbti Kėdainių rajono savivaldybės viešosiose asmens priežiūros įstaigose 2022-2026 m. programą | E39: SB | F39: 18.2 | G39: 18.2 | H39: 18.2 | I39: 18.2 | J39: Naujai atvykusių dirbti į Kėdainių PSPC bei Kėdainių ligoninę specialistų skaičius | K39: 3 | L39: 3 | M39: 3
E40: PR | F40: 18 | G40: 18 | H40: 18 | I40: 18
A41: 02 | B41: 01 | C41: 10 | D41: Diegti pacientų eilių valdymo sistemą Kėdainių rajono asmens sveikatos priežiūros įstaigose | E41: SB | F41: 23 | G41: 14 | H41: 0 | I41: 0 | J41: Įsigytos / palaikomos pacientų eilių valdymo sistemos įrangos skaičius | K41: 1
E42: PR | F42: 12.5 | G42: 12.5 | H42: 0 | I42: 0
A43: 02 | B43: 01 | C43: 11 | D43: Vykdyti anestezijos paslaugų vaikams ir suaugusiesiems kokybės gerinimo Kėdainių rajono savivaldybėje 2022-2027 m. programą | E43: SB | F43: 31.8 | G43: 31.8 | H43: 28 | I43: 28 | J43: Įsigytos įrangos skaičius /atliktų bendrųjų anestezijų skaičius per metus | K43: 2/1482 | L43: 1482 | M43: 1482
E44: PR | F44: 5 | G44: 5 | H44: 0 | I44: 0
A45: 02 | B45: 01 | C45: 12 | D45: Vykdyti rentgeno paslaugų atnaujinimo, kokybės gerinimo Kėdainių rajono savivaldybėje 2022-2027 m. programą | E45: SB | F45: 41.4 | G45: 41.4 | H45: 38.8 | I45: 38.8 | J45: Įsigytos įrangos skaičius / atliktų rentgenologinių tyrimų skaičius | K45: 1/5000 | L45: 10000 | M45: 10000
A46: 02 | B46: 01 | C46: 13 | D46: Vykdyti tinkamų ir saugių darbo sąlygų užtikrinimo, įrengiant vėdinimo bei kondicionavimo sistemas VšĮ Kėdainių ligoninėje, 2023-2025 m. programą | E46: SB | F46: 0 | G46: 0 | H46: 50 | I46: 50 | J46: Patalpų, kuriose įrengta vėdinimo (kondicionavimo) sistema, skaičius | L46: 40 | M46: 40
A47: 02 | B47: 01 | C47: 14 | D47: Vykdyti tinkamų ir saugių darbo sąlygų užtikrinimo, įrengiant vėdinimo bei kondicionavimo sistemas VšĮ PSPC 2022-2026 m. programą | E47: SB | F47: 39 | G47: 39 | H47: 37.7 | I47: 37.7 | J47: Patalpų, kuriose įrengta vėdinimo (kondicionavimo) sistema, skaičius | K47: 30 | L47: 29 | M47: 29
A48: 02 | B48: 01 | C48: 15 | D48: Teikti Metų medicinos darbuotojo apdovanojimą | E48: SB | F48: 3 | G48: 3 | H48: 3 | I48: 3 | J48: Įteiktas Metų medicinos darbuotojo apdovanojimas | K48: 1 | L48: 1 | M48: 1
A49: 02 | B49: 01 | C49: 16 | D49: Vykdyti Pirminės asmens sveikatos priežiūros prieinamumo užtikrinimo Kėdainių r. Pernaravos seniūnijos Langakių kaimo gyventojams programą | E49: SB | F49: 0 | G49: 8.3 | H49: 0 | I49: 0 | J49: Gyventojų, kuriems gali būti suteiktos reikalingos pirminės asmens sveikatos priežiūros (taip pat ir profilaktinio darbo) paslaugos, skaičius | K49: ~300
A50: 02 | B50: 01 | C50: Iš viso uždaviniui | F50: =SUM(F29:F49) -> 418.9 | G50: =SUM(G29:G49) -> 466.7 | H50: =SUM(H29:H49) -> 358.1 | I50: =SUM(I29:I49) -> 324.1
A51: 02 | B51: Iš viso tikslui | F51: =+F50 -> 418.9 | G51: =+G50 -> 466.7 | H51: =+H50 -> 358.1 | I51: =+I50 -> 324.1
A52: 03 | B52: Pritaikyti viešąją infrastruktūrą sveikatos gerinimo poreikiams
A53: 03 | B53: 01 | C53: Modernizuoti ir atnaujinti sveikatos priežiūros vidaus ir išorės infrastruktūrą
A54: 03 | B54: 01 | C54: 01 | D54: Rekonstruoti VšĮ Kėdainių ligoninės laboratorinio-stomatologinio korpusą | E54: SBVB | F54: 0 | G54: 0 | H54: 500 | I54: 500 | J54: Įgyvendinta einamaisiais metais numatomų atlikti projekto veiklų, proc. | L54: 100 | M54: 100
E55: SB | F55: 0 | G55: 0
A56: 03 | B56: 01 | C56: 02 | D56: Remontuoti VšĮ Kėdainių ligoninės Neurologijos ir Priėmimo–skubios pagalbos skyrius | E56: SBVB | F56: 0 | G56: 0 | H56: 255 | I56: 0 | J56: Įgyvendinta einamaisiais metais numatomų atlikti projekto veiklų, proc. | L56: 100
A57: 03 | B57: 01 | C57: 03 | D57: Didinti pirminės asmens sveikatos priežiūros veiklos efektyvumą VšĮ Kėdainių pirminės sveikatos priežiūros centre | E57: SB | F57: 6.3 | G57: 6.3 | H57: 0 | I57: 0 | J57: Viešąsias sveikatos priežiūros paslaugas teikiančių įstaigų, kuriose pagerinta paslaugų teikimo infrastruktūra, skaičius / Gyventojų, pasinaudojusių pagerintomis paslaugomis, skaičius tūkst. | K57: 1 /40,3
E58: ES | F58: 69.2 | G58: 69.2 | H58: 0 | I58: 0
E59: VB | F59: 6.1 | G59: 6.1 | H59: 0 | I59: 0
A60: 03 | B60: 01 | C60: 04 | D60: Įgyvendinti priemones, skirtas žemo slenksčio paslaugų kokybės gerinimui Kėdainių rajono savivaldybėje | E60: ES | F60: 22 | G60: 22 | H60: 0 | I60: 0 | J60: Apsilankymai (kartais) žemo slenksčio paslaugų kabinetuose per metus | K60: 1152
E61: VB | F61: 4 | G61: 4 | H61: 0 | I61: 0
A62: 03 | B62: 01 | C62: 05 | D62: Įrengti medicinos punktą Langakių kaime | E62: SB | F62: 15 | G62: 6.7 | H62: 0 | I62: 0 | J62: Gyventojų, galinčių pasinaudoti paslaugomis, skaičius | K62: ~320
A63: 03 | B63: 01 | C63: Iš viso uždaviniui | F63: =SUM(F54:F62) -> 122.6 | G63: =SUM(G54:G62) -> 114.3 | H63: =SUM(H54:H62) -> 755 | I63: =SUM(I54:I62) -> 500
A64: 03 | B64: Iš viso tikslui | F64: =+F63 -> 122.6 | G64: =+G63 -> 114.3 | H64: =+H63 -> 755 | I64: =+I63 -> 500
A65: Iš viso programai | F65: =+F64+F51+F26 -> 1740.4 | G65: =+G64+G51+G26 -> 1545.4 | H65: =+H64+H51+H26 -> 1962.3 | I65: =+I64+I51+I26 -> 1596.1
A66: iš jų:
A67: SAVIVALDYBĖS LĖŠOS | F67: =SUM(F68:F73) -> 1419 | G67: =SUM(G68:G73) -> 1231.6 | H67: =SUM(H68:H73) -> 1822.5 | I67: =SUM(I68:I73) -> 1530.9
A68: Savivaldybės biudžetas SB | F68: =+F62+F57+F48+F47+F46+F45+F43+F41+F39+F37+F38+F36+F35+F34+F32+F31+F29+F22+F20+F17+F13+F49 -> 473.9 | G68: =+G62+G57+G48+G47+G46+G45+G43+G41+G39+G37+G38+G36+G35+G34+G32+G31+G29+G22+G20+G17+G13+G49 -> 536.5 | H68: =+H62+H57+H48+H47+H46+H45+H43+H41+H39+H37+H38+H36+H35+H34+H32+H31+H29+H22+H20+H17+H13+H49 -> 390.5 | I68: =+I62+I57+I48+I47+I46+I45+I43+I41+I39+I37+I38+I36+I35+I34+I32+I31+I29+I22+I20+I17+I13+I49 -> 353.9
A69: Valstybės biudžeto specialiosios tikslinės dotacijos lėšos SBVB | F69: =+F56+F54+F24+F16+F14 -> 846 | G69: =+G56+G54+G24+G16+G14 -> 596 | H69: =+H56+H54+H24+H16+H14 -> 1350.2 | I69: =+I56+I54+I24+I16+I14 -> 1095.2
A70: Aplinkos apsaugos rėmimo specialiosios programos lėšos AA | F70: =+F12 -> 87.3 | G70: =+G12 -> 87.3 | H70: =+H12 -> 70 | I70: =+I12 -> 70
A71: Iš pajamų už suteiktas paslaugas lėšos ĮP | F71: =+F15 -> 11.8 | G71: =+G15 -> 11.8 | H71: =+H15 -> 11.8 | I71: =+I15 -> 11.8
A72: Skolintos lėšos SK
A73: Kelių priežiūros ir plėtros programos lėšos KPP
A74: KITOS LĖŠOS | F74: =SUM(F75:F78) -> 321.4 | G74: =SUM(G75:G78) -> 313.8 | H74: =SUM(H75:H78) -> 139.8 | I74: =SUM(I75:I78) -> 65.2
A75: Europos Sąjungos lėšos, užsienio fondų lėšos ES | F75: =+F60+F58+F23+F21+F18 -> 238.6 | G75: =+G60+G58+G23+G21+G18 -> 231.6 | H75: =+H60+H58+H23+H21+H18 -> 74 | I75: =+I60+I58+I23+I21+I18 -> 0
A76: Valstybės biudžeto lėšos VB | F76: =+F61+F59+F19 -> 10.8 | G76: =+G61+G59+G19 -> 10.2 | H76: =+H61+H59+H19 -> 0.6 | I76: =+I61+I59+I19 -> 0
A77: Privačios – investuotojų lėšos PR | F77: =+F42+F40+F33+F30+F44 -> 72 | G77: =+G42+G40+G33+G30+G44 -> 72 | H77: =+H42+H40+H33+H30+H44 -> 65.2 | I77: =+I42+I40+I33+I30+I44 -> 65.2
A78: Kiti finansavimo šaltiniai KT
A79: *Patvirtinta 2022 m. vasario 18 d. rajono tarybos sprendimu Nr.TS-1

Sheet Sveikatos 02.01.16
A1: VŠĮ KĖDAINIŲ PIRMINĖS SVEIKATOS PRIEŽIŪROS CENTRAS
A3: PIRMINĖS ASMENS SVEIKATOS PRIEŽIŪROS PRIEINAMUMO UŽTIKRINIMO KĖDAINIŲ RAJ. PERNARAVOS SENIŪNIJOS LANGAKIŲ KAIMO GYVENTOJAMS PROGRAMOS PARAIŠKA
A5: I SKYRIUS
A6: BENDROSIOS NUOSTATOS
A8: 1. Pirminės asmens sveikatos priežiūros prieinamumo užtikrinimo Kėdainių raj. Pernaravos seniūnijos Langakių kaimo gyventojams programa (toliau – Programa) parengta, vadovaujantis Kėdainių rajono savivaldybės strateginio plėtros plano iki 2030 metų, II prioriteto „Aukšta gyvenimo kokybė socialiai atsakingame rajone“ 2.3. tikslo „Gyventojų sveikatos išsaugojimas ir stiprinimas“ 2.3.1. uždavinio „Modernizuoti ir optimizuoti sveikatos priežiūros įstaigų infrastruktūrą“ 2.3.1.1. priemone „Skatinti atnaujinti ir (arba) plėsti Kėdainių rajono savivaldybės asmens ir visuomenės sveikatos priežiūros įstaigų vidaus ir išorės infrastruktūrą“ ir 2.3.1.2. priemone „Skatinti atnaujinti ir (arba) plėsti Kėdainių rajono savivaldybės asmens ir visuomenės sveikatos priežiūros įstaigų medicininę įrangą, materialinę aplinką“, taip pat atitinka 2.3.2. uždavinio „Siekti gyventojų sveikatos išsaugojimo, gerinant sveikatos priežiūros paslaugų kokybę ir prieinamumą“ 2.3.2.1. priemonę „Gerinti sveikatos priežiūros paslaugas, diegti naujas bei didinti jų prieinamumą Kėdainių rajone“.
A9: 2. Programa parengta, atsižvelgiant į Kėdainių raj. savivaldybės tarybos 2021 m. rugpjūčio 27 d. posėdžio sprendimo Nr. TS-201 „Dėl Kėdainių rajono savivaldybės tarybos 2021 m. vasario 26 d. sprendimo Nr. TS-26 „Dėl Kėdainių rajono savivaldybės 2021 metų biudžeto tvirtinimo“ pakeitimo“ 35.14.4. p. „Įrengti medicinos punktą Langakių kaime“.
A11: II SKYRIUS
A12: SITUACIJOS ANALIZĖ
A14: 3. Sveikatos netolygumų mažinimo Lietuvoje 2014–2023 m. veiksmų plane, aptariant sveikatos priežiūros prieinamumo ir kokybės skirtumus teritoriniu aspektu, nurodoma, kad skirtingas sveikatos paslaugų prieinamumas ir dėl įvairių priežasčių ribota galimybė pasinaudoti sveikatos priežiūros paslaugomis gali lemti kai kurių gyventojų grupių sveikatos netolygumų didėjimą. Sveikatos priežiūros paslaugų prieinamumas suprantamas kaip tam tikros teritorijos gyventojų realizuota galimybė gauti jiems reikiamas gydymo ar slaugymo paslaugas. Dažnai prieinamumas neatsiejamas nuo paslaugų kokybės.
A15: 4. Lietuvos sveikatos 2014–2025 metų programoje nurodoma, jog būtina plėtoti sveikatos infrastuktūrą ir gerinti sveikatos priežiūros paslaugų kokybę, saugą, prieinamumą ir į pacientą orientuotą sveikatos priežiūrą, sudarant galimybes gauti kokybiškas paslaugas arčiau gyvenamosios vietos.
A16: 5. Kėdainių PSPC taip pat įgyvendina Europos Sąjungos finansuojamus projektus – didina darbuotojų kompetenciją, plečia paslaugų asortimentą. Nors visi atliekami darbai sudaro galimybes tenkinti gyventojų pirminės sveikatos priežiūros poreikius, tačiau turimos lėšos neužtikrina efektyviai dirbančios organizacijos statuso, ypač trūksta lėšų ambulatorijų ir kaimo medicinos punktų išlaikymui, atnaujinimui, medicinos įrangos / inventoriaus / priemonių įsigijimui, važinėjančių gydytojų transporto išlaidų kompensavimui.
A17: 6. Langakių kaimas užima teritoriją Kėdainių rajono pakraštyje ir gyventojai Pernaravos seniūnijos centre esančią Pernaravos ambulatoriją gali pasiekti tik automobiliais. Susisiekimo autobusu nėra. Langakių medicinos punkte dirba bendruomenės slaugytoja.
... A97: ____________________________________

Sheet 03social.
J1: 3 priedas
A2: 3 lentelė. 2022–2024 m. Socialinės apsaugos plėtojimo programos (03) tikslai, uždaviniai, priemonės, asignavimai ir vertinimo kriterijai
L3: tūkst. Eur
A4: Programos tikslo kodas | B4: Uždavinio kodas | C4: Priemonės kodas | D4: Priemonės pavadinimas | E4: Finansavimo šaltinis | F4: *2022-ųjų m. asignavimai | G4: Patikslinti 2022-ųjų m. asignavimai | H4: Numatomi 2023-ųjų m. asignavimai | I4: Numatomi 2024-ųjų m. asignavimai | J4: Vertinimo kriterijai
J5: Pavadinimas
K6: 2022 -ieji m. | L6: 2023 -ieji m. | M6: 2024 -ieji m.
A9: 03 SOCIALINĖS APSAUGOS PLĖTOJIMAS
A10: 01 | B10: Organizuoti socialinę paramą ir skatinti socialinę integraciją
A11: 01 | B11: 01 | C11: Organizuoti Lietuvos Respublikos teisės aktuose numatytos paramos bei paslaugų asmenims ir šeimoms teikimą
A12: 01 | B12: 01 | C12: 01 | D12: Teikti ir administruoti socialines išmokas ir kompensacijas (būsto šildymo išlaidų, išlaidų šaltam bei nuotekoms ir išlaidų karštam vandeniui) | E12: SBVB | F12: 387.6 | G12: 411.3 | H12: 420 | I12: 440 | J12: Asmenų, gaunančių socialinę pašalpą ir kompensacijas, skaičius | K12: 6900 | L12: 6900 | M12: 6900
E13: SB | F13: 2967.1 | G13: 2775.5 | H13: 3000 | I13: 3100
E14: ĮP | F14: 0.1 | G14: 0.1 | H14: 0.1 | I14: 0.1
A15: 01 | B15: 01 | C15: 02 | D15: Dengti išlaidas už įsigytus produktus, mokinio reikmenis, administruoti socialinę paramą mokiniams | E15: SBVB | F15: 797.6 | G15: 868.3 | H15: 880 | I15: 880 | J15: Mokinių, gaunančių nemokamą maitinimą, skaičius | K15: 2300 | L15: 2300 | M15: 2300
J16: Mokinių, gaunančių būtiniausius mokinio reikmenis, skaičius | K16: 1250 | L16: 1226 | M16: 1214
A17: 01 | B17: 01 | C17: 03 | D17: Teikti socialinę globą asmenims su sunkia negalia | E17: SBVB | F17: 847.7 | G17: 908.3 | H17: 920 | I17: 940 | J17: Globojamų asmenų skaičius/globojamų asmenų, kuriems teikiamos paslaugos, procentas, palyginus su visais asmenimis, kuriems nustatytas paslaugos poreikis | K17: 210/98 | L17: 210/98 | M17: 210/98
A18: 01 | B18: 01 | C18: 04 | D18: Teikti socialinę priežiūrą socialinės rizikos šeimoms | E18: SBVB | F18: 828.8 | G18: 828.8 | H18: 830 | I18: 830 | J18: Socialinių darbuotojų ir atvejo vadybininkų darbui su šeimomis, patiriančiomis socialinę riziką, skaičius/šeimų, kurioms teikiamos paslaugos, procentas, palyginus su visomis šeimomis, kurioms nustatytas paslaugos poreikis | K18: 32/100 | L18: 32/100 | M18: 32/100
A19: 01 | B19: 01 | C19: 05 | D19: Organizuoti nemokamą socialiai remtinų vaikų maitinimą ikimokyklinėse įstaigose | E19: SB | F19: 50 | G19: 50 | H19: 50 | I19: 50 | J19: Vaikų, gaunančių nemokamą maitinimą, skaičius | K19: 340 | L19: 340 | M19: 340
A20: 01 | B20: 01 | C20: 06 | D20: Kompensuoti nemokamo mokinių maitinimo kainą bendrojo lavinimo mokyklose | E20: SB | F20: 150 | G20: 226 | H20: 150 | I20: 150 | J20: Mokinių, gaunančių nemokamą maitinimą, skaičius | K20: 2300 | L20: 2300 | M20: 2300
A21: 01 | B21: 01 | C21: 07 | D21: Teikti tikslines kompensacijas, išmokas neįgaliesiems | E21: VB | F21: 2982 | G21: 3130.8 | H21: 3130 | I21: 3130 | J21: Asmenų, gaunančių šalpos išmokas, skaičius | K21: 1429 | L21: 1420 | M21: 1420
E22: SBVB | F22: 0 | G22: 0.1 | H22: 0.1 | I22: 0.1
A23: 01 | B23: 01 | C23: 08 | D23: Teikti išmokas vaikams | E23: VB | F23: 10191 | G23: 10760.5 | H23: 10800 | I23: 10800 | J23: Asmenų, gaunančių išmokas vaikams, skaičius | K23: 11700 | L23: 11500 | M23: 11300
A24: 01 | B24: 01 | C24: 09 | D24: Organizuoti socialinės reabilitacijos paslaugų neįgaliesiems bendruomenėje projektų konkursus | E24: VB | F24: 0 | G24: 0 | H24: 0 | I24: 0 | J24: Neįgaliųjų, gavusių paslaugas, skaičius | K24: 380 | L24: 380 | M24: 380
E25: SBVB | F25: 84.1 | G25: 84.1 | H25: 84.1 | I25: 84.1
E26: SB | F26: 16 | G26: 16 | H26: 16 | I26: 16
A27: 01 | B27: 01 | C27: 10 | D27: Organizuoti ir dalinai kompensuoti būsto pritaikymą neįgaliesiems | E27: VB | F27: 0 | G27: 0 | H27: 0 | I27: 0 | J27: Pritaikytų būstų neįgaliesiems skaičius | K27: 7 | L27: 7 | M27: 7
E28: SBVB | F28: 24.8 | G28: 27 | H28: 27 | I28: 27
A29: 01 | B29: 01 | C29: 11 | D29: Kompensuoti komunalines išlaidas neįgaliesiems | E29: VB | F29: 0.1 | G29: 0.1 | H29: 0.1 | I29: 0.1 | J29: Neįgaliųjų, gavusių kompensacijas, skaičius | K29: 1 | L29: 1 | M29: 1
A30: 01 | B30: 01 | C30: 12 | D30: Teikti kompensacijas ginkluoto pasipriešinimo dalyvių šeimoms, sovietinėje armijoje sužalotiems asmenims bei žuvusiųjų šeimoms | E30: VB | F30: 1.6 | G30: 8.1 | H30: 6.7 | I30: 6.7 | J30: Asmenų, gavusių kompensacijas, skaičius | K30: 1 | L30: 1 | M30: 1
A31: 01 | B31: 01 | C31: 13 | D31: Kompensuoti būsto nuomos ar išperkamosios būsto nuomos mokesčių dalį | E31: SBVB | F31: 8.9 | G31: 8.9 | H31: 9 | I31: 9 | J31: Asmenų, gavusių būsto nuomos ar išperkamosios būsto nuomos mokesčių dalies kompensaciją, skaičius iš bendro asmenų, turinčių teisę į paramą būstui išsinuomoti ir įrašytų į sąrašus, skaičiaus, proc. | K31: 9 | L31: 9 | M31: 9
A32: 01 | B32: 01 | C32: 14 | D32: Teikti ir administruoti asmeninę pagalbą | E32: SBVB | F32: 150.4 | G32: 150.4 | H32: 150.4 | I32: 150.4 | J32: Asmenų, gaunančių išmokas, skaičius, tūkst. | K32: 6 | L32: 8 | M32: 8
A33: 01 | B33: 01 | C33: 15 | D33: Finansuoti išlaidas už būsto suteikimą užsieniečiams, pasitraukusiems iš Ukrainos dėl Rusijos Federacijos karinių veiksmų Ukrainoje | E33: SBVB | F33: 0 | G33: 87.9 | H33: 0 | I33: 0 | J33: Paramos pagal poreikį teikimas | K33: 100
A34: 01 | B34: 01 | C34: 16 | D34: Užtikrinti 2022 metais Lietuvos Respublikos piniginės socialinės paramos nepasiturintiems gyventojams įstatymo įgyvendinimą dėl valstybės remiamų pajamų dydžio padidinimo | E34: SBVB | F34: 0 | G34: 436.3 | H34: 0 | I34: 0 | J34: Paramos pagal poreikį teikimas | K34: 100
A35: 01 | B35: 01 | C35: 17 | D35: Kompensuoti iki 2022 m. birželio 13 d. savivaldybės patirtas išlaidas užsieniečiams, pasitraukusiems iš Ukrainos dėl Rusijos Federacijos karinių veiksmų Ukrainoje, priimti ir pagalbai jiems teikti įgyvendinant Lietuvos Respublikos piniginės socialinės paramos nepasiturintiems gyventojams įstatymą | E35: SBVB | F35: 0 | G35: 20.7 | H35: 0 | I35: 0 | J35: Gautos kompensacijjos dalis, proc., per numatytą laikotarpį | K35: 100
A36: 01 | B36: 01 | C36: 18 | D36: Teikti vienkartines išmokas įsikurti gyvenamojoje vietoje savivaldybės teritorijoje ir (ar) mėnesines kompensacijas vaiko ugdymo pagal ikimokyklinio ir priešmokyklinio ugdymo programą | E36: SBVB | F36: 0 | G36: 3.3 | H36: 0 | I36: 0 | J36: Paramos pagal poreikį teikimas | K36: 100
A37: 01 | B37: 01 | C37: Iš viso uždaviniui | F37: =SUM(F12:F36) -> 19487.8 | G37: =SUM(G12:G36) -> 20802.5 | H37: =SUM(H12:H36) -> 20473.5 | I37: =SUM(I12:I36) -> 20613.5
A38: 01 | B38: 02 | C38: Organizuoti socialinės paramos ir paslaugų teikimą Lietuvos Respublikos įstatymuose nenumatytais atvejais
A39: 01 | B39: 02 | C39: 01 | D39: Teikti savivaldybės paramą neįgaliesiems, senyvo amžiaus asmenims, vaikams ir daugiavaikėms, skurdžiai gyvenančioms, nuo stichinių nelaimių nukentėjusioms šeimoms, pirkti socialines paslaugas | E39: SB | F39: 440 | G39: 440 | H39: 480 | I39: 480 | J39: Asmenų, gaunančių savivaldybės paramą, skaičius | K39: 4500 | L39: 4500 | M39: 4500
E40: SB | F40: 186.9 | G40: 201.9 | H40: 186.9 | I40: 186.9
A41: 01 | B41: 02 | C41: 02 | D41: Dengti kainų skirtumą gyventojams už šildymą | E41: SB | F41: 80 | G41: 153.5 | H41: 80 | I41: 80 | J41: Asmenų, kuriems dengiamas kainų skirtumas, skaičius | K41: 500 | L41: 500 | M41: 500
A42: 01 | B42: 02 | C42: 03 | D42: Kompensuoti karšto ir šalto vandens pardavimo kainą socialiai remtiniems asmenims | E42: SB | F42: 131 | G42: 129.5 | H42: 131 | I42: 131 | J42: Asmenų, gaunančių kompensaciją, skaičius | K42: 5800 | L42: 5800 | M42: 5800
A43: 01 | B43: 02 | C43: 04 | D43: Teikti vienkartinę išmoką gimus vaikui Lietuvos Respublikos teritorijoje ir gyvenančiam Kėdainių rajono savivaldybėje | E43: SB | F43: 30 | G43: 30 | H43: 30 | I43: 30 | J43: Asmenų, gaunančių išmokas, skaičius | K43: 320 | L43: 320 | M43: 320
A44: 01 | B44: 02 | C44: 05 | D44: Užtikrinti 2022 metais Lietuvos Respublikos piniginės socialinės paramos nepasiturintiems gyventojams įstatymo įgyvendinimą dėl padidėjusių išlaidų būsto šildymo išlaidų kompensacijoms teikti | E44: SBVB | F44: 371.2 | G44: 371.2 | H44: 0 | I44: 0 | J44: Funkcijos vykdymo užtikrinimas | K44: 100
A45: 01 | B45: 02 | C45: 06 | D45: Kompensuoti socialinių įstaigų darbuotojų važiavimo į/iš darbo išlaidas | E45: SB | F45: 23.2 | G45: 23.2 | H45: 31 | I45: 31 | J45: Darbuotojų, kuriems kompensuojamos išlaidos, skaičius | K45: 48 | L45: 48 | M45: 48
A46: 01 | B46: 02 | C46: 07 | D46: Teikti Metų socialinio darbuotojo apdovanojimą | E46: SB | F46: 3 | G46: 3 | H46: 3 | I46: 3 | J46: Įteiktas Metų socialinio darbuotojo apdovanojimas | K46: 1 | L46: 1 | M46: 1
A47: 01 | B47: 02 | C47: Iš viso uždaviniui | F47: =SUM(F39:F46) -> 1265.3 | G47: =SUM(G39:G46) -> 1352.3 | H47: =SUM(H39:H46) -> 941.9 | I47: =SUM(I39:I46) -> 941.9
A48: 01 | B48: 03 | C48: Užtikrinti transporto lengvatų, numatytų Lietuvos Respublikos transporto lengvatų įstatyme, taikymą
A49: 01 | B49: 03 | C49: 01 | D49: Kompensuoti kelionės išlaidas už lengvatinį keleivių vežimą | E49: SB | F49: 376 | G49: 376 | H49: 400 | I49: 420 | J49: Parduotų su nuolaida bilietų skaičius (tūkst.) | K49: 550 | L49: 620 | M49: 640
A50: 01 | B50: 03 | C50: Iš viso uždaviniui | F50: =+F49 -> 376 | G50: =+G49 -> 376 | H50: =+H49 -> 400 | I50: =+I49 -> 420
A51: 01 | B51: Iš viso tikslui | F51: =+F50+F47+F37 -> 21129.1 | G51: =+G50+G47+G37 -> 22530.8 | H51: =+H50+H47+H37 -> 21815.4 | I51: =+I50+I47+I37 -> 21975.4
A52: 02 | B52: Gerinti socialinių paslaugų prieinamumą, užtikrinti jų teikimą bei didinti socialinių paslaugų ir jų teikėjų įvairovę
A53: 02 | B53: 01 | C53: Užtikrinti, plėsti ir gerinti socialinių paslaugų teikimą
A54: 02 | B54: 01 | C54: 01 | D54: Užtikrinti paslaugų teikimą Kėdainių bendruomenės socialiniame centre | E54: SB | F54: 998.9 | G54: 1002.3 | H54: 1150 | I54: 1250 | J54: Asmenų, gaunančių socialines paslaugas, skaičius /asmenų, kuriems teikiamos paslaugos procentas, palyginus su visais asmenimis, kuriems nustatytas paslaugos poreikis | K54: 660/98 | L54: 700/98 | M54: 700/98
E55: SBVB | F55: 55.6 | G55: 68.1 | H55: 0 | I55: 0
E56: ĮP | F56: 31.4 | G56: 33.6 | H56: 31.4 | I56: 31.4
A57: 02 | B57: 01 | C57: 02 | D57: Užtikrinti paslaugų teikimą Dotnuvos slaugos namuose | E57: SB | F57: 285.8 | G57: 290 | H57: 345 | I57: 360
E58: SBVB | F58: 2.9 | G58: 7.1 | H58: 0 | I58: 0
E59: ĮP | F59: 308.4 | G59: 328.4 | H59: 310 | I59: 310
A60: 02 | B60: 01 | C60: 03 | D60: Užtikrinti stacionarių ir nestacionarių socialinių paslaugų teikimą Kėdainių pagalbos šeimai centre | E60: SB | F60: 1244.9 | G60: 1280.2 | H60: 1395 | I60: 1450
E61: SBVB | F61: 48.7 | G61: 106.5 | H61: 0 | I61: 0
E62: ĮP | F62: 10.4 | G62: 10 | H62: 10.4 | I62: 10.4
A63: 02 | B63: 01 | C63: 04 | D63: Užtikrinti paslaugų teikimą Josvainių socialinio ir ugdymo centre | E63: SB | F63: 295.7 | G63: 300.7 | H63: 325 | I63: 350
E64: SBVB | F64: 14 | G64: 15.8 | H64: 0 | I64: 0
E65: ĮP | F65: 182.8 | G65: 182.8 | H65: 185 | I65: 185
A66: 02 | B66: 01 | C66: 05 | D66: Užtikrinti paslaugų teikimą Šėtos socialinio ir ugdymo centre | E66: SB | F66: 313.9 | G66: 316.3 | H66: 364 | I66: 385
E67: SBVB | F67: 12.5 | G67: 12.5 | H67: 0 | I67: 0
E68: ĮP | F68: 184 | G68: 187 | H68: 184 | I68: 184
A69: 02 | B69: 01 | C69: 06 | D69: Užtikrinti paslaugų teikimą VšĮ "Gyvenimo namai sutrikusio intelekto asmenims" | E69: SB | F69: 60 | G69: 60 | H69: 60 | I69: 60 | J69: Paslaugas gavusių asmenų skaičius | K69: 21 | L69: 21 | M69: 21
A70: 02 | B70: 01 | C70: 07 | D70: Teikti integralią pagalbą į namus Kėdainių rajone | E70: SB | F70: 1 | G70: 1 | H70: 0 | I70: 0 | J70: Paslaugas gavusių asmenų skaičius | K70: 30
E71: ES | F71: 20 | G71: 20 | H71: 0 | I71: 0
A72: 02 | B72: 01 | C72: 08 | D72: Teikti kompleksines paslaugas šeimai Kėdainių rajone | E72: ES | F72: 90 | G72: 145 | H72: 0 | I72: 0 | J72: Asmenų, kuriems suteiktos paslaugos, skaičius | K72: 150
A73: 02 | B73: 01 | C73: 09 | D73: Finansuoti dienos socialinės globos paslaugų teikimą Kėdainių socialinės globos namuose | E73: SBVB | F73: 35 | G73: 35 | H73: 35 | I73: 35 | J73: Asmenų, kuriems suteiktos paslaugos, skaičius | K73: 5 | L73: 5 | M73: 5
E74: SB | F74: 7 | G74: 7 | H74: 7 | I74: 7
A75: 02 | B75: 01 | C75: 10 | D75: Finansuoti vaikų dienos centrų veiklos programas | E75: SB | F75: 75.2 | G75: 75.2 | H75: 75.2 | I75: 75.2 | J75: Finansuotų vaikų dienos centrų skaičius/veiklose dalyvavusių vaikų, jaunuolių skaičius | K75: 8/155 | L75: 8/155 | M75: 8/155
E76: SBVB | F76: 134.6 | G76: 134.6 | H76: 145 | I76: 150
A77: 02 | B77: 01 | C77: 11 | D77: Finansuoti Kėdainių rajono moterų krizių centro veiklos programą | E77: SB | F77: 13.5 | G77: 13.5 | H77: 13.5 | I77: 13.5 | J77: Asmenų, kuriems suteikta psichologinė, konsultacinė pagalba | K77: 100 | L77: 100 | M77: 100
A78: 02 | B78: 01 | C78: Iš viso uždaviniui | F78: =SUM(F54:F77) -> 4426.2 | G78: =SUM(G54:G77) -> 4632.6 | H78: =SUM(H54:H77) -> 4635.5 | I78: =SUM(I54:I77) -> 4856.5
A79: 02 | B79: Iš viso tikslui | F79: =+F78 -> 4426.2 | G79: =+G78 -> 4632.6 | H79: =+H78 -> 4635.5 | I79: =+I78 -> 4856.5
A80: 03 | B80: Modernizuoti socialinių paslaugų įstaigų infrastruktūrą
A81: 03 | B81: 01 | C81: Gerinti socialines paslaugas teikiančių įstaigų ir socialinio būsto infrastruktūrą
A82: 03 | B82: 01 | C82: 01 | D82: Užtikrinti socialinio būsto fondo plėtrą Kėdainiuose | E82: SB | F82: 165.2 | G82: 165.2 | H82: 100 | I82: 100 | J82: Įsigytų socialinės paskirties butų skaičius | K82: 5 | L82: 3 | M82: 3
E83: ES | F83: 12.5 | G83: 12.5 | H83: 0 | I83: 0
A84: 03 | B84: 01 | C84: 02 | D84: Remontuoti savivaldybės ir socialinį būstą | E84: SB | F84: 200 | G84: 200 | H84: 200 | I84: 200 | J84: Einamaisiais metais pagal poreikį atliktų remontų socialiniuose būstuose skaičius, proc. | K84: 100 | L84: 100 | M84: 100
A85: 03 | B85: 01 | C85: 03 | D85: Pritaikyti viešąją aplinką specialiųjų poreikių turintiems gyventojams | E85: SB | F85: 30 | G85: 30 | H85: 30 | I85: 30 | J85: Objektų, pritaikytų neįgaliųjų poreikiams, skaičius | K85: 3 | L85: 4 | M85: 4
A86: 03 | B86: 01 | C86: 04 | D86: Plėtoti bendruomeninių vaikų globos namų ir vaikų dienos centrų tinklą Kėdainių rajono savivaldybėje | E86: ES | F86: 34.5 | G86: 34.5 | H86: 0 | I86: 0 | J86: Įkurtų bendruomeninių vaikų globos namų skaičius / išplėstų vaikų dienos centrų skaičius | K86: 3/3
E87: SB | F87: 10 | G87: 10 | H87: 0 | I87: 0
A88: 03 | B88: 01 | C88: Iš viso uždaviniui | F88: =SUM(F82:F87) -> 452.2 | G88: =SUM(G82:G87) -> 452.2 | H88: =SUM(H82:H87) -> 330 | I88: =SUM(I82:I87) -> 330
A89: 03 | B89: Iš viso tikslui | F89: =+F88 -> 452.2 | G89: =+G88 -> 452.2 | H89: =+H88 -> 330 | I89: =+I88 -> 330
A90: Iš viso programai | F90: =+F89+F79+F51 -> 26007.5 | G90: =+G89+G79+G51 -> 27615.6 | H90: =+H89+H79+H51 -> 26780.9 | I90: =+I89+I79+I51 -> 27161.9
A91: iš jų:
A92: SAVIVALDYBĖS LĖŠOS | F92: =SUM(F93:F98) -> 12675.8 | G92: =SUM(G93:G98) -> 13504.1 | H92: =SUM(H93:H98) -> 12844.1 | I92: =SUM(I93:I98) -> 13225.1
A93: Savivaldybės biudžetas SB | F93: =+F85+F84+F82+F75+F74+F70+F69+F66+F63+F60+F57+F54+F49+F46+F42+F41+F40+F39+F26+F20+F19+F13+F87+F43+F77+F45 -> 8154.3 | G93: =+G85+G84+G82+G75+G74+G70+G69+G66+G63+G60+G57+G54+G49+G46+G42+G41+G40+G39+G26+G20+G19+G13+G87+G43+G77+G45 -> 8176 | H93: =+H85+H84+H82+H75+H74+H70+H69+H66+H63+H60+H57+H54+H49+H46+H42+H41+H40+H39+H26+H20+H19+H13+H87+H43+H77+H45 -> 8622.6 | I93: =+I85+I84+I82+I75+I74+I70+I69+I66+I63+I60+I57+I54+I49+I46+I42+I41+I40+I39+I26+I20+I19+I13+I87+I43+I77+I45 -> 8958.6
A94: Valstybės biudžeto specialiosios tikslinės dotacijos lėšos SBVB | F94: =+F73+F31+F18+F17+F15+F12+F67+F64+F61+F58+F55+F76+F44+F32+F25+F28+F33+F36+F35+F34+F22 -> 3804.4 | G94: =+G73+G31+G18+G17+G15+G12+G67+G64+G61+G58+G55+G76+G44+G32+G25+G28+G33+G36+G35+G34+G22 -> 4586.2 | H94: =+H73+H31+H18+H17+H15+H12+H67+H64+H61+H58+H55+H76+H44+H32+H25+H28+H33+H36+H35+H34+H22 -> 3500.6 | I94: =+I73+I31+I18+I17+I15+I12+I67+I64+I61+I58+I55+I76+I44+I32+I25+I28+I33+I36+I35+I34+I22 -> 3545.6
A95: Aplinkos apsaugos rėmimo specialiosios programos lėšos AA
A96: Iš pajamų už suteiktas paslaugas lėšos ĮP | F96: =+F68+F65+F62+F59+F56+F14 -> 717.1 | G96: =+G68+G65+G62+G59+G56+G14 -> 741.9 | H96: =+H68+H65+H62+H59+H56+H14 -> 720.9 | I96: =+I68+I65+I62+I59+I56+I14 -> 720.9
A97: Skolintos lėšos SK
A98: Kelių priežiūros ir plėtros programos lėšos KPP
A99: KITOS LĖŠOS | F99: =SUM(F100:F103) -> 13331.7 | G99: =SUM(G100:G103) -> 14111.5 | H99: =SUM(H100:H103) -> 13936.8 | I99: =SUM(I100:I103) -> 13936.8
A100: Europos Sąjungos lėšos, užsienio fondų lėšos ES | F100: =+F86+F83+F72+F71 -> 157 | G100: =+G86+G83+G72+G71 -> 212 | H100: =+H86+H83+H72+H71 -> 0 | I100: =+I86+I83+I72+I71 -> 0
A101: Valstybės biudžeto lėšos VB | F101: =+F30+F29+F27+F24+F23+F21 -> 13174.7 | G101: =+G30+G29+G27+G24+G23+G21 -> 13899.5 | H101: =+H30+H29+H27+H24+H23+H21 -> 13936.8 | I101: =+I30+I29+I27+I24+I23+I21 -> 13936.8
A102: Privačios – investuotojų lėšos PR
...

Sheet 04sport.
K1: 4 priedas
A2: 4 lentelė. 2022–2024 m. Sporto veiklos plėtros programos (04) tikslai, uždaviniai, priemonės, asignavimai ir vertinimo kriterijai
J3: tūkst. Eur
A4: Programos tikslo kodas | B4: Uždavinio kodas | C4: Priemonės kodas | D4: Priemonės pavadinimas | E4: Finansavimo šaltinis | F4: *2022-ųjų m. asignavimai | G4: Patikslinti 2022-ųjų m. asignavimai | H4: Numatomi 2023-ųjų m. asignavimai | I4: Numatomi 2024-ųjų m. asignavimai | J4: Vertinimo kriterijai
J5: Pavadinimas
K6: 2022 -ieji m. | L6: 2023 -ieji m. | M6: 2024 -ieji m.
A9: 04 SPORTO VEIKLOS PLĖTRA
A10: 01 | B10: 01 tikslas. Didinti gyventojų fizinį aktyvumą, ugdyti sportišką bendruomenę
A11: 01 | B11: 01 | C11: Užtikrinti Kultūros ir sporto skyriaus veiklą kūno kultūros ir sporto srityje
A12: 01 | B12: 01 | C12: 01 | D12: Organizuoti ir užtikrinti Kultūros ir sporto skyriaus veiklą kūno kultūros ir sporto srityje | E12: SB | F12: 59.5 | G12: 59.5 | H12: 63 | I12: 66 | J12: Kultivuojamų sporto šakų skaičius | K12: 31 | L12: 31 | M12: 31
A13: 01 | B13: 01 | C13: Iš viso uždaviniui | F13: =SUM(F12) -> 59.5 | G13: =SUM(G12) -> 59.5 | H13: =SUM(H12) -> 63 | I13: =SUM(I12) -> 66
A14: 01 | B14: 02 | C14: Užtikrinti efektyvią Kėdainių sporto centro veiklą, vykdyti organizuojamus renginius
A15: 01 | B15: 02 | C15: 01 | D15: Organizuoti ir užtikrinti Kėdainių sporto centro veiklą, organizuoti ir vykdyti sveikatingumo bei sportinius renginius | E15: SB | F15: 892 | G15: 923 | H15: 920 | I15: 940 | J15: Asmenų, lankančių įstaigą, skaičius /sveikatingumo, sportinių renginių rajone skaičius | K15: 500/5/ 14 | L15: 500/5/ 14 | M15: 500/5/ 14
E16: SBVB | F16: 55.3 | G16: 55.3 | H16: 58 | I16: 60
E17: ĮP | F17: 83.7 | G17: 103.2 | H17: 86 | I17: 90
F18: =SUM(F15:F17) -> 1031 | G18: =SUM(G15:G17) -> 1081.5 | H18: =SUM(H15:H17) -> 1064 | I18: =SUM(I15:I17) -> 1090
A19: 01 | B19: 03 | C19: Ugdyti sveiką, aktyvų, savimi ir savo gebėjimais pasitikinti pilietį bei sudaryti sąlygas gyventojų fiziniam aktyvumui
A20: 01 | B20: 03 | C20: 01 | D20: Finansuoti Vaikų mokymo plaukti veiklos programą, dalyvaujant projekte „Mokėk plaukti ir saugiau elgtis vandenyje“ | E20: SB | F20: 10.3 | G20: 10.3 | H20: 10.3 | I20: 10.3 | J20: Programoje dalyvaujančių vaikų skaičius | K20: 300/14 | L20: 300/14 | M20: 300/14
E21: VB | F21: 16.2 | G21: 16.2 | H21: 16.2 | I21: 16.2
A22: 01 | B22: 03 | C22: 02 | D22: Skatinti Neįgaliųjų fizinį aktyvumą, organizuoti sporto renginius ir sporto treniruočių stovyklas | E22: SB | F22: 3.5 | G22: 3.5 | H22: 3.5 | I22: 3.5 | J22: Neįgaliųjų kūno kultūros ir sporto renginių skaičius / stovyklų skaičius | K22: 6/4 | L22: 6/4 | M22: 6/4
A23: 01 | B23: 03 | C23: 03 | D23: Organizuoti sporto metodininkų veiklas kaimiškosiose seniūnijose | E23: SB | F23: 30.5 | G23: 30.5 | H23: 32 | I23: 34 | J23: Metodininkų, besirūpinančių sportine veikla seniūnijose, skaičius | K23: 10 | L23: 10 | M23: 10
A24: 01 | B24: 03 | C24: Iš viso uždaviniui | F24: =SUM(F20:F23) -> 60.5 | G24: =SUM(G20:G23) -> 60.5 | H24: =SUM(H20:H23) -> 62 | I24: =SUM(I20:I23) -> 64
A25: 01 | B25: 04 | C25: Vystyti įvairias gyventojų poreikius atitinkančias sporto šakas, didinti sportinės veiklos žinomumą Kėdainių rajone
A26: 01 | B26: 04 | C26: 01 | D26: Organizuoti rajoninius, respublikinius, tarptautinius visų amžiaus grupių aukšto meistriškumo sporto renginius ir aukšto meistriškumo sporto treniruočių stovyklas | E26: SB | F26: 45 | G26: 45 | H26: 33 | I26: 33 | J26: Suorganizuotų rajoninių, respublikinių ir tarptautinių kūno kultūros ir sporto renginių skaičius / veteranų sporto šakų skaičius / stovyklų skaičius | K26: 18/12/8 | L26: 18/12/5 | M26: 18/12/5
A27: 01 | B27: 04 | C27: Iš viso uždaviniui | F27: =SUM(F26:F26) -> 45 | G27: =SUM(G26:G26) -> 45 | H27: =SUM(H26:H26) -> 33 | I27: =SUM(I26:I26) -> 33
A28: 01 | B28: 05 | C28: Skatinti Kėdainių rajono sporto organizacijas, sporto komandas ir sportininkus, finansuoti sporto veiklos projektus ir programas
A29: 01 | B29: 05 | C29: 01 | D29: Finansuoti sporto šakų programas, iš jų: | E29: SB | F29: =SUM(F30:F34) -> 415 | G29: =SUM(G30:G34) -> 435 | H29: =SUM(H30:H34) -> 415 | I29: =SUM(I30:I34) -> 415 | J29: Finansuotų sporto šakų programų skaičius | K29: 5 | L29: 4 | M29: 4
C30: 01. 01 | D30: VšĮ "Veržlusis Nevėžis" krepšinio komandos Kėdainių "Nevėžis - Optibet" veiklos programai | E30: SB | F30: 200 | G30: 200 | H30: 200 | I30: 200 | J30: Užimta vieta 2021/2022m. LKL čempionate/ žiūrovų, stebinčių rungtynes, skaičiaus vidurkis/socialinių projektų krašto bendruomenei skaičius / vasaros stovyklų kėdainiečiams vaikams skaičius | K30: 10/ 800 /19/2 | L30: 8 -9/ 1000 / 2/2 | M30: 7/ 1000 / 2/2
C31: 01. 02 | D31: VšĮ „Sporto perspektyvos“ veiklos programai | E31: SB | F31: 100 | G31: 100 | H31: 100 | I31: 100 | J31: Užimta vieta LFF pirmosios lygos pirmenybėse / žiūrovų, stebinčių rungtynes, skaičiaus vidurkis/ sportinių-mokomųjų stovyklų skaičius/išugdytų kėdainiečių, atstovaujančių FK "Nevėžis" suaugusiųjų komandoje, skaičius | K31: 5-6 /300/8/6 | L31: 5-6 /300/8/6 | M31: 5-6 /300/8/6
C32: 01. 03 | D32: Kėdainių bokso federacijos veiklos programai | E32: SB | F32: 15 | G32: 15 | H32: 15 | I32: 15 | J32: Įvairaus amžiaus grupių šalies bokso čempionatuose iškovotų medalių skaičius/tarptautinėse bokso varžybose iškovotų medalių skaičius/sporto treniruočių stovyklų skaičius/paruoštų boksininkų šalies bokso rinktinei skaičius | K32: 23/5/14/1 | L32: 10/5/14/1 | M32: 10/5/14/1
C33: 01. 04 | D33: VšĮ „Sporto perspektyvos“ vaikų ir jaunimo futbolo plėtros veiklos programai | E33: SB | F33: 100 | G33: 100 | H33: 100 | I33: 100 | J33: Sportuojančių vaikų skaičius/ dalyvaujančių LFF vaikų pirmenybėse komandų skaičius/FK "Nevėžis" vyrų komandos papildymas jaunais žaidėjais skaičius | K33: 250/7/6 | L33: 250/7/6 | M33: 250/7/6
C34: 01. 05 | D34: Asociacijos "Krepšinio naktis" 3 prieš 3 krepšinio komandos veiklos programai | E34: SB | F34: 0 | G34: 20 | H34: 0 | I34: 0 | J34: Turnyrų, kuriuose dalyvauta, skaičius/ Tarptautinių FIBA "Challenger" turnyrų, kuriuose dalyvauta, skaičius | K34: 13/2
A35: 01 | B35: 05 | C35: 02 | D35: Finansuoti fizinio aktyvumo ir sporto veiklos projektus | E35: SB | F35: 55 | G35: 55 | H35: 55 | I35: 55 | J35: Finansuojamų projektų skaičius | K35: 25 | L35: 25 | M35: 25
A36: 01 | B36: 05 | C36: 03 | D36: Teikti apdovanojimus aukšto meistriškumo sportininkams ir jų treneriams už sporto pasiekimus | E36: SB | F36: 10 | G36: 10 | H36: 10 | I36: 10 | J36: Teiktų premijų skaičius (ne mažiau) | K36: 10 | L36: 10 | M36: 10
A37: 01 | B37: 05 | C37: Iš viso uždaviniui | F37: =+F35+F29+F36 -> 480 | G37: =+G35+G29+G36 -> 500 | H37: =+H35+H29+H36 -> 480 | I37: =+I35+I29+I36 -> 480
A38: 01 | B38: Iš viso tikslui | F38: =+F37+F27+F24+F18+F13 -> 1676 | G38: =+G37+G27+G24+G18+G13 -> 1746.5 | H38: =+H37+H27+H24+H18+H13 -> 1702 | I38: =+I37+I27+I24+I18+I13 -> 1733
A39: 02 | B39: Atnaujinti ir plėsti Kėdainių rajono savivaldybės sporto infrastruktūrą, pritaikyti ją šiuolaikiniams poreikiams
A40: 02 | B40: 01 | C40: Modernizuoti sporto objektų materialinę bazę, sudarant sąlygas fizinio aktyvumo ugdymui
A41: 02 | B41: 01 | C41: 01 | D41: Atnaujinti ir (arba) plėsti bendruomeninę fizinio aktyvumo infrastruktūrą mieste ir rajone, pritaikant ją bendruomenės poreikiams bei laisvalaikiui | E41: SB | F41: 30 | G41: 50 | H41: 30 | I41: 30 | J41: Atnaujintų/įrengtų vaikų sporto ir žaidimų aikštelių skaičius | K41: 5 | L41: 3 | M41: 3
A42: 02 | B42: 01 | C42: 02 | D42: Tobulinti Kėdainių sporto centro infrastruktūrą (Parko g. 4, Vilainiai) | E42: SB | F42: 0 | G42: 0 | H42: 0 | I42: 0 | J42: Atnaujintų viešosios paskirties pastatų skaičius | K42: 1
E43: ES | F43: 15 | G43: 15 | H43: 0 | I43: 0
A44: 02 | B44: 03 | C44: 03 | D44: Atnaujinti Kėdainių „Ryto“ progimnazijos stadioną ir sporto aikštyną | E44: SB | F44: 80 | G44: 0 | H44: 160 | I44: 0 | J44: Parengtos techninės dokumentacijos skaičius/ atnaujinamų objektų skaičius | L44: 1/1
E45: VB | F45: 120 | G45: 0 | H45: 240 | I45: 0
A46: 02 | B46: 01 | C46: 04 | D46: Atnaujinti Kėdainių miesto ir rajono progimnazijų ir gimnazijų stadionus /sporto aikštynus | E46: SB | F46: 15 | G46: 30 | H46: 100 | I46: 100 | J46: Parengtos techninės dokumentacijos skaičius/ atnaujinamų objektų skaičius | K46: 2/0 | L46: 1/1 | M46: 1/1
A47: 02 | B47: 01 | C47: 05 | D47: Atnaujinti Kėdainių sporto centro bazes | E47: SB | F47: 65 | G47: 65 | H47: 65 | I47: 65 | J47: Atnaujinamų vidaus erdvių skaičius | K47: 1 | L47: 1 | M47: 1
A48: 02 | B48: 01 | C48: Iš viso uždaviniui | F48: =SUM(F41:F47) -> 325 | G48: =SUM(G41:G47) -> 160 | H48: =SUM(H41:H47) -> 595 | I48: =SUM(I41:I47) -> 195
A49: 02 | B49: Iš viso tikslui | F49: =+F48 -> 325 | G49: =+G48 -> 160 | H49: =+H48 -> 595 | I49: =+I48 -> 195
A50: Iš viso programai | F50: =+F49+F38 -> 2001 | G50: =+G49+G38 -> 1906.5 | H50: =+H49+H38 -> 2297 | I50: =+I49+I38 -> 1928
A51: iš jų:
A52: SAVIVALDYBĖS LĖŠOS | F52: =SUM(F53:F58) -> 1849.8 | G52: =SUM(G53:G58) -> 1875.3 | H52: =SUM(H53:H58) -> 2040.8 | I52: =SUM(I53:I58) -> 1911.8
A53: Savivaldybės biudžetas SB | F53: =+F47+F46+F44+F42+F41+F35+F29+F26+F23+F22+F20+F15+F12+F36 -> 1710.8 | G53: =+G47+G46+G44+G42+G41+G35+G29+G26+G23+G22+G20+G15+G12+G36 -> 1716.8 | H53: =+H47+H46+H44+H42+H41+H35+H29+H26+H23+H22+H20+H15+H12+H36 -> 1896.8 | I53: =+I47+I46+I44+I42+I41+I35+I29+I26+I23+I22+I20+I15+I12+I36 -> 1761.8
A54: Valstybės biudžeto specialiosios tikslinės dotacijos lėšos SBVB | F54: =+F16 -> 55.3 | G54: =+G16 -> 55.3 | H54: =+H16 -> 58 | I54: =+I16 -> 60
A55: Aplinkos apsaugos rėmimo specialiosios programos lėšos AA
A56: Iš pajamų už suteiktas paslaugas lėšos ĮP | F56: =+F17 -> 83.7 | G56: =+G17 -> 103.2 | H56: =+H17 -> 86 | I56: =+I17 -> 90
A57: Skolintos lėšos SK
A58: Kelių priežiūros ir plėtros programos lėšos KPP
A59: KITOS LĖŠOS | F59: =SUM(F60:F63) -> 151.2 | G59: =SUM(G60:G63) -> 31.2 | H59: =SUM(H60:H63) -> 256.2 | I59: =SUM(I60:I63) -> 16.2
A60: Europos Sąjungos lėšos, užsienio fondų lėšos ES | F60: =+F43 -> 15 | G60: =+G43 -> 15 | H60: =+H43 -> 0 | I60: =+I43 -> 0
A61: Valstybės biudžeto lėšos VB | F61: =+F45+F21 -> 136.2 | G61: =+G45+G21 -> 16.2 | H61: =+H45+H21 -> 256.2 | I61: =+I45+I21 -> 16.2
A62: Privačios – investuotojų lėšos PR
A63: Kiti finansavimo šaltiniai KT
A64: *Patvirtinta 2022 m. vasario 18 d. rajono tarybos sprendimu Nr.TS-1

Sheet Sporto 01.05.01.05
A1: ASOCIACIJOS „KREPŠINIO NAKTIS“
A2: 3 PRIEŠ 3 KREPŠINIO KOMANDOS
A3: 2022 M. VEIKLOS PROGRAMOS PARAIŠKA
A5: I SKYRIUS
A6: BENDROJI DALIS
A8: 1. Asociacija „Krepšinio naktis“ (toliau – Įstaiga) įregistruota valstybės įmonės Registrų centro Juridinių asmenų registre 2017 m. gegužės 11 d. Įstaigos kodas − 304523556. Adresas: J.Basanavičiaus g. 79-25 , Kėdainiai, tel. 8 642 91454.
A9: 2. Įstaigoje darbas organizuojamas vadovaujantis Lietuvos Respublikos Konstitucija, Lietuvos Respublikos kodeksais ir įstatymais, Lietuvos Respublikos Vyriausybės nutarimais ir kitais teisės aktais, Socialinės apsaugos ir darbo ministerijos ministro įsakymais, Įstaigos įstatais, visuotinio dalininkų susirinkimo sprendimais, darbo tvarkos taisyklėmis ir vadovo įsakymais.
A10: 3. Veiklos tikslas nėra pelno siekimas, Įstaiga veikia sporto, socialinėje, kultūros ir švietimo srityse ir teikia šių sričių paslaugas visuomenės nariams.
A12: II SKYRIUS
A13: SITUACIJOS ANALIZĖ
A15: 4. Kėdainių 3 prieš 3 komandos vaikinai dalyvauja 3 prieš 3 čempionatuose nuo 2018 m. vasaros. Praėjusiais metais buvo pradėti dalyvauti ir tarptautiniuose turnyruose, taip pat nuo praėjusių metu organizuojamas Lietuvos 3 prieš 3 krepšinio čempionatas.
A16: 5. Žmogiškieji ištekliai: Komandą sudaro viso 6 asmenys, 5 žaidėjai, 1 administracijos darbuotojas. Visi žaidėjai ir administracijos darbuotojai yra iš Kėdainių.
... A82: ________________________

Sheet 05kultura
K1: 5 priedas
A2: 5 lentelė. 2022–2024 m. Kultūros veiklos plėtros programos (05) tikslai, uždaviniai, priemonės, asignavimai ir vertinimo kriterijai
A3: tūkst. Eur
A4: Programos tikslo kodas | B4: Uždavinio kodas | C4: Priemonės kodas | D4: Priemonės pavadinimas | E4: Finansavimo šaltinis | F4: *2022-ųjų m. asignavimai | G4: Patikslinti 2022-ųjų m. asignavimai | H4: Numatomi 2023-ųjų m. asignavimai | I4: Numatomi 2024-ųjų m. asignavimai | J4: Vertinimo kriterijai
J5: Pavadinimas
K6: 2022 -ieji m. | L6: 2023 -ieji m. | M6: 2024 -ieji m.
A9: 05 KULTŪROS VEIKLOS PLĖTRA
A10: 01 | B10: Tobulinti ir plėsti kultūrinės informacijos paslaugas Kėdainių rajono savivaldybės Mikalojaus Daukšos viešojoje bibliotekoje, siekiant didinti jų prieinamumą
A11: 01 | B11: 01 | C11: Užtikrinti efektyvią Kėdainių rajono savivaldybės Mikalojaus Daukšos viešosios bibliotekos veiklą
A12: 01 | B12: 01 | C12: 01 | D12: Organizuoti ir užtikrinti Kėdainių rajono savivaldybės Mikalojaus Daukšos viešosios bibliotekos bei jos filialų veiklą | E12: SB | F12: 1047.4 | G12: 1057 | H12: 1100 | I12: 1145 | J12: Išduotų leidinių skaičius per metus (tūkst.) | K12: >300 | L12: >300 | M12: >300
E13: ĮP | F13: 8.7 | G13: 8.7 | H13: 8.7 | I13: 8.7 | J13: Apsilankymų bibliotekose skaičius (tūkst. kartų) | K13: >180 | L13: >180 | M13: >180
E14: SBVB | F14: 65.1 | G14: 65.1 | H14: 65 | I14: 65
A15: 01 | B15: 01 | C15: 02 | D15: Atnaujinti Kėdainių rajono savivaldybės Mikalojaus Daukšos viešosios bibliotekos filialų informacinių technologijų įrangą, žaislotekas, įsigyti baldų/įrangos užimtumo centrams | E15: SB | F15: 10 | G15: 10 | H15: 10 | I15: 10 | J15: IT įranga, baldais aprūpintų filialų skaičius | K15: 5 | L15: 10 | M15: 10
E16: VB | F16: 10 | G16: 10 | H16: 10 | I16: 10
A17: 01 | B17: 01 | C17: Iš viso uždaviniui | F17: =SUM(F12:F16) -> 1141.2 | G17: =SUM(G12:G16) -> 1150.8 | H17: =SUM(H12:H16) -> 1193.7 | I17: =SUM(I12:I16) -> 1238.7
A18: 01 | B18: Iš viso tikslui | F18: =+F17 -> 1141.2 | G18: =+G17 -> 1150.8 | H18: =+H17 -> 1193.7 | I18: =+I17 -> 1238.7
A19: 02 | B19: Išsaugoti istorinę atmintį, tobulinti ir plėsti kultūros paslaugas Kėdainių krašto muziejuje, siekiant didinti jų prieinamumą
A20: 02 | B20: 01 | C20: Užtikrinti efektyvią Kėdainių krašto muziejaus veiklą
A21: 02 | B21: 01 | C21: 01 | D21: Organizuoti ir užtikrinti Kėdainių krašto muziejaus ir jo skyrių veiklą | E21: SB | F21: 517.9 | G21: 527.5 | H21: 530 | I21: 540 | J21: Suorganizuotų renginių, edukacinių pamokų muziejuje ir jo skyriuose skaičius | K21: >400 | L21: >650 | M21: >650
E22: SBVB | F22: 2.4 | G22: 2.4 | H22: 0 | I22: 0
E23: ĮP | F23: 45 | G23: 45 | H23: 45 | I23: 45 | J23: Muziejaus lankytojų skaičius (tūkst.) | K23: >10 | L23: >20 | M23: >20
A24: 02 | B24: 01 | C24: 02 | D24: Dalyvauti Žydų kultūros paveldo kelio asociacijos veikloje ir puoselėti žydų kultūros paveldo atminimą Kėdainiuose | E24: SB | F24: 5.2 | G24: 5.2 | H24: 5.2 | I24: 5.2 | J24: Įgyvendinamų programų/priemonių/renginių skaičius | K24: 2 | L24: 2 | M24: 2
A25: 02 | B25: 01 | C25: 03 | D25: Dalyvauti projekte „Inovacijų keliu per buvusios LDK žemes“ | E25: SB | F25: 42.4 | G25: 0 | H25: 0 | I25: 0 | J25: Įrengtų modernių ir interaktyvių ekspozicijų skaičius
E26: ES | F26: 381 | G26: 0 | H26: 0 | I26: 0
A27: 02 | B27: 01 | C27: Iš viso uždaviniui | F27: =SUM(F21:F26) -> 993.9 | G27: =SUM(G21:G26) -> 580.1 | H27: =SUM(H21:H26) -> 580.2 | I27: =SUM(I21:I26) -> 590.2
A28: 02 | B28: Iš viso tikslui | F28: =+F27 -> 993.9 | G28: =+G27 -> 580.1 | H28: =+H27 -> 580.2 | I28: =+I27 -> 590.2
A29: 03 | B29: Sudaryti sąlygas krašto bendruomenei dalyvauti kultūrinėje bei kūrybinėje veikloje
A30: 03 | B30: 01 | C30: Užtikrinti efektyvią rajono kultūros centrų veiklą, vykdyti organizuojamų renginių informacijos sklaidą
A31: 03 | B31: 01 | C31: 01 | D31: Organizuoti ir užtikrinti kultūros centrų ir jų skyrių veiklą | E31: SB | F31: 1470.1 | G31: 1499 | H31: 1520 | I31: 1560 | J31: Kultūros centrų organizuojamų veiklų lankytojų skaičius | K31: >95 | L31: >95 | M31: >95
E32: SBVB | F32: 4.9 | G32: 4.9 | H32: 0 | I32: 0
E33: ĮP | F33: 16.6 | G33: 16.6 | H33: 20 | I33: 20
A34: 03 | B34: 01 | C34: 02 | D34: Organizuoti valstybinių, profesinių švenčių, atmintinų dienų minėjimus, įvairius renginius bendruomenės poreikiams tenkinti | E34: SB | F34: 149 | G34: 149 | H34: 130 | I34: 130 | J34: Kultūros centrų organizuojamų veiklų skaičius | K34: >1000 | L34: >1000 | M34: >1000
A35: 03 | B35: 01 | C35: 03 | D35: Kompensuoti kultūros įstaigų darbuotojų važiavimo į/iš darbo išlaidas | E35: SB | F35: 16.8 | G35: 16.8 | H35: 24 | I35: 24 | J35: Darbuotojų, kuriems kompensuojamos išlaidos, skaičius | K35: 50 | L35: 48 | M35: 48
A36: 03 | B36: 01 | C36: Iš viso uždaviniui | F36: =SUM(F31:F35) -> 1657.4 | G36: =SUM(G31:G35) -> 1686.3 | H36: =SUM(H31:H35) -> 1694 | I36: =SUM(I31:I35) -> 1734
A37: 03 | B37: 02 | C37: Sudaryti sąlygas kultūros plėtrai rajone
A38: 03 | B38: 02 | C38: 01 | D38: Organizuoti ir užtikrinti Kultūros ir sporto skyriaus specialistų darbą kultūros srityje | E38: SB | F38: 81.1 | G38: 81.1 | H38: 83 | I38: 86 | J38: Suorganizuotų renginių skaičius | K38: 40 | L38: 40 | M38: 40
A39: 03 | B39: 02 | C39: 02 | D39: Finansuoti rajono savivaldybės renginius ir kultūrines iniciatyvas | E39: SB | F39: 233 | G39: 233 | H39: 200 | I39: 200
A40: 03 | B40: 02 | C40: 03 | D40: Finansuoti kultūrinės veiklos projektus | E40: SB | F40: 25 | G40: 25 | H40: 25 | I40: 25 | J40: Finansuotų projektų skaičius | K40: 21 | L40: 20 | M40: 20
A41: 03 | B41: 02 | C41: 04 | D41: Teikti Krašto kultūros premiją | E41: SB | F41: 3 | G41: 3 | H41: 3 | I41: 3 | J41: Kultūros premijos laureatų skaičius | K41: 1 | L41: 1 | M41: 1
A42: 03 | B42: 02 | C42: 05 | D42: Teikti Česlavo Milošo premiją | E42: SB | F42: 5 | G42: 0 | H42: 5 | I42: 5 | J42: Česlovo Milošo premijos laureatų skaičius | K42: 0 | L42: 1 | M42: 1
A43: 03 | B43: 02 | C43: 06 | D43: Aprūpinti mėgėjų meno kolektyvus tautiniais ir kitais koncertiniais kostiumais bei muzikos instrumentais | E43: PR | F43: 4 | G43: 0 | H43: 4 | I43: 4 | J43: Koncertinius kostiumų komplektus/instrumentus atsinaujinusių kolektyvų skaičius | K43: 7 | L43: 6 | M43: 6
E44: SB | F44: 8 | G44: 13 | H44: 10 | I44: 10
E45: VB | F45: 5 | G45: 1.5 | H45: 5 | I45: 5
A46: 03 | B46: 02 | C46: 07 | D46: Plėtoti tarptautinius kultūros mainus | E46: SB | F46: 15 | G46: 15 | H46: 15 | I46: 15 | J46: Organizuotų tarptautinių mainų skaičius | K46: 3 | L46: 5 | M46: 5
A47: 03 | B47: 02 | C47: Iš viso uždaviniui | F47: =SUM(F38:F46) -> 379.1 | G47: =SUM(G38:G46) -> 371.6 | H47: =SUM(H38:H46) -> 350 | I47: =SUM(I38:I46) -> 353
A48: 03 | B48: Iš viso tikslui | F48: =+F47+F36 -> 2036.5 | G48: =+G47+G36 -> 2057.9 | H48: =+H47+H36 -> 2044 | I48: =+I47+I36 -> 2087
A49: 04 | B49: Vystyti jaunimui palankią aplinką bei infrastruktūrą, plėsti ir skatinti įvairias jaunimo veiklas ir užimtumą
A50: 04 | B50: 01 | C50: Skatinti Kėdainių rajono jaunimo ir su jaunimu dirbančių organizacijų nuolatinę ir ilgalaikę programinę veiklą, jaunimo veiklos projektus, jaunimo iniciatyvas
A51: 04 | B51: 01 | C51: 01 | D51: Finansuoti jaunimo veiklos projektus | E51: SB | F51: 11 | G51: 11 | H51: 11 | I51: 11 | J51: Finansuotų projektų skaičius | K51: 5 | L51: 5 | M51: 5
A52: 04 | B52: 01 | C52: 02 | D52: Finansuoti programas, užtikrinančias jaunimo neformalaus ugdymo plėtrą | E52: SB | F52: 4 | G52: 4 | H52: 4 | I52: 4 | J52: Suorganizuotų mokymų, susitikimų, renginių, forumų skaičius | K52: 40 | L52: 10 | M52: 10
A53: 04 | B53: 01 | C53: 03 | D53: Finansuoti Atviro jaunimo centro ir atvirųjų jaunimo erdvių veiklos projektus | E53: SB | F53: 16 | G53: 16 | H53: 20 | I53: 20 | J53: Finansuotų projektų skaičius | K53: 6 | L53: 6 | M53: 6
A54: 04 | B54: 01 | C54: 04 | D54: Plėtoti jaunimo savanorystę Kėdainių rajone ir skatinti jaunimą užsiimti savanoriška veikla | E54: SB | F54: 2 | G54: 2 | H54: 2 | I54: 2 | J54: Finansuotų projektų skaičius | K54: 1 | L54: 1 | M54: 1
A55: 04 | B55: 01 | C55: 05 | D55: Atlikti jaunimo problematikos tyrimą | E55: SB | F55: 3 | G55: 3 | H55: 0 | I55: 0 | J55: Atliktų tyrimų skaičius | K55: 1
A56: 04 | B56: 01 | C56: 06 | D56: Organizuoti Tarptautinės jaunimo dienos renginį | E56: SB | F56: 5 | G56: 5 | H56: 5 | I56: 5 | J56: Suorganizuotų renginius skaičius | K56: 1 | L56: 1 | M56: 1
A57: 04 | B57: 01 | C57: 07 | D57: Dalyvauti jaunimo užimtumo vasarą ir integracijos į darbo rinką programoje | E57: SB | F57: 3.5 | G57: 3.5 | H57: 5 | I57: 5 | J57: Pagal programą įdarbintų 14-18 m. jaunuolių skaičius | K57: 7 | L57: 14 | M57: 14
E58: VB | F58: 5.3 | G58: 5.3 | H58: 12.5 | I58: 12.5
A59: 04 | B59: 01 | C59: Iš viso uždaviniui | F59: =SUM(F51:F58) -> 49.8 | G59: =SUM(G51:G58) -> 49.8 | H59: =SUM(H51:H58) -> 59.5 | I59: =SUM(I51:I58) -> 59.5
A60: 04 | B60: Iš viso tikslui | F60: =+F59 -> 49.8 | G60: =+G59 -> 49.8 | H60: =+H59 -> 59.5 | I60: =+I59 -> 59.5
A61: 05 | B61: Skatinti nevyriausybinių organizacijų veiklą, didinti jų įtrauktį
A62: 05 | B62: 01 | C62: Skatinti nevyriausybinių ir bendruomeninių organizacijų plėtrą Kėdainių rajone
A63: 05 | B63: 01 | C63: 01 | D63: Užtikrinti rajono nevyriausybinių organizacijų (įskaitant bendruomenines organizacijas) plėtrą, finansuojant projektus socialinio, pilietinio, kultūros paveldo pažinimo, etninės kultūros puoselėjimo, užimtumo bei verslumo srityse | E63: SB | F63: 22 | G63: 22 | H63: 25 | I63: 25 | J63: Finansuotų projektų skaičius | K63: 8 | L63: 12 | M63: 13
E64: VB | F64: 10 | G64: 10 | H64: 15 | I64: 15
E65: PR | F65: 7 | G65: 7 | H65: 7 | I65: 7
A66: 05 | B66: 01 | C66: 02 | D66: Sudaryti sąlygas bendruomeninių organizacijų veiklai | E66: SB | F66: 13 | G66: 16 | H66: 15 | I66: 15 | J66: Finansuotų bendruomeninių organizacijų skaičius | K66: 20 | L66: 22 | M66: 22
A67: 05 | B67: 01 | C67: 03 | D67: Finansuoti Kėdainių rajono vietos veiklos grupės teritorijos vietos plėtros 2015-2023 m. strategijos įgyvendinimą | E67: SB | F67: 58 | G67: 46 | H67: 42 | I67: 44 | J67: Finansuotų projektų skaičius | K67: 8 | L67: 8 | M67: 8
E68: ES | F68: 400 | G68: 400 | H68: 290 | I68: 290
A69: 05 | B69: 01 | C69: 04 | D69: Finansuoti Kėdainių miesto vietos veiklos grupės 2016–2022 m. vietos plėtros strategijos įgyvendinimą | E69: SB | F69: 19.9 | G69: 19.9 | H69: 0 | I69: 0 | J69: Finansuotų projektų skaičius | K69: 21
E70: ES | F70: 243 | G70: 243 | H70: 0 | I70: 0
A71: 05 | B71: 01 | C71: 05 | D71: Remti bendruomenių veiklą savivaldybėje | E71: VB | F71: 33 | G71: 0 | H71: 0 | I71: 0 | J71: Įgyvendinta projektų veiklų proc. | K71: 100 | L71: 100 | M71: 100
E72: SBVB | F72: 0 | G72: 32.8 | H72: 33 | I72: 33
A73: 05 | B73: 01 | C73: 06 | D73: Skatinti nevyriausybinių organizacijų, bendruomeninių organizacijų plėtrą rajone | E73: SB | F73: 3 | G73: 12 | H73: 4 | I73: 5 | J73: Paskatintų iniciatyvų bei suorganizuotų veiklų skaičius | K73: 3 | L73: 3 | M73: 3
A74: 05 | B74: 01 | C74: Iš viso uždaviniui | F74: =SUM(F63:F73) -> 808.9 | G74: =SUM(G63:G73) -> 808.7 | H74: =SUM(H63:H73) -> 431 | I74: =SUM(I63:I73) -> 434
A75: 05 | B75: Iš viso tikslui | F75: =+F74 -> 808.9 | G75: =+G74 -> 808.7 | H75: =+H74 -> 431 | I75: =+I74 -> 434
A76: 06 | B76: Atnaujinti ir plėsti kultūros įstaigų viešąją infrastruktūrą, pritaikyti ją kultūriniams ir bendruomeniniams poreikiams
A77: 06 | B77: 01 | C77: Gerinti kultūros paskirties viešąją infrastruktūrą, modernizuoti materialinę ir edukacinę aplinką
A78: 06 | B78: 01 | C78: 01 | D78: Rekonstruoti Kėdainių kultūros centrą | E78: SBVB | F78: 550 | G78: 550 | H78: 175 | I78: 696 | J78: Įgyvendinta einamaisiais metais numatomų atlikti projekto veiklų proc. | K78: 100 | L78: 100 | M78: 100
E79: SB | F79: 0 | G79: 202.5 | H79: 300 | I79: 450
A80: 06 | B80: 01 | C80: 02 | D80: Aktualizuoti Kėdainių krašto muziejų, padidinant kultūros paveldo aktualumą, lankomumą ir žinomumą (įskaitant ekspozicijų atnaujinimą) | E80: SB | F80: 150 | G80: 200 | H80: 126 | I80: 0 | J80: Aktualizuotų objektų skaičius | K80: 1
E81: SK | F81: 0 | G81: 0 | H81: 0 | I81: 0
E82: ES | F82: 250 | G82: 373 | H82: 0 | I82: 0
A83: 06 | B83: 01 | C83: 03 | D83: Atnaujinti Truskavos kultūros centrą, pritaikant jį kaimo bendruomenės poreikiams bei kultūrinei veiklai | E83: SB | F83: 180 | G83: 180 | H83: 0 | I83: 0 | J83: Atnaujintų viešosios paskirties pastatų skaičius | K83: 1
E84: VB | F84: 5.4 | G84: 5.4 | H84: 0 | I84: 0
E85: ES | F85: 31 | G85: 31 | H85: 0 | I85: 0
A86: 06 | B86: 01 | C86: 04 | D86: Remontuoti Kėdainių rajono savivaldybės Mikalojaus Daukšos biblioteką ir jos filialus | E86: SB | F86: 0 | G86: 0 | H86: 20 | I86: 20 | J86: Suremontuotų viešosios bibliotekos filialų skaičius | L86: 2 | M86: 2
A87: 06 | B87: 01 | C87: 05 | D87: Atlikti Šėtos kultūros centro vidaus remonto darbus | E87: SB | F87: 0 | G87: 0 | H87: 15 | I87: 0 | J87: Atlikta einamaisiais metais numatytų darbų, proc. | L87: 100
A88: 06 | B88: 01 | C88: 06 | D88: Remontuoti Akademijos kultūros centrą | E88: SB | F88: 55 | G88: 130 | H88: 110 | I88: 0 | J88: Atlikta einamaisiais metais numatytų darbų, proc. | K88: 100 | L88: 100
A89: 06 | B89: 01 | C89: 07 | D89: Įrengti reikalingą infrastruktūrą atlikėjams prie Kėdainių miesto parko didžiosios scenos | E89: SB | F89: 20 | G89: 20 | H89: 20 | I89: 20 | J89: Parengta vizija/techninė dokumentacija/ įrengta persirengimo/ poilsio/laukimo infrastruktūra atlikėjams | K89: 1/0/0 | L89: 1/1/0 | M89: 1/1/1
A90: 06 | B90: 01 | C90: 08 | D90: Įsigyti Janinos Monkutės-Marks pastatą | E90: SB | F90: 0 | G90: 0 | H90: 350 | I90: 0 | J90: Įsigytų objektų visuomenės poreikiams skaičius | L90: 1
A91: 06 | B91: 01 | C91: Iš viso uždaviniui | F91: =SUM(F78:F90) -> 1241.4 | G91: =SUM(G78:G90) -> 1691.9 | H91: =SUM(H78:H90) -> 1116 | I91: =SUM(I78:I90) -> 1186
A92: 06 | B92: Iš viso tikslui | F92: =+F91 -> 1241.4 | G92: =+G91 -> 1691.9 | H92: =+H91 -> 1116 | I92: =+I91 -> 1186
A93: Iš viso programai | F93: =+F92+F75+F60+F48+F28+F18 -> 6271.7 | G93: =+G92+G75+G60+G48+G28+G18 -> 6339.2 | H93: =+H92+H75+H60+H48+H28+H18 -> 5424.4 | I93: =+I92+I75+I60+I48+I28+I18 -> 5595.4
A94: iš jų:
A95: SAVIVALDYBĖS LĖŠOS | F95: =SUM(F96:F101) -> 4887 | G95: =SUM(G96:G101) -> 5253 | H95: =SUM(H96:H101) -> 5080.9 | I95: =SUM(I96:I101) -> 5251.9
A96: Savivaldybės biudžetas SB | F96: =+F88+F87+F86+F83+F80+F79+F69+F67+F66+F63+F56+F53+F52+F51+F46+F44+F42+F41+F40+F39+F38+F34+F31+F24+F21+F15+F12+F25+F73+F57+F55+F54+F89+F35+F90 -> 4194.3 | G96: =+G88+G87+G86+G83+G80+G79+G69+G67+G66+G63+G56+G53+G52+G51+G46+G44+G42+G41+G40+G39+G38+G34+G31+G24+G21+G15+G12+G25+G73+G57+G55+G54+G89+G35+G90 -> 4527.5 | H96: =+H88+H87+H86+H83+H80+H79+H69+H67+H66+H63+H56+H53+H52+H51+H46+H44+H42+H41+H40+H39+H38+H34+H31+H24+H21+H15+H12+H25+H73+H57+H55+H54+H89+H35+H90 -> 4734.2 | I96: =+I88+I87+I86+I83+I80+I79+I69+I67+I66+I63+I56+I53+I52+I51+I46+I44+I42+I41+I40+I39+I38+I34+I31+I24+I21+I15+I12+I25+I73+I57+I55+I54+I89+I35+I90 -> 4384.2
A97: Valstybės biudžeto specialiosios tikslinės dotacijos lėšos SBVB | F97: =+F78+F32+F22+F14+F72 -> 622.4 | G97: =+G78+G32+G22+G14+G72 -> 655.2 | H97: =+H78+H32+H22+H14+H72 -> 273 | I97: =+I78+I32+I22+I14+I72 -> 794
A98: Aplinkos apsaugos rėmimo specialiosios programos lėšos AA
A99: Iš pajamų už suteiktas paslaugas lėšos ĮP | F99: =+F13+F23+F33 -> 70.3 | G99: =+G13+G23+G33 -> 70.3 | H99: =+H13+H23+H33 -> 73.7 | I99: =+I13+I23+I33 -> 73.7
A100: Skolintos lėšos SK | F100: =+F81 -> 0 | G100: =+G81 -> 0 | H100: =+H81 -> 0 | I100: =+I81 -> 0
A101: Kelių priežiūros ir plėtros programos lėšos KPP
A102: KITOS LĖŠOS | F102: =SUM(F103:F106) -> 1384.7 | G102: =SUM(G103:G106) -> 1086.2 | H102: =SUM(H103:H106) -> 343.5 | I102: =SUM(I103:I106) -> 343.5
...

Sheet 06turizm_paveld
K1: 6 priedas
A2: 6 lentelė. 2022–2024 m. Kultūros paveldo išsaugojimo, turizmo skatinimo ir vystymo programos (06) tikslai, uždaviniai, priemonės, asignavimai vertinimo kriterijai
J3: tūkst. Eur
A4: Programos tikslo kodas | B4: Uždavinio kodas | C4: Priemonės kodas | D4: Priemonės pavadinimas | E4: Finansavimo šaltinis | F4: *2022-ųjų m. asignavimai | G4: Patikslinti 2022-ųjų m. asignavimai | H4: Numatomi 2023-ųjų m. asignavimai | I4: Numatomi 2024-ųjų m. asignavimai | J4: Vertinimo kriterijai
J5: Pavadinimas
K6: 2022 -ieji m. | L6: 2023 -ieji m. | M6: 2024 -ieji m.
A9: 06 KULTŪROS PAVELDO IŠSAUGOJIMAS, TURIZMO SKATINIMAS IR VYSTYMAS
A10: 01 | B10: Skatinti vietinį bei atvykstamąjį turizmą, plėtoti turizmo rinkodarą
A11: 01 | B11: 01 | C11: Užtikrinti efektyvią VšĮ Kėdainių turizmo ir verslo informacijos centro veiklą turizmo srityje
A12: 01 | B12: 01 | C12: 01 | D12: Finansuoti VšĮ Kėdainių turizmo ir verslo informacijos centro turizmo veiklos programą: | E12: SB | F12: 75 | G12: 75 | H12: 90 | I12: 70 | J12: Kėdainių rajono savivaldybėje apsilankiusių turistų skaičius per metus (tūkst. asmenų/ per metus) (vertinami Kėdainių TVIC apsilankę turistai) | K12: 9 | L12: 9.5 | M12: 9.5
D13: turizmo maršrutų, individualių ekskursijų programų rengimas | J13: Atnaujintų/parengtų turizmo maršrutų skaičius | K13: 4 | L13: 4 | M13: 4
D14: kartografinių-informacinių turistinių leidinių leidyba
D15: turizmo informacijos apie gamtos, architektūros, istorijos, kultūros paveldo objektus, lankytinas vietas, maitinimo, apgyvendinimo, kaimo turizmo sodybas, amatus teikimas, kaupimas, sisteminimas ir atnaujinimas | E15: PR | F15: 3 | G15: 3 | H15: 3 | I15: 3 | J15: Turizmo statistikos duomenų apskaita ir analizė, val. | K15: 160 | L15: 160 | M15: 160
D16: dalyvavimas turizmo parodose, mugėse, šventėse | J16: Parodų, mugių, kuriuose dalyvauta, skaičius | K16: 4 | L16: 4 | M16: 4
D17: turizmo informacijos sklaida socialiniuose tinkluose, spaudoje | J17: Informacijos sklaida, val. | K17: 1000 | L17: 500 | M17: 500
A18: 01 | B18: 01 | C18: Iš viso uždaviniui | F18: =SUM(F12:F17) -> 78 | G18: =SUM(G12:G17) -> 78 | H18: =SUM(H12:H17) -> 93 | I18: =SUM(I12:I17) -> 73
A19: 01 | B19: Iš viso tikslui | F19: =+F18 -> 78 | G19: =+G18 -> 78 | H19: =+H18 -> 93 | I19: =+I18 -> 73
A20: 02 | B20: Pritaikyti viešąją infrastruktūrą visuomenės turizmo ir rekreacijos poreikiams, įveiklinti kultūros ir gamtos paveldą
A21: 02 | B21: 01 | C21: Išsaugoti istorinį bei kultūros paveldą, didinti jo patrauklumą ir žinomumą
A22: 02 | B22: 02 | C22: 01 | D22: Parengti Nekilnojamųjų kultūros vertybių vertinimo medžiagą ir pristatyti nekilnojamojo kultūros paveldo vertinimo tarybai | E22: SB | F22: 3 | G22: 3 | H22: 3 | I22: 3 | J22: Skaičius objektų, esančių Kultūros vertybių registre, kurių duomenys bus tikslinami, ir skaičius objektų, kurie planuojami įrašyti į Kultūros vertybių registrą | K22: 3 | L22: 3 | M22: 3
A23: 02 | B23: 02 | C23: 02 | D23: Rengti nekilnojamųjų kultūros paveldo objektų, vietovių individualius apsaugos reglamentus | E23: SB | F23: 3 | G23: 3 | H23: 3 | I23: 3 | J23: Objektų skaičius, kuriems parengti individualūs apsaugos reglamentai | K23: 3 | L23: 3 | M23: 3
A24: 02 | B24: 01 | C24: 03 | D24: Įgyvendinti Kėdainių rajono savivaldybės bažnyčių rėmimo programą | E24: SB | F24: 45 | G24: 45 | H24: 40 | I24: 40 | J24: Kulto pastatų, kuriems skirtas finansavimas tvarkybos darbams atlikti, skaičius | K24: 4 | L24: 3 | M24: 3
E25: PR | F25: 10 | G25: 10 | H25: 10 | I25: 10
A26: 02 | B26: 01 | C26: 04 | D26: Įgyvendinti priemones, skirtas kovų už Lietuvos Nepriklausomybę vietoms ir paminklams įamžinti | E26: SB | F26: 45 | G26: 45 | H26: 50 | I26: 50 | J26: Įgyvendintų programos priemonių skaičius | K26: 4 | L26: 4 | M26: 4
A27: 02 | B27: 01 | C27: 05 | D27: Kompleksiškai sutvarkyti Kėdainių Sinagogą (Smilgos g. 5A, Kėdainiai), pritaikant kultūrinėms bei kitoms reikmėms | E27: SB | F27: 0 | G27: 0 | H27: 0 | I27: 0 | J27: Įgyvendinta einamaisiais metais planuotų projekto veiklų proc. | K27: 100
E28: ES | F28: 25.5 | G28: 25.5 | H28: 0 | I28: 0
A29: 02 | B29: 01 | C29: 06 | D29: Modernizuoti Kėdainių krašto muziejaus Daugiakultūrį centrą | E29: SB | F29: 112.5 | G29: 112.5 | H29: 0 | I29: 0 | J29: Modernizuotų objektų skaičius | K29: 1
E30: ES | F30: 236.5 | G30: 236.5 | H30: 0 | I30: 0
A31: 02 | B31: 01 | C31: 07 | D31: Remontuoti Minareto fasadą | E31: SB | F31: 30 | G31: 30 | H31: 40 | I31: 0 | J31: Suremontuotų objektų skaičius | L31: 1
A32: 02 | B32: 01 | C32: 08 | D32: Apšviesti senamiesčio objektų fasadus | E32: SB | F32: 0 | G32: 0 | H32: 10 | I32: 10 | J32: Objektų, prie kurių įrengtas fasadų apšvietimas, skaičius | L32: 3 | M32: 3
A33: 02 | B33: 01 | C33: 09 | D33: Parengti projektus ir remontuoti koplytėles, koplytstulpius, skulptūras, kapinaites ir kapus | E33: SB | F33: 31 | G33: 31 | H33: 20 | I33: 20 | J33: Parengtos tvarkybos dokumentacijos skaičius / Suremontuotų objektų skaičius | K33: 1/4 | L33: 1/2 | M33: 1/2
A34: 02 | B34: 01 | C34: 10 | D34: Atlikti Paberžės klebonijos ir svirno restauravimo ir remonto darbus | E34: SB | F34: 40 | G34: 40 | H34: 20 | I34: 0 | J34: Restauruotų objektų skaičius | K34: 1 | L34: 2
E35: VB | F35: 100 | G35: 100 | H35: 40 | I35: 0
A36: 02 | B36: 01 | C36: 11 | D36: Įrengti valstybinės reikšmės kelių nuorodas į savivaldybės kultūros paveldo objektus | E36: SB | F36: 6 | G36: 14 | H36: 3 | I36: 3 | J36: Įrengtų/tvarkomų informacinių ženklinimo infrastruktūros objektų skaičius | K36: 80 | L36: 6 | M36: 6
A37: 02 | B37: 01 | C37: 12 | D37: Atlikti archeologinius ir kitus tyrinėjimus kultūros paveldo teritorijose, vykdyti paveldo objektams parengtų tvarkybos projektų ekspertizę, parengti sąmatas | E37: SB | F37: 12 | G37: 2 | H37: 10 | I37: 10 | J37: Einamaisiais metais numatomų atlikti tyrinėjimų/ Ekspertuotų projektų skaičius | K37: 1/2 | L37: 1/2 | M37: 1/2
A38: 02 | B38: 01 | C38: 13 | D38: Parengti ritualinio skerdiko namo tvoros ir vartų su saulės laikrodžiu pamatų konservavimo ir vartų atstatymo projektą ir atlikti darbus | E38: SB | F38: 0 | G38: 0 | H38: 80 | I38: 0 | J38: Atstatytų objektų skaičius | L38: 1
A39: 02 | B39: 01 | C39: 14 | D39: Atlikti kultūros paveldo objektų ar objektų, esančių kultūros paveldo teritorijų prieigose, tvarkybos darbus seniūnijose | E39: SB | F39: 15 | G39: 25 | H39: 15 | I39: 15 | J39: Tvarkomų objektų skaičius | K39: 1 | L39: 1 | M39: 1
A40: 02 | B40: 01 | C40: 15 | D40: Vykdyti rezistentų paminklinio akmens ir teritorijos, apimančios masinę kapavietę, sutvarkymo darbus (Skongalio g.) | E40: SB | F40: 40 | G40: 40 | H40: 115 | I40: 0 | J40: Atnaujintų objektų skaičius | L40: 1
A41: 02 | B41: 01 | C41: 16 | D41: Atlikti Bakainių piliakalnio su priešpiliu ir papiliu, priešpilio tvarkybos darbus | E41: SB | F41: 20 | G41: 20 | H41: 10 | I41: 50 | J41: Atlikti moksliniai taikomieji tyrimai / parengta projektinė dokumentacija / einamaisiais metais numatyta atliktų darbų | K41: 1/0/0 | L41: 1/1/0 | M41: 1/1 /100
E42: VB | F42: 41 | G42: 41 | H42: 25 | I42: 100
A43: 02 | B43: 01 | C43: 17 | D43: Įgyvendinti dalyvaujamojo biudžeto iniciatyvų projektus "Justinavos pliažas" ir "Tako iki kabančio tilto per Nevėžį Surviliškyje sutvarkymas" | E43: SB | F43: 40 | G43: 40 | H43: 0 | I43: 0 | J43: Atnaujintų viešųjų erdvių, pritaikytų gyventojų poreikiams, skaičius | K43: 2
A44: 02 | B44: 01 | C44: 18 | D44: Įgyvendinti kultūros paveldo objektų, esančių Kėdainių rajono savivaldybės teritorijoje, ir kultūros paveldo statinių, esančių Kėdainių senamiesčio dalyje, išsaugojimo darbų finansavimo programą | E44: SB | F44: 40 | G44: 26 | H44: 40 | I44: 40 | J44: Tvarkomų kultūros paveldo objektų ar kultūros paveldo statinių skaičius | K44: 1 | L44: 2 | M44: 2
A45: 02 | B45: 01 | C45: Iš viso uždaviniui | F45: =SUM(F22:F44) -> 895.5 | G45: =SUM(G22:G44) -> 889.5 | H45: =SUM(H22:H44) -> 534 | I45: =SUM(I22:I44) -> 354
A46: 02 | B46: 02 | C46: Plėtoti, atnaujinti viešąją infrastruktūrą, atsižvelgiant į turizmo plėtros ir rekreacijos poreikius
A47: 02 | B47: 02 | C47: 01 | D47: Kompleksiškai sutvarkyti ir pritaikyti bendruomenei ir verslui Kėdainių miesto viešąsias erdves (miesto parko, universalaus daugiafunkcio aikštyno prieigos) | E47: SB | F47: 130 | G47: 130 | H47: 30 | I47: 0 | J47: Einamaisiais metais numatyta atlikti darbų | K47: 100 | L47: 100
E48: VB | F48: 0 | G48: 0 | H48: 0 | I48: 0
A49: 02 | B49: 02 | C49: 02 | D49: Įgyvendinti projektą „Jonavos, Kėdainių ir Raseinių rajonų savivaldybes jungiančių trasų ir turizmo maršrutų informacinės infrastruktūros plėtra“ | E49: SB | F49: 3.5 | G49: 3.5 | H49: 0 | I49: 0 | J49: Atnaujintos/įrengtos ženklinimo infrastruktūros objektų skaičius Kėdainių mieste ir rajone | K49: 2
E50: ES | F50: 33 | G50: 37.1 | H50: 0 | I50: 0
E51: KT | F51: 3.5 | G51: 3.5 | H51: 0 | I51: 0
A52: 02 | B52: 02 | C52: 03 | D52: Vykdyti WiFi prieigų tinklo plėtrą miesto ir rajono viešosiose erdvėse | E52: SB | F52: 10 | G52: 10 | H52: 10 | I52: 10 | J52: Įrengtų WiFi prieigos taškų skaičius (kasmet) | K52: 9 | L52: 9 | M52: 9
A53: 02 | B53: 02 | C53: 04 | D53: Parengti Akademijos parko tvarkybos bei techninius projektus ir atlikti darbus | E53: SB | F53: 20 | G53: 20 | H53: 100 | I53: 100 | J53: Parengta techninė dokumentacija / atlikta einamaisiais metais numatytų darbų, proc. | K53: 2/0 | L53: 1/100 | M53: 1/100
A54: 02 | B54: 02 | C54: 05 | D54: Parengti Paberžės parko tvarkybos projektą ir atlikti darbus | E54: SB | F54: 0 | G54: 0 | H54: 0 | I54: 20 | J54: Parengta techninė dokumentacija | M54: 1
A55: 02 | B55: 02 | C55: Iš viso uždaviniui | F55: =SUM(F47:F54) -> 200 | G55: =SUM(G47:G54) -> 204.1 | H55: =SUM(H47:H54) -> 140 | I55: =SUM(I47:I54) -> 130
A56: 11 | B56: Iš viso tikslui | F56: =+F55+F45 -> 1095.5 | G56: =+G55+G45 -> 1093.6 | H56: =+H55+H45 -> 674 | I56: =+I55+I45 -> 484
A57: Iš viso programai | F57: =+F56+F19 -> 1173.5 | G57: =+G56+G19 -> 1171.6 | H57: =+H56+H19 -> 767 | I57: =+I56+I19 -> 557
A58: iš jų:
A59: SAVIVALDYBĖS LĖŠOS | F59: =SUM(F60:F65) -> 721 | G59: =SUM(G60:G65) -> 715 | H59: =SUM(H60:H65) -> 689 | I59: =SUM(I60:I65) -> 444
A60: Savivaldybės biudžetas SB | F60: =+F54+F53+F52+F49+F47+F41+F40+F39+F38+F37+F36+F34+F33+F32+F31+F29+F27+F26+F24+F23+F22+F12+F43+F44 -> 721 | G60: =+G54+G53+G52+G49+G47+G41+G40+G39+G38+G37+G36+G34+G33+G32+G31+G29+G27+G26+G24+G23+G22+G12+G43+G44 -> 715 | H60: =+H54+H53+H52+H49+H47+H41+H40+H39+H38+H37+H36+H34+H33+H32+H31+H29+H27+H26+H24+H23+H22+H12+H43+H44 -> 689 | I60: =+I54+I53+I52+I49+I47+I41+I40+I39+I38+I37+I36+I34+I33+I32+I31+I29+I27+I26+I24+I23+I22+I12+I43+I44 -> 444
A61: Valstybės biudžeto specialiosios tikslinės dotacijos lėšos SBVB
A62: Aplinkos apsaugos rėmimo specialiosios programos lėšos AA
A63: Iš pajamų už suteiktas paslaugas lėšos ĮP
A64: Skolintos lėšos SK
A65: Kelių priežiūros ir plėtros programos lėšos KPP
A66: KITOS LĖŠOS | F66: =SUM(F67:F70) -> 452.5 | G66: =SUM(G67:G70) -> 456.6 | H66: =SUM(H67:H70) -> 78 | I66: =SUM(I67:I70) -> 113
A67: Europos Sąjungos lėšos, užsienio fondų lėšos ES | F67: =+F50+F30+F28 -> 295 | G67: =+G50+G30+G28 -> 299.1 | H67: =+H50+H30+H28 -> 0 | I67: =+I50+I30+I28 -> 0
A68: Valstybės biudžeto lėšos VB | F68: =+F48+F42+F35 -> 141 | G68: =+G48+G42+G35 -> 141 | H68: =+H48+H42+H35 -> 65 | I68: =+I48+I42+I35 -> 100
A69: Privačios – investuotojų lėšos PR | F69: =+F25+F15 -> 13 | G69: =+G25+G15 -> 13 | H69: =+H25+H15 -> 13 | I69: =+I25+I15 -> 13
A70: Kiti finansavimo šaltiniai KT | F70: =+F51 -> 3.5 | G70: =+G51 -> 3.5 | H70: =+H51 -> 0 | I70: =+I51 -> 0
A71: *Patvirtinta 2022 m. vasario 18 d. rajono tarybos sprendimu Nr.TS-1

Sheet 07Infrastr.
K1: 7 priedas
A2: 7 lentelė. 2022–2024 m. Infrastruktūros objektų priežiūros ir plėtros programos (07) tikslai, uždaviniai, priemonės, asignavimai ir vertinimo kriterijai
J3: tūkst. Eur
A4: Programos tikslo kodas | B4: Uždavinio kodas | C4: Priemonės kodas | D4: Priemonės pavadinimas | E4: Finansavimo šaltinis | F4: *2022-ųjų m. asignavimai | G4: Patikslinti 2022-ųjų m. asignavimai | H4: Numatomi 2023-ųjų m. asignavimai | I4: Numatomi 2024-ųjų m. asignavimai | J4: Vertinimo kriterijai
J5: Pavadinimas
K6: 2022 -ieji m. | L6: 2023 -ieji m. | M6: 2024 -ieji m.
A9: 07 INFRASTRUKTŪROS OBJEKTŲ PRIEŽIŪRA IR PLĖTRA
A10: 01 tikslas. Kurti ir pritaikyti viešąją infrastruktūrą su darnia aplinka šiuolaikiniams poreikiams
A11: 01 uždavinys. Rengti ir (arba) atnaujinti Kėdainių rajono savivaldybės teritorijų planavimo ir kitus dokumentus, sudarant sąlyga infrastruktūros plėtrai
A12: 01 | B12: 01 | C12: 01 | D12: Rengti specialiuosius, bendruosius, detaliuosius, geodezinius planus bei topografines nuotraukas | E12: SB | F12: 45 | G12: 75 | H12: 65 | I12: 65 | J12: Parengtų specialiųjų, detaliųjų, geodezinių planų skaičius | K12: 49 | L12: 50 | M12: 50
A13: 01 | B13: 01 | C13: 02 | D13: Parengti Senojo Upytės kelio specialųjį planą ("Isos slėnis") | E13: SB | F13: 20 | G13: 20 | H13: 0 | I13: 0 | J13: Parengtų specialiųjų planų skaičius | K13: 1
A14: 01 | B14: 01 | C14: 03 | D14: Atlikti turto inventorizavimą, teisinę registraciją, parengti dokumentus turto pardavimui | E14: SB | F14: 45 | G14: 45 | H14: 25 | I14: 25 | J14: Inventorizuotų nekilnojamojo turto objektų skaičius | K14: 60 | L14: 50 | M14: 50
A15: 01 | B15: 01 | C15: 04 | D15: Rengti infrastruktūros objektų tvarkymo investicinius projektus, paraiškas, kitą techninę dokumentaciją Europos Sąjungos fondų paramai gauti | E15: SB | F15: 30 | G15: 60 | H15: 60 | I15: 60 | J15: Parengtos investicinės dokumentacijos skaičius | K15: 4 | L15: 4 | M15: 4
A16: 01 | B16: 01 | C16: 05 | D16: Parengti Kėdainių rajono atsinaujinančių energijos išteklių plėtros planą | E16: SB | F16: 12 | G16: 12 | H16: 0 | I16: 0 | J16: Patvirtintų planų skaičius | K16: 1
A17: 01 | B17: 01 | C17: Iš viso 01 uždaviniui | F17: =SUM(F12:F16) -> 152 | G17: =SUM(G12:G16) -> 212 | H17: =SUM(H12:H16) -> 150 | I17: =SUM(I12:I16) -> 150
E18: Iš viso SB | F18: =+F16+F15+F14+F12+F13 -> 152 | G18: =+G16+G15+G14+G12+G13 -> 212 | H18: =+H16+H15+H14+H12+H13 -> 150 | I18: =+I16+I15+I14+I12+I13 -> 150
A20: 02 uždavinys. Užtikrinti inžinerinio aprūpinimo (vandentiekio, nuotekų tinklų ir kt.) sistemų atnaujinimą ir plėtrą
A21: 01 | B21: 02 | C21: 01 | D21: Įrengti, rekonstruoti, išplėsti vandentiekio ir/ar nuotekų tinklus Kėdainių mieste (Algirdo g., Parakinės g., Rūtų g., Pievų g., Šviesos g. ) | E21: SB | F21: 90 | G21: 67 | H21: 60 | I21: 120 | J21: Paklota vandentiekio ir nuotekų tinklų, m | K21: ~360 | L21: ~350 | M21: ~300
A22: 01 | B22: 02 | C22: 02 | D22: Rekonstruoti ir plėsti vandentiekio ir buitinių nuotekų infrastruktūrą Šėtos miestelyje, Kunionių kaime bei Kėdainių mieste | E22: SB | F22: 150 | G22: 150 | H22: 0 | I22: 0 | J22: Rekonstruojamų/naujai paklotų vandentiekio ir nuotekų tinklų, km | K22: ~11
E23: ES | F23: 340 | G23: 340 | H23: 0 | I23: 0
E24: PR | F24: 210 | G24: 210 | H24: 0 | I24: 0
A25: 01 | B25: 02 | C25: 03 | D25: Rekonstruoti ir plėsti Kėdainių miesto paviršinių nuotekų tinklus | E25: SB | F25: 85 | G25: 85 | H25: 0 | I25: 0 | J25: Paklota/rekonstruota paviršinių nuotekų tinklų, km | K25: ~9
E26: ES | F26: 56 | G26: 56 | H26: 0 | I26: 0
E27: PR | F27: 133 | G27: 133 | H27: 0 | I27: 0
A28: 01 | B28: 02 | C28: 04 | D28: Rekonstruoti Kėdainių miesto nuotekų valyklą | E28: SB | F28: 71 | G28: 51 | H28: 20.9 | I28: 0 | J28: Rekonstruotų objektų skaičius | K28: 1
E29: ES | F29: 575.2 | G29: 407.8 | H29: 167.4 | I29: 0
E30: PR | F30: 222.9 | G30: 158.1 | H30: 64.8 | I30: 0
A31: 01 | B31: 02 | C31: 05 | D31: Rekonstruoti Akademijos nuotekų valyklą | E31: SB | F31: 49 | G31: 84.7 | H31: 4.4 | I31: 0 | J31: Rekonstruoti nuotekų valykla | K31: 1
E32: ES | F32: 385.8 | G32: 350.6 | H32: 35.2 | I32: 0
E33: PR | F33: 87.5 | G33: 119.4 | H33: 13.6 | I33: 0
A34: 01 | B34: 02 | C34: 06 | D34: Išplėsti buitinių nuotekų tinklus Labūnavos gyvenvietėje, Nevėžio g, ir Vainikų g. | E34: SB | F34: 111 | G34: 111 | H34: 350 | I34: 0 | J34: Paklota vandentiekio buitinių nuotekų tinklų, m | L34: ~3100
A35: 01 | B35: 02 | C35: 07 | D35: Suprojektuoti ir įrengti inžinerinius tinklus Kėdainių miesto vakariniame kvartale | E35: PR | F35: 0 | G35: 0 | H35: 0 | I35: 0 | J35: Įrengta inžinerinių tinklų, m | K35: ~335 | L35: ~335 | M35: ~335
E36: SB | F36: 25 | G36: 25 | H36: 50 | I36: 50
A37: 01 | B37: 02 | C37: 08 | D37: Parengti buitinių nuotekų tinklų įrengimo ir išplėtimo projektą Surviliškio kaime | E37: SB | F37: 4 | G37: 0 | H37: 0 | I37: 0 | J37: Suprojektuota vandentiekio ir nuotekų tinklų, m
A38: 01 | B38: 02 | C38: 09 | D38: Plėsti vandentiekio ir nuotekų tinklus Šlapaberžės kaime | E38: SB | F38: 15 | G38: 15 | H38: 100 | I38: 300 | J38: Parengtos techninės dokumentacijos skaičius / Paklota vandentiekio ir/ ar nuotekų tinklų, m | K38: 1/0 | L38: ~200 | M38: ~450
A39: 01 | B39: 02 | C39: 10 | D39: Įrengti buitinių nuotekų tinklus Aušros k. Ąžuolaičių g. ir Volučių g. | E39: SB | F39: 0 | G39: 0 | H39: 10 | I39: 179 | J39: Parengtos techninės dokumentacijos skaičius /Paklota nuotekų tinklų, m | L39: 1/0 | M39: 1/~ 300
A40: 01 | B40: 02 | C40: 11 | D40: Remontuoti objektus pagal administracijos direktoriaus įsakymus | E40: SB | F40: 30 | G40: 40 | H40: 40 | I40: 40 | J40: Remontuotų objektų skaičius | K40: 6 | L40: 6 | M40: 6
A41: 01 | B41: 02 | C41: 12 | D41: Likviduoti avarinius židinius | E41: SB | F41: 40 | G41: 90 | H41: 40 | I41: 40 | J41: Objektų skaičius, kuriuose likviduoti avariniai židiniai | K41: 8 | L41: 8 | M41: 8
A42: 01 | B42: 02 | C42: 13 | D42: Plėsti vandentiekio ir nuotekų tinklus Pagirių miestelyje | E42: SB | F42: 0 | G42: 0 | H42: 0 | I42: 15 | J42: Parengtos techninės dokumentacijos skaičius | M42: 1
A43: 01 | B43: 02 | C43: 14 | D43: Plėsti vandentiekio ir buitinių nuotekų tinklus Miegėnų kaime | E43: SB | F43: 0 | G43: 0 | H43: 0 | I43: 15 | J43: Parengtos techninės dokumentacijos skaičius | M43: 1
A44: 01 | B44: 02 | C44: 15 | D44: Įrengti buitinių nuotekų tinklus Sirutiškio kaimo Sodų, Vilties, Daškonių gatvėse | E44: PR | F44: 85 | G44: 153 | H44: 0 | I44: 0 | J44: Parengta techninė dokumentacija /Paklota nuotekų tinklų, m | K44: ~450
A45: 01 | B45: 02 | C45: 16 | D45: Parengti Dotnuvos miestelio Tilto ir Vingio g. vandentiekio ir nuotekų tinklų išplėtimo projektą ir atlikti darbus | E45: PR | F45: 12 | G45: 43 | H45: 0 | I45: 34 | J45: Parengtos techninės dokumentacijos skaičius/paklota nuotekų ir vandentiekio tinklų, m | K45: 1/0 | M45: 1/400
E46: SB | F46: 0 | G46: 0 | H46: 0 | I46: 34
E47: ES | F47: 0 | G47: 0 | H47: 0 | I47: 272
A48: 01 | B48: 02 | C48: 17 | D48: Išplėsti vandentiekio ir nuotekų tinklus Lipliūnų k. Greisupio g. | E48: SB | F48: 105 | G48: 132.5 | H48: 0 | I48: 0 | J48: Parengtos techninės dokumentacijos skaičius/paklota nuotekų ir vandentiekio tinklų, m | K48: 1/ ~1740
A49: 01 | B49: 02 | C49: 18 | D49: Išplėsti nuotekų tinklus Aukštųjų Kaplių k. Liepų g. ir įrengti siurblinę | E49: SB | F49: 0 | G49: 0 | H49: 120 | I49: 128 | J49: Parengtos techninės dokumentacijos skaičius/paklota nuotekų tinklų, m | L49: 1/ ~250 | M49: 1/ ~250
A50: 01 | B50: 02 | C50: 19 | D50: Rekonstruoti vandentiekio tinklus Chemikų-Respublikos g. kvartale | E50: PR | F50: 4 | G50: 4 | H50: 0 | I50: 0 | J50: Rekonstruotų vandentiekio tinklų m | K50: ~30
A51: 01 | B51: 02 | C51: 20 | D51: Parengti vandentiekio ir nuotekų tinklų įrengimo Krakių miestelio Klaipėdos, Lauko, Neries, Miško ir P.Lukšio gatvėse techninę dokumentaciją ir atlikti darbus | E51: SB | F51: 327 | G51: 327 | H51: 0 | I51: 0 | J51: Įrengta vandentiekio ir nuotekų tinklų, m | L51: ~3500
E52: PR | F52: 0 | G52: 0 | H52: 150 | I52: 0
A53: 01 | B53: 02 | C53: 21 | D53: Parengti vandentiekio ir nuotekų tinklų išplėtimo Angirių k. techninę dokumentaciją ir atlikti darbus | E53: SB | F53: 100 | G53: 100 | H53: 300 | I53: 251 | J53: Parengtos techninės dokumentacijos skaičius / Išplėsta vandentiekio ir nuotekų tinklų m | K53: 1 / ~300 | L53: 1 / ~1440 | M53: 1 / ~1140
A54: 01 | B54: 02 | C54: 22 | D54: Parengti vandentiekio ir nuotekų tinklų įrengimo Meironiškio k. techninę dokumentaciją | E54: SB | F54: 0 | G54: 0 | H54: 0 | I54: 15 | J54: Parengtos techninės dokumentacijos skaičius | M54: 1
A55: 01 | B55: 02 | C55: 23 | D55: Parengti vandentiekio ir nuotekų tinklų išplėtimo Mantviliškio kaime techninį projektą | E55: SB | F55: 15 | G55: 30 | H55: 0 | I55: 0 | J55: Parengtos techninės dokumentacijos skaičius | K55: 1
A56: 01 | B56: 02 | C56: 24 | D56: Įrengti biologinius ar individualius nuotekų valymo įrenginius | E56: SB | F56: 15 | G56: 15 | H56: 15 | I56: 15 | J56: Įsigytų įrenginių skaičius | K56: 1 | L56: 1 | M56: 1
A57: 01 | B57: 02 | C57: 25 | D57: Parengti buitinių nuotekų tinklų išplėtimo Pavermenio kaime techninį projektą ir atlikti darbus | E57: SB | F57: 12 | G57: 12 | H57: 0 | I57: 0 | J57: Įrengta nuotekų tinklų, m | K57: ~1678
A58: 01 | B58: 02 | C58: 26 | D58: Įrengti vandens gręžinį ir vandentiekio tinklus Gineitų k., Vilainių sen. | E58: SB | F58: 64.8 | G58: 64.8 | H58: 15 | I58: 0 | J58: Įrengtas gręžinys/ pastatytų vandens kolonėlių / gerinimo stočių skaičius / techninio projekto parengimas | K58: 1/1/1 | L58: 1
E59: PR | F59: 0 | G59: 0 | H59: 0 | I59: 0
A60: 01 | B60: 02 | C60: 27 | D60: Įrengti vandens slėgio matavimo ir duomenų perdavimo sistemas Pramonės rajone, Babėnuose ir Vilainiuose | E60: PR | F60: 6 | G60: 6 | H60: 0 | I60: 0 | J60: Įrengtų sistemų skaičius | K60: 1
A61: 01 | B61: 02 | C61: 28 | D61: Išplėsti Krakių valymo įrenginius | E61: PR | F61: 0 | G61: 115 | H61: 0 | I61: 0 | J61: Įrengtų valymo įrenginių skaičius | K61: 1
A62: 01 | B62: 02 | C62: 29 | D62: Suprojektuoti ir įrengti buitinių nuotekų tinklus Krakių mstl. Naujojoje g. , Kauno g., Betygalos g., ir vandentiekio tinklus | E62: PR | F62: 0 | G62: 0 | H62: 12 | I62: 0 | J62: Parengtos techninės dokumentacijos skaičius | L62: 1
A63: 01 | B63: 02 | C63: 30 | D63: Pastatyti vandens gerinimo stotį Saviečių kaime | E63: PR | F63: 0 | G63: 45.4 | H63: 0 | I63: 0 | J63: Pastatytų įrenginių skaičius | K63: 1
A64: 01 | B64: 02 | C64: 31 | D64: Pastatyti vandens gerinimo stotį Taujankoje | E64: PR | F64: 12 | G64: 0 | H64: 12 | I64: 0 | J64: Pastatytų įrenginių skaičius | L64: 1
A65: 01 | B65: 02 | C65: 32 | D65: Perkloti senus vandentiekio tinklus Vainikų kaimo Nevėžio g. kiemuose | E65: PR | F65: 0 | G65: 0 | H65: 18 | I65: 0 | J65: Rekonstruotų vandentiekio tinklų, m | L65: 300
A66: 01 | B66: 02 | C66: 33 | D66: Rekonstruoti nuotekų tinklus nuo Nevėžio g. -Konstruktorių g. sankryžos iki nuotekų siurblinės, Vilainių k. | E66: PR | F66: 0 | G66: 0 | H66: 139 | I66: 0 | J66: Rekonstruotų nuotekų tinklų, m | L66: 650
A67: 01 | B67: 02 | C67: 34 | D67: Rekonstruoti nuotekų tinklus Tuopų g. iki nuotekų siurblinės, Vilainių k. | E67: PR | F67: 0 | G67: 0 | H67: 0 | I67: 15 | J67: Parengtos techninės dokumentacijos skaičius /Rekonstruotų nuotekų tinklų, m | M67: 1/0
A68: 01 | B68: 02 | C68: 35 | D68: Rekonstruoti ir išplėsti Dotnuvos valymo įrenginius | E68: PR | F68: 115 | G68: 140.3 | H68: 0 | I68: 0 | J68: Įrengtų valymo įrenginių skaičius | K68: 1
A69: 01 | B69: 02 | C69: 36 | D69: Suprojektuoti ir įrengti naują geriamojo vandens tinklą Pelėdnagiai-Paobelys | E69: PR | F69: 12 | G69: 12 | H69: 0 | I69: 150 | J69: Parengta techninė dokumentacija /trasos įrengimas, m | K69: 1/0 | M69: ~1200
A70: 01 | B70: 02 | C70: 37 | D70: Rekonstruoti nuotekų siurblių valdymo sistemas Dotnuvos, Beržų pagrindinėse ir Akademijos II siurblinėse | E70: PR | F70: 0 | G70: 0 | H70: 18 | I70: 0 | J70: Įrengtų siurblių valdymo sistemų skaičius | L70: 2
A71: 01 | B71: 02 | C71: 38 | D71: Rekonstruoti vandentiekio tinklą Pelėdnagiuose, Koncevičiaus g. 10 D100 | E71: PR | F71: 4 | G71: 4 | H71: 0 | I71: 0 | J71: Rekonstruotų vandentiekio tinklų, m | K71: ~50
A72: 01 | B72: 02 | C72: 39 | D72: Iškelti vandens tinklą iš privačios valdos Vilniaus g. 30 D200 | E72: PR | F72: 0 | G72: 0 | H72: 0 | I72: 61 | J72: Įrengta vandentiekio tinklų, m | M72: ~160
A73: 01 | B73: 02 | C73: 40 | D73: Perkloti vandentiekio liniją Derliaus g. D400 Kėdainiuose | E73: PR | F73: 0 | G73: 0 | H73: 0 | I73: 60 | J73: Įrengta vandentiekio tinklų, m | M73: ~430
A74: 01 | B74: 02 | C74: 41 | D74: Perkloti vandentiekio liniją Šėtos g 91 D200 Kėdainiuose | E74: PR | F74: 30 | G74: 13 | H74: 0 | I74: 0 | J74: Įrengta vandentiekio tinklų, m | K74: ~200
A75: 01 | B75: 02 | C75: 42 | D75: Rekonstruoti nuotekų tinklus nuo Respublikos-Janušavos g. sankryžos iki nuotekų siurblinės | E75: PR | F75: 0 | G75: 0 | H75: 0 | I75: 15 | J75: Parengtos techninės dokumentacijos skaičius / Rekonstruota nuotekų tinklų, m | M75: 1/0
A76: 01 | B76: 02 | C76: 43 | D76: Išplėsti vandentiekio ir buitinių nuotekų tinklus Dotnuvos sen. Akademijos miestelio Lauko g., Tujų g., Sodų, Pievų, Dobilo, Kranto g. | E76: ES | F76: 0 | G76: 0 | H76: 0 | I76: 119 | J76: Parengtos techninės dokumentacijos skaičius / Įrengta vandentiekio ir nuotekų tinklų, m | M76: 1/~300
E77: PR | F77: 12 | G77: 12 | H77: 0 | I77: 17
E78: SB | F78: 0 | G78: 0 | H78: 0 | I78: 17
A79: 01 | B79: 02 | C79: 44 | D79: Įrengti naują vandens gręžinį, nugeležinimo stotį ir nuotekų siurblinę Šėtoje | E79: PR | F79: 40 | G79: 40 | H79: 0 | I79: 0 | J79: Įrengta gręžinių/ pastatytų stočių/ siurblinių skaičius | K79: 1/1
A80: 01 | B80: 02 | C80: 45 | D80: Pastatyti vandens gerinimo stotį Paežerių km. | E80: PR | F80: 0 | G80: 0 | H80: 18 | I80: 0 | J80: Pastatytų įrenginių skaičius | L80: 1
A81: 01 | B81: 02 | C81: 46 | D81: Rekonstruoti vandenvietės elektros pastotės skydinės 2 įvadą (Dotnuvos g. 5) | E81: PR | F81: 0 | G81: 0 | H81: 85 | I81: 0 | J81: Rekonstruotų el. pastočių | L81: 1
A82: 01 | B82: 02 | C82: 47 | D82: Parengti vandentiekio ir nuotekų tinklų, nuotekų valyklos įrengimo Langakių k. techninį projektą | E82: SB | F82: 17 | G82: 17 | H82: 0 | I82: 0 | J82: Parengtos techninės dokumentacijos skaičius | K82: 1
A83: 01 | B83: 02 | C83: 48 | D83: Suprojektuoti naujus vandentiekio tinklus Kęstučio-Birutės gatvėse | E83: PR | F83: 12 | G83: 12 | H83: 0 | I83: 0 | J83: Parengtos techninės dokumentacijos skaičius | K83: 1
A84: 01 | B84: 02 | C84: 49 | D84: Rekonstruoti Kęstučio g. nuotekų siurblinę | E84: PR | F84: 14 | G84: 17 | H84: 0 | I84: 0 | J84: Rekonstruotų siurblinių skaičius | K84: 1
A85: 01 | B85: 02 | C85: 50 | D85: Parengti nuotekų tinklų įrengimo Josvainių mstl. P.Cvirkos g. projektą | E85: SB | F85: 10 | G85: 9 | H85: 0 | I85: 0 | J85: Parengtos techninės dokumentacijos skaičius | K85: 1
A86: 01 | B86: 02 | C86: 51 | D86: Rekonstruoti miesto pramoninę siurblinę | E86: PR | F86: 0 | G86: 19 | H86: 0 | I86: 0 | J86: Rekonstruotų siurblinių skaičius | K86: 1
A87: 01 | B87: 02 | C87: 52 | D87: Rekonstruoti Dariaus ir Girėno g. nuotekų tinklus | E87: PR | F87: 0 | G87: 20 | H87: 0 | I87: 0 | J87: Rekonstruotų nuotekų tinklų , m | K87: 112
A88: 01 | B88: 02 | C88: 53 | D88: Sužiedinti vandentiekio tinklą Lančiūnavos km, Alksnių-Užvalkių g. | E88: PR | F88: 0 | G88: 30 | H88: 0 | I88: 0 | J88: Įrengta vandentiekio tinklų, m | K88: 320
A89: 01 | B89: 02 | C89: 54 | D89: Rekonstruoti Josvainių miestelio nuotekų tinklus Paliepių, Topolių , Labūnavos g | E89: PR | F89: 0 | G89: 73.5 | H89: 0 | I89: 0 | J89: Rekonstruotų nuotekų tinklų , m | K89: 365
A90: 01 | B90: 02 | C90: Iš viso 02 uždaviniui | F90: =SUM(F21:F89) -> 3704.2 | G90: =SUM(G21:G89) -> 3960.1 | H90: =SUM(H21:H89) -> 1858.3 | I90: =SUM(I21:I89) -> 1962
E91: Iš viso SB | F91: =+F56+F54+F53+F51+F49+F48+F42+F41+F40+F39+F38+F37+F34+F31+F28+F25+F22+F21+F43+F55+F58+F36+F82+F78+F85+F46+F57 -> 1335.8 | G91: =+G56+G54+G53+G51+G49+G48+G42+G41+G40+G39+G38+G37+G34+G31+G28+G25+G22+G21+G43+G55+G58+G36+G82+G78+G85+G46+G57 -> 1426 | H91: =+H56+H54+H53+H51+H49+H48+H42+H41+H40+H39+H38+H37+H34+H31+H28+H25+H22+H21+H43+H55+H58+H36+H82+H78+H85+H46+H57 -> 1125.3 | I91: =+I56+I54+I53+I51+I49+I48+I42+I41+I40+I39+I38+I37+I34+I31+I28+I25+I22+I21+I43+I55+I58+I36+I82+I78+I85+I46+I57 -> 1219
E92: Iš viso ES | F92: =+F76+F47+F32+F29+F26+F23 -> 1357 | G92: =+G76+G47+G32+G29+G26+G23 -> 1154.4 | H92: =+H76+H47+H32+H29+H26+H23 -> 202.6 | I92: =+I76+I47+I32+I29+I26+I23 -> 391
E93: Iš viso PR | F93: =+F81+F80+F79+F77+F74+F73+F72+F71+F70+F69+F68+F66+F65+F64+F63+F62+F61+F60+F59+F52+F50+F45+F44+F35+F33+F27+F24+F30+F83+F84+F75+F67+F86+F87+F88+F89 -> 1011.4 | G93: =+G81+G80+G79+G77+G74+G73+G72+G71+G70+G69+G68+G66+G65+G64+G63+G62+G61+G60+G59+G52+G50+G45+G44+G35+G33+G27+G24+G30+G83+G84+G75+G67+G86+G87+G88+G89 -> 1379.7 | H93: =+H81+H80+H79+H77+H74+H73+H72+H71+H70+H69+H68+H66+H65+H64+H63+H62+H61+H60+H59+H52+H50+H45+H44+H35+H33+H27+H24+H30+H83+H84+H75+H67+H86+H87+H88+H89 -> 530.4 | I93: =+I81+I80+I79+I77+I74+I73+I72+I71+I70+I69+I68+I66+I65+I64+I63+I62+I61+I60+I59+I52+I50+I45+I44+I35+I33+I27+I24+I30+I83+I84+I75+I67+I86+I87+I88+I89 -> 352
E94: Iš viso SK
E95: Iš viso AA
E96: Iš viso VB
A97: 03 uždavinys. Atnaujinti ir (arba) plėsti miesto ir rajono gatvių, kelių, viešųjų teritorijų apšvietimą, naudojant energiją taupančias priemones
A98: 01 | B98: 03 | C98: 01 | D98: Rekonstruoti/įrengti/modernizuoti Kėdainių miesto gatvių apšvietimą | E98: SB | F98: 5 | G98: 21 | H98: 30 | I98: 50 | J98: Oro kabelinės linijos įrengimas, m / pakeistų atramų/šviestuvų skaičius | K98: 400/10/ 10 | L98: 300/ 15/ 15 | M98: 300/ 15/ 15
A99: 01 | B99: 03 | C99: 02 | D99: Įgyvendinti projektą "Kėdainių gatvių apšvietimo modernizavimas" | E99: SB | F99: 100 | G99: 150 | H99: 34 | I99: 0 | J99: Modernizuotų šviestuvų skaičius / planuojamas elektros energijos sutaupymas, proc. | K99: 793/43
E100: SK | F100: 0 | G100: 0 | H100: 0 | I100: 0
E101: ES | F101: 100 | G101: 150 | H101: 34 | I101: 0
A102: 01 | B102: 03 | C102: 03 | D102: Rekonstruoti/įrengti/modernizuoti Kėdainių rajono gatvių apšvietimą | E102: SB | F102: 30 | G102: 40 | H102: 20 | I102: 20 | J102: Oro kabelinės linijos įrengimas, m / pakeistų atramų/šviestuvų skaičius | K102: 860/5/ 25 | L102: 300/25/ 25 | M102: 300/25/ 25
A103: 01 | B103: 03 | C103: 04 | D103: Eksploatuoti, prižiūrėti ir remontuoti gatvių apšvietimo tinklus seniūnijose | E103: SB | F103: 390.4 | G103: 402.4 | H103: 415 | I103: 425 | J103: Seniūnijų, kuriose vykdyta gatvių apšvietimo tinklų priežiūra ir remontas, skaičius | K103: 11 | L103: 11 | M103: 11
...

Sheet 08aplinkosauga
K1: 8 priedas
A2: 8 lentelė. 2022–2024 m. Aplinkos apsaugos programos (08) tikslai, uždaviniai, priemonės, asignavimai ir vertinimo kriterijai
J3: tūkst. Eur
A4: Programos tikslo kodas | B4: Uždavinio kodas | C4: Priemonės kodas | D4: Priemonės pavadinimas | E4: Finansavimo šaltinis | F4: *2022-ųjų m. asignavimai | G4: Patikslinti 2022-ųjų m. asignavimai | H4: Numatomi 2023-ųjų m. asignavimai | I4: Numatomi 2024-ųjų m. asignavimai | J4: Vertinimo kriterijai
J5: Pavadinimas
K6: 2022 -ieji m. | L6: 2023 -ieji m. | M6: 2024 -ieji m.
A9: 08 APLINKOS APSAUGA
A10: 01 | B10: Įgyvendinti Aplinkos apsaugos rėmimo specialiosios programos finansuojamas priemones
A11: 01 | B11: 01 | C11: Gerinti aplinkos kokybę ir apsaugą
A12: 01 | B12: 01 | C12: 01 | D12: Įgyvendinti aplinkos kokybės gerinimo ir apsaugos priemones | E12: AA | F12: 69.1 | G12: 69.1 | H12: 65 | I12: 65 | J12: Įgyvendinamų priemonių skaičius | K12: 5 | L12: 5 | M12: 5
E13: SBVB | F13: 8.2 | G13: 8.2 | H13: 7.2 | I13: 0
A14: 01 | B14: 01 | C14: 02 | D14: Įgyvendinti aplinkos atkūrimo, prevencines priemones, tvarkant vandens telkinius, jų pakrantes, vykdyti atliekų tvarkymo infrastruktūros plėtros priemones | E14: AA | F14: 64.3 | G14: 64.3 | H14: 65 | I14: 100 | J14: Įgyvendintų priemonių skaičius | K14: 5 | L14: 5 | M14: 6
A15: 01 | B15: 01 | C15: 03 | D15: Vykdyti aplinkos oro, paviršinio ir požeminio vandens, dirvožemio ir triukšmo stebėseną Kėdainių mieste ir rajone (įskaitant pramonės rajoną) | E15: AA | F15: 25.5 | G15: 25.5 | H15: 25.5 | I15: 25.5 | J15: Tiriamų parametrų skaičius | K15: 5 | L15: 5 | M15: 5
A16: 01 | B16: 01 | C16: 04 | D16: Įgyvendinti želdynų ir želdinių apsaugos, tvarkymo, būklės stebėsenos, želdynų kūrimo, želdinių veisimo ir inventorizavimo priemones | E16: AA | F16: 102 | G16: 102 | H16: 80 | I16: 80 | J16: Seniūnijų skaičius, kuriose įgyvendinamos želdynų ir želdinių apsaugos, tvarkymo, būklės stebėsenos, želdynų kūrimo, želdinių veisimo ir inventorizavimo priemonės | K16: 11 | L16: 11 | M16: 11
A17: 01 | B17: 01 | C17: Iš viso uždaviniui | F17: =SUM(F12:F16) -> 269.1 | G17: =SUM(G12:G16) -> 269.1 | H17: =SUM(H12:H16) -> 242.7 | I17: =SUM(I12:I16) -> 270.5
A18: 01 | B18: 02 | C18: Vykdyti žalos aplinkai prevenciją
A19: 01 | B19: 02 | C19: 01 | D19: Įgyvendinti prevencinės priemones, kuriomis siekiama išvengti medžiojamųjų gyvūnų daromos žalos miškui | E19: AA | F19: 59.4 | G19: 59.4 | H19: 59 | I19: 59 | J19: Finansuotos medžiojamų gyvūnų daromos žalos prevencijos ir kitos priemonės (paraiškų sk.) | K19: 4 | L19: 4 | M19: 4
A20: 01 | B20: 02 | C20: Iš viso uždaviniui | F20: =+F19 -> 59.4 | G20: =+G19 -> 59.4 | H20: =+H19 -> 59 | I20: =+I19 -> 59
A21: 01 | B21: 03 | C21: Skatinti aplinkos apsaugos iniciatyvas, vykdyti gyventojų aplinkosauginį švietimą
A22: 01 | B22: 03 | C22: 01 | D22: Įgyvendinti visuomenės aplinkosauginio švietimo priemones | E22: AA | F22: 6 | G22: 6 | H22: 10 | I22: 10 | J22: Surengtų akcijų, seminarų, viešinimo priemonių skaičius | K22: 7 | L22: 7 | M22: 7
A23: 01 | B23: 03 | C23: 02 | D23: Finansuoti konkursą "Gražiausiai tvarkoma aplinka" | E23: AA | F23: 6 | G23: 6 | H23: 6 | I23: 6 | J23: Išrinktų gražiausiai besitvarkančių aplinką savininkų skaičius | K23: 10 | L23: 10 | M23: 10
A24: 01 | B24: 03 | C24: 03 | D24: Įsigyti priemonių, susijusių su visuomenės informavimu ir ekologiniu švietimu, kitos išlaidos | E24: AA | F24: 5.9 | G24: 5.9 | H24: 6 | I24: 6 | J24: Prenumeruojamų leidinių skaičius | K24: 4 | L24: 4 | M24: 4
A25: 01 | B25: 02 | C25: Iš viso uždaviniui | F25: =SUM(F22:F24) -> 17.9 | G25: =SUM(G22:G24) -> 17.9 | H25: =SUM(H22:H24) -> 22 | I25: =SUM(I22:I24) -> 22
A26: 01 | B26: Iš viso tikslui | F26: =+F25+F20+F17 -> 346.4 | G26: =+G25+G20+G17 -> 346.4 | H26: =+H25+H20+H17 -> 323.7 | I26: =+I25+I20+I17 -> 351.5
A27: 02 | B27: Tobulinti atliekų tvarkymo bei aplinkos išsaugojimo sistemą, gerinti kraštovaizdžio apsaugą
A28: 02 | B28: 01 | C28: Tinkamai tvarkyti komunalines atliekas, palaikyti tvarką ir švarą rajono bendrojo naudojimo teritorijose
A29: 02 | B29: 01 | C29: 01 | D29: Vykdyti atliekų tvarkymo sistemos organizavimo funkciją | E29: SB | F29: 1720 | G29: 1720 | H29: 1750 | I29: 1750 | J29: Surinktų atliekų (bendras) kiekis, tūkst. t. | K29: 16.6 | L29: 16.3 | M29: 16.3
A30: 02 | B30: 01 | C30: 02 | D30: Prižiūrėti ir tvarkyti bendro naudojimo teritorijas, įsigyti teritorijų priežiūrai reikalingą įrangą | E30: SB | F30: 2636.5 | G30: 2787.2 | H30: 2750 | I30: 2900
E31: ĮP | F31: 6.3 | G31: 6.3 | H31: 6.3 | I31: 6.3
A32: 02 | B32: 01 | C32: 03 | D32: Finansuoti žvyro įsigijimą seniūnijų keliams prižiūrėti | E32: SB | F32: 230 | G32: 230 | H32: 230 | I32: 230 | J32: Prižiūrimų žvyrkelių ilgis, km | K32: ~40 | L32: ~40 | M32: ~40
A33: 02 | B33: 01 | C33: 04 | D33: Atnaujinti ir plėsti komunalinių atliekų tvarkymo infrastruktūrą Kėdainių rajono savivaldybėje | E33: SB | F33: 74.3 | G33: 225.3 | H33: 0 | I33: 0 | J33: Įrengtų/atnaujintų požeminių, pusiau požeminių ir antžeminių konteinerių aikštelių skaičius | K33: 35
E34: SK | F34: 0 | G34: 0 | H34: 0 | I34: 0
E35: ES | F35: 439 | G35: 439 | H35: 0 | I35: 0
A36: 02 | B36: 01 | C36: 05 | D36: Sutvarkyti naudotas padangas, kurių turėtojų nustatyti neįmanoma arba kurie neegzistuoja | E36: SB | F36: 0 | G36: 27 | H36: 0 | I36: 0 | J36: |Sutvarkyta nadotų padangų, t | K36: 182
A37: 02 | B37: 01 | C37: 06 | D37: Sutvarkyti namų ūkiuose susidariusias asbesto atliekas | E37: SB | F37: 0 | G37: 37 | H37: 0 | I37: 0 | J37: Sutvarkyta asbesto atliekų, t. | K37: 130
A38: 02 | B38: 01 | C38: 07 | D38: Įsigyti tekstilės atliekų surinkimo konteinerius Kėdainių rajono savivaldybėje | E38: SB | F38: 0 | G38: 53 | H38: 0 | I38: 0 | J38: Įsigytų konteinerių skaičius | K38: 39
A39: 02 | B39: 01 | C39: Iš viso uždaviniui | F39: =SUM(F29:F38) -> 5106.1 | G39: =SUM(G29:G38) -> 5524.8 | H39: =SUM(H29:H38) -> 4736.3 | I39: =SUM(I29:I38) -> 4886.3
A40: 02 | B40: 02 | C40: Gerinti kraštovaizdžio apsaugą bei didinti jo patrauklumą
A41: 02 | B41: 02 | C41: 01 | D41: Likviduoti apleistus (bešeimininkius ar savivaldybei nuosavybės teise priklausančius) pastatus ir kitus aplinką žalojančius objektus | E41: SB | F41: 21 | G41: 21 | H41: 10 | I41: 10 | J41: Likviduotų apleistų bešeimininkių pastatų skaičius | K41: 17 | L41: 2 | M41: 2
E42: ES | F42: 116 | G42: 116 | H42: 0 | I42: 0
A43: 02 | B43: 02 | C43: 02 | D43: Sutvirtinti pažeistus Dotnuvėlės upelio krantus | E43: AA | F43: 30 | G43: 30 | H43: 40 | I43: 0 | J43: Atliktų einamaisiais metais numatytų darbų, proc. | K43: 100 | L43: 100
A44: 02 | B44: 02 | C44: 03 | D44: Vykdyti Krakių tvenkinio valymo darbus | E44: SB | F44: 0 | G44: 0 | H44: 142 | I44: 135.3 | J44: Atliktų, einamaisiais metais numatytų darbų, proc. | L44: 100 | M44: 100
A45: 02 | B45: 02 | C45: 04 | D45: Vykdyti bešeimininkių ir bepriežiūrių gyvūnų surinkimą, gaudymą bei karantinavimą | E45: SB | F45: 35 | G45: 35 | H45: 35 | I45: 35 | J45: Surinktų beglobių gyvūnų skaičius | K45: 80 | L45: 80 | M45: 80
A46: 02 | B46: 02 | C46: 05 | D46: Organizuoti Gyvūnų globos organizacijų rengiamų bešeimininkių kačių kastravimo programų įgyvendinimą | E46: SB | F46: 5 | G46: 5 | H46: 5 | I46: 5 | J46: Kastruotų bešeimininkių kačių skaičius | K46: 180 | L46: 160 | M46: 150
A47: 02 | B47: 02 | C47: 06 | D47: Vykdyti gyvūnų augintinių gerovės ir apsaugos 2020-2024 m. prevencinę programą | E47: SB | F47: 2.5 | G47: 2.5 | H47: 2.5 | I47: 2.5 | J47: Bepriežiūrių ir bešeimininkių gyvūnų skaičiaus mažėjimas (lyginant su praėjusiais metais), proc. | K47: 6 | L47: 7 | M47: 8
E48: PR | F48: 3.5 | G48: 3.5 | H48: 3.5 | I48: 3.5
A49: 02 | B49: 02 | C49: 07 | D49: Įrengti vandens transporto priemonių nuleidimo vietą Angirių tvenkinyje | E49: SB | F49: 0 | G49: 0 | H49: 0 | I49: 0 | J49: Įrengtų aplinkai draugiškų priemonių skaičius | K49: 1
E50: SBVB | F50: 25 | G50: 25 | H50: 0 | I50: 0
A51: 02 | B51: 02 | C51: Iš viso uždaviniui | F51: =SUM(F41:F50) -> 238 | G51: =SUM(G41:G50) -> 238 | H51: =SUM(H41:H50) -> 238 | I51: =SUM(I41:I50) -> 191.3
A52: 02 | B52: Iš viso tikslui | F52: =+F51+F39 -> 5344.1 | G52: =+G51+G39 -> 5762.8 | H52: =+H51+H39 -> 4974.3 | I52: =+I51+I39 -> 5077.6
A53: Iš viso programai | F53: =+F52+F26 -> 5690.5 | G53: =+G52+G26 -> 6109.2 | H53: =+H52+H26 -> 5298 | I53: =+I52+I26 -> 5429.1
A54: iš jų:
A55: SAVIVALDYBĖS LĖŠOS | F55: =SUM(F56:F61) -> 5132 | G55: =SUM(G56:G61) -> 5550.7 | H55: =SUM(H56:H61) -> 5294.5 | I55: =SUM(I56:I61) -> 5425.6
A56: Savivaldybės biudžetas SB | F56: =+F47+F46+F45+F41+F33+F32+F30+F29+F49+F44+F38+F37+F36 -> 4724.3 | G56: =+G47+G46+G45+G41+G33+G32+G30+G29+G49+G44+G38+G37+G36 -> 5143 | H56: =+H47+H46+H45+H41+H33+H32+H30+H29+H49+H44+H38+H37+H36 -> 4924.5 | I56: =+I47+I46+I45+I41+I33+I32+I30+I29+I49+I44+I38+I37+I36 -> 5067.8
A57: Valstybės biudžeto specialiosios tikslinės dotacijos lėšos SBVB | F57: =+F50+F13 -> 33.2 | G57: =+G50+G13 -> 33.2 | H57: =+H50+H13 -> 7.2 | I57: =+I50+I13 -> 0
A58: Aplinkos apsaugos rėmimo specialiosios programos lėšos AA | F58: =+F24+F23+F22+F19+F16+F15+F14+F12+F43 -> 368.2 | G58: =+G24+G23+G22+G19+G16+G15+G14+G12+G43 -> 368.2 | H58: =+H24+H23+H22+H19+H16+H15+H14+H12+H43 -> 356.5 | I58: =+I24+I23+I22+I19+I16+I15+I14+I12+I43 -> 351.5
A59: Iš pajamų už suteiktas paslaugas lėšos ĮP | F59: =+F31 -> 6.3 | G59: =+G31 -> 6.3 | H59: =+H31 -> 6.3 | I59: =+I31 -> 6.3
A60: Skolintos lėšos SK | F60: =+F34 -> 0 | G60: =+G34 -> 0 | H60: =+H34 -> 0 | I60: =+I34 -> 0
A61: Kelių priežiūros ir plėtros programos lėšos KPP
A62: KITOS LĖŠOS | F62: =SUM(F63:F66) -> 558.5 | G62: =SUM(G63:G66) -> 558.5 | H62: =SUM(H63:H66) -> 3.5 | I62: =SUM(I63:I66) -> 3.5
A63: Europos Sąjungos lėšos, užsienio fondų lėšos ES | F63: =+F42+F35 -> 555 | G63: =+G42+G35 -> 555 | H63: =+H42+H35 -> 0 | I63: =+I42+I35 -> 0
A64: Valstybės biudžeto lėšos VB
A65: Privačios – investuotojų lėšos PR | F65: =+F48 -> 3.5 | G65: =+G48 -> 3.5 | H65: =+H48 -> 3.5 | I65: =+I48 -> 3.5
A66: Kiti finansavimo šaltiniai KT
A67: *Patvirtinta 2022 m. vasario 18 d. rajono tarybos sprendimu Nr.TS-1

Sheet 09ž.ū.
K1: 9 priedas
A2: 9 lentelė. 2022–2024 m. Žemės ūkio plėtros ir melioracijos programos (09) tikslai, uždaviniai, priemonės, asignavimai ir vertinimo kriterijai
J3: tūkst. Eur
A4: Programos tikslo kodas | B4: Uždavinio kodas | C4: Priemonės kodas | D4: Priemonės pavadinimas | E4: Finansavimo šaltinis | F4: * 2022-ųjų m. asignavimai | G4: Patikslinti 2022-ųjų m. asignavimai | H4: Numatomi 2023-ųjų m. asignavimai | I4: Numatomi 2024-ųjų m. asignavimai | J4: Vertinimo kriterijai
J5: Pavadinimas
K6: 2022 -ieji m. | L6: 2023 -ieji m. | M6: 2024 -ieji m.
A9: 09 ŽEMĖS ŪKIO PLĖTRA IR MELIORACIJA
A10: 01 | B10: Įgyvendinti Savivaldybės teritorijoje valstybės politiką kaimo plėtros, žemės ūkio ir melioracijos srityse, sudaryti sąlygas inovatyvaus žemės ūkio vystymui
A11: 01 | B11: 01 | C11: Vykdyti valstybinių (valstybės perduotas savivaldybėms) funkcijas žemės ūkio srityje, konsultuojant rajono asmenis ūkininkavimo, melioracijos, žemės ūkio technikos registravimo ir kitais su žemės ūkiu susijusiais klausimais
A12: 01 | B12: 01 | C12: 01 | D12: Organizuoti ir užtikrinti Žemės ūkio ir aplinkosaugos skyriaus darbą, kuruojant valstybės perduotas savivaldybėms funkcijas žemės ūkio srityje | E12: SBVB | F12: 190.7 | G12: 190.7 | H12: 200 | I12: 200 | J12: Įregistruotų žemės ūkio valdų skaičius (įregistravimas, išregistravimas, kasmetinis duomenų atnaujinimas) | K12: 2680 | L12: 2660 | M12: 2640
J13: Įregistruotų ūkininkų ūkių skaičius (įregistravimas, išregistravimas, duomenų atnaujinimas) | K13: 1750 | L13: 1700 | M13: 1690
J14: Paramos už žemės ūkio naudmenas ir kitus plotus bei gyvulius priimtų paraiškų skaičius (pasėlių deklaracijos pildymas, deklaruojamų laukų įbraižymas, duomenų keitimas, pasikeitusių KŽS ribų aprašymas) | K14: 2020 | L14: 2000 | M14: 2000
J18: Prašymų dėl medžiojamųjų gyvūnų padarytos žalos nustatymo skaičius (pasėliams, miškui padarytos žalos įvertinimas vietoje ir apžiūros aktų surašymas, sprendimų paruošimas) | K18: 30 | L18: 30 | M18: 30
J19: Pateiktų paraiškų dalies draudimo įmokų kompensacijai gauti skaičius (augalų draudimas nuo nepalankių oro sąlygų; paraiškų priėmimas, duomenų sutikrinimas, kompensuojamos sumos apskaičiavimas, duomenų suvedimas į ŽŪMIS ir KOTIS) | K19: 90 | L19: 90 | M19: 90
J20: Paramos paraiškų pagal Lietuvos kaimo plėtros 2014–2020 metų programos priemonės „Rizikos valdymas“ veiklos srities ,,Pasėlių, gyvūnų ir augalų draudimo įmokos“, susijusios su pasėlių ir augalų, ūkinių gyvūnų draudimo įmokų kompensavimu, skaičius | K20: 55 | L20: 55 | M20: 55
J21: Paraiškų už papildomą bičių maitinimą skaičius | K21: 125 | L21: 125 | M21: 125
J22: Pieno gamybos ir realizavimo metinių deklaracijų skaičius | K22: 37 | L22: 50 | M22: 50
J23: Aptarnaujamos žemės ūkio technikos, įregistruotos rajone, skaičius | K23: 7200 | L23: 7200 | M23: 7200
J24: Atliktų techninių apžiūrų skaičius | K24: 800 | L24: 2800 | M24: 2800
A25: 01 | B25: 01 | C25: 02 | D25: Tvarkyti erdvinių duomenų rinkinį | E25: SBVB | F25: 22.1 | G25: 22.1 | H25: 22.1 | I25: 22.1 | J25: Erdvinių duomenų rinkinio tvarkymo užtikrinimas, proc. | K25: 100 | L25: 100 | M25: 100
A26: 01 | B26: 01 | C26: 03 | D26: Teikti Metų žemdirbio apdovanojimą | E26: SB | F26: 3 | G26: 3 | H26: 3 | I26: 3 | J26: Įteiktų apdovanojimų skaičius | K26: 1 | L26: 1 | M26: 1
A27: 01 | B27: 01 | C27: Iš viso uždaviniui | F27: =+F12+F25+F26 -> 215.8 | G27: =+G12+G25+G26 -> 215.8 | H27: =+H12+H25+H26 -> 225.1 | I27: =+I12+I25+I26 -> 225.1
A28: 01 | B28: 02 | C28: Vykdyti valstybines (perduotas savivaldybėms) funkcijas melioracijos srityje, rekonstruojant remontuojant ir (arba) atnaujinant valstybei nuosavybės teise priklausančią melioracijos, hidrotechnikos infrastruktūrą Kėdainių rajono savivaldybės teritorijoje
A29: 01 | B29: 02 | C29: 01 | D29: Gerinti hidrotechninių statinių ir kitų melioracijos sistemų būklę | E29: SBVB | F29: 358 | G29: 358 | H29: 400 | I29: 400 | J29: Remontuojamų, prižiūrimų melioracijos griovių ilgis, km | K29: 40 | L29: 45 | M29: 45
A30: 01 | B30: 02 | C30: 02 | D30: Rengti projektus ir remontuoti gyvenviečių lietaus nuotekų-drenažų sistemas | E30: SB | F30: 60 | G30: 125 | H30: 60 | I30: 60 | J30: Gyvenviečių, kuriose atlikti drenažo remonto darbai, skaičius | K30: 15 | L30: 12 | M30: 12
A31: 01 | B31: 02 | C31: 03 | D31: Vykdyti Kėdainių rajono Saviečių kadastrinės vietovės Mėklos sausinimo sistemos melioracijos griovių ir juose esančių statinių rekonstrukciją | E31: VB | F31: 50 | G31: 0 | H31: 291 | I31: 200 | J31: Rekonstruotų griovių ilgis, km | M31: 15.9
A32: 01 | B32: 02 | C32: 04 | D32: Parengti projektus ir atnaujinti hidrotechninius įrenginius | E32: SB | F32: 10 | G32: 14 | H32: 100 | I32: 150 | J32: Parengtų projektų skaičius/rekonstruojamų hidrotechnikos įrenginių skaičius | K32: 3/0 | L32: 3/3 | M32: 2
E33: SBVB | F33: 0 | G33: 0 | H33: 210 | I33: 300
A34: 01 | B34: 02 | C34: 05 | D34: Vykdyti Kėdainių rajono Truskavos kadastrinės vietovės Linkuvės susinimo sistemos melioracijos griovių ir juose esančių statinių rekonstrukciją | E34: VB | F34: 0 | G34: 0 | H34: 217.8 | I34: 0 | J34: Rekonstruotų griovių ilgis, km | L34: 15.943
A35: 01 | B35: 02 | C35: Iš viso uždaviniui | F35: =SUM(F29:F34) -> 478 | G35: =SUM(G29:G34) -> 497 | H35: =SUM(H29:H34) -> 1278.8 | I35: =SUM(I29:I34) -> 1110
A36: 01 | B36: Iš viso tikslui | F36: =+F35+F27 -> 693.8 | G36: =+G35+G27 -> 712.8 | H36: =+H35+H27 -> 1503.9 | I36: =+I35+I27 -> 1335.1
A37: Iš viso programai | F37: =+F36 -> 693.8 | G37: =+G36 -> 712.8 | H37: =+H36 -> 1503.9 | I37: =+I36 -> 1335.1
A38: iš jų:
A39: SAVIVALDYBĖS LĖŠOS | F39: =+F40+F41 -> 643.8 | G39: =+G40+G41 -> 712.8 | H39: =+H40+H41 -> 995.1 | I39: =+I40+I41 -> 1135.1
A40: Savivaldybės biudžetas SB | F40: =+F30+F32+F26 -> 73 | G40: =+G30+G32+G26 -> 142 | H40: =+H30+H32+H26 -> 163 | I40: =+I30+I32+I26 -> 213
A41: Valstybės biudžeto specialiosios tikslinės dotacijos lėšos SBVB | F41: =+F29+F25+F12+F33 -> 570.8 | G41: =+G29+G25+G12+G33 -> 570.8 | H41: =+H29+H25+H12+H33 -> 832.1 | I41: =+I29+I25+I12+I33 -> 922.1
A42: Aplinkos apsaugos rėmimo specialiosios programos lėšos AA
A43: Iš pajamų už suteiktas paslaugas lėšos ĮP
A44: Skolintos lėšos SK
A45: Kelių priežiūros ir plėtros programos lėšos KPP
A46: KITOS LĖŠOS | F46: =SUM(F47:F50) -> 50 | G46: =SUM(G47:G50) -> 0 | H46: =SUM(H47:H50) -> 508.8 | I46: =SUM(I47:I50) -> 200
A47: Europos Sąjungos lėšos, užsienio fondų lėšos ES
A48: Valstybės biudžeto lėšos VB | F48: =+F31+F34 -> 50 | G48: =+G31+G34 -> 0 | H48: =+H31+H34 -> 508.8 | I48: =+I31+I34 -> 200
A49: Privačios – investuotojų lėšos PR
A50: Kiti finansavimo šaltiniai KT
A51: *Patvirtinta 2022 m. vasario 18 d. rajono tarybos sprendimu Nr.TS-1

Sheet 10verslas
K1: 10 priedas
A2: 10 lentelė. 2022–2024 m. Paramos verslui bei verslo plėtros programos (10) tikslai, uždaviniai, priemonės, asignavimai ir vertinimo kriterijai
J3: tūkst. Eur
A4: Programos tikslo kodas | B4: Uždavinio kodas | C4: Priemonės kodas | D4: Priemonės pavadinimas | E4: Finansavimo šaltinis | F4: *2022-ųjų m. asignavimai | G4: Patikslinti 2022-ųjų m. asignavimai | H4: Numatomi 2023-ųjų m. asignavimai | I4: Numatomi 2024-ųjų m. asignavimai | J4: Vertinimo kriterijai
J5: Pavadinimas
K6: Patikslinti 2022 -ieji m. | L6: 2023 -ieji m. | M6: 2024 -ieji m.
A9: 10 PARAMA VERSLUI IR VERSLO PLĖTRA
A10: 01 | B10: Gerinti verslo paramos bei informavimo sistemą, plėtoti viešojo ir privataus sektorių bendradarbiavimą, gyventojų verslumą
A11: 01 | B11: 01 | C11: Stiprinti savivaldybės institucijų ir verslo įmonių bendradarbiavimą rengiant, įgyvendinant bendrus projektus
A12: 01 | B12: 01 | C12: 01 | D12: Finansuoti VšĮ Kėdainių turizmo ir verslo informacijos centro viešųjų paslaugų verslui programą: | E12: SB | F12: 36 | G12: 36 | H12: 36 | I12: 38 | J12: Suteiktų informacinių, konsultacinių paslaugų ūkio subjektams ir asmenims pagal paklausimus skaičius, vnt. | K12: 900 | L12: 900 | M12: 1000
A13: 01 | B13: 01 | C13: 01.01 | D13: techninės ir metodinės pagalbos rajono verslininkams, verslo įmonėms, asmenims, ketinantiems pradėti verslą, investuotojams teikimas | J13: Paklausimų, telefonu internetu, centre teikimas, val. | K13: 300 | L13: 300 | M13: 300
A14: 01 | B14: 01 | C14: 01.02 | D14: Kėdainių rajono savivaldybės smulkaus verslo rėmimo fondo administravimas | J14: Konsultuotų subjektų skaičius | K14: 110 | L14: 110 | M14: 140
A15: 01 | B15: 01 | C15: 01.03 | D15: savivaldybės įmonių duomenų bazės atnaujinimas, verslo situacijos analizė, duomenų apdorojimas ir viešinimas | E15: PR | F15: 80 | G15: 80 | H15: 80 | I15: 85 | J15: Verslo aplinkos statistikos duomenų analizė, val. | K15: 10 | L15: 10 | M15: 10
A16: 01 | B16: 01 | C16: 01.04 | D16: viešojo ir privataus sektorių bendravimo skatinimas, susitikimų, forumų organizavimas | J16: Organizuotų, inicijuotų susitikimų skaičius | K16: 2 | L16: 2 | M16: 2
A17: 01 | B17: 01 | C17: 01.05 | D17: savivaldybės administracijos, Kėdainių TVIC ir verslą vienijančių asociacijų bendradarbiavimo stiprinimas
A18: 01 | B18: 01 | C18: 02 | D18: Teikti finansinę paramą verslą pradedantiems ar sunkumų patiriantiems SVV subjektams Kėdainių rajone per Savivaldybės smulkiojo verslo rėmimo fondą | E18: KT (FL) | F18: 32.7 | G18: 32.7 | H18: 0 | I18: 0 | J18: Subjektų, kuriems suteikta finansinė parama, skaičius | K18: 49 | L18: 48 | M18: 48
E19: SB | F19: 70 | G19: 70 | H19: 100 | I19: 100
A20: 01 | B20: 01 | C20: 03 | D20: Organizuoti ir viešinti verslumą skatinančius, gerąją verslo patirtį viešinančius renginius Kėdainių rajone | E20: SB | F20: 3 | G20: 3 | H20: 3 | I20: 3 | J20: Suorganizuotas verslininkų pagerbimo renginys ,,Verslo diena" ir nominuoti verslininkai pagal patvirtintus konkurso nuostatus | K20: 1 | L20: 1 | M20: 1
A21: 01 | B21: 01 | C21: Iš viso uždaviniui | F21: =SUM(F12:F20) -> 221.7 | G21: =SUM(G12:G20) -> 221.7 | H21: =SUM(H12:H20) -> 219 | I21: =SUM(I12:I20) -> 226
A22: 01 | B22: Iš viso tikslui | F22: =+F21 -> 221.7 | G22: =+G21 -> 221.7 | H22: =+H21 -> 219 | I22: =+I21 -> 226
A23: 02 | B23: Kurti ekonominį augimą skatinančios verslo aplinkos plėtrą
A24: 02 | B24: 01 | C24: Sudaryti palankias sąlygas sumanios pramonės ir logistikos srities verslų atsiradimui, plėtrai bei investicijų pritraukimui
A25: 02 | B25: 01 | C25: 01 | D25: Vykdyti rinkodarinę Kėdainių LEZ veiklą, dalyvaujant verslo misijose, susitikimuose, parodose ir pan. | E25: PR | F25: 20 | G25: 20 | H25: 20 | I25: 20 | J25: Pasirašytų sutarčių su investuotojais Kėdainių LEZ skaičius (iš viso) | K25: 7 | L25: 8 | M25: 9
A26: 02 | B26: 01 | C26: 02 | D26: Įgyvendinti projektą "Kėdainių miesto viešosios infrastruktūros, svarbios verslui, atnaujinimas ir plėtra" | E26: VB | F26: 2822 | G26: 0 | H26: 0 | I26: 0 | J26: Investicijoms parengtų viešųjų teritorijų plotas, ha | L26: ~12
E27: SBVB | F27: 0 | G27: 27.3 | H27: 3911.7 | I27: 0
A28: 03 | B28: 01 | C28: Iš viso uždaviniui | F28: =SUM(F25:F27) -> 2842 | G28: =SUM(G25:G27) -> 47.3 | H28: =SUM(H25:H27) -> 3931.7 | I28: =SUM(I25:I27) -> 20
A29: 03 | B29: Iš viso tikslui | F29: =+F28 -> 2842 | G29: =+G28 -> 47.3 | H29: =+H28 -> 3931.7 | I29: =+I28 -> 20
A30: Iš viso programai | F30: =+F29+F22 -> 3063.7 | G30: =+G29+G22 -> 269 | H30: =+H29+H22 -> 4150.7 | I30: =+I29+I22 -> 246
A31: iš jų:
A32: SAVIVALDYBĖS LĖŠOS | F32: =SUM(F33:F38) -> 109 | G32: =SUM(G33:G38) -> 136.3 | H32: =SUM(H33:H38) -> 4050.7 | I32: =SUM(I33:I38) -> 141
A33: Savivaldybės biudžetas SB | F33: =+F20+F12+F19 -> 109 | G33: =+G20+G12+G19 -> 109 | H33: =+H20+H12+H19 -> 139 | I33: =+I20+I12+I19 -> 141
A34: Valstybės biudžeto specialiosios tikslinės dotacijos lėšos SBVB | F34: =+F27 -> 0 | G34: =+G27 -> 27.3 | H34: =+H27 -> 3911.7 | I34: =+I27 -> 0
A35: Aplinkos apsaugos rėmimo specialiosios programos lėšos AA
A36: Iš pajamų už suteiktas paslaugas lėšos ĮP
A37: Skolintos lėšos SK
A38: Kelių priežiūros ir plėtros programos lėšos KPP
A39: KITOS LĖŠOS | F39: =SUM(F40:F43) -> 2954.7 | G39: =SUM(G40:G43) -> 132.7 | H39: =SUM(H40:H43) -> 100 | I39: =SUM(I40:I43) -> 105
A40: Europos Sąjungos lėšos, užsienio fondų lėšos ES
A41: Valstybės biudžeto lėšos VB | F41: =+F26 -> 2822 | G41: =+G26 -> 0 | H41: =+H26 -> 0 | I41: =+I26 -> 0
A42: Privačios – investuotojų lėšos PR | F42: =+F25+F15 -> 100 | G42: =+G25+G15 -> 100 | H42: =+H25+H15 -> 100 | I42: =+I25+I15 -> 105
A43: Kiti finansavimo šaltiniai KT | F43: =+F18 -> 32.7 | G43: =+G18 -> 32.7 | H43: =+H18 -> 0 | I43: =+I18 -> 0
A44: *Patvirtinta 2022 m. vasario 18 d. rajono tarybos sprendimu Nr.TS-1

Sheet 11valdym.
K1: 11 priedas
A2: 11 lentelė. 2022–2024 m. Savivaldybės valdymo tobulinimo programos (11) tikslai, uždaviniai, priemonės, asignavimai ir vertinimo kriterijai
J3: tūkst. Eur
A4: Programos tikslo kodas | B4: Uždavinio kodas | C4: Priemonės kodas | D4: Priemonės pavadinimas | E4: Finansavimo šaltinis | F4: *2022-ųjų m. asignavimai | G4: Patikslinti 2022-ųjų m. asignavimai | H4: Numatomi 2023-ųjų m. asignavimai | I4: Numatomi 2024-ųjų m. asignavimai | J4: Vertinimo kriterijai
J5: Pavadinimas
K6: 2022 -ieji m. | L6: 2023 -ieji m. | M6: 2024 -ieji m.
A9: 11 SAVIVALDYBĖS VALDYMO TOBULINIMAS
A10: 01 | B10: Didinti savivaldybės valdymo ir veiklos efektyvumą, gerinti žmogiškųjų išteklių kompetencijas
A11: 01 | B11: 01 | C11: Sudaryti sąlygas kokybiškai įgyvendinti Savivaldybės funkcijas, mažinant administracinę naštą, įgyvendinant lygias galimybes užtikrinančias bei korupcijos prevencijos priemones
A12: 01 | B12: 01 | C12: 01 | D12: Organizuoti Savivaldybės tarybos ir Savivaldybės administracijos veiklą, įgyvendinant administracinės naštos, lygių galimybių bei korupcijos prevencijos priemones, stiprinti darbuotojų kompetencijas | E12: SB | F12: 4273.5 | G12: 4305.5 | H12: 4697 | I12: 5187 | J12: Priimtų tarybos sprendimų skaičius | K12: 300 | L12: 300 | M12: 300
J13: Prašymų, į kuriuos atsakymai fiziniams asmenims pateikti per įstatymais nustatytus terminus dalis nuo visų gautų prašymų, proc. | K13: 100 | L13: 100 | M13: 100
J14: Įgyvendintų administracinės naštos mažinimo priemonių, įgyvendinamų pagal patvirtintą planą, skaičius | K14: 15 | L14: 15 | M14: 15
E15: ĮP | F15: 23 | G15: 23 | H15: 23 | I15: 23 | J15: Įgyvendintų korupcijos prevencijos priemonių pagal patvirtintą planą skaičius | K15: 12 | L15: 12 | M15: 12
J16: Įgyvendintų lygias galimybes užtikrinančių priemonių skaičius | K16: 7 | L16: 7 | M16: 7
A17: 01 | B17: 01 | C17: 02 | D17: Organizuoti Savivaldybės kontrolės ir audito tarnybos veiklą | E17: SB | F17: 153.5 | G17: 154.1 | H17: 162 | I17: 170 | J17: Atliktų kontrolės ir audito tarnybos auditų skaičius pagal patvirtintą metų planą (proc.) | K17: 100 | L17: 100 | M17: 100
A18: 01 | B18: 01 | C18: 03 | D18: Organizuoti seniūnijų veiklą, įgyvendinant joms pavestas viešojo administravimo funkcijas | E18: SB | F18: 1090.6 | G18: 1160.6 | H18: 1250 | I18: 1350 | J18: Savivaldybėje esančių seniūnijų skaičius | K18: 11 | L18: 11 | M18: 11
E19: ĮP | F19: 45.4 | G19: 45.4 | H19: 45.4 | I19: 45.4
A20: 01 | B20: 01 | C20: 04 | D20: Didinti piliečių įtraukimo į biudžeto formavimą galimybes, įgyvendinant dalyvaujamojo biudžeto iniciatyvas | E20: SB | F20: 0 | G20: 0 | H20: 140 | I20: 140 | J20: Įgyvendinamų iniciatyvų skaičius | L20: 3 | M20: 3
A21: 01 | B21: 01 | C21: Iš viso uždaviniui | F21: =SUM(F12:F20) -> 5586 | G21: =SUM(G12:G20) -> 5688.6 | H21: =SUM(H12:H20) -> 6317.4 | I21: =SUM(I12:I20) -> 6915.4
A22: 01 | B22: 02 | C22: Organizuoti ir užtikrinti kokybišką valstybės perduotų funkcijų įgyvendinimą
A23: 01 | B23: 02 | C23: 01 | D23: Vykdyti gyventojų registrų tvarkymo ir duomenų valstybės registrui teikimo funkciją | E23: SBVB | F23: 0.8 | G23: 0.8 | H23: 0.8 | I23: 0.8 | J23: Duomenų teikimo skaičius | K23: 2000 | L23: 2000 | M23: 2000
A24: 01 | B24: 02 | C24: 02 | D24: Tvarkyti archyvinius dokumentus | E24: SBVB | F24: 46.7 | G24: 46.7 | H24: 46.7 | I24: 46.7 | J24: Išduotų pažymų skaičius | K24: 700 | L24: 700 | M24: 700
A25: 01 | B25: 02 | C25: 03 | D25: Registruoti civilinės būklės aktus | E25: SBVB | F25: 33.7 | G25: 33.7 | H25: 34.5 | I25: 34.5 | J25: Užregistruotų civilinės būklės aktų skaičius | K25: 1600 | L25: 1600 | M25: 1600
A26: 01 | B26: 02 | C26: 04 | D26: Vykdyti valstybinės kalbos vartojimo ir taisyklingumo kontrolę | E26: SBVB | F26: 8.5 | G26: 8.5 | H26: 8.5 | I26: 8.5 | J26: Atliktų patikrinimų (įmonių, įstaigų, organizacijų) skaičius | K26: 20 | L26: 20 | M26: 20
A27: 01 | B27: 02 | C27: 05 | D27: Koordinuoti koordinuotai teikiamas paslaugas vaikams nuo gimimo iki 18 m. ir vaiko atstovams | E27: SBVB | F27: 18.8 | G27: 18.8 | H27: 18.8 | I27: 18.8 | J27: Suorganizuotų vaiko gerovės komisijų posėdžių skaičius | K27: 5 | L27: 5 | M27: 5
A28: 01 | B28: 02 | C28: 06 | D28: Vykdyti jaunimo teisių apsaugą | E28: SBVB | F28: 19.8 | G28: 19.8 | H28: 21.3 | I28: 21.3 | J28: Aktyvaus jaunimo dalis, proc. nuo bendro rajono jaunimo skaičiaus | K28: 10 | L28: 10 | M28: 10
A29: 01 | B29: 02 | C29: 07 | D29: Teikti pirminę teisinę pagalbą | E29: SBVB | F29: 14.5 | G29: 14.5 | H29: 12.1 | I29: 12.1 | J29: Suteiktos teisinės pagalbos atvejų skaičius | K29: 800 | L29: 800 | M29: 800
A30: 01 | B30: 02 | C30: 08 | D30: Teikti duomenis Valstybės suteiktos pagalbos registrui | E30: SBVB | F30: 1.3 | G30: 1.3 | H30: 0.8 | I30: 0.8 | J30: Duomenų teikimo skaičius | K30: 12 | L30: 12 | M30: 12
A31: 01 | B31: 02 | C31: 09 | D31: Vykdyti valstybinės žemės ir kito turto valdymo, naudojimo ir disponavimo juo patikėjimo teise, funkciją | E31: SBVB | F31: 0.3 | G31: 0.3 | H31: 0.3 | I31: 0.3 | J31: Savivaldybei patikėjimo teise perduotų valstybinės žemės sklypų skaičius | K31: 1 | L31: 1 | M31: 1
A32: 01 | B32: 02 | C32: 10 | D32: Vykdyti gyvenamosios vietos deklaravimo duomenų ir gyvenamosios vietos nedeklaravusių asmenų apskaitos duomenų tvarkymo funkciją | E32: SBVB | F32: 6.8 | G32: 6.8 | H32: 4.8 | I32: 4.8 | J32: Funkciją įgyvendinančių institucijų skaičius | K32: 11 | L32: 11 | M32: 11
A33: 01 | B33: 02 | C33: 11 | D33: Įgyvendinti Kėdainių rajono savivaldybės užimtumo didinimo programą | E33: SBVB | F33: 139.1 | G33: 153.1 | H33: 153.1 | I33: 153.1 | J33: Funkciją įgyvendinančių institucijų skaičius | K33: 11 | L33: 11 | M33: 11
E34: SB | F34: 51.2 | G34: 51.2 | H34: 51.2 | I34: 51.2
A35: 01 | B35: 02 | C35: Iš viso uždaviniui | F35: =SUM(F23:F34) -> 341.5 | G35: =SUM(G23:G34) -> 355.5 | H35: =SUM(H23:H34) -> 352.9 | I35: =SUM(I23:I34) -> 352.9
A36: 01 | B36: 03 | C36: Užtikrinti finansavimą nenumatytoms išlaidoms dengti bei valdyti prisiimtus finansinius įsipareigojimus
A37: 01 | B37: 03 | C37: 01 | D37: Įgyvendinti priemones, finansuojamas iš Savivaldybės administracijos direktoriaus rezervo | E37: SB | F37: 55 | G37: 55 | H37: 55 | I37: 55 | J37: Rezervo panaudojimo proc. | K37: 100 | L37: 100 | M37: 100
A38: 01 | B38: 03 | C38: 02 | D38: Įgyvendinti priemones, finansuojamas iš Savivaldybės mero fondo | E38: SB | F38: 30 | G38: 30 | H38: 30 | I38: 30 | J38: Fondo panaudojimo proc. | K38: 100 | L38: 100 | M38: 100
A39: 01 | B39: 03 | C39: 03 | D39: Grąžinti paskolas, skolas, palūkanas | E39: SB | F39: 95 | G39: 95 | H39: 95 | I39: 95 | J39: Finansinių įsipareigojimų vykdymo savalaikiškumas, proc. | K39: 100 | L39: 100 | M39: 100
E40: SB | F40: 48.1 | G40: 48.1 | H40: 48.1 | I40: 48.1
E41: SB | F41: 0 | G41: 0 | H41: 0 | I41: 0
E42: SK | F42: 1169.7 | G42: 1169.7 | H42: 1602.6 | I42: 1015.6
A43: 01 | B43: 03 | C43: 04 | D43: Kompensuoti UAB "Kėdbusas" nuostolingus maršrutus | E43: SB | F43: 800 | G43: 800 | H43: 800 | I43: 800 | J43: Patvirtintų pavėžėjimo išlaidų kompensavimas | K43: 100 | L43: 100 | M43: 100
E44: SBVB | F44: 0 | G44: 0 | H44: 0 | I44: 0
A45: 01 | B45: 03 | C45: 05 | D45: Kompensuoti dalį išlaidų savivaldybėms, siekiant šalinti COVID-19 ligos (koronaviruso infekcijos) padarinius ir valdyti jos plitimą, esant valstybės lygio ekstremaliai situacijai | E45: SBVB | F45: 44 | G45: 22.3 | H45: 0 | I45: 0 | J45: Finansinių įsipareigojimų vykdymas, proc. | K45: 100
A46: 01 | B46: 03 | C46: 06 | D46: Kompensuoti savivaldybės patirtas išlaidas valdant nepaprastąją padėtį dėl užsieniečių, pasitraukusių iš Ukrainos dėl Rusijos Federacijos karinių veiksmų Ukrainoje | E46: SBVB | F46: 0 | G46: 6.1 | H46: 0 | I46: 0 | J46: Įstaigų, kurioms kompensuojamos išlaidos / asmenų, pasitraukusių iš Ukrainos dėl Rusijos Federacijos karinių veiksmų Ukrainoje, skaičius | K46: 3/24
A47: 01 | B47: 03 | C47: Iš viso uždaviniui | F47: =SUM(F37:F46) -> 2241.8 | G47: =SUM(G37:G46) -> 2226.2 | H47: =SUM(H37:H46) -> 2630.7 | I47: =SUM(I37:I46) -> 2043.7
A48: 01 | B48: Iš viso tikslui | F48: =+F47+F35+F21 -> 8169.3 | G48: =+G47+G35+G21 -> 8270.3 | H48: =+H47+H35+H21 -> 9301 | I48: =+I47+I35+I21 -> 9312
A49: 02 | B49: Gerinti Kėdainių rajono savivaldybės tarybos ir administracijos komunikavimo ir įvaizdžio formavimo funkcijas
A50: 02 | B50: 01 | C50: Užtikrinti savivaldybės veiklos viešumą, gerinti komunikavimo ryšį su rajono bendruomenės nariais
A51: 02 | B51: 01 | C51: 01 | D51: Tobulinti Kėdainių rajono savivaldybės tarybos ir administracijos komunikaciją su bendruomene ir visuomenės informavimą | E51: SB | F51: 29.5 | G51: 29.5 | H51: 29.5 | I51: 29.5 | J51: Informacijos apie Savivaldybės veiklą, sprendimus, projektus, renginius spaudoje, interneto svetainėje, televizijoje, socialiniuose tinkluose, leidiniuose ir kt. žiniasklaidos priemonėse skleidimas | K51: 100 | L51: 100 | M51: 100
A52: 02 | B52: 01 | C52: Iš viso uždaviniui | F52: =+F51 -> 29.5 | G52: =+G51 -> 29.5 | H52: =+H51 -> 29.5 | I52: =+I51 -> 29.5
A53: 02 | B53: 02 | C53: Plėtojant dalykinius santykius ir ryšius su tarptautinėmis ir vietinėmis institucijomis bei organizacijomis, stiprinti rajono įvaizdį
A54: 02 | B54: 02 | C54: 01 | D54: Dalyvauti Lietuvos savivaldybių asociacijos veikloje | E54: SB | F54: 15 | G54: 20 | H54: 20 | I54: 20 | J54: Veikloje dalyvaujančių partnerių skaičius | K54: 59 | L54: 59 | M54: 59
A55: 02 | B55: 02 | C55: 02 | D55: Dalyvauti Kauno regiono plėtros agentūros veikloje | E55: SB | F55: 15 | G55: 15 | H55: 15 | I55: 15 | J55: Programų, kuriose dalyvauja savivaldybė, skaičius | K55: 4 | L55: 4 | M55: 4
A56: 02 | B56: 02 | C56: Iš viso uždaviniui | F56: =SUM(F54:F55) -> 30 | G56: =SUM(G54:G55) -> 35 | H56: =SUM(H54:H55) -> 35 | I56: =SUM(I54:I55) -> 35
A57: 02 | B57: Iš viso tikslui | F57: =+F56+F52 -> 59.5 | G57: =+G56+G52 -> 64.5 | H57: =+H56+H52 -> 64.5 | I57: =+I56+I52 -> 64.5
A58: 03 | B58: Gerinti savivaldybės administracijos darbo kokybę, atnaujinant (diegiant) informacines sistemas, kompiuterinę įrangą, užtikrinant sisteminį viešųjų ir administracinių paslaugų modernizavimą
A59: 03 | B59: 01 | C59: Organizuoti savivaldybės veiklą vadovaujantis šiuolaikiniais vadybos principais, tobulinti darbuotojų kompetenciją
A60: 03 | B60: 01 | C60: 01 | D60: Užtikrinti informacinių technologijų plėtrą savivaldybės administracijoje, kelti elektroninių paslaugų brandos lygį, naudoti elektroninį parašą | E60: SB | F60: 161 | G60: 161 | H60: 161 | I60: 161 | J60: Atnaujintos/prižiūrimos IT įrangos skaičius | K60: 50 | L60: 50 | M60: 50
A61: 03 | B61: 01 | C61: Iš viso uždaviniui | F61: =SUM(F60:F60) -> 161 | G61: =SUM(G60:G60) -> 161 | H61: =SUM(H60:H60) -> 161 | I61: =SUM(I60:I60) -> 161
A62: 03 | B62: Iš viso tikslui | F62: =+F61 -> 161 | G62: =+G61 -> 161 | H62: =+H61 -> 161 | I62: =+I61 -> 161
A63: 04 | B63: Didinti saugumą rajone
A64: 04 | B64: 01 | C64: Užtikrinti rajono gyventojų viešąją tvarką ir viešąjį saugumą
A65: 04 | B65: 01 | C65: 01 | D65: Finansuoti prevencinę programą „Saugios aplinkos kūrimas ir bendruomenės teisėtvarkos kūrimas" | E65: SB | F65: 25 | G65: 2 | H65: 12 | I65: 12 | J65: Įgyvendintų prevencinių priemonių skaičius | K65: 2 | L65: 20 | M65: 20
A66: 04 | B66: 01 | C66: 02 | D66: Užtikrinti savivaldybės priešgaisrinės tarnybos veiklą ir modernizuoti infrastruktūrą | E66: SB | F66: 78.6 | G66: 79 | H66: 79 | I66: 79 | J66: Savanorių ugniagesių veikloje dalyvaujančių gyventojų skaičius | K66: 27 | L66: 27 | M66: 27
E67: SBVB | F67: 1176.9 | G67: 1176.9 | H67: 1176.9 | I67: 1176.9
E68: ĮP | F68: 0.5 | G68: 1 | H68: 0.5 | I68: 0.5
A69: 04 | B69: 01 | C69: 03 | D69: Organizuoti civilinę saugą | E69: SBVB | F69: 46.5 | G69: 46.5 | H69: 50 | I69: 50 | J69: Įgyvendintų ekstremaliųjų situacijų prevencijos priemonių plano vykdymo procentas | K69: 100 | L69: 100 | M69: 100
A70: 04 | B70: 01 | C70: 04 | D70: Vykdyti mobilizacijos administravimą | E70: SBVB | F70: 30.1 | G70: 30.1 | H70: 30.1 | I70: 30.1 | J70: Parengtų mobilizacijos planų skaičius | K70: 1 | L70: 1 | M70: 1
A71: 04 | B71: 01 | C71: 05 | D71: Modernizuoti gyventojų perspėjimo sistemą bei įrengti Ekstremalių situacijų operacijų centro patalpas | E71: SB | F71: 0 | G71: 26 | H71: 18 | I71: 0 | J71: Įrengta Ekstremaliųjų situacijų operacijų centro patalpa/Diegiamų šiuolaikinių elektroninių akustinių sirenų skaičius | K71: 1/0 | L71: 0/2
A72: 04 | B72: 01 | C72: 06 | D72: Užtikrinti gyventojų saugumą, diegiant vaizdo stebėjimo ir saugumo priemones mieste | E72: SB | F72: 190 | G72: 167.4 | H72: 167.4 | I72: 167.4 | J72: Stebėjimo vietų viešosiose erdvėse skaičius | K72: 67 | L72: 67 | M72: 67
A73: 04 | B73: 01 | C73: 07 | D73: Užtikrinti gyventojų saugumą, diegiant vaizdo stebėjimo ir saugumo priemones rajone | E73: SB | F73: 10 | G73: 10 | H73: 10 | I73: 10 | J73: Stebėjimo vietų viešosiose erdvėse skaičius | K73: 54 | L73: 64 | M73: 74
A74: 04 | B74: 02 | C74: Iš viso uždaviniui | F74: =SUM(F65:F73) -> 1557.6 | G74: =SUM(G65:G73) -> 1538.9 | H74: =SUM(H65:H73) -> 1543.9 | I74: =SUM(I65:I73) -> 1525.9
A75: 04 | B75: Iš viso tikslui | F75: =+F74 -> 1557.6 | G75: =+G74 -> 1538.9 | H75: =+H74 -> 1543.9 | I75: =+I74 -> 1525.9
A76: Iš viso programai | F76: =+F75+F62+F57+F48 -> 9947.4 | G76: =+G75+G62+G57+G48 -> 10034.7 | H76: =+H75+H62+H57+H48 -> 11070.4 | I76: =+I75+I62+I57+I48 -> 11063.4
A77: Finansavimo šaltiniai
A78: SAVIVALDYBĖS LĖŠOS | F78: =SUM(F79:F84) -> 9947.4 | G78: =SUM(G79:G84) -> 10034.7 | H78: =SUM(H79:H84) -> 11070.4 | I78: =SUM(I79:I84) -> 11063.4
A79: Savivaldybės biudžetas SB | F79: =+F72+F66+F65+F60+F55+F54+F51+F43+F39+F38+F37+F34+F18+F17+F12+F71+F73+F40+F20+F41 -> 7121 | G79: =+G72+G66+G65+G60+G55+G54+G51+G43+G39+G38+G37+G34+G18+G17+G12+G71+G73+G40+G20+G41 -> 7209.4 | H79: =+H72+H66+H65+H60+H55+H54+H51+H43+H39+H38+H37+H34+H18+H17+H12+H71+H73+H40+H20+H41 -> 7840.2 | I79: =+I72+I66+I65+I60+I55+I54+I51+I43+I39+I38+I37+I34+I18+I17+I12+I71+I73+I40+I20+I41 -> 8420.2
A80: Valstybės biudžeto specialiosios tikslinės dotacijos lėšos SBVB | F80: =+F70+F69+F67+F33+F32+F31+F30+F29+F28+F27+F26+F25+F24+F23+F45+F44+F46 -> 1587.8 | G80: =+G70+G69+G67+G33+G32+G31+G30+G29+G28+G27+G26+G25+G24+G23+G45+G44+G46 -> 1586.2 | H80: =+H70+H69+H67+H33+H32+H31+H30+H29+H28+H27+H26+H25+H24+H23+H45+H44+H46 -> 1558.7 | I80: =+I70+I69+I67+I33+I32+I31+I30+I29+I28+I27+I26+I25+I24+I23+I45+I44+I46 -> 1558.7
A81: Aplinkos apsaugos rėmimo specialiosios programos lėšos AA
A82: Iš pajamų už suteiktas paslaugas lėšos ĮP | F82: =+F15+F19+F68 -> 68.9 | G82: =+G15+G19+G68 -> 69.4 | H82: =+H15+H19+H68 -> 68.9 | I82: =+I15+I19+I68 -> 68.9
A83: Skolintos lėšos SK | F83: =+F42 -> 1169.7 | G83: =+G42 -> 1169.7 | H83: =+H42 -> 1602.6 | I83: =+I42 -> 1015.6
A84: Kelių priežiūros ir plėtros programos lėšos KPP
A85: KITOS LĖŠOS | F85: =SUM(F86:F89) -> 0 | G85: =SUM(G86:G89) -> 0 | H85: =SUM(H86:H89) -> 0 | I85: =SUM(I86:I89) -> 0
A86: Europos Sąjungos lėšos, užsienio fondų lėšos ES
A87: Valstybės biudžeto lėšos VB
A88: Privačios – investuotojų lėšos PR
A89: Kiti finansavimo šaltiniai KT
A90: *Patvirtinta 2022 m. vasario 18 d. rajono tarybos sprendimu Nr.TS-1

Sheet Lešu poreikis iš viso
I1: 12 priedas
A2: Finansavimo poreikis 2022–2024 m. strateginio veiklos plano programų vykdymui
I3: tūkst. Eur
A4: Finansavimo šaltinis | F4: *2022-ųjų m. asignavimai | G4: Patikslinti 2022-ųjų m. asignavimai | H4: Numatomi 2023-ųjų m. asignavimai | I4: Numatomi 2024-ųjų m. asignavimai
A9: IŠ VISO PROGRAMOMS | F9: =+'01šviet.'!F74+'02sveikat.'!F65+'03social.'!F90+'04sport.'!F50+'05kultura'!F93+'06turizm_paveld'!F57+'07Infrastr.'!F174+'08aplinkosauga'!F53+'09ž.ū.'!F37+'10verslas'!F30+'11valdym.'!F76 -> 97096.3 | G9: =+'01šviet.'!G74+'02sveikat.'!G65+'03social.'!G90+'04sport.'!G50+'05kultura'!G93+'06turizm_paveld'!G57+'07Infrastr.'!G174+'08aplinkosauga'!G53+'09ž.ū.'!G37+'10verslas'!G30+'11valdym.'!G76 -> 97469.1 | H9: =+'01šviet.'!H74+'02sveikat.'!H65+'03social.'!H90+'04sport.'!H50+'05kultura'!H93+'06turizm_paveld'!H57+'07Infrastr.'!H174+'08aplinkosauga'!H53+'09ž.ū.'!H37+'10verslas'!H30+'11valdym.'!H76 -> 101543.6 | I9: =+'01šviet.'!I74+'02sveikat.'!I65+'03social.'!I90+'04sport.'!I50+'05kultura'!I93+'06turizm_paveld'!I57+'07Infrastr.'!I174+'08aplinkosauga'!I53+'09ž.ū.'!I37+'10verslas'!I30+'11valdym.'!I76 -> 99184.7
A10: Finansavimo šaltiniai | F10: =+F9-F11-F18 -> 0 | G10: =+G9-G11-G18 -> 0 | H10: =+H9-H11-H18 -> 0 | I10: =+I9-I11-I18 -> 0
A11: SAVIVALDYBĖS LĖŠOS | F11: =+'01šviet.'!F76+'02sveikat.'!F67+'03social.'!F92+'04sport.'!F52+'05kultura'!F95+'06turizm_paveld'!F59+'07Infrastr.'!F176+'08aplinkosauga'!F55+'09ž.ū.'!F39+'10verslas'!F32+'11valdym.'!F78 -> 74832.3 | G11: =+'01šviet.'!G76+'02sveikat.'!G67+'03social.'!G92+'04sport.'!G52+'05kultura'!G95+'06turizm_paveld'!G59+'07Infrastr.'!G176+'08aplinkosauga'!G55+'09ž.ū.'!G39+'10verslas'!G32+'11valdym.'!G78 -> 77468.4 | H11: =+'01šviet.'!H76+'02sveikat.'!H67+'03social.'!H92+'04sport.'!H52+'05kultura'!H95+'06turizm_paveld'!H59+'07Infrastr.'!H176+'08aplinkosauga'!H55+'09ž.ū.'!H39+'10verslas'!H32+'11valdym.'!H78 -> 84609.8 | I11: =+'01šviet.'!I76+'02sveikat.'!I67+'03social.'!I92+'04sport.'!I52+'05kultura'!I95+'06turizm_paveld'!I59+'07Infrastr.'!I176+'08aplinkosauga'!I55+'09ž.ū.'!I39+'10verslas'!I32+'11valdym.'!I78 -> 81584.3
A12: Savivaldybės biudžetas SB | F12: =+'01šviet.'!F77+'02sveikat.'!F68+'03social.'!F93+'04sport.'!F53+'05kultura'!F96+'06turizm_paveld'!F60+'07Infrastr.'!F177+'08aplinkosauga'!F56+'09ž.ū.'!F40+'10verslas'!F33+'11valdym.'!F79 -> 41767.2 | G12: =+'01šviet.'!G77+'02sveikat.'!G68+'03social.'!G93+'04sport.'!G53+'05kultura'!G96+'06turizm_paveld'!G60+'07Infrastr.'!G177+'08aplinkosauga'!G56+'09ž.ū.'!G40+'10verslas'!G33+'11valdym.'!G79 -> 43571 | H12: =+'01šviet.'!H77+'02sveikat.'!H68+'03social.'!H93+'04sport.'!H53+'05kultura'!H96+'06turizm_paveld'!H60+'07Infrastr.'!H177+'08aplinkosauga'!H56+'09ž.ū.'!H40+'10verslas'!H33+'11valdym.'!H79 -> 45479.1 | I12: =+'01šviet.'!I77+'02sveikat.'!I68+'03social.'!I93+'04sport.'!I53+'05kultura'!I96+'06turizm_paveld'!I60+'07Infrastr.'!I177+'08aplinkosauga'!I56+'09ž.ū.'!I40+'10verslas'!I33+'11valdym.'!I79 -> 47337.5
A13: Valstybės biudžeto specialiosios tikslinės dotacijos lėšos SBVB | F13: =+'01šviet.'!F78+'02sveikat.'!F69+'03social.'!F94+'04sport.'!F54+'05kultura'!F97+'06turizm_paveld'!F61+'07Infrastr.'!F178+'08aplinkosauga'!F57+'09ž.ū.'!F41+'10verslas'!F34+'11valdym.'!F80 -> 26155 | G13: =+'01šviet.'!G78+'02sveikat.'!G69+'03social.'!G94+'04sport.'!G54+'05kultura'!G97+'06turizm_paveld'!G61+'07Infrastr.'!G178+'08aplinkosauga'!G57+'09ž.ū.'!G41+'10verslas'!G34+'11valdym.'!G80 -> 26934.2 | H13: =+'01šviet.'!H78+'02sveikat.'!H69+'03social.'!H94+'04sport.'!H54+'05kultura'!H97+'06turizm_paveld'!H61+'07Infrastr.'!H178+'08aplinkosauga'!H57+'09ž.ū.'!H41+'10verslas'!H34+'11valdym.'!H80 -> 30762 | I13: =+'01šviet.'!I78+'02sveikat.'!I69+'03social.'!I94+'04sport.'!I54+'05kultura'!I97+'06turizm_paveld'!I61+'07Infrastr.'!I178+'08aplinkosauga'!I57+'09ž.ū.'!I41+'10verslas'!I34+'11valdym.'!I80 -> 27246.1
A14: Aplinkos apsaugos rėmimo specialiosios programos lėšos AA | F14: =+'01šviet.'!F79+'02sveikat.'!F70+'03social.'!F95+'04sport.'!F55+'05kultura'!F98+'06turizm_paveld'!F62+'07Infrastr.'!F179+'08aplinkosauga'!F58+'09ž.ū.'!F42+'10verslas'!F35+'11valdym.'!F81 -> 455.5 | G14: =+'01šviet.'!G79+'02sveikat.'!G70+'03social.'!G95+'04sport.'!G55+'05kultura'!G98+'06turizm_paveld'!G62+'07Infrastr.'!G179+'08aplinkosauga'!G58+'09ž.ū.'!G42+'10verslas'!G35+'11valdym.'!G81 -> 455.5 | H14: =+'01šviet.'!H79+'02sveikat.'!H70+'03social.'!H95+'04sport.'!H55+'05kultura'!H98+'06turizm_paveld'!H62+'07Infrastr.'!H179+'08aplinkosauga'!H58+'09ž.ū.'!H42+'10verslas'!H35+'11valdym.'!H81 -> 426.5 | I14: =+'01šviet.'!I79+'02sveikat.'!I70+'03social.'!I95+'04sport.'!I55+'05kultura'!I98+'06turizm_paveld'!I62+'07Infrastr.'!I179+'08aplinkosauga'!I58+'09ž.ū.'!I42+'10verslas'!I35+'11valdym.'!I81 -> 421.5
A15: Iš pajamų už suteiktas paslaugas lėšos ĮP | F15: =+'01šviet.'!F80+'02sveikat.'!F71+'03social.'!F96+'04sport.'!F56+'05kultura'!F99+'06turizm_paveld'!F63+'07Infrastr.'!F180+'08aplinkosauga'!F59+'09ž.ū.'!F43+'10verslas'!F36+'11valdym.'!F82 -> 1884.9 | G15: =+'01šviet.'!G80+'02sveikat.'!G71+'03social.'!G96+'04sport.'!G56+'05kultura'!G99+'06turizm_paveld'!G63+'07Infrastr.'!G180+'08aplinkosauga'!G59+'09ž.ū.'!G43+'10verslas'!G36+'11valdym.'!G82 -> 1929.7 | H15: =+'01šviet.'!H80+'02sveikat.'!H71+'03social.'!H96+'04sport.'!H56+'05kultura'!H99+'06turizm_paveld'!H63+'07Infrastr.'!H180+'08aplinkosauga'!H59+'09ž.ū.'!H43+'10verslas'!H36+'11valdym.'!H82 -> 1889.6 | I15: =+'01šviet.'!I80+'02sveikat.'!I71+'03social.'!I96+'04sport.'!I56+'05kultura'!I99+'06turizm_paveld'!I63+'07Infrastr.'!I180+'08aplinkosauga'!I59+'09ž.ū.'!I43+'10verslas'!I36+'11valdym.'!I82 -> 1893.6
A16: Skolintos lėšos SK | F16: =+'01šviet.'!F81+'02sveikat.'!F72+'03social.'!F97+'04sport.'!F57+'05kultura'!F100+'06turizm_paveld'!F64+'07Infrastr.'!F181+'08aplinkosauga'!F60+'09ž.ū.'!F44+'10verslas'!F37+'11valdym.'!F83 -> 1569.7 | G16: =+'01šviet.'!G81+'02sveikat.'!G72+'03social.'!G97+'04sport.'!G57+'05kultura'!G100+'06turizm_paveld'!G64+'07Infrastr.'!G181+'08aplinkosauga'!G60+'09ž.ū.'!G44+'10verslas'!G37+'11valdym.'!G83 -> 1569.7 | H16: =+'01šviet.'!H81+'02sveikat.'!H72+'03social.'!H97+'04sport.'!H57+'05kultura'!H100+'06turizm_paveld'!H64+'07Infrastr.'!H181+'08aplinkosauga'!H60+'09ž.ū.'!H44+'10verslas'!H37+'11valdym.'!H83 -> 2902.6 | I16: =+'01šviet.'!I81+'02sveikat.'!I72+'03social.'!I97+'04sport.'!I57+'05kultura'!I100+'06turizm_paveld'!I64+'07Infrastr.'!I181+'08aplinkosauga'!I60+'09ž.ū.'!I44+'10verslas'!I37+'11valdym.'!I83 -> 1415.6
A17: Kelių priežiūros ir plėtros programos lėšos KPP | F17: =+'01šviet.'!F82+'02sveikat.'!F73+'03social.'!F98+'04sport.'!F58+'05kultura'!F101+'06turizm_paveld'!F65+'07Infrastr.'!F182+'08aplinkosauga'!F61+'09ž.ū.'!F45+'10verslas'!F38+'11valdym.'!F84 -> 3000 | G17: =+'01šviet.'!G82+'02sveikat.'!G73+'03social.'!G98+'04sport.'!G58+'05kultura'!G101+'06turizm_paveld'!G65+'07Infrastr.'!G182+'08aplinkosauga'!G61+'09ž.ū.'!G45+'10verslas'!G38+'11valdym.'!G84 -> 3008.3 | H17: =+'01šviet.'!H82+'02sveikat.'!H73+'03social.'!H98+'04sport.'!H58+'05kultura'!H101+'06turizm_paveld'!H65+'07Infrastr.'!H182+'08aplinkosauga'!H61+'09ž.ū.'!H45+'10verslas'!H38+'11valdym.'!H84 -> 3150 | I17: =+'01šviet.'!I82+'02sveikat.'!I73+'03social.'!I98+'04sport.'!I58+'05kultura'!I101+'06turizm_paveld'!I65+'07Infrastr.'!I182+'08aplinkosauga'!I61+'09ž.ū.'!I45+'10verslas'!I38+'11valdym.'!I84 -> 3270
A18: KITOS LĖŠOS | F18: =+'01šviet.'!F83+'02sveikat.'!F74+'03social.'!F99+'04sport.'!F59+'05kultura'!F102+'06turizm_paveld'!F66+'07Infrastr.'!F183+'08aplinkosauga'!F62+'09ž.ū.'!F46+'10verslas'!F39+'11valdym.'!F85 -> 22264 | G18: =+'01šviet.'!G83+'02sveikat.'!G74+'03social.'!G99+'04sport.'!G59+'05kultura'!G102+'06turizm_paveld'!G66+'07Infrastr.'!G183+'08aplinkosauga'!G62+'09ž.ū.'!G46+'10verslas'!G39+'11valdym.'!G85 -> 20000.7 | H18: =+'01šviet.'!H83+'02sveikat.'!H74+'03social.'!H99+'04sport.'!H59+'05kultura'!H102+'06turizm_paveld'!H66+'07Infrastr.'!H183+'08aplinkosauga'!H62+'09ž.ū.'!H46+'10verslas'!H39+'11valdym.'!H85 -> 16933.8 | I18: =+'01šviet.'!I83+'02sveikat.'!I74+'03social.'!I99+'04sport.'!I59+'05kultura'!I102+'06turizm_paveld'!I66+'07Infrastr.'!I183+'08aplinkosauga'!I62+'09ž.ū.'!I46+'10verslas'!I39+'11valdym.'!I85 -> 17600.4
A19: Europos Sąjungos lėšos, užsienio fondų lėšos ES | F19: =+'01šviet.'!F84+'02sveikat.'!F75+'03social.'!F100+'04sport.'!F60+'05kultura'!F103+'06turizm_paveld'!F67+'07Infrastr.'!F184+'08aplinkosauga'!F63+'09ž.ū.'!F47+'10verslas'!F40+'11valdym.'!F86 -> 4580.2 | G19: =+'01šviet.'!G84+'02sveikat.'!G75+'03social.'!G100+'04sport.'!G60+'05kultura'!G103+'06turizm_paveld'!G67+'07Infrastr.'!G184+'08aplinkosauga'!G63+'09ž.ū.'!G47+'10verslas'!G40+'11valdym.'!G86 -> 4256.9 | H19: =+'01šviet.'!H84+'02sveikat.'!H75+'03social.'!H100+'04sport.'!H60+'05kultura'!H103+'06turizm_paveld'!H67+'07Infrastr.'!H184+'08aplinkosauga'!H63+'09ž.ū.'!H47+'10verslas'!H40+'11valdym.'!H86 -> 1374.8 | I19: =+'01šviet.'!I84+'02sveikat.'!I75+'03social.'!I100+'04sport.'!I60+'05kultura'!I103+'06turizm_paveld'!I67+'07Infrastr.'!I184+'08aplinkosauga'!I63+'09ž.ū.'!I47+'10verslas'!I40+'11valdym.'!I86 -> 2455.2
A20: Valstybės biudžeto lėšos VB | F20: =+'01šviet.'!F85+'02sveikat.'!F76+'03social.'!F101+'04sport.'!F61+'05kultura'!F104+'06turizm_paveld'!F68+'07Infrastr.'!F185+'08aplinkosauga'!F64+'09ž.ū.'!F48+'10verslas'!F41+'11valdym.'!F87 -> 16431.7 | G20: =+'01šviet.'!G85+'02sveikat.'!G76+'03social.'!G101+'04sport.'!G61+'05kultura'!G104+'06turizm_paveld'!G68+'07Infrastr.'!G185+'08aplinkosauga'!G64+'09ž.ū.'!G48+'10verslas'!G41+'11valdym.'!G87 -> 14127.4 | H20: =+'01šviet.'!H85+'02sveikat.'!H76+'03social.'!H101+'04sport.'!H61+'05kultura'!H104+'06turizm_paveld'!H68+'07Infrastr.'!H185+'08aplinkosauga'!H64+'09ž.ū.'!H48+'10verslas'!H41+'11valdym.'!H87 -> 14829.9 | I20: =+'01šviet.'!I85+'02sveikat.'!I76+'03social.'!I101+'04sport.'!I61+'05kultura'!I104+'06turizm_paveld'!I68+'07Infrastr.'!I185+'08aplinkosauga'!I64+'09ž.ū.'!I48+'10verslas'!I41+'11valdym.'!I87 -> 14595.5
A21: Privačios – investuotojų lėšos PR | F21: =+'01šviet.'!F86+'02sveikat.'!F77+'03social.'!F102+'04sport.'!F62+'05kultura'!F105+'06turizm_paveld'!F69+'07Infrastr.'!F186+'08aplinkosauga'!F65+'09ž.ū.'!F49+'10verslas'!F42+'11valdym.'!F88 -> 1215.9 | G21: =+'01šviet.'!G86+'02sveikat.'!G77+'03social.'!G102+'04sport.'!G62+'05kultura'!G105+'06turizm_paveld'!G69+'07Infrastr.'!G186+'08aplinkosauga'!G65+'09ž.ū.'!G49+'10verslas'!G42+'11valdym.'!G88 -> 1580.2 | H21: =+'01šviet.'!H86+'02sveikat.'!H77+'03social.'!H102+'04sport.'!H62+'05kultura'!H105+'06turizm_paveld'!H69+'07Infrastr.'!H186+'08aplinkosauga'!H65+'09ž.ū.'!H49+'10verslas'!H42+'11valdym.'!H88 -> 729.1 | I21: =+'01šviet.'!I86+'02sveikat.'!I77+'03social.'!I102+'04sport.'!I62+'05kultura'!I105+'06turizm_paveld'!I69+'07Infrastr.'!I186+'08aplinkosauga'!I65+'09ž.ū.'!I49+'10verslas'!I42+'11valdym.'!I88 -> 549.7
A22: Kiti finansavimo šaltiniai KT | F22: =+'01šviet.'!F87+'02sveikat.'!F78+'03social.'!F103+'04sport.'!F63+'05kultura'!F106+'06turizm_paveld'!F70+'07Infrastr.'!F187+'08aplinkosauga'!F66+'09ž.ū.'!F50+'10verslas'!F43+'11valdym.'!F89 -> 36.2 | G22: =+'01šviet.'!G87+'02sveikat.'!G78+'03social.'!G103+'04sport.'!G63+'05kultura'!G106+'06turizm_paveld'!G70+'07Infrastr.'!G187+'08aplinkosauga'!G66+'09ž.ū.'!G50+'10verslas'!G43+'11valdym.'!G89 -> 36.2 | H22: =+'01šviet.'!H87+'02sveikat.'!H78+'03social.'!H103+'04sport.'!H63+'05kultura'!H106+'06turizm_paveld'!H70+'07Infrastr.'!H187+'08aplinkosauga'!H66+'09ž.ū.'!H50+'10verslas'!H43+'11valdym.'!H89 -> 0 | I22: =+'01šviet.'!I87+'02sveikat.'!I78+'03social.'!I103+'04sport.'!I63+'05kultura'!I106+'06turizm_paveld'!I70+'07Infrastr.'!I187+'08aplinkosauga'!I66+'09ž.ū.'!I50+'10verslas'!I43+'11valdym.'!I89 -> 0
A23: *Patvirtinta 2022 m. vasario 18 d. rajono tarybos sprendimu Nr.TS-1
