Workbook
Name _ftn1: 'Sveikatos 02.01.16'!#REF!
Name _ftnref1: 'Sveikatos 02.01.16'!$A$18
Name _Hlk85616660: 'Sveikatos 02.01.16'!$A$4

Sheet 01šviet.
I1: Kėdainių rajono savivaldybės tarybos
I2: 2022 m. rugsėjo 30 d. sprendimo Nr. TS-225
I3: priedas
A5: Kėdainių rajono savivaldybės 2022-2024 metų strateginio veiklos plano programų
A6: strateginius tikslus įgyvendinančių programų asignavimų priedai
J7: 1 priedas
A8: 1 lentelė. 2022–2024 m. Švietimo ir ugdymo programos (01) tikslai, uždaviniai, priemonės, asignavimai ir vertinimo kriterijai
L9: tūkst. Eur
A10: Programos tikslo kodas | B10: Uždavinio kodas | C10: Priemonės kodas | D10: Priemonės pavadinimas | E10: Finansavimo šaltinis | F10: * 2022-ųjų m. asignavimai | G10: Patikslinti 2022-ųjų m. asignavimai | H10: Numatomi 2023-ųjų m. asignavimai | I10: Numatomi 2024-ųjų m. asignavimai | J10: Vertinimo kriterijai
J11: Pavadinimas
K12: 2022 -ieji m. | L12: 2023 -ieji m. | M12: 2024 -ieji m.
A15: 01 ŠVIETIMAS IR UGDYMAS
A16: 01 | B16: Plėtoti kokybišką, visiems prieinamą, tęstinę švietimo sistemą savivaldybėje
A17: 01 | B17: 01 | C17: Sudaryti prielaidas ugdymo kokybei gerinti, mažinti ugdymo kokybės skirtumus tarp mokyklų, didinti pedagogų motyvaciją
A18: 01 | B18: 01 | C18: 01 | D18: Vykdyti švietimo programų įgyvendinimą ir užtikrinti tinkamą ugdymo(si) aplinką | E18: SBVB | F18: 17283.2 | G18: 17465.1 | H18: 17700 | I18: 18200 | J18: Vaikų skaičius ikimokyklinio ugdymo grupėse | K18: 1480 | L18: 1500 | M18: 1500
J19: Vaikų skaičius priešmokyklinio ugdymo grupėse | K19: 400 | L19: 400 | M19: 400
E20: SB | F20: 9315.4 | G20: 9623.7 | H20: 10195 | I20: 11650 | J20: Bendrojo ugdymo mokyklas lankančiųjų mokinių skaičius | K20: 5100 | L20: 5050 | M20: 5050
E21: ES | F21: 174.2 | G21: 174.2 | H21: 174.2 | I21: 174.2 | J21: Nelankančių bendrojo ugdymo mokyklų vaikų iki 16 metų skaičius | K21: 0 | L21: 0 | M21: 0
E22: ĮP | F22: 730.4 | G22: 730.4 | H22: 730 | I22: 730
A23: 01 | B23: 01 | C23: 02 | D23: Užtikrinti ugdymo programų įgyvendinimą ir tinkamą ugdymo (si) aplinką Kėdainių Dailės, Kalbų ir Muzikos mokyklose | E23: SBVB | F23: 67.2 | G23: 74.2 | H23: 75 | I23: 82 | J23: Vaikų, lankančių neformaliojo vaikų švietimo mokyklas, skaičius | K23: 1085 | L23: 1085 | M23: 1085
E24: SB | F24: 1512.1 | G24: 1528.7 | H24: 1590 | I24: 1630
E25: ĮP | F25: 184.2 | G25: 184.2 | H25: 180 | I25: 180
A26: 01 | B26: 01 | C26: 03 | D26: Teikti kvalifikuotą švietimo pagalbą mokiniui, mokytojui, mokyklai | E26: SBVB | F26: 374.6 | G26: 374.6 | H26: 410 | I26: 450 | J26: Organizuotų kvalifikacijos tobulinimo renginių skaičius / kvalifikaciją ir kompetenciją tobulinusių pedagogų, pagalbos mokinių specialistų, vadovų skaičius | K26: 150 / 3500 | L26: 150 / 3500 | M26: 150 / 3500
E27: SB | F27: 135 | G27: 140.3 | H27: 145 | I27: 155
E28: ES | F28: 0 | G28: 0 | H28: 0 | I28: 0
E29: ĮP | F29: 12.2 | G29: 12.2 | H29: 12 | I29: 12
A30: 01 | B30: 01 | C30: 04 | D30: Organizuoti brandos egzaminų sesiją, pagrindinio ugdymo pasiekimų patikrinimą, nacionalinį mokinių pasiekimų patikrinimą bei tyrimus | E30: SBVB | F30: 9.4 | G30: 9.4 | H30: 9.4 | I30: 9.4 | J30: Brandos egzaminus laikančiųjų skaičius | K30: 375 | L30: 370 | M30: 370
A31: 01 | B31: 01 | C31: 05 | D31: Vykdyti neformaliojo vaikų švietimo programas | E31: SBVB | F31: 262.8 | G31: 262.8 | H31: 275 | I31: 280 | J31: Įgyvendinamų programų skaičius | K31: 40 | L31: 40 | M31: 40
E32: SB | F32: 229.1 | G32: 229.1 | H32: 260 | I32: 280
A33: 01 | B33: 01 | C33: 06 | D33: Įgyvendinti neformaliojo suaugusiųjų švietimo ir tęstinio mokymosi veiksmų planą | E33: SB | F33: 5 | G33: 5 | H33: 5 | I33: 5 | J33: Įgyvendintų programų skaičius | K33: 8 | L33: 8 | M33: 8
A34: 01 | B34: 01 | C34: 07 | D34: Įgyvendinti Kėdainių rajono savivaldybės mokytojų motyvacijos programą | E34: SB | F34: 69 | G34: 69 | H34: 69 | I34: 69 | J34: Savivaldybės mokyklose dirbančių mokytojų, kurie paskatinti, skaičius | K34: 600 | L34: 600 | M34: 600
A35: 01 | B35: 01 | C35: 08 | D35: Kompensuoti švietimo įstaigų darbuotojų važiavimo į/iš darbo išlaidas | E35: SB | F35: 98 | G35: 98 | H35: 98 | I35: 98 | J35: Mokytojų ir kitų ugdymo procese dalyvaujančių specialistų, kuriems kompensuojamos išlaidos, skaičius | K35: 250 | L35: 250 | M35: 250
A36: 01 | B36: 01 | C36: 09 | D36: Vykdyti skaitmeninio ugdymo plėtrą | E36: SBVB | F36: 155.8 | G36: 155.8 | H36: 150 | I36: 150 | J36: Įstaigų, plečiančių skaitmeninimą, skaičius | K36: 17 | L36: 17 | M36: 17
A37: 01 | B37: 01 | C37: 10 | D37: Finansuoti vaikų vasaros stovyklų ir kitų neformaliojo vaikų švietimo veiklų programas | E37: SB | F37: 50 | G37: 50 | H37: 50 | I37: 50 | J37: Finansuotų vaikų vasaros poilsio ir užimtumo programų skaičius | K37: 35 | L37: 35 | M37: 35
E38: SBVB | F38: 0 | G38: 0 | H38: 0 | I38: 0
A39: 01 | B39: 01 | C39: 11 | D39: Skatinti savivaldybės gabius mokinius | E39: SB | F39: 14 | G39: 14 | H39: 14 | I39: 14 | J39: Mokinių, kuriems skirti piniginiai prizai, skaičius | K39: 110 | L39: 110 | M39: 110
A40: 01 | B40: 01 | C40: 12 | D40: Koofinansuoti švietimo įstaigų dalyvavimą infrastruktūros gerinimo/modernizavimo projektuose | E40: SB | F40: 50 | G40: 50 | H40: 40 | I40: 40 | J40: Įstaigų, kurioms skirtas finansavimas, skaičius | K40: 3 | L40: 3 | M40: 3
A41: 01 | B41: 01 | C41: 13 | D41: Organizuoti ir užtikrinti Švietimo skyriaus specialistų darbą | E41: SB | F41: 152.2 | G41: 152.2 | H41: 165 | I41: 170 | J41: Kuruojamų švietimo įstaigų skaičius | K41: 28 | L41: 28 | M41: 28
E42: SBVB | F42: 8.1 | G42: 8.1 | H42: 8.1 | I42: 8.1
A43: 01 | B43: 01 | C43: 14 | D43: Teikti Metų mokytojo apdovanojimą | E43: SB | F43: 3 | G43: 3 | H43: 3 | I43: 3 | J43: Įteiktų apdovanojimų skaičius | K43: 1 | L43: 1 | M43: 1
...

Sheet 02sveikat.
J1: 2 priedas
A2: 2 lentelė. 2022–2024 m. Sveikatos apsaugos (02) programos tikslai, uždaviniai, priemonės, asignavimai ir vertinimo kriterijai
J3: tūkst. Eur
A4: Programos tikslo kodas | B4: Uždavinio kodas | C4: Priemonės kodas | D4: Priemonės pavadinimas | E4: Finansavimo šaltinis | F4: * 2022-ųjų m. asignavimai | G4: Patikslinti 2022-ųjų m. asignavimai | H4: Numatomi 2023-ųjų m. asignavimai | I4: Numatomi 2024-ųjų m. asignavimai | J4: Vertinimo kriterijai
J5: Pavadinimas
K6: 2022 -ieji m. | L6: 2023 -ieji m. | M6: 2024 -ieji m.
A9: 02 SVEIKATOS APSAUGA
A10: 01 | B10: Stiprinti ir išsaugoti gyventojų sveikatą
A11: 01 | B11: 01 | C11: Sudaryti sąlygas gyventojams stiprinti sveikatą, kurti ir plėtoti su sveikatos stiprinimu susijusias paslaugas
A12: 01 | B12: 01 | C12: 01 | D12: Vykdyti Visuomenės sveikatos rėmimo specialiosios programos priemones | E12: AA | F12: 87.3 | G12: 87.3 | H12: 70 | I12: 70 | J12: Visuomenės sveikatos rėmimo specialiosios programos įgyvendinimas, proc. | K12: 100 | L12: 100 | M12: 100
A13: 01 | B13: 01 | C13: 02 | D13: Užtikrinti Kėdainių rajono savivaldybės visuomenės sveikatos biuro veiklą, vykdant visuomenės sveikatos priežiūros funkcijas | E13: SB | F13: 63.7 | G13: 93.7 | H13: 66 | I13: 76 | J13: Visuomenės sveikatos biuro vykdomų priemonių / dalyvavusiųjų skaičius | K13: 2250/ 42000 | L13: 2300/ 45000 | M13: 2300/ 45000
E14: SBVB | F14: 543.5 | G14: 593.5 | H14: 593.5 | I14: 593.5
E15: ĮP | F15: 11.8 | G15: 11.8 | H15: 11.8 | I15: 11.8
A16: 01 | B16: 01 | C16: 03 | D16: Peržiūrėti neveiksniais pripažintų asmenų būklę | E16: SBVB | F16: 2.5 | G16: 2.5 | H16: 1.7 | I16: 1.7 | J16: Asmenų, kurių neveiksnumas peržiūrėtas, skaičius | K16: 60 | L16: 60 | M16: 60
A17: 01 | B17: 01 | C17: 04 | D17: Gerinti pirminės asmens sveikatos priežiūros paslaugų teikimo prieinamumą tuberkuliozės srityje | E17: SB | F17: 7 | G17: 0.1 | H17: 0.6 | I17: 0 | J17: Tuberkulioze sergančių pacientų, kuriems buvo suteiktos socialinės paramos priemonės tuberkuliozės gydymo metu | K17: 4 | L17: 4
E18: ES | F18: 7.4 | G18: 0.4 | H18: 7 | I18: 0
E19: VB | F19: 0.7 | G19: 0.1 | H19: 0.6 | I19: 0
A20: 01 | B20: 01 | C20: 05 | D20: Įgyvendinti projektą "Jaunimui palankios sveikatos priežiūros paslaugos" | E20: SB | F20: 0 | G20: 0 | H20: 15 | I20: 19 | J20: Tikslinių grupių asmenys, dalyvaujantys projekte/pasitenkinimo suteiktomis paslaugomis lygis penkių balų sistemoje (ne mažiau) | M20: 500/ 4,5
E21: ES | F21: 40 | G21: 40 | H21: 21 | I21: 0
A22: 01 | B22: 01 | C22: 06 | D22: Aprūpinti ikimokyklinio ugdymo įstaigų sveikatos kabinetus metodinėmis priemonėmis | E22: SB | F22: 35 | G22: 35 | H22: 16 | I22: 0 | J22: Ikimokyklinio ir mokyklinio ugdymo įstaigų sveikatos kabinetų, kuriuose atliktas remontas/ kabinetų, aprūpintų metodinėmis priemonėmis, skaičius | L22: 10/29
E23: ES | F23: 100 | G23: 100 | H23: 46 | I23: 0
A24: 01 | B24: 01 | C24: 07 | D24: Kompensuoti patirtas išlaidas už skiepijimo nuo COVID-19 ligos (koronaviruso infekcijos) paslaugas | E24: SBVB | F24: 300 | G24: 0 | H24: 0 | I24: 0 | J24: Paskiepytų vakcina gyventojų procentinė dalis (ne mažiau)
A25: 01 | B25: 01 | C25: Iš viso uždaviniui | F25: =SUM(F12:F24) -> 1198.9 | G25: =SUM(G12:G24) -> 964.4 | H25: =SUM(H12:H24) -> 849.2 | I25: =SUM(I12:I24) -> 772
A26: 01 | B26: Iš viso tikslui | F26: =+F25 -> 1198.9 | G26: =+G25 -> 964.4 | H26: =+H25 -> 849.2 | I26: =+I25 -> 772
A27: 02 | B27: Gerinti sveikatos priežiūros paslaugų kokybę ir prieinamumą, plėsti paslaugų spektrą, atnaujinti materialinę aplinką
A28: 02 | B28: 01 | C28: Siekti gyventojų sveikatos išsaugojimo, gerinant sveikatos priežiūros paslaugų kokybę ir prieinamumą
A29: 02 | B29: 01 | C29: 01 | D29: Vykdyti E. sveikatos informacinės sistemos diegimo, palaikymo ir tobulinimo VšĮ PSPC ir VšĮ Kėdainių ligoninėje 2022-2026 m. programą | E29: SB | F29: 43.9 | G29: 44.9 | H29: 20 | I29: 20 | J29: Atnaujintos ir E. sveikatos IS funkcionalumui pritaikytos įrangos skaičius | K29: 6 | L29: 6 | M29: 6
E30: PR | F30: 35.5 | G30: 35.5 | H30: 47.2 | I30: 47.2
A31: 02 | B31: 01 | C31: 02 | D31: Vykdyti VšĮ Kėdainių ligoninės dantų protezavimo programą | E31: SB | F31: 20 | G31: 20 | H31: 20 | I31: 20 | J31: Suteiktų dantų protezavimo paslaugų, finansuojamų savivaldybės biudžeto lėšomis, skaičius | K31: 41 | L31: 41 | M31: 41
A32: 02 | B32: 01 | C32: 03 | D32: Vykdyti Kėdainių rajono tuberkuliozės prevencijos, ankstyvosios diagnostikos, gydymo ir kontrolės 2017–2022 m. programą | E32: SB | F32: 26.2 | G32: 26.2 | H32: 0 | I32: 0 | J32: Įsigytos įrangos skaičius (lizingas)/atliktų tyrimų ir paslaugų sk. | K32: 1/3000/ 5000
E33: PR | F33: 1 | G33: 1 | H33: 0 | I33: 0
A34: 02 | B34: 01 | C34: 04 | D34: Vykdyti Ultragarsinių diagnostinių paslaugų teikimo efektyvumo gerinimo Kėdainių rajono savivaldybėje 2017–2022 m. programą | E34: SB | F34: 5.2 | G34: 5.2 | H34: 0 | I34: 0 | J34: Atliktų echoskopijų skaičius per metus | K34: 14500
A35: 02 | B35: 01 | C35: 05 | D35: Vykdyti pirminės asmens sveikatos priežiūros paslaugų prieinamumo ir kokybės užtikrinimo Kėdainių rajono kaimiškųjų vietovių gyventojams 2017–2023 m. programą | E35: SB | F35: 48 | G35: 96.5 | H35: 30 | I35: 0 | J35: Pacientų, patenkintų pirminės asmens sveikatos priežiūros paslaugų kokybe, skaičiaus didėjimas (proc.). | K35: 3 | L35: 3
A36: 02 | B36: 01 | C36: 06 | D36: Vykdyti ambulatorinės akušerinės ir ginekologinės pagalbos kokybės gerinimo Kėdainių rajono savivaldybės moterims 2019-2024 m. programą | E36: SB | F36: 7 | G36: 6 | H36: 7 | I36: 3 | J36: Įsigytos įrangos skaičius/ vidutinis atliktų ultragarsinių tyrimų skaičius | K36: 285 | L36: 285 | M36: 285
A37: 02 | B37: 01 | C37: 07 | D37: Vykdyti endoskopinių paslaugų prieinamumo ir kokybės gerinimo Kėdainių rajono savivaldybėje 2020-2025 m. programą | E37: SB | F37: 21.1 | G37: 21.1 | H37: 21.1 | I37: 21.1 | J37: Įsigytos įrangos skaičius / atliktų endoskopijų ir kolonoskopijų skaičius | K37: 1750 | L37: 1750 | M37: 1750
A38: 02 | B38: 01 | C38: 08 | D38: Vykdyti mamografijos paslaugų tęstinumo, kokybės gerinimo Kėdainių rajono savivaldybėje 2020-2025 m. programą | E38: SB | F38: 19.1 | G38: 19.1 | H38: 19.1 | I38: 19.1 | J38: Įsigytos įrangos skaičius / atliktų mamografijų ir vertinimo paslaugų skaičius per metus | K38: 1800 | L38: 1800 | M38: 1800
A39: 02 | B39: 01 | C39: 09 | D39: Vykdyti trūkstamos sveikatos priežiūros specialistų skatinimo dirbti Kėdainių rajono savivaldybės viešosiose asmens priežiūros įstaigose 2022-2026 m. programą | E39: SB | F39: 18.2 | G39: 18.2 | H39: 18.2 | I39: 18.2 | J39: Naujai atvykusių dirbti į Kėdainių PSPC bei Kėdainių ligoninę specialistų skaičius | K39: 3 | L39: 3 | M39: 3
E40: PR | F40: 18 | G40: 18 | H40: 18 | I40: 18
A41: 02 | B41: 01 | C41: 10 | D41: Diegti pacientų eilių valdymo sistemą Kėdainių rajono asmens sveikatos priežiūros įstaigose | E41: SB | F41: 23 | G41: 14 | H41: 0 | I41: 0 | J41: Įsigytos / palaikomos pacientų eilių valdymo sistemos įrangos skaičius | K41: 1
E42: PR | F42: 12.5 | G42: 12.5 | H42: 0 | I42: 0
...

Sheet Sveikatos 02.01.16
A1: VŠĮ KĖDAINIŲ PIRMINĖS SVEIKATOS PRIEŽIŪROS CENTRAS
A3: PIRMINĖS ASMENS SVEIKATOS PRIEŽIŪROS PRIEINAMUMO UŽTIKRINIMO KĖDAINIŲ RAJ. PERNARAVOS SENIŪNIJOS LANGAKIŲ KAIMO GYVENTOJAMS PROGRAMOS PARAIŠKA
A5: I SKYRIUS
A6: BENDROSIOS NUOSTATOS
A8: 1. Pirminės asmens sveikatos priežiūros prieinamumo užtikrinimo Kėdainių raj. Pernaravos seniūnijos Langakių kaimo gyventojams programa (toliau – Programa) parengta, vadovaujantis Kėdainių rajono savivaldybės strateginio plėtros plano iki 2030 metų, II prioriteto „Aukšta gyvenimo kokybė socialiai atsakingame rajone“ 2.3. tikslo „Gyventojų sveikatos išsaugojimas ir stiprinimas“ 2.3.1. uždavinio „Modernizuoti ir optimizuoti sveikatos priežiūros įstaigų infrastruktūrą“ 2.3.1.1. priemone „Skatinti atnaujinti ir (arba) plėsti Kėdainių rajono savivaldybės asmens ir visuomenės sveikatos priežiūros įstaigų vidaus ir išorės infrastruktūrą“ ir 2.3.1.2. priemone „Skatinti atnaujinti ir (arba) plėsti Kėdainių rajono savivaldybės asmens ir visuomenės sveikatos priežiūros įstaigų medicininę įrangą, materialinę aplinką“, taip pat atitinka 2.3.2. uždavinio „Siekti gyventojų sveikatos išsaugojimo, gerinant sveikatos priežiūros paslaugų kokybę ir prieinamumą“ 2.3.2.1. priemonę „Gerinti sveikatos priežiūros paslaugas, diegti naujas bei didinti jų prieinamumą Kėdainių rajone“.
A9: 2. Programa parengta, atsižvelgiant į Kėdainių raj. savivaldybės tarybos 2021 m. rugpjūčio 27 d. posėdžio sprendimo Nr. TS-201 „Dėl Kėdainių rajono savivaldybės tarybos 2021 m. vasario 26 d. sprendimo Nr. TS-26 „Dėl Kėdainių rajono savivaldybės 2021 metų biudžeto tvirtinimo“ pakeitimo“ 35.14.4. p. „Įrengti medicinos punktą Langakių kaime“.
A11: II SKYRIUS
A12: SITUACIJOS ANALIZĖ
A14: 3. Sveikatos netolygumų mažinimo Lietuvoje 2014–2023 m. veiksmų plane, aptariant sveikatos priežiūros prieinamumo ir kokybės skirtumus teritoriniu aspektu, nurodoma, kad skirtingas sveikatos paslaugų prieinamumas ir dėl įvairių priežasčių ribota galimybė pasinaudoti sveikatos priežiūros paslaugomis gali lemti kai kurių gyventojų grupių sveikatos netolygumų didėjimą. Sveikatos priežiūros paslaugų prieinamumas suprantamas kaip tam tikros teritorijos gyventojų realizuota galimybė gauti jiems reikiamas gydymo ar slaugymo paslaugas. Dažnai prieinamumas neatsiejamas nuo paslaugų kokybės.
A15: 4. Lietuvos sveikatos 2014–2025 metų programoje nurodoma, jog būtina plėtoti sveikatos infrastuktūrą ir gerinti sveikatos priežiūros paslaugų kokybę, saugą, prieinamumą ir į pacientą orientuotą sveikatos priežiūrą, sudarant galimybes gauti kokybiškas paslaugas arčiau gyvenamosios vietos.
A16: 5. Kėdainių PSPC taip pat įgyvendina Europos Sąjungos finansuojamus projektus – didina darbuotojų kompetenciją, plečia paslaugų asortimentą. Nors visi atliekami darbai sudaro galimybes tenkinti gyventojų pirminės sveikatos priežiūros poreikius, tačiau turimos lėšos neužtikrina efektyviai dirbančios organizacijos statuso, ypač trūksta lėšų ambulatorijų ir kaimo medicinos punktų išlaikymui, atnaujinimui, medicinos įrangos / inventoriaus / priemonių įsigijimui, važinėjančių gydytojų transporto išlaidų kompensavimui.
A17: 6. Langakių kaimas užima teritoriją Kėdainių rajono pakraštyje ir gyventojai Pernaravos seniūnijos centre esančią Pernaravos ambulatoriją gali pasiekti tik automobiliais. Susisiekimo autobusu nėra. Langakių medicinos punkte dirba bendruomenės slaugytoja.
... A97: ____________________________________

Sheet 03social.
J1: 3 priedas
A2: 3 lentelė. 2022–2024 m. Socialinės apsaugos plėtojimo programos (03) tikslai, uždaviniai, priemonės, asignavimai ir vertinimo kriterijai
L3: tūkst. Eur
A4: Programos tikslo kodas | B4: Uždavinio kodas | C4: Priemonės kodas | D4: Priemonės pavadinimas | E4: Finansavimo šaltinis | F4: *2022-ųjų m. asignavimai | G4: Patikslinti 2022-ųjų m. asignavimai | H4: Numatomi 2023-ųjų m. asignavimai | I4: Numatomi 2024-ųjų m. asignavimai | J4: Vertinimo kriterijai
J5: Pavadinimas
K6: 2022 -ieji m. | L6: 2023 -ieji m. | M6: 2024 -ieji m.
A9: 03 SOCIALINĖS APSAUGOS PLĖTOJIMAS
A10: 01 | B10: Organizuoti socialinę paramą ir skatinti socialinę integraciją
A11: 01 | B11: 01 | C11: Organizuoti Lietuvos Respublikos teisės aktuose numatytos paramos bei paslaugų asmenims ir šeimoms teikimą
A12: 01 | B12: 01 | C12: 01 | D12: Teikti ir administruoti socialines išmokas ir kompensacijas (būsto šildymo išlaidų, išlaidų šaltam bei nuotekoms ir išlaidų karštam vandeniui) | E12: SBVB | F12: 387.6 | G12: 411.3 | H12: 420 | I12: 440 | J12: Asmenų, gaunančių socialinę pašalpą ir kompensacijas, skaičius | K12: 6900 | L12: 6900 | M12: 6900
E13: SB | F13: 2967.1 | G13: 2775.5 | H13: 3000 | I13: 3100
E14: ĮP | F14: 0.1 | G14: 0.1 | H14: 0.1 | I14: 0.1
A15: 01 | B15: 01 | C15: 02 | D15: Dengti išlaidas už įsigytus produktus, mokinio reikmenis, administruoti socialinę paramą mokiniams | E15: SBVB | F15: 797.6 | G15: 868.3 | H15: 880 | I15: 880 | J15: Mokinių, gaunančių nemokamą maitinimą, skaičius | K15: 2300 | L15: 2300 | M15: 2300
J16: Mokinių, gaunančių būtiniausius mokinio reikmenis, skaičius | K16: 1250 | L16: 1226 | M16: 1214
A17: 01 | B17: 01 | C17: 03 | D17: Teikti socialinę globą asmenims su sunkia negalia | E17: SBVB | F17: 847.7 | G17: 908.3 | H17: 920 | I17: 940 | J17: Globojamų asmenų skaičius/globojamų asmenų, kuriems teikiamos paslaugos, procentas, palyginus su visais asmenimis, kuriems nustatytas paslaugos poreikis | K17: 210/98 | L17: 210/98 | M17: 210/98
A18: 01 | B18: 01 | C18: 04 | D18: Teikti socialinę priežiūrą socialinės rizikos šeimoms | E18: SBVB | F18: 828.8 | G18: 828.8 | H18: 830 | I18: 830 | J18: Socialinių darbuotojų ir atvejo vadybininkų darbui su šeimomis, patiriančiomis socialinę riziką, skaičius/šeimų, kurioms teikiamos paslaugos, procentas, palyginus su visomis šeimomis, kurioms nustatytas paslaugos poreikis | K18: 32/100 | L18: 32/100 | M18: 32/100
A19: 01 | B19: 01 | C19: 05 | D19: Organizuoti nemokamą socialiai remtinų vaikų maitinimą ikimokyklinėse įstaigose | E19: SB | F19: 50 | G19: 50 | H19: 50 | I19: 50 | J19: Vaikų, gaunančių nemokamą maitinimą, skaičius | K19: 340 | L19: 340 | M19: 340
A20: 01 | B20: 01 | C20: 06 | D20: Kompensuoti nemokamo mokinių maitinimo kainą bendrojo lavinimo mokyklose | E20: SB | F20: 150 | G20: 226 | H20: 150 | I20: 150 | J20: Mokinių, gaunančių nemokamą maitinimą, skaičius | K20: 2300 | L20: 2300 | M20: 2300
A21: 01 | B21: 01 | C21: 07 | D21: Teikti tikslines kompensacijas, išmokas neįgaliesiems | E21: VB | F21: 2982 | G21: 3130.8 | H21: 3130 | I21: 3130 | J21: Asmenų, gaunančių šalpos išmokas, skaičius | K21: 1429 | L21: 1420 | M21: 1420
E22: SBVB | F22: 0 | G22: 0.1 | H22: 0.1 | I22: 0.1
A23: 01 | B23: 01 | C23: 08 | D23: Teikti išmokas vaikams | E23: VB | F23: 10191 | G23: 10760.5 | H23: 10800 | I23: 10800 | J23: Asmenų, gaunančių išmokas vaikams, skaičius | K23: 11700 | L23: 11500 | M23: 11300
A24: 01 | B24: 01 | C24: 09 | D24: Organizuoti socialinės reabilitacijos paslaugų neįgaliesiems bendruomenėje projektų konkursus | E24: VB | F24: 0 | G24: 0 | H24: 0 | I24: 0 | J24: Neįgaliųjų, gavusių paslaugas, skaičius | K24: 380 | L24: 380 | M24: 380
E25: SBVB | F25: 84.1 | G25: 84.1 | H25: 84.1 | I25: 84.1
E26: SB | F26: 16 | G26: 16 | H26: 16 | I26: 16
A27: 01 | B27: 01 | C27: 10 | D27: Organizuoti ir dalinai kompensuoti būsto pritaikymą neįgaliesiems | E27: VB | F27: 0 | G27: 0 | H27: 0 | I27: 0 | J27: Pritaikytų būstų neįgaliesiems skaičius | K27: 7 | L27: 7 | M27: 7
E28: SBVB | F28: 24.8 | G28: 27 | H28: 27 | I28: 27
A29: 01 | B29: 01 | C29: 11 | D29: Kompensuoti komunalines išlaidas neįgaliesiems | E29: VB | F29: 0.1 | G29: 0.1 | H29: 0.1 | I29: 0.1 | J29: Neįgaliųjų, gavusių kompensacijas, skaičius | K29: 1 | L29: 1 | M29: 1
A30: 01 | B30: 01 | C30: 12 | D30: Teikti kompensacijas ginkluoto pasipriešinimo dalyvių šeimoms, sovietinėje armijoje sužalotiems asmenims bei žuvusiųjų šeimoms | E30: VB | F30: 1.6 | G30: 8.1 | H30: 6.7 | I30: 6.7 | J30: Asmenų, gavusių kompensacijas, skaičius | K30: 1 | L30: 1 | M30: 1
A31: 01 | B31: 01 | C31: 13 | D31: Kompensuoti būsto nuomos ar išperkamosios būsto nuomos mokesčių dalį | E31: SBVB | F31: 8.9 | G31: 8.9 | H31: 9 | I31: 9 | J31: Asmenų, gavusių būsto nuomos ar išperkamosios būsto nuomos mokesčių dalies kompensaciją, skaičius iš bendro asmenų, turinčių teisę į paramą būstui išsinuomoti ir įrašytų į sąrašus, skaičiaus, proc. | K31: 9 | L31: 9 | M31: 9
A32: 01 | B32: 01 | C32: 14 | D32: Teikti ir administruoti asmeninę pagalbą | E32: SBVB | F32: 150.4 | G32: 150.4 | H32: 150.4 | I32: 150.4 | J32: Asmenų, gaunančių išmokas, skaičius, tūkst. | K32: 6 | L32: 8 | M32: 8
A33: 01 | B33: 01 | C33: 15 | D33: Finansuoti išlaidas už būsto suteikimą užsieniečiams, pasitraukusiems iš Ukrainos dėl Rusijos Federacijos karinių veiksmų Ukrainoje | E33: SBVB | F33: 0 | G33: 87.9 | H33: 0 | I33: 0 | J33: Paramos pagal poreikį teikimas | K33: 100
A34: 01 | B34: 01 | C34: 16 | D34: Užtikrinti 2022 metais Lietuvos Respublikos piniginės socialinės paramos nepasiturintiems gyventojams įstatymo įgyvendinimą dėl valstybės remiamų pajamų dydžio padidinimo | E34: SBVB | F34: 0 | G34: 436.3 | H34: 0 | I34: 0 | J34: Paramos pagal poreikį teikimas | K34: 100
A35: 01 | B35: 01 | C35: 17 | D35: Kompensuoti iki 2022 m. birželio 13 d. savivaldybės patirtas išlaidas užsieniečiams, pasitraukusiems iš Ukrainos dėl Rusijos Federacijos karinių veiksmų Ukrainoje, priimti ir pagalbai jiems teikti įgyvendinant Lietuvos Respublikos piniginės socialinės paramos nepasiturintiems gyventojams įstatymą | E35: SBVB | F35: 0 | G35: 20.7 | H35: 0 | I35: 0 | J35: Gautos kompensacijjos dalis, proc., per numatytą laikotarpį | K35: 100
A36: 01 | B36: 01 | C36: 18 | D36: Teikti vienkartines išmokas įsikurti gyvenamojoje vietoje savivaldybės teritorijoje ir (ar) mėnesines kompensacijas vaiko ugdymo pagal ikimokyklinio ir priešmokyklinio ugdymo programą | E36: SBVB | F36: 0 | G36: 3.3 | H36: 0 | I36: 0 | J36: Paramos pagal poreikį teikimas | K36: 100
A37: 01 | B37: 01 | C37: Iš viso uždaviniui | F37: =SUM(F12:F36) -> 19487.8 | G37: =SUM(G12:G36) -> 20802.5 | H37: =SUM(H12:H36) -> 20473.5 | I37: =SUM(I12:I36) -> 20613.5
A38: 01 | B38: 02 | C38: Organizuoti socialinės paramos ir paslaugų teikimą Lietuvos Respublikos įstatymuose nenumatytais atvejais
A39: 01 | B39: 02 | C39: 01 | D39: Teikti savivaldybės paramą neįgaliesiems, senyvo amžiaus asmenims, vaikams ir daugiavaikėms, skurdžiai gyvenančioms, nuo stichinių nelaimių nukentėjusioms šeimoms, pirkti socialines paslaugas | E39: SB | F39: 440 | G39: 440 | H39: 480 | I39: 480 | J39: Asmenų, gaunančių savivaldybės paramą, skaičius | K39: 4500 | L39: 4500 | M39: 4500
E40: SB | F40: 186.9 | G40: 201.9 | H40: 186.9 | I40: 186.9
A41: 01 | B41: 02 | C41: 02 | D41: Dengti kainų skirtumą gyventojams už šildymą | E41: SB | F41: 80 | G41: 153.5 | H41: 80 | I41: 80 | J41: Asmenų, kuriems dengiamas kainų skirtumas, skaičius | K41: 500 | L41: 500 | M41: 500
A42: 01 | B42: 02 | C42: 03 | D42: Kompensuoti karšto ir šalto vandens pardavimo kainą socialiai remtiniems asmenims | E42: SB | F42: 131 | G42: 129.5 | H42: 131 | I42: 131 | J42: Asmenų, gaunančių kompensaciją, skaičius | K42: 5800 | L42: 5800 | M42: 5800
...

Sheet 04sport.
K1: 4 priedas
A2: 4 lentelė. 2022–2024 m. Sporto veiklos plėtros programos (04) tikslai, uždaviniai, priemonės, asignavimai ir vertinimo kriterijai
J3: tūkst. Eur
A4: Programos tikslo kodas | B4: Uždavinio kodas | C4: Priemonės kodas | D4: Priemonės pavadinimas | E4: Finansavimo šaltinis | F4: *2022-ųjų m. asignavimai | G4: Patikslinti 2022-ųjų m. asignavimai | H4: Numatomi 2023-ųjų m. asignavimai | I4: Numatomi 2024-ųjų m. asignavimai | J4: Vertinimo kriterijai
J5: Pavadinimas
K6: 2022 -ieji m. | L6: 2023 -ieji m. | M6: 2024 -ieji m.
A9: 04 SPORTO VEIKLOS PLĖTRA
A10: 01 | B10: 01 tikslas. Didinti gyventojų fizinį aktyvumą, ugdyti sportišką bendruomenę
A11: 01 | B11: 01 | C11: Užtikrinti Kultūros ir sporto skyriaus veiklą kūno kultūros ir sporto srityje
A12: 01 | B12: 01 | C12: 01 | D12: Organizuoti ir užtikrinti Kultūros ir sporto skyriaus veiklą kūno kultūros ir sporto srityje | E12: SB | F12: 59.5 | G12: 59.5 | H12: 63 | I12: 66 | J12: Kultivuojamų sporto šakų skaičius | K12: 31 | L12: 31 | M12: 31
A13: 01 | B13: 01 | C13: Iš viso uždaviniui | F13: =SUM(F12) -> 59.5 | G13: =SUM(G12) -> 59.5 | H13: =SUM(H12) -> 63 | I13: =SUM(I12) -> 66
A14: 01 | B14: 02 | C14: Užtikrinti efektyvią Kėdainių sporto centro veiklą, vykdyti organizuojamus renginius
A15: 01 | B15: 02 | C15: 01 | D15: Organizuoti ir užtikrinti Kėdainių sporto centro veiklą, organizuoti ir vykdyti sveikatingumo bei sportinius renginius | E15: SB | F15: 892 | G15: 923 | H15: 920 | I15: 940 | J15: Asmenų, lankančių įstaigą, skaičius /sveikatingumo, sportinių renginių rajone skaičius | K15: 500/5/ 14 | L15: 500/5/ 14 | M15: 500/5/ 14
E16: SBVB | F16: 55.3 | G16: 55.3 | H16: 58 | I16: 60
E17: ĮP | F17: 83.7 | G17: 103.2 | H17: 86 | I17: 90
F18: =SUM(F15:F17) -> 1031 | G18: =SUM(G15:G17) -> 1081.5 | H18: =SUM(H15:H17) -> 1064 | I18: =SUM(I15:I17) -> 1090
A19: 01 | B19: 03 | C19: Ugdyti sveiką, aktyvų, savimi ir savo gebėjimais pasitikinti pilietį bei sudaryti sąlygas gyventojų fiziniam aktyvumui
A20: 01 | B20: 03 | C20: 01 | D20: Finansuoti Vaikų mokymo plaukti veiklos programą, dalyvaujant projekte „Mokėk plaukti ir saugiau elgtis vandenyje“ | E20: SB | F20: 10.3 | G20: 10.3 | H20: 10.3 | I20: 10.3 | J20: Programoje dalyvaujančių vaikų skaičius | K20: 300/14 | L20: 300/14 | M20: 300/14
E21: VB | F21: 16.2 | G21: 16.2 | H21: 16.2 | I21: 16.2
A22: 01 | B22: 03 | C22: 02 | D22: Skatinti Neįgaliųjų fizinį aktyvumą, organizuoti sporto renginius ir sporto treniruočių stovyklas | E22: SB | F22: 3.5 | G22: 3.5 | H22: 3.5 | I22: 3.5 | J22: Neįgaliųjų kūno kultūros ir sporto renginių skaičius / stovyklų skaičius | K22: 6/4 | L22: 6/4 | M22: 6/4
A23: 01 | B23: 03 | C23: 03 | D23: Organizuoti sporto metodininkų veiklas kaimiškosiose seniūnijose | E23: SB | F23: 30.5 | G23: 30.5 | H23: 32 | I23: 34 | J23: Metodininkų, besirūpinančių sportine veikla seniūnijose, skaičius | K23: 10 | L23: 10 | M23: 10
A24: 01 | B24: 03 | C24: Iš viso uždaviniui | F24: =SUM(F20:F23) -> 60.5 | G24: =SUM(G20:G23) -> 60.5 | H24: =SUM(H20:H23) -> 62 | I24: =SUM(I20:I23) -> 64
A25: 01 | B25: 04 | C25: Vystyti įvairias gyventojų poreikius atitinkančias sporto šakas, didinti sportinės veiklos žinomumą Kėdainių rajone
A26: 01 | B26: 04 | C26: 01 | D26: Organizuoti rajoninius, respublikinius, tarptautinius visų amžiaus grupių aukšto meistriškumo sporto renginius ir aukšto meistriškumo sporto treniruočių stovyklas | E26: SB | F26: 45 | G26: 45 | H26: 33 | I26: 33 | J26: Suorganizuotų rajoninių, respublikinių ir tarptautinių kūno kultūros ir sporto renginių skaičius / veteranų sporto šakų skaičius / stovyklų skaičius | K26: 18/12/8 | L26: 18/12/5 | M26: 18/12/5
A27: 01 | B27: 04 | C27: Iš viso uždaviniui | F27: =SUM(F26:F26) -> 45 | G27: =SUM(G26:G26) -> 45 | H27: =SUM(H26:H26) -> 33 | I27: =SUM(I26:I26) -> 33
A28: 01 | B28: 05 | C28: Skatinti Kėdainių rajono sporto organizacijas, sporto komandas ir sportininkus, finansuoti sporto veiklos projektus ir programas
A29: 01 | B29: 05 | C29: 01 | D29: Finansuoti sporto šakų programas, iš jų: | E29: SB | F29: =SUM(F30:F34) -> 415 | G29: =SUM(G30:G34) -> 435 | H29: =SUM(H30:H34) -> 415 | I29: =SUM(I30:I34) -> 415 | J29: Finansuotų sporto šakų programų skaičius | K29: 5 | L29: 4 | M29: 4
C30: 01. 01 | D30: VšĮ "Veržlusis Nevėžis" krepšinio komandos Kėdainių "Nevėžis - Optibet" veiklos programai | E30: SB | F30: 200 | G30: 200 | H30: 200 | I30: 200 | J30: Užimta vieta 2021/2022m. LKL čempionate/ žiūrovų, stebinčių rungtynes, skaičiaus vidurkis/socialinių projektų krašto bendruomenei skaičius / vasaros stovyklų kėdainiečiams vaikams skaičius | K30: 10/ 800 /19/2 | L30: 8 -9/ 1000 / 2/2 | M30: 7/ 1000 / 2/2
C31: 01. 02 | D31: VšĮ „Sporto perspektyvos“ veiklos programai | E31: SB | F31: 100 | G31: 100 | H31: 100 | I31: 100 | J31: Užimta vieta LFF pirmosios lygos pirmenybėse / žiūrovų, stebinčių rungtynes, skaičiaus vidurkis/ sportinių-mokomųjų stovyklų skaičius/išugdytų kėdainiečių, atstovaujančių FK "Nevėžis" suaugusiųjų komandoje, skaičius | K31: 5-6 /300/8/6 | L31: 5-6 /300/8/6 | M31: 5-6 /300/8/6
C32: 01. 03 | D32: Kėdainių bokso federacijos veiklos programai | E32: SB | F32: 15 | G32: 15 | H32: 15 | I32: 15 | J32: Įvairaus amžiaus grupių šalies bokso čempionatuose iškovotų medalių skaičius/tarptautinėse bokso varžybose iškovotų medalių skaičius/sporto treniruočių stovyklų skaičius/paruoštų boksininkų šalies bokso rinktinei skaičius | K32: 23/5/14/1 | L32: 10/5/14/1 | M32: 10/5/14/1
C33: 01. 04 | D33: VšĮ „Sporto perspektyvos“ vaikų ir jaunimo futbolo plėtros veiklos programai | E33: SB | F33: 100 | G33: 100 | H33: 100 | I33: 100 | J33: Sportuojančių vaikų skaičius/ dalyvaujančių LFF vaikų pirmenybėse komandų skaičius/FK "Nevėžis" vyrų komandos papildymas jaunais žaidėjais skaičius | K33: 250/7/6 | L33: 250/7/6 | M33: 250/7/6
C34: 01. 05 | D34: Asociacijos "Krepšinio naktis" 3 prieš 3 krepšinio komandos veiklos programai | E34: SB | F34: 0 | G34: 20 | H34: 0 | I34: 0 | J34: Turnyrų, kuriuose dalyvauta, skaičius/ Tarptautinių FIBA "Challenger" turnyrų, kuriuose dalyvauta, skaičius | K34: 13/2
A35: 01 | B35: 05 | C35: 02 | D35: Finansuoti fizinio aktyvumo ir sporto veiklos projektus | E35: SB | F35: 55 | G35: 55 | H35: 55 | I35: 55 | J35: Finansuojamų projektų skaičius | K35: 25 | L35: 25 | M35: 25
A36: 01 | B36: 05 | C36: 03 | D36: Teikti apdovanojimus aukšto meistriškumo sportininkams ir jų treneriams už sporto pasiekimus | E36: SB | F36: 10 | G36: 10 | H36: 10 | I36: 10 | J36: Teiktų premijų skaičius (ne mažiau) | K36: 10 | L36: 10 | M36: 10
A37: 01 | B37: 05 | C37: Iš viso uždaviniui | F37: =+F35+F29+F36 -> 480 | G37: =+G35+G29+G36 -> 500 | H37: =+H35+H29+H36 -> 480 | I37: =+I35+I29+I36 -> 480
A38: 01 | B38: Iš viso tikslui | F38: =+F37+F27+F24+F18+F13 -> 1676 | G38: =+G37+G27+G24+G18+G13 -> 1746.5 | H38: =+H37+H27+H24+H18+H13 -> 1702 | I38: =+I37+I27+I24+I18+I13 -> 1733
A39: 02 | B39: Atnaujinti ir plėsti Kėdainių rajono savivaldybės sporto infrastruktūrą, pritaikyti ją šiuolaikiniams poreikiams
A40: 02 | B40: 01 | C40: Modernizuoti sporto objektų materialinę bazę, sudarant sąlygas fizinio aktyvumo ugdymui
A41: 02 | B41: 01 | C41: 01 | D41: Atnaujinti ir (arba) plėsti bendruomeninę fizinio aktyvumo infrastruktūrą mieste ir rajone, pritaikant ją bendruomenės poreikiams bei laisvalaikiui | E41: SB | F41: 30 | G41: 50 | H41: 30 | I41: 30 | J41: Atnaujintų/įrengtų vaikų sporto ir žaidimų aikštelių skaičius | K41: 5 | L41: 3 | M41: 3
A42: 02 | B42: 01 | C42: 02 | D42: Tobulinti Kėdainių sporto centro infrastruktūrą (Parko g. 4, Vilainiai) | E42: SB | F42: 0 | G42: 0 | H42: 0 | I42: 0 | J42: Atnaujintų viešosios paskirties pastatų skaičius | K42: 1
...

Sheet Sporto 01.05.01.05
A1: ASOCIACIJOS „KREPŠINIO NAKTIS“
A2: 3 PRIEŠ 3 KREPŠINIO KOMANDOS
A3: 2022 M. VEIKLOS PROGRAMOS PARAIŠKA
A5: I SKYRIUS
A6: BENDROJI DALIS
A8: 1. Asociacija „Krepšinio naktis“ (toliau – Įstaiga) įregistruota valstybės įmonės Registrų centro Juridinių asmenų registre 2017 m. gegužės 11 d. Įstaigos kodas − 304523556. Adresas: J.Basanavičiaus g. 79-25 , Kėdainiai, tel. 8 642 91454.
A9: 2. Įstaigoje darbas organizuojamas vadovaujantis Lietuvos Respublikos Konstitucija, Lietuvos Respublikos kodeksais ir įstatymais, Lietuvos Respublikos Vyriausybės nutarimais ir kitais teisės aktais, Socialinės apsaugos ir darbo ministerijos ministro įsakymais, Įstaigos įstatais, visuotinio dalininkų susirinkimo sprendimais, darbo tvarkos taisyklėmis ir vadovo įsakymais.
A10: 3. Veiklos tikslas nėra pelno siekimas, Įstaiga veikia sporto, socialinėje, kultūros ir švietimo srityse ir teikia šių sričių paslaugas visuomenės nariams.
A12: II SKYRIUS
A13: SITUACIJOS ANALIZĖ
A15: 4. Kėdainių 3 prieš 3 komandos vaikinai dalyvauja 3 prieš 3 čempionatuose nuo 2018 m. vasaros. Praėjusiais metais buvo pradėti dalyvauti ir tarptautiniuose turnyruose, taip pat nuo praėjusių metu organizuojamas Lietuvos 3 prieš 3 krepšinio čempionatas.
A16: 5. Žmogiškieji ištekliai: Komandą sudaro viso 6 asmenys, 5 žaidėjai, 1 administracijos darbuotojas. Visi žaidėjai ir administracijos darbuotojai yra iš Kėdainių.
... A82: ________________________

Sheet 05kultura
K1: 5 priedas
A2: 5 lentelė. 2022–2024 m. Kultūros veiklos plėtros programos (05) tikslai, uždaviniai, priemonės, asignavimai ir vertinimo kriterijai
A3: tūkst. Eur
A4: Programos tikslo kodas | B4: Uždavinio kodas | C4: Priemonės kodas | D4: Priemonės pavadinimas | E4: Finansavimo šaltinis | F4: *2022-ųjų m. asignavimai | G4: Patikslinti 2022-ųjų m. asignavimai | H4: Numatomi 2023-ųjų m. asignavimai | I4: Numatomi 2024-ųjų m. asignavimai | J4: Vertinimo kriterijai
J5: Pavadinimas
K6: 2022 -ieji m. | L6: 2023 -ieji m. | M6: 2024 -ieji m.
A9: 05 KULTŪROS VEIKLOS PLĖTRA
A10: 01 | B10: Tobulinti ir plėsti kultūrinės informacijos paslaugas Kėdainių rajono savivaldybės Mikalojaus Daukšos viešojoje bibliotekoje, siekiant didinti jų prieinamumą
A11: 01 | B11: 01 | C11: Užtikrinti efektyvią Kėdainių rajono savivaldybės Mikalojaus Daukšos viešosios bibliotekos veiklą
A12: 01 | B12: 01 | C12: 01 | D12: Organizuoti ir užtikrinti Kėdainių rajono savivaldybės Mikalojaus Daukšos viešosios bibliotekos bei jos filialų veiklą | E12: SB | F12: 1047.4 | G12: 1057 | H12: 1100 | I12: 1145 | J12: Išduotų leidinių skaičius per metus (tūkst.) | K12: >300 | L12: >300 | M12: >300
E13: ĮP | F13: 8.7 | G13: 8.7 | H13: 8.7 | I13: 8.7 | J13: Apsilankymų bibliotekose skaičius (tūkst. kartų) | K13: >180 | L13: >180 | M13: >180
E14: SBVB | F14: 65.1 | G14: 65.1 | H14: 65 | I14: 65
A15: 01 | B15: 01 | C15: 02 | D15: Atnaujinti Kėdainių rajono savivaldybės Mikalojaus Daukšos viešosios bibliotekos filialų informacinių technologijų įrangą, žaislotekas, įsigyti baldų/įrangos užimtumo centrams | E15: SB | F15: 10 | G15: 10 | H15: 10 | I15: 10 | J15: IT įranga, baldais aprūpintų filialų skaičius | K15: 5 | L15: 10 | M15: 10
E16: VB | F16: 10 | G16: 10 | H16: 10 | I16: 10
A17: 01 | B17: 01 | C17: Iš viso uždaviniui | F17: =SUM(F12:F16) -> 1141.2 | G17: =SUM(G12:G16) -> 1150.8 | H17: =SUM(H12:H16) -> 1193.7 | I17: =SUM(I12:I16) -> 1238.7
A18: 01 | B18: Iš viso tikslui | F18: =+F17 -> 1141.2 | G18: =+G17 -> 1150.8 | H18: =+H17 -> 1193.7 | I18: =+I17 -> 1238.7
A19: 02 | B19: Išsaugoti istorinę atmintį, tobulinti ir plėsti kultūros paslaugas Kėdainių krašto muziejuje, siekiant didinti jų prieinamumą
A20: 02 | B20: 01 | C20: Užtikrinti efektyvią Kėdainių krašto muziejaus veiklą
A21: 02 | B21: 01 | C21: 01 | D21: Organizuoti ir užtikrinti Kėdainių krašto muziejaus ir jo skyrių veiklą | E21: SB | F21: 517.9 | G21: 527.5 | H21: 530 | I21: 540 | J21: Suorganizuotų renginių, edukacinių pamokų muziejuje ir jo skyriuose skaičius | K21: >400 | L21: >650 | M21: >650
E22: SBVB | F22: 2.4 | G22: 2.4 | H22: 0 | I22: 0
E23: ĮP | F23: 45 | G23: 45 | H23: 45 | I23: 45 | J23: Muziejaus lankytojų skaičius (tūkst.) | K23: >10 | L23: >20 | M23: >20
A24: 02 | B24: 01 | C24: 02 | D24: Dalyvauti Žydų kultūros paveldo kelio asociacijos veikloje ir puoselėti žydų kultūros paveldo atminimą Kėdainiuose | E24: SB | F24: 5.2 | G24: 5.2 | H24: 5.2 | I24: 5.2 | J24: Įgyvendinamų programų/priemonių/renginių skaičius | K24: 2 | L24: 2 | M24: 2
A25: 02 | B25: 01 | C25: 03 | D25: Dalyvauti projekte „Inovacijų keliu per buvusios LDK žemes“ | E25: SB | F25: 42.4 | G25: 0 | H25: 0 | I25: 0 | J25: Įrengtų modernių ir interaktyvių ekspozicijų skaičius
E26: ES | F26: 381 | G26: 0 | H26: 0 | I26: 0
A27: 02 | B27: 01 | C27: Iš viso uždaviniui | F27: =SUM(F21:F26) -> 993.9 | G27: =SUM(G21:G26) -> 580.1 | H27: =SUM(H21:H26) -> 580.2 | I27: =SUM(I21:I26) -> 590.2
A28: 02 | B28: Iš viso tikslui | F28: =+F27 -> 993.9 | G28: =+G27 -> 580.1 | H28: =+H27 -> 580.2 | I28: =+I27 -> 590.2
A29: 03 | B29: Sudaryti sąlygas krašto bendruomenei dalyvauti kultūrinėje bei kūrybinėje veikloje
A30: 03 | B30: 01 | C30: Užtikrinti efektyvią rajono kultūros centrų veiklą, vykdyti organizuojamų renginių informacijos sklaidą
A31: 03 | B31: 01 | C31: 01 | D31: Organizuoti ir užtikrinti kultūros centrų ir jų skyrių veiklą | E31: SB | F31: 1470.1 | G31: 1499 | H31: 1520 | I31: 1560 | J31: Kultūros centrų organizuojamų veiklų lankytojų skaičius | K31: >95 | L31: >95 | M31: >95
E32: SBVB | F32: 4.9 | G32: 4.9 | H32: 0 | I32: 0
E33: ĮP | F33: 16.6 | G33: 16.6 | H33: 20 | I33: 20
A34: 03 | B34: 01 | C34: 02 | D34: Organizuoti valstybinių, profesinių švenčių, atmintinų dienų minėjimus, įvairius renginius bendruomenės poreikiams tenkinti | E34: SB | F34: 149 | G34: 149 | H34: 130 | I34: 130 | J34: Kultūros centrų organizuojamų veiklų skaičius | K34: >1000 | L34: >1000 | M34: >1000
A35: 03 | B35: 01 | C35: 03 | D35: Kompensuoti kultūros įstaigų darbuotojų važiavimo į/iš darbo išlaidas | E35: SB | F35: 16.8 | G35: 16.8 | H35: 24 | I35: 24 | J35: Darbuotojų, kuriems kompensuojamos išlaidos, skaičius | K35: 50 | L35: 48 | M35: 48
A36: 03 | B36: 01 | C36: Iš viso uždaviniui | F36: =SUM(F31:F35) -> 1657.4 | G36: =SUM(G31:G35) -> 1686.3 | H36: =SUM(H31:H35) -> 1694 | I36: =SUM(I31:I35) -> 1734
A37: 03 | B37: 02 | C37: Sudaryti sąlygas kultūros plėtrai rajone
A38: 03 | B38: 02 | C38: 01 | D38: Organizuoti ir užtikrinti Kultūros ir sporto skyriaus specialistų darbą kultūros srityje | E38: SB | F38: 81.1 | G38: 81.1 | H38: 83 | I38: 86 | J38: Suorganizuotų renginių skaičius | K38: 40 | L38: 40 | M38: 40
A39: 03 | B39: 02 | C39: 02 | D39: Finansuoti rajono savivaldybės renginius ir kultūrines iniciatyvas | E39: SB | F39: 233 | G39: 233 | H39: 200 | I39: 200
A40: 03 | B40: 02 | C40: 03 | D40: Finansuoti kultūrinės veiklos projektus | E40: SB | F40: 25 | G40: 25 | H40: 25 | I40: 25 | J40: Finansuotų projektų skaičius | K40: 21 | L40: 20 | M40: 20
A41: 03 | B41: 02 | C41: 04 | D41: Teikti Krašto kultūros premiją | E41: SB | F41: 3 | G41: 3 | H41: 3 | I41: 3 | J41: Kultūros premijos laureatų skaičius | K41: 1 | L41: 1 | M41: 1
A42: 03 | B42: 02 | C42: 05 | D42: Teikti Česlavo Milošo premiją | E42: SB | F42: 5 | G42: 0 | H42: 5 | I42: 5 | J42: Česlovo Milošo premijos laureatų skaičius | K42: 0 | L42: 1 | M42: 1
...

Sheet 06turizm_paveld
K1: 6 priedas
A2: 6 lentelė. 2022–2024 m. Kultūros paveldo išsaugojimo, turizmo skatinimo ir vystymo programos (06) tikslai, uždaviniai, priemonės, asignavimai vertinimo kriterijai
J3: tūkst. Eur
A4: Programos tikslo kodas | B4: Uždavinio kodas | C4: Priemonės kodas | D4: Priemonės pavadinimas | E4: Finansavimo šaltinis | F4: *2022-ųjų m. asignavimai | G4: Patikslinti 2022-ųjų m. asignavimai | H4: Numatomi 2023-ųjų m. asignavimai | I4: Numatomi 2024-ųjų m. asignavimai | J4: Vertinimo kriterijai
J5: Pavadinimas
K6: 2022 -ieji m. | L6: 2023 -ieji m. | M6: 2024 -ieji m.
A9: 06 KULTŪROS PAVELDO IŠSAUGOJIMAS, TURIZMO SKATINIMAS IR VYSTYMAS
A10: 01 | B10: Skatinti vietinį bei atvykstamąjį turizmą, plėtoti turizmo rinkodarą
A11: 01 | B11: 01 | C11: Užtikrinti efektyvią VšĮ Kėdainių turizmo ir verslo informacijos centro veiklą turizmo srityje
A12: 01 | B12: 01 | C12: 01 | D12: Finansuoti VšĮ Kėdainių turizmo ir verslo informacijos centro turizmo veiklos programą: | E12: SB | F12: 75 | G12: 75 | H12: 90 | I12: 70 | J12: Kėdainių rajono savivaldybėje apsilankiusių turistų skaičius per metus (tūkst. asmenų/ per metus) (vertinami Kėdainių TVIC apsilankę turistai) | K12: 9 | L12: 9.5 | M12: 9.5
D13: turizmo maršrutų, individualių ekskursijų programų rengimas | J13: Atnaujintų/parengtų turizmo maršrutų skaičius | K13: 4 | L13: 4 | M13: 4
D14: kartografinių-informacinių turistinių leidinių leidyba
D15: turizmo informacijos apie gamtos, architektūros, istorijos, kultūros paveldo objektus, lankytinas vietas, maitinimo, apgyvendinimo, kaimo turizmo sodybas, amatus teikimas, kaupimas, sisteminimas ir atnaujinimas | E15: PR | F15: 3 | G15: 3 | H15: 3 | I15: 3 | J15: Turizmo statistikos duomenų apskaita ir analizė, val. | K15: 160 | L15: 160 | M15: 160
D16: dalyvavimas turizmo parodose, mugėse, šventėse | J16: Parodų, mugių, kuriuose dalyvauta, skaičius | K16: 4 | L16: 4 | M16: 4
D17: turizmo informacijos sklaida socialiniuose tinkluose, spaudoje | J17: Informacijos sklaida, val. | K17: 1000 | L17: 500 | M17: 500
A18: 01 | B18: 01 | C18: Iš viso uždaviniui | F18: =SUM(F12:F17) -> 78 | G18: =SUM(G12:G17) -> 78 | H18: =SUM(H12:H17) -> 93 | I18: =SUM(I12:I17) -> 73
A19: 01 | B19: Iš viso tikslui | F19: =+F18 -> 78 | G19: =+G18 -> 78 | H19: =+H18 -> 93 | I19: =+I18 -> 73
A20: 02 | B20: Pritaikyti viešąją infrastruktūrą visuomenės turizmo ir rekreacijos poreikiams, įveiklinti kultūros ir gamtos paveldą
A21: 02 | B21: 01 | C21: Išsaugoti istorinį bei kultūros paveldą, didinti jo patrauklumą ir žinomumą
A22: 02 | B22: 02 | C22: 01 | D22: Parengti Nekilnojamųjų kultūros vertybių vertinimo medžiagą ir pristatyti nekilnojamojo kultūros paveldo vertinimo tarybai | E22: SB | F22: 3 | G22: 3 | H22: 3 | I22: 3 | J22: Skaičius objektų, esančių Kultūros vertybių registre, kurių duomenys bus tikslinami, ir skaičius objektų, kurie planuojami įrašyti į Kultūros vertybių registrą | K22: 3 | L22: 3 | M22: 3
A23: 02 | B23: 02 | C23: 02 | D23: Rengti nekilnojamųjų kultūros paveldo objektų, vietovių individualius apsaugos reglamentus | E23: SB | F23: 3 | G23: 3 | H23: 3 | I23: 3 | J23: Objektų skaičius, kuriems parengti individualūs apsaugos reglamentai | K23: 3 | L23: 3 | M23: 3
A24: 02 | B24: 01 | C24: 03 | D24: Įgyvendinti Kėdainių rajono savivaldybės bažnyčių rėmimo programą | E24: SB | F24: 45 | G24: 45 | H24: 40 | I24: 40 | J24: Kulto pastatų, kuriems skirtas finansavimas tvarkybos darbams atlikti, skaičius | K24: 4 | L24: 3 | M24: 3
E25: PR | F25: 10 | G25: 10 | H25: 10 | I25: 10
A26: 02 | B26: 01 | C26: 04 | D26: Įgyvendinti priemones, skirtas kovų už Lietuvos Nepriklausomybę vietoms ir paminklams įamžinti | E26: SB | F26: 45 | G26: 45 | H26: 50 | I26: 50 | J26: Įgyvendintų programos priemonių skaičius | K26: 4 | L26: 4 | M26: 4
A27: 02 | B27: 01 | C27: 05 | D27: Kompleksiškai sutvarkyti Kėdainių Sinagogą (Smilgos g. 5A, Kėdainiai), pritaikant kultūrinėms bei kitoms reikmėms | E27: SB | F27: 0 | G27: 0 | H27: 0 | I27: 0 | J27: Įgyvendinta einamaisiais metais planuotų projekto veiklų proc. | K27: 100
E28: ES | F28: 25.5 | G28: 25.5 | H28: 0 | I28: 0
A29: 02 | B29: 01 | C29: 06 | D29: Modernizuoti Kėdainių krašto muziejaus Daugiakultūrį centrą | E29: SB | F29: 112.5 | G29: 112.5 | H29: 0 | I29: 0 | J29: Modernizuotų objektų skaičius | K29: 1
E30: ES | F30: 236.5 | G30: 236.5 | H30: 0 | I30: 0
A31: 02 | B31: 01 | C31: 07 | D31: Remontuoti Minareto fasadą | E31: SB | F31: 30 | G31: 30 | H31: 40 | I31: 0 | J31: Suremontuotų objektų skaičius | L31: 1
A32: 02 | B32: 01 | C32: 08 | D32: Apšviesti senamiesčio objektų fasadus | E32: SB | F32: 0 | G32: 0 | H32: 10 | I32: 10 | J32: Objektų, prie kurių įrengtas fasadų apšvietimas, skaičius | L32: 3 | M32: 3
A33: 02 | B33: 01 | C33: 09 | D33: Parengti projektus ir remontuoti koplytėles, koplytstulpius, skulptūras, kapinaites ir kapus | E33: SB | F33: 31 | G33: 31 | H33: 20 | I33: 20 | J33: Parengtos tvarkybos dokumentacijos skaičius / Suremontuotų objektų skaičius | K33: 1/4 | L33: 1/2 | M33: 1/2
A34: 02 | B34: 01 | C34: 10 | D34: Atlikti Paberžės klebonijos ir svirno restauravimo ir remonto darbus | E34: SB | F34: 40 | G34: 40 | H34: 20 | I34: 0 | J34: Restauruotų objektų skaičius | K34: 1 | L34: 2
E35: VB | F35: 100 | G35: 100 | H35: 40 | I35: 0
A36: 02 | B36: 01 | C36: 11 | D36: Įrengti valstybinės reikšmės kelių nuorodas į savivaldybės kultūros paveldo objektus | E36: SB | F36: 6 | G36: 14 | H36: 3 | I36: 3 | J36: Įrengtų/tvarkomų informacinių ženklinimo infrastruktūros objektų skaičius | K36: 80 | L36: 6 | M36: 6
A37: 02 | B37: 01 | C37: 12 | D37: Atlikti archeologinius ir kitus tyrinėjimus kultūros paveldo teritorijose, vykdyti paveldo objektams parengtų tvarkybos projektų ekspertizę, parengti sąmatas | E37: SB | F37: 12 | G37: 2 | H37: 10 | I37: 10 | J37: Einamaisiais metais numatomų atlikti tyrinėjimų/ Ekspertuotų projektų skaičius | K37: 1/2 | L37: 1/2 | M37: 1/2
A38: 02 | B38: 01 | C38: 13 | D38: Parengti ritualinio skerdiko namo tvoros ir vartų su saulės laikrodžiu pamatų konservavimo ir vartų atstatymo projektą ir atlikti darbus | E38: SB | F38: 0 | G38: 0 | H38: 80 | I38: 0 | J38: Atstatytų objektų skaičius | L38: 1
A39: 02 | B39: 01 | C39: 14 | D39: Atlikti kultūros paveldo objektų ar objektų, esančių kultūros paveldo teritorijų prieigose, tvarkybos darbus seniūnijose | E39: SB | F39: 15 | G39: 25 | H39: 15 | I39: 15 | J39: Tvarkomų objektų skaičius | K39: 1 | L39: 1 | M39: 1
A40: 02 | B40: 01 | C40: 15 | D40: Vykdyti rezistentų paminklinio akmens ir teritorijos, apimančios masinę kapavietę, sutvarkymo darbus (Skongalio g.) | E40: SB | F40: 40 | G40: 40 | H40: 115 | I40: 0 | J40: Atnaujintų objektų skaičius | L40: 1
A41: 02 | B41: 01 | C41: 16 | D41: Atlikti Bakainių piliakalnio su priešpiliu ir papiliu, priešpilio tvarkybos darbus | E41: SB | F41: 20 | G41: 20 | H41: 10 | I41: 50 | J41: Atlikti moksliniai taikomieji tyrimai / parengta projektinė dokumentacija / einamaisiais metais numatyta atliktų darbų | K41: 1/0/0 | L41: 1/1/0 | M41: 1/1 /100
E42: VB | F42: 41 | G42: 41 | H42: 25 | I42: 100
...

Sheet 07Infrastr.
K1: 7 priedas
A2: 7 lentelė. 2022–2024 m. Infrastruktūros objektų priežiūros ir plėtros programos (07) tikslai, uždaviniai, priemonės, asignavimai ir vertinimo kriterijai
J3: tūkst. Eur
A4: Programos tikslo kodas | B4: Uždavinio kodas | C4: Priemonės kodas | D4: Priemonės pavadinimas | E4: Finansavimo šaltinis | F4: *2022-ųjų m. asignavimai | G4: Patikslinti 2022-ųjų m. asignavimai | H4: Numatomi 2023-ųjų m. asignavimai | I4: Numatomi 2024-ųjų m. asignavimai | J4: Vertinimo kriterijai
J5: Pavadinimas
K6: 2022 -ieji m. | L6: 2023 -ieji m. | M6: 2024 -ieji m.
A9: 07 INFRASTRUKTŪROS OBJEKTŲ PRIEŽIŪRA IR PLĖTRA
A10: 01 tikslas. Kurti ir pritaikyti viešąją infrastruktūrą su darnia aplinka šiuolaikiniams poreikiams
A11: 01 uždavinys. Rengti ir (arba) atnaujinti Kėdainių rajono savivaldybės teritorijų planavimo ir kitus dokumentus, sudarant sąlyga infrastruktūros plėtrai
A12: 01 | B12: 01 | C12: 01 | D12: Rengti specialiuosius, bendruosius, detaliuosius, geodezinius planus bei topografines nuotraukas | E12: SB | F12: 45 | G12: 75 | H12: 65 | I12: 65 | J12: Parengtų specialiųjų, detaliųjų, geodezinių planų skaičius | K12: 49 | L12: 50 | M12: 50
A13: 01 | B13: 01 | C13: 02 | D13: Parengti Senojo Upytės kelio specialųjį planą ("Isos slėnis") | E13: SB | F13: 20 | G13: 20 | H13: 0 | I13: 0 | J13: Parengtų specialiųjų planų skaičius | K13: 1
A14: 01 | B14: 01 | C14: 03 | D14: Atlikti turto inventorizavimą, teisinę registraciją, parengti dokumentus turto pardavimui | E14: SB | F14: 45 | G14: 45 | H14: 25 | I14: 25 | J14: Inventorizuotų nekilnojamojo turto objektų skaičius | K14: 60 | L14: 50 | M14: 50
A15: 01 | B15: 01 | C15: 04 | D15: Rengti infrastruktūros objektų tvarkymo investicinius projektus, paraiškas, kitą techninę dokumentaciją Europos Sąjungos fondų paramai gauti | E15: SB | F15: 30 | G15: 60 | H15: 60 | I15: 60 | J15: Parengtos investicinės dokumentacijos skaičius | K15: 4 | L15: 4 | M15: 4
A16: 01 | B16: 01 | C16: 05 | D16: Parengti Kėdainių rajono atsinaujinančių energijos išteklių plėtros planą | E16: SB | F16: 12 | G16: 12 | H16: 0 | I16: 0 | J16: Patvirtintų planų skaičius | K16: 1
A17: 01 | B17: 01 | C17: Iš viso 01 uždaviniui | F17: =SUM(F12:F16) -> 152 | G17: =SUM(G12:G16) -> 212 | H17: =SUM(H12:H16) -> 150 | I17: =SUM(I12:I16) -> 150
E18: Iš viso SB | F18: =+F16+F15+F14+F12+F13 -> 152 | G18: =+G16+G15+G14+G12+G13 -> 212 | H18: =+H16+H15+H14+H12+H13 -> 150 | I18: =+I16+I15+I14+I12+I13 -> 150
A20: 02 uždavinys. Užtikrinti inžinerinio aprūpinimo (vandentiekio, nuotekų tinklų ir kt.) sistemų atnaujinimą ir plėtrą
A21: 01 | B21: 02 | C21: 01 | D21: Įrengti, rekonstruoti, išplėsti vandentiekio ir/ar nuotekų tinklus Kėdainių mieste (Algirdo g., Parakinės g., Rūtų g., Pievų g., Šviesos g. ) | E21: SB | F21: 90 | G21: 67 | H21: 60 | I21: 120 | J21: Paklota vandentiekio ir nuotekų tinklų, m | K21: ~360 | L21: ~350 | M21: ~300
A22: 01 | B22: 02 | C22: 02 | D22: Rekonstruoti ir plėsti vandentiekio ir buitinių nuotekų infrastruktūrą Šėtos miestelyje, Kunionių kaime bei Kėdainių mieste | E22: SB | F22: 150 | G22: 150 | H22: 0 | I22: 0 | J22: Rekonstruojamų/naujai paklotų vandentiekio ir nuotekų tinklų, km | K22: ~11
E23: ES | F23: 340 | G23: 340 | H23: 0 | I23: 0
E24: PR | F24: 210 | G24: 210 | H24: 0 | I24: 0
A25: 01 | B25: 02 | C25: 03 | D25: Rekonstruoti ir plėsti Kėdainių miesto paviršinių nuotekų tinklus | E25: SB | F25: 85 | G25: 85 | H25: 0 | I25: 0 | J25: Paklota/rekonstruota paviršinių nuotekų tinklų, km | K25: ~9
E26: ES | F26: 56 | G26: 56 | H26: 0 | I26: 0
E27: PR | F27: 133 | G27: 133 | H27: 0 | I27: 0
A28: 01 | B28: 02 | C28: 04 | D28: Rekonstruoti Kėdainių miesto nuotekų valyklą | E28: SB | F28: 71 | G28: 51 | H28: 20.9 | I28: 0 | J28: Rekonstruotų objektų skaičius | K28: 1
E29: ES | F29: 575.2 | G29: 407.8 | H29: 167.4 | I29: 0
E30: PR | F30: 222.9 | G30: 158.1 | H30: 64.8 | I30: 0
A31: 01 | B31: 02 | C31: 05 | D31: Rekonstruoti Akademijos nuotekų valyklą | E31: SB | F31: 49 | G31: 84.7 | H31: 4.4 | I31: 0 | J31: Rekonstruoti nuotekų valykla | K31: 1
E32: ES | F32: 385.8 | G32: 350.6 | H32: 35.2 | I32: 0
E33: PR | F33: 87.5 | G33: 119.4 | H33: 13.6 | I33: 0
A34: 01 | B34: 02 | C34: 06 | D34: Išplėsti buitinių nuotekų tinklus Labūnavos gyvenvietėje, Nevėžio g, ir Vainikų g. | E34: SB | F34: 111 | G34: 111 | H34: 350 | I34: 0 | J34: Paklota vandentiekio buitinių nuotekų tinklų, m | L34: ~3100
A35: 01 | B35: 02 | C35: 07 | D35: Suprojektuoti ir įrengti inžinerinius tinklus Kėdainių miesto vakariniame kvartale | E35: PR | F35: 0 | G35: 0 | H35: 0 | I35: 0 | J35: Įrengta inžinerinių tinklų, m | K35: ~335 | L35: ~335 | M35: ~335
E36: SB | F36: 25 | G36: 25 | H36: 50 | I36: 50
A37: 01 | B37: 02 | C37: 08 | D37: Parengti buitinių nuotekų tinklų įrengimo ir išplėtimo projektą Surviliškio kaime | E37: SB | F37: 4 | G37: 0 | H37: 0 | I37: 0 | J37: Suprojektuota vandentiekio ir nuotekų tinklų, m
A38: 01 | B38: 02 | C38: 09 | D38: Plėsti vandentiekio ir nuotekų tinklus Šlapaberžės kaime | E38: SB | F38: 15 | G38: 15 | H38: 100 | I38: 300 | J38: Parengtos techninės dokumentacijos skaičius / Paklota vandentiekio ir/ ar nuotekų tinklų, m | K38: 1/0 | L38: ~200 | M38: ~450
A39: 01 | B39: 02 | C39: 10 | D39: Įrengti buitinių nuotekų tinklus Aušros k. Ąžuolaičių g. ir Volučių g. | E39: SB | F39: 0 | G39: 0 | H39: 10 | I39: 179 | J39: Parengtos techninės dokumentacijos skaičius /Paklota nuotekų tinklų, m | L39: 1/0 | M39: 1/~ 300
A40: 01 | B40: 02 | C40: 11 | D40: Remontuoti objektus pagal administracijos direktoriaus įsakymus | E40: SB | F40: 30 | G40: 40 | H40: 40 | I40: 40 | J40: Remontuotų objektų skaičius | K40: 6 | L40: 6 | M40: 6
A41: 01 | B41: 02 | C41: 12 | D41: Likviduoti avarinius židinius | E41: SB | F41: 40 | G41: 90 | H41: 40 | I41: 40 | J41: Objektų skaičius, kuriuose likviduoti avariniai židiniai | K41: 8 | L41: 8 | M41: 8
A42: 01 | B42: 02 | C42: 13 | D42: Plėsti vandentiekio ir nuotekų tinklus Pagirių miestelyje | E42: SB | F42: 0 | G42: 0 | H42: 0 | I42: 15 | J42: Parengtos techninės dokumentacijos skaičius | M42: 1
A43: 01 | B43: 02 | C43: 14 | D43: Plėsti vandentiekio ir buitinių nuotekų tinklus Miegėnų kaime | E43: SB | F43: 0 | G43: 0 | H43: 0 | I43: 15 | J43: Parengtos techninės dokumentacijos skaičius | M43: 1
...

Sheet 08aplinkosauga
K1: 8 priedas
A2: 8 lentelė. 2022–2024 m. Aplinkos apsaugos programos (08) tikslai, uždaviniai, priemonės, asignavimai ir vertinimo kriterijai
J3: tūkst. Eur
A4: Programos tikslo kodas | B4: Uždavinio kodas | C4: Priemonės kodas | D4: Priemonės pavadinimas | E4: Finansavimo šaltinis | F4: *2022-ųjų m. asignavimai | G4: Patikslinti 2022-ųjų m. asignavimai | H4: Numatomi 2023-ųjų m. asignavimai | I4: Numatomi 2024-ųjų m. asignavimai | J4: Vertinimo kriterijai
J5: Pavadinimas
K6: 2022 -ieji m. | L6: 2023 -ieji m. | M6: 2024 -ieji m.
A9: 08 APLINKOS APSAUGA
A10: 01 | B10: Įgyvendinti Aplinkos apsaugos rėmimo specialiosios programos finansuojamas priemones
A11: 01 | B11: 01 | C11: Gerinti aplinkos kokybę ir apsaugą
A12: 01 | B12: 01 | C12: 01 | D12: Įgyvendinti aplinkos kokybės gerinimo ir apsaugos priemones | E12: AA | F12: 69.1 | G12: 69.1 | H12: 65 | I12: 65 | J12: Įgyvendinamų priemonių skaičius | K12: 5 | L12: 5 | M12: 5
E13: SBVB | F13: 8.2 | G13: 8.2 | H13: 7.2 | I13: 0
A14: 01 | B14: 01 | C14: 02 | D14: Įgyvendinti aplinkos atkūrimo, prevencines priemones, tvarkant vandens telkinius, jų pakrantes, vykdyti atliekų tvarkymo infrastruktūros plėtros priemones | E14: AA | F14: 64.3 | G14: 64.3 | H14: 65 | I14: 100 | J14: Įgyvendintų priemonių skaičius | K14: 5 | L14: 5 | M14: 6
A15: 01 | B15: 01 | C15: 03 | D15: Vykdyti aplinkos oro, paviršinio ir požeminio vandens, dirvožemio ir triukšmo stebėseną Kėdainių mieste ir rajone (įskaitant pramonės rajoną) | E15: AA | F15: 25.5 | G15: 25.5 | H15: 25.5 | I15: 25.5 | J15: Tiriamų parametrų skaičius | K15: 5 | L15: 5 | M15: 5
A16: 01 | B16: 01 | C16: 04 | D16: Įgyvendinti želdynų ir želdinių apsaugos, tvarkymo, būklės stebėsenos, želdynų kūrimo, želdinių veisimo ir inventorizavimo priemones | E16: AA | F16: 102 | G16: 102 | H16: 80 | I16: 80 | J16: Seniūnijų skaičius, kuriose įgyvendinamos želdynų ir želdinių apsaugos, tvarkymo, būklės stebėsenos, želdynų kūrimo, želdinių veisimo ir inventorizavimo priemonės | K16: 11 | L16: 11 | M16: 11
A17: 01 | B17: 01 | C17: Iš viso uždaviniui | F17: =SUM(F12:F16) -> 269.1 | G17: =SUM(G12:G16) -> 269.1 | H17: =SUM(H12:H16) -> 242.7 | I17: =SUM(I12:I16) -> 270.5
A18: 01 | B18: 02 | C18: Vykdyti žalos aplinkai prevenciją
A19: 01 | B19: 02 | C19: 01 | D19: Įgyvendinti prevencinės priemones, kuriomis siekiama išvengti medžiojamųjų gyvūnų daromos žalos miškui | E19: AA | F19: 59.4 | G19: 59.4 | H19: 59 | I19: 59 | J19: Finansuotos medžiojamų gyvūnų daromos žalos prevencijos ir kitos priemonės (paraiškų sk.) | K19: 4 | L19: 4 | M19: 4
A20: 01 | B20: 02 | C20: Iš viso uždaviniui | F20: =+F19 -> 59.4 | G20: =+G19 -> 59.4 | H20: =+H19 -> 59 | I20: =+I19 -> 59
A21: 01 | B21: 03 | C21: Skatinti aplinkos apsaugos iniciatyvas, vykdyti gyventojų aplinkosauginį švietimą
A22: 01 | B22: 03 | C22: 01 | D22: Įgyvendinti visuomenės aplinkosauginio švietimo priemones | E22: AA | F22: 6 | G22: 6 | H22: 10 | I22: 10 | J22: Surengtų akcijų, seminarų, viešinimo priemonių skaičius | K22: 7 | L22: 7 | M22: 7
A23: 01 | B23: 03 | C23: 02 | D23: Finansuoti konkursą "Gražiausiai tvarkoma aplinka" | E23: AA | F23: 6 | G23: 6 | H23: 6 | I23: 6 | J23: Išrinktų gražiausiai besitvarkančių aplinką savininkų skaičius | K23: 10 | L23: 10 | M23: 10
A24: 01 | B24: 03 | C24: 03 | D24: Įsigyti priemonių, susijusių su visuomenės informavimu ir ekologiniu švietimu, kitos išlaidos | E24: AA | F24: 5.9 | G24: 5.9 | H24: 6 | I24: 6 | J24: Prenumeruojamų leidinių skaičius | K24: 4 | L24: 4 | M24: 4
A25: 01 | B25: 02 | C25: Iš viso uždaviniui | F25: =SUM(F22:F24) -> 17.9 | G25: =SUM(G22:G24) -> 17.9 | H25: =SUM(H22:H24) -> 22 | I25: =SUM(I22:I24) -> 22
A26: 01 | B26: Iš viso tikslui | F26: =+F25+F20+F17 -> 346.4 | G26: =+G25+G20+G17 -> 346.4 | H26: =+H25+H20+H17 -> 323.7 | I26: =+I25+I20+I17 -> 351.5
A27: 02 | B27: Tobulinti atliekų tvarkymo bei aplinkos išsaugojimo sistemą, gerinti kraštovaizdžio apsaugą
A28: 02 | B28: 01 | C28: Tinkamai tvarkyti komunalines atliekas, palaikyti tvarką ir švarą rajono bendrojo naudojimo teritorijose
A29: 02 | B29: 01 | C29: 01 | D29: Vykdyti atliekų tvarkymo sistemos organizavimo funkciją | E29: SB | F29: 1720 | G29: 1720 | H29: 1750 | I29: 1750 | J29: Surinktų atliekų (bendras) kiekis, tūkst. t. | K29: 16.6 | L29: 16.3 | M29: 16.3
A30: 02 | B30: 01 | C30: 02 | D30: Prižiūrėti ir tvarkyti bendro naudojimo teritorijas, įsigyti teritorijų priežiūrai reikalingą įrangą | E30: SB | F30: 2636.5 | G30: 2787.2 | H30: 2750 | I30: 2900
E31: ĮP | F31: 6.3 | G31: 6.3 | H31: 6.3 | I31: 6.3
A32: 02 | B32: 01 | C32: 03 | D32: Finansuoti žvyro įsigijimą seniūnijų keliams prižiūrėti | E32: SB | F32: 230 | G32: 230 | H32: 230 | I32: 230 | J32: Prižiūrimų žvyrkelių ilgis, km | K32: ~40 | L32: ~40 | M32: ~40
A33: 02 | B33: 01 | C33: 04 | D33: Atnaujinti ir plėsti komunalinių atliekų tvarkymo infrastruktūrą Kėdainių rajono savivaldybėje | E33: SB | F33: 74.3 | G33: 225.3 | H33: 0 | I33: 0 | J33: Įrengtų/atnaujintų požeminių, pusiau požeminių ir antžeminių konteinerių aikštelių skaičius | K33: 35
E34: SK | F34: 0 | G34: 0 | H34: 0 | I34: 0
E35: ES | F35: 439 | G35: 439 | H35: 0 | I35: 0
A36: 02 | B36: 01 | C36: 05 | D36: Sutvarkyti naudotas padangas, kurių turėtojų nustatyti neįmanoma arba kurie neegzistuoja | E36: SB | F36: 0 | G36: 27 | H36: 0 | I36: 0 | J36: |Sutvarkyta nadotų padangų, t | K36: 182
A37: 02 | B37: 01 | C37: 06 | D37: Sutvarkyti namų ūkiuose susidariusias asbesto atliekas | E37: SB | F37: 0 | G37: 37 | H37: 0 | I37: 0 | J37: Sutvarkyta asbesto atliekų, t. | K37: 130
A38: 02 | B38: 01 | C38: 07 | D38: Įsigyti tekstilės atliekų surinkimo konteinerius Kėdainių rajono savivaldybėje | E38: SB | F38: 0 | G38: 53 | H38: 0 | I38: 0 | J38: Įsigytų konteinerių skaičius | K38: 39
A39: 02 | B39: 01 | C39: Iš viso uždaviniui | F39: =SUM(F29:F38) -> 5106.1 | G39: =SUM(G29:G38) -> 5524.8 | H39: =SUM(H29:H38) -> 4736.3 | I39: =SUM(I29:I38) -> 4886.3
A40: 02 | B40: 02 | C40: Gerinti kraštovaizdžio apsaugą bei didinti jo patrauklumą
A41: 02 | B41: 02 | C41: 01 | D41: Likviduoti apleistus (bešeimininkius ar savivaldybei nuosavybės teise priklausančius) pastatus ir kitus aplinką žalojančius objektus | E41: SB | F41: 21 | G41: 21 | H41: 10 | I41: 10 | J41: Likviduotų apleistų bešeimininkių pastatų skaičius | K41: 17 | L41: 2 | M41: 2
E42: ES | F42: 116 | G42: 116 | H42: 0 | I42: 0
...

Sheet 09ž.ū.
K1: 9 priedas
A2: 9 lentelė. 2022–2024 m. Žemės ūkio plėtros ir melioracijos programos (09) tikslai, uždaviniai, priemonės, asignavimai ir vertinimo kriterijai
J3: tūkst. Eur
A4: Programos tikslo kodas | B4: Uždavinio kodas | C4: Priemonės kodas | D4: Priemonės pavadinimas | E4: Finansavimo šaltinis | F4: * 2022-ųjų m. asignavimai | G4: Patikslinti 2022-ųjų m. asignavimai | H4: Numatomi 2023-ųjų m. asignavimai | I4: Numatomi 2024-ųjų m. asignavimai | J4: Vertinimo kriterijai
J5: Pavadinimas
K6: 2022 -ieji m. | L6: 2023 -ieji m. | M6: 2024 -ieji m.
A9: 09 ŽEMĖS ŪKIO PLĖTRA IR MELIORACIJA
A10: 01 | B10: Įgyvendinti Savivaldybės teritorijoje valstybės politiką kaimo plėtros, žemės ūkio ir melioracijos srityse, sudaryti sąlygas inovatyvaus žemės ūkio vystymui
A11: 01 | B11: 01 | C11: Vykdyti valstybinių (valstybės perduotas savivaldybėms) funkcijas žemės ūkio srityje, konsultuojant rajono asmenis ūkininkavimo, melioracijos, žemės ūkio technikos registravimo ir kitais su žemės ūkiu susijusiais klausimais
