Workbook

Sheet 01šviet.
L1: PATVIRTINTA Kėdainių rajono savivaldybės administracijos direktoriaus 2022 m. kovo 31 d. įsakymu Nr. AD-1-369
A2: Kėdainių rajono savivaldybės administracijos 2021 metų veiklos plano įgyvendinimo ataskaita
A5: Programos tikslo kodas | B5: Uždavinio kodas | C5: Priemonės kodas | D5: Priemonės pavadinimas | E5: Veiklos/darbo/ veiksmo kodas | F5: Veiklos/darbo/ veiksmo pavadinimas | G5: Atsakingi vykdytojai | H5: Finansavimo šaltinis | I5: Numatomi 2021-ųjų m. asignavimai, tūkst. Eur | J5: Panaudoti 2021-ųjų m. asignavimai, tūkst. Eur | K5: Proceso/indėlio vertinimo kriterijai
K6: Pavadinimas | L6: Planuota reikšmė | M6: Pasiekta reikšmė | N6: Nukrypimų nuo plano priežastys, pastabos, komentarai
A10: 01 ŠVIETIMAS IR UGDYMAS
A11: 01 | B11: Plėtoti kokybišką, visiems prieinamą, tęstinę švietimo sistemą savivaldybėje
A12: 01 | B12: 01 | C12: Sudaryti prielaidas ugdymo kokybei gerinti, mažinti ugdymo kokybės skirtumus tarp mokyklų, didinti pedagogų motyvaciją
A13: 01 | B13: 01 | C13: 08 | D13: Įgyvendinti Kėdainių rajono savivaldybės mokytojų motyvacijos programą | E13: 1 | F13: Programos įgyvendinimo koordinavimas | G13: Švietimo skyrius | H13: SB | I13: 49 | J13: 45.8 | K13: Savivaldybės mokyklose dirbančių mokytojų, kurie paskatinti, skaičius | L13: 600 | M13: 663 | N13: Programos lėšomis paskatinti mokytojai už mokinių parengimą olimpiadoms ir pasiekimus, už inovatyvias ugdymo idėjas ir jų įgyvendinimą, 1 mokytojui iš dalies kompensuotas būsto nuomos mokestis, 2 mokytojams finansuotas dalinis persikvalifikuojančių mokytojų studijos
A14: 01 | B14: 01 | C14: 10 | D14: Patikslinti Kėdainių rajono savivaldybės mokyklų tinklo pertvarkos 2016-2020 m. bendrąjį planą ir parengti 2021 - 2025 metų bendrąjį planą | E14: 1 | F14: Bendrojo plano parengimas | G14: Švietimo skyrius | H14: SB | I14: 1 | J14: 0 | K14: Patikslintų/ parengtų planų skaičius | L14: 1 | M14: 1 | N14: 2021 m. parengtas ir rajono taryboje patvirtintas Kėdainių rajono savivaldybės mokyklų tinklo pertvarkos 2021–2025 m. bendrasis planas.
A15: 01 | B15: 01 | C15: 12 | D15: Finansuoti vaikų vasaros stovyklų ir kitų neformaliojo vaikų švietimo veiklų programas | E15: 1 | F15: Programų konkurso organizavimas, konsultacijos, paraiškų ir sutarčių derinimas, veiklų stebėjimas, vertinimas, ataskaitų teikimas | G15: Švietimo skyrius | H15: SB | I15: 25 | J15: 25 | K15: Finansuotų vaikų vasaros poilsio ir užimtumo programų skaičius | L15: 30 | M15: 20 | N15: 2021 m. finansuota 20 vaikų vasaros poilsio ir užimtumo stovyklų programų, kuriose dalyvavo 533 vaikai, iš kurių 185 - socialiai remtini vaikai, 101 - iš socialinės ir rizikos šeimų
H16: SBVB | I16: 8.2 | J16: 6.9
A17: 01 | B17: 01 | C17: 13 | D17: Skatinti savivaldybės gabius mokinius | E17: 1 | F17: Mokyklose besimokančių gabių mokinių, per vienerius mokslo metus pasiekusių puikių mokymosi rezultatų, įvertinimas ir paskatinimas | G17: Švietimo skyrius | H17: SB | I17: 14 | J17: 7.9 | K17: Mokinių, kuriems skirti piniginiai prizai, skaičius | L17: 110 | M17: 109 | N17: Už pasiekimus dalykinėse olimpiadose, konkursuose, meno festivaliuose ir sporto varžybose buvo apdovanoti 109 mokiniai
A18: 01 | B18: 01 | C18: 14 | D18: Koofinansuoti švietimo įstaigų dalyvavimą infrastruktūros gerinimo/modernizavimo projektuose | E18: 1 | F18: Priemonės koordinavimas | G18: Administracijos direktorius | H18: SB | I18: 50 | J18: 41.3 | K18: Įstaigų, kurioms skirtas finansavimas, skaičius | L18: 4 | M18: 4 | N18: 2021 m. skirta lėšų 4 įstaigų įgyvendinamų projektų kofinansavimui
A19: 01 | B19: 01 | C19: 15 | D19: Organizuoti ir užtikrinti Švietimo skyriaus specialistų darbą | E19: 1 | F19: Švietimo įstaigų veiklos koordinavimas, ugdymo proceso stebėjimas, analizavimas | G19: Švietimo skyrius | H19: SB | I19: 144.7 | J19: 134.5 | K19: Kuruojamų švietimo įstaigų skaičius | L19: 28 | M19: 28 | N19: Švietimo skyrius koordinavo 6 gimnazijų, Suaugusiųjų ir jaunimo mokymo centro, 3 progimnazijų, 6 pagrindinių mokyklų, mokyklos-darželio, 7 lopšelių-darželių, 3 neformaliojo vaikų švietimo mokyklų ir Švietimo pagalbos tarnybos veiklą. Ikimokyklinio ir priešmokyklinio ugdymo grupės veikė Josvainių ir Šėtos socialiniuose ugdymo centruose
A21: 01 | B21: 01 | C21: 16 | D21: Teikti Metų mokytojo apdovanojimą | E21: 1 | F21: Savivaldybės mokytojų kompetencijų, veiklos rezultatų įvertinimas ir paskatinimas profesinei bei kūrybinei iniciatyvai | G21: Švietimo skyrius | H21: SB | I21: 1 | J21: 1 | K21: Įteiktų apdovanojimų skaičius | L21: 1 | M21: 1 | N21: Metų mokytojo vardas suteiktas Kėdainių šviesiosios gimnazijos chemijos mokytojai metodininkei Irmai Krivickienei
A22: 01 | B22: 01 | C22: Iš viso uždaviniui | I22: =SUM(I13:I21) -> 292.9 | J22: =SUM(J13:J21) -> 262.4
H23: SB | I23: =+I21+I19+I18+I17+I15+I14+#REF!+I13+#REF!+#REF!+#REF!+#REF!+#REF! -> #REF! | J23: =+J21+J19+J18+J17+J15+J14+#REF!+J13+#REF!+#REF!+#REF!+#REF!+#REF! -> #REF!
H24: SBVB | I24: =+#REF!+#REF!+#REF!+#REF!+#REF!+I16+#REF! -> #REF! | J24: =+#REF!+#REF!+#REF!+#REF!+#REF!+J16+#REF! -> #REF!
H25: ES | I25: =+I20+#REF!+#REF! -> #REF! | J25: =+J20+#REF!+#REF! -> #REF!
H26: ĮP | I26: =+#REF!+#REF!+#REF! -> #REF! | J26: =+#REF!+#REF!+#REF! -> #REF!
H27: VB | I27: =+#REF!+#REF! -> #REF! | J27: =+#REF!+#REF! -> #REF!
H28: PR
A29: 01 | B29: Iš viso tikslui | I29: =SUM(I22) -> 292.9 | J29: =SUM(J22) -> 262.4
A30: 02 | B30: Tobulinti ugdymo(si) infrastruktūrą, aplinką, diegti inovacijas
A31: 02 | B31: 01 | C31: Gerinti darbo ir mokymo(si) sąlygas savivaldybės švietimo įstaigose
A32: 02 | B32: 01 | C32: 01 | D32: Modernizuoti Kėdainių šviesiosios gimnazijos pastatą Kėdainiuose, Didžioji g. 60 | E32: 1 | F32: Rangos darbų koordinavimas, rangovo prisiimtų sutartinių įsipareigojimų vykdymo kontrolė | G32: Statybos ir turto skyrius | H32: SBVB | I32: 535 | J32: 535 | K32: Atlikta einamaisiais metais numatytų darbų, proc. | L32: 100 | M32: 100 | N32: Tęsti gimnazijos pastato rekonstrukcijos darbai
A33: 02 | B33: 01 | C33: 02 | D33: Remontuoti Kėdainių „Ryto“ progimnaziją, kuriant šiuolaikines mokymosi erdves | H33: SB | I33: 0 | J33: 0 | K33: Įgyvendintų veiklų, modernizuojant edukacines erdves einamaisiais metais, proc. | N33: Įgyvendintų veiklų, modernizuojant edukacines erdves einamaisiais metais, proc.
A34: 02 | B34: 01 | C34: 03 | D34: Atnaujinti Lietuvos sporto universiteto Kėdainių „Aušros“ progimnaziją, kuriant modernias ir saugias erdves | E34: 1 | F34: Projekto koordinavimas, rangos darbų koordinavimas, rangovo prisiimtų sutartinių įsipareigojimų vykdymo kontrolė | G34: Statybos ir turto skyrius, Strateginio planavimo ir investicijų skyrius | H34: SB | I34: 28.6 | J34: 20.9 | K34: Įgyvendintų veiklų, atnaujinant progimnaziją bei modernizuojant edukacines erdves einamaisiais metais, proc. | L34: 100 | M34: 100 | N34: Gavus papildomą finansavimą, tęsti modernių ir saugių erdvių kūrimo darbai progimnazijoje: atnaujintos 4 klasės, įsigyti baldai
H35: ES | I35: 150.4 | J35: 117
H36: VB | I36: 13.3 | J36: 10.3
A37: 02 | B37: 01 | C37: 04 | D37: Modernizuoti Kėdainių lopšelio-darželio „Vaikystė“ infrastruktūrą | E37: 1 | F37: Projekto koordinavimas, įrangos, baldų įsigijimo viešojo pirkimo konkurso organizavimas, sutarčių koordinavimas, rangovo prisiimtų sutartinių įsipareigojimų vykdymo kontrolė | G37: Strateginio planavimo ir investicijų skyrius | H37: SB | I37: 7.7 | J37: 3 | K37: Atnaujintų grupių skaičius / viešojo pastato plotas, kuriame įgyvendintos pastato išorės energijos efektyvumo priemonės, m2 | L37: 2/1843 | M37: 2/1843 | N37: Baigti Kėdainių lopšelio-darželio „Vaikystė“ pastato modernizavimo darbai, diegiant energinio efektyvumo priemones. Įgyvendinant ES projektą, interaktyvi įranga moderniai įrengtose grupėse
H38: VB | I38: 3.2 | J38: 1.9
H39: ES | I39: 28.2 | J39: 21.7
H40: SK | I40: 380 | J40: 380
A41: 02 | B41: 01 | C41: 05 | D41: Modernizuoti Kėdainių lopšelio-darželio „Žilvitis“ infrastruktūrą | E41: 1 | F41: Projekto koordinavimas, rangos darbų, įrangos, baldų viešojo pirkimo konkurso organizavimas, sutarčių koordinavimas, rangovo prisiimtų sutartinių įsipareigojimų vykdymo kontrolė | G41: Statybos ir turto skyrius, Strateginio planavimo ir investicijų skyrius | H41: SB | I41: 15.4 | J41: 0.3 | K41: Atnaujintų grupių skaičius / viešojo pastato plotas, kuriame įgyvendintos pastato išorės energijos efektyvumo priemonės, m2 | L41: 3/3395 | M41: 3/3395 | N41: Baigti Kėdainių lopšelio-darželio "Žilvitis" pastato modernizavimo darbai, diegiant energinio efektyvumo priemones, šiuolaikiškai ir moderniai įrengta 1 grupės edukacinės erdvė, nupirkti baldai, įranga, sukurta saugi ir funkcionali aplinka
H42: VB | I42: 10.2 | J42: 9.9
H43: ES | I43: 113.6 | J43: 111.8
H44: SK | I44: 0
A45: 02 | B45: 01 | C45: 06 | D45: Sudaryti saugias ugdymo sąlygas įstaigose, vykdančiose ugdymo programas | E45: 1 | F45: Priemonės įgyvendinimo koordinavimas | G45: Švietimo skyrius | H45: SB | I45: 50 | J45: 50 | K45: Įstaigų skaičius, kuriose atlikti remonto darbai | L45: 27 | M45: 8 | N45: 8 ugdymo įstaigose vykdyti remonto darbai
A46: 02 | B46: 01 | C46: 07 | D46: Įrengti vėdinimo ir kondicionavimo sistemas savivaldybės ugdymo įstaigose | E46: 1 | F46: Priemonės įgyvendinimo koordinavimas | G46: Švietimo skyrius | H46: SB | I46: 72 | J46: 72 | K46: Grupių ir egzaminų centrų skaičius, kuriose įrengta vėdinimo (kondicionavimo) sistema | L46: 45 | M46: 76 | N46: Darželių grupių bei egzaminų centrų patalpose įrengta vėdinimo (kondicionavimo) sistema
...

Sheet 02sveikat.
A5: Programos tikslo kodas | B5: Uždavinio kodas | C5: Priemonės kodas | D5: Priemonės pavadinimas | E5: Veiklos/darbo/ veiksmo kodas | F5: Veiklos/darbo/ veiksmo pavadinimas | G5: Atsakingi vykdytojai | H5: Finansavimo šaltinis | I5: Numatomi 2021-ųjų m. asignavimai, tūkst. Eur | J5: Panaudoti 2021-ųjų m. asignavimai, tūkst. Eur | K5: Proceso/indėlio vertinimo kriterijai
K6: Pavadinimas | L6: Planuota reikšmė | M6: Pasiekta reikšmė | N6: Nukrypimų nuo plano priežastys, pastabos, komentarai
A10: 02 SVEIKATOS APSAUGA
A11: 01 | B11: Stiprinti ir išsaugoti gyventojų sveikatą
A12: 01 | B12: 01 | C12: Sudaryti sąlygas gyventojams stiprinti sveikatą, kurti ir plėtoti su sveikatos stiprinimu susijusias paslaugas
A13: 01 | B13: 01 | C13: 01 | D13: Vykdyti Visuomenės sveikatos rėmimo specialiosios programos priemones | E13: 1 | F13: Programos priemonių sveikatos projektų konkurso organizavimas, sutarčių su vykdytojais parengimas, priemonių įgyvendinimo koordinavimas ir kontrolė; užkrečiamųjų ligų plano priemonių vykdymo kontrolė | G13: Vyr. specialistė (savivaldybės gydytoja) | H13: AA | I13: 87.2 | J13: 57.6 | K13: Visuomenės sveikatos rėmimo specialiosios programos įgyvendinimas, proc. | L13: 100 | M13: 100 | N13: Lėšos skirtos užkrečiamųjų ligų sričiai, COVID-19 viruso sukeltos ligos valdymui, sveikatos priežiūros įstaigoms, siekiant įsigyti infekcijos kontrolės valdymui skirtas priemones, taip pat psichikos sveikatos gerinimo srityje, traumatizmo prevencijai, kaip ir kasmet buvo vykdomas maudymosi vietų monitoringas, atsižvelgiant į gyventojų skundus – triukšmo lygio matavimai.
A14: 01 | B14: 01 | C14: 03 | D14: Peržiūrėti neveiksniais pripažintų asmenų būklę | E14: 1 | F14: Neveiksniais pripažintų asmenų būklės peržiūrėjimo organizavimas | G14: Socialinės paramos skyrius | H14: SBVB | I14: 2.9 | J14: 2.8 | K14: Asmenų, kurių neveiksnumas peržiūrėtas, skaičius | L14: 60 | M14: 54 | N14: Neveiksnių asmenų būklės peržiūrėjimo komisija peržiūrėjo 54 asmenų būklę
A15: 01 | B15: 01 | C15: 04 | D15: Įgyvendinti projektą "Sveikos gyvensenos skatinimas Kėdainių rajone" | H15: SB | K15: Tikslinių grupių asmenys, kurie dalyvavo informavimo, švietimo ir mokymo renginiuose bei sveikatos raštingumą didinančiose veiklose | L15: 800 | M15: 800
H16: ES
H17: VB
A18: 01 | B18: 01 | C18: 05 | D18: Gerinti pirminės asmens sveikatos priežiūros paslaugų teikimo prieinamumą tuberkuliozės srityje | E18: 1 | F18: Priemonės, kurią vykdo Kėdainių PSPC, įgyvendinimo koordinavimas | G18: Administracijos direktorius | H18: SB | I18: 0.4 | J18: 0.2 | K18: Tuberkulioze sergančių pacientų, kuriems buvo suteiktos socialinės paramos priemonės tuberkuliozės gydymo metu | L18: 15 | M18: 6 | N18: Projektą įgyvendina Kėdainių PSPC. Projekto įgyvendinimo metu tuberkulioze sergantiems pacientams, ambulatorinio gydymo metu dalijami maisto talonai
H19: ES
H20: VB
A25: 01 | B25: 01 | C25: 08 | D25: Kompensuoti patirtas išlaidas už skiepijimo nuo COVID-19 ligos (koronaviruso infekcijos) paslaugas | E25: 1 | F25: Priemonės koordinavimas | G25: Vyr. specialistė (savivaldybės gydytoja) | H25: SBVB | I25: 756.6 | J25: 756.5 | K25: Paskiepytų vakcina gyventojų procentinė dalis (ne mažiau) | L25: 70 | M25: 68,3 | N25: Lėšos pervestos Kėdainių sveikatos įstaigoms
A26: 01 | B26: 01 | C26: Iš viso uždaviniui | I26: =SUM(I13:I25) -> 847.1 | J26: =SUM(J13:J25) -> 817.1
A27: 01 | B27: Iš viso tikslui | I27: =+I26 -> 847.1 | J27: =+J26 -> 817.1
A28: 02 | B28: Gerinti sveikatos priežiūros paslaugų kokybę ir prieinamumą, plėsti paslaugų spektrą, atnaujinti materialinę aplinką
A29: 02 | B29: 01 | C29: Siekti gyventojų sveikatos išsaugojimo, gerinant sveikatos priežiūros paslaugų kokybę ir prieinamumą
A30: 02 | B30: 01 | C30: 01 | D30: Vykdyti E. sveikatos informacinės sistemos diegimo, palaikymo ir tobulinimo VšĮ PSPC ir VšĮ Kėdainių ligoninėje 2016–2021 m. programą | E30: 1 | F30: Sutarčių su vykdytojais suderinimas, priemonių koordinavimas ir vykdymo kontrolė | G30: Vyr. specialistė (savivaldybės gydytoja) | H30: SB | I30: 20 | J30: 20 | K30: Atnaujintos ir E. Sveikatos IS funkcionalumui pritaikytos įrangos skaičius | L30: 20 | M30: 41 | N30: Įgyvendinant programą vykdytas E. sveikatos IS funkcionalumų palaikymas, atnaujinimas ir diegimas, IKT įrangos modernizavimas, apmokyti nauji darbuotojai
A31: 02 | B31: 01 | C31: 02 | D31: Vykdyti VšĮ Kėdainių ligoninės dantų protezavimo programą | E31: 1 | F31: Sutarčių su vykdytojais suderinimas, priemonių koordinavimas ir vykdymo kontrolė | G31: Vyr. specialistė (savivaldybės gydytoja) | H31: SB | I31: 40 | J31: 40 | K31: Suteiktų dantų protezavimo paslaugų, finansuojamų savivaldybės biudžeto lėšomis, skaičius | L31: 83 | M31: 86 | N31: Įgyvendinant programą savivaldybės biudžeto lėšomis dantų protezavimo paslaugos suteiktos 86 asmenims
A32: 02 | B32: 01 | C32: 04 | D32: Vykdyti traumatologinės pagalbos kokybės gerinimo Kėdainių rajono savivaldybės gyventojams 2016–2021 m. programą | E32: 1 | F32: Sutarčių su vykdytojais suderinimas, priemonių koordinavimas ir vykdymo kontrolė | G32: Vyr. specialistė (savivaldybės gydytoja) | H32: SB | I32: 10.9 | J32: 10.9 | K32: Įsigytos įrangos skaičius/ atliktų ortopedų-traumatologų ir urologų atliktų operacijų skaičius | L32: 1/ 600 | M32: 1/ 657 | N32: Programos lėšomis įsigijus impulsinį mobilų rentgeno aparatą su C lanku atliktos gydytojų ortopedų-traumatologų, urologų operacijos.
A33: 02 | B33: 01 | C33: 05 | D33: Vykdyti Kėdainių rajono tuberkuliozės prevencijos, ankstyvosios diagnostikos, gydymo ir kontrolės 2017–2022 m. programą | E33: 1 | F33: Sutarčių su vykdytojais suderinimas, priemonių koordinavimas ir vykdymo kontrolė | G33: Vyr. specialistė (savivaldybės gydytoja) | H33: SB | I33: 43.3 | J33: 42.8 | K33: Įsigytos įrangos skaičius (lizingas)/atliktų tyrimų ir paslaugų sk. | L33: 1/3000/5000 | M33: 1/3017/ 3199 | N33: Programos lėšomis mokamos lizingo įmokos už įsigytą universalų distancinį valdymo rentgeno diagnostikos aparatą, perkami tuberkulino mėginiai
A34: 02 | B34: 01 | C34: 06 | D34: Vykdyti Ultragarsinių diagnostinių paslaugų teikimo efektyvumo gerinimo Kėdainių rajono savivaldybėje 2017–2022 m. programą | E34: 1 | F34: Sutarčių su vykdytojais suderinimas, priemonių koordinavimas ir vykdymo kontrolė | G34: Vyr. specialistė (savivaldybės gydytoja) | H34: SB | I34: 10.3 | J34: 10.3 | K34: Atliktų echoskopijų skaičius per metus | L34: 14000 | M34: 19008 | N34: Programos lėšomis mokamos lizingo įmokos už įsigytą echoskopą.
A35: 02 | B35: 01 | C35: 07 | D35: Vykdyti pirminės asmens sveikatos priežiūros paslaugų prieinamumo ir kokybės užtikrinimo Kėdainių rajono kaimiškųjų vietovių gyventojams 2017–2023 m. programą | E35: 1 | F35: Sutarčių su vykdytojais suderinimas, priemonių koordinavimas ir vykdymo kontrolė | G35: Vyr. specialistė (savivaldybės gydytoja) | H35: SB | I35: 20 | J35: 20 | K35: Pacientų, patenkintų pirminės asmens sveikatos priežiūros paslaugų kokybe, skaičiaus didėjimas (proc.). | L35: 3 | M35: -3 | N35: Programos lėšomis dalinai finansuotos ambulatorijų ir medicinos punktų komunalinės išlaidos. Pasitenkinimas teikiamomis paslaugomis išlieka pakankamai aukštas (gerai ir labai gerai vertina 93,3 proc. apklaustųjų), tačiau lyginant su 2020 m., rodiklis sumažėjo apie 3 proc. dėl objektyvių priežasčių - ekstremalios situacijos, susijusios su COVID-19 pandemija
A36: 02 | B36: 01 | C36: 08 | D36: Vykdyti ambulatorinės akušerinės ir ginekologinės pagalbos kokybės gerinimo Kėdainių rajono savivaldybės moterims 2019-2024 m. programą | E36: 1 | F36: Sutarčių su vykdytojais suderinimas, priemonių koordinavimas ir vykdymo kontrolė | G36: Vyr. specialistė (savivaldybės gydytoja) | H36: SB | I36: 8 | J36: 8 | K36: Įsigytos įrangos skaičius/atliktų ultragarsinių tyrimų sk.(1 gydytojui) | L36: 285 | M36: 444 | N36: Programos lėšomis mokamos lizingo įmokos už įsigytą ultragarsinį aparatą. Vienas gydytojas vidutiniškai atliko 444 vnt. ultragarsinių tyrimų
A37: 02 | B37: 02 | C37: 09 | D37: Vykdyti akušerinės pagalbos kokybės gerinimo Kėdainių rajono savivaldybės moterims 2020-2021 m. programą | E37: 1 | F37: Sutarčių su vykdytojais suderinimas, priemonių koordinavimas ir vykdymo kontrolė | G37: Vyr. specialistė (savivaldybės gydytoja) | H37: SB | I37: 36.1 | J37: 36.1 | K37: Įsigytų kūdikio kraitelių skaičius per metus | L37: 220 | M37: 248 | N37: Programos lėšomis skirta 248 vnt. kūdikių kraitelių
A38: 02 | B38: 01 | C38: 10 | D38: Vykdyti endoskopinių paslaugų prieinamumo ir kokybės gerinimo Kėdainių rajono savivaldybėje 2020-2025 m. programą | E38: 1 | F38: Sutarčių su vykdytojais suderinimas, priemonių koordinavimas ir vykdymo kontrolė | G38: Vyr. specialistė (savivaldybės gydytoja) | H38: SB | I38: 21.1 | J38: 21.1 | K38: Įsigytos įrangos skaičius / atliktų endoskopijų ir kolonoskopijų skaičius | L38: 1750 | M38: 1257 | N38: Programos lėšomis mokamos lizingo įmokos už endoskopinę įrangą su vežimėliu bei endoskopų plovimo ir dezinfekavimo mašiną. Dėl Covid-19 taikomų priemonių buvo pailgintas dezinfekcijos laikas tarp ligonių priėmimo, kas sąlygojo mažesnį priimtų pacientų skaičių
A39: 02 | B39: 01 | C39: 11 | D39: Vykdyti mamografijos paslaugų tęstinumo, kokybės gerinimo Kėdainių rajono savivaldybėje 2020-2025 m. programą | E39: 1 | F39: Sutarčių su vykdytojais suderinimas, priemonių koordinavimas ir vykdymo kontrolė | G39: Vyr. specialistė (savivaldybės gydytoja) | H39: SB | I39: 19.1 | J39: 19.1 | K39: Įsigytos įrangos skaičius / atliktų mamografijų ir vertinimo paslaugų skaičius per metus | L39: 1800 | M39: 2868 | N39: Programos lėšomis mokamos lizingo įmokos už skaitmenizuoto mamografo įsigijimą, atlikta 2868 mamografijų ir vertinimo paslaugų
A40: 02 | B40: 01 | C40: 12 | D40: Vykdyti kompiuterinės tomografijos paslaugų kokybės gerinimo Kėdainių rajono savivaldybėje 2021-2028 m. programą | E40: 1 | F40: Sutarčių su vykdytojais suderinimas, priemonių koordinavimas ir vykdymo kontrolė | G40: Vyr. specialistė (savivaldybės gydytoja) | H40: SB | I40: 40 | J40: 0 | K40: Įsigytos įrangos skaičius / atliktų tyrimų skaičius per metus | L40: 1 | M40: 0 | N40: 2021 m. balandžio mėn. pradžioje nepataisomai sugedus pagrindiniam rentgeno aparatui, esančiam konsultacijų poliklinikoje, kompiuterinio tomografo įsigijimas atidėtas. Prioritetas teiktas naujo rentgeno įsigijimui. Tikimasi tomografą įsigyti kiek vėliau, ES lėšomis
A42: 02 | B42: 01 | C42: 15 | D42: Teikti Metų medicinos darbuotojo apdovanojimą | E42: 1 | F42: Metų mediko konkurso organizavimas | G42: Vyr. specialistė (savivaldybės gydytoja) | H42: SB | I42: 1 | J42: 0 | K42: Įteiktas Metų medicinos darbuotojo apdovanojimas | L42: 1 | M42: 0 | N42: Tęsiantis pandeminei situacijai ir įvertinant visų medikų didelį darbą ir pasiaukojimą, Metų mediko apdovanojimas neteiktas, nes visi rajono medikai verti Metų mediko vardo. Medicinos darbuotojų dienos proga organizuotas šventinis paminėjimas
A43: 02 | B43: 01 | C43: Iš viso uždaviniui | I43: =SUM(I30:I42) -> 269.8 | J43: =SUM(J30:J42) -> 228.3
A44: 02 | B44: Iš viso tikslui | I44: =+I43 -> 269.8 | J44: =+J43 -> 228.3
A45: 03 | B45: Pritaikyti viešąją infrastruktūrą sveikatos gerinimo poreikiams
A46: 03 | B46: 01 | C46: Modernizuoti ir atnaujinti sveikatos priežiūros vidaus ir išorės infrastruktūrą
A47: 03 | B47: 01 | C47: 01 | D47: Rekonstruoti VšĮ Kėdainių ligoninės laboratorinio-stomatologinio korpusą | H47: SBVB | I47: 0 | J47: 0 | K47: Įgyvendinta einamaisiais metais numatomų atlikti projekto veiklų proc.
A48: 03 | B48: 01 | C48: 02 | D48: Remontuoti VšĮ Kėdainių ligoninės Neurologijos ir Priėmimo – skubios pagalbos skyrius | H48: SBVB | I48: 0 | J48: 0 | K48: Įgyvendinta einamaisiais metais numatomų atlikti projekto veiklų proc.
A49: 03 | B49: 01 | C49: 03 | D49: Didinti pirminės asmens sveikatos priežiūros veiklos efektyvumą VšĮ Kėdainių pirminės sveikatos priežiūros centre | E49: 1 | F49: Priemonės, kurią vykdo Kėdainių PSPC, įgyvendinimo koordinavimas | G49: Administracijos direktorius | H49: SB | I49: 15.1 | J49: 8.8 | K49: Viešąsias sveikatos priežiūros paslaugas teikiančių įstaigų, kuriose pagerinta paslaugų teikimo infrastruktūra, skaičius / Gyventojų, pasinaudojusių pagerintomis paslaugomis, skaičius tūkst. | L49: 1 /40,3 | M49: 1 /40,3 | N49: Dalinai kofinansuotas PSPC įgyvendinamas projektas. Atliktas numatytų ambulatorijų patalpų remontas, įsigyta įranga pirminės sveikatos priežiūros paslaugų teikimui
A50: 03 | B50: 01 | C50: 04 | D50: Atnaujinti Dotnuvos seniūnijos Akademijos miestelio visuomeninės paskirties pastatą, pritaikant jį kaimo bendruomenės poreikiams | E50: 1 | F50: Projekto koordinavimas, rangos darbų koordinavimas, rangovo prisiimtų sutartinių įsipareigojimų vykdymo kontrolė | G50: Statybos ir turto skyrius, Strateginio planavimo ir investicijų skyrius | H50: SB | I50: 2.3 | J50: 1.6 | K50: Suremontuotų pastatų skaičius / gyventojų, pasinaudojusių geresne infrastruktūra, skaičius tūkst. | L50: 1 / 841 | M50: 1 / 841 | N50: Baigti Akademijos ambulatorijos įrengimo ir pritaikymo visuomenės poreikiams darbai
H51: VB | I51: 6.8 | J51: 1
H52: ES | I52: 50 | J52: 5.6
...

Sheet 03social.
A4: Programos tikslo kodas | B4: Uždavinio kodas | C4: Priemonės kodas | D4: Priemonės pavadinimas | E4: Veiklos/darbo/ veiksmo kodas | F4: Veiklos/darbo/ veiksmo pavadinimas | G4: Atsakingi vykdytojai | H4: Finansavimo šaltinis | I4: Numatomi 2021-ųjų m. asignavimai, tūkst. Eur | J4: Panaudoti 2021-ųjų m. asignavimai, tūkst. Eur | K4: Proceso/indėlio vertinimo kriterijai
K5: Pavadinimas | L5: Planuota reikšmė | M5: Pasiekta reikšmė | N5: Nukrypimų nuo plano priežastys, pastabos, komentarai
A9: 03 SOCIALINĖS APSAUGOS PLĖTOJIMAS
A10: 01 | B10: Organizuoti socialinę paramą ir skatinti socialinę integraciją
A11: 01 | B11: 01 | C11: Organizuoti Lietuvos Respublikos teisės aktuose numatytos paramos bei paslaugų asmenims ir šeimoms teikimą
A12: 01 | B12: 01 | C12: 01 | D12: Teikti ir administruoti socialines išmokas ir kompensacijas (būsto šildymo išlaidų, išlaidų šaltam bei nuotekoms ir išlaidų karštam vandeniui) | E12: 1 | F12: Koordinavimas, duomenų suvedimas į programą "Parama" | G12: Socialinės paramos skyrius | H12: SBVB | I12: 5.4 | J12: 4.9 | K12: Asmenų, gaunančių socialinę pašalpą ir kompensacijas skaičius | L12: 6900 | M12: 6400 | N12: Piniginės socialinės paramos gavėjų skaičius mažėjo dėl to, kad karantino metu daug asmenų gavo tikslines išmokas iš užimtumo tarnybos ir dėl to negalėjo gauti socialinės pašalpos
H13: SB | I13: 617.7 | J13: 438.5
A14: 01 | B14: 01 | C14: 02 | D14: Dengti išlaidas už įsigytus produktus, mokinio reikmenis, administruoti socialinę paramą mokiniams | E14: 1 | F14: Koordinavimas, duomenų suvedimas į programą "Parama", informacijos teikimas švietimo įstaigų vadovams | G14: Socialinės paramos skyrius, Švietimo skyrius | H14: SBVB | I14: 779.9 | J14: 697 | K14: Mokinių, gaunančių nemokamą maitinimą, skaičius | L14: 1800 | M14: 1888 | N14: Mokinių, gaunančių būtiniausius mokinio reikmenis, nemokamą maitinimą skaičius didėjo, nes šeimos dėl karantino prarado pajamas
K15: Mokinių gaunančių būtiniausius mokinio reikmenis skaičius | L15: 1300 | M15: 1263
A16: 01 | B16: 01 | C16: 03 | D16: Teikti socialinę globą asmenims su sunkia negalia | E16: 1 | F16: Koordinavimas, apmokėjimas už suteiktas paslaugas ne savivaldybės pavaldumo globos įstaigoms | G16: Socialinės paramos skyrius | H16: SBVB | I16: 277.4 | J16: 269.2 | K16: Globojamų asmenų skaičius | L16: 200 | M16: 208 | N16: Globojamų asmenų su sunkia negalia skaičius pastaraisiais metais didėja, daugėja tiek dienos socialinės globos paslaugų namuose, tiek stacionariose įstaigose gavėjų
A17: 01 | B17: 01 | C17: 05 | D17: Organizuoti nemokamą socialiai remtinų vaikų maitinimą ikimokyklinėse įstaigose | E17: 1 | F17: Informacijos rinkimas, ikimokyklinių įstaigų užmokesčio už vaikų išlaikymą analizė | G17: Švietimo skyrius | H17: SB | I17: 50 | J17: 33.4 | K17: Vaikų, gaunančių nemokamą maitinimą skaičius | L17: 350 | M17: 347 | N17: 347 vaikų iš dalies arba visiškai atleisti nuo mokesčio už maitinimą. Lėšų reikėjo mažiau, kadangi karantino metu ikimokyklinės įstaigos dalį laiko nedirbo
A18: 01 | B18: 01 | C18: 06 | D18: Kompensuoti nemokamo mokinių maitinimo kainą bendrojo lavinimo mokyklose | E18: 1 | F18: Koordinavimas, duomenų rinkimas, apmokėjimas maitinimo paslaugų teikėjams bei įstaigoms | G18: Socialinės paramos skyrius, Apskaitos skyrius | H18: SB | I18: 115 | J18: 115 | K18: Mokinių, gaunančių nemokamą maitinimą, skaičius | L18: 1800 | M18: 1888 | N18: Mokinių, gaunančių nemokamą maitinimą, skaičius didėjo, nes šeimos dėl karantino prarado pajamas
A19: 01 | B19: 01 | C19: 07 | D19: Teikti tikslines kompensacijas neįgaliesiems | E19: 1 | F19: Asmenų konsultavimas, prašymų priėmimas, Duomenų suvedimas į programą | G19: Socialinės paramos skyrius | H19: VB | I19: 2904.9 | J19: 2711.4 | K19: Asmenų gaunančių šalpos išmokas, skaičius | L19: 1385 | M19: 1403 | N19: Asmenims išmokėtos tikslinės kompensacijos
A20: 01 | B20: 01 | C20: 08 | D20: Teikti išmokas vaikams | E20: 1 | F20: Koordinavimas, Duomenų suvedimas į programą "Parama" | G20: Socialinės paramos skyrius | H20: VB | I20: 11140.1 | J20: 9259.2 | K20: Asmenų gaunančių išmokas vaikams, skaičius | L20: 8184 | M20: 8723 | N20: Išmoka skirta 8723 vaikams
A21: 01 | B21: 01 | C21: 09 | D21: Organizuoti socialinės reabilitacijos paslaugų neįgaliesiems bendruomenėje projektų konkursus | E21: 1 | F21: Projektų konkurso organizavimas, projektų koordinavimas, sutarčių vykdymo kontrolė | G21: Socialinės paramos skyrius | H21: VB | I21: 79.8 | J21: 83.3 | K21: Neįgaliųjų, gavusių paslaugas skaičius | L21: 380 | M21: 427 | N21: Įgyvendinti 5 Kėdainių rajono neįgaliuosius atstovaujančių organizacijų pateikti socialinės reabilitacijos paslaugų neįgaliems asmenims projektai, kuriuose dalyvavo 427 neįgalūs asmenys
H22: SB | I22: 22 | J22: 16
A23: 01 | B23: 01 | C23: 10 | D23: Organizuoti ir dalinai kompensuoti būsto pritaikymą neįgaliesiems | E23: 1 | F23: Poreikio identifikavimas, viešųjų pirkimų organizavimas, sutarties vykdymo koordinavimas | G23: Socialinės paramos skyrius | H23: VB | I23: 24.8 | J23: 29.8 | K23: Pritaikyti būstų neįgaliesiems skaičius | L23: 3 | M23: 8 | N23: 8 asmenims dalinai kompensuotos būsto pritaikymo neįgaliesiems išlaidos
A24: 01 | B24: 01 | C24: 11 | D24: Kompensuoti komunalines išlaidas neįgaliesiems | E24: 1 | F24: Asmenų konsultavimas, prašymų priėmimas, Duomenų suvedimas į programą "Parama" | G24: Socialinės paramos skyrius | H24: VB | I24: 0.1 | J24: 0.1 | K24: Neįgaliųjų, gavusių kompensacijas skaičius | L24: 2 | M24: 1 | N24: 1 asmeniui kompensuotos komunalinės išlaidos
A25: 01 | B25: 01 | C25: 12 | D25: Teikti kompensacijas ginkluoto pasipriešinimo dalyvių šeimoms, sovietinėje armijoje sužalotiems asmenims bei žuvusiųjų šeimoms | E25: 1 | F25: Asmenų konsultavimas, prašymų priėmimas, Duomenų suvedimas į programą "Parama" | G25: Socialinės paramos skyrius | H25: VB | I25: 0 | J25: 0 | K25: Asmenų, gavusių kompensacijas skaičius | L25: 2 | M25: 3 | N25: Vykdytas viešinimas dėl galimybės pasinaudoti šia paslauga 3 šeimos kreipėsi dėl kompensacijų
A26: 01 | B26: 01 | C26: 13 | D26: Kompensuoti būsto nuomos ar išperkamosios būsto nuomos mokesčių dalį | E26: 1 | F26: Asmenų konsultavimas, prašymų priėmimas, sąrašų sudarymas, duomenų vedimas į SPIS programą | G26: Socialinės paramos skyrius | H26: SBVB | I26: 3.7 | J26: 3.2 | K26: Asmenų, gavusių būsto nuomos ar išperkamosios būsto nuomos mokesčių dalies kompensaciją, skaičius iš bendro asmenų, turinčių teisę į paramą būstui išsinuomoti ir įrašytų į sąrašus, skaičiaus, proc. | L26: 4 | M26: 3 | N26: Vykdytas viešinimas dėl galimybės pasinaudoti šia paslauga 3 šeimos kreipėsi dėl kompensacijų
A27: 01 | B27: 01 | C27: Iš viso uždaviniui | I27: =SUM(I12:I26) -> 16020.8 | J27: =SUM(J12:J26) -> 13661
A28: 01 | B28: 02 | C28: Organizuoti socialinės paramos ir paslaugų teikimą Lietuvos Respublikos įstatymuose nenumatytais atvejais
A29: 01 | B29: 02 | C29: 01 | D29: Teikti savivaldybės paramą neįgaliesiems, senyvo amžiaus asmenims, vaikams ir daugiavaikėms, skurdžiai gyvenančioms, nuo stichinių nelaimių nukentėjusioms šeimoms, pirkti socialines paslaugas | E29: 1 | F29: Apmokėjimas už suteiktas paslaugas ne savivaldybės pavaldumo globos įstaigoms | G29: Apskaitos skyrius, Socialinės paramos skyrius | H29: SB | I29: 410 | J29: 463.1 | K29: Asmenų, gaunančių savivaldybės paramą, skaičius | L29: 4570 | M29: 4520 | N29: Finansuotos pagal sutartis socialinės paslaugos asmenims, kurias teikia kitos savivaldybės. Taip pat finansuota socialinės paramos 2021 m. programa (dėl karantino, mažiau suteikta pirties paslaugų, taip pat vykdant aplinkos pritaikymo neįgaliesiems darbus, dalis jų persikėlė į 2022 m., mažiau nei planuota kreipėsi dėl gaisrų ar stichinių nelaimių padarytų nuostolių iš dalies padengti)
H30: SB | I30: 173.4 | J30: 157.6
A31: 01 | B31: 02 | C31: 02 | D31: Dengti kainų skirtumą gyventojams už šildymą | E31: 1 | F31: Apmokėjimų užtikrinimas paslaugų teikėjams | G31: Apskaitos skyrius | H31: SB | I31: 70 | J31: 64.3 | K31: Asmenų, kuriems dengiamas kainų skirtumas, skaičius | L31: 500 | M31: 500 | N31: 500 asmenų kompensuotas kainų skirtumas už šildymą. Lėšų poreikis kompensacijoms skiriamas atsižvelgiant į gyventojų gaunamas pajamas, šildymo sezono trukmę
A32: 01 | B32: 02 | C32: 03 | D32: Kompensuoti karšto ir šalto vandens pardavimo kainą socialiai remtiniems asmenims | E32: 1 | F32: Koordinavimas, duomenų teikimas paslaugų teikėjams | G32: Socialinės paramos skyrius, Apskaitos skyrius | H32: SB | I32: 131.9 | J32: 131.6 | K32: Asmenų, gaunančių kompensaciją, skaičius | L32: 5800 | M32: 5663 | N32: 5663 asmenims kompensuota karšto ir šalto vandens pardavimo kaina. Mažėjo asmenų ar šeimų, kurioms skirta piniginė socialinė parama skaičius
A33: 01 | B33: 02 | C33: 04 | D33: Teikti vienkartinę išmoką gimus vaikui Lietuvos Respublikos teritorijoje ir gyvenančiam Kėdainių rajono savivaldybėje | E33: 1 | F33: Išmokų pervedimas | G33: Apskaitos skyrius | H33: SB | I33: 30 | J33: 26.7 | K33: Asmenų gaunančių išmokas, skaičius | L33: 320 | M33: 267 | N33: 267 vaikams, gimusiems Lietuvoje ir gyvenantiems Kėdainių r. savivaldybėje mokėtos 100 Eur vienkartinės išmokos
A34: 01 | B34: 02 | C34: 05 | D34: Teikti Metų socialinio darbuotojo apdovanojimą | E34: 1 | F34: Metų socialinio darbuotojo konkurso organizavimas | G34: Socialinės paramos skyrius | H34: SB | I34: 1 | J34: 1 | K34: Įteiktas Metų socialinio darbuotojo apdovanojimas | L34: 1 | M34: 1 | N34: Metų socialinio darbuotojo apdovanojimas skirtas Kėdainių rajono savivaldybės administracijos Krakių seniūnijos socialinei darbuotojai Vilmai Berulienei
A35: 01 | B35: 02 | C35: Iš viso uždaviniui | I35: =SUM(I29:I34) -> 816.3 | J35: =SUM(J29:J34) -> 844.3
A36: 01 | B36: 03 | C36: Užtikrinti transporto lengvatų, numatytų Lietuvos Respublikos transporto lengvatų įstatyme, taikymą
A37: 01 | B37: 03 | C37: 01 | D37: Kompensuoti kelionės išlaidas už lengvatinį keleivių vežimą | E37: 1 | F37: Duomenų ir pateisinamųjų dokumentų iš vežėjų ir įstaigų rinkimas, sisteminimas, analizė ir teikimas Apskaitos bei Biudžeto ir finansų skyriams | G37: Statybos ir turto skyrius | H37: SB | I37: 311.3 | J37: 277.8 | K37: Parduotų su nuolaida bilietų skaičius (tūkst.) | L37: 455 | M37: 492 | N37: 2021 m. UAB "Kėdbusas" keleiviams turintiems teisę į lengvatas, įskaitant ir savivaldybės sprendimą dėl nemokamo moksleivių vežimo pardavė 492 326 vnt. kelionės bilietų (vienkartiniai ir terminuoti (mėnesiniai)
A38: 01 | B38: 03 | C38: Iš viso uždaviniui | I38: =SUM(I37) -> 311.3 | J38: =SUM(J37) -> 277.8
A39: 01 | B39: Iš viso tikslui | I39: =+I38+I35+I27 -> 17148.4 | J39: =+J38+J35+J27 -> 14783.1
A40: 02 | B40: Gerinti socialinių paslaugų prieinamumą, užtikrinti jų teikimą bei didinti socialinių paslaugų ir jų teikėjų įvairovę
A41: 02 | B41: 01 | C41: Užtikrinti, plėsti ir gerinti socialinių paslaugų teikimą
A42: 02 | B42: 01 | C42: 06 | D42: Užtikrinti paslaugų teikimą VšĮ "Gyvenimo namai sutrikusio intelekto asmenims" | E42: 1 | F42: Programos vykdymo kontrolė | G42: Socialinės paramos skyrius | H42: SB | I42: 44 | J42: 44 | K42: Paslaugas gaunančių asmenų skaičius | L42: 21 | M42: 21 | N42: Savarankiško gyvenimo namų paslaugos suteiktos 21 asmenų su proto negalia
A43: 02 | B43: 01 | C43: 08 | D43: Teikti kompleksines paslaugas šeimai Kėdainių rajone | E43: 1 | F43: Projekto koordinavimas | G43: Socialinės paramos skyrius | H43: ES | I43: 108.3 | J43: 107.4 | K43: Asmenų, kuriems suteiktos paslaugos skaičius | L43: 150 | M43: 240 | N43: Įgyvendinant projektą teikiamos psichologo paslaugos ir pozityvios tėvystės užsiėmimai. Asmenys noriai naudojasi paslaugomis, ypatingai psichologų pagalba
A44: 02 | B44: 01 | C44: 09 | D44: Finansuoti dienos socialinės globos paslaugų teikimą Kėdainių socialinės globos namuose | E44: 1 | F44: Programos vykdymo kontrolė | G44: Socialinės paramos skyrius | H44: SBVB | I44: 45.6 | J44: 38.8 | K44: Asmenų, kuriems suteiktos paslaugos, skaičius | L44: 7 | M44: 6 | N44: Projektą įgyvendina Kėdainių socialinės globos namai. Paslaugos teiktos 6 asmenims su negalia
H45: SB | I45: 10 | J45: 1.8
A46: 02 | B46: 01 | C46: 10 | D46: Finansuoti vaikų dienos centrų veiklos programas | E46: 1 | F46: Sutarčių sudarymas, programų įgyvendinimo priežiūros organizavimas | G46: Socialinės paramos skyrius | H46: SB | I46: 53.5 | J46: 52.1 | K46: Finansuotų vaikų dienos centrų skaičius/veiklose dalyvavusių vaikų, jaunuolių skaičius | L46: 7/100 | M46: 8/160 | N46: Finansuoti 8 vaikų dienos centrai: Kėdainių pagalbos šeimai centro vaikų dienos centras (25 vaikai), VšĮ „Laiptai į viltį“ (20 vaikų), Vaikų dienos centras „Tavo svajonė“ (20 vaikų), Gudžiūnų bendruomenės centras (25 vaikai), Ažytėnų bendruomenės centras (15 vaikų), Asociacija „Trinus“ (25 vaikai), Tiskūnų bendruomenės centras (15 vaikų), Alternatyviojo ugdymo centras (15 vaikų)
...

Sheet 04sport.
H1: PATVIRTINTA Kėdainių rajono savivaldybės administracijos direktoriaus 2021 m. kovo 12 d. įsakymu Nr.AD-1-277 (Kėdainių rajono savivaldybės administracijos direktoriaus 2021 m. rugsėjo d. įsakymo Nr.AD-1- redakcija)
A4: Programos tikslo kodas | B4: Uždavinio kodas | C4: Priemonės kodas | D4: Priemonės pavadinimas | E4: Veiklos/darbo/ veiksmo kodas | F4: Veiklos/darbo/ veiksmo pavadinimas | G4: Atsakingi vykdytojai | H4: Finansavimo šaltinis | I4: Numatomi 2021-ųjų m. asignavimai, tūkst. Eur | J4: Panaudoti 2021-ųjų m. asignavimai, tūkst. Eur | K4: Proceso/indėlio vertinimo kriterijai
K5: Pavadinimas | L5: Planuota reikšmė | M5: Pasiekta reikšmė | N5: Nukrypimų nuo plano priežastys, pastabos, komentarai
A9: 04 SPORTO VEIKLOS PLĖTRA
A10: 01 | B10: 01 tikslas. Didinti gyventojų fizinį aktyvumą, ugdyti sportišką bendruomenę
A11: 01 | B11: 01 | C11: Užtikrinti Kultūros ir sporto skyriaus veiklą kūno kultūros ir sporto srityje
A12: 01 | B12: 01 | C12: 01 | D12: Organizuoti ir užtikrinti Kultūros ir sporto skyriaus veiklą kūno kultūros ir sporto srityje | E12: 1 | F12: Kūno kultūros ir sporto politikos formavimas ir įgyvendinimo užtikrinimas | G12: Kultūros ir sporto skyrius | H12: SB | I12: 49.5 | J12: 45.7 | K12: Kultivuojamų sporto šakų skaičius | L12: 31 | M12: 31 | N12: Kultūros ir sporto skyrius, bendradarbiaudamas su rajono sporto nevyriausybinėmis organizacijomis, biudžetinėmis įstaigomis, 2021 m. organizavo krepšinio, futbolo, bokso, šachmatų, šaškių, teniso, stalo teniso, turizmo, sportinių šokių, lengvosios atletikos, tinklinio, dziudo imtynių, dviračių sporto, karate, kultūrizmo, žolės riedulio ir kitų sporto šakų varžybas, respublikinius, tarptautinius ir kitus renginius.
A13: 01 | B13: 01 | C13: Iš viso uždaviniui | I13: =SUM(I12) -> 49.5 | J13: =SUM(J12) -> 45.7
A14: 01 | B14: 02 | C14: Užtikrinti efektyvią Kėdainių sporto centro veiklą, vykdyti organizuojamus renginius
H15: VB
I16: =SUM(I15:I15) -> 0 | J16: =SUM(J15:J15) -> 0
A17: 01 | B17: 03 | C17: Ugdyti sveiką, aktyvų, savimi ir savo gebėjimais pasitikinti pilietį bei sudaryti sąlygas gyventojų fiziniam aktyvumui
A18: 01 | B18: 03 | C18: 01 | D18: Finansuoti Vaikų mokymo plaukti veiklos programą, dalyvaujant projekte „Mokėk plaukti ir saugiau elgtis vandenyje“ | E18: 1 | F18: Sutarčių su vykdytojais suderinimas, priemonių koordinavimas ir vykdymo kontrolė | G18: Kultūros ir sporto skyrius | H18: SB | I18: 0 | J18: 0 | K18: Programoje dalyvaujančių vaikų skaičius | L18: 300/14 | M18: 300/14
H19: VB
A20: 01 | B20: 03 | C20: 02 | D20: Skatinti Neįgaliųjų fizinį aktyvumą, organizuoti sporto renginius ir sporto treniruočių stovyklas | E20: 1 | F20: Sportinės veiklos organizavimas, koordinavimas | G20: Kultūros ir sporto skyrius | H20: SB | I20: 3 | J20: 2.9 | K20: Neįgaliųjų kūno kultūros ir sporto renginių skaičius / stovyklų skaičius | L20: 5/3 | M20: 6/4 | N20: Įvyko rajoninės tarporganizacinės neįgaliųjų šaškių, bočios, stalo teniso varžybos, paraplegikų spartakiada, žygiai su šiaurietiškomis lazdomis. Dalyvauta respublikinės bočios varžybose, rankų lenkimo čempionate. Suorganizuotos 4 sportinės stovyklos pasiruošti varžyboms
A21: 01 | B21: 03 | C21: Iš viso uždaviniui | I21: =SUM(I18:I20) -> 3 | J21: =SUM(J18:J20) -> 2.9
A22: 01 | B22: 04 | C22: Vystyti įvairias gyventojų poreikius atitinkančias sporto šakas, didinti sportinės veiklos žinomumą Kėdainių rajone
A23: 01 | B23: 04 | C23: 01 | D23: Organizuoti rajoninius, respublikinius, tarptautinius visų amžiaus grupių aukšto meistriškumo sporto renginius ir aukšto meistriškumo sporto treniruočių stovyklas | E23: 1 | F23: Sportinės veiklos organizavimas, koordinavimas | G23: Kultūros ir sporto skyrius | H23: SB | I23: 23 | J23: 25.3 | K23: Suorganizuotų rajoninių, respublikinių ir tarptautinių kūno kultūros ir sporto renginių skaičius / veteranų sporto šakų skaičius / stovyklų skaičius | L23: 18/12/5 | M23: 21/12/11 | N23: Pasiruošimui ir dalyvavimui šalies ir tarptautiniuose sporto renginiuose įvyko 11 sporto stovyklų, jose dalyvavo 99 sportininkai. Organizuotos aerobinės gimnastikos, krepšinio, šachmatų, šaškių, teniso, stalo teniso, turizmo, sportinių šokių, dviračių sporto, karate, kultūrizmo, žolės riedulio ir kitų sporto šakų varžybos ir kiti renginiai. Kėdainių rajono sportininkai ir komandos šalies pirmenybėse, čempionatuose, tarptautinėse varžybose įvairaus amžiaus grupėse ir atskirose sporto šakose laimėjo 113 medalių
A24: 01 | B24: 04 | C24: Iš viso uždaviniui | I24: =SUM(I23:I23) -> 23 | J24: =SUM(J23:J23) -> 25.3
A25: 01 | B25: 05 | C25: Skatinti Kėdainių rajono sporto organizacijas, sporto komandas ir sportininkus, finansuoti sporto veiklos projektus ir programas
A26: 01 | B26: 05 | C26: 01 | D26: Finansuoti sporto šakų programas, iš jų: | E26: 1 | F26: Prioritetinių sporto šakų paraiškų finansavimui organizavimas, sutarčių su vykdytojais suderinimas, veiklos vykdymo kontrolė | G26: Kultūros ir sporto skyrius | H26: SB | I26: =SUM(I27:I31) -> 480 | J26: =SUM(J27:J31) -> 480 | K26: Finansuotų sporto šakų programų skaičius | L26: 4 | M26: 4 | N26: Finansuotos 4 prioritetinių sporto šakų (1 – krepšinio, 2 – futbolo, 1 – bokso) veiklos programos
C27: 01.01 | D27: VŠĮ Krepšinio klubo „Nevėžis“ veiklos programai | H27: SB | I27: 0 | J27: 0 | K27: Užimta vieta LKL čempionate / Karaliaus Mindaugo taurės turnyre / žiūrovų stebinčių rungtynes skaičiaus vidurkis | N27: Krepšinio komanda „Nevėžis“ 2019/2020 m. LKL čempionate iškovojo 10 vietą
C28: 01.02 | D28: VšĮ "Veržlusis Nevėžis" veiklos programai | H28: SB | I28: 200 | J28: 200 | K28: Užimta vieta LKL čempionate / Karaliaus Mindaugo taurės turnyre / žiūrovų stebinčių rungtynes skaičiaus vidurkis | L28: 8 / Top 8 / 1000 | M28: 10 / 9-10 / 450 | N28: Krepšinio komanda „Nevėžis“ 2020/2021 m. LKL čempionate iškovojo 10 vietą
C29: 01.03 | D29: VšĮ „Sporto perspektyvos“ veiklos programai | H29: SB | I29: 180 | J29: 180 | K29: Užimta vieta LFF A lygos pirmenybėse / rungtynių skaičius | L29: 1-8/34 | M29: 10 / 36 | N29: 2021 m. Kėdainių futbolo komanda „Nevėžis“ LFF Optibet A lygos čempionate iškovojo 10 vietą, sužaistos 36 rungtynės, įvykdyta 10 sportinių stovyklų
C30: 01.04 | D30: Kėdainių bokso federacijos veiklos programai | H30: SB | I30: 15 | J30: 15 | K30: Suorganizuotų stovyklų/ iškovotų medalių skaičius | L30: 11/6 | M30: 11 / 6 | N30: Suorganizuota 11 stovyklų, įvairaus amžiaus grupėse šalies ir tarptautinėse varžybose boksininkai iškovojo 14 medalių
C31: 01.05 | D31: VšĮ „Sporto perspektyvos“ vaikų ir jaunimo futbolo plėtros veiklos programai | H31: SB | I31: 85 | J31: 85 | K31: Sportuojančių vaikų skaičius | L31: 250 | M31: 250 | N31: Dalyvauta šalies vaikų, jaunių ir jaunimo pirmenybėse septyniose amžiaus grupėse, 3 jauni žaidėjai papildė „Nevėžio“ komandą
A32: 01 | B32: 05 | C32: 02 | D32: Finansuoti fizinio aktyvumo ir sporto veiklos projektus | H32: SB | I32: 35 | J32: 35 | K32: Finansuojamų projektų skaičius | L32: 25 | M32: 25 | N32: Finansuota 15 gyventojų fizinio aktyvumo plėtros bei 10 sporto veiklos projektų. Projektų veiklose dalyvavo per 2 tūkst. asmenų
A33: 01 | B33: 05 | C33: Iš viso uždaviniui | I33: =+I32+I26 -> 515 | J33: =+J32+J26 -> 515
A34: 01 | B34: Iš viso tikslui | I34: =+I33+I24+I21+I16+I13 -> 590.5 | J34: =+J33+J24+J21+J16+J13 -> 588.9
A35: 02 | B35: Atnaujinti ir plėsti Kėdainių rajono savivaldybės sporto infrastruktūrą, pritaikyti ją šiuolaikiniams poreikiams
A36: 02 | B36: 01 | C36: Modernizuoti sporto objektų materialinę bazę, sudarant sąlygas fizinio aktyvumo ugdymui
A37: 02 | B37: 01 | C37: 01 | D37: Rekonstruoti Kėdainių miesto stadioną ir atsargines futbolo, aktyvaus poilsio aikštes bei mašinų stovėjimo aikštelę šalia stadiono | E37: 1 | F37: Rangos darbų vykdymo koordinavimas, rangovo prisiimtų sutartinių įsipareigojimų vykdymo kontrolė | G37: Statybos ir turto skyrius | H37: SBVB | I37: 611 | J37: 608.6 | K37: Įgyvendinta einamaisiais metais numatomų atlikti projekto veiklų proc. | L37: 100 | M37: 100 | N37: Baigti naujos dangos, kurią miesto stadionui skyrė Lietuvos futbolo federacija, keitimo darbai, baigti Kėdainių miesto stadiono aptarnavimo ir buities pastato su dengtomis tribūnomis statybos darbai
H38: SB | I38: 113.6 | J38: 113.5
A39: 02 | B39: 01 | C39: 02 | D39: Atnaujinti ir (arba) plėsti bendruomeninę fizinio aktyvumo infrastruktūrą mieste ir rajone, pritaikant ją bendruomenės poreikiams bei laisvalaikiui | E39: 1 | F39: Atnaujinimo darbų viešojo pirkimo organizavimas, rangovo prisiimtų sutartinių įsipareigojimų vykdymo kontrolė | G39: Kultūros ir sporto skyrius | H39: SB | I39: 15 | J39: 11.1 | K39: Atnaujintų/įrengtų vaikų sporto ir žaidimų aikštelių skaičius | L39: 2 | M39: 3 | N39: Atnaujinta riedučių rampa mieste, įrengtos vaikų žaidimo aikštelės Aristavoje bei prie Akademijos tvenkinio
H40: ES
H41: VB
A42: 02 | B42: 01 | C42: 03 | D42: Tobulinti Kėdainių sporto centro infrastruktūrą (Parko g. 4, Vilainiai) | E42: 1 | F42: Projekto koordinavimas, rangos darbų koordinavimas, rangovo prisiimtų sutartinių įsipareigojimų vykdymo kontrolė | G42: Strateginio planavimo ir investicijų skyrius, Statybos ir turto skyrius | H42: SB | I42: 60.5 | J42: 15.1 | K42: Atnaujintų viešosios paskirties pastatų skaičius | L42: 1 | M42: 1 | N42: Pateikus paraišką papildomam finansavimui, įsigytos saugojimo spintos, suolai su atramomis bei sublokuotos kėdės
H43: ES | I43: 38.2 | J43: 21
A44: 02 | B44: 01 | C44: 04 | D44: Atnaujinti Kėdainių „Ryto“ progimnazijos stadioną ir sporto aikštyną | E44: 1 | F44: Techninės dokumentacijos parengimo sutarties vykdymo kontrolė | G44: Statybos ir turto skyrius | H44: SB | I44: 9.6 | J44: 9.6 | K44: Parengtos techninės dokumentacijos skaičius/ atnaujintų objektų skaičius | L44: 1/0 | M44: 1/0 | N44: Parengtas stadiono ir sporto aikštyno atnaujinimo techninis projektas, atlikta techninio projekto ekspertizė
H45: VB
...

Sheet 05kultura
H1: PATVIRTINTA Kėdainių rajono savivaldybės administracijos direktoriaus 2021 m. kovo 12 d. įsakymu Nr.AD-1-277 (Kėdainių rajono savivaldybės administracijos direktoriaus 2021 m.. gruodžio d. įsakymo Nr.AD-1- redakcija)
A4: Programos tikslo kodas | B4: Uždavinio kodas | C4: Priemonės kodas | D4: Priemonės pavadinimas | E4: Veiklos/darbo/ veiksmo kodas | F4: Veiklos/darbo/ veiksmo pavadinimas | G4: Atsakingi vykdytojai | H4: Finansavimo šaltinis | I4: Numatomi 2021-ųjų m. asignavimai, tūkst. Eur | J4: Panaudoti 2021-ųjų m. asignavimai, tūkst. Eur | K4: Proceso/indėlio vertinimo kriterijai
K5: Pavadinimas | L5: Planuota reikšmė | M5: Pasiekta reikšmė | N5: Nukrypimų nuo plano priežastys, pastabos, komentarai
A9: 05 KULTŪROS VEIKLOS PLĖTRA
A10: 03 | B10: Sudaryti sąlygas krašto bendruomenei dalyvauti kultūrinėje bei kūrybinėje veikloje
A11: 03 | B11: 02 | C11: Sudaryti sąlygas kultūros plėtrai rajone
A12: 03 | B12: 02 | C12: 01 | D12: Organizuoti ir užtikrinti Kultūros ir sporto skyriaus specialistų darbą kultūros srityje | E12: 1 | F12: Lietuvos Respublikos ir Savivaldybės kultūros politikos nuostatų įgyvendinimas, kultūros įstaigų veiklos koordinavimas | G12: Kultūros ir sporto skyrius | H12: SB | I12: 72.4 | J12: 72 | K12: Suorganizuotų renginių skaičius | L12: 40 | M12: 41 | N12: Kultūros ir sporto skyrius formavo ir įgyvendino rajono savivaldybės kultūros politiką muziejų, bibliotekų, etninės kultūros, meno mėgėjų veikloje bei kitose kultūros srityse, rūpinosi gyventojų bendrosios kultūros ugdymu. Savivaldybės administracija iniciavo, organizavo, finansavo kitų įstaigų, organizacijų 41 kultūrinį renginį. Dėl šalyje skelbto karantino, dalis renginių, festivalių neįvyko. Dalinis finansavimas skirtas 2 knygų leidybai
A13: 03 | B13: 02 | C13: 02 | D13: Finansuoti rajono savivaldybės renginius ir kultūrines iniciatyvas | E13: 1 | F13: Rajoninių renginių, konkursų, dalyvavimo regioniniuose ir respublikiniuose renginiuose bei konkursuose koordinavimas ir finansavimas | G13: Kultūros ir sporto skyrius | H13: SB | I13: 122.8 | J13: 106
A14: 03 | B14: 02 | C14: 03 | D14: Finansuoti kultūrinės veiklos projektus | E14: 1 | F14: Kultūros projektų konkurso organizavimas | G14: Kultūros ir sporto skyrius | H14: SB | I14: 20 | J14: 20 | K14: Finansuotų projektų skaičius | L14: 19 | M14: 19 | N14: Konkurso būdu iš pateiktų 46 paraiškų, finansuota 19 projektų, kurių metu organizuotas 51 edukacinis užsiėmimas ir seminaras, 14 parodų ir 53 kiti renginiai. Projektų veiklose dalyvavo 5170 dalyviai ir žiūrovai.
A15: 03 | B15: 02 | C15: 04 | D15: Teikti Krašto kultūros premiją | E15: 1 | F15: Kėdainių krašto kultūros premijos konkurso organizavimas | G15: Kultūros ir sporto skyrius | H15: SB | I15: 1 | J15: 1 | K15: Kultūros premijos laureatų skaičius | L15: 1 | M15: 1 | N15: Krašto kultūros premija įteikta Albinai Mackevičienei, Kėdainių krašto dailės draugijos pirmininkei, tautodailininkei už etninės kultūros puoselėjimą, aktyvią kūrybinę ir kultūrinę meninę veiklą
A16: 03 | B16: 02 | C16: 05 | D16: Teikti Česlavo Milošo premiją | E16: 1 | F16: Česlavo Milošo premijos konkurso organizavimas | G16: Kultūros ir sporto skyrius | H16: SB | I16: 5 | J16: 5 | K16: Kultūros premijos laureatų skaičius | L16: 1 | M16: 1 | N16: 2021 m. Kėdainių krašto garbės piliečio Česlovo Milošo premijos laureate tapo Giedrė Kadžiulytė – redaktorė, leidėja, kultūros renginių organizatorė bei leidyklos „Apostrofa“ vadovė
A17: 03 | B17: 02 | C17: 06 | D17: Aprūpinti mėgėjų meno kolektyvus tautiniais ir kitais koncertiniais kostiumais bei muzikos instrumentais | E17: 1 | F17: Dalyvavimas Lietuvos liaudies kultūros centro pasirengimo dainų šventės programos tautinių kostiumų ir instrumentų įsigijimo finansavimo konkurse | G17: Kultūros ir sporto skyrius | H17: SB | I17: 7.5 | J17: 7.5 | K17: Koncertinius kostiumų komplektus/instrumentus atsinaujinusių kolektyvų skaičius | L17: 7 | M17: 7 | N17: 4 mėgėjų meno kolektyvams skirta lėšų tautinių, archeologinių, istorinių kostiumų ar jų dalių įsigijimui, 3 mėgėjų meno kolektyvams iš dalies finansuotos išlaidos muzikos instrumentų įsigijimui
A20: 03 | B20: 02 | C20: 07 | D20: Plėtoti tarptautinius kultūros mainus | E20: 1 | F20: Tarptautinių kultūros mainų organizavimas | G20: Kultūros ir sporto skyrius | H20: SB | I20: 1 | J20: 1 | K20: Organizuotų tarptautinių mainų skaičius | L20: 1 | M20: 1 | N20: Kėdainių kultūros centro Vilainių skyriaus liaudiškų šokių grupė „Volungė“ dalyvavo pasaulio liaudies šokių čempionate „World folk 2021“, kuris vyko 2021 m. rugpjūčio 18–25 d. Nesebere (Bulgarija)
A21: 03 | B21: 02 | C21: Iš viso uždaviniui | I21: =SUM(I12:I20) -> 229.7 | J21: =SUM(J12:J20) -> 212.5
A22: 03 | B22: Iš viso tikslui | I22: =+I21 -> 229.7 | J22: =+J21 -> 212.5
A23: 04 | B23: Vystyti jaunimui palankią aplinką bei infrastruktūrą, plėsti ir skatinti įvairias jaunimo veiklas ir užimtumą
A24: 04 | B24: 01 | C24: Skatinti Kėdainių rajono jaunimo ir su jaunimu dirbančių organizacijų nuolatinę ir ilgalaikę programinę veiklą, jaunimo veiklos projektus, jaunimo iniciatyvas
A25: 04 | B25: 01 | C25: 01 | D25: Finansuoti jaunimo veiklos projektus | E25: 1 | F25: Jaunimo veiklos projektų konkurso organizavimas | G25: Vyr. specialistė (jaunimo reikalų koordinatorė) | H25: SB | I25: 8 | J25: 8 | K25: Finansuotų projektų skaičius | L25: 5 | M25: 5 | N25: Finansuoti 5 jaunimo ir/ar su jaunimu dirbančių organizacijų projektai, į kurių veiklas įsitraukė 247 jaunuolių (14–29 m.).
A26: 04 | B26: 01 | C26: 02 | D26: Finansuoti programas, užtikrinančias jaunimo neformalaus ugdymo plėtrą | E26: 1 | F26: Sutarčių sudarymas, programų įgyvendinimo priežiūros organizavimas, ataskaitų rinkimas | G26: Vyr. specialistė (jaunimo reikalų koordinatorė) | H26: SB | I26: 4 | J26: 4 | K26: Suorganizuotų mokymų, susitikimų, renginių, forumų skaičius | L26: 40 | M26: 46 | N26: Finansuota Kėdainių rajono mokinių savivaldos plėtros programa, programos priemonėse dalyvavo 2 919asmenys (tiesioginiu ir nuotoliniu būdu).
A27: 04 | B27: 01 | C27: 03 | D27: Finansuoti Atvirųjų jaunimo erdvių veiklos projektus | E27: 1 | F27: Atvirųjų jaunimo erdvių veiklos projektų konkurso organizavimas | G27: Vyr. specialistė (jaunimo reikalų koordinatorė) | H27: SB | I27: 10 | J27: 9.3 | K27: Finansuotų projektų skaičius | L27: 5 | M27: 5 | N27: Konkurso būdu finansuoti 5 projektai, kurių veiklose dalyvavo 231 jaunuoliai
A28: 04 | B28: 01 | C28: 04 | D28: Plėtoti jaunimo savanorystę Kėdainių rajone ir skatinti jaunimą užsiimti savanoriška veikla | E28: 1 | F28: Jaunimo savarankiškos veiklos plėtros konkurso organizavimas | G28: Vyr. specialistė (jaunimo reikalų koordinatorė) | H28: SB | I28: 2 | J28: 2 | K28: Finansuotų projektų skaičius | L28: 1 | M28: 1 | N28: Koordinuotas savanoriškos tarnybos įgyvendinimas savivaldybėje
A29: 04 | B29: 01 | C29: Iš viso uždaviniui | I29: =SUM(I25:I28) -> 24 | J29: =SUM(J25:J28) -> 23.3
A30: 04 | B30: Iš viso tikslui | I30: =+I29 -> 24 | J30: =+J29 -> 23.3
A31: 05 | B31: Skatinti nevyriausybinių organizacijų veiklą, didinti jų įtrauktį
A32: 05 | B32: 01 | C32: Skatinti nevyriausybinių ir bendruomeninių organizacijų plėtrą Kėdainių rajone
A33: 05 | B33: 01 | C33: 01 | D33: Užtikrinti rajono nevyriausybinių organizacijų (įskaitant bendruomenines organizacijas) plėtrą, finansuojant projektus socialinio, pilietinio, kultūros paveldo pažinimo, etninės kultūros puoselėjimo, užimtumo bei verslumo srityse | E33: 1 | F33: Nevyriausybinių organizacijų veiklos projektų konkurso organizavimas | G33: Vyr. specialistė (nevyriausybinių organizacijų koordinatorė) | H33: SB | I33: 22 | J33: 21.3 | K33: Finansuotų projektų skaičius | L33: 14 | M33: 14 | N33: Konkurso būdu finansuota 14 projektų, skirtų vietos bendruomenės aktyvinimui ir telkimui, bendruomeniškumo bei pilietiškumo ugdymui, savanoriškos veiklos plėtojimui ir pan.
A34: 05 | B34: 01 | C34: 02 | D34: Sudaryti sąlygas bendruomeninių organizacijų veiklai | E34: 1 | F34: Rajono bendruomeninių organizacijų veiklos projektų konkurso organizavimas | G34: Vyr. specialistė (nevyriausybinių organizacijų koordinatorė) | H34: SB | I34: 10 | J34: 10 | K34: Finansuotų bendruomeninių organizacijų skaičius | L34: 23 | M34: 19 | N34: Lėšos skirtos bendruomeninių organizacijų patalpų ir turto draudimo, komunalinių paslaugų ir kitų išlaidų iš dalies finansavimui.
A35: 05 | B35: 01 | C35: 03 | D35: Finansuoti Kėdainių rajono vietos veiklos grupės teritorijos vietos plėtros 2015-2023 m. strategijos įgyvendinimą | E35: 1 | F35: Sutarčių su strategijos vykdytoju ir projektų vykdytojais sudarymas | G35: Vyr. specialistė (nevyriausybinių organizacijų koordinatorė) | H35: SB | I35: 57.5 | J35: 57.5 | K35: Finansuotų projektų skaičius | L35: 18 | M35: 14 | N35: Dalinai finansuoti nevyriausybinių ir bendruomeninių organizacijų vietos projektai. Su vietos projektų vykdytojais pasirašyta 14 Savivaldybės biudžeto lėšų naudojimo sutarčių: 8 projektų vykdymas 2021 m. užbaigtas, 6 projektų įgyvendinimas tęsis 2022 m.
A36: 05 | B36: 01 | C36: 04 | D36: Finansuoti Kėdainių miesto vietos veiklos grupės 2016–2022 m. vietos plėtros strategijos įgyvendinimą | E36: 1 | F36: Sutarčių su strategijos vykdytoju ir projektų vykdytojais sudarymas | G36: Vyr. specialistė (nevyriausybinių organizacijų koordinatorė) | H36: SB | I36: 29.3 | J36: 28.9 | K36: Finansuotų projektų skaičius | L36: 21 | M36: 19 | N36: Dalinai finansuoti nevyriausybinių ir bendruomeninių organizacijų vietos projektai. Su projektų vykdytojais pasirašyta 19 Savivaldybės biudžeto lėšų naudojimo sutarčių
A37: 05 | B37: 01 | C37: 05 | D37: Remti bendruomenių veiklą savivaldybėje | E37: 1 | F37: Nevyriausybinių organizacijų ir bendruomeninės veiklos koordinavimas | G37: Vyr. specialistė (nevyriausybinių organizacijų koordinatorė) | H37: VB | I37: 33 | J37: 33 | K37: Įgyvendinta projektų veiklų proc. | L37: 100 | M37: 100 | N37: Įgyvendinta 10 projektų, kurių veiklose dalyvavo apie 940 vietos bendruomenių narių (gyventojų)
A38: 05 | B38: 01 | I38: =SUM(I33:I37) -> 151.8 | J38: =SUM(J33:J37) -> 150.7
A39: 05 | I39: =+I38 -> 151.8 | J39: =+J38 -> 150.7
A40: 06 | B40: Atnaujinti ir plėsti kultūros įstaigų viešąją infrastruktūrą, pritaikyti ją kultūriniams ir bendruomeniniams poreikiams
A41: 06 | B41: 01 | C41: Gerinti kultūros paskirties viešąją infrastruktūrą, modernizuoti materialinę ir edukacinę aplinką
A42: 06 | B42: 01 | C42: 01 | D42: Rekonstruoti Kėdainių kultūros centrą | E42: 1 | F42: Rangos darbų koordinavimas, rangovo prisiimtų sutartinių įsipareigojimų vykdymo kontrolė | G42: Statybos ir turto skyrius | H42: SBVB | I42: 957 | J42: 957 | K42: Įgyvendinta einamaisiais metais numatomų atlikti projekto veiklų proc. | L42: 100 | M42: 100 | N42: Vykdyti kultūros centro rekonstrukcijos darbai
H43: SB
A44: 06 | B44: 01 | C44: 02 | D44: Aktualizuoti Kėdainių krašto muziejų, padidinant kultūros paveldo aktualumą, lankomumą ir žinomumą (įskaitant ekspozicijų atnaujinimą) | E44: 1 | F44: Projekto koordinavimas, rangos darbų koordinavimas, rangovo prisiimtų sutartinių įsipareigojimų vykdymo kontrolė | G44: Strateginio planavimo ir investicijų skyrius, Statybos ir turto skyrius | H44: SB | I44: 52 | J44: 14.6 | K44: Tvarkomų objektų skaičius | L44: 1 | M44: 1 | N44: Parengta techninio projekto "B" laida, metų pabaigoje vykdytos rangos viešojo pirkimo procedūros
H45: ES | I45: 150 | J45: 0
A46: 06 | B46: 01 | C46: 03 | D46: Atnaujinti Krakių miestelio kultūros centrą, pritaikant jį kaimo bendruomenės poreikiams | E46: 1 | F46: Patirtų išlaidų 2020 m. kompensavimas paramos lėšomis | G46: Apskaitos skyrius | H46: VB | I46: 3.9 | J46: 3.9 | K46: Atnaujintų viešosios paskirties pastatų skaičius | L46: 1 | M46: 1 | N46: Fiziškai projekto veiklos įgyvendintos 2020 m., savivaldybei pervestos lėšos už apmokėtus darbus (kompensavimo būdu)
H47: ES | I47: 21 | J47: 20.8
...

Sheet 06turizm_paveld
H1: PATVIRTINTA Kėdainių rajono savivaldybės administracijos direktoriaus 2021 m. kovo 12 d. įsakymu Nr.AD-1-277 (Kėdainių rajono savivaldybės administracijos direktoriaus 2021 m. gruodžio d. įsakymo Nr.AD-1- redakcija)
A4: Programos tikslo kodas | B4: Uždavinio kodas | C4: Priemonės kodas | D4: Priemonės pavadinimas | E4: Veiklos/darbo/ veiksmo kodas | F4: Veiklos/darbo/ veiksmo pavadinimas | G4: Atsakingi vykdytojai | H4: Finansavimo šaltinis | I4: Numatomi 2021-ųjų m. asignavimai, tūkst. Eur | J4: Panaudoti 2021-ųjų m. asignavimai, tūkst. Eur | K4: Proceso/indėlio vertinimo kriterijai
K5: Pavadinimas | L5: Planuota reikšmė | M5: Pasiekta reikšmė | N5: Nukrypimų nuo plano priežastys, pastabos, komentarai
A9: 06 KULTŪROS PAVELDO IŠSAUGOJIMAS, TURIZMO SKATINIMAS IR VYSTYMAS
A10: 01 | B10: Skatinti vietinį bei atvykstamąjį turizmą, plėtoti turizmo rinkodarą
A11: 01 | B11: 01 | C11: Užtikrinti efektyvią VšĮ Kėdainių turizmo ir verslo informacijos centro veiklą turizmo srityje
A12: 01 | B12: 01 | C12: 01 | D12: Finansuoti VšĮ Kėdainių turizmo ir verslo informacijos centro turizmo veiklos programą: | E12: 1 | F12: Priemonės įgyvendinimo koordinavimas | G12: Administracijos direktorius | H12: SB | I12: 46 | J12: 46 | K12: Kėdainių rajono savivaldybėje apsilankiusių turistų skaičius per metus (tūkst. asmenų/ per metus) (vertinami Kėdainių TVIC apsilankę turistai) | L12: 8 | M12: 8 | N12: 2021 m. Kėdainių TVIC sulaukė 6,5 proc. daugiau lankytojų nei 2020 m. (iš viso 8 007 lankytojai). Dėl besitęsiančios pandemijos ir ribojimų užsieniečių buvo 688 lankytojai, tai sudarė 8,6 proc.
D13: turizmo maršrutų, individualių ekskursijų programų rengimas | K13: Atnaujintų/parengtų turizmo maršrutų skaičius | L13: 4 | M13: 4 | N13: 2021 m. išleista 3000 vnt. miesto/rajono žemėlapių LT ir EN, 9000 vnt. žemėlapių ,,Pėsčiomis po senamiestį LT ir EN, 1000 vnt. "Žemėlapiai šeimai", 1000 vnt. leidinukų "Isos slėnis: kelias", 200 vnt. kalendorių. l
D14: kartografinių-informacinių turistinių leidinių leidyba
D15: turizmo informacijos apie gamtos, architektūros, istorijos, kultūros paveldo objektus, lankytinas vietas, maitinimo, apgyvendinimo, kaimo turizmo sodybas, amatus teikimas, kaupimas, sisteminimas ir atnaujinimas | K15: Turizmo statistikos duomenų apskaita ir analizė, val. | L15: 160 | M15: 160 | N15: Kėdainių TVIC vykdė lankytojų, kaimo turizmo, apgyvendinimo įmonių, muziejų duomenų apskaitą ir analizę
D16: dalyvavimas turizmo parodose, mugėse, šventėse | K16: Parodų, mugių, kuriuose dalyvauta, skaičius | L16: 2 | M16: 2 | N16: Kėdainių TVIC dalyvavo Jūros šventės ir "Sostinės dienų" turizmo gatvėse. Dalyvavimas miestų švenčių turizmo gatvėse itin pasiteisina, nes pasiekia tikslingą ir plačią tikslinę auditoriją
