Workbook

Sheet 01šviet.
L1: PATVIRTINTA Kėdainių rajono savivaldybės administracijos direktoriaus 2022 m. kovo 31 d. įsakymu Nr. AD-1-369
A2: Kėdainių rajono savivaldybės administracijos 2021 metų veiklos plano įgyvendinimo ataskaita
A5: Programos tikslo kodas | B5: Uždavinio kodas | C5: Priemonės kodas | D5: Priemonės pavadinimas | E5: Veiklos/darbo/ veiksmo kodas | F5: Veiklos/darbo/ veiksmo pavadinimas | G5: Atsakingi vykdytojai | H5: Finansavimo šaltinis | I5: Numatomi 2021-ųjų m. asignavimai, tūkst. Eur | J5: Panaudoti 2021-ųjų m. asignavimai, tūkst. Eur | K5: Proceso/indėlio vertinimo kriterijai
K6: Pavadinimas | L6: Planuota reikšmė | M6: Pasiekta reikšmė | N6: Nukrypimų nuo plano priežastys, pastabos, komentarai
A10: 01 ŠVIETIMAS IR UGDYMAS
A11: 01 | B11: Plėtoti kokybišką, visiems prieinamą, tęstinę švietimo sistemą savivaldybėje
A12: 01 | B12: 01 | C12: Sudaryti prielaidas ugdymo kokybei gerinti, mažinti ugdymo kokybės skirtumus tarp mokyklų, didinti pedagogų motyvaciją
A13: 01 | B13: 01 | C13: 08 | D13: Įgyvendinti Kėdainių rajono savivaldybės mokytojų motyvacijos programą | E13: 1 | F13: Programos įgyvendinimo koordinavimas | G13: Švietimo skyrius | H13: SB | I13: 49 | J13: 45.8 | K13: Savivaldybės mokyklose dirbančių mokytojų, kurie paskatinti, skaičius | L13: 600 | M13: 663 | N13: Programos lėšomis paskatinti mokytojai už mokinių parengimą olimpiadoms ir pasiekimus, už inovatyvias ugdymo idėjas ir jų įgyvendinimą, 1 mokytojui iš dalies kompensuotas būsto nuomos mokestis, 2 mokytojams finansuotas dalinis persikvalifikuojančių mokytojų studijos
A14: 01 | B14: 01 | C14: 10 | D14: Patikslinti Kėdainių rajono savivaldybės mokyklų tinklo pertvarkos 2016-2020 m. bendrąjį planą ir parengti 2021 - 2025 metų bendrąjį planą | E14: 1 | F14: Bendrojo plano parengimas | G14: Švietimo skyrius | H14: SB | I14: 1 | J14: 0 | K14: Patikslintų/ parengtų planų skaičius | L14: 1 | M14: 1 | N14: 2021 m. parengtas ir rajono taryboje patvirtintas Kėdainių rajono savivaldybės mokyklų tinklo pertvarkos 2021–2025 m. bendrasis planas.
A15: 01 | B15: 01 | C15: 12 | D15: Finansuoti vaikų vasaros stovyklų ir kitų neformaliojo vaikų švietimo veiklų programas | E15: 1 | F15: Programų konkurso organizavimas, konsultacijos, paraiškų ir sutarčių derinimas, veiklų stebėjimas, vertinimas, ataskaitų teikimas | G15: Švietimo skyrius | H15: SB | I15: 25 | J15: 25 | K15: Finansuotų vaikų vasaros poilsio ir užimtumo programų skaičius | L15: 30 | M15: 20 | N15: 2021 m. finansuota 20 vaikų vasaros poilsio ir užimtumo stovyklų programų, kuriose dalyvavo 533 vaikai, iš kurių 185 - socialiai remtini vaikai, 101 - iš socialinės ir rizikos šeimų
H16: SBVB | I16: 8.2 | J16: 6.9
A17: 01 | B17: 01 | C17: 13 | D17: Skatinti savivaldybės gabius mokinius | E17: 1 | F17: Mokyklose besimokančių gabių mokinių, per vienerius mokslo metus pasiekusių puikių mokymosi rezultatų, įvertinimas ir paskatinimas | G17: Švietimo skyrius | H17: SB | I17: 14 | J17: 7.9 | K17: Mokinių, kuriems skirti piniginiai prizai, skaičius | L17: 110 | M17: 109 | N17: Už pasiekimus dalykinėse olimpiadose, konkursuose, meno festivaliuose ir sporto varžybose buvo apdovanoti 109 mokiniai
A18: 01 | B18: 01 | C18: 14 | D18: Koofinansuoti švietimo įstaigų dalyvavimą infrastruktūros gerinimo/modernizavimo projektuose | E18: 1 | F18: Priemonės koordinavimas | G18: Administracijos direktorius | H18: SB | I18: 50 | J18: 41.3 | K18: Įstaigų, kurioms skirtas finansavimas, skaičius | L18: 4 | M18: 4 | N18: 2021 m. skirta lėšų 4 įstaigų įgyvendinamų projektų kofinansavimui
A19: 01 | B19: 01 | C19: 15 | D19: Organizuoti ir užtikrinti Švietimo skyriaus specialistų darbą | E19: 1 | F19: Švietimo įstaigų veiklos koordinavimas, ugdymo proceso stebėjimas, analizavimas | G19: Švietimo skyrius | H19: SB | I19: 144.7 | J19: 134.5 | K19: Kuruojamų švietimo įstaigų skaičius | L19: 28 | M19: 28 | N19: Švietimo skyrius koordinavo 6 gimnazijų, Suaugusiųjų ir jaunimo mokymo centro, 3 progimnazijų, 6 pagrindinių mokyklų, mokyklos-darželio, 7 lopšelių-darželių, 3 neformaliojo vaikų švietimo mokyklų ir Švietimo pagalbos tarnybos veiklą. Ikimokyklinio ir priešmokyklinio ugdymo grupės veikė Josvainių ir Šėtos socialiniuose ugdymo centruose
A21: 01 | B21: 01 | C21: 16 | D21: Teikti Metų mokytojo apdovanojimą | E21: 1 | F21: Savivaldybės mokytojų kompetencijų, veiklos rezultatų įvertinimas ir paskatinimas profesinei bei kūrybinei iniciatyvai | G21: Švietimo skyrius | H21: SB | I21: 1 | J21: 1 | K21: Įteiktų apdovanojimų skaičius | L21: 1 | M21: 1 | N21: Metų mokytojo vardas suteiktas Kėdainių šviesiosios gimnazijos chemijos mokytojai metodininkei Irmai Krivickienei
A22: 01 | B22: 01 | C22: Iš viso uždaviniui | I22: =SUM(I13:I21) -> 292.9 | J22: =SUM(J13:J21) -> 262.4
H23: SB | I23: =+I21+I19+I18+I17+I15+I14+#REF!+I13+#REF!+#REF!+#REF!+#REF!+#REF! -> #REF! | J23: =+J21+J19+J18+J17+J15+J14+#REF!+J13+#REF!+#REF!+#REF!+#REF!+#REF! -> #REF!
H24: SBVB | I24: =+#REF!+#REF!+#REF!+#REF!+#REF!+I16+#REF! -> #REF! | J24: =+#REF!+#REF!+#REF!+#REF!+#REF!+J16+#REF! -> #REF!
H25: ES | I25: =+I20+#REF!+#REF! -> #REF! | J25: =+J20+#REF!+#REF! -> #REF!
H26: ĮP | I26: =+#REF!+#REF!+#REF! -> #REF! | J26: =+#REF!+#REF!+#REF! -> #REF!
H27: VB | I27: =+#REF!+#REF! -> #REF! | J27: =+#REF!+#REF! -> #REF!
H28: PR
A29: 01 | B29: Iš viso tikslui | I29: =SUM(I22) -> 292.9 | J29: =SUM(J22) -> 262.4
A30: 02 | B30: Tobulinti ugdymo(si) infrastruktūrą, aplinką, diegti inovacijas
A31: 02 | B31: 01 | C31: Gerinti darbo ir mokymo(si) sąlygas savivaldybės švietimo įstaigose
A32: 02 | B32: 01 | C32: 01 | D32: Modernizuoti Kėdainių šviesiosios gimnazijos pastatą Kėdainiuose, Didžioji g. 60 | E32: 1 | F32: Rangos darbų koordinavimas, rangovo prisiimtų sutartinių įsipareigojimų vykdymo kontrolė | G32: Statybos ir turto skyrius | H32: SBVB | I32: 535 | J32: 535 | K32: Atlikta einamaisiais metais numatytų darbų, proc. | L32: 100 | M32: 100 | N32: Tęsti gimnazijos pastato rekonstrukcijos darbai
A33: 02 | B33: 01 | C33: 02 | D33: Remontuoti Kėdainių „Ryto“ progimnaziją, kuriant šiuolaikines mokymosi erdves | H33: SB | I33: 0 | J33: 0 | K33: Įgyvendintų veiklų, modernizuojant edukacines erdves einamaisiais metais, proc. | N33: Įgyvendintų veiklų, modernizuojant edukacines erdves einamaisiais metais, proc.
A34: 02 | B34: 01 | C34: 03 | D34: Atnaujinti Lietuvos sporto universiteto Kėdainių „Aušros“ progimnaziją, kuriant modernias ir saugias erdves | E34: 1 | F34: Projekto koordinavimas, rangos darbų koordinavimas, rangovo prisiimtų sutartinių įsipareigojimų vykdymo kontrolė | G34: Statybos ir turto skyrius, Strateginio planavimo ir investicijų skyrius | H34: SB | I34: 28.6 | J34: 20.9 | K34: Įgyvendintų veiklų, atnaujinant progimnaziją bei modernizuojant edukacines erdves einamaisiais metais, proc. | L34: 100 | M34: 100 | N34: Gavus papildomą finansavimą, tęsti modernių ir saugių erdvių kūrimo darbai progimnazijoje: atnaujintos 4 klasės, įsigyti baldai
H35: ES | I35: 150.4 | J35: 117
H36: VB | I36: 13.3 | J36: 10.3
A37: 02 | B37: 01 | C37: 04 | D37: Modernizuoti Kėdainių lopšelio-darželio „Vaikystė“ infrastruktūrą | E37: 1 | F37: Projekto koordinavimas, įrangos, baldų įsigijimo viešojo pirkimo konkurso organizavimas, sutarčių koordinavimas, rangovo prisiimtų sutartinių įsipareigojimų vykdymo kontrolė | G37: Strateginio planavimo ir investicijų skyrius | H37: SB | I37: 7.7 | J37: 3 | K37: Atnaujintų grupių skaičius / viešojo pastato plotas, kuriame įgyvendintos pastato išorės energijos efektyvumo priemonės, m2 | L37: 2/1843 | M37: 2/1843 | N37: Baigti Kėdainių lopšelio-darželio „Vaikystė“ pastato modernizavimo darbai, diegiant energinio efektyvumo priemones. Įgyvendinant ES projektą, interaktyvi įranga moderniai įrengtose grupėse
H38: VB | I38: 3.2 | J38: 1.9
H39: ES | I39: 28.2 | J39: 21.7
H40: SK | I40: 380 | J40: 380
A41: 02 | B41: 01 | C41: 05 | D41: Modernizuoti Kėdainių lopšelio-darželio „Žilvitis“ infrastruktūrą | E41: 1 | F41: Projekto koordinavimas, rangos darbų, įrangos, baldų viešojo pirkimo konkurso organizavimas, sutarčių koordinavimas, rangovo prisiimtų sutartinių įsipareigojimų vykdymo kontrolė | G41: Statybos ir turto skyrius, Strateginio planavimo ir investicijų skyrius | H41: SB | I41: 15.4 | J41: 0.3 | K41: Atnaujintų grupių skaičius / viešojo pastato plotas, kuriame įgyvendintos pastato išorės energijos efektyvumo priemonės, m2 | L41: 3/3395 | M41: 3/3395 | N41: Baigti Kėdainių lopšelio-darželio "Žilvitis" pastato modernizavimo darbai, diegiant energinio efektyvumo priemones, šiuolaikiškai ir moderniai įrengta 1 grupės edukacinės erdvė, nupirkti baldai, įranga, sukurta saugi ir funkcionali aplinka
H42: VB | I42: 10.2 | J42: 9.9
H43: ES | I43: 113.6 | J43: 111.8
H44: SK | I44: 0
A45: 02 | B45: 01 | C45: 06 | D45: Sudaryti saugias ugdymo sąlygas įstaigose, vykdančiose ugdymo programas | E45: 1 | F45: Priemonės įgyvendinimo koordinavimas | G45: Švietimo skyrius | H45: SB | I45: 50 | J45: 50 | K45: Įstaigų skaičius, kuriose atlikti remonto darbai | L45: 27 | M45: 8 | N45: 8 ugdymo įstaigose vykdyti remonto darbai
A46: 02 | B46: 01 | C46: 07 | D46: Įrengti vėdinimo ir kondicionavimo sistemas savivaldybės ugdymo įstaigose | E46: 1 | F46: Priemonės įgyvendinimo koordinavimas | G46: Švietimo skyrius | H46: SB | I46: 72 | J46: 72 | K46: Grupių ir egzaminų centrų skaičius, kuriose įrengta vėdinimo (kondicionavimo) sistema | L46: 45 | M46: 76 | N46: Darželių grupių bei egzaminų centrų patalpose įrengta vėdinimo (kondicionavimo) sistema
H47: SBVB | I47: 0
A48: 02 | B48: 01 | C48: 10 | D48: Parengti bendrojo ir ikimokyklinio ugdymo įstaigų (skyrių) pastatų modernizavimo technines dokumentacijas ir atlikti darbus | E48: 1 | F48: Energetinių auditų ir investicijų projektų (l/d "Varpelis" ir l/d "Vyturėlis") parengimo viešojo pirkimo organizavimas, sutarties koordinavimas, paslaugų teikėjo prisiimtų sutartinių įsipareigojimų vykdymo kontrolė | G48: Strateginio planavimo ir investicijų skyrius | H48: SB | I48: 40 | J48: 9.9 | K48: Parengtos dokumentacijos skaičius | L48: 2 | M48: 2 | N48: Parengti viešųjų pastatų, esančių Josvainių g.53 ir Pavasario g.8, Kėdainiuose, energinio efektyvumo didinimo investicijų projektai
A49: 02 | B49: 01 | C49: 12 | D49: Įrengti biokuro katilą Kėdainių r. Surviliškio Vinco Svirskio pagrindinėje mokykloje | H49: SB | K49: Įrengtas biokuro katilas | L49: 1 | M49: 1
H50: VB
A51: 02 | B51: 01 | C51: Iš viso uždaviniui | I51: =SUM(I32:I50) -> 1447.6 | J51: =SUM(J32:J50) -> 1343.7
A52: 02 | B52: Iš viso tikslui | I52: =+I51 -> 1447.6 | J52: =+J51 -> 1343.7
A53: Iš viso programai | I53: =+I52+I29 -> 1740.5 | J53: =+J52+J29 -> 1606.1
A54: iš jų: | I54: =+I53-I55-I62 -> 0 | J54: =+J53-J55-J62 -> 0
A55: SAVIVALDYBĖS LĖŠOS | I55: =SUM(I56:I61) -> 1421.6 | J55: =SUM(J56:J61) -> 1333.5
A56: Savivaldybės biudžetas SB | I56: =+I48+I46+I45+I41+I37+I34+I21+I19+I18+I17+I15+I14+I13 -> 498.4 | J56: =+J48+J46+J45+J41+J37+J34+J21+J19+J18+J17+J15+J14+J13 -> 411.6
A57: Valstybės biudžeto specialiosios tikslinės dotacijos lėšos SBVB | I57: =+I47+I32+I16 -> 543.2 | J57: =+J47+J32+J16 -> 541.9
A58: Aplinkos apsaugos rėmimo specialiosios programos lėšos AA
A59: Iš pajamų už suteiktas paslaugas lėšos ĮP
A60: Skolintos lėšos SK | I60: =+I44+I40 -> 380 | J60: =+J44+J40 -> 380
A61: Kelių priežiūros ir plėtros programos lėšos KPP
A62: KITOS LĖŠOS | I62: =+I63+I64+I65+I66 -> 318.9 | J62: =+J63+J64+J65+J66 -> 272.6
A63: Europos Sąjungos lėšos, užsienio fondų lėšos ES | I63: =+I43+I39+I35+I20 -> 292.2 | J63: =+J43+J39+J35+J20 -> 250.5
A64: Valstybės biudžeto lėšos VB | I64: =+I42+I38+I36+I50 -> 26.7 | J64: =+J42+J38+J36+J50 -> 22.1
A65: Privačios – investuotojų lėšos PR
A66: Kiti finansavimo šaltiniai KT

Sheet 02sveikat.
A5: Programos tikslo kodas | B5: Uždavinio kodas | C5: Priemonės kodas | D5: Priemonės pavadinimas | E5: Veiklos/darbo/ veiksmo kodas | F5: Veiklos/darbo/ veiksmo pavadinimas | G5: Atsakingi vykdytojai | H5: Finansavimo šaltinis | I5: Numatomi 2021-ųjų m. asignavimai, tūkst. Eur | J5: Panaudoti 2021-ųjų m. asignavimai, tūkst. Eur | K5: Proceso/indėlio vertinimo kriterijai
K6: Pavadinimas | L6: Planuota reikšmė | M6: Pasiekta reikšmė | N6: Nukrypimų nuo plano priežastys, pastabos, komentarai
A10: 02 SVEIKATOS APSAUGA
A11: 01 | B11: Stiprinti ir išsaugoti gyventojų sveikatą
A12: 01 | B12: 01 | C12: Sudaryti sąlygas gyventojams stiprinti sveikatą, kurti ir plėtoti su sveikatos stiprinimu susijusias paslaugas
A13: 01 | B13: 01 | C13: 01 | D13: Vykdyti Visuomenės sveikatos rėmimo specialiosios programos priemones | E13: 1 | F13: Programos priemonių sveikatos projektų konkurso organizavimas, sutarčių su vykdytojais parengimas, priemonių įgyvendinimo koordinavimas ir kontrolė; užkrečiamųjų ligų plano priemonių vykdymo kontrolė | G13: Vyr. specialistė (savivaldybės gydytoja) | H13: AA | I13: 87.2 | J13: 57.6 | K13: Visuomenės sveikatos rėmimo specialiosios programos įgyvendinimas, proc. | L13: 100 | M13: 100 | N13: Lėšos skirtos užkrečiamųjų ligų sričiai, COVID-19 viruso sukeltos ligos valdymui, sveikatos priežiūros įstaigoms, siekiant įsigyti infekcijos kontrolės valdymui skirtas priemones, taip pat psichikos sveikatos gerinimo srityje, traumatizmo prevencijai, kaip ir kasmet buvo vykdomas maudymosi vietų monitoringas, atsižvelgiant į gyventojų skundus – triukšmo lygio matavimai.
A14: 01 | B14: 01 | C14: 03 | D14: Peržiūrėti neveiksniais pripažintų asmenų būklę | E14: 1 | F14: Neveiksniais pripažintų asmenų būklės peržiūrėjimo organizavimas | G14: Socialinės paramos skyrius | H14: SBVB | I14: 2.9 | J14: 2.8 | K14: Asmenų, kurių neveiksnumas peržiūrėtas, skaičius | L14: 60 | M14: 54 | N14: Neveiksnių asmenų būklės peržiūrėjimo komisija peržiūrėjo 54 asmenų būklę
A15: 01 | B15: 01 | C15: 04 | D15: Įgyvendinti projektą "Sveikos gyvensenos skatinimas Kėdainių rajone" | H15: SB | K15: Tikslinių grupių asmenys, kurie dalyvavo informavimo, švietimo ir mokymo renginiuose bei sveikatos raštingumą didinančiose veiklose | L15: 800 | M15: 800
H16: ES
H17: VB
A18: 01 | B18: 01 | C18: 05 | D18: Gerinti pirminės asmens sveikatos priežiūros paslaugų teikimo prieinamumą tuberkuliozės srityje | E18: 1 | F18: Priemonės, kurią vykdo Kėdainių PSPC, įgyvendinimo koordinavimas | G18: Administracijos direktorius | H18: SB | I18: 0.4 | J18: 0.2 | K18: Tuberkulioze sergančių pacientų, kuriems buvo suteiktos socialinės paramos priemonės tuberkuliozės gydymo metu | L18: 15 | M18: 6 | N18: Projektą įgyvendina Kėdainių PSPC. Projekto įgyvendinimo metu tuberkulioze sergantiems pacientams, ambulatorinio gydymo metu dalijami maisto talonai
H19: ES
H20: VB
A25: 01 | B25: 01 | C25: 08 | D25: Kompensuoti patirtas išlaidas už skiepijimo nuo COVID-19 ligos (koronaviruso infekcijos) paslaugas | E25: 1 | F25: Priemonės koordinavimas | G25: Vyr. specialistė (savivaldybės gydytoja) | H25: SBVB | I25: 756.6 | J25: 756.5 | K25: Paskiepytų vakcina gyventojų procentinė dalis (ne mažiau) | L25: 70 | M25: 68,3 | N25: Lėšos pervestos Kėdainių sveikatos įstaigoms
A26: 01 | B26: 01 | C26: Iš viso uždaviniui | I26: =SUM(I13:I25) -> 847.1 | J26: =SUM(J13:J25) -> 817.1
A27: 01 | B27: Iš viso tikslui | I27: =+I26 -> 847.1 | J27: =+J26 -> 817.1
A28: 02 | B28: Gerinti sveikatos priežiūros paslaugų kokybę ir prieinamumą, plėsti paslaugų spektrą, atnaujinti materialinę aplinką
A29: 02 | B29: 01 | C29: Siekti gyventojų sveikatos išsaugojimo, gerinant sveikatos priežiūros paslaugų kokybę ir prieinamumą
A30: 02 | B30: 01 | C30: 01 | D30: Vykdyti E. sveikatos informacinės sistemos diegimo, palaikymo ir tobulinimo VšĮ PSPC ir VšĮ Kėdainių ligoninėje 2016–2021 m. programą | E30: 1 | F30: Sutarčių su vykdytojais suderinimas, priemonių koordinavimas ir vykdymo kontrolė | G30: Vyr. specialistė (savivaldybės gydytoja) | H30: SB | I30: 20 | J30: 20 | K30: Atnaujintos ir E. Sveikatos IS funkcionalumui pritaikytos įrangos skaičius | L30: 20 | M30: 41 | N30: Įgyvendinant programą vykdytas E. sveikatos IS funkcionalumų palaikymas, atnaujinimas ir diegimas, IKT įrangos modernizavimas, apmokyti nauji darbuotojai
A31: 02 | B31: 01 | C31: 02 | D31: Vykdyti VšĮ Kėdainių ligoninės dantų protezavimo programą | E31: 1 | F31: Sutarčių su vykdytojais suderinimas, priemonių koordinavimas ir vykdymo kontrolė | G31: Vyr. specialistė (savivaldybės gydytoja) | H31: SB | I31: 40 | J31: 40 | K31: Suteiktų dantų protezavimo paslaugų, finansuojamų savivaldybės biudžeto lėšomis, skaičius | L31: 83 | M31: 86 | N31: Įgyvendinant programą savivaldybės biudžeto lėšomis dantų protezavimo paslaugos suteiktos 86 asmenims
A32: 02 | B32: 01 | C32: 04 | D32: Vykdyti traumatologinės pagalbos kokybės gerinimo Kėdainių rajono savivaldybės gyventojams 2016–2021 m. programą | E32: 1 | F32: Sutarčių su vykdytojais suderinimas, priemonių koordinavimas ir vykdymo kontrolė | G32: Vyr. specialistė (savivaldybės gydytoja) | H32: SB | I32: 10.9 | J32: 10.9 | K32: Įsigytos įrangos skaičius/ atliktų ortopedų-traumatologų ir urologų atliktų operacijų skaičius | L32: 1/ 600 | M32: 1/ 657 | N32: Programos lėšomis įsigijus impulsinį mobilų rentgeno aparatą su C lanku atliktos gydytojų ortopedų-traumatologų, urologų operacijos.
A33: 02 | B33: 01 | C33: 05 | D33: Vykdyti Kėdainių rajono tuberkuliozės prevencijos, ankstyvosios diagnostikos, gydymo ir kontrolės 2017–2022 m. programą | E33: 1 | F33: Sutarčių su vykdytojais suderinimas, priemonių koordinavimas ir vykdymo kontrolė | G33: Vyr. specialistė (savivaldybės gydytoja) | H33: SB | I33: 43.3 | J33: 42.8 | K33: Įsigytos įrangos skaičius (lizingas)/atliktų tyrimų ir paslaugų sk. | L33: 1/3000/5000 | M33: 1/3017/ 3199 | N33: Programos lėšomis mokamos lizingo įmokos už įsigytą universalų distancinį valdymo rentgeno diagnostikos aparatą, perkami tuberkulino mėginiai
A34: 02 | B34: 01 | C34: 06 | D34: Vykdyti Ultragarsinių diagnostinių paslaugų teikimo efektyvumo gerinimo Kėdainių rajono savivaldybėje 2017–2022 m. programą | E34: 1 | F34: Sutarčių su vykdytojais suderinimas, priemonių koordinavimas ir vykdymo kontrolė | G34: Vyr. specialistė (savivaldybės gydytoja) | H34: SB | I34: 10.3 | J34: 10.3 | K34: Atliktų echoskopijų skaičius per metus | L34: 14000 | M34: 19008 | N34: Programos lėšomis mokamos lizingo įmokos už įsigytą echoskopą.
A35: 02 | B35: 01 | C35: 07 | D35: Vykdyti pirminės asmens sveikatos priežiūros paslaugų prieinamumo ir kokybės užtikrinimo Kėdainių rajono kaimiškųjų vietovių gyventojams 2017–2023 m. programą | E35: 1 | F35: Sutarčių su vykdytojais suderinimas, priemonių koordinavimas ir vykdymo kontrolė | G35: Vyr. specialistė (savivaldybės gydytoja) | H35: SB | I35: 20 | J35: 20 | K35: Pacientų, patenkintų pirminės asmens sveikatos priežiūros paslaugų kokybe, skaičiaus didėjimas (proc.). | L35: 3 | M35: -3 | N35: Programos lėšomis dalinai finansuotos ambulatorijų ir medicinos punktų komunalinės išlaidos. Pasitenkinimas teikiamomis paslaugomis išlieka pakankamai aukštas (gerai ir labai gerai vertina 93,3 proc. apklaustųjų), tačiau lyginant su 2020 m., rodiklis sumažėjo apie 3 proc. dėl objektyvių priežasčių - ekstremalios situacijos, susijusios su COVID-19 pandemija
A36: 02 | B36: 01 | C36: 08 | D36: Vykdyti ambulatorinės akušerinės ir ginekologinės pagalbos kokybės gerinimo Kėdainių rajono savivaldybės moterims 2019-2024 m. programą | E36: 1 | F36: Sutarčių su vykdytojais suderinimas, priemonių koordinavimas ir vykdymo kontrolė | G36: Vyr. specialistė (savivaldybės gydytoja) | H36: SB | I36: 8 | J36: 8 | K36: Įsigytos įrangos skaičius/atliktų ultragarsinių tyrimų sk.(1 gydytojui) | L36: 285 | M36: 444 | N36: Programos lėšomis mokamos lizingo įmokos už įsigytą ultragarsinį aparatą. Vienas gydytojas vidutiniškai atliko 444 vnt. ultragarsinių tyrimų
A37: 02 | B37: 02 | C37: 09 | D37: Vykdyti akušerinės pagalbos kokybės gerinimo Kėdainių rajono savivaldybės moterims 2020-2021 m. programą | E37: 1 | F37: Sutarčių su vykdytojais suderinimas, priemonių koordinavimas ir vykdymo kontrolė | G37: Vyr. specialistė (savivaldybės gydytoja) | H37: SB | I37: 36.1 | J37: 36.1 | K37: Įsigytų kūdikio kraitelių skaičius per metus | L37: 220 | M37: 248 | N37: Programos lėšomis skirta 248 vnt. kūdikių kraitelių
A38: 02 | B38: 01 | C38: 10 | D38: Vykdyti endoskopinių paslaugų prieinamumo ir kokybės gerinimo Kėdainių rajono savivaldybėje 2020-2025 m. programą | E38: 1 | F38: Sutarčių su vykdytojais suderinimas, priemonių koordinavimas ir vykdymo kontrolė | G38: Vyr. specialistė (savivaldybės gydytoja) | H38: SB | I38: 21.1 | J38: 21.1 | K38: Įsigytos įrangos skaičius / atliktų endoskopijų ir kolonoskopijų skaičius | L38: 1750 | M38: 1257 | N38: Programos lėšomis mokamos lizingo įmokos už endoskopinę įrangą su vežimėliu bei endoskopų plovimo ir dezinfekavimo mašiną. Dėl Covid-19 taikomų priemonių buvo pailgintas dezinfekcijos laikas tarp ligonių priėmimo, kas sąlygojo mažesnį priimtų pacientų skaičių
A39: 02 | B39: 01 | C39: 11 | D39: Vykdyti mamografijos paslaugų tęstinumo, kokybės gerinimo Kėdainių rajono savivaldybėje 2020-2025 m. programą | E39: 1 | F39: Sutarčių su vykdytojais suderinimas, priemonių koordinavimas ir vykdymo kontrolė | G39: Vyr. specialistė (savivaldybės gydytoja) | H39: SB | I39: 19.1 | J39: 19.1 | K39: Įsigytos įrangos skaičius / atliktų mamografijų ir vertinimo paslaugų skaičius per metus | L39: 1800 | M39: 2868 | N39: Programos lėšomis mokamos lizingo įmokos už skaitmenizuoto mamografo įsigijimą, atlikta 2868 mamografijų ir vertinimo paslaugų
A40: 02 | B40: 01 | C40: 12 | D40: Vykdyti kompiuterinės tomografijos paslaugų kokybės gerinimo Kėdainių rajono savivaldybėje 2021-2028 m. programą | E40: 1 | F40: Sutarčių su vykdytojais suderinimas, priemonių koordinavimas ir vykdymo kontrolė | G40: Vyr. specialistė (savivaldybės gydytoja) | H40: SB | I40: 40 | J40: 0 | K40: Įsigytos įrangos skaičius / atliktų tyrimų skaičius per metus | L40: 1 | M40: 0 | N40: 2021 m. balandžio mėn. pradžioje nepataisomai sugedus pagrindiniam rentgeno aparatui, esančiam konsultacijų poliklinikoje, kompiuterinio tomografo įsigijimas atidėtas. Prioritetas teiktas naujo rentgeno įsigijimui. Tikimasi tomografą įsigyti kiek vėliau, ES lėšomis
A42: 02 | B42: 01 | C42: 15 | D42: Teikti Metų medicinos darbuotojo apdovanojimą | E42: 1 | F42: Metų mediko konkurso organizavimas | G42: Vyr. specialistė (savivaldybės gydytoja) | H42: SB | I42: 1 | J42: 0 | K42: Įteiktas Metų medicinos darbuotojo apdovanojimas | L42: 1 | M42: 0 | N42: Tęsiantis pandeminei situacijai ir įvertinant visų medikų didelį darbą ir pasiaukojimą, Metų mediko apdovanojimas neteiktas, nes visi rajono medikai verti Metų mediko vardo. Medicinos darbuotojų dienos proga organizuotas šventinis paminėjimas
A43: 02 | B43: 01 | C43: Iš viso uždaviniui | I43: =SUM(I30:I42) -> 269.8 | J43: =SUM(J30:J42) -> 228.3
A44: 02 | B44: Iš viso tikslui | I44: =+I43 -> 269.8 | J44: =+J43 -> 228.3
A45: 03 | B45: Pritaikyti viešąją infrastruktūrą sveikatos gerinimo poreikiams
A46: 03 | B46: 01 | C46: Modernizuoti ir atnaujinti sveikatos priežiūros vidaus ir išorės infrastruktūrą
A47: 03 | B47: 01 | C47: 01 | D47: Rekonstruoti VšĮ Kėdainių ligoninės laboratorinio-stomatologinio korpusą | H47: SBVB | I47: 0 | J47: 0 | K47: Įgyvendinta einamaisiais metais numatomų atlikti projekto veiklų proc.
A48: 03 | B48: 01 | C48: 02 | D48: Remontuoti VšĮ Kėdainių ligoninės Neurologijos ir Priėmimo – skubios pagalbos skyrius | H48: SBVB | I48: 0 | J48: 0 | K48: Įgyvendinta einamaisiais metais numatomų atlikti projekto veiklų proc.
A49: 03 | B49: 01 | C49: 03 | D49: Didinti pirminės asmens sveikatos priežiūros veiklos efektyvumą VšĮ Kėdainių pirminės sveikatos priežiūros centre | E49: 1 | F49: Priemonės, kurią vykdo Kėdainių PSPC, įgyvendinimo koordinavimas | G49: Administracijos direktorius | H49: SB | I49: 15.1 | J49: 8.8 | K49: Viešąsias sveikatos priežiūros paslaugas teikiančių įstaigų, kuriose pagerinta paslaugų teikimo infrastruktūra, skaičius / Gyventojų, pasinaudojusių pagerintomis paslaugomis, skaičius tūkst. | L49: 1 /40,3 | M49: 1 /40,3 | N49: Dalinai kofinansuotas PSPC įgyvendinamas projektas. Atliktas numatytų ambulatorijų patalpų remontas, įsigyta įranga pirminės sveikatos priežiūros paslaugų teikimui
A50: 03 | B50: 01 | C50: 04 | D50: Atnaujinti Dotnuvos seniūnijos Akademijos miestelio visuomeninės paskirties pastatą, pritaikant jį kaimo bendruomenės poreikiams | E50: 1 | F50: Projekto koordinavimas, rangos darbų koordinavimas, rangovo prisiimtų sutartinių įsipareigojimų vykdymo kontrolė | G50: Statybos ir turto skyrius, Strateginio planavimo ir investicijų skyrius | H50: SB | I50: 2.3 | J50: 1.6 | K50: Suremontuotų pastatų skaičius / gyventojų, pasinaudojusių geresne infrastruktūra, skaičius tūkst. | L50: 1 / 841 | M50: 1 / 841 | N50: Baigti Akademijos ambulatorijos įrengimo ir pritaikymo visuomenės poreikiams darbai
H51: VB | I51: 6.8 | J51: 1
H52: ES | I52: 50 | J52: 5.6
A53: 03 | B53: 01 | C53: 05 | D53: Įgyvendinti priemones, skirtas žemo slenksčio paslaugų kokybės gerinimui Kėdainių rajono savivaldybėje | E53: 1 | F53: Projekto koordinavimas, įrangos/prekių viešojo pirkimo konkurso organizavimas, koordinavimas, tiekėjo prisiimtų sutartinių įsipareigojimų vykdymo kontrolė | G53: Strateginio planavimo ir investicijų skyrius | H53: ES | I53: 22.6 | J53: 19.5 | K53: Apsilankymai (kartais) žemo slenksčio paslaugų kabinetuose per metus | L53: 1152 | M53: 1261 | N53: Įgyvendinant projektą teiktos stacionarios Žemo slenksčio kabinete ir mobilios paslaugos 1261 lankytojui, įsigytos priemonės (atrankiniai greitieji ŽIV, Hepatitų C, B, sifilio testai, vienkartinės dezinfekcinės, žaizdų gydymo priemonės, utilizavimo konteineriai ir transportavimo įranga (krepšiai) mobilioms paslaugoms teikti)
H54: VB | I54: 4.4 | J54: 3.4
A55: 03 | B55: 01 | C55: 06 | D55: Įrengti medicinos punktą Langakių kaime | E55: 1 | F55: Rangos darbų viešojo pirkimo organizavimas, rangos sutarties vykdymo kontrolė | G55: Statybos ir turto skyrius | H55: SB | I55: 50 | J55: 43.2 | K55: Gyventojų, galėsiančių pasinaudoti medicininėmis paslaugomis, skaičius | L55: ~320 | M55: ~320 | N55: 2021 m. pastatytas, sumontuotas ir įrengtas kilnojamas medicinos punktas
A56: 03 | B56: 01 | C56: Iš viso uždaviniui | I56: =SUM(I47:I55) -> 151.2 | J56: =SUM(J47:J55) -> 83.1
A57: 03 | B57: Iš viso tikslui | I57: =+I56 -> 151.2 | J57: =+J56 -> 83.1
A58: Iš viso programai | I58: =+I57+I44+I27 -> 1268.1 | J58: =+J57+J44+J27 -> 1128.5
A59: iš jų: | I59: =+I58-I60-I67 -> 0 | J59: =+J58-J60-J67 -> 0
A60: SAVIVALDYBĖS LĖŠOS | I60: =SUM(I61:I66) -> 1184.3 | J60: =SUM(J61:J66) -> 1099
A61: Savivaldybės biudžetas SB | I61: =+I50+I49+I42+I40+I39+I38+I37+I36+I35+I34+I33+I32+I31+I30+I18+I55 -> 337.6 | J61: =+J50+J49+J42+J40+J39+J38+J37+J36+J35+J34+J33+J32+J31+J30+J18+J55 -> 282.1 | K61: =+J61+J63 -> 339.7
A62: Valstybės biudžeto specialiosios tikslinės dotacijos lėšos SBVB | I62: =+I14+I25 -> 759.5 | J62: =+J14+J25 -> 759.3
A63: Aplinkos apsaugos rėmimo specialiosios programos lėšos AA | I63: =+I13 -> 87.2 | J63: =+J13 -> 57.6
A64: Iš pajamų už suteiktas paslaugas lėšos ĮP
A65: Skolintos lėšos SK
A66: Kelių priežiūros ir plėtros programos lėšos KPP
A67: KITOS LĖŠOS | I67: =SUM(I68:I71) -> 83.8 | J67: =SUM(J68:J71) -> 29.5
A68: Europos Sąjungos lėšos, užsienio fondų lėšos ES | I68: =+I53+I52 -> 72.6 | J68: =+J53+J52 -> 25.1
A69: Valstybės biudžeto lėšos VB | I69: =+I54+I51 -> 11.2 | J69: =+J54+J51 -> 4.4
A70: Privačios – investuotojų lėšos PR
A71: Kiti finansavimo šaltiniai KT

Sheet 03social.
A4: Programos tikslo kodas | B4: Uždavinio kodas | C4: Priemonės kodas | D4: Priemonės pavadinimas | E4: Veiklos/darbo/ veiksmo kodas | F4: Veiklos/darbo/ veiksmo pavadinimas | G4: Atsakingi vykdytojai | H4: Finansavimo šaltinis | I4: Numatomi 2021-ųjų m. asignavimai, tūkst. Eur | J4: Panaudoti 2021-ųjų m. asignavimai, tūkst. Eur | K4: Proceso/indėlio vertinimo kriterijai
K5: Pavadinimas | L5: Planuota reikšmė | M5: Pasiekta reikšmė | N5: Nukrypimų nuo plano priežastys, pastabos, komentarai
A9: 03 SOCIALINĖS APSAUGOS PLĖTOJIMAS
A10: 01 | B10: Organizuoti socialinę paramą ir skatinti socialinę integraciją
A11: 01 | B11: 01 | C11: Organizuoti Lietuvos Respublikos teisės aktuose numatytos paramos bei paslaugų asmenims ir šeimoms teikimą
A12: 01 | B12: 01 | C12: 01 | D12: Teikti ir administruoti socialines išmokas ir kompensacijas (būsto šildymo išlaidų, išlaidų šaltam bei nuotekoms ir išlaidų karštam vandeniui) | E12: 1 | F12: Koordinavimas, duomenų suvedimas į programą "Parama" | G12: Socialinės paramos skyrius | H12: SBVB | I12: 5.4 | J12: 4.9 | K12: Asmenų, gaunančių socialinę pašalpą ir kompensacijas skaičius | L12: 6900 | M12: 6400 | N12: Piniginės socialinės paramos gavėjų skaičius mažėjo dėl to, kad karantino metu daug asmenų gavo tikslines išmokas iš užimtumo tarnybos ir dėl to negalėjo gauti socialinės pašalpos
H13: SB | I13: 617.7 | J13: 438.5
A14: 01 | B14: 01 | C14: 02 | D14: Dengti išlaidas už įsigytus produktus, mokinio reikmenis, administruoti socialinę paramą mokiniams | E14: 1 | F14: Koordinavimas, duomenų suvedimas į programą "Parama", informacijos teikimas švietimo įstaigų vadovams | G14: Socialinės paramos skyrius, Švietimo skyrius | H14: SBVB | I14: 779.9 | J14: 697 | K14: Mokinių, gaunančių nemokamą maitinimą, skaičius | L14: 1800 | M14: 1888 | N14: Mokinių, gaunančių būtiniausius mokinio reikmenis, nemokamą maitinimą skaičius didėjo, nes šeimos dėl karantino prarado pajamas
K15: Mokinių gaunančių būtiniausius mokinio reikmenis skaičius | L15: 1300 | M15: 1263
A16: 01 | B16: 01 | C16: 03 | D16: Teikti socialinę globą asmenims su sunkia negalia | E16: 1 | F16: Koordinavimas, apmokėjimas už suteiktas paslaugas ne savivaldybės pavaldumo globos įstaigoms | G16: Socialinės paramos skyrius | H16: SBVB | I16: 277.4 | J16: 269.2 | K16: Globojamų asmenų skaičius | L16: 200 | M16: 208 | N16: Globojamų asmenų su sunkia negalia skaičius pastaraisiais metais didėja, daugėja tiek dienos socialinės globos paslaugų namuose, tiek stacionariose įstaigose gavėjų
A17: 01 | B17: 01 | C17: 05 | D17: Organizuoti nemokamą socialiai remtinų vaikų maitinimą ikimokyklinėse įstaigose | E17: 1 | F17: Informacijos rinkimas, ikimokyklinių įstaigų užmokesčio už vaikų išlaikymą analizė | G17: Švietimo skyrius | H17: SB | I17: 50 | J17: 33.4 | K17: Vaikų, gaunančių nemokamą maitinimą skaičius | L17: 350 | M17: 347 | N17: 347 vaikų iš dalies arba visiškai atleisti nuo mokesčio už maitinimą. Lėšų reikėjo mažiau, kadangi karantino metu ikimokyklinės įstaigos dalį laiko nedirbo
A18: 01 | B18: 01 | C18: 06 | D18: Kompensuoti nemokamo mokinių maitinimo kainą bendrojo lavinimo mokyklose | E18: 1 | F18: Koordinavimas, duomenų rinkimas, apmokėjimas maitinimo paslaugų teikėjams bei įstaigoms | G18: Socialinės paramos skyrius, Apskaitos skyrius | H18: SB | I18: 115 | J18: 115 | K18: Mokinių, gaunančių nemokamą maitinimą, skaičius | L18: 1800 | M18: 1888 | N18: Mokinių, gaunančių nemokamą maitinimą, skaičius didėjo, nes šeimos dėl karantino prarado pajamas
A19: 01 | B19: 01 | C19: 07 | D19: Teikti tikslines kompensacijas neįgaliesiems | E19: 1 | F19: Asmenų konsultavimas, prašymų priėmimas, Duomenų suvedimas į programą | G19: Socialinės paramos skyrius | H19: VB | I19: 2904.9 | J19: 2711.4 | K19: Asmenų gaunančių šalpos išmokas, skaičius | L19: 1385 | M19: 1403 | N19: Asmenims išmokėtos tikslinės kompensacijos
A20: 01 | B20: 01 | C20: 08 | D20: Teikti išmokas vaikams | E20: 1 | F20: Koordinavimas, Duomenų suvedimas į programą "Parama" | G20: Socialinės paramos skyrius | H20: VB | I20: 11140.1 | J20: 9259.2 | K20: Asmenų gaunančių išmokas vaikams, skaičius | L20: 8184 | M20: 8723 | N20: Išmoka skirta 8723 vaikams
A21: 01 | B21: 01 | C21: 09 | D21: Organizuoti socialinės reabilitacijos paslaugų neįgaliesiems bendruomenėje projektų konkursus | E21: 1 | F21: Projektų konkurso organizavimas, projektų koordinavimas, sutarčių vykdymo kontrolė | G21: Socialinės paramos skyrius | H21: VB | I21: 79.8 | J21: 83.3 | K21: Neįgaliųjų, gavusių paslaugas skaičius | L21: 380 | M21: 427 | N21: Įgyvendinti 5 Kėdainių rajono neįgaliuosius atstovaujančių organizacijų pateikti socialinės reabilitacijos paslaugų neįgaliems asmenims projektai, kuriuose dalyvavo 427 neįgalūs asmenys
H22: SB | I22: 22 | J22: 16
A23: 01 | B23: 01 | C23: 10 | D23: Organizuoti ir dalinai kompensuoti būsto pritaikymą neįgaliesiems | E23: 1 | F23: Poreikio identifikavimas, viešųjų pirkimų organizavimas, sutarties vykdymo koordinavimas | G23: Socialinės paramos skyrius | H23: VB | I23: 24.8 | J23: 29.8 | K23: Pritaikyti būstų neįgaliesiems skaičius | L23: 3 | M23: 8 | N23: 8 asmenims dalinai kompensuotos būsto pritaikymo neįgaliesiems išlaidos
A24: 01 | B24: 01 | C24: 11 | D24: Kompensuoti komunalines išlaidas neįgaliesiems | E24: 1 | F24: Asmenų konsultavimas, prašymų priėmimas, Duomenų suvedimas į programą "Parama" | G24: Socialinės paramos skyrius | H24: VB | I24: 0.1 | J24: 0.1 | K24: Neįgaliųjų, gavusių kompensacijas skaičius | L24: 2 | M24: 1 | N24: 1 asmeniui kompensuotos komunalinės išlaidos
A25: 01 | B25: 01 | C25: 12 | D25: Teikti kompensacijas ginkluoto pasipriešinimo dalyvių šeimoms, sovietinėje armijoje sužalotiems asmenims bei žuvusiųjų šeimoms | E25: 1 | F25: Asmenų konsultavimas, prašymų priėmimas, Duomenų suvedimas į programą "Parama" | G25: Socialinės paramos skyrius | H25: VB | I25: 0 | J25: 0 | K25: Asmenų, gavusių kompensacijas skaičius | L25: 2 | M25: 3 | N25: Vykdytas viešinimas dėl galimybės pasinaudoti šia paslauga 3 šeimos kreipėsi dėl kompensacijų
A26: 01 | B26: 01 | C26: 13 | D26: Kompensuoti būsto nuomos ar išperkamosios būsto nuomos mokesčių dalį | E26: 1 | F26: Asmenų konsultavimas, prašymų priėmimas, sąrašų sudarymas, duomenų vedimas į SPIS programą | G26: Socialinės paramos skyrius | H26: SBVB | I26: 3.7 | J26: 3.2 | K26: Asmenų, gavusių būsto nuomos ar išperkamosios būsto nuomos mokesčių dalies kompensaciją, skaičius iš bendro asmenų, turinčių teisę į paramą būstui išsinuomoti ir įrašytų į sąrašus, skaičiaus, proc. | L26: 4 | M26: 3 | N26: Vykdytas viešinimas dėl galimybės pasinaudoti šia paslauga 3 šeimos kreipėsi dėl kompensacijų
A27: 01 | B27: 01 | C27: Iš viso uždaviniui | I27: =SUM(I12:I26) -> 16020.8 | J27: =SUM(J12:J26) -> 13661
A28: 01 | B28: 02 | C28: Organizuoti socialinės paramos ir paslaugų teikimą Lietuvos Respublikos įstatymuose nenumatytais atvejais
A29: 01 | B29: 02 | C29: 01 | D29: Teikti savivaldybės paramą neįgaliesiems, senyvo amžiaus asmenims, vaikams ir daugiavaikėms, skurdžiai gyvenančioms, nuo stichinių nelaimių nukentėjusioms šeimoms, pirkti socialines paslaugas | E29: 1 | F29: Apmokėjimas už suteiktas paslaugas ne savivaldybės pavaldumo globos įstaigoms | G29: Apskaitos skyrius, Socialinės paramos skyrius | H29: SB | I29: 410 | J29: 463.1 | K29: Asmenų, gaunančių savivaldybės paramą, skaičius | L29: 4570 | M29: 4520 | N29: Finansuotos pagal sutartis socialinės paslaugos asmenims, kurias teikia kitos savivaldybės. Taip pat finansuota socialinės paramos 2021 m. programa (dėl karantino, mažiau suteikta pirties paslaugų, taip pat vykdant aplinkos pritaikymo neįgaliesiems darbus, dalis jų persikėlė į 2022 m., mažiau nei planuota kreipėsi dėl gaisrų ar stichinių nelaimių padarytų nuostolių iš dalies padengti)
H30: SB | I30: 173.4 | J30: 157.6
A31: 01 | B31: 02 | C31: 02 | D31: Dengti kainų skirtumą gyventojams už šildymą | E31: 1 | F31: Apmokėjimų užtikrinimas paslaugų teikėjams | G31: Apskaitos skyrius | H31: SB | I31: 70 | J31: 64.3 | K31: Asmenų, kuriems dengiamas kainų skirtumas, skaičius | L31: 500 | M31: 500 | N31: 500 asmenų kompensuotas kainų skirtumas už šildymą. Lėšų poreikis kompensacijoms skiriamas atsižvelgiant į gyventojų gaunamas pajamas, šildymo sezono trukmę
A32: 01 | B32: 02 | C32: 03 | D32: Kompensuoti karšto ir šalto vandens pardavimo kainą socialiai remtiniems asmenims | E32: 1 | F32: Koordinavimas, duomenų teikimas paslaugų teikėjams | G32: Socialinės paramos skyrius, Apskaitos skyrius | H32: SB | I32: 131.9 | J32: 131.6 | K32: Asmenų, gaunančių kompensaciją, skaičius | L32: 5800 | M32: 5663 | N32: 5663 asmenims kompensuota karšto ir šalto vandens pardavimo kaina. Mažėjo asmenų ar šeimų, kurioms skirta piniginė socialinė parama skaičius
A33: 01 | B33: 02 | C33: 04 | D33: Teikti vienkartinę išmoką gimus vaikui Lietuvos Respublikos teritorijoje ir gyvenančiam Kėdainių rajono savivaldybėje | E33: 1 | F33: Išmokų pervedimas | G33: Apskaitos skyrius | H33: SB | I33: 30 | J33: 26.7 | K33: Asmenų gaunančių išmokas, skaičius | L33: 320 | M33: 267 | N33: 267 vaikams, gimusiems Lietuvoje ir gyvenantiems Kėdainių r. savivaldybėje mokėtos 100 Eur vienkartinės išmokos
A34: 01 | B34: 02 | C34: 05 | D34: Teikti Metų socialinio darbuotojo apdovanojimą | E34: 1 | F34: Metų socialinio darbuotojo konkurso organizavimas | G34: Socialinės paramos skyrius | H34: SB | I34: 1 | J34: 1 | K34: Įteiktas Metų socialinio darbuotojo apdovanojimas | L34: 1 | M34: 1 | N34: Metų socialinio darbuotojo apdovanojimas skirtas Kėdainių rajono savivaldybės administracijos Krakių seniūnijos socialinei darbuotojai Vilmai Berulienei
A35: 01 | B35: 02 | C35: Iš viso uždaviniui | I35: =SUM(I29:I34) -> 816.3 | J35: =SUM(J29:J34) -> 844.3
A36: 01 | B36: 03 | C36: Užtikrinti transporto lengvatų, numatytų Lietuvos Respublikos transporto lengvatų įstatyme, taikymą
A37: 01 | B37: 03 | C37: 01 | D37: Kompensuoti kelionės išlaidas už lengvatinį keleivių vežimą | E37: 1 | F37: Duomenų ir pateisinamųjų dokumentų iš vežėjų ir įstaigų rinkimas, sisteminimas, analizė ir teikimas Apskaitos bei Biudžeto ir finansų skyriams | G37: Statybos ir turto skyrius | H37: SB | I37: 311.3 | J37: 277.8 | K37: Parduotų su nuolaida bilietų skaičius (tūkst.) | L37: 455 | M37: 492 | N37: 2021 m. UAB "Kėdbusas" keleiviams turintiems teisę į lengvatas, įskaitant ir savivaldybės sprendimą dėl nemokamo moksleivių vežimo pardavė 492 326 vnt. kelionės bilietų (vienkartiniai ir terminuoti (mėnesiniai)
A38: 01 | B38: 03 | C38: Iš viso uždaviniui | I38: =SUM(I37) -> 311.3 | J38: =SUM(J37) -> 277.8
A39: 01 | B39: Iš viso tikslui | I39: =+I38+I35+I27 -> 17148.4 | J39: =+J38+J35+J27 -> 14783.1
A40: 02 | B40: Gerinti socialinių paslaugų prieinamumą, užtikrinti jų teikimą bei didinti socialinių paslaugų ir jų teikėjų įvairovę
A41: 02 | B41: 01 | C41: Užtikrinti, plėsti ir gerinti socialinių paslaugų teikimą
A42: 02 | B42: 01 | C42: 06 | D42: Užtikrinti paslaugų teikimą VšĮ "Gyvenimo namai sutrikusio intelekto asmenims" | E42: 1 | F42: Programos vykdymo kontrolė | G42: Socialinės paramos skyrius | H42: SB | I42: 44 | J42: 44 | K42: Paslaugas gaunančių asmenų skaičius | L42: 21 | M42: 21 | N42: Savarankiško gyvenimo namų paslaugos suteiktos 21 asmenų su proto negalia
A43: 02 | B43: 01 | C43: 08 | D43: Teikti kompleksines paslaugas šeimai Kėdainių rajone | E43: 1 | F43: Projekto koordinavimas | G43: Socialinės paramos skyrius | H43: ES | I43: 108.3 | J43: 107.4 | K43: Asmenų, kuriems suteiktos paslaugos skaičius | L43: 150 | M43: 240 | N43: Įgyvendinant projektą teikiamos psichologo paslaugos ir pozityvios tėvystės užsiėmimai. Asmenys noriai naudojasi paslaugomis, ypatingai psichologų pagalba
A44: 02 | B44: 01 | C44: 09 | D44: Finansuoti dienos socialinės globos paslaugų teikimą Kėdainių socialinės globos namuose | E44: 1 | F44: Programos vykdymo kontrolė | G44: Socialinės paramos skyrius | H44: SBVB | I44: 45.6 | J44: 38.8 | K44: Asmenų, kuriems suteiktos paslaugos, skaičius | L44: 7 | M44: 6 | N44: Projektą įgyvendina Kėdainių socialinės globos namai. Paslaugos teiktos 6 asmenims su negalia
H45: SB | I45: 10 | J45: 1.8
A46: 02 | B46: 01 | C46: 10 | D46: Finansuoti vaikų dienos centrų veiklos programas | E46: 1 | F46: Sutarčių sudarymas, programų įgyvendinimo priežiūros organizavimas | G46: Socialinės paramos skyrius | H46: SB | I46: 53.5 | J46: 52.1 | K46: Finansuotų vaikų dienos centrų skaičius/veiklose dalyvavusių vaikų, jaunuolių skaičius | L46: 7/100 | M46: 8/160 | N46: Finansuoti 8 vaikų dienos centrai: Kėdainių pagalbos šeimai centro vaikų dienos centras (25 vaikai), VšĮ „Laiptai į viltį“ (20 vaikų), Vaikų dienos centras „Tavo svajonė“ (20 vaikų), Gudžiūnų bendruomenės centras (25 vaikai), Ažytėnų bendruomenės centras (15 vaikų), Asociacija „Trinus“ (25 vaikai), Tiskūnų bendruomenės centras (15 vaikų), Alternatyviojo ugdymo centras (15 vaikų)
H47: SBVB | I47: 122.5 | J47: 121.1
A48: 02 | B48: 01 | C48: Iš viso uždaviniui | I48: =SUM(I42:I47) -> 383.9 | J48: =SUM(J42:J47) -> 365.2
A49: 02 | B49: Iš viso tikslui | I49: =+I48 -> 383.9 | J49: =+J48 -> 365.2
A50: 03 | B50: Modernizuoti socialinių paslaugų įstaigų infrastruktūrą
A51: 03 | B51: 01 | C51: Gerinti socialines paslaugas teikiančių įstaigų ir socialinio būsto infrastruktūrą
A52: 03 | B52: 01 | C52: 01 | D52: Užtikrinti socialinio būsto fondo plėtrą Kėdainiuose | E52: 1 | F52: Projekto koordinavimas, viešųjų pirkimų organizavimas, sutarčių vykdymo kontrolė | G52: Strateginio planavimo ir investicijų skyrius, Statybos ir turto skyrius, Socialinės paramos skyrius | H52: SB | I52: 40 | J52: 31.1 | K52: Įsigytų socialinės paskirties butų skaičius | L52: 4 | M52: 6 | N52: Įgyvendinant ES projektą įsigyti 6 socialiniai būstai.
H53: ES | I53: 130 | J53: 115.3
A54: 03 | B54: 01 | C54: 02 | D54: Pritaikyti Kėdainių miesto Šėtos g. 93 namą socialinio būsto paskirčiai | E54: 1 | F54: Techninės dokumentacijos koregavimo viešojo pirkimo organizavimas | G54: Statybos ir turto skyrius | H54: SB | I54: 0 | J54: 0 | K54: Socialinio būsto paskirčiai pritaikytų butų skaičius
A55: 03 | B55: 01 | C55: 03 | D55: Remontuoti savivaldybės ir socialinį būstą | E55: 1 | F55: Poreikio surinkimas, informacijos susisteminimas, komisijos darbo organizavimas, viešųjų pirkimų organizavimas, rangovo prisiimtų sutartinių įsipareigojimų vykdymo kontrolė | G55: Socialinės paramos skyrius, Statybos ir turto skyrius | H55: SB | I55: 90 | J55: 90 | K55: Einamaisiais metais, pagal poreikį atliktų remontų socialiniuose būstuose skaičius, proc. | L55: 100 | M55: 100 | N55: Socialiniuose būstuose keisti langai, atlikti elektros instaliacijos, vandentiekio remonto, vamzdynų, sanitarinių įrenginių keitimo (remonto) ir kiti darbai
A56: 03 | B56: 01 | C56: 04 | D56: Pritaikyti viešąją aplinką specialiųjų poreikių turintiems gyventojams | E56: 1 | F56: Poreikio surinkimas, viešųjų pirkimų organizavimas, rangovo prisiimtų sutartinių įsipareigojimų vykdymo kontrolė | G56: Socialinės paramos skyrius, Statybos ir turto skyrius | H56: SB | I56: 42 | J56: 41.2 | K56: Objektų, pritaikytų neįgaliųjų poreikiams, skaičius | L56: 6 | M56: 5 | N56: Viešosios aplinkos (Krakių M.Katkaus gimnazija, "Spindulio" mokykla, "Aušros" progimnazija, Kėdainių specialioji mokykla, miesto Budrio g., Kėdainių kultūros centro Surviliškio skyrius) prieigos pritaikytos neįgaliųjų poreikiams
A57: 03 | B57: 01 | C57: 05 | D57: Plėtoti bendruomeninių vaikų globos namų ir vaikų dienos centrų tinklą Kėdainių rajono savivaldybėje | E57: 1 | F57: Projekto koordinavimas, viešųjų pirkimų organizavimas, sutarčių vykdymo kontrolė | G57: Strateginio planavimo ir investicijų skyrius, Statybos ir turto skyrius | H57: ES | I57: 97 | J57: 54.6 | K57: Įkurtų bendruomeninių vaikų globos namų skaičius / išplėstų vaikų dienos centrų skaičius | L57: 3/3 | M57: 3/3 | N57: Vykdyti trečiojo bendruomeninio vaikų globos namų buto įrengimo darbai
H58: SB | I58: 19.4 | J58: -8
A60: 03 | B60: 01 | C60: Iš viso uždaviniui | I60: =SUM(I52:I59) -> 418.4 | J60: =SUM(J52:J59) -> 324.2
A61: 03 | B61: Iš viso tikslui | I61: =+I60 -> 418.4 | J61: =+J60 -> 324.2
A62: Iš viso programai | I62: =+I61+I49+I39 -> 17950.7 | J62: =+J61+J49+J39 -> 15472.5
A63: iš jų: | I63: =+I62-I64-I71 -> 0 | J63: =+J62-J64-J71 -> 0
A64: SAVIVALDYBĖS LĖŠOS | I64: =SUM(I65:I70) -> 3465.7 | J64: =SUM(J65:J70) -> 3111.4
A65: Savivaldybės biudžetas SB | I65: =+I58+I56+I55+I52+I46+I45+I42+I37+I34+I33+I32+I31+I30+I29+I22+I18+I17+I13 -> 2231.2 | J65: =+J58+J56+J55+J52+J46+J45+J42+J37+J34+J33+J32+J31+J30+J29+J22+J18+J17+J13 -> 1977.2 | K65: =+I65-I30 -> 2057.8
A66: Valstybės biudžeto specialiosios tikslinės dotacijos lėšos SBVB | I66: =+I44+I26+I16+I14+I12+I47 -> 1234.5 | J66: =+J44+J26+J16+J14+J12+J47 -> 1134.2
A67: Aplinkos apsaugos rėmimo specialiosios programos lėšos AA
A68: Iš pajamų už suteiktas paslaugas lėšos ĮP
A69: Skolintos lėšos SK
A70: Kelių priežiūros ir plėtros programos lėšos KPP
A71: KITOS LĖŠOS | I71: =SUM(I72:I75) -> 14485 | J71: =SUM(J72:J75) -> 12361.1
A72: Europos Sąjungos lėšos, užsienio fondų lėšos ES | I72: =+I53+I57+I43 -> 335.3 | J72: =+J53+J57+J43 -> 277.3
A73: Valstybės biudžeto lėšos VB | I73: =+I19+I20+I21+I23+I24+I25 -> 14149.7 | J73: =+J19+J20+J21+J23+J24+J25 -> 12083.8
A74: Privačios – investuotojų lėšos PR
A75: Kiti finansavimo šaltiniai KT

Sheet 04sport.
H1: PATVIRTINTA Kėdainių rajono savivaldybės administracijos direktoriaus 2021 m. kovo 12 d. įsakymu Nr.AD-1-277 (Kėdainių rajono savivaldybės administracijos direktoriaus 2021 m. rugsėjo d. įsakymo Nr.AD-1- redakcija)
A4: Programos tikslo kodas | B4: Uždavinio kodas | C4: Priemonės kodas | D4: Priemonės pavadinimas | E4: Veiklos/darbo/ veiksmo kodas | F4: Veiklos/darbo/ veiksmo pavadinimas | G4: Atsakingi vykdytojai | H4: Finansavimo šaltinis | I4: Numatomi 2021-ųjų m. asignavimai, tūkst. Eur | J4: Panaudoti 2021-ųjų m. asignavimai, tūkst. Eur | K4: Proceso/indėlio vertinimo kriterijai
K5: Pavadinimas | L5: Planuota reikšmė | M5: Pasiekta reikšmė | N5: Nukrypimų nuo plano priežastys, pastabos, komentarai
A9: 04 SPORTO VEIKLOS PLĖTRA
A10: 01 | B10: 01 tikslas. Didinti gyventojų fizinį aktyvumą, ugdyti sportišką bendruomenę
A11: 01 | B11: 01 | C11: Užtikrinti Kultūros ir sporto skyriaus veiklą kūno kultūros ir sporto srityje
A12: 01 | B12: 01 | C12: 01 | D12: Organizuoti ir užtikrinti Kultūros ir sporto skyriaus veiklą kūno kultūros ir sporto srityje | E12: 1 | F12: Kūno kultūros ir sporto politikos formavimas ir įgyvendinimo užtikrinimas | G12: Kultūros ir sporto skyrius | H12: SB | I12: 49.5 | J12: 45.7 | K12: Kultivuojamų sporto šakų skaičius | L12: 31 | M12: 31 | N12: Kultūros ir sporto skyrius, bendradarbiaudamas su rajono sporto nevyriausybinėmis organizacijomis, biudžetinėmis įstaigomis, 2021 m. organizavo krepšinio, futbolo, bokso, šachmatų, šaškių, teniso, stalo teniso, turizmo, sportinių šokių, lengvosios atletikos, tinklinio, dziudo imtynių, dviračių sporto, karate, kultūrizmo, žolės riedulio ir kitų sporto šakų varžybas, respublikinius, tarptautinius ir kitus renginius.
A13: 01 | B13: 01 | C13: Iš viso uždaviniui | I13: =SUM(I12) -> 49.5 | J13: =SUM(J12) -> 45.7
A14: 01 | B14: 02 | C14: Užtikrinti efektyvią Kėdainių sporto centro veiklą, vykdyti organizuojamus renginius
H15: VB
I16: =SUM(I15:I15) -> 0 | J16: =SUM(J15:J15) -> 0
A17: 01 | B17: 03 | C17: Ugdyti sveiką, aktyvų, savimi ir savo gebėjimais pasitikinti pilietį bei sudaryti sąlygas gyventojų fiziniam aktyvumui
A18: 01 | B18: 03 | C18: 01 | D18: Finansuoti Vaikų mokymo plaukti veiklos programą, dalyvaujant projekte „Mokėk plaukti ir saugiau elgtis vandenyje“ | E18: 1 | F18: Sutarčių su vykdytojais suderinimas, priemonių koordinavimas ir vykdymo kontrolė | G18: Kultūros ir sporto skyrius | H18: SB | I18: 0 | J18: 0 | K18: Programoje dalyvaujančių vaikų skaičius | L18: 300/14 | M18: 300/14
H19: VB
A20: 01 | B20: 03 | C20: 02 | D20: Skatinti Neįgaliųjų fizinį aktyvumą, organizuoti sporto renginius ir sporto treniruočių stovyklas | E20: 1 | F20: Sportinės veiklos organizavimas, koordinavimas | G20: Kultūros ir sporto skyrius | H20: SB | I20: 3 | J20: 2.9 | K20: Neįgaliųjų kūno kultūros ir sporto renginių skaičius / stovyklų skaičius | L20: 5/3 | M20: 6/4 | N20: Įvyko rajoninės tarporganizacinės neįgaliųjų šaškių, bočios, stalo teniso varžybos, paraplegikų spartakiada, žygiai su šiaurietiškomis lazdomis. Dalyvauta respublikinės bočios varžybose, rankų lenkimo čempionate. Suorganizuotos 4 sportinės stovyklos pasiruošti varžyboms
A21: 01 | B21: 03 | C21: Iš viso uždaviniui | I21: =SUM(I18:I20) -> 3 | J21: =SUM(J18:J20) -> 2.9
A22: 01 | B22: 04 | C22: Vystyti įvairias gyventojų poreikius atitinkančias sporto šakas, didinti sportinės veiklos žinomumą Kėdainių rajone
A23: 01 | B23: 04 | C23: 01 | D23: Organizuoti rajoninius, respublikinius, tarptautinius visų amžiaus grupių aukšto meistriškumo sporto renginius ir aukšto meistriškumo sporto treniruočių stovyklas | E23: 1 | F23: Sportinės veiklos organizavimas, koordinavimas | G23: Kultūros ir sporto skyrius | H23: SB | I23: 23 | J23: 25.3 | K23: Suorganizuotų rajoninių, respublikinių ir tarptautinių kūno kultūros ir sporto renginių skaičius / veteranų sporto šakų skaičius / stovyklų skaičius | L23: 18/12/5 | M23: 21/12/11 | N23: Pasiruošimui ir dalyvavimui šalies ir tarptautiniuose sporto renginiuose įvyko 11 sporto stovyklų, jose dalyvavo 99 sportininkai. Organizuotos aerobinės gimnastikos, krepšinio, šachmatų, šaškių, teniso, stalo teniso, turizmo, sportinių šokių, dviračių sporto, karate, kultūrizmo, žolės riedulio ir kitų sporto šakų varžybos ir kiti renginiai. Kėdainių rajono sportininkai ir komandos šalies pirmenybėse, čempionatuose, tarptautinėse varžybose įvairaus amžiaus grupėse ir atskirose sporto šakose laimėjo 113 medalių
A24: 01 | B24: 04 | C24: Iš viso uždaviniui | I24: =SUM(I23:I23) -> 23 | J24: =SUM(J23:J23) -> 25.3
A25: 01 | B25: 05 | C25: Skatinti Kėdainių rajono sporto organizacijas, sporto komandas ir sportininkus, finansuoti sporto veiklos projektus ir programas
A26: 01 | B26: 05 | C26: 01 | D26: Finansuoti sporto šakų programas, iš jų: | E26: 1 | F26: Prioritetinių sporto šakų paraiškų finansavimui organizavimas, sutarčių su vykdytojais suderinimas, veiklos vykdymo kontrolė | G26: Kultūros ir sporto skyrius | H26: SB | I26: =SUM(I27:I31) -> 480 | J26: =SUM(J27:J31) -> 480 | K26: Finansuotų sporto šakų programų skaičius | L26: 4 | M26: 4 | N26: Finansuotos 4 prioritetinių sporto šakų (1 – krepšinio, 2 – futbolo, 1 – bokso) veiklos programos
C27: 01.01 | D27: VŠĮ Krepšinio klubo „Nevėžis“ veiklos programai | H27: SB | I27: 0 | J27: 0 | K27: Užimta vieta LKL čempionate / Karaliaus Mindaugo taurės turnyre / žiūrovų stebinčių rungtynes skaičiaus vidurkis | N27: Krepšinio komanda „Nevėžis“ 2019/2020 m. LKL čempionate iškovojo 10 vietą
C28: 01.02 | D28: VšĮ "Veržlusis Nevėžis" veiklos programai | H28: SB | I28: 200 | J28: 200 | K28: Užimta vieta LKL čempionate / Karaliaus Mindaugo taurės turnyre / žiūrovų stebinčių rungtynes skaičiaus vidurkis | L28: 8 / Top 8 / 1000 | M28: 10 / 9-10 / 450 | N28: Krepšinio komanda „Nevėžis“ 2020/2021 m. LKL čempionate iškovojo 10 vietą
C29: 01.03 | D29: VšĮ „Sporto perspektyvos“ veiklos programai | H29: SB | I29: 180 | J29: 180 | K29: Užimta vieta LFF A lygos pirmenybėse / rungtynių skaičius | L29: 1-8/34 | M29: 10 / 36 | N29: 2021 m. Kėdainių futbolo komanda „Nevėžis“ LFF Optibet A lygos čempionate iškovojo 10 vietą, sužaistos 36 rungtynės, įvykdyta 10 sportinių stovyklų
C30: 01.04 | D30: Kėdainių bokso federacijos veiklos programai | H30: SB | I30: 15 | J30: 15 | K30: Suorganizuotų stovyklų/ iškovotų medalių skaičius | L30: 11/6 | M30: 11 / 6 | N30: Suorganizuota 11 stovyklų, įvairaus amžiaus grupėse šalies ir tarptautinėse varžybose boksininkai iškovojo 14 medalių
C31: 01.05 | D31: VšĮ „Sporto perspektyvos“ vaikų ir jaunimo futbolo plėtros veiklos programai | H31: SB | I31: 85 | J31: 85 | K31: Sportuojančių vaikų skaičius | L31: 250 | M31: 250 | N31: Dalyvauta šalies vaikų, jaunių ir jaunimo pirmenybėse septyniose amžiaus grupėse, 3 jauni žaidėjai papildė „Nevėžio“ komandą
A32: 01 | B32: 05 | C32: 02 | D32: Finansuoti fizinio aktyvumo ir sporto veiklos projektus | H32: SB | I32: 35 | J32: 35 | K32: Finansuojamų projektų skaičius | L32: 25 | M32: 25 | N32: Finansuota 15 gyventojų fizinio aktyvumo plėtros bei 10 sporto veiklos projektų. Projektų veiklose dalyvavo per 2 tūkst. asmenų
A33: 01 | B33: 05 | C33: Iš viso uždaviniui | I33: =+I32+I26 -> 515 | J33: =+J32+J26 -> 515
A34: 01 | B34: Iš viso tikslui | I34: =+I33+I24+I21+I16+I13 -> 590.5 | J34: =+J33+J24+J21+J16+J13 -> 588.9
A35: 02 | B35: Atnaujinti ir plėsti Kėdainių rajono savivaldybės sporto infrastruktūrą, pritaikyti ją šiuolaikiniams poreikiams
A36: 02 | B36: 01 | C36: Modernizuoti sporto objektų materialinę bazę, sudarant sąlygas fizinio aktyvumo ugdymui
A37: 02 | B37: 01 | C37: 01 | D37: Rekonstruoti Kėdainių miesto stadioną ir atsargines futbolo, aktyvaus poilsio aikštes bei mašinų stovėjimo aikštelę šalia stadiono | E37: 1 | F37: Rangos darbų vykdymo koordinavimas, rangovo prisiimtų sutartinių įsipareigojimų vykdymo kontrolė | G37: Statybos ir turto skyrius | H37: SBVB | I37: 611 | J37: 608.6 | K37: Įgyvendinta einamaisiais metais numatomų atlikti projekto veiklų proc. | L37: 100 | M37: 100 | N37: Baigti naujos dangos, kurią miesto stadionui skyrė Lietuvos futbolo federacija, keitimo darbai, baigti Kėdainių miesto stadiono aptarnavimo ir buities pastato su dengtomis tribūnomis statybos darbai
H38: SB | I38: 113.6 | J38: 113.5
A39: 02 | B39: 01 | C39: 02 | D39: Atnaujinti ir (arba) plėsti bendruomeninę fizinio aktyvumo infrastruktūrą mieste ir rajone, pritaikant ją bendruomenės poreikiams bei laisvalaikiui | E39: 1 | F39: Atnaujinimo darbų viešojo pirkimo organizavimas, rangovo prisiimtų sutartinių įsipareigojimų vykdymo kontrolė | G39: Kultūros ir sporto skyrius | H39: SB | I39: 15 | J39: 11.1 | K39: Atnaujintų/įrengtų vaikų sporto ir žaidimų aikštelių skaičius | L39: 2 | M39: 3 | N39: Atnaujinta riedučių rampa mieste, įrengtos vaikų žaidimo aikštelės Aristavoje bei prie Akademijos tvenkinio
H40: ES
H41: VB
A42: 02 | B42: 01 | C42: 03 | D42: Tobulinti Kėdainių sporto centro infrastruktūrą (Parko g. 4, Vilainiai) | E42: 1 | F42: Projekto koordinavimas, rangos darbų koordinavimas, rangovo prisiimtų sutartinių įsipareigojimų vykdymo kontrolė | G42: Strateginio planavimo ir investicijų skyrius, Statybos ir turto skyrius | H42: SB | I42: 60.5 | J42: 15.1 | K42: Atnaujintų viešosios paskirties pastatų skaičius | L42: 1 | M42: 1 | N42: Pateikus paraišką papildomam finansavimui, įsigytos saugojimo spintos, suolai su atramomis bei sublokuotos kėdės
H43: ES | I43: 38.2 | J43: 21
A44: 02 | B44: 01 | C44: 04 | D44: Atnaujinti Kėdainių „Ryto“ progimnazijos stadioną ir sporto aikštyną | E44: 1 | F44: Techninės dokumentacijos parengimo sutarties vykdymo kontrolė | G44: Statybos ir turto skyrius | H44: SB | I44: 9.6 | J44: 9.6 | K44: Parengtos techninės dokumentacijos skaičius/ atnaujintų objektų skaičius | L44: 1/0 | M44: 1/0 | N44: Parengtas stadiono ir sporto aikštyno atnaujinimo techninis projektas, atlikta techninio projekto ekspertizė
H45: VB
A46: 02 | B46: 01 | C46: Iš viso uždaviniui | I46: =SUM(I37:I45) -> 847.9 | J46: =SUM(J37:J45) -> 778.9
A47: 02 | B47: Iš viso tikslui | I47: =+I46 -> 847.9 | J47: =+J46 -> 778.9
A48: Iš viso programai | I48: =+I47+I34 -> 1438.4 | J48: =+J47+J34 -> 1367.8
A49: iš jų: | I49: =+I48-I50-I57 -> 0 | J49: =+J48-J50-J57 -> 2.2737368e-13
A50: SAVIVALDYBĖS LĖŠOS | I50: =SUM(I51:I56) -> 1400.2 | J50: =SUM(J51:J56) -> 1346.8
A51: Savivaldybės biudžetas SB | I51: =+I44+I42+I39+I38+I32+I26+I23+I20+I18+I12 -> 789.2 | J51: =+J44+J42+J39+J38+J32+J26+J23+J20+J18+J12 -> 738.2
A52: Valstybės biudžeto specialiosios tikslinės dotacijos lėšos SBVB | I52: =+I37 -> 611 | J52: =+J37 -> 608.6
A53: Aplinkos apsaugos rėmimo specialiosios programos lėšos AA
A54: Iš pajamų už suteiktas paslaugas lėšos ĮP
A55: Skolintos lėšos SK
A56: Kelių priežiūros ir plėtros programos lėšos KPP
A57: KITOS LĖŠOS | I57: =SUM(I58:I61) -> 38.2 | J57: =SUM(J58:J61) -> 21
A58: Europos Sąjungos lėšos, užsienio fondų lėšos ES | I58: =+I43+I40 -> 38.2 | J58: =+J43+J40 -> 21
A59: Valstybės biudžeto lėšos VB
A60: Privačios – investuotojų lėšos PR
A61: Kiti finansavimo šaltiniai KT

Sheet 05kultura
H1: PATVIRTINTA Kėdainių rajono savivaldybės administracijos direktoriaus 2021 m. kovo 12 d. įsakymu Nr.AD-1-277 (Kėdainių rajono savivaldybės administracijos direktoriaus 2021 m.. gruodžio d. įsakymo Nr.AD-1- redakcija)
A4: Programos tikslo kodas | B4: Uždavinio kodas | C4: Priemonės kodas | D4: Priemonės pavadinimas | E4: Veiklos/darbo/ veiksmo kodas | F4: Veiklos/darbo/ veiksmo pavadinimas | G4: Atsakingi vykdytojai | H4: Finansavimo šaltinis | I4: Numatomi 2021-ųjų m. asignavimai, tūkst. Eur | J4: Panaudoti 2021-ųjų m. asignavimai, tūkst. Eur | K4: Proceso/indėlio vertinimo kriterijai
K5: Pavadinimas | L5: Planuota reikšmė | M5: Pasiekta reikšmė | N5: Nukrypimų nuo plano priežastys, pastabos, komentarai
A9: 05 KULTŪROS VEIKLOS PLĖTRA
A10: 03 | B10: Sudaryti sąlygas krašto bendruomenei dalyvauti kultūrinėje bei kūrybinėje veikloje
A11: 03 | B11: 02 | C11: Sudaryti sąlygas kultūros plėtrai rajone
A12: 03 | B12: 02 | C12: 01 | D12: Organizuoti ir užtikrinti Kultūros ir sporto skyriaus specialistų darbą kultūros srityje | E12: 1 | F12: Lietuvos Respublikos ir Savivaldybės kultūros politikos nuostatų įgyvendinimas, kultūros įstaigų veiklos koordinavimas | G12: Kultūros ir sporto skyrius | H12: SB | I12: 72.4 | J12: 72 | K12: Suorganizuotų renginių skaičius | L12: 40 | M12: 41 | N12: Kultūros ir sporto skyrius formavo ir įgyvendino rajono savivaldybės kultūros politiką muziejų, bibliotekų, etninės kultūros, meno mėgėjų veikloje bei kitose kultūros srityse, rūpinosi gyventojų bendrosios kultūros ugdymu. Savivaldybės administracija iniciavo, organizavo, finansavo kitų įstaigų, organizacijų 41 kultūrinį renginį. Dėl šalyje skelbto karantino, dalis renginių, festivalių neįvyko. Dalinis finansavimas skirtas 2 knygų leidybai
A13: 03 | B13: 02 | C13: 02 | D13: Finansuoti rajono savivaldybės renginius ir kultūrines iniciatyvas | E13: 1 | F13: Rajoninių renginių, konkursų, dalyvavimo regioniniuose ir respublikiniuose renginiuose bei konkursuose koordinavimas ir finansavimas | G13: Kultūros ir sporto skyrius | H13: SB | I13: 122.8 | J13: 106
A14: 03 | B14: 02 | C14: 03 | D14: Finansuoti kultūrinės veiklos projektus | E14: 1 | F14: Kultūros projektų konkurso organizavimas | G14: Kultūros ir sporto skyrius | H14: SB | I14: 20 | J14: 20 | K14: Finansuotų projektų skaičius | L14: 19 | M14: 19 | N14: Konkurso būdu iš pateiktų 46 paraiškų, finansuota 19 projektų, kurių metu organizuotas 51 edukacinis užsiėmimas ir seminaras, 14 parodų ir 53 kiti renginiai. Projektų veiklose dalyvavo 5170 dalyviai ir žiūrovai.
A15: 03 | B15: 02 | C15: 04 | D15: Teikti Krašto kultūros premiją | E15: 1 | F15: Kėdainių krašto kultūros premijos konkurso organizavimas | G15: Kultūros ir sporto skyrius | H15: SB | I15: 1 | J15: 1 | K15: Kultūros premijos laureatų skaičius | L15: 1 | M15: 1 | N15: Krašto kultūros premija įteikta Albinai Mackevičienei, Kėdainių krašto dailės draugijos pirmininkei, tautodailininkei už etninės kultūros puoselėjimą, aktyvią kūrybinę ir kultūrinę meninę veiklą
A16: 03 | B16: 02 | C16: 05 | D16: Teikti Česlavo Milošo premiją | E16: 1 | F16: Česlavo Milošo premijos konkurso organizavimas | G16: Kultūros ir sporto skyrius | H16: SB | I16: 5 | J16: 5 | K16: Kultūros premijos laureatų skaičius | L16: 1 | M16: 1 | N16: 2021 m. Kėdainių krašto garbės piliečio Česlovo Milošo premijos laureate tapo Giedrė Kadžiulytė – redaktorė, leidėja, kultūros renginių organizatorė bei leidyklos „Apostrofa“ vadovė
A17: 03 | B17: 02 | C17: 06 | D17: Aprūpinti mėgėjų meno kolektyvus tautiniais ir kitais koncertiniais kostiumais bei muzikos instrumentais | E17: 1 | F17: Dalyvavimas Lietuvos liaudies kultūros centro pasirengimo dainų šventės programos tautinių kostiumų ir instrumentų įsigijimo finansavimo konkurse | G17: Kultūros ir sporto skyrius | H17: SB | I17: 7.5 | J17: 7.5 | K17: Koncertinius kostiumų komplektus/instrumentus atsinaujinusių kolektyvų skaičius | L17: 7 | M17: 7 | N17: 4 mėgėjų meno kolektyvams skirta lėšų tautinių, archeologinių, istorinių kostiumų ar jų dalių įsigijimui, 3 mėgėjų meno kolektyvams iš dalies finansuotos išlaidos muzikos instrumentų įsigijimui
A20: 03 | B20: 02 | C20: 07 | D20: Plėtoti tarptautinius kultūros mainus | E20: 1 | F20: Tarptautinių kultūros mainų organizavimas | G20: Kultūros ir sporto skyrius | H20: SB | I20: 1 | J20: 1 | K20: Organizuotų tarptautinių mainų skaičius | L20: 1 | M20: 1 | N20: Kėdainių kultūros centro Vilainių skyriaus liaudiškų šokių grupė „Volungė“ dalyvavo pasaulio liaudies šokių čempionate „World folk 2021“, kuris vyko 2021 m. rugpjūčio 18–25 d. Nesebere (Bulgarija)
A21: 03 | B21: 02 | C21: Iš viso uždaviniui | I21: =SUM(I12:I20) -> 229.7 | J21: =SUM(J12:J20) -> 212.5
A22: 03 | B22: Iš viso tikslui | I22: =+I21 -> 229.7 | J22: =+J21 -> 212.5
A23: 04 | B23: Vystyti jaunimui palankią aplinką bei infrastruktūrą, plėsti ir skatinti įvairias jaunimo veiklas ir užimtumą
A24: 04 | B24: 01 | C24: Skatinti Kėdainių rajono jaunimo ir su jaunimu dirbančių organizacijų nuolatinę ir ilgalaikę programinę veiklą, jaunimo veiklos projektus, jaunimo iniciatyvas
A25: 04 | B25: 01 | C25: 01 | D25: Finansuoti jaunimo veiklos projektus | E25: 1 | F25: Jaunimo veiklos projektų konkurso organizavimas | G25: Vyr. specialistė (jaunimo reikalų koordinatorė) | H25: SB | I25: 8 | J25: 8 | K25: Finansuotų projektų skaičius | L25: 5 | M25: 5 | N25: Finansuoti 5 jaunimo ir/ar su jaunimu dirbančių organizacijų projektai, į kurių veiklas įsitraukė 247 jaunuolių (14–29 m.).
A26: 04 | B26: 01 | C26: 02 | D26: Finansuoti programas, užtikrinančias jaunimo neformalaus ugdymo plėtrą | E26: 1 | F26: Sutarčių sudarymas, programų įgyvendinimo priežiūros organizavimas, ataskaitų rinkimas | G26: Vyr. specialistė (jaunimo reikalų koordinatorė) | H26: SB | I26: 4 | J26: 4 | K26: Suorganizuotų mokymų, susitikimų, renginių, forumų skaičius | L26: 40 | M26: 46 | N26: Finansuota Kėdainių rajono mokinių savivaldos plėtros programa, programos priemonėse dalyvavo 2 919asmenys (tiesioginiu ir nuotoliniu būdu).
A27: 04 | B27: 01 | C27: 03 | D27: Finansuoti Atvirųjų jaunimo erdvių veiklos projektus | E27: 1 | F27: Atvirųjų jaunimo erdvių veiklos projektų konkurso organizavimas | G27: Vyr. specialistė (jaunimo reikalų koordinatorė) | H27: SB | I27: 10 | J27: 9.3 | K27: Finansuotų projektų skaičius | L27: 5 | M27: 5 | N27: Konkurso būdu finansuoti 5 projektai, kurių veiklose dalyvavo 231 jaunuoliai
A28: 04 | B28: 01 | C28: 04 | D28: Plėtoti jaunimo savanorystę Kėdainių rajone ir skatinti jaunimą užsiimti savanoriška veikla | E28: 1 | F28: Jaunimo savarankiškos veiklos plėtros konkurso organizavimas | G28: Vyr. specialistė (jaunimo reikalų koordinatorė) | H28: SB | I28: 2 | J28: 2 | K28: Finansuotų projektų skaičius | L28: 1 | M28: 1 | N28: Koordinuotas savanoriškos tarnybos įgyvendinimas savivaldybėje
A29: 04 | B29: 01 | C29: Iš viso uždaviniui | I29: =SUM(I25:I28) -> 24 | J29: =SUM(J25:J28) -> 23.3
A30: 04 | B30: Iš viso tikslui | I30: =+I29 -> 24 | J30: =+J29 -> 23.3
A31: 05 | B31: Skatinti nevyriausybinių organizacijų veiklą, didinti jų įtrauktį
A32: 05 | B32: 01 | C32: Skatinti nevyriausybinių ir bendruomeninių organizacijų plėtrą Kėdainių rajone
A33: 05 | B33: 01 | C33: 01 | D33: Užtikrinti rajono nevyriausybinių organizacijų (įskaitant bendruomenines organizacijas) plėtrą, finansuojant projektus socialinio, pilietinio, kultūros paveldo pažinimo, etninės kultūros puoselėjimo, užimtumo bei verslumo srityse | E33: 1 | F33: Nevyriausybinių organizacijų veiklos projektų konkurso organizavimas | G33: Vyr. specialistė (nevyriausybinių organizacijų koordinatorė) | H33: SB | I33: 22 | J33: 21.3 | K33: Finansuotų projektų skaičius | L33: 14 | M33: 14 | N33: Konkurso būdu finansuota 14 projektų, skirtų vietos bendruomenės aktyvinimui ir telkimui, bendruomeniškumo bei pilietiškumo ugdymui, savanoriškos veiklos plėtojimui ir pan.
A34: 05 | B34: 01 | C34: 02 | D34: Sudaryti sąlygas bendruomeninių organizacijų veiklai | E34: 1 | F34: Rajono bendruomeninių organizacijų veiklos projektų konkurso organizavimas | G34: Vyr. specialistė (nevyriausybinių organizacijų koordinatorė) | H34: SB | I34: 10 | J34: 10 | K34: Finansuotų bendruomeninių organizacijų skaičius | L34: 23 | M34: 19 | N34: Lėšos skirtos bendruomeninių organizacijų patalpų ir turto draudimo, komunalinių paslaugų ir kitų išlaidų iš dalies finansavimui.
A35: 05 | B35: 01 | C35: 03 | D35: Finansuoti Kėdainių rajono vietos veiklos grupės teritorijos vietos plėtros 2015-2023 m. strategijos įgyvendinimą | E35: 1 | F35: Sutarčių su strategijos vykdytoju ir projektų vykdytojais sudarymas | G35: Vyr. specialistė (nevyriausybinių organizacijų koordinatorė) | H35: SB | I35: 57.5 | J35: 57.5 | K35: Finansuotų projektų skaičius | L35: 18 | M35: 14 | N35: Dalinai finansuoti nevyriausybinių ir bendruomeninių organizacijų vietos projektai. Su vietos projektų vykdytojais pasirašyta 14 Savivaldybės biudžeto lėšų naudojimo sutarčių: 8 projektų vykdymas 2021 m. užbaigtas, 6 projektų įgyvendinimas tęsis 2022 m.
A36: 05 | B36: 01 | C36: 04 | D36: Finansuoti Kėdainių miesto vietos veiklos grupės 2016–2022 m. vietos plėtros strategijos įgyvendinimą | E36: 1 | F36: Sutarčių su strategijos vykdytoju ir projektų vykdytojais sudarymas | G36: Vyr. specialistė (nevyriausybinių organizacijų koordinatorė) | H36: SB | I36: 29.3 | J36: 28.9 | K36: Finansuotų projektų skaičius | L36: 21 | M36: 19 | N36: Dalinai finansuoti nevyriausybinių ir bendruomeninių organizacijų vietos projektai. Su projektų vykdytojais pasirašyta 19 Savivaldybės biudžeto lėšų naudojimo sutarčių
A37: 05 | B37: 01 | C37: 05 | D37: Remti bendruomenių veiklą savivaldybėje | E37: 1 | F37: Nevyriausybinių organizacijų ir bendruomeninės veiklos koordinavimas | G37: Vyr. specialistė (nevyriausybinių organizacijų koordinatorė) | H37: VB | I37: 33 | J37: 33 | K37: Įgyvendinta projektų veiklų proc. | L37: 100 | M37: 100 | N37: Įgyvendinta 10 projektų, kurių veiklose dalyvavo apie 940 vietos bendruomenių narių (gyventojų)
A38: 05 | B38: 01 | I38: =SUM(I33:I37) -> 151.8 | J38: =SUM(J33:J37) -> 150.7
A39: 05 | I39: =+I38 -> 151.8 | J39: =+J38 -> 150.7
A40: 06 | B40: Atnaujinti ir plėsti kultūros įstaigų viešąją infrastruktūrą, pritaikyti ją kultūriniams ir bendruomeniniams poreikiams
A41: 06 | B41: 01 | C41: Gerinti kultūros paskirties viešąją infrastruktūrą, modernizuoti materialinę ir edukacinę aplinką
A42: 06 | B42: 01 | C42: 01 | D42: Rekonstruoti Kėdainių kultūros centrą | E42: 1 | F42: Rangos darbų koordinavimas, rangovo prisiimtų sutartinių įsipareigojimų vykdymo kontrolė | G42: Statybos ir turto skyrius | H42: SBVB | I42: 957 | J42: 957 | K42: Įgyvendinta einamaisiais metais numatomų atlikti projekto veiklų proc. | L42: 100 | M42: 100 | N42: Vykdyti kultūros centro rekonstrukcijos darbai
H43: SB
A44: 06 | B44: 01 | C44: 02 | D44: Aktualizuoti Kėdainių krašto muziejų, padidinant kultūros paveldo aktualumą, lankomumą ir žinomumą (įskaitant ekspozicijų atnaujinimą) | E44: 1 | F44: Projekto koordinavimas, rangos darbų koordinavimas, rangovo prisiimtų sutartinių įsipareigojimų vykdymo kontrolė | G44: Strateginio planavimo ir investicijų skyrius, Statybos ir turto skyrius | H44: SB | I44: 52 | J44: 14.6 | K44: Tvarkomų objektų skaičius | L44: 1 | M44: 1 | N44: Parengta techninio projekto "B" laida, metų pabaigoje vykdytos rangos viešojo pirkimo procedūros
H45: ES | I45: 150 | J45: 0
A46: 06 | B46: 01 | C46: 03 | D46: Atnaujinti Krakių miestelio kultūros centrą, pritaikant jį kaimo bendruomenės poreikiams | E46: 1 | F46: Patirtų išlaidų 2020 m. kompensavimas paramos lėšomis | G46: Apskaitos skyrius | H46: VB | I46: 3.9 | J46: 3.9 | K46: Atnaujintų viešosios paskirties pastatų skaičius | L46: 1 | M46: 1 | N46: Fiziškai projekto veiklos įgyvendintos 2020 m., savivaldybei pervestos lėšos už apmokėtus darbus (kompensavimo būdu)
H47: ES | I47: 21 | J47: 20.8
A48: 06 | B48: 01 | C48: 05 | D48: Atnaujinti Truskavos kultūros centrą, pritaikant jį kaimo bendruomenės poreikiams bei kultūrinei veiklai | E48: 1 | F48: Projekto koordinavimas, techninės dokumentacijos viešojo pirkimo organizavimas, paslaugų tiekėjo prisiimtų sutartinių įsipareigojimų vykdymo kontrolė | G48: Strateginio planavimo ir investicijų skyrius, Statybos ir turto skyrius | H48: SB | I48: 314.9 | J48: 189.7 | K48: Atnaujinamų viešosios paskirties pastatų skaičius | L48: 1 | M48: 1 | N48: Vykdyti kultūros centro rekonstrukcijos darbai
H49: VB | I49: 30 | J49: 24.6
H50: ES | I50: 171 | J50: 139.6
A51: 06 | B51: 01 | C51: 07 | D51: Atnaujinti Kėdainių rajono Krakių seniūnijos Ažytėnų kaimo visuomenės paskirties pastatą, pritaikant jį kaimo bendruomenės poreikiams bei kultūrinei veiklai | E51: 1 | F51: Projekto koordinavimas, rangos darbų koordinavimas, rangovo prisiimtų sutartinių įsipareigojimų vykdymo kontrolė | G51: Strateginio planavimo ir investicijų skyrius, Statybos ir turto skyrius | H51: SB | K51: Atnaujintų viešosios paskirties pastatų skaičius | L51: 1 | M51: 1
H52: VB
H53: ES
A54: 06 | B54: 01 | C54: 09 | D54: Remontuoti Akademijos kultūros centrą | E54: 1 | F54: Techninės dokumentacijos paslaugos rengimo viešojo pirkimo organizavimas, paslaugų teikėjo prisiimtų sutartinių įsipareigojimų kontrolė | G54: Statybos ir turto skyrius | H54: SB | I54: 5 | J54: 4.8 | K54: Parengtos techninės dokumentacijos skaičius | L54: 1 | M54: 1 | N54: Parengtas Akademijos kultūros centro langų keitimo projektas
A55: 06 | B55: 01 | C55: 10 | D55: Įsigyti Kėdainių kultūros centro Labūnavos skyriaus pastatą | E55: 1 | F55: Proceso organizavimas | G55: Statybos ir turto skyrius | H55: SB | I55: 35 | J55: 35 | K55: Įsigytų objektų skaičius | L55: 1 | M55: 1 | N55: Įsigytas Kėdainių kultūros centro Labūnavos skyriaus pastatas (iš viso už 70 tūkst. Eur)
A56: 06 | B56: 01 | C56: Iš viso uždaviniui | I56: =SUM(I42:I55) -> 1739.8 | J56: =SUM(J42:J55) -> 1390
A57: 06 | B57: Iš viso tikslui | I57: =+I56 -> 1739.8 | J57: =+J56 -> 1390
A58: Iš viso programai | I58: =+I57+I39+I30+I22 -> 2145.3 | J58: =+J57+J39+J30+J22 -> 1776.5
A59: iš jų: | I59: =+I58-I60-I67 -> 0 | J59: =+J58-J60-J67 -> 0
A60: SAVIVALDYBĖS LĖŠOS | I60: =SUM(I61:I66) -> 1736.4 | J60: =SUM(J61:J66) -> 1554.6
A61: Savivaldybės biudžetas SB | I61: =+I55+I54+I51+I48+I44+I36+I35+I34+I33+I28+I27+I26+I25+I20+I17+I15+I14+I13+I12+I16 -> 779.4 | J61: =+J55+J54+J51+J48+J44+J36+J35+J34+J33+J28+J27+J26+J25+J20+J17+J15+J14+J13+J12+J16 -> 597.6
A62: Valstybės biudžeto specialiosios tikslinės dotacijos lėšos SBVB | I62: =+I42 -> 957 | J62: =+J42 -> 957
A63: Aplinkos apsaugos rėmimo specialiosios programos lėšos AA
A64: Iš pajamų už suteiktas paslaugas lėšos ĮP
A65: Skolintos lėšos SK
A66: Kelių priežiūros ir plėtros programos lėšos KPP
A67: KITOS LĖŠOS | I67: =SUM(I68:I71) -> 408.9 | J67: =SUM(J68:J71) -> 221.9
A68: Europos Sąjungos lėšos, užsienio fondų lėšos ES | I68: =+I53+I50+I47+I45 -> 342 | J68: =+J53+J50+J47+J45 -> 160.4
A69: Valstybės biudžeto lėšos VB | I69: =+I52+I49+I46+I37 -> 66.9 | J69: =+J52+J49+J46+J37 -> 61.5
A70: Privačios – investuotojų lėšos PR
A71: Kiti finansavimo šaltiniai KT

Sheet 06turizm_paveld
H1: PATVIRTINTA Kėdainių rajono savivaldybės administracijos direktoriaus 2021 m. kovo 12 d. įsakymu Nr.AD-1-277 (Kėdainių rajono savivaldybės administracijos direktoriaus 2021 m. gruodžio d. įsakymo Nr.AD-1- redakcija)
A4: Programos tikslo kodas | B4: Uždavinio kodas | C4: Priemonės kodas | D4: Priemonės pavadinimas | E4: Veiklos/darbo/ veiksmo kodas | F4: Veiklos/darbo/ veiksmo pavadinimas | G4: Atsakingi vykdytojai | H4: Finansavimo šaltinis | I4: Numatomi 2021-ųjų m. asignavimai, tūkst. Eur | J4: Panaudoti 2021-ųjų m. asignavimai, tūkst. Eur | K4: Proceso/indėlio vertinimo kriterijai
K5: Pavadinimas | L5: Planuota reikšmė | M5: Pasiekta reikšmė | N5: Nukrypimų nuo plano priežastys, pastabos, komentarai
A9: 06 KULTŪROS PAVELDO IŠSAUGOJIMAS, TURIZMO SKATINIMAS IR VYSTYMAS
A10: 01 | B10: Skatinti vietinį bei atvykstamąjį turizmą, plėtoti turizmo rinkodarą
A11: 01 | B11: 01 | C11: Užtikrinti efektyvią VšĮ Kėdainių turizmo ir verslo informacijos centro veiklą turizmo srityje
A12: 01 | B12: 01 | C12: 01 | D12: Finansuoti VšĮ Kėdainių turizmo ir verslo informacijos centro turizmo veiklos programą: | E12: 1 | F12: Priemonės įgyvendinimo koordinavimas | G12: Administracijos direktorius | H12: SB | I12: 46 | J12: 46 | K12: Kėdainių rajono savivaldybėje apsilankiusių turistų skaičius per metus (tūkst. asmenų/ per metus) (vertinami Kėdainių TVIC apsilankę turistai) | L12: 8 | M12: 8 | N12: 2021 m. Kėdainių TVIC sulaukė 6,5 proc. daugiau lankytojų nei 2020 m. (iš viso 8 007 lankytojai). Dėl besitęsiančios pandemijos ir ribojimų užsieniečių buvo 688 lankytojai, tai sudarė 8,6 proc.
D13: turizmo maršrutų, individualių ekskursijų programų rengimas | K13: Atnaujintų/parengtų turizmo maršrutų skaičius | L13: 4 | M13: 4 | N13: 2021 m. išleista 3000 vnt. miesto/rajono žemėlapių LT ir EN, 9000 vnt. žemėlapių ,,Pėsčiomis po senamiestį LT ir EN, 1000 vnt. "Žemėlapiai šeimai", 1000 vnt. leidinukų "Isos slėnis: kelias", 200 vnt. kalendorių. l
D14: kartografinių-informacinių turistinių leidinių leidyba
D15: turizmo informacijos apie gamtos, architektūros, istorijos, kultūros paveldo objektus, lankytinas vietas, maitinimo, apgyvendinimo, kaimo turizmo sodybas, amatus teikimas, kaupimas, sisteminimas ir atnaujinimas | K15: Turizmo statistikos duomenų apskaita ir analizė, val. | L15: 160 | M15: 160 | N15: Kėdainių TVIC vykdė lankytojų, kaimo turizmo, apgyvendinimo įmonių, muziejų duomenų apskaitą ir analizę
D16: dalyvavimas turizmo parodose, mugėse, šventėse | K16: Parodų, mugių, kuriuose dalyvauta, skaičius | L16: 2 | M16: 2 | N16: Kėdainių TVIC dalyvavo Jūros šventės ir "Sostinės dienų" turizmo gatvėse. Dalyvavimas miestų švenčių turizmo gatvėse itin pasiteisina, nes pasiekia tikslingą ir plačią tikslinę auditoriją
D17: turizmo informacijos sklaida socialiniuose tinkluose, spaudoje | K17: Informacijos skaida, val. | L17: 500 | M17: 730 | N17: Informacija populiarinanti Kėdainių kraštą, talpinamos socialiniame tin+L13:N17kle „Facebook“ lietuvių ir anglų kalbomis (,,Kėdainių turizmo ir verslo informacijos centras“, ,,Kėdainių senamiestis“, ,,Kėdainiai tourism and business“): pateikiama aktuali informacija apie renginius, lankytinus objektus ir paslaugas. Skelbiami įrašai Kėdainių TVIC Instagram ir Twitter paskyrose. Taip pat apie TVIC veiklą ir naujienas skelbiama Kėdainių rajono spaudai bei televizijai. Organizuoti įvairūs konkursai
A18: 01 | B18: 01 | C18: Iš viso uždaviniui | I18: =SUM(I12:I17) -> 46 | J18: =SUM(J12:J17) -> 46
A19: 01 | B19: Iš viso tikslui | I19: =+I18 -> 46 | J19: =+J18 -> 46
A20: 02 | B20: Pritaikyti viešąją infrastruktūrą visuomenės turizmo ir rekreacijos poreikiams, įveiklinti kultūros ir gamtos paveldą
A21: 02 | B21: 01 | C21: Išsaugoti istorinį bei kultūros paveldą, didinti jo patrauklumą ir žinomumą
A22: 01 | B22: 02 | C22: 01 | D22: Vykdyti informacijos apie Kėdainių rajono savivaldybės gamtos, kultūros paveldo objektus sklaidą | H22: SB | I22: 0 | J22: 0 | K22: Išleistų skirtingos tematikos leidinių skaičius
A23: 01 | B23: 02 | C23: 02 | D23: Parengti Nekilnojamųjų kultūros vertybių vertinimo medžiagą ir pristatyti nekilnojamojo kultūros paveldo vertinimo tarybai | E23: 1 | F23: Nekilnojamųjų kultūros vertybių vertinimo medžiagos parengimo organizavimas ir koordinavimas (viešųjų pirkimų organizavimas ir koordinavimas) | G23: Architektūros ir urbanistikos skyrius | H23: SB | I23: 3 | J23: 0 | K23: Skaičius objektų, esančių Kultūros vertybių registre, kuriems bus tikslinami duomenys ir skaičius objektų, kurie planuojami įrašyti į Kultūros vertybių registrą | L23: 3 | M23: 0 | N23: Per 2021 m. parengta 67 kultūros paveldo objektų būklės patikrinimo aktai su fotofiksaciją ir 25 kultūros paveldo objektų būklės patikrinimo aktai rajono gyventojams dėl sandorių. Skatinant efektyvesnį ir greitesnį dokumentacijos paruošimą, sukurtos ir Kėdainių rajono savivaldybės tinklalapyje kultūros paveldo skiltyje paskelbtos Kultūros paveldo objektų būklės patikrinimo aktų (vykdomiems sandorių metu) prašymo formos. Atliktas kultūros paveldo objektų stebėsenos sisteminimas ir archyvo kūrimas
A24: 01 | B24: 02 | C24: 03 | D24: Rengti nekilnojamųjų kultūros paveldo objektų, vietovių individualius apsaugos reglamentus | E24: 1 | F24: Individualių apsaugos reglamentų nekilnojamiesiems kultūros objektams, vietovėms rengimas | G24: Architektūros ir urbanistikos skyrius | H24: SB | I24: 3 | J24: 0 | K24: Objektų skaičius, kuriems parengti individualūs apsaugos reglamentai | L24: 3 | M24: 0
A25: 01 | B25: 02 | C25: 04 | D25: Dalyvauti nekilnojamojo kultūros paveldo pažinimo sklaidos ir atgaivinimo programoje | H25: SB | K25: Įgyvendintų programos priemonių skaičius | L25: 1 | M25: 1
H26: VB
A27: 01 | B27: 02 | C27: 05 | D27: Vystyti piligriminį/religinį turizmą | E27: 1 | F27: Programos įgyvendinimo koordinavimas | G27: Architektūros ir urbanistikos skyrius | H27: SB | I27: 10 | J27: 10 | K27: Įgyvendinamų programų/priemonių/renginių skaičius | L27: 3 | M27: 3 | N27: Įrengti du informaciniai stendai kuriuose pateikiamos Kėdainių miesto bei rajono lankytinos vietos, pavaizduotas piligrimų kelias trąsa - Camino Lituano, organizuoti susitikimai su Raseinių savivaldybe
A28: 02 | B28: 01 | C28: 06 | D28: Įgyvendinti Kėdainių rajono savivaldybės bažnyčių rėmimo programą | E28: 1 | F28: Programos įgyvendinimo koordinavimas | G28: Architektūros ir urbanistikos skyrius | H28: SB | I28: 20 | J28: 20 | K28: Finansiškai paremtų bažnyčių skaičius | L28: 4 | M28: 4 | N28: Lėšos skirtos Kėdainių Šv. Juozapo bažnyčios šoninių altorių restauracijos projektui parengti (Altorių fotogrametriniams matavimams atlikti), Josvainių Visų Šventųjų bažnyčios bokštų stogo dangos ir bokšto sutvarkymo darbams, Šėtos Švenčiausiosios trejybės bažnyčios elektrotechnikos darbams, Kėdainių Šv. Jurgio bažnyčios vargonų restauracijai
A29: 02 | B29: 01 | C29: 07 | D29: Įgyvendinti priemones, skirtas kovų už Lietuvos Nepriklausomybę vietoms ir paminklams įamžinti | E29: 1 | F29: Priemonių įgyvendinimo koordinavimas | G29: Architektūros ir urbanistikos skyrius | H29: SB | I29: 20 | J29: 9.9 | K29: Įgyvendintų programos priemonių skaičius | L29: 2 | M29: 1 | N29: Atlikti teritorijos, 1919 m. vykusių pirmųjų nepriklausomybės kovų (Vilainių sen., prie Koliupės upelio), prieigų sukūrimo ir įrengimo (numatant memorialinio paminklo vietą) tvarkymo darbai. Taip pat įvykdytas memorialinio paminklo, skirto Kovoms už Lietuvos nepriklausomybę „Atminties skveras“, suformuotos kalvelės pagal esamą teritorijoje šabloną, memorialo dalies elemento prekės pirkimas
A30: 02 | B30: 01 | C30: 08 | D30: Kompleksiškai sutvarkyti Kėdainių Sinagogą (Smilgos g. 5A, Kėdainiai), pritaikant kultūrinėms bei kitoms reikmėms | E30: 1 | F30: Projekto koordinavimas, rangos darbų koordinavimas, rangovo prisiimtų sutartinių įsipareigojimų vykdymo kontrolė | G30: Strateginio planavimo ir investicijų skyrius, Statybos ir turto skyrius | H30: SB | I30: 76.7 | J30: 76.7 | K30: Įgyvendinta einamaisiais metais planuotų projekto veiklų proc. | L30: 100 | M30: 100 | N30: Atlikti baigiamieji vidaus erdvių restauravimo darbai, įsigyti baldai
H31: ES | I31: 25.5 | J31: 0
A32: 02 | B32: 01 | C32: 09 | D32: Modernizuoti Kėdainių krašto muziejaus Daugiakultūrio centrą | E32: 1 | F32: Projekto vykdymo kontrolė | G32: Administracijos direktorius | H32: SB | I32: 86 | J32: 72.9 | K32: Modernizuojamų objektų skaičius | L32: 1 | M32: 1 | N32: Pradėti Kėdainių krašto muziejaus Daugiakultūrio centro modernizavimo darbai
A33: 02 | B33: 01 | C33: 13 | D33: Parengti projektus ir remontuoti koplytėles, koplytstulpius, skulptūras, kapinaites ir kapus | E33: 1 | F33: Koplytstulpio tvarkybos darbų viešojo pirkimo organizavimas, rangovo prisiimtų sutartinių įsipareigojimų vykdymo kontrolė | G33: Architektūros ir urbanistikos skyrius | H33: SB | I33: 17.2 | J33: 0 | K33: Parengtos tvarkybos dokumentacijos skaičius / Suremontuotų objektų skaičius | L33: 1/1 | M33: 1/0 | N33: Parengtas koplytstulpio (kvr. u.k. 1412) Kėdainių r. Šėtos sen., Pašėtės k. tvarkomųjų paveldosaugos darbų projektas ir įvykdytas viešasis pirkimas
A34: 02 | B34: 01 | C34: 15 | D34: Atlikti Paberžės klebonijos ir svirno restauravimo ir remonto darbus | E34: 1 | F34: Priemonės koordinavimas | G34: Architektūros ir urbanistikos skyrius | H34: SB | I34: 1.4 | J34: 1.4 | K34: Restauruojamų objektų skaičius | L34: 1 | M34: 1 | N34: Pasirašytos sutartys ir papildomi susitarimai su Kultūros infrastruktūros centru dėl Paberžės dvaro ir Švč. Mergelės Marijos Apsilankymo bažnyčios statinių komplekso svirno (u.k. 31163) ir klebonijos (u.k. 10959) tyrimų ir tvarkybos darbų finansavimo
A35: 02 | B35: 01 | C35: 16 | D35: Įrengti valstybinės reikšmės kelių nuorodas į savivaldybės kultūros paveldo objektus | E35: 1 | F35: Informacinių lentelių prie karių palaidojimo vietų įrengimo koordinavimas | G35: Architektūros ir urbanistikos skyrius | H35: SB | I35: 3 | J35: 0 | K35: Įrengtų informacinių ženklinimo infrastruktūros objektų skaičius | L35: 5 | M35: 6 | N35: Pasirašyta paslaugų sutartis ir pradėti 6 vnt. informacinių kelio ženklų Nr.628 - krypties rodyklių į lankytinas vietas gamybos ir įrengimo darbai
A36: 02 | B36: 01 | C36: 17 | D36: Atlikti archeologinius ir kitus tyrinėjimus kultūros paveldo teritorijose | E36: 1 | F36: Pagal poreikį | G36: Architektūros ir urbanistikos skyrius | H36: SB | I36: 5 | J36: 5 | K36: Einamaisiais metais numatomų atlikti tyrinėjimų | L36: 1 | M36: 2 | N36: Archeologiniai tyrimai atlikti Daugiakultūrio centro prieigose, taip pat organizuotas Skongalio aplinkoje aptiktų palaikų radiokarbono tyrimų atlikimas
A37: 02 | B37: 01 | C37: 18 | D37: Atlikti paveldo objektams parengtų tvarkybos projektų ekspertizę, parengti sąmatas | E37: 1 | F37: Pagal poreikį | G37: Architektūros ir urbanistikos skyrius | H37: SB | I37: 1.5 | J37: 0.9 | K37: Ekspertuotų projektų skaičius | L37: 2 | M37: 2 | N37: Vykdoma pagal poreikį. Parengta Dotnuvos dvaro sodybos ir Akademijos statinių komplekso bendrabučio - kultūros rūmų (kvr. u.k. 30231) paprastojo remonto (langų keitimo) projekto bei Kėdainių krašto muziejaus kapitalinio remonto projekto B laidos paveldosaugos specialiosios ekspertizės
A38: 02 | B38: 01 | C38: 21 | D38: Atlikti kultūros paveldo objektų ar objektų, esančių kultūros paveldo teritorijų prieigose tvarkybos darbus seniūnijose | E38: 1 | F38: Pagal poreikį | G38: Architektūros ir urbanistikos skyrius | H38: SB | I38: 10 | J38: 10 | K38: Tvarkomų objektų skaičius | L38: 1 | M38: 1 | N38: Atlikti Žydų žudynių vietos ir kapo Daukšių k. (u. K. KVR 10949) tvarkomieji paveldosaugos darbai
A40: 02 | B40: 01 | C40: 22 | D40: Vykdyti Rezistentų paminklinio akmens ir teritorijos apimančios masinę kapavietę sutvarkymo darbus (Skongalio g.) | E40: 1 | F40: Priemonės įgyvendinimo koordinavimas | G40: Architektūros ir urbanistikos skyrius | H40: SB | I40: 5 | J40: 5 | K40: Vizualizacijos parengimas | L40: 1 | M40: 1 | N40: Parengtas Rezistentų paminklinio akmens prieigų (Skongalio g. gale) ir dviračio tako nuo rezistentų paminklinio akmens iki senojo Kėdainių miesto uosto Nevėžio dešiniajame krante rekonstrukcijos techninis darbo projektas
A41: 02 | B41: 01 | C41: Iš viso uždaviniui | I41: =SUM(I22:I40) -> 287.3 | J41: =SUM(J22:J40) -> 211.8
A42: 02 | B42: 02 | C42: Plėtoti, atnaujinti viešąją infrastruktūrą, atsižvelgiant į turizmo plėtros ir rekreacijos poreikius
A43: 02 | B43: 02 | C43: 01 | D43: Kompleksiškai sutvarkyti ir pritaikyti bendruomenei ir verslui Kėdainių miesto viešąsias erdves (Kėdainių miesto, Vytauto parko, universalaus daugiafunkcio aikštyno, lauko teniso kortų prieigas) | E43: 1 | F43: Projekto koordinavimas, viešųjų pirkimų organizavimas, rangos darbų koordinavimas, rangovo prisiimtų sutartinių įsipareigojimų vykdymo kontrolė | G43: Strateginio planavimo ir investicijų skyrius, Statybos ir turto skyrius | H43: SB | I43: 31.4 | J43: 15.1 | K43: Atnaujintų/sukurtų miesto viešųjų erdvių skaičius ir tūkst. m2 | L43: 1 / 464 | M43: 1 / 464 | N43: Atlikti baigiamieji Miesto parko bei Universalaus daugiafunkcio aikštyno kompleksiško sutvarkymo darbai
H44: ES | I44: 125.1 | J44: 0
H45: VB | I45: 14.8 | J45: 0.7
A46: 02 | B46: 02 | C46: 02 | D46: Įrengti dviračių takus dešiniuoju Nevėžio upės krantu ties Tilto, Č. Milošo gatvėmis Kėdainių mieste | H46: SB | K46: Įgyvendintų darnaus judumo priemonių skaičius | L46: 3 | M46: 3
H47: VB
A48: 02 | B48: 02 | C48: 03 | D48: Įrengti pėsčiųjų ir dviračių takus Pramonės g. Kėdainių mieste | E48: 1 | F48: Projekto koordinavimas, viešųjų pirkimų organizavimas, rangos darbų koordinavimas, rangovo prisiimtų sutartinių įsipareigojimų vykdymo kontrolė | G48: Strateginio planavimo ir investicijų skyrius, Statybos ir turto skyrius | H48: SB | I48: 18.6 | J48: -5.9 | K48: Įrengtų/atnaujintų dviračių/pėsčiųjų takų, km | L48: 1 | M48: 1 | N48: Fiziškai veiklos įgyvendintos 2020 m. - įrengtas pėsčiųjų dviračių takas Pramonės g. (nuo Kauno g. iki Vakarų – Cukraus g.). 2021 m. padengtos kompensavimo būdu apmokėtos išlaidos
H49: ES | I49: 53.8 | J49: 19
A50: 02 | B50: 02 | C50: 04 | D50: Įgyvendinti projektą „Jonavos, Kėdainių ir Raseinių rajonų savivaldybes jungiančių trasų ir turizmo maršrutų informacinės infrastruktūros plėtra“ | E50: 1 | F50: Projekto koordinavimas, rangovo prisiimtų sutartinių įsipareigojimų vykdymo kontrolė | G50: Strateginio planavimo ir investicijų skyrius | H50: SB | I50: 8.3 | J50: 2.2 | K50: Atnaujintos/įrengtos ženklinimo infrastruktūros objektų skaičius Kėdainių mieste ir rajone | L50: 1 | M50: 1 | N50: Kėdainių ir Jonavos rajonuose pastatyta po 1 interaktyvų informacinį stendą
H51: ES | I51: 58.4 | J51: 25.4
A52: 02 | B52: 02 | C52: 05 | D52: Vykdyti WiFi prieigų tinklo plėtrą miesto ir rajono viešosiose erdvėse | E52: 1 | F52: Projekto koordinavimas, rangovo prisiimtų sutartinių įsipareigojimų vykdymo kontrolė | G52: Strateginio planavimo ir investicijų skyrius, Bendrasis skyrius | H52: SB | I52: 10 | J52: 0 | K52: Naujai įrengtų WiFi prieigos taškų skaičius | L52: 7 | M52: 9 | N52: Įvykdytas viešasis pirkimas ir pasirašyta sutartis dėl Wifi įrangos ir prieigos tinklo plėtros viešosiose vietose (Kėdainių ligoninės ir Kėdainių PSPC prieigos). Lėšos perkeltos į 2022 m.
A53: 02 | B53: 02 | C53: 06 | D53: Parengti Akademijos parko tvarkybos ir techninius projektus ir atlikti darbus | E53: 1 | F53: Techninės dokumentacijos rengimo viešųjų pirkimų organizavimas, paslaugų teikėjo prisiimtų sutartinių įsipareigojimų vykdymo kontrolė | G53: Architektūros ir urbanistikos skyrius, Statybos ir turto skyrius | H53: SB | I53: 5 | J53: 0 | K53: Parengta techninė dokumentacija / Atlikta einamaisiais metais numatytų darbų, proc. | L53: 1/0 | M53: 1/0 | N53: Vykdyta techninės dokumentacijos parengimo viešojo pirkimo procedūros, lėšos numatytos 2022 m.
A54: 02 | B54: 02 | C54: 07 | D54: Atlikti „Vaivorykštės“ tilto remonto darbus | E54: 1 | F54: Rangovo prisiimtų sutartinių įsipareigojimų vykdymo kontrolė | G54: Statybos ir turto skyrius | H54: SB | I54: 0 | J54: 0 | K54: Parengta techninė dokumentacija / Atlikta einamaisiais metais numatytų darbų, proc. | L54: 1/100 | M54: 1/100 | N54: Atlikti remonto darbai
H55: KPP | I55: 19.8 | J55: 19.8
A56: 02 | B56: 02 | C56: 09 | D56: Plėsti dviračių takų infrastruktūrą mieste ir rajone | E56: 1 | F56: Projektavimo, rangos darbų viešųjų pirkimų organizavimas, rangovų prisiimtų sutartinių įsipareigojimų vykdymo kontrolė | G56: Architektūros ir urbanistikos skyrius, Statybos ir turto skyrius | H56: SB | I56: 166 | J56: 166 | K56: Projektuojamų/Įrengiamų dviračių takų, km | L56: ~1,9/ 0,5 | M56: ~1,9/ ~0,5 | N56: Įrengtas pėsčiųjų dviračių takas nuo Skongalio g. iki Vaivorykštės tilto (~0,5 km), pradėti pėsčiųjų dviračių takų atkarpų J.Basanavičiaus - Josvainių g. (80 m.) bei nuo "Vaivorykštės" tilto iki J.Basanavičiaus g. (~1,8 km) projektavimo darbai
H57: KPP | I57: 11 | J57: 3.7
H58: ES | I58: 0 | J58: 0
A59: 02 | B59: 02 | C59: 10 | D59: Įrengti elektromobilių įkrovimo prieigas Kėdainių mieste | E59: 1 | F59: Rangos darbų viešojo pirkimo organizavimas, rangovo prisiimtų sutartinių įsipareigojimų vykdymo kontrolė | G59: Architektūros ir urbanistikos skyrius, Statybos ir turto skyrius | H59: SB | I59: 45 | J59: 42 | K59: Įrengtų prieigų skaičius | L59: 3 | M59: 3 | N59: Įrengtos 3 elektromobilių pakrovimo vietos - prie autobusų stoties, prie geležinkelio stoties bei Mindaugo gatvėje.
A60: 02 | B60: 02 | C60: Iš viso uždaviniui | I60: =SUM(I43:I59) -> 567.2 | J60: =SUM(J43:J59) -> 288
A61: 11 | B61: Iš viso tikslui | I61: =+I60+I41 -> 854.5 | J61: =+J60+J41 -> 499.8
A62: Iš viso programai | I62: =+I61+I19 -> 900.5 | J62: =+J61+J19 -> 545.8
A63: iš jų: | I63: =+I62-I64-I71 -> 0 | J63: =+J62-J64-J71 -> 0
A64: SAVIVALDYBĖS LĖŠOS | I64: =SUM(I65:I70) -> 622.9 | J64: =SUM(J65:J70) -> 500.7
A65: Savivaldybės biudžetas SB | I65: =+I59+I56+I53+I52+I50+I48+I43+I40+I38+I37+I36+I35+I34+I33+I32+I30+I29+I28+I27+I24+I23+I12 -> 592.1 | J65: =+J59+J56+J53+J52+J50+J48+J43+J40+J38+J37+J36+J35+J34+J33+J32+J30+J29+J28+J27+J24+J23+J12 -> 477.2
A66: Valstybės biudžeto specialiosios tikslinės dotacijos lėšos SBVB
A67: Aplinkos apsaugos rėmimo specialiosios programos lėšos AA
A68: Iš pajamų už suteiktas paslaugas lėšos ĮP
A69: Skolintos lėšos SK
A70: Kelių priežiūros ir plėtros programos lėšos KPP | I70: =+I55+I57 -> 30.8 | J70: =+J55+J57 -> 23.5
A71: KITOS LĖŠOS | I71: =SUM(I72:I75) -> 277.6 | J71: =SUM(J72:J75) -> 45.1
A72: Europos Sąjungos lėšos, užsienio fondų lėšos ES | I72: =+I51+I49+I44+I31+I58 -> 262.8 | J72: =+J51+J49+J44+J31+J58 -> 44.4
A73: Valstybės biudžeto lėšos VB | I73: =+I45+I26+I47 -> 14.8 | J73: =+J45+J26+J47 -> 0.7
A74: Privačios – investuotojų lėšos PR
A75: Kiti finansavimo šaltiniai KT

Sheet 07Infrastr.
A4: Programos tikslo kodas | B4: Uždavinio kodas | C4: Priemonės kodas | D4: Priemonės pavadinimas | E4: Veiklos/darbo/ veiksmo kodas | F4: Veiklos/darbo/ veiksmo pavadinimas | G4: Atsakingi vykdytojai | H4: Finansavimo šaltinis | I4: Numatomi 2021-ųjų m. asignavimai, tūkst. Eur | J4: Panaudoti 2021-ųjų m. asignavimai, tūkst. Eur | K4: Proceso/indėlio vertinimo kriterijai
K5: Pavadinimas | L5: Planuota reikšmė | M5: Pasiekta reikšmė | N5: Nukrypimų nuo plano priežastys, pastabos, komentarai
A9: 07 INFRASTRUKTŪROS OBJEKTŲ PRIEŽIŪRA IR PLĖTRA
A10: 01 tikslas. Kurti ir pritaikyti viešąją infrastruktūrą su darnia aplinka šiuolaikiniams poreikiams
A11: 01 uždavinys. Rengti ir (arba) atnaujinti Kėdainių rajono savivaldybės teritorijų planavimo ir kitus dokumentus, sudarant sąlyga infrastruktūros plėtrai
A12: 01 | B12: 01 | C12: 01 | D12: Rengti specialiuosius, detaliuosius, geodezinius planus bei topografines nuotraukas | E12: 1 | F12: Specialiųjų, detaliųjų, geodezinių planų rengimo viešųjų pirkimų organizavimas, teikiamų paslaugų koordinavimas, paslaugų teikėjo prisiimtų sutartinių įsipareigojimų vykdymo kontrolė | G12: Architektūros ir urbanistikos skyrius | H12: SB | I12: 85 | J12: 44.5 | K12: Parengtų specialiųjų, detaliųjų, geodezinių planų skaičius | L12: 50 | M12: 61 | N12: Vykdytos funkcijos Teritorijų planavimo ir žemėtvarkos srityje
A13: 01 | B13: 01 | C13: 02 | D13: Atnaujinti Kėdainių rajono teritorijos bendrąjį planą | E13: 1 | F13: Teikiamų plano rengimo paslaugų koordinavimas, paslaugų teikėjo prisiimtų sutartinių įsipareigojimų vykdymo kontrolė | G13: Architektūros ir urbanistikos skyrius | H13: SB | I13: 5 | J13: 4.9 | K13: Atnaujintų rajono teritorijos bendrųjų planų skaičius | L13: 1 | M13: 1 | N13: Baigtas rengti ir rajono taryboje patvirtintas Kėdainių rajono savivaldybės teritorijos bendrojo plano keitimas
A14: 01 | B14: 01 | C14: 03 | D14: Atnaujinti Kėdainių miesto teritorijos bendrąjį planą | E14: 1 | F14: Teikiamų plano rengimo paslaugų koordinavimas, paslaugų teikėjo prisiimtų sutartinių įsipareigojimų vykdymo kontrolė | G14: Architektūros ir urbanistikos skyrius | H14: SB | I14: 4.2 | J14: 4.2 | K14: Atnaujintų rajono teritorijos bendrųjų planų skaičius | L14: 1 | M14: 1 | N14: Baigtas rengti ir rajono taryboje patvirtintas Kėdainių miesto bendrojo plano keitimas
A15: 01 | B15: 01 | C15: 04 | D15: Atlikti turto inventorizavimą, teisinę registraciją, parengti dokumentus turto privatizavimui | E15: 1 | F15: Savivaldybei nuosavybės teise priklausančio turto dokumentų rengimas, sisteminimas ir teikimas kadastriniams matavimams ir teisinei registracijai atlikti | G15: Statybos ir turto skyrius | H15: SB | I15: 26 | J15: 21.7 | K15: Inventorizuotų nekilnojamojo turto objektų skaičius | L15: 50 | M15: 112 | N15: Vykdytos Savivaldybei nuosavybės teise priklausančio turto dokumentų rengimo, sisteminimo ir teikimo kadastriniams matavimams ir teisinei registracijai, organizuotas Savivaldybei nuosavybės teise priklausančio numatyto parduoti turto vertinimas, vykdytos Savivaldybės nuosavybės teise priklausančio turto pardavimo procedūros
E16: 2 | F16: Savivaldybei nuosavybės teise priklausančio numatyto parduoti turto vertinimo organizavimas
E17: 3 | F17: Savivaldybės nuosavybės teise priklausančio turto pardavimo procedūrų vykdymas
A18: 01 | B18: 01 | C18: 05 | D18: Rengti infrastruktūros objektų tvarkymo investicinius projektus, paraiškas, kitą techninę dokumentaciją Europos Sąjungos fondų paramai gauti | E18: 1 | F18: Projektinių pasiūlymų, paraiškų ir kitos dokumentacijos parengimo organizavimas ir kontrolė | G18: Strateginio planavimo ir investicijų skyrius | H18: SB | I18: 25 | J18: 22.1 | K18: Parengtų projektinių pasiūlymų, paraiškų, techninių dokumentacijų skaičius | L18: 6 | M18: 10 | N18: 2021 m. pateikti 2 projektiniai pasiūlymai, parengtos 3 projektų paraiškos, 3 investiciniai projektai, 2 techniniai projektai, pasirašytos 2 projektų finansavimo sutartys, rengta kita techninė dokumentacija
A19: 01 | B19: 01 | C19: 06 | D19: Parengti Kėdainių rajono atsinaujinančių energijos išteklių plėtros planą | E19: 1 | F19: Plano rengimo viešųjų pirkimų organizavimas, dokumento rengimo koordinavimas, teikėjo prisiimtų sutartinių įsipareigojimų vykdymo kontrolė | G19: Architektūros ir urbanistikos skyrius | H19: SB | I19: 0 | J19: 0 | K19: Parengtų planų skaičius | L19: 1 | M19: 1
A20: 01 | B20: 01 | C20: Iš viso 01 uždaviniui | I20: =SUM(I12:I19) -> 145.2 | J20: =SUM(J12:J19) -> 97.4
H21: Iš viso SB | I21: =+I19+I18+I15+I14+I13+I12 -> 145.2 | J21: =+J19+J18+J15+J14+J13+J12 -> 97.4
A23: 02 uždavinys. Užtikrinti inžinerinio aprūpinimo (vandentiekio, nuotekų tinklų ir kt.) sistemų atnaujinimą ir plėtrą
A24: 01 | B24: 02 | C24: 01 | D24: Įrengti, rekonstruoti, išplėsti vandentiekio ir/ar nuotekų tinklus Kėdainių mieste (Algirdo g., Parakinės g., Rūtų g., Pievų g., Šviesos g. ) | E24: 1 | F24: Rangos darbų koordinavimas, rangovo prisiimtų sutartinių įsipareigojimų vykdymo kontrolė | G24: Statybos ir turto skyrius | H24: SB | I24: 132.5 | J24: 132.4 | K24: Paklota vandentiekio ir nuotekų tinklų, m | L24: ~807 | M24: ~807 | N24: Pakloti vandentiekio ir nuotekų tinklai Algirdo g., Parakinės g., Rūtų g., projektuojami vandentiekio ir nuotekų tinklai Algirdo g. ir Parakinės g. pravažiavimuose
A25: 01 | B25: 02 | C25: 02 | D25: Rekonstruoti ir plėsti vandentiekio ir buitinių nuotekų infrastruktūrą Šėtos miestelyje, Kunionių kaime bei Kėdainių mieste | E25: 1 | F25: Priemonės įgyvendinimo koordinavimas | G25: Administracijos direktorius | H25: SB | I25: 80 | J25: 22.5 | K25: Rekonstruotų/naujai paklotų vandentiekio ir nuotekų tinklų, km (einamaisiais metais/nuo projekto pradžios) | L25: ~0,6 / 32 | M25: 0,6/ 32,8 | N25: Vykdyti baigiamieji vandentiekio ir buitinių nuotekų infrastruktūros rekonstrukcijos ir plėtros darbai Šėtos mstl. ir Kunionių k.. Vykdyta tinklų inventorizacija
A26: 01 | B26: 02 | C26: 03 | D26: Rekonstruoti ir plėsti Kėdainių miesto paviršinių nuotekų tinklus | E26: 1 | F26: Priemonės įgyvendinimo koordinavimas | G26: Administracijos direktorius | H26: SB | I26: 138 | J26: 83.9 | K26: Paklota/rekonstruota paviršinių nuotekų tinklų, km (einamaisiais metais/nuo projekto pradžios) | L26: ~2,5/19 | M26: 2,53/ 19,9 | N26: Baigti paviršinių nuotekų tinklų plėtra mieste darbai, vykdytas miesto paviršinių nuotėkio tinklo inventorizavimas, skaitmenizavimas ir teisinis registravimas
A27: 01 | B27: 02 | C27: 04 | D27: Rekonstruoti Kėdainių miesto nuotekų valyklą | E27: 1 | F27: Priemonės įgyvendinimo koordinavimas | G27: Administracijos direktorius | H27: SB | I27: 246 | J27: 218.1 | K27: Rekonstruojamų objektų skaičius | L27: 1 | M27: 1 | N27: Tęsti miesto nuotekų valyklos rekonstrukcijos darbai
A28: 01 | B28: 02 | C28: 05 | D28: Rekonstruoti Akademijos nuotekų valyklą | E28: 1 | F28: Priemonės įgyvendinimo koordinavimas | G28: Administracijos direktorius | H28: SB | I28: 82.5 | J28: 82.5 | K28: Rekonstruojamų objektų skaičius | L28: 1 | M28: 1 | N28: Pradėti Akademijos nuotekų valyklos rekonstrukcijos darbai
A29: 01 | B29: 02 | C29: 06 | D29: Išplėsti buitinių nuotekų tinklus Labūnavos gyvenvietėje, Nevėžio g, ir Vainikų g. | E29: 1 | F29: Projektavimo viešojo pirkimo organizavimas, paslaugų teikėjo prisiimtų sutartinių įsipareigojimų vykdymo kontrolė | G29: Statybos ir turto skyrius | H29: SB | I29: 7.6 | J29: 0 | K29: Parengtos techninės dokumentacijos skaičius | L29: 1 | M29: 0 | N29: Parengtas techninis projektas, pateiktas ekspertizei. Apmokėjimas 2022 m.
A30: 01 | B30: 02 | C30: 08 | D30: Įrengti ir išplėsti vandentiekio ir buitinių nuotekų tinklus Surviliškio kaime | E30: 1 | F30: Projektavimo viešojo pirkimo organizavimas, paslaugų teikėjo prisiimtų sutartinių įsipareigojimų vykdymo kontrolė | G30: Statybos ir turto skyrius | H30: SB | I30: 4 | J30: 0 | K30: Parengtos techninės dokumentacijos skaičius | L30: 1 | M30: 0 | N30: Parengtas techninis projektas, pateiktas ekspertizei. Apmokėjimas 2022 m.
A31: 01 | B31: 02 | C31: 13 | D31: Remontuoti objektus pagal administracijos direktoriaus įsakymus | E31: 1 | F31: Priemonės įgyvendinimo koordinavimas | G31: Administracijos direktorius | H31: SB | I31: 30 | J31: 25.2 | K31: Remontuotų objektų skaičius | L31: 15 | M31: 7 | N31: Lėšos skirtos 7 objektų remontui
A32: 01 | B32: 02 | C32: 14 | D32: Likviduoti avarinius židinius | E32: 1 | F32: Priemonės įgyvendinimo koordinavimas | G32: Administracijos direktorius | H32: SB | I32: 40 | J32: 35.1 | K32: Objektų skaičius, kuriuose likviduoti avariniai židiniai | L32: 10 | M32: 16 | N32: Lėšos skirtos 16 objektų remontui
A33: 01 | B33: 02 | C33: 17 | D33: Plėsti vandentiekio ir buitinių nuotekų tinklus Kalnaberžės kaime | E33: 1 | F33: Priemonės įgyvendinimo koordinavimas | G33: Administracijos direktorius | H33: SB | I33: 87 | J33: 86.8 | K33: Paklota vandentiekio ir/ ar nuotekų tinklų, m | L33: ~455 | M33: ~455 | N33: Darbai atlikti 2020 m. (pakloti tinklai Vyšnių g.). 2021 m. grąžinamas savivaldybės dalis UAB "Kėdainių vandenys"
A34: 01 | B34: 02 | C34: 27 | D34: Įrengti biologinius ar individualius nuotekų valymo įrenginius | E34: 1 | F34: Priemonės įgyvendinimo koordinavimas | G34: Administracijos direktorius | H34: SB | I34: 15 | J34: 12 | K34: Įsigytų įrenginių skaičius | L34: 1 | M34: 1 | N34: Įrengta vietinė buitinių nuotekų valykla Vikaičių k. Serbentynės g.
A35: 01 | B35: 02 | C35: 28 | D35: Parengti buitinių nuotekų tinklų išplėtimo Pavermenio kaime techninį projektą ir atlikti darbus | E35: 1 | F35: Projektavimo viešojo pirkimo organizavimas, paslaugų teikėjo prisiimtų sutartinių įsipareigojimų vykdymo kontrolė | G35: Statybos ir turto skyrius | H35: SB | I35: 172 | J35: 159.7 | K35: Įrengta nuotekų tinklų, m | L35: ~1678 | M35: ~1678 | N35: Vykdyti buitinių nuotekų tinklų išplėtimo darbai
A36: 01 | B36: 02 | C36: 29 | D36: Parengti vandentiekio ir nuotekų tinklų įrengimo Langakių k. projektą | E36: 1 | F36: Projektavimo viešojo pirkimo organizavimas, paslaugų teikėjo prisiimtų sutartinių įsipareigojimų vykdymo kontrolė | G36: Statybos ir turto skyrius | H36: SB | I36: 15 | J36: 0 | K36: Parengtos techninės dokumentacijos skaičius | L36: 1 | M36: 0 | N36: Parengtas techninis projektas, pateiktas ekspertizei. Apmokėjimas 2022 m.
A37: 01 | B37: 02 | C37: Iš viso 02 uždaviniui | I37: =SUM(I24:I36) -> 1049.6 | J37: =SUM(J24:J36) -> 858.2
H38: Iš viso SB | I38: =+I36+I35+I34+I33+I32+I31+I28+I27+I26+I25+I24+I30+I29 -> 1049.6 | J38: =+J36+J35+J34+J33+J32+J31+J28+J27+J26+J25+J24+J30+J29 -> 858.2
H39: Iš viso ES
H40: Iš viso PR
H41: Iš viso SK
H42: Iš viso AA
H43: Iš viso VB
A44: 03 uždavinys. Atnaujinti ir (arba) plėsti miesto ir rajono gatvių, kelių, viešųjų teritorijų apšvietimą, naudojant energiją taupančias priemones
A45: 01 | B45: 03 | C45: 01 | D45: Rekonstruoti/įrengti/modernizuoti Kėdainių miesto gatvių apšvietimą | E45: 1 | F45: Viešųjų pirkimų organizavimas, rangos darbų vykdymo koordinavimas, rangovo prisiimtų sutartinių įsipareigojimų vykdymo kontrolė | G45: Statybos ir turto skyrius | H45: SB | I45: 5 | J45: 4.7 | K45: Pakeistų atramų/šviestuvų skaičius | L45: 3/3 | M45: 3/3 | N45: Įrengti apšvietimo tinklai miesto Šilo g.
A46: 01 | B46: 03 | C46: 02 | D46: Įgyvendinti projektą "Kėdainių gatvių apšvietimo modernizavimas" | E46: 1 | F46: Projekto koordinavimas, viešųjų pirkimų organizavimas, rangos darbų koordinavimas, rangovo prisiimtų sutartinių įsipareigojimų vykdymo kontrolė | G46: Strateginio planavimo ir investicijų skyrius, Statybos ir turto skyrius | H46: SB | I46: 11 | J46: 5.7 | K46: Parengtos techninės dokumentacijos skaičius | L46: 1 | M46: 1 | N46: Parengta apšvietimo modernizavimo techninė dokumentacija, pradėtos rangos darbų viešojo pirkimo procedūros
H47: ES | I47: 11 | J47: 5.7
A48: 01 | B48: 03 | C48: 03 | D48: Rekonstruoti/įrengti/modernizuoti Kėdainių rajono gatvių apšvietimą | E48: 1 | F48: Viešųjų pirkimų organizavimas, rangos darbų vykdymo koordinavimas, rangovo prisiimtų sutartinių įsipareigojimų vykdymo kontrolė | G48: Statybos ir turto skyrius | H48: SB | I48: 24.2 | J48: 20 | K48: Pakeistų atramų/šviestuvų skaičius | L48: 15/15 | M48: 15/15 | N48: Darbai vykdyti Langakių k., Akademijos mstl. Kaštonų g., Pamėklių k.
D49: Iš viso 03 uždaviniui | I49: =SUM(I45:I48) -> 51.2 | J49: =SUM(J45:J48) -> 36.1
H50: Iš viso SB | I50: =+I45+I46+I48 -> 40.2 | J50: =+J45+J46+J48 -> 30.4
H51: Iš viso ES | I51: =+I47 -> 11 | J51: =+J47 -> 5.7
H52: Iš viso VB
H53: Iš viso PR
A54: 04 uždavinys. Gerinti rajono susisiekimo infrastruktūrą, užtikrinant gyventojų darnų judumą bei mobilumą | P54: =+J55+#REF! -> #REF!
A55: 01 | B55: 04 | C55: 01 | D55: Tvarkyti ir plėtoti kaimiškųjų seniūnijų kelius ir gatves, atlikti kelių ir gatvių kokybės kontrolę, techninę priežiūrą, techninių projektų ekspertizę, eismo saugumo auditus | E55: 1 | F55: Rangos darbų viešųjų pirkimų organizavimas, rangos darbų koordinavimas, rangovo prisiimtų sutartinių įsipareigojimų vykdymo kontrolė, seniūnijų konsultavimas | G55: Statybos ir turto skyrius | H55: KPP | I55: 1315.8 | J55: 1273.5 | K55: Lėšų dalis, tenkanti rajono kaimiškųjų seniūnijų kelių ir gatvių tvarkymui, plėtojimui nuo bendros Kelių priežiūros ir plėtros programos lėšų, proc. | L55: ~60 | M55: ~55 | N55: Vykdyti kaimiškųjų seniūnijų kelių ir gatvių priežiūros, remonto bei rekonstrukcijos darbai | P55: =+(#REF!*100)/P54 -> #REF!
A56: 01 | B56: 04 | C56: 02 | D56: Atlikti vietinės reikšmės kelių ir gatvių inventorizaciją, kokybės kontrolę, diegti eismo saugumo priemones | E56: 1 | F56: Paslaugų viešųjų pirkimų organizavimas, vykdomų veiklų koordinavimas, rangovo prisiimtų sutartinių įsipareigojimų vykdymo kontrolė | G56: Statybos ir turto skyrius | H56: KPP | I56: 84 | J56: 83.5 | K56: Inventorizuotų gatvių skaičius | L56: 45 | M56: 59 | N56: Atlikta 57,3 km vietinės reikšmės kelių (gatvių) inventorizacija
A57: 01 | B57: 04 | C57: 03 | D57: Rekonstruoti, tvarkyti ir vykdyti gatvių priežiūrą mieste, atlikti kelių ir gatvių kokybės kontrolę, techninę priežiūrą, techninių projektų ekspertizę, eismo saugumo auditus iš jų: | E57: 1 | F57: Rangos darbų viešųjų pirkimų organizavimas, rangos darbų koordinavimas, rangovo prisiimtų sutartinių įsipareigojimų vykdymo kontrolė, miesto seniūnijos konsultavimas | G57: Statybos ir turto skyrius | H57: KPP | I57: 891 | J57: 937.6 | K57: Lėšų dalis, tenkanti Miesto seniūnijos kelių ir gatvių tvarkymui, plėtojimui nuo bendros Kelių priežiūros ir plėtros programos lėšų, proc. | L57: ~40 | M57: ~45 | N57: Vykdyti miesto seniūnijos kelių ir gatvių priežiūros, remonto bei rekonstrukcijos darbai
H58: SB | I58: =+I68+I73 -> 241 | J58: =+J68+J73 -> 149.9
H59: ES | I59: =+I71 -> 344.7 | J59: =+J71 -> 137.1
H60: VB | I60: =+I69 -> 0 | J60: =+J69 -> 0
H61: SK | I61: =+I72 -> 631.2 | J61: =+J72 -> 631.2
A62: 01 | B62: 04 | C62: 03.01 | D62: Įrengti gatves Kėdainių miesto II Janušavoje (Janušavos g., Gluosnių g.) | E62: 1 | F62: Janušavos ir Gluosnių g. techninės dokumentacijos korektūros viešojo pirkimo organizavimas, paslaugų teikėjo prisiimtų sutartinių įsipareigojimų vykdymo kontrolė | H62: KPP | I62: 20 | J62: 0 | K62: Parengtos techninės dokumentacijos korektūros skaičius/Įrengiamos gatvės dalis, m | L62: 2/0 | M62: 2/0 | N62: Įvykdytos viešojo pirkimo procedūros Janušavos ir Gluosnių g. rekonstravimo techninių projektų parengimui, rengta techninė dokumentacija
A63: 01 | B63: 04 | C63: 03.02 | D63: Įrengti Šviesos ir Pievų gatves individualių gyvenamųjų namų Babėnų II kvartale | H63: KPP | I63: 0 | K63: Įrengiamos gatvės dalis, m
A64: 01 | B64: 04 | C64: 03.03. | D64: Parengti Babėnų kvartalo gatvių įrengimo projektus ir įrengti gatves (II etapas) (Pergalės g., Žilvičių g., Draugystės g., Saulėlydžio g., Alksnių g., Daumantų g., Karklų g., Vyšnių sk., Jubiliejaus ir Kosmonautų g. akligatviai) | E64: 1 | F64: Žilvičių g. rangos darbų koordinavimas, rangovo prisiimtų sutartinių įsipareigojimų vykdymo kontrolė | G64: Statybos ir turto skyrius | H64: KPP | I64: 97 | J64: 96.9 | K64: Įrengiamos gatvės dalis, m | L64: ~258 | M64: ~258 | N64: Vykdyti Žilvičių g. rekonstrukcijos darbai
E65: 2 | F65: Draugystės g. rangos darbų koordinavimas, rangovo prisiimtų sutartinių įsipareigojimų vykdymo kontrolė | H65: KPP | I65: 132.9 | J65: 132.7 | K65: Įrengiamos gatvės dalis, m | L65: ~312 | M65: ~312 | N65: Vykdyti Draugystės g. rekonstrukcijos darbai
E66: 3 | F66: Saulėlydžio g. rangos darbų viešųjų pirkimų organizavimas, rangos darbų koordinavimas, rangovo prisiimtų sutartinių įsipareigojimų vykdymo kontrolė | H66: KPP | I66: 98 | J66: 98 | K66: Įrengiamos gatvės dalis, m | L66: ~1100 | M66: ~1100 | N66: Baigta Saulėlydžio g. rekonstrukcija
A67: 01 | B67: 04 | C67: 03.04 | D67: Rekonstruoti miesto gatvių šaligatvius (Lakštingalų g., Sporto takas, Rasos g., Aušros g.,Liaudies g., S.Dariaus ir Girėno g., Liepų al, ) | E67: 1 | F67: Rasos g. su šaligatviais rangos darbų koordinavimas, rangovo prisiimtų sutartinių įsipareigojimų vykdymo kontrolė | G67: Statybos ir turto skyrius | H67: KPP | I67: 26.3 | J67: 26.3 | K67: Suprojektuotų /rekonstruojamų šaligatvių dalis, m | L67: ~320 | M67: ~320 | N67: Baigti Rasos g. šaligatvių rekonstrukcijos darbai
A68: 01 | B68: 04 | C68: 03.05 | D68: Rekonstruoti šaligatvius, įgyvendinant projektą "Kėdainių miesto J.Basanavičiaus, Birutės, Dotnuvos ir Šėtos gatvių rekonstrukcija" | E68: 1 | F68: Projekto koordinavimas, viešųjų pirkimų organizavimas, paslaugų teikėjo prisiimtų sutartinių įsipareigojimų vykdymo kontrolė | G68: Strateginio planavimo ir investicijų skyrius, Statybos ir turto skyrius | H68: SB | I68: 51 | J68: 41.5 | K68: Dokumentacijos dėl darnaus judumo priemonių įdiegimo parengimas | L68: 3 | M68: 3 | N68: Parengta Šėtos g. pėsčiųjų - dviračių tako rekonstrukcijos techninis projektas (~522 m.) , keleivių laukimo paviljonų įrengimo Kėdainių miesto gatvėse statybos projektas bei J.Basanavičiaus g. laiptų rekonstrukcijos projektas
H69: VB
H70: ES | I70: 0
A71: 01 | B71: 04 | C71: 03.06 | D71: Įgyvendinti projektą "Kėdainių miesto A. Kanapinsko, P. Lukšio, Mindaugo, Pavasario ir Žemaitės gatvių rekonstrukcija" | E71: 1 | F71: Projekto koordinavimas, viešųjų pirkimų organizavimas, rangos darbų koordinavimas, rangovo prisiimtų sutartinių įsipareigojimų vykdymo kontrolė | G71: Strateginio planavimo ir investicijų skyrius, Statybos ir turto skyrius | H71: ES | I71: 344.7 | J71: 137.1 | K71: Rekonstruojamų gatvių ir šaligatvių dalis, m | L71: ~1197 | M71: ~1197 | N71: Užbaigti Mindaugo g. šaligatvių bei Žemaitės g. rekonstrukcijos darbai
H72: SK | I72: 631.2 | J72: 631.2
H73: SB | I73: 190 | J73: 108.4
A74: 01 | B74: 04 | C74: 03.07 | D74: Darnaus judumo priemonių diegimas Kėdainių miesto Kauno gatvėje | H74: SB | K74: Įgyvendintas darnaus judumo priemonių skaičius | L74: 1 | M74: 1
H75: ES
A76: 01 | B76: 04 | C76: 03.08 | D76: Įrengti Topolių gatvę individualių gyvenamųjų namų Janušavos II kvartale | H76: KPP | K76: Parengtos techninės dokumentacijos skaičius/ įrengtos gatvės dalis, m
A77: 01 | B77: 04 | C77: 03.09 | D77: Įrengti gatves Vakariniame kvartale | H77: KPP | K77: Parengtos techninės dokumentacijos skaičius/ įrengtos gatvės dalis, m
A78: 01 | B78: 04 | C78: 03.10 | D78: Parengti projektus ir rekonstruoti/ remontuoti, Vasaros sk., Janonio g., V, Svirskio g., Kruopinių g., Elevatoriaus g. (nuo pervažos ties įmonėmis), Liepų al. gatves) | E78: 1 | F78: Janonio g. rekonstrukcijos viešojo pirkimo organizavimas, rangos darbų koordinavimas, rangovo prisiimtų sutartinių įsipareigojimų vykdymo kontrolė | G78: Statybos ir turto skyrius | H78: KPP | I78: 80.3 | K78: Parengtos techninės dokumentacijos skaičius / įrengiamos (rekonstruojamos) gatvės dalis, m | L78: ~328 | M78: ~328 | N78: Pradėti Janonio g. rekonstrukcijos darbai (I etapas)
A79: 01 | B79: 04 | C79: 03.11 | D79: Rekonstruoti J.Biliūno g. | E79: 1 | F79: Viešųjų pirkimų organizavimas, rangos darbų koordinavimas, rangovo prisiimtų sutartinių įsipareigojimų vykdymo kontrolė | G79: Statybos ir turto skyrius | H79: KPP | I79: 340.5 | J79: 394.3 | K79: Rekonstruojamos gatvės dalis, m | L79: ~944 | M79: ~944 | N79: Vykdyti gatvės rekonstravimo darbai
A80: 01 | B80: 04 | C80: 03.12 | D80: Atnaujinti asfaltbetonio dangą Daumantų k., Daukšių g. | E80: 1 | F80: Daukšių g. (~1080 m) projektavimo, rangos darbų viešojo pirkimo organizavimas, paslaugų teikėjo prisiimtų sutartinių įsipareigojimų vykdymo kontrolė | G80: Statybos ir turto skyrius | H80: KPP | I80: 8.8 | J80: 8.8 | K80: Projektuojamos atnaujinti dangos dalis, m | L80: 1080 | M80: 1080 | N80: Parengtas gatvės atnaujinimo techninis projektas
A81: 01 | B81: 04 | C81: 04 | D81: Remontuoti biudžetinių įstaigų kiemus | E81: 1 | F81: Viešųjų pirkimų organizavimas, rangos darbų koordinavimas, rangovo prisiimtų sutartinių įsipareigojimų vykdymo kontrolė | G81: Statybos ir turto skyrius | H81: SB | I81: 60 | J81: 54 | K81: Remontuotų biudžetinių įstaigų kiemų skaičius | L81: 8 | M81: 5 | N81: Vykdyti kiemų dangos remonto darbai Kėdainių J.Paukštelio progimnazijoje, mokykloje – darželyje „Obelėlė“, Akademijos gimnazijos Kaštono skyriuje, remontuotas universalaus daugiafunkcio aikštyno takas bei Surviliškio V.Svirskio pagrindinės mokyklos aikštelė
A82: 01 | B82: 04 | C82: 05 | D82: Finansuoti inžinerines paslaugas, darbus ir įrengimus | E82: 1 | F82: Organizuoti inžinerinių tinklų perkėlimo darbus tvarkant miesto bei rajono gatves | G82: Statybos ir turto skyrius | H82: SB | I82: 100.5 | J82: 95.5 | K82: Atlikta numatytų darbų, proc. | L82: 100 | M82: 100 | N82: Pagal poreikį lėšos skirtos darbams, kurie netinkami finansuoti KPPP lėšomis, rekonstruojant gatves, šaligatvius
A83: 01 | B83: 04 | C83: 06 | D83: Rekonstruoti Krakių mstl. Laisvės aikštę | H83: VB | K83: Rekonstruotų aikščių skaičius
H84: SB
A85: 01 | B85: 04 | C85: 07 | D85: Atlikti Kėdainių r. Šėtos mstl. Sodų g. kapitalinį remontą | E85: 1 | F85: Rangovo prisiimtų sutartinių įsipareigojimų vykdymo kontrolė | G85: Statybos ir turto skyrius | H85: SB | I85: 6.5 | J85: 6.5 | K85: Remontuotos gatvės dalis, m | L85: ~237 | M85: ~237 | N85: Atlikti Sodų g. kapitalinio remonto darbai
H86: VB | I86: 4.8 | J86: 4.2
H87: ES | I87: 27.3 | J87: 23.7
A88: 01 | B88: 04 | C88: 08 | D88: Atlikti Kėdainių r. Pelėdnagių k. Ateities g. kapitalinį remontą | E88: 1 | F88: Rangovo prisiimtų sutartinių įsipareigojimų vykdymo kontrolė | G88: Statybos ir turto skyrius | H88: SB | I88: 2.7 | J88: 2.2 | K88: Rekonstruotos gatvės dalis, m | L88: ~240 | M88: ~240 | N88: Atlikti Ateities g. kapitalinio remonto darbai
H89: VB | I89: 1.6 | J89: 1.4
H90: ES | I90: 9.2 | J90: 8.1
A91: 01 | B91: 04 | C91: 09 | D91: Atlikti Kėdainių r. Šlapaberžės k. Linksmosios g. ir Kalnaberžės k. Vyšnių g. kapitalinį remontą | E91: 1 | F91: Rangovo prisiimtų sutartinių įsipareigojimų vykdymo kontrolė | G91: Statybos ir turto skyrius | H91: SB | I91: 20 | J91: 18.3 | K91: Remontuotų gatvių dalis, m | L91: ~440 | M91: ~440 | N91: Atlikti Linksmosios g. ir Vyšnių g. g. kapitalinio remonto darbai
H92: VB | I92: 11 | J92: 10.3
H93: ES | I93: 62 | J93: 58.4
A94: 01 | B94: 04 | C94: 10 | D94: Parengti Kėdainių miesto Radvilų g. atnaujinimo projektą | H94: SB | I94: 0 | K94: Parengtos techninės dokumentacijos skaičius
A95: 01 | B95: 04 | C95: 11 | D95: Naujai nutiesti gatvės dalį Kėdainių mieste (T.Bružaitės g.) | E95: 1 | F95: Projekto koordinavimas, , rangovo prisiimtų sutartinių įsipareigojimų vykdymo kontrolė | G95: Strateginio planavimo ir investicijų skyrius, Statybos ir turto skyrius | H95: ES | I95: 5.9 | J95: 5.8 | K95: ES dalies už atliktus darbus apmokėjimas, proc. | L95: 100 | M95: 100 | N95: Gatvės dalies įrengimo darbai atlikti 2020 m. Apmokėta ES dalis už atliktus darbus
D96: Iš viso 04 uždaviniui | I96: =+I97+I98+I99+I100+I101 -> 3819.2 | J96: =+J97+J98+J99+J100+J101 -> 3501.2
H97: Iš viso SB | I97: =+I91+I88+I85+I82+I81+I68+I73 -> 430.7 | J97: =+J91+J88+J85+J82+J81+J68+J73 -> 326.4
H98: Iš viso KPP | I98: =+I57+I56+I55 -> 2290.8 | J98: =+J57+J56+J55 -> 2294.6
H99: Iš viso ES | I99: =+I90+I87+I93+I71+I95 -> 449.1 | J99: =+J90+J87+J93+J71+J95 -> 233.1
H100: Iš viso VB | I100: =+I92+I89+I86 -> 17.4 | J100: =+J92+J89+J86 -> 15.9
H101: Iš viso SK | I101: =+I72 -> 631.2 | J101: =+J72 -> 631.2
A102: 05 uždavinys. Vystyti gyvenamąją aplinką, užtikrinant viešosios infrastruktūros priežiūrą, atnaujinimą ir tinkamą naudojimą
A103: 01 | B103: 05 | C103: 03 | D103: Remontuoti viešųjų ir biudžetinių įstaigų stogus | E103: 1 | F103: Viešųjų pirkimų organizavimas pagal poreikį), rangos darbų koordinavimas, rangovo prisiimtų sutartinių įsipareigojimų vykdymo kontrolė | G103: Statybos ir turto skyrius | H103: SB | I103: 30 | J103: 25.3 | K103: Pastatų, kurių stogai remontuoti, skaičius | L103: 7 | M103: 5 | N103: Remontuoti buvusios Aristavos mokyklos dalies, Akademijos kultūros centro, mokyklos darželio "Obelėlė", lopšelio - darželio "Puriena", Skongalio 23 A pastatų stogai
A104: 01 | B104: 05 | C104: 04 | D104: Kompleksiškai atnaujinti daugiabučių namų kvartalus (I etapas) | E104: 1 | F104: Projekto koordinavimas, rangos darbų koordinavimas, rangovo prisiimtų sutartinių įsipareigojimų vykdymo kontrolė | G104: Strateginio planavimo ir investicijų skyrius, Statybos ir turto skyrius | H104: SB | I104: 0 | J104: 0 | K104: Kompleksiškai atnaujintų kvartalų skaičius | L104: 1 | M104: 1 | N104: Baigtas įgyvendinti projektas, atlikti baigiamieji projekto darbai. Kompleksiškai atnaujintos Ramybės skvero ir Josvainių g. I kvartalų daugiabučių namų teritorijos, darbai vykdyti J.Basanavičiaus g. ("garadoko") kvartale
H105: SK | I105: 28.5 | J105: 28.5
H106: ES | I106: 165.3 | J106: 0.3
H107: VB | I107: 16.4 | J107: 0
...

Sheet 08aplinkosauga
A4: Programos tikslo kodas | B4: Uždavinio kodas | C4: Priemonės kodas | D4: Priemonės pavadinimas | E4: Veiklos/darbo/ veiksmo kodas | F4: Veiklos/darbo/ veiksmo pavadinimas | G4: Atsakingi vykdytojai | H4: Finansavimo šaltinis | I4: Numatomi 2021-ųjų m. asignavimai, tūkst. Eur | J4: Panaudoti 2021-ųjų m. asignavimai, tūkst. Eur | K4: Proceso/indėlio vertinimo kriterijai
K5: Pavadinimas | L5: Planuota reikšmė | M5: Pasiekta reikšmė | N5: Nukrypimų nuo plano priežastys, pastabos, komentarai
A9: 08 APLINKOS APSAUGA
A10: 01 | B10: Įgyvendinti Aplinkos apsaugos rėmimo specialiosios programos finansuojamas priemones
A11: 01 | B11: 01 | C11: Gerinti aplinkos kokybę ir apsaugą
A12: 01 | B12: 01 | C12: 01 | D12: Įgyvendinti aplinkos kokybės gerinimo ir apsaugos priemones | E12: 1 | F12: Sosnovskio barščio naikinimo rajono seniūnijose koordinavimas | G12: Žemės ūkio ir aplinkosaugos skyrius | H12: AA | I12: 62.9 | J12: 20 | K12: Įgyvendinamų priemonių skaičius | L12: 4 | M12: 4 | N12: Įgyvendintos 4 aplinkos kokybės gerinimo ir apsaugos priemonės
E13: 2 | F13: Kraujupio upelio papildymas minimaliam debetui Nevėžio upės vandeniu
E14: 3 | F14: Sosnovskio barščio naikinimas pagal gausos reguliavimo veiksmų planą | H14: SBVB | I14: 8.7 | J14: 8.7
E15: 4 | F15: Individualių nuotekų valymo įrenginių kompensavimas
A16: 01 | B16: 01 | C16: 02 | D16: Įgyvendinti aplinkos atkūrimo, prevencines priemones, tvarkant vandens telkinius, jų pakrantes, vykdyti atliekų tvarkymo infrastruktūros plėtros priemones | E16: 1 | F16: Gelbėjimo ir cheminių avarijų padarinių likvidavimo koordinavimas, jūrinių erelių perimviečių stebėjimo užtikrinimas | G16: Žemės ūkio ir aplinkosaugos skyrius | H16: AA | I16: 76.5 | J16: 68.1 | K16: Įgyvendintų priemonių skaičius | L16: 8 | M16: 8 | N16: Vykdytos aplinkos atkūrimo priemonės
E17: 2 | F17: Nevėžio upės pakrančių valymo darbų koordinavimas
E18: 3 | F18: Pernaravos mstl. prūdo išvalymo, pakrantės sutvarkymo, maudymvietės įrengimo vykdymo kontrolė
E19: 4 | F19: Tvenkinių ir upių valymo projektų parengimo viešųjų pirkimų organizavimas, tiekėjų prisiimtų sutartinių įsipareigojimų vykdymas
E20: 5 | F20: Dviračių takų projektavimo dokumentacijos rengimo viešųjų pirkimų organizavimas, paslaugų teikėjo prisiimtų sutartinių įsipareigojimų vykdymo kontrolė
A21: 01 | B21: 01 | C21: 03 | D21: Vykdyti aplinkos oro, paviršinio ir požeminio vandens, dirvožemio ir triukšmo stebėseną Kėdainių mieste ir rajone (įskaitant pramonės rajoną) | E21: 1 | F21: 2019–2024 m. aplinkos monitoringo programos įgyvendinimas | G21: Žemės ūkio ir aplinkosaugos skyrius | H21: AA | I21: 27.5 | J21: 21 | K21: Tiriamų parametrų skaičius | L21: 5 | M21: 5 | N21: Vykdyta Aplinkos monitoringo 2019-2024 m. programa, atlikti papildomi tyrimai, nustatant sunkiųjų metalų (švino) kiekį.
E22: 2 | F22: Aplinkos oro, dirvožemio, požeminio ir paviršinio vandens nuotekų tyrimai
E23: 3 | F23: Šerkšnės, Nevėžio, Obelies upių vandens tyrimai
A24: 01 | B24: 01 | C24: 04 | D24: Įgyvendinti želdynų ir želdinių apsaugos, tvarkymo, būklės stebėsenos, želdynų kūrimo, želdinių veisimo ir inventorizavimo priemones | E24: 1 | F24: Želdinių priežiūros, naujų želdinių įveisimo organizavimas | G24: Žemės ūkio ir aplinkosaugos skyrius | H24: AA | I24: 66 | J24: 48.9 | K24: Seniūnijų skaičius, kuriose įgyvendinamos želdynų ir želdinių apsaugos, tvarkymo, būklės stebėsenos, želdynų kūrimo, želdinių veisimo ir inventorizavimo priemones | L24: 11 | M24: 11 | N24: Seniūnijoms skirtos lėšos želdiniams įsigyti, želdynams prižiūrėti, pakabintos Kaštoninės keršakandės gaudyklės.
A25: 01 | B25: 01 | C25: Iš viso uždaviniui | I25: =SUM(I12:I24) -> 241.6 | J25: =SUM(J12:J24) -> 166.7
A26: 01 | B26: 02 | C26: Vykdyti žalos aplinkai prevenciją
A27: 01 | B27: 02 | C27: 01 | D27: Įgyvendinti prevencinės priemones, kuriomis siekiama išvengti medžiojamųjų gyvūnų daromos žalos miškui | E27: 1 | F27: Medžioklės klausimų koordinavimas, dalyvavimas finansinės paramos medžiojamųjų gyvūnų daromos žalos prevencijos priemonėms įgyvendinti komisijoje | G27: Žemės ūkio ir aplinkosaugos skyrius | H27: AA | I27: 60.1 | J27: 59.1 | K27: Finansuotos medžiojamų gyvūnų daromos žalos prevencijos ir kitos priemonės (paraiškų sk.) | L27: 4 | M27: 7 | N27: Lėšos skirtos želdiniams repelentais apdoroti, tvoroms įrengti pasėliams ir medeliams apsaugoti
A28: 01 | B28: 02 | C28: Iš viso uždaviniui | I28: =+I27 -> 60.1 | J28: =+J27 -> 59.1
A29: 01 | B29: 03 | C29: Skatinti aplinkos apsaugos iniciatyvas, vykdyti gyventojų aplinkosauginį švietimą
A30: 01 | B30: 03 | C30: 01 | D30: Įgyvendinti visuomenės aplinkosauginio švietimo priemones | E30: 1 | F30: Aplinkosauginio švietimo organizavimas | G30: Žemės ūkio ir aplinkosaugos skyrius | H30: AA | I30: 11 | J30: 8.2 | K30: Surengtų akcijų, viešinimo priemonių skaičius | L30: 7 | M30: 6 | N30: Organizuoti Europos judumo savaitės renginiai (suorganizuotos net 76 skirtingos veiklos, kurias įgyvendino 16 rajono įstaigų), 2 ugdymo įstaigoms sumokėtas gamtosauginių mokyklų programos dalyvio mokestis, pagaminta plakatų „Nedegink žolės“ Kėdainių rajono mokykloms, darželiams, švietimo ir savivaldybės įstaigoms, Suteiktos atliekų rūšiavimo ir aplinkosaugos kampanijos komunikacijos priemonių parengimo paslaugos, Sukurtas vaizdo klipas apie atliekų rūšiavimą ir aplinkosaugą
H31: SB | I31: 16 | J31: 0
A32: 01 | B32: 03 | C32: 02 | D32: Finansuoti konkursą "Gražiausiai tvarkoma aplinka" | E32: 1 | F32: Konkurso organizavimas, dalyvavimas vertinimo komisijos veikloje | G32: Žemės ūkio ir aplinkosaugos skyrius | H32: AA | I32: 0 | J32: 0 | K32: Išrinktų gražiausiai besitvarkančių aplinką savininkų skaičius | L32: 10 | M32: 10 | N32: Prenumeruoti leidiniai „Žaliasis pasaulis“, „Miškai“ ir „Lututė“
A33: 01 | B33: 03 | C33: 03 | D33: Įsigyti priemonių, susijusių su visuomenės informavimu ir ekologiniu švietimu, kitos išlaidos | E33: 1 | F33: Aplinkosauginių priemonių švietimo įstaigoms platinimas | G33: Žemės ūkio ir aplinkosaugos skyrius | H33: AA | I33: 3 | J33: 2.8 | K33: Prenumeruojamų leidinių skaičius | L33: 4 | M33: 4 | N33: Prenumeruoti leidiniai „Žaliasis pasaulis“, „Miškai“ ir „Lututė“, savaitraštis „Žaliasis pasaulis“ lopšeliams-darželiams, mokykloms-darželiams ir bibliotekoms, Atliktas Akademijos vandens telkinio įžuvinimas
A34: 01 | B34: 02 | C34: Iš viso uždaviniui | I34: =SUM(I30:I33) -> 30 | J34: =SUM(J30:J33) -> 11
A35: 01 | B35: Iš viso tikslui | I35: =+I34+I28+I25 -> 331.7 | J35: =+J34+J28+J25 -> 236.8
A36: 02 | B36: Tobulinti atliekų tvarkymo bei aplinkos išsaugojimo sistemą, gerinti kraštovaizdžio apsaugą
A37: 02 | B37: 01 | C37: Tinkamai tvarkyti komunalines atliekas, palaikyti tvarką ir švarą rajono bendrojo naudojimo teritorijose
A38: 02 | B38: 01 | C38: 01 | D38: Vykdyti atliekų tvarkymo sistemos organizavimo funkciją | E38: 1 | F38: Priemonės įgyvendinimo koordinavimas | G38: Bendrasis skyrius, Apskaitos skyrius | H38: SB | I38: 1610.8 | J38: 1610.8 | K38: Surinktų atliekų (bendras) kiekis, tūkst. t. | L38: 16.9 | M38: 16.7 | N38: Savivaldybės teritorijoje iš bendrojo naudojimo ir individualių konteinerių buvo surinka ir sutvarkyta 12,4 tūkst. t mišrių komunalinių atliekų ir 1,55 tūkst. antrinių žaliavų (iš bendrojo naudojimo konteinerių: stiklo pakuotės 385,58 t, popieriaus - 276,84 t, plastiko - 279,86 t; Iš individualiuose valdose esančių konteinerių 612,48 t), t.y. 488,8 t daugiau nei 2020 m. ir net 637,76 t daugiau nei 2019 m. Taip pat surinkta ir sutvarkyta apie 2,6 tūkst. t specifinių atliekų bei 133,24 t tekstilės atliekų . 2021 m. iš fizinių ir juridinių asmenų rinkliavos už komunalinių atliekų surinkimą ir tvarkymą paslaugas surinkta 1 623 594,29 Eur, t. y. 7,8 proc. daugiau nei 2020 m.
A39: 02 | B39: 01 | C39: 02 | D39: Prižiūrėti ir tvarkyti bendro naudojimo teritorijas, ir įsigyti įrangą | E39: 1 | F39: Sąskaitų ir aktų priėmimas iš paslaugų teikėjų, suderinimas ir atsiskaitymas už paslaugas paslaugų teikėjui | G39: Bendrasis skyrius, Apskaitos skyrius | H39: SB | I39: 91 | J39: 91
A40: 02 | B40: 01 | C40: 03 | D40: Prižiūrėti ir tvarkyti viešąsias erdves, atnaujintas įgyvendinant ES projektus | E40: 1 | F40: Sąskaitų ir aktų priėmimas iš paslaugų teikėjų, suderinimas ir atsiskaitymas už paslaugas paslaugų teikėjui | G40: Bendrasis skyrius, Apskaitos skyrius | H40: SB | I40: 10 | J40: 0
A41: 02 | B41: 01 | C41: 04 | D41: Finansuoti žvyro įsigijimą seniūnijų keliams prižiūrėti | E41: 1 | F41: Priemonės įgyvendinimo koordinavimas | G41: Statybos ir turto skyrius, Biudžeto skyrius | H41: SB | I41: 100 | J41: 99.8 | K41: Prižiūrimų žvyrkelių ilgis, km | L41: ~20 | M41: ~25,8 | N41: 11 seniūnijų vykdyti žvyravimo darbai. Seniūnijos įsigijo apie 11,5 tūkst. t žvyro. Žvyruota apie 25,8 km kelių
A42: 02 | B42: 01 | C42: 05 | D42: Atnaujinti ir plėsti komunalinių atliekų tvarkymo infrastruktūrą Kėdainių rajono savivaldybėje | E42: 1 | F42: Projekto koordinavimas, rangovo/tiekėjo prisiimtų sutartinių įsipareigojimų vykdymo kontrolė | G42: Strateginio planavimo ir investicijų skyrius, Bendrasis skyrius, Statybos ir turto skyrius | H42: SB | I42: 47 | J42: 7.7 | K42: Įrengtų/atnaujintų požeminių, pusiau požeminių ir antžeminių konteinerių aikštelių skaičius | L42: 35 | M42: 0 | N42: Parengta techninė dokumentacija 35 antžeminių ir pusiau požeminių konteinerių aikštelių įrengimui. Dėl techninės dokumentacijos suderinimo su NŽT bei kitomis atsakingomis įstaigomis, užsitęsė projektavimo procedūros
H43: ES | I43: 350 | J43: 31.7
A44: 02 | B44: 01 | C44: Iš viso uždaviniui | I44: =SUM(I38:I43) -> 2208.8 | J44: =SUM(J38:J43) -> 1841
A45: 02 | B45: 02 | C45: Gerinti kraštovaizdžio apsaugą bei didinti jo patrauklumą
A46: 02 | B46: 02 | C46: 01 | D46: Likviduoti apleistus (bešeimininkius ar savivaldybei nuosavybės teise priklausančius) pastatus ir kitus aplinką žalojančius objektus | E46: 1 | F46: Projekto koordinavimas, viešųjų pirkimų organizavimas, rangovo prisiimtų sutartinių įsipareigojimų vykdymo kontrolė | G46: Strateginio planavimo ir investicijų skyrius, Architektūros ir urbanistikos skyrius | H46: SB | I46: 15 | J46: 7.9 | K46: Likviduotų apleistų bešeimininkių pastatų skaičius | L46: 8 | M46: 4 | N46: Likviduoti 3 pastatai Vilainių k. ir 1 pastatas Okainių k. Užsitęsus teisminėms procedūroms dėl kitų 4 objektų pripažinimo bešeimininkiais, griovimo darbai bus vykdomi 2022 m.
H47: ES | I47: 84 | J47: 44.8
A48: 02 | B48: 02 | C48: 02 | D48: Sutvarkyti atvirais kasiniais pažeistas žemes Kėdainių rajone | E48: 1 | F48: Projekto koordinavimas, viešųjų pirkimų organizavimas, rangovo prisiimtų sutartinių įsipareigojimų vykdymo kontrolė | G48: Strateginio planavimo ir investicijų skyrius, Žemės ūkio ir aplinkosaugos skyrius | H48: SB | I48: 13.3 | J48: 13.1 | K48: Rekultivuotų atvirais kasiniais pažeistų žemių skaičius | L48: 3 | M48: 3 | N48: Rekultivuotos atvirais kasiniais pažeistos teritorijos Bakainių k., Kampų k. ir Dovydiškių k.
H49: ES | I49: 73.8 | J49: 73.9
A50: 02 | B50: 02 | C50: 05 | D50: Konkurso būdu įsigyti beglobių gyvūnų surinkimo paslaugą | E50: 1 | F50: Priemonės konkurso organizavimas, sutarties su vykdytoju suderinimas, kontrolė | G50: Žemės ūkio ir aplinkosaugos skyrius | H50: SB | I50: 15 | J50: 10.8 | K50: Surinktų beglobių gyvūnų skaičius | L50: 150 | M50: 59 | N50: 2021 m. organizuotas 59 bešeimininkių ir bepriežiūrių gyvūnų gaudymas, karantinavimas, laikina globa
A51: 02 | B51: 02 | C51: 06 | D51: Organizuoti paslaugos pirkimą Gyvūnų globos organizacijų rengiamų bešeimininkių kačių kastravimo programų įgyvendinimui | E51: 1 | F51: Priemonės konkurso organizavimas, sutarties su vykdytoju suderinimas, kontrolė | G51: Žemės ūkio ir aplinkosaugos skyrius | H51: SB | I51: 3 | J51: 3.5 | K51: Kastruotų bešeimininkių kačių skaičius | L51: 110 | M51: 192 | N51: Iš viso sterilizuotos / kastruotos, paskiepytos nuo pasiutligės ir paženklintos išoriniu žymekliu 192 katės. Taip pat buvo išduoti 3 leidimai įvežti, įsigyti, laikyti, veisti, parduoti pavojingus šunis savivaldybės teritorijoje
A52: 02 | B52: 02 | C52: 07 | D52: Vykdyti gyvūnų augintinių gerovės ir apsaugos 2020-2023 m. prevencinę programą | E52: 1 | F52: Sutarčių su vykdytojais suderinimas, vykdymo kontrolė | G52: Žemės ūkio ir aplinkosaugos skyrius | H52: SB | I52: 2.4 | J52: 2.5 | K52: Bepriežiūrių ir bešeimininkių gyvūnų skaičiaus mažėjimas (lyginant su praėjusiais metais), proc. | L52: 10 | M52: 5 | N52: 2021 m. bepriežiūrių ir bešeimininkių gyvūnų skaičius sumažėjo 59 gyvūnais, iš kurių 27 šunys ir 23 katės (sugauta 57, paimta iš gyventojų – 2).
A53: 02 | B53: 02 | C53: 08 | D53: Įrengti vandens transporto priemonių nuleidimo vietą Angirių tvenkinyje | E53: 1 | F53: Projekto koordinavimas, viešųjų pirkimų organizavimas, rangovo prisiimtų sutartinių įsipareigojimų vykdymo kontrolė | G53: Žemės ūkio ir aplinkosaugos skyrius | H53: SB | I53: 11 | J53: 11 | K53: Įrengtų aplinkai draugiškų priemonių skaičius | L53: 1 | M53: 1 | N53: Atlikti vandens transporto priemonių nuleidimo vietos įrengimo Angirių tvenkinyje darbai, valstybės biudžeto apmokėjimas kompensavimo būdu bus 2022 m.
H54: SBVB | I54: 25 | J54: 0
A55: 02 | B55: 02 | C55: Iš viso uždaviniui | I55: =SUM(I46:I54) -> 242.5 | J55: =SUM(J46:J54) -> 167.5
A56: 02 | B56: Iš viso tikslui | I56: =+I55+I44 -> 2451.3 | J56: =+J55+J44 -> 2008.5
A57: Iš viso programai | I57: =+I56+I35 -> 2783 | J57: =+J56+J35 -> 2245.3
A58: iš jų: | I58: =+I57-I59-I66 -> 0 | J58: =+J57-J59-J66 -> 0
A59: SAVIVALDYBĖS LĖŠOS | I59: =SUM(I60:I65) -> 2275.2 | J59: =SUM(J60:J65) -> 2094.9
A60: Savivaldybės biudžetas SB | I60: =+I53+I52+I51+I50+I48+I46+I42+I41+I40+I39+I38+I31 -> 1934.5 | J60: =+J53+J52+J51+J50+J48+J46+J42+J41+J40+J39+J38+J31 -> 1858.1 | K60: =+J60+J62 -> 2086.2
A61: Valstybės biudžeto specialiosios tikslinės dotacijos lėšos SBVB | I61: =+I14+I54 -> 33.7 | J61: =+J14+J54 -> 8.7
A62: Aplinkos apsaugos rėmimo specialiosios programos lėšos AA | I62: =+I12+I16+I21+I24+I27+I30+I32+I33 -> 307 | J62: =+J12+J16+J21+J24+J27+J30+J32+J33 -> 228.1
A63: Iš pajamų už suteiktas paslaugas lėšos ĮP
A64: Skolintos lėšos SK
A65: Kelių priežiūros ir plėtros programos lėšos KPP
A66: KITOS LĖŠOS | I66: =SUM(I67:I70) -> 507.8 | J66: =SUM(J67:J70) -> 150.4
A67: Europos Sąjungos lėšos, užsienio fondų lėšos ES | I67: =+I49+I47+I43 -> 507.8 | J67: =+J49+J47+J43 -> 150.4
A68: Valstybės biudžeto lėšos VB
A69: Privačios – investuotojų lėšos PR
A70: Kiti finansavimo šaltiniai KT

Sheet 09ž.ū.
H1: PATVIRTINTA Kėdainių rajono savivaldybės administracijos direktoriaus 2021 m. kovo 12 d. įsakymu Nr.AD-1-277 (Kėdainių rajono savivaldybės administracijos direktoriaus 2021 m. rugsėjo d. įsakymo Nr.AD-1- redakcija)
A4: Programos tikslo kodas | B4: Uždavinio kodas | C4: Priemonės kodas | D4: Priemonės pavadinimas | E4: Veiklos/darbo/ veiksmo kodas | F4: Veiklos/darbo/ veiksmo pavadinimas | G4: Atsakingi vykdytojai | H4: Finansavimo šaltinis | I4: Numatomi 2021-ųjų m. asignavimai, tūkst. Eur | J4: Panaudoti 2021-ųjų m. asignavimai, tūkst. Eur | K4: Proceso/indėlio vertinimo kriterijai
K5: Pavadinimas | L5: Planuota reikšmė | M5: Pasiekta reikšmė | N5: Nukrypimų nuo plano priežastys, pastabos, komentarai
A9: 09 ŽEMĖS ŪKIO PLĖTRA IR MELIORACIJA
A10: 01 | B10: Įgyvendinti Savivaldybės teritorijoje valstybės politiką kaimo plėtros, žemės ūkio ir melioracijos srityse, sudaryti sąlygas inovatyvaus žemės ūkio vystymui
A11: 01 | B11: 01 | C11: Vykdyti valstybinių (valstybės perduotas savivaldybėms) funkcijas žemės ūkio srityje, konsultuojant rajono asmenis ūkininkavimo, melioracijos, žemės ūkio technikos registravimo ir kitais su žemės ūkiu susijusiais klausimais
A12: 01 | B12: 01 | C12: 01 | D12: Organizuoti ir užtikrinti Žemės ūkio ir aplinkosaugos skyriaus darbą, kuruojant valstybės perduotas savivaldybėms funkcijas žemės ūkio srityje | E12: 1 | F12: Žemės ūkio valdų skaičius (įregistravimas, išregistravimas, kasmetinis duomenų atnaujinimas) | G12: Žemės ūkio ir aplinkosaugos skyrius | H12: SBVB | I12: 99.5 | J12: 99.5 | K12: Įregistruotų žemės ūkio valdų skaičius (įregistravimas, išregistravimas, kasmetinis duomenų atnaujinimas) | L12: 2700 | M12: 2764 | N12: Rajone įregistruotos 2764 žemės ūkio ir kaimo valdos, įregistruoti ir veikiantys 1839 ūkininkų ūkiai. 2021 m. rajone padidėjo įregistruotų ūkininkų ūkių skaičius, nes atsirado reali galimybė gauti paramą jaunesniems ūkininkams, pateikusiems paraiškas pagal Lietuvos kaimo plėtros 2014–2020 m. programos priemonę „Parama jaunųjų ūkininkų įsikūrimui“. Vidutinis vieno rajono ūkio dydis 2021 m. siekė 40,60 ha. Ūkiai kasmet stambėja.Atsižvelgiant į pastarųjų metų gamtines sąlygas, auga pasėlių draudimas nuo gamtos reikšinių. Dėl pasėlių dalies draudimo įmokų kompensavimo iš valstybės biudžeto lėšų pateikta 25 proc. arba 21 paraiška daugiau nei 2020 m. Atitinkamai didėjo apskaičiuota kompensacijos suma. 2021 m., palyginus su 2020 m., bendra medžiojamųjų gyvūnų padarytos žalos suma padidėjo 25 proc. Pagrindiniai ūkininkų nuostolių kaltininkai Kėdainių rajone vis dėlto išlieka stumbrai. Žemės ūkio technikos valstybinės techninės apžiūros vykdomos kas 2 metai. Iš viso 2021 m. aptarnautos rajone registruotos technikos skaičius – 7245 vnt., surinkta ~30,8 tūkst. Eur rinkliavos už technikos registravimą. Ataskaitiniu laikotarpiu dėl COVID-19 pandemijos ir su ja susijusių ribojimų susidariusi situacija ūkininkams skirta pagalba - tęstas palūkanų, sumokėtų už paskolas ir lizingo paslaugas be garantijos, kompensavimas COVID-19 ligos protrūkio laikotarpiu; pratęstas paraiškų rinkimas pagal Lietuvos kaimo plėtros 2014–2020 metų programos priemonę „Išimtinė laikina parama ūkininkams ir MVĮ, kuriuos ypač paveikė COVID-19 krizė“; pratęstas paraiškų rinkimas daržovių augintojams, kuriems, reaguojant į COVID 19 protrūkį, buvo skiriama laikinoji valstybės pagalba.
E13: 2 | F13: Ūkininkų ūkių įregistravimas, išregistravimas, kasmetinis duomenų atnaujinimas | K13: Įregistruotų ūkininkų ūkių skaičius (įregistravimas, išregistravimas, duomenų atnaujinimas) | L13: 1800 | M13: 1839
E14: 3 | F14: Paramos už žemės ūkio naudmenas ir kitus plotus bei gyvulius paraiškos pildymas, deklaruojamų laukų įbraižymas, duomenų keitimas, pasikeitusių KŽS ribų aprašymas | K14: Paramos už žemės ūkio naudmenas ir kitus plotus bei gyvulius priimtų paraiškų skaičius (pasėlių deklaracijos pildymas, deklaruojamų laukų įbraižymas, duomenų keitimas, pasikeitusių KŽS ribų aprašymas) | L14: 2100 | M14: 2070
E18: 4 | F18: Pagal gautus prašymus pasėliams, miškui padarytos žalos įvertinimas vietoje ir apžiūros aktų surašymas, sprendimų priėmimas, atstovavimas teismuose | K18: Prašymų dėl medžiojamųjų gyvūnų padarytos žalos nustatymo skaičius (pasėliams, miškui padarytos žalos įvertinimas vietoje ir apžiūros aktų surašymas, sprendimų paruošimas) | L18: 30 | M18: 40
E19: 5 | F19: Paraiškų priėmimas, įvertinimas, kompensuojamų sumų apskaičiavimas, duomenų suvedimas į ŽŪMIS ir KOTIS | K19: Pateiktų paraiškų dalies draudimo įmokų kompensacijai gauti skaičius (augalų draudimas nuo nepalankių oro sąlygų; paraiškų priėmimas, duomenų sutikrinimas, kompensuojamos sumos apskaičiavimas, duomenų suvedimas į ŽŪMIS ir KOTIS) | L19: 86 | M19: 105
E20: 6 | F20: Paraiškų priėmimas, įvertinimas, kompensuojamų sumų apskaičiavimas, duomenų suvedimas į ŽŪMIS | K20: Paramos paraiškų pagal Lietuvos kaimo plėtros 2014–2020 metų programos priemonės „Rizikos valdymas“ veiklos srities ,,Pasėlių, gyvūnų ir augalų draudimo įmokos“, susijusios su pasėlių ir augalų, ūkinių gyvūnų draudimo įmokų kompensavimu skaičius | L20: 50 | M20: 61
E21: 7 | F21: Paramos teikimo bičių laikytojams už papildomą bičių maitinimą administravimas | K21: Paraiškų už papildomą bičių maitinimą skaičius | L21: 125 | M21: 132
E22: 8 | F22: Informacijos pateikimas pareiškėjams | K22: Žemės ūkio subjektų skaičius, kuriems skiriama išmoka už gyvulius, vnt. | L22: 50 | M22: 19* (išankstiniai duomenys)
E23: 9 | F23: Pieno pardavimo tiesiogiai vartoti deklaracijų ir kitų dokumentų administravimas | K23: Pieno gamybos ir realizavimo metinių deklaracijų skaičius | L23: 100 | M23: 52
E24: 10 | F24: Žemės ūkio technikos įregistravimas, perregistravimas, išregistravimas, registracijos dokumentų išdavimas, duomenų suvedimas į registrą | K24: Aptarnaujamos žemės ūkio technikos, įregistruotos rajone, skaičius | L24: 7200 | M24: 7294
E25: 11 | F25: Žemės ūkio technikos techninių apžiūrų atlikimas, duomenų suvedimas, talonų išdavimas | K25: Atliktų techninių apžiūrų skaičius | L25: 2800 | M25: 2820
A26: 01 | B26: 01 | C26: 02 | D26: Tvarkyti erdvinių duomenų rinkinį | E26: 1 | F26: Priemonės koordinavimas | G26: Architektūros ir urbanistikos skyrius | H26: SBVB | I26: 19.3 | J26: 19.3 | K26: Erdvinių duomenų rinkinio tvarkymo užtikrinimas, proc. | L26: 100 | M26: 100 | N26: Vykdytos duomenų rinkinio tvarkymo funkcijos
A27: 01 | B27: 01 | C27: Iš viso uždaviniui | I27: =+I12+I26 -> 118.8 | J27: =+J12+J26 -> 118.8
A28: 01 | B28: 02 | C28: Vykdyti valstybines (perduotas savivaldybėms) funkcijas melioracijos srityje, rekonstruojant remontuojant ir (arba) atnaujinant valstybei nuosavybės teise priklausančią melioracijos, hidrotechnikos infrastruktūrą Kėdainių rajono savivaldybės teritorijoje
A29: 01 | B29: 02 | C29: 01 | D29: Gerinti hidrotechninių statinių ir kitų melioracijos sistemų būklę | E29: 1 | F29: Melioracijos statinių priežiūros ir remonto darbų viešųjų pirkimų organizavimas, darbų koordinavimas, rangovo prisiimtų sutartinių įsipareigojimų vykdymo kontrolė | G29: Žemės ūkio ir aplinkosaugos skyrius | H29: SBVB | I29: 360 | J29: 360 | K29: Remontuojamų, prižiūrimų melioracijos griovių ilgis, km | L29: 40 | M29: 33.14 | N29: Suremontuota drenažo sistemų 9 ha plote, 33,14 km magistralinių griovių (2020 m. – 43,16 km; 2019 m. – 38,27 km), 24 vandens pralaidos, prižiūrimi 9,2 km apsauginių pylimų, 1 vandens siurblinė, nušienauta 129,68 ha griovių šlaitų. Parengta projektinė dokumentacija griovių remonto darbams Dotnuvos, Keleriškių, Kalnaberžės, Josvainių, Vainikų, Pelutavos kadastrinėse vietovėse.
E30: 2 | F30: Priešprojektiniai tyrinėjimų techninės sąmatinės dokumentacijos sudarymo, ekspertizės viešųjų pirkimų organizavimas, paslaugų teikėjo prisiimtų sutartinių įsipareigojimų vykdymo kontrolė
E31: 3 | F31: Darbų techninė priežiūros koordinavimas, vykdymo kontrolė
A32: 01 | B32: 02 | C32: 03 | D32: Rengti projektus ir remontuoti gyvenviečių lietaus nuotekų-drenažų sistemas | E32: 1 | F32: Remonto darbų viešųjų pirkimų organizavimas, rangos darbų koordinavimas, rangovo prisiimtų sutartinių įsipareigojimų vykdymo kontrolė | G32: Žemės ūkio ir aplinkosaugos skyrius | H32: SB | I32: 40 | J32: 40 | K32: Gyvenviečių skaičius, kuriose atlikti drenažo remonto darbai | L32: 10 | M32: 5 | N32: Atlikti lietaus kanalizacijos-drenažų sistemų remonto darbai Tiskūnų, Šlapaberžės, Kunionių, Ažytėnų gyvenvietėse, Kėdainių miesto Aruodų g.
A33: 01 | B33: 02 | C33: 04 | D33: Dalyvauti įgyvendinant projektą "Asociacijos" "Latupis" nariams priklausančių ir valstybinių melioracijos statinių rekonstravimas" | E33: 1 | F33: Priemonės koordinavimas (įgyvendintojas - asociacija "Latupis") | G33: Žemės ūkio ir aplinkosaugos skyrius | H33: SB | I33: 3.8 | J33: 3.7 | K33: Žemės plotas, kuriame atlikti nusausintų plotų melioracijos sistemų rekonstrukcijos darbai, ha | L33: 108 | M33: 108 | N33: Įgyvendinant šį melioracijos statinių naudotojų asociacijos „Latupis“ ir partnerio Savivaldybės projektą nusausinta 108 ha dirbamos žemės Akademijos ir Kalnaberžės kadastrinėse vietovėse, rekonstruota 10 km rinktuvų, 20 km sausintuvų
A34: 01 | B34: 02 | C34: 05 | D34: Apskaičiuoti stumbrų daromą žalą, naudojant pažangius dirbtinio intelekto pagrindo sukurtus algoritmus ir palydovinių vaizdų informaciją | E34: 1 | F34: Priemonės koordinavimas, paslaugų viešųjų pirkimų organizavimas, paslaugų teikėjo prisiimtų sutartinių įsipareigojimų vykdymo kontrolė | G34: Žemės ūkio ir aplinkosaugos skyrius | H34: SBVB | I34: 53 | J34: 53 | K34: Sukurtų sprendinių skaičius | L34: 1 | M34: 1 | N34: Parengtas technologinio sprendimo prototipas
A35: 01 | B35: 02 | C35: Iš viso uždaviniui | I35: =SUM(I29:I34) -> 456.8 | J35: =SUM(J29:J34) -> 456.7
A36: 01 | B36: Iš viso tikslui | I36: =+I35+I27 -> 575.6 | J36: =+J35+J27 -> 575.5
A37: Iš viso programai | I37: =+I36 -> 575.6 | J37: =+J36 -> 575.5
A38: iš jų: | I38: =+I37-I39-I46 -> 1.1368684e-13 | J38: =+J37-J39-J46 -> 0
A39: SAVIVALDYBĖS LĖŠOS | I39: =+I40+I41 -> 575.6 | J39: =+J40+J41 -> 575.5
A40: Savivaldybės biudžetas SB | I40: =+I32+I33 -> 43.8 | J40: =+J32+J33 -> 43.7
A41: Valstybės biudžeto specialiosios tikslinės dotacijos lėšos SBVB | I41: =+I29+I12+I26+I34 -> 531.8 | J41: =+J29+J12+J26+J34 -> 531.8
A42: Aplinkos apsaugos rėmimo specialiosios programos lėšos AA
A43: Iš pajamų už suteiktas paslaugas lėšos ĮP
A44: Skolintos lėšos SK
A45: Kelių priežiūros ir plėtros programos lėšos KPP
A46: KITOS LĖŠOS | I46: =SUM(I47:I50) -> 0 | J46: =SUM(J47:J50) -> 0
A47: Europos Sąjungos lėšos, užsienio fondų lėšos ES
A48: Valstybės biudžeto lėšos VB
A49: Privačios – investuotojų lėšos PR
A50: Kiti finansavimo šaltiniai KT

Sheet 10verslas
H1: PATVIRTINTA Kėdainių rajono savivaldybės administracijos direktoriaus 2021 m. kovo 12 d. įsakymu Nr.AD-1-277 (Kėdainių rajono savivaldybės administracijos direktoriaus 2021 m. rugsėjo d. įsakymo Nr.AD-1- redakcija)
A4: Programos tikslo kodas | B4: Uždavinio kodas | C4: Priemonės kodas | D4: Priemonės pavadinimas | E4: Veiklos/darbo/ veiksmo kodas | F4: Veiklos/darbo/ veiksmo pavadinimas | G4: Atsakingi vykdytojai | H4: Finansavimo šaltinis | I4: Numatomi 2021-ųjų m. asignavimai, tūkst. Eur | J4: Panaudoti 2021-ųjų m. asignavimai, tūkst. Eur | K4: Proceso/indėlio vertinimo kriterijai
K5: Pavadinimas | L5: Planuota reikšmė | M5: Pasiekta reikšmė | N5: Nukrypimų nuo plano priežastys, pastabos, komentarai
A9: 10 PARAMA VERSLUI IR VERSLO PLĖTRA
A10: 01 | B10: Gerinti verslo paramos bei informavimo sistemą, plėtoti viešojo ir privataus sektorių bendradarbiavimą, gyventojų verslumą
A11: 01 | B11: 01 | C11: Stiprinti savivaldybės institucijų ir verslo įmonių bendradarbiavimą rengiant, įgyvendinant bendrus projektus
A12: 01 | B12: 01 | C12: 01 | D12: Finansuoti VšĮ Kėdainių turizmo ir verslo informacijos centro viešųjų paslaugų verslui programą: | E12: 1 | F12: Priemonės įgyvendinimo koordinavimas | G12: Administracijos direktorius | H12: SB | I12: 29 | J12: 29 | K12: Suteiktų informacinių, konsultacinių paslaugų ūkio subjektams ir asmenims pagal paklausimus skaičius vnt. | L12: 810 | M12: 1350 | N12: 2020 m. buvo vykdomos numatytos priemonės: skatinamas naujų verslo įmonių steigimas, skleidžiama informacija ir kuriama konsultavimo informavimo sistema, atnaujinama įstaigos duomenų bazė. 2021 m. Kėdainių TVIC darbuotojai atsakė į 1 350 paklausimus, suteikė 350 val. verslo konsultacijų, iš kurių 273 val. pagal programą. Per 2021 m. verslą pradėjo 115 naujai įregistruotų įmonių, t.y. 16,2 proc. daugiau nei 2020 m. Kėdainių TVIC konsultacijų ir/ar suteikta pagalba įsikūrė per 40 naujų įmonių (iš 115)
A13: 01 | B13: 01 | C13: 01.01 | D13: techninės ir metodinės pagalbos rajono verslininkams, verslo įmonėms, asmenims, ketinantiems pradėti verslą, investuotojams teikimas | K13: Paklausimų, telefonu internetu, centre teikimas, val. | L13: 300 | M13: 350
A14: 01 | B14: 01 | C14: 01.02 | D14: Kėdainių rajono savivaldybės smulkaus verslo rėmimo fondo administravimas | K14: Konsultuotų subjektų skaičius | L14: 50 | M14: 50
A15: 01 | B15: 01 | C15: 01.03 | D15: savivaldybės įmonių duomenų bazės atnaujinimas, verslo situacijos analizė, duomenų apdorojimas ir viešinimas | K15: Verslo aplinkos statistikos duomenų analizė, val. | L15: 10 | M15: 10
A16: 01 | B16: 01 | C16: 01.04 | D16: viešojo ir privataus sektorių bendravimo skatinimas, susitikimų, forumų organizavimas | K16: Organizuotų, inicijuotų susitikimų skaičius | L16: 2 | M16: 2
A17: 01 | B17: 01 | C17: 01.05 | D17: savivaldybės administracijos, Kėdainių TVIC ir verslą vienijančių asociacijų bendradarbiavimo stiprinimas
A18: 01 | B18: 01 | C18: 02 | D18: Teikti finansinę paramą verslą pradedantiems ar sunkumų patiriantiems SVV subjektams Kėdainių rajone per Savivaldybės smulkiojo verslo rėmimo fondą | E18: 1 | F18: Priemonės įgyvendinimo koordinavimas | G18: Administracijos direktorius | H18: KT (FL) | I18: 162 | J18: 105.1 | K18: Subjektų skaičius, kuriems suteikta finansinė parama skaičius | L18: 35 | M18: 49 | N18: Per 2021 m. verslininkams dalinai kompensuotos išlaidos už 105,1 tūkst. Eur pagal 8 priemones: seminarų ir mokymų - 1 320,95 Eur; verslo planų ir investicinių projektų - 1 800 Eur; rinkodaros priemonių - 1 050 Eur; darbo vietų steigimo - 56 361,99 Eur, įrangos/technikos įsigijimo - 43 272,87 Eur; įmonės registravimo - 46,15 Eur, negyvenamų patalpų dalinis išlaidų kompensaviams - 1 223,28 Eur. Finansuotos naujai įsteigtos 34 darbo vietos. Paramos vidurkis skirtas vienam verslo subjektui - 2 144,39 Eur
A19: 01 | B19: 01 | C19: 03 | D19: Organizuoti ir viešinti verslumą skatinančius, gerąją verslo patirtį viešinančius renginius Kėdainių rajone | E19: 1 | F19: Priemonės įgyvendinimo koordinavimas | G19: Administracijos direktorius | H19: SB | I19: 1 | J19: 0 | K19: Suorganizuotų Geriausių rajono metų verslo atstovų konkursų ir nominacijų skaičius | L19: 1/4 | M19: 1/4 | N19: Verslo dienos proga apdovanotos Kėdainių rajono verslo įmonės pagal 4 nominacijas: - Jaunas ir verslus (MB Radvilų sodas) - Versliausia bendruomenė (Krakių bendruomenės centras) - Už sėkmingą startą (UAB "Eusva") - Už sėkmingą verslą kaime (Audrius Povilaitis)
A20: 01 | B20: 01 | C20: Iš viso uždaviniui | I20: =SUM(I12:I19) -> 192 | J20: =SUM(J12:J19) -> 134.1
A21: 01 | B21: Iš viso tikslui | I21: =+I20 -> 192 | J21: =+J20 -> 134.1
A22: 02 | B22: Kurti ekonominį augimą skatinančios verslo aplinkos plėtrą
A23: 02 | B23: 01 | C23: Sudaryti palankias sąlygas sumanios pramonės ir logistikos srities verslų atsiradimui, plėtrai bei investicijų pritraukimui
A24: 02 | B24: 01 | C24: 05 | D24: Įgyvendinti projektą "Kėdainių miesto viešosios infrastruktūros, svarbios verslui, atnaujinimas ir plėtra" | E24: 1 | F24: Paraiškos teikimas, rangos darbų, projektavimo viešojo pirkimo organizavimas, angos darbų koordinavimas, rangovo prisiimtų sutartinių įsipareigojimų vykdymo kontrolė | G24: Strateginio planavimo ir investicijų skyrius, Statybos ir turto skyrius | H24: VB | I24: 150 | J24: 101.3 | K24: Įgyvendinta projekto veiklų, proc. | L24: 3,67 | M24: 3,67 | N24: Teikta paraiška, gautas finansavimas, atnaujinta pramonės rajono Metalistų gatvės asfaltbetonio danga (870 m)
A25: 03 | B25: 01 | C25: Iš viso uždaviniui | I25: =+I24 -> 150 | J25: =+J24 -> 101.3
A26: 03 | B26: Iš viso tikslui | I26: =+I25 -> 150 | J26: =+J25 -> 101.3
A27: Iš viso programai | I27: =+I26+I21 -> 342 | J27: =+J26+J21 -> 235.4
A28: iš jų: | I28: =+I27-I29-I36 -> 0 | J28: =+J27-J29-J36 -> 0
A29: SAVIVALDYBĖS LĖŠOS | I29: =SUM(I30:I35) -> 30 | J29: =SUM(J30:J35) -> 29
A30: Savivaldybės biudžetas SB | I30: =+I19+I12 -> 30 | J30: =+J19+J12 -> 29
A31: Valstybės biudžeto specialiosios tikslinės dotacijos lėšos SBVB
A32: Aplinkos apsaugos rėmimo specialiosios programos lėšos AA
A33: Iš pajamų už suteiktas paslaugas lėšos ĮP
A34: Skolintos lėšos SK
A35: Kelių priežiūros ir plėtros programos lėšos KPP
A36: KITOS LĖŠOS | I36: =SUM(I37:I40) -> 312 | J36: =SUM(J37:J40) -> 206.4
A37: Europos Sąjungos lėšos, užsienio fondų lėšos ES
A38: Valstybės biudžeto lėšos VB | I38: =+I24 -> 150 | J38: =+J24 -> 101.3
A39: Privačios – investuotojų lėšos PR
A40: Kiti finansavimo šaltiniai KT | I40: =+I18 -> 162 | J40: =+J18 -> 105.1

Sheet 11valdym.
A3: Programos tikslo kodas | B3: Uždavinio kodas | C3: Priemonės kodas | D3: Priemonės pavadinimas | E3: Veiklos/darbo/ veiksmo kodas | F3: Veiklos/darbo/ veiksmo pavadinimas | G3: Atsakingi vykdytojai | H3: Finansavimo šaltinis | I3: Numatomi 2021-ųjų m. asignavimai, tūkst. Eur | J3: Panaudoti 2021-ųjų m. asignavimai, tūkst. Eur | K3: Proceso/indėlio vertinimo kriterijai
K4: Pavadinimas | L4: Planuota reikšmė | M4: Pasiekta reikšmė | N4: Nukrypimų nuo plano priežastys, pastabos, komentarai
A8: 11 SAVIVALDYBĖS VALDYMO TOBULINIMAS
A9: 01 | B9: Didinti savivaldybės valdymo ir veiklos efektyvumą, gerinti žmogiškųjų išteklių kompetencijas
A10: 01 | B10: 01 | C10: Sudaryti sąlygas kokybiškai įgyvendinti Savivaldybės funkcijas, mažinant administracinę naštą, įgyvendinant lygias galimybes užtikrinančias bei korupcijos prevencijos priemones
A11: 01 | B11: 01 | C11: 01 | D11: Organizuoti Savivaldybės tarybos ir Savivaldybės administracijos veiklą, įgyvendinant administracinės naštos, lygių galimybių bei korupcijos prevencijos priemones, stiprinti darbuotojų kompetencijas | E11: 1 | F11: Administracijos skyriams priskirtų funkcijų kokybiško vykdymo, administracinės naštos mažinimo priemonių vykdymo užtikrinimas | G11: Administracijos direktorius | H11: SB | I11: 3650.5 | J11: 3570.9 | K11: Priimtų tarybos sprendimų skaičius | L11: 250 | M11: 347 | N11: Savivaldybės taryba ir Savivaldybės administracija vykdė Lietuvos Respublikos Konstitucijos ir įstatymų nustatytas, Lietuvos Respublikos vietos savivaldos įstatymu reglamentuotas savarankiškas savivaldybės bei valstybines (valstybės perduotos savivaldybei) funkcijas. 2021 m. 12 tarybos posėdžių metu daugiausia sprendimų priimta Architektūros ir urbanistikos, Turto valdymo, Verslo aplinkos gerinimo, Švietimo ir ugdymo, Ekonomikos ir finansų, Socialinės apsaugos, rajono tarybos veiklos organizavimo srityse | O11: 3781.2
K12: Prašymų, į kuriuos atsakymai fiziniams asmenims pateikti per įstatymais nustatytus terminus dalis, nuo visų gautų prašymų, proc. | L12: 100 | M12: 99.2 | O12: =+J51+J48+J57+J71+J72 -> 210.9
K13: Įgyvendintų administracinės naštos mažinimo priemonių, įgyvendinamų pagal patvirtintą planą, skaičius | L13: 15 | M13: 15 | N13: Administracinės naštos 2019-2021 m. plane suplanuota 17 priemonių, iš kurių 2021 m. - 15. Visos 2021 m. numatytos priemonės yra vykdomos. Centralizuoto vidaus audito skyrius 2021 m. I pusmetyje atliko vidaus auditą dėl administracinės naštos mažinimo priemonių plano vykdymo kontrolę. Pagal atliktą vidaus audito išvadą 2021 m. savivaldybės administracijos vidaus kontrolė administracinės naštos mažinimo srityje vertinama gerai. | O13: =+O11-O12 -> 3570.3
E14: 2 | F14: Korupcijos prevencijos, lygias galimybes užtikrinančių priemonių įgyvendinimas | G14: Administracijos direktorius | H14: ĮP | I14: 23 | J14: 13.7 | K14: Įgyvendintų korupcijos prevencijos priemonių, pagal patvirtintą planą, skaičius | L14: 12 | M14: 12 | N14: Savivaldybės 2020-2021 m. korupcijos prevencijos programos įgyvendinimo priemonių plane numatyta 14 priemonių, iš kurių visos yra įgyvendinamos
K15: Įgyvendintų lygias galimybes užtikrinančių priemonių skaičius | L15: 7 | M15: 7 | N15: Savivaldybės administracijos lygių galimybių politika ir jos įgyvendinimo tvarkos aprašas nustato lygių galimybių Savivaldybės administracijoje principus ir jų įgyvendinimo darbe sąlygas bei tvarką. Administracijoje darbas vykdomas nenumatant apribojimų, kurie turėtų neigiamą poveikį moterų ir vyrų lygybės ir nediskriminavimo dėl lyties, rasės, tautybės, kalbos, kilmės, socialinės padėties, tikėjimo, įsitikinimų ar pažiūrų, amžiaus, negalios, lytinės orientacijos, etninės priklausomybės ar religijos principų
A16: 01 | B16: 01 | C16: Iš viso uždaviniui | I16: =SUM(I11:I15) -> 3673.5 | J16: =SUM(J11:J15) -> 3584.6
A17: 01 | B17: 02 | C17: Organizuoti ir užtikrinti kokybišką valstybės perduotų funkcijų įgyvendinimą
A18: 01 | B18: 02 | C18: 01 | D18: Vykdyti gyventojų registrų tvarkymo ir duomenų valstybės registrui teikimo funkciją | E18: 1 | F18: Duomenų teikimas Registrų centrui | G18: Civilinės metrikacijos ir archyvo skyrius | H18: SBVB | I18: 0.8 | J18: 0.8 | K18: Duomenų teikimo skaičius | L18: 2000 | M18: 3630 | N18: Duomenų Registrų centrui atvejų skaičius 3630
A19: 01 | B19: 02 | C19: 02 | D19: Tvarkyti archyvinius dokumentus | E19: 1 | F19: Informacijos paieška, pažymų, išrašų išrašymas, kopijų darymas, dokumentų išdavimas, konsultavimas | G19: Civilinės metrikacijos ir archyvo skyrius | H19: SBVB | I19: 45 | J19: 45 | K19: Išduotų pažymų skaičius | L19: 700 | M19: 824 | N19: Juridinius faktus patvirtinančių pažymų pagal prašymus kopijų išduota 824, t.y. 7,6 proc. daugiau nei 2020 m.
A20: 01 | B20: 02 | C20: 03 | D20: Registruoti civilinės būklės aktus | E20: 1 | F20: Įrašų registravimas, papildymas, anuliavimas, atkūrimas. Vardų, pavardžių pakeitimas, ištaisymas | G20: Civilinės metrikacijos ir archyvo skyrius | H20: SBVB | I20: 33.1 | J20: 33.1 | K20: Užregistruota civilinės būklės aktų skaičius | L20: 1600 | M20: 1829 | N20: Civilinės būklės įrašų sudaryta 1829 vnt., t.y. 10 proc. daugiau nei 2020 m.
A21: 01 | B21: 02 | C21: 04 | D21: Vykdyti valstybinės kalbos vartojimo ir taisyklingumo kontrolę | E21: 1 | F21: Valstybinės kalbos vartojimo ir taisyklingumo kontrolės vykdymas įmonėse, įstaigose, organizacijose | G21: Vyr. specialistas (kalbos tvarkytoja) | H21: SBVB | I21: 8.2 | J21: 8.3 | K21: Atliktų patikrinimų (įmonių, įstaigų, organizacijų) skaičius | L21: 20 | M21: 27 | N21: Pagal planą 2021 m. patikrintos visos rajono mokyklos (16). Tikrinti dokumentai, užrašai (patalpose ir išorėje), interneto svetainės. Taip pat patikrinti ir 11 seniūnijų dokumentai. Iš viso 27 įstaigos. El. paštu išsiųstos klaidos ir rekomendacijos, paaiškinimai. Taip pat suteikta apie 400 kalbos konsultacijų, parašyti 52 kalbiniai kalbiniai straipsneliai rajono laikraštyje, koordinuoti ir organizuoti kalbiniai renginiai
E22: 2 | F22: Metodinių patarimų, straipsnių žiniasklaidoje, interneto svetainėje rengimas
E23: 3 | F23: Fizinių bei juridinių asmenų konsultavimas
A24: 01 | B24: 02 | C24: 05 | D24: Organizuoti ir užtikrinti tarpinstitucinio bendradarbiavimo koordinatoriaus veiklą | E24: 1 | F24: Už vaiko saugumą ir gerovę atsakingų institucijų veiksmų suderinamumas, teikiant koordinuotas paslaugas | G24: Vyr. specialistas (tarpinstitucinio bendradarbiavimo kordinatorius) | H24: SBVB | I24: 17.7 | J24: 17.6 | K24: Suorganizuotų vaiko gerovės komisijų posėdžių skaičius | L24: 5 | M24: 5 | N24: Vykdytas už vaiko saugumą ir gerovę atsakingų institucijų (vaiko teisių apsaugos, įvaikinimo, globos, socialinių įstaigų, policijos) veiksmų suderinamumas, teikiant koordinuotas paslaugas.
A25: 01 | B25: 02 | C25: 06 | D25: Vykdyti jaunimo teisių apsaugą | E25: 1 | F25: Savivaldybės jaunimo politikos programų ir priemonių rengimas bei įgyvendinimas | G25: Vyr. specialistė (jaunimo reikalų koordinatorė) | H25: SBVB | I25: 20.8 | J25: 20.8 | K25: Aktyvaus jaunimo dalis, proc. nuo bendro rajono jaunimo skaičiaus | L25: 10 | M25: 10 | N25: Rajono jaunimo ir su jaunimu dirbančios organizacijos, jauni žmonės buvo informuojami ir konsultuojami jiems aktualiais klausimais, organizuotas rajono jaunimo iniciatyvų projektų, atvirųjų jaunimo erdvių konkursai, koordinuota mokinių savivaldos programa
E26: 2 | F26: Savivaldybės institucijų bei įstaigų veiklos koordinavimas jaunimo politikos srityje
E27: 3 | F27: Duomenų apie savivaldybės teritorijoje gyvenančio jaunimo padėties rinkimas ir sisteminimas, pokyčių analizė, išvadų ir pasiūlymų teikimas
A28: 01 | B28: 02 | C28: 07 | D28: Teikti pirminę teisinę pagalbą | E28: 1 | F28: Lietuvos Respublikos valstybės garantuojamos teisinės pagalbos įstatymo nustatyta tvarka teisinės informacijos, teisinės konsultacijos teikimas, valstybės ir savivaldybių institucijoms skirtų dokumentų rengimas, išskyrus procesinius dokumentus. | G28: Teisės ir personalo skyrius | H28: SBVB | I28: 14.2 | J28: 14.2 | K28: Suteiktos teisinės pagalbos atvejų skaičius | L28: 800 | M28: 682 | N28: Valstybės garantuojama pirminė teisinė pagalba suteikta 682 gyventojams, t.y. 12 proc. mažiau nei 2020 m. Tam įtakos turėjo 2020 m. šalies teritorijoje paskelbtas ir 2021 m. vis dar galiojęs karantinas, kurio metu pirminė teisinė pagalba negalėjo būti teikiama esant tiesioginiam kontaktui su pareiškėjais. Reaguojant į susiklosčiusią situaciją, pirminės teisinės pagalbos teikimas buvo perorganizuotas ir ji teikta nuotoliniu būdu (telefonu, el. paštu)
E29: 2 | F29: Patarimų dėl ginčo išsprendimo ne teismo tvarka, veiksmų dėl taikaus ginčo išsprendimo teikimas, taikos sutarties parengimas
A30: 01 | B30: 02 | C30: 08 | D30: Teikti duomenis Valstybės suteiktos pagalbos registrui | E30: 1 | F30: Duomenų teikimas Konkurencijos tarybai | G30: Biudžeto ir finansų skyrius | H30: SBVB | I30: 0.8 | J30: 0.8 | K30: Duomenų teikimo skaičius | L30: 12 | M30: 12 | N30: Įvykdyta. Funkciją vykdo Biudžeto ir finansų skyrius
A31: 01 | B31: 02 | C31: 09 | D31: Vykdyti valstybinės žemės ir kito turto valdymo, naudojimo ir disponavimo juo patikėjimo teise, funkciją | E31: 1 | F31: Valstybinės žemės ir kito turto perėmimo procedūrų vykdymas | G31: Turto valdymo skyrius, Architektūros ir urbanistikos skyrius | H31: SBVB | I31: 0 | J31: 0 | K31: Savivaldybei patikėjimo teise perduotų valstybinės žemės sklypų skaičius | L31: 1 | M31: 1
A32: 01 | B32: 02 | C32: 10 | D32: Vykdyti gyvenamosios vietos deklaravimo duomenų ir gyvenamosios vietos nedeklaravusių asmenų apskaitos duomenų tvarkymo funkciją | E32: 1 | F32: Atsiskaitymas už interneto ryšio tiekimą paslaugų teikėju | G32: Apskaitos skyrius | H32: SBVB | K32: Funkciją įgyvendinančių institucijų skaičius | L32: 11 | M32: 11
A33: 01 | B33: 02 | C33: Iš viso uždaviniui | I33: =SUM(I18:I32) -> 140.6 | J33: =SUM(J18:J32) -> 140.6
A34: 01 | B34: 03 | C34: Užtikrinti finansavimą nenumatytoms išlaidoms dengti bei valdyti prisiimtus finansinius įsipareigojimus
A35: 01 | B35: 03 | C35: 01 | D35: Įgyvendinti priemones, finansuojamas iš Savivaldybės administracijos direktoriaus rezervo | E35: 1 | F35: Ekstremalių situacijų/ įvykių padarytų nuostolių apmokėjimas | G35: Apskaitos skyrius | H35: SB | I35: 80.7 | J35: -62.3 | K35: Rezervo naudojimas pagal tarybos nustatytą tvarką, proc. | L35: 100 | M35: 100 | N35: Fondo lėšos panaudotos pagal tarybos nustatytą tvarką. 2021 m. Fondo lėšos naudotos COVID-19 ligos padariniams šalinti ir jos plitimui valdyti, esant valstybės lygio ekstremaliai situacijai. 2021 m. administracijai iš valstybės biudžeto kompensuotos išlaidos patirtos 2020 m.
A36: 01 | B36: 03 | C36: 02 | D36: Įgyvendinti priemones, finansuojamas iš Savivaldybės mero fondo | E36: 1 | F36: Fondo administravimas | G36: Apskaitos skyrius | H36: SB | I36: 22.4 | J36: 20.4 | K36: Fondo panaudojimo proc. | L36: 100 | M36: 91.1 | N36: Fondo lėšos panaudotos pagal tarybos nustatytą tvarką, neviršijant bendrų savivaldybės reprezentacijai skirtų lėšų
A37: 01 | B37: 03 | C37: 03 | D37: Grąžinti paskolas, skolas, palūkanas | E37: 1 | F37: Finansinių įsipareigojimų vykdymas | G37: Biudžeto ir finansų skyrius | H37: SB | I37: 70 | J37: 54.6 | K37: Finansinių įsipareigojimų vykdymo savalaikiškumas, proc. | L37: 100 | M37: 100 | N37: Pagal grafiką grąžintos paskolos, mokėtos palūkanos
H38: SB | I38: 48.1 | J38: 48.1
H39: SB | I39: 1205.4 | J39: 1205.4
H40: SK | I40: 1221.2 | J40: 1221.2
A41: 01 | B41: 03 | C41: 04 | D41: Kompensuoti UAB "Kėdbusas" nuostolingus maršrutus | E41: 1 | F41: Duomenų ir pateisinamųjų dokumentų iš vežėjų rinkimas, sisteminimas, analizė ir teikimas Apskaitos, Biudžeto ir finansų skyriams | G41: Turto valdymo skyrius | H41: SB | I41: 614.7 | J41: 614.7 | K41: Patvirtintų pavėžėjimo išlaidų kompensavimas | L41: 100 | M41: 100 | N41: Lėšos skirtos vežėjo patirtų nuostolių už keleivių vežimą vietinio (miesto ir priemiestinio) reguliaraus susisiekimo autobusų maršrutais kompensavimui
H42: SBVB | I42: 147.1 | J42: 147.1
A43: 01 | B43: 03 | C43: 05 | D43: Kompensuoti dalį išlaidų savivaldybėms, siekiant šalinti COVID-19 ligos (koronaviruso infekcijos) padarinius ir valdyti jos plitimą, esant valstybės lygio ekstremaliai situacijai | E43: 1 | F43: Ekstremalių situacijų/ įvykių padarytų nuostolių apmokėjimas, priemonių įsigijimas | G43: Apskaitos skyrius | H43: SBVB | I43: 234.3 | J43: 234.2 | K43: Kompensacijos tikslingas panaudojimas, proc. | L43: 100 | M43: 100 | N43: Kompensuota dalis išlaidų, patirtų šalinant COVID-19 ligos padarinius ir valdant jos plitimą, esant valstybės lygio ekstremaliai situacijai
A44: 01 | B44: 03 | C44: Iš viso uždaviniui | I44: =SUM(I35:I43) -> 3643.9 | J44: =SUM(J35:J43) -> 3483.4
A45: 01 | B45: Iš viso tikslui | I45: =+I44+I33+I16 -> 7458 | J45: =+J44+J33+J16 -> 7208.6
A46: 02 | B46: Gerinti Kėdainių rajono savivaldybės tarybos ir administracijos komunikavimo ir įvaizdžio formavimo funkcijas
A47: 02 | B47: 01 | C47: Užtikrinti savivaldybės veiklos viešumą, gerinti komunikavimo ryšį su rajono bendruomenės nariais
A48: 02 | B48: 01 | C48: 01 | D48: Tobulinti Kėdainių rajono savivaldybės tarybos ir administracijos komunikaciją su bendruomene ir visuomenės informavimą | E48: 1 | F48: Komunikacijos su bendruomene ir visuomenės informavimo koordinavimas | G48: Administracijos direktorius | H48: SB | I48: 23 | J48: 20 | K48: Įgyvendintų priemonių skaičius | L48: 110 | M48: ~120 | N48: Informacija apie savivaldybės vykdomą veiklą viešinta respublikinėje, vietinėje spaudoje, televizijoje, savivaldybės internetiniame tinklapyje. Besitęsiant karantinui, greitai reaguota ir teikta bendruomenei aktuali informacija, rekomendacijos dėl Covid-19 situacijos
A49: 02 | B49: 01 | C49: Iš viso uždaviniui | I49: =+I48 -> 23 | J49: =+J48 -> 20
A50: 02 | B50: 02 | C50: Plėtojant dalykinius santykius ir ryšius su tarptautinėmis ir vietinėmis institucijomis bei organizacijomis, stiprinti rajono įvaizdį
A51: 02 | B51: 02 | C51: 01 | D51: Dalyvauti Lietuvos savivaldybių asociacijos veikloje | E51: 1 | F51: Dalyvavimas LSA veikloje, sprendžianti narių – savivaldybių bendruosius klausimus | G51: Administracijos direktorius | H51: SB | I51: 15 | J51: 15 | K51: Veikloje dalyvaujančių partnerių skaičius | L51: 59 | M51: 59 | N51: Dalyvauta regioninio, tarptautinio bendradarbiavimo susitikimuose, renginiuose, forumuose, diskusijose
A52: 02 | B52: 02 | C52: 02 | D52: Dalyvauti Kauno regiono plėtros agentūros veikloje | E52: 1 | F52: Kauno apskrities savivaldybių regioninis bendradarbiavimas, kvalifikacijos tobulinimas, projektų įgyvendinimas | G52: Administracijos direktorius | H52: SB | I52: 14.9 | J52: 14.9 | K52: Programų, kuriose dalyvauja Savivaldybė, skaičius | L52: 4 | M52: 4
A53: 02 | B53: 02 | C53: Iš viso uždaviniui | I53: =SUM(I51:I52) -> 29.9 | J53: =SUM(J51:J52) -> 29.9
A54: 02 | B54: Iš viso tikslui | I54: =+I53+I49 -> 52.9 | J54: =+J53+J49 -> 49.9
A55: 03 | B55: Gerinti savivaldybės administracijos darbo kokybę, atnaujinant (diegiant) informacines sistemas, kompiuterinę įrangą, užtikrinant sisteminį viešųjų ir administracinių paslaugų modernizavimą
A56: 03 | B56: 01 | C56: Organizuoti savivaldybės veiklą vadovaujantis šiuolaikiniais vadybos principais, tobulinti darbuotojų kompetenciją
A57: 03 | B57: 01 | C57: 01 | D57: Užtikrinti informacinių technologijų plėtrą savivaldybės administracijoje, kelti elektroninių paslaugų brandos lygį, naudoti elektroninį parašą | E57: 1 | F57: IT įrangos, programų, IS atnaujinimo viešųjų pirkimų organizavimas, įdiegtų programų, IS priežiūra ir plėtros organizavimas | G57: Bendrasis skyrius | H57: SB | I57: 76.6 | J57: 75 | K57: Atnaujintos/prižiūrimos IT įrangos skaičius | L57: 50 | M57: 48 | N57: Įsigytos antivirusinės programos, licencijos, kompiuteriai, skeneriai, vykdyta IT programų priežiūra, IT įrangos remontas
A58: 03 | B58: 01 | C58: 02 | D58: Gerinti Kėdainių rajono savivaldybėje teikiamų paslaugų ir asmenų aptarnavimo kokybę | E58: 1 | F58: Projekto koordinavimas | G58: Strateginio planavimo ir investicijų skyrius | H58: SB | I58: 1.5 | J58: 1.3 | K58: Įgyvendinta projekto veiklų, proc. | L58: 100 | M58: 100 | N58: Projekto veiklos fiziškai įgyvendintos 2020 m.
H59: ES | I59: 8 | J59: 6
A60: 03 | B60: 01 | C60: Iš viso uždaviniui | I60: =SUM(I57:I59) -> 86.1 | J60: =SUM(J57:J59) -> 82.3
A61: 03 | B61: Iš viso tikslui | I61: =+I60 -> 86.1 | J61: =+J60 -> 82.3
A62: 04 | B62: Didinti saugumą rajone
A63: 04 | B63: 01 | C63: Užtikrinti rajono gyventojų viešąją tvarką ir viešąjį saugumą
A64: 04 | B64: 01 | C64: 01 | D64: Finansuoti prevencinę programą „Saugios aplinkos kūrimas ir bendruomenės teisėtvarkos kūrimas" | E64: 1 | F64: Įgyvendinamų programos priemonių koordinavimas | G64: Bendrasis skyrius | H64: SB | I64: 12 | J64: 12 | K64: Įgyvendintų prevencinių priemonių skaičius | L64: 30 | M64: 30 | N64: Tiek kontaktiniu, tiek nekontaktiniu būdu organizuotos viktorinos/konkursai, vykdytos prevencinės, eismo saugumo priemonės
A65: 04 | B65: 01 | C65: 03 | D65: Organizuoti civilinę saugą | E65: 1 | F65: Civilinės saugos ekstremaliųjų situacijų valdymo plano prevencinių priemonių rengimas (atnaujinimas) | G65: Vyr. specialistas (civilinei ir priešgaisrinei saugai) | H65: SBVB | I65: 44.9 | J65: 44.9 | K65: Įgyvendintų ekstremaliųjų situacijų prevencijos priemonių planą vykdymo procentas | L65: 100 | M65: 100 | N65: Pagal ekstremaliųjų situacijų prevencijos priemonių planą 2021 m. numatytos 63 prevencinės priemonės įvykdytos. 2021 m. įvyko 5 Ekstremaliųjų situacijų komisijos posėdžiai. 2021 m. rajone įvyko 7 ekstremalūs įvykiai; dėl jų nukentėjusių žmonių nebuvo. Tobulinta Civilinės saugos gyventojų perspėjimo sirenomis sistema Rajone šiuo metu yra 29 centralizuoto valdymo elektros sirenos. Kėdainių mieste parinkta 18 Savivaldybei priklausančių pastatų, kuriuose gali būti priimta ir užtikrinamos būtinos laikinam gyvenimui sąlygos beveik 11 tūkst. žmonių
E66: 2 | F66: Administracijos struktūrinių padalinių, įstaigų, įmonių darbų saugos patikrinimų vykdymas, priešgaisrinės tarnybos parengties kontroliavimas
E67: 3 | F67: Rajono civilinės saugos perspėjimo sistemos būklės kontroliavimas, civilinės saugos mokymų organizavimas
A68: 04 | B68: 01 | C68: 04 | D68: Vykdyti mobilizacijos administravimą | E68: 1 | F68: Pasirengimo mobilizacijai, demobilizacijai ir priimančios šalies paramos teikimo administravimas | G68: Vyr. specialistas (mobilizacijai ir civilinei saugai) | H68: SBVB | I68: 29.6 | J68: 29.6 | K68: Parengtų mobilizacijos planų skaičius | L68: 1 | M68: 1 | N68: 2021 m. parengtas ir papatvirtintas Asmenų, dalyvaujančių mobilizaciniuose ir priimančios šalies paramos mokymuose 2021 m. planas; Mobilizacijos planas; Mobilizacijos valdymo grupė ir jos nuostatai; Savivaldybės administracijos ir jai pavaldžių įstaigų civilinio mobilizacinio personalo rezervo sąrašas. Taip pat organizuoti pilietinio (neginkluoto) pasipriešinimo mokymai.
E69: 2 | F69: Duomenų rinkimas, sisteminimas, savivaldybės mobilizacijos plano rengimas
E70: 3 | F70: Mobilizacinio ar priimančios šalies paramos teikimo mokymo organizavimas, koordinavimas
A71: 04 | B71: 01 | C71: 06 | D71: Užtikrinti gyventojų saugumą, diegiant vaizdo stebėjimo ir saugumo priemones mieste | E71: 1 | F71: Vaizdo stebėjimo sistemos ir transporto priemonių greičio, raudono šviesoforo signalo pažeidimo fiksavimo sistemos įrangos nuomos, šių sistemų įrengimo ir priežiūros sutarties koordinavimas | G71: Bendrasis skyrius | H71: SB | I71: 95.5 | J71: 100.3 | K71: Stebėjimo vietų viešosiose erdvėse skaičius | L71: 29 | M71: 45 | N71: Kėdainių miestą stebi 37 vaizdo kameros, kurias prižiūri 5 skyriaus budėtojai. Taip pat naudojamos 8 kilnojamosios kameros, kurių vietos nuolat keičiamos pagal prašymus ar poreikį. Mieste 2021 m. buvo fiksuoti 983 įvairūs atvejai apie galimus teisės pažeidimus, pagal kuriuos buvo atlikti aplinkybių tikslinimai.
A72: 04 | B72: 01 | C72: 07 | D72: Užtikrinti gyventojų saugumą, diegiant vaizdo stebėjimo ir saugumo priemones rajone | E72: 1 | F72: Vaizdo stebėjimo sistemos ir transporto priemonių greičio, raudono šviesoforo signalo pažeidimo fiksavimo sistemos įrangos nuomos, šių sistemų įrengimo ir priežiūros sutarties koordinavimas | G72: Bendrasis skyrius | H72: SB | I72: 10 | J72: 0.6 | K72: Stebėjimo vietų viešosiose erdvėse skaičius | L72: 2 | M72: 2 | N72: 2021 m. 2 seniūnijos įsigijo mobilias vaizdo stebėjimo kameras. Iš viso kaimiškosiose seniūnijose viešąsias / problemines vietas stebi 64 kameros.
A73: 04 | B73: 02 | C73: Iš viso uždaviniui | I73: =SUM(I64:I72) -> 192 | J73: =SUM(J64:J72) -> 187.4
A74: 04 | B74: Iš viso tikslui | I74: =+I73 -> 192 | J74: =+J73 -> 187.4
A75: Iš viso programai | I75: =+I74+I61+I54+I45 -> 7789 | J75: =+J74+J61+J54+J45 -> 7528.2
A76: Finansavimo šaltiniai | I76: =+I75-I77-I84 -> 9.094947e-13 | J76: =+J75-J77-J84 -> 1.8189894e-12
A77: SAVIVALDYBĖS LĖŠOS | I77: =SUM(I78:I83) -> 7781 | J77: =SUM(J78:J83) -> 7522.2
A78: Savivaldybės biudžetas SB | I78: =+I72+I71+I64+I58+I57+I52+I51+I48+I41+I38+I37+I36+I35+I11+I39 -> 5940.3 | J78: =+J72+J71+J64+J58+J57+J52+J51+J48+J41+J38+J37+J36+J35+J11+J39 -> 5690.9
A79: Valstybės biudžeto specialiosios tikslinės dotacijos lėšos SBVB | I79: =+I68+I65+I43+I30+I28+I25+I24+I21+I20+I19+I18+I42 -> 596.5 | J79: =+J68+J65+J43+J30+J28+J25+J24+J21+J20+J19+J18+J42 -> 596.4
A80: Aplinkos apsaugos rėmimo specialiosios programos lėšos AA
A81: Iš pajamų už suteiktas paslaugas lėšos ĮP | I81: =+I14 -> 23 | J81: =+J14 -> 13.7
A82: Skolintos lėšos SK | I82: =+I40 -> 1221.2 | J82: =+J40 -> 1221.2
A83: Kelių priežiūros ir plėtros programos lėšos KPP
A84: KITOS LĖŠOS | I84: =SUM(I85:I88) -> 8 | J84: =SUM(J85:J88) -> 6
A85: Europos Sąjungos lėšos, užsienio fondų lėšos ES | I85: =+I59 -> 8 | J85: =+J59 -> 6
A86: Valstybės biudžeto lėšos VB
A87: Privačios – investuotojų lėšos PR
A88: Kiti finansavimo šaltiniai KT

Sheet Lešu poreikis iš viso
A2: Kėdainių rajono savivaldybės administracijos 2021 metų veiklos plano asignavimai
A4: Finansavimo šaltinis | F4: Numatomi 2021-ųjų m. asignavimai, tūkst. Eur | G4: Panaudoti 2021-ųjų m. asignavimai, tūkst. Eur
A9: IŠ VISO PROGRAMOMS | F9: =+'01šviet.'!I53+'02sveikat.'!I58+'03social.'!I62+'04sport.'!I48+'05kultura'!I58+'06turizm_paveld'!I62+'07Infrastr.'!I121+'08aplinkosauga'!I57+'09ž.ū.'!I37+'10verslas'!I27+'11valdym.'!I75 -> 43847.9 | G9: =+'01šviet.'!J53+'02sveikat.'!J58+'03social.'!J62+'04sport.'!J48+'05kultura'!J58+'06turizm_paveld'!J62+'07Infrastr.'!J121+'08aplinkosauga'!J57+'09ž.ū.'!J37+'10verslas'!J27+'11valdym.'!J75 -> 37909.5
A10: Finansavimo šaltiniai | F10: =+'01šviet.'!I54+'02sveikat.'!I59+'03social.'!I63+'04sport.'!I49+'05kultura'!I59+'06turizm_paveld'!I63+'07Infrastr.'!I122+'08aplinkosauga'!I58+'09ž.ū.'!I38+'10verslas'!I28+'11valdym.'!I76 -> -7.9580786e-13 | G10: =+'01šviet.'!J54+'02sveikat.'!J59+'03social.'!J63+'04sport.'!J49+'05kultura'!J59+'06turizm_paveld'!J63+'07Infrastr.'!J122+'08aplinkosauga'!J58+'09ž.ū.'!J38+'10verslas'!J28+'11valdym.'!J76 -> 2.0463631e-12
A11: SAVIVALDYBĖS LĖŠOS | F11: =+'01šviet.'!I55+'02sveikat.'!I60+'03social.'!I64+'04sport.'!I50+'05kultura'!I60+'06turizm_paveld'!I64+'07Infrastr.'!I123+'08aplinkosauga'!I59+'09ž.ū.'!I39+'10verslas'!I29+'11valdym.'!I77 -> 25624.7 | G11: =+'01šviet.'!J55+'02sveikat.'!J60+'03social.'!J64+'04sport.'!J50+'05kultura'!J60+'06turizm_paveld'!J64+'07Infrastr.'!J123+'08aplinkosauga'!J59+'09ž.ū.'!J39+'10verslas'!J29+'11valdym.'!J77 -> 23750.5
A12: Savivaldybės biudžetas SB | F12: =+'01šviet.'!I56+'02sveikat.'!I61+'03social.'!I65+'04sport.'!I51+'05kultura'!I61+'06turizm_paveld'!I65+'07Infrastr.'!I124+'08aplinkosauga'!I60+'09ž.ū.'!I40+'10verslas'!I30+'11valdym.'!I78 -> 15197.5 | G12: =+'01šviet.'!J56+'02sveikat.'!J61+'03social.'!J65+'04sport.'!J51+'05kultura'!J61+'06turizm_paveld'!J65+'07Infrastr.'!J124+'08aplinkosauga'!J60+'09ž.ū.'!J40+'10verslas'!J30+'11valdym.'!J78 -> 13616.4
A13: Valstybės biudžeto specialiosios tikslinės dotacijos lėšos SBVB | F13: =+'01šviet.'!I57+'02sveikat.'!I62+'03social.'!I66+'04sport.'!I52+'05kultura'!I62+'06turizm_paveld'!I66+'07Infrastr.'!I125+'08aplinkosauga'!I61+'09ž.ū.'!I41+'10verslas'!I31+'11valdym.'!I79 -> 5267.2 | G13: =+'01šviet.'!J57+'02sveikat.'!J62+'03social.'!J66+'04sport.'!J52+'05kultura'!J62+'06turizm_paveld'!J66+'07Infrastr.'!J125+'08aplinkosauga'!J61+'09ž.ū.'!J41+'10verslas'!J31+'11valdym.'!J79 -> 5137.9
A14: Aplinkos apsaugos rėmimo specialiosios programos lėšos AA | F14: =+'01šviet.'!I58+'02sveikat.'!I63+'03social.'!I67+'04sport.'!I53+'05kultura'!I63+'06turizm_paveld'!I67+'07Infrastr.'!I126+'08aplinkosauga'!I62+'09ž.ū.'!I42+'10verslas'!I32+'11valdym.'!I80 -> 394.2 | G14: =+'01šviet.'!J58+'02sveikat.'!J63+'03social.'!J67+'04sport.'!J53+'05kultura'!J63+'06turizm_paveld'!J67+'07Infrastr.'!J126+'08aplinkosauga'!J62+'09ž.ū.'!J42+'10verslas'!J32+'11valdym.'!J80 -> 285.7
A15: Iš pajamų už suteiktas paslaugas lėšos ĮP | F15: =+'01šviet.'!I59+'02sveikat.'!I64+'03social.'!I68+'04sport.'!I54+'05kultura'!I64+'06turizm_paveld'!I68+'07Infrastr.'!I127+'08aplinkosauga'!I63+'09ž.ū.'!I43+'10verslas'!I33+'11valdym.'!I81 -> 23 | G15: =+'01šviet.'!J59+'02sveikat.'!J64+'03social.'!J68+'04sport.'!J54+'05kultura'!J64+'06turizm_paveld'!J68+'07Infrastr.'!J127+'08aplinkosauga'!J63+'09ž.ū.'!J43+'10verslas'!J33+'11valdym.'!J81 -> 13.7
A16: Skolintos lėšos SK | F16: =+'01šviet.'!I60+'02sveikat.'!I65+'03social.'!I69+'04sport.'!I55+'05kultura'!I65+'06turizm_paveld'!I69+'07Infrastr.'!I128+'08aplinkosauga'!I64+'09ž.ū.'!I44+'10verslas'!I34+'11valdym.'!I82 -> 2421.2 | G16: =+'01šviet.'!J60+'02sveikat.'!J65+'03social.'!J69+'04sport.'!J55+'05kultura'!J65+'06turizm_paveld'!J69+'07Infrastr.'!J128+'08aplinkosauga'!J64+'09ž.ū.'!J44+'10verslas'!J34+'11valdym.'!J82 -> 2378.7
A17: Kelių priežiūros ir plėtros programos lėšos KPP | F17: =+'01šviet.'!I61+'02sveikat.'!I66+'03social.'!I70+'04sport.'!I56+'05kultura'!I66+'06turizm_paveld'!I70+'07Infrastr.'!I129+'08aplinkosauga'!I65+'09ž.ū.'!I45+'10verslas'!I35+'11valdym.'!I83 -> 2321.6 | G17: =+'01šviet.'!J61+'02sveikat.'!J66+'03social.'!J70+'04sport.'!J56+'05kultura'!J66+'06turizm_paveld'!J70+'07Infrastr.'!J129+'08aplinkosauga'!J65+'09ž.ū.'!J45+'10verslas'!J35+'11valdym.'!J83 -> 2318.1
A18: KITOS LĖŠOS | F18: =+'01šviet.'!I62+'02sveikat.'!I67+'03social.'!I71+'04sport.'!I57+'05kultura'!I67+'06turizm_paveld'!I71+'07Infrastr.'!I130+'08aplinkosauga'!I66+'09ž.ū.'!I46+'10verslas'!I36+'11valdym.'!I84 -> 18223.2 | G18: =+'01šviet.'!J62+'02sveikat.'!J67+'03social.'!J71+'04sport.'!J57+'05kultura'!J67+'06turizm_paveld'!J71+'07Infrastr.'!J130+'08aplinkosauga'!J66+'09ž.ū.'!J46+'10verslas'!J36+'11valdym.'!J84 -> 14159
A19: Europos Sąjungos lėšos, užsienio fondų lėšos ES | F19: =+'01šviet.'!I63+'02sveikat.'!I68+'03social.'!I72+'04sport.'!I58+'05kultura'!I68+'06turizm_paveld'!I72+'07Infrastr.'!I131+'08aplinkosauga'!I67+'09ž.ū.'!I47+'10verslas'!I37+'11valdym.'!I85 -> 3520 | G19: =+'01šviet.'!J63+'02sveikat.'!J68+'03social.'!J72+'04sport.'!J58+'05kultura'!J68+'06turizm_paveld'!J72+'07Infrastr.'!J131+'08aplinkosauga'!J67+'09ž.ū.'!J47+'10verslas'!J37+'11valdym.'!J85 -> 1703.8
A20: Valstybės biudžeto lėšos VB | F20: =+'01šviet.'!I64+'02sveikat.'!I69+'03social.'!I73+'04sport.'!I59+'05kultura'!I69+'06turizm_paveld'!I73+'07Infrastr.'!I132+'08aplinkosauga'!I68+'09ž.ū.'!I48+'10verslas'!I38+'11valdym.'!I86 -> 14541.2 | G20: =+'01šviet.'!J64+'02sveikat.'!J69+'03social.'!J73+'04sport.'!J59+'05kultura'!J69+'06turizm_paveld'!J73+'07Infrastr.'!J132+'08aplinkosauga'!J68+'09ž.ū.'!J48+'10verslas'!J38+'11valdym.'!J86 -> 12350.1
... A22: Kiti finansavimo šaltiniai KT | F22: =+'01šviet.'!I66+'02sveikat.'!I71+'03social.'!I75+'04sport.'!I61+'05kultura'!I71+'06turizm_paveld'!I75+'07Infrastr.'!I134+'08aplinkosauga'!I70+'09ž.ū.'!I50+'10verslas'!I40+'11valdym.'!I88 -> 162 | G22: =+'01šviet.'!J66+'02sveikat.'!J71+'03social.'!J75+'04sport.'!J61+'05kultura'!J71+'06turizm_paveld'!J75+'07Infrastr.'!J134+'08aplinkosauga'!J70+'09ž.ū.'!J50+'10verslas'!J40+'11valdym.'!J88 -> 105.1

Sheet Sheet1
B4: 1 | C4: Suvil | D4: 690 | E4: 1400
B5: 2 | C5: trusk | D5: 1027 | E5: 2400
B6: 3 | C6: Vil | D6: 1635.5 | E6: 2200
B7: 4 | C7: Gudž | D7: 770 | E7: 1700
B8: 5 | C8: šėt | D8: 1261 | E8: 2400
B9: 6 | C9: miestas | D9: 260 | E9: 470
B10: 7 | C10: dotn | D10: 1350 | E10: 3800
B11: 8 | C11: josv | D11: 1166.66 | E11: 2500
B12: 9 | C12: Peledn | D12: 1261.7 | E12: 5750
B13: 10 | C13: krakės | D13: 1292.57 | E13: 1900
B14: 11 | C14: Pernar. | D14: 796 | E14: 1300
D15: =SUM(D4:D14) -> 11510.43 | E15: =SUM(E4:E14) -> 25820
