Workbook

Sheet 01šviet.
K1: PATVIRTINTA Kėdainių rajono savivaldybės administracijos direktoriaus 2023 m. balandžio 7 d. įsakymu Nr. AD-1-391
A2: Kėdainių rajono savivaldybės administracijos 2022 metų veiklos plano įgyvendinimo ataskaita
A4: Programos tikslo kodas | B4: Uždavinio kodas | C4: Priemonės kodas | D4: Priemonės pavadinimas | E4: Veiklos/darbo/ veiksmo kodas | F4: Veiklos/darbo/ veiksmo pavadinimas | G4: Atsakingi vykdytojai | H4: Finansavimo šaltinis | I4: Numatomi 2022-ųjų m. asignavimai, tūkst. Eur | J4: Panudoti 2022-ųjų m. asignavimai, tūkst. Eur | K4: Proceso/indėlio vertinimo kriterijai
K5: Pavadinimas | L5: Planuota reikšmė | M5: Pasiekta reikšmė | N5: Nukrypimų nuo plano priežastys, pastabos, komentarai
A9: 01 ŠVIETIMAS IR UGDYMAS
A10: 01 | B10: Plėtoti kokybišką, visiems prieinamą, tęstinę švietimo sistemą savivaldybėje
A11: 01 | B11: 01 | C11: Sudaryti prielaidas ugdymo kokybei gerinti, mažinti ugdymo kokybės skirtumus tarp mokyklų, didinti pedagogų motyvaciją
A12: 01 | B12: 01 | C12: 07 | D12: Įgyvendinti Kėdainių rajono savivaldybės mokytojų motyvacijos programą | E12: 1 | F12: Programos įgyvendinimo koordinavimas | G12: Švietimo skyrius | H12: SB | I12: 69 | J12: 63.5 | K12: Savivaldybės mokyklose dirbančių mokytojų, kurie paskatinti, skaičius | L12: 600 | M12: 700 | N12: Programos lėšomis 698 paskatinti mokytojai už mokinių parengimą olimpiadoms ir pasiekimus, už inovatyvias ugdymo idėjas ir jų įgyvendinimą, 1 mokytojui iš dalies kompensuotas būsto nuomos mokestis, 1 - kompensuotos persikėlimo išlaidos
A13: 01 | B13: 01 | C13: 10 | D13: Finansuoti vaikų vasaros stovyklų ir kitų neformaliojo vaikų švietimo veiklų programas | E13: 1 | F13: Programų konkurso organizavimas, konsultacijos, paraiškų ir sutarčių derinimas, veiklų stebėjimas, vertinimas, ataskaitų teikimas | G13: Švietimo skyrius | H13: SB | I13: 50 | J13: 50 | K13: Finansuotų vaikų vasaros poilsio ir užimtumo programų skaičius | L13: 35 | M13: 36 | N13: Finansuotos (konkurso būdu atrinktos) 36 vaikų vasaros poilsio ir užimtumo stovyklų programos, kuriose dalyvavo 941 vaikas, iš kurių 32 didelių ir labai didelių specialiųjų ugdymosi poreikių turintys vaikai
A14: 01 | B14: 01 | C14: 11 | D14: Skatinti savivaldybės gabius mokinius | E14: 1 | F14: Mokyklose besimokančių gabių mokinių, per vienerius mokslo metus pasiekusių puikių mokymosi rezultatų, įvertinimas ir paskatinimas | G14: Švietimo skyrius | H14: SB | I14: 14 | J14: 10 | K14: Mokinių, kuriems skirti piniginiai prizai, skaičius | L14: 110 | M14: 128 | N14: Už pasiekimus dalykinėse olimpiadose, konkursuose, meno festivaliuose ir sporto varžybose buvo atrinkti ir apdovanoti 128 mokiniai
A15: 01 | B15: 01 | C15: 12 | D15: Koofinansuoti švietimo įstaigų dalyvavimą infrastruktūros gerinimo/modernizavimo projektuose | E15: 1 | F15: Priemonės koordinavimas | G15: Administracijos direktorius | H15: SB | I15: 50 | J15: 1.6 | K15: Įstaigų, kurioms skirtas finansavimas, skaičius | L15: 3 | M15: 3 | N15: Kofinansuoti 3 įstaigų dalinis dalyvavimas projektuose
A16: 01 | B16: 01 | C16: 13 | D16: Organizuoti ir užtikrinti Švietimo skyriaus specialistų darbą | E16: 1 | F16: Švietimo įstaigų veiklos koordinavimas, ugdymo proceso stebėjimas, analizavimas | G16: Švietimo skyrius | H16: SB | I16: 146.6 | J16: 138.1 | K16: Kuruojamų švietimo įstaigų skaičius | L16: 28 | M16: 27 | N16: Švietimo skyrius koordinavo 6 gimnazijų, Suaugusiųjų ir jaunimo mokymo centro, 3 progimnazijų, 5 pagrindinių mokyklų, mokyklos-darželio, 7 lopšelių-darželių, 3 neformaliojo vaikų švietimo mokyklų ir Švietimo pagalbos tarnybos veiklą. Ikimokyklinio ir priešmokyklinio ugdymo grupės veikė Josvainių ir Šėtos socialiniuose ugdymo centruose. Nuo 2022 m. rugsėjo 1 d., vykdant Mokyklų tinklo pertvarką, Truskavos pagrindinė mokykla prijungta prie Šėtos gimnazijos
H17: SBVB | I17: 8.1 | J17: 8.1
A18: 01 | B18: 01 | C18: 14 | D18: Teikti Metų mokytojo apdovanojimą | E18: 1 | F18: Savivaldybės mokytojų kompetencijų, veiklos rezultatų įvertinimas ir paskatinimas profesinei bei kūrybinei iniciatyvai | G18: Švietimo skyrius | H18: SB | I18: 3 | J18: 3 | K18: Įteiktų apdovanojimų skaičius | L18: 1 | M18: 1 | N18: Už puikius pedagoginio darbo rezultatus Kėdainių „Atžalyno“ gimnazijos lietuvių kalbos ir literatūros mokytoja metodininkė A. Krapikienė
A19: 01 | B19: 01 | C19: Iš viso uždaviniui | I19: =SUM(I12:I18) -> 340.7 | J19: =SUM(J12:J18) -> 274.3
A20: 01 | B20: Iš viso tikslui | I20: =+I19 -> 340.7 | J20: =+J19 -> 274.3
H21: SB
H22: SBVB
H23: ES
H24: VB
H25: ĮP
A26: 02 | B26: Tobulinti ugdymo(si) infrastruktūrą, aplinką, diegti inovacijas
A27: 02 | B27: 01 | C27: Gerinti darbo ir mokymo(si) sąlygas savivaldybės švietimo įstaigose
A28: 02 | B28: 01 | C28: 01 | D28: Modernizuoti Kėdainių šviesiosios gimnazijos pastatą Kėdainiuose, Didžioji g. 60 | E28: 1 | F28: Rangos darbų koordinavimas, rangovo prisiimtų sutartinių įsipareigojimų vykdymo kontrolė | G28: Statybos ir turto skyrius | H28: SBVB | I28: 855 | J28: 855 | K28: Atlikta einamaisiais metais numatytų darbų, proc. | L28: 100 | M28: 100 | N28: Tęsti gimnazijos pastato rekonstrukcijos darbai
H29: SB | I29: 57.2 | J29: 57.2
A30: 02 | B30: 01 | C30: 02 | D30: Remontuoti Kėdainių „Ryto“ progimnaziją, kuriant šiuolaikines mokymosi erdves | E30: 1 | F30: Priemonės įgyvendinimo koordinavimas | G30: Administracijos direktorius | H30: SB | I30: 30 | J30: 30 | K30: Įgyvendintų veiklų, modernizuojant edukacines erdves einamaisiais metais, proc. | L30: 100 | M30: 100 | N30: Progimnazijoje atnaujintos visų kabinetų durys, suremontuota koridoriaus dalis (II a.)
A31: 02 | B31: 01 | C31: 03 | D31: Atnaujinti Lietuvos sporto universiteto Kėdainių „Aušros“ progimnaziją, kuriant modernias ir saugias erdves | E31: 1 | F31: Projekto koordinavimas, rangos darbų koordinavimas, rangovo prisiimtų sutartinių įsipareigojimų vykdymo kontrolė | G31: Statybos ir turto skyrius, Strateginio planavimo ir investicijų skyrius | H31: SB | I31: 99.1 | J31: 86.7 | K31: Įgyvendintų veiklų, atnaujinant progimnaziją bei modernizuojant edukacines erdves einamaisiais metais, proc. | L31: 100 | M31: 100 | N31: Gavus papildomą finansavimą, įsigytos papildomos edukacinės priemonės ir baldai, įvesta priešgaisrinė ir saugos signalizacija, vykdyti baseino remonto darbai
H32: ES | I32: 58.4 | J32: 56.1
H33: VB | I33: 5.1 | J33: 5
A34: 02 | B34: 01 | C34: 04 | D34: Sudaryti saugias ugdymo sąlygas įstaigose, vykdančiose ugdymo programas | E34: 1 | F34: Priemonės įgyvendinimo koordinavimas | G34: Švietimo skyrius | H34: SB | I34: 100 | J34: 94.2 | K34: Įstaigų skaičius, kuriose atlikti remonto darbai | L34: 4 | M34: 4 | N34: "Spindulio" mokykloje atnaujintos WC patalpos, naujai įrengtos l/d "Žilvitis", m/d "Obelėlė" tvoros, l/d "Puriena" keisti vartai, varteliai, atnaujinta virtuvė įranga
A35: 02 | B35: 01 | C35: 05 | D35: Įrengti vėdinimo ir kondicionavimo sistemas savivaldybės ugdymo įstaigose | E35: 1 | F35: Priemonės įgyvendinimo koordinavimas | G35: Švietimo skyrius | H35: SB | I35: 50 | J35: 50 | K35: Grupių, klasių ir egzaminų centrų skaičius, kuriose įrengta vėdinimo (kondicionavimo) sistema | L35: 37 | M35: 37 | N35: Darželių grupių bei dalies mokyklų klasių patalpose montuota vėdinimo (kondicionavimo) sistema
A36: 02 | B36: 01 | C36: 06 | D36: Įrengti gamtos ir technologijų mokslų laboratorijas | E36: 1 | F36: Priemonės įgyvendinimo koordinavimas | G36: Švietimo skyrius | H36: SB | I36: 20 | J36: 20 | K36: Įstaigų skaičius, kuriose įrengtos laboratorijos | L36: 4 | M36: 4 | N36: Finansavimas skitas Šėtos bei Akademijos gimnazijoms, Surviliškio V.Svirskio bei Labūnavos pagrindinėms mokykloms
A37: 02 | B37: 01 | C37: 07 | D37: Atnaujinti Kėdainių muzikos mokyklos pastato fasadą, laiptus į rūsį | E37: 1 | F37: Techninės dokumentacijos ir rangos darbų pirkimo viešojo konkurso organizavimas, sutarčių koordinavimas, teikėjų prisiimtų sutartinių įsipareigojimų vykdymo kontrolė | G37: Statybos ir turto skyrius | H37: SB | I37: 40.4 | J37: 40.3 | K37: Atlikta einamaisiais metais numatytų darbų, proc. | L37: 100 | M37: 100 | N37: Einamaisiais metais atlikti fasado (nuo Didžiosios g. pusės) remonto darbai
A38: 02 | B38: 01 | C38: 08 | D38: Parengti bendrojo ir ikimokyklinio ugdymo įstaigų (skyrių) pastatų modernizavimo technines dokumentacijas ir atlikti darbus | E38: 1 | F38: Kėdainių l/d "Vyturėlis" ir Kėdainių l/d. "Varpelis" modernizavimo techninės dokumentacijos rengimo sutarčių koordinavimas, rangos konkurso viešojo pirkimo organizavimas, sutarčių koordinavimas, įsipareigojimų vykdymo kontrolė | G38: Statybos ir turto skyrius, Strateginio planavimo ir investicijų skyrius | H38: SB | I38: 40 | J38: 20.6 | K38: Parengtos techninės dokumentacijos skaičius/Atlikta einamaisiais metais numatytų darbų, proc. | L38: 2/100 | M38: 2/0 | N38: Parengti ir ekspertuoti l/d "Vyturėlis" ir l/d. "Varpelis" modernizavimo techniniai projektai. Pradėtos rangos darbų įsigijimo procedūros. Rangos darbai - 2023 m.
H39: SK | I39: 400 | J39: 0
A40: 02 | B40: 01 | C40: 11 | D40: Atnaujinti Kėdainių J.Paukštelio progimnazijos vidaus erdves | E40: 1 | F40: Priemonės įgyvendinimo koordinavimas | G40: Administracijos direktorius | H40: SB | I40: 25 | J40: 25 | K40: Einamaisiais metais numatyta atlikti darbų, proc. | L40: 100 | M40: 100 | N40: Mokykloje įrengta „Tylioji skaitykla“, atnaujinta biblioteka, suremontuoti 7 mokomieji kabinetai, 2 aukšto koridorius
A41: 02 | B41: 01 | C41: 12 | D41: Vykdyti Kėdainių lopšelio-darželio „Žilvitis“ infrastruktūros modernizavimo projektą | E41: 1 | F41: Projekto koordinavimas, prekių įsigijimo viešųjų pirkimų organizavimas, tiekėjo prisiimtų sutartinių įsipareigojimų vykdymo kontrolė | G41: Strateginio planavimo ir investicijų skyrius | H41: SB | I41: 0.5 | J41: 0 | K41: Įsigytų edukacinių priemonių skaičius | L41: 3 | M41: 3 | N41: Gavus papildomą finansavimą įsigytos papildomos edukacinės priemonės, apmokėjimas - 2023 m.
H42: ES | I42: 6.2 | J42: 0
A43: 02 | B43: 01 | C43: Iš viso uždaviniui | I43: =SUM(I28:I42) -> 1786.9 | J43: =SUM(J28:J42) -> 1340.1
A44: 02 | B44: Iš viso tikslui | I44: =+I43 -> 1786.9 | J44: =+J43 -> 1340.1
...

Sheet 02sveikat.
A2: Programos tikslo kodas | B2: Uždavinio kodas | C2: Priemonės kodas | D2: Priemonės pavadinimas | E2: Veiklos/darbo/ veiksmo kodas | F2: Veiklos/darbo/ veiksmo pavadinimas | G2: Atsakingi vykdytojai | H2: Finansavimo šaltinis | I2: Numatomi 2022-ųjų m. asignavimai, tūkst. Eur | J2: Panaudoti 2022-ųjų m. asignavimai, tūkst. Eur | K2: Proceso/indėlio vertinimo kriterijai
K3: Pavadinimas | L3: Planuota reikšmė | M3: Pasiekta reikšmė | N3: Nukrypimų nuo plano priežastys, pastabos, komentarai
A7: 02 SVEIKATOS APSAUGA
A8: 01 | B8: Stiprinti ir išsaugoti gyventojų sveikatą
A9: 01 | B9: 01 | C9: Sudaryti sąlygas gyventojams stiprinti sveikatą, kurti ir plėtoti su sveikatos stiprinimu susijusias paslaugas
A10: 01 | B10: 01 | C10: 01 | D10: Vykdyti Visuomenės sveikatos rėmimo specialiosios programos priemones | E10: 1 | F10: Programos priemonių sveikatos projektų konkurso organizavimas, sutarčių su vykdytojais parengimas, priemonių įgyvendinimo koordinavimas ir kontrolė; užkrečiamųjų ligų plano priemonių vykdymo kontrolė | G10: Vyr. specialistė (savivaldybės gydytoja) | H10: AA | I10: 87.3 | J10: 62.7 | K10: Visuomenės sveikatos rėmimo specialiosios programos įgyvendinimas, proc. | L10: 100 | M10: 100 | N10: Savivaldybės visuomenės sveikatos rėmimo specialiosios programos lėšos buvo skirtos priemonėms Psichikos sveikatos stiprinimo srityje; Nelaimingų atsitikimų ir traumų prevencijos srityje; Aplinkos sveikatinimo srityje. Iš viso suplanuotos ir įvykdytos 29 priemonės
A11: 01 | B11: 01 | C11: 03 | D11: Peržiūrėti neveiksniais pripažintų asmenų būklę | E11: 1 | F11: Neveiksniais pripažintų asmenų būklės peržiūrėjimo organizavimas | G11: Socialinės paramos skyrius | H11: SBVB | I11: 2.5 | J11: 2.3 | K11: Asmenų, kurių neveiksnumas peržiūrėtas, skaičius | L11: 60 | M11: 63 | N11: Neveiksnių asmenų būklės peržiūrėjimo komisija peržiūrėjo 63 asmenų būklę
A12: 01 | B12: 01 | C12: 04 | D12: Gerinti pirminės asmens sveikatos priežiūros paslaugų teikimo prieinamumą tuberkuliozės srityje | E12: 1 | F12: Projekto, kurį vykdo Kėdainių PSPC, kofinansavimo užtikrinimas | G12: Administracijos direktorius | H12: SB | I12: 0.1 | J12: 0 | K12: Tuberkulioze sergančių pacientų, kuriems buvo suteiktos socialinės paramos priemonės tuberkuliozės gydymo metu | L12: 4 | M12: 4 | N12: Projektą įgyvendina Kėdainių PSPC. Savivaldybės indėlio 2022 m. nereikėjo. Projekto įgyvendinimo metu tuberkulioze sergantiems pacientams, ambulatorinio gydymo metu dalijami maisto talonai
A13: 01 | B13: 01 | C13: 07 | D13: Kompensuoti patirtas išlaidas už skiepijimo nuo COVID-19 ligos (koronaviruso infekcijos) paslaugas | H13: SBVB | K13: Paskiepytų vakcina gyventojų procentinė dalis (ne mažiau) | L13: 75 | M13: 75
A14: 01 | B14: 01 | C14: Iš viso uždaviniui | I14: =SUM(I10:I13) -> 89.9 | J14: =SUM(J10:J13) -> 65
A15: 01 | B15: Iš viso tikslui | I15: =+I14 -> 89.9 | J15: =+J14 -> 65
A16: 02 | B16: Gerinti sveikatos priežiūros paslaugų kokybę ir prieinamumą, plėsti paslaugų spektrą, atnaujinti materialinę aplinką
A17: 02 | B17: 01 | C17: Siekti gyventojų sveikatos išsaugojimo, gerinant sveikatos priežiūros paslaugų kokybę ir prieinamumą
A18: 02 | B18: 01 | C18: 01 | D18: Vykdyti E. sveikatos informacinės sistemos diegimo, palaikymo ir tobulinimo VšĮ PSPC ir VšĮ Kėdainių ligoninėje 2022-2026 m. programą | E18: 1 | F18: Sutarčių su vykdytojais suderinimas, priemonių koordinavimas ir vykdymo kontrolė | G18: Vyr. specialistė (savivaldybės gydytoja) | H18: SB | I18: 44.9 | J18: 44.9 | K18: Atnaujintos ir E. Sveikatos IS funkcionalumui pritaikytos įrangos skaičius | L18: 6 | M18: 6 | N18: Įgyvendinant programą vykdytas E. sveikatos IS funkcionalumų palaikymas, atnaujinimas ir diegimas, IKT įrangos modernizavimas, apmokyti nauji darbuotojai
A19: 02 | B19: 01 | C19: 02 | D19: Vykdyti VšĮ Kėdainių ligoninės dantų protezavimo programą | E19: 1 | F19: Sutarčių su vykdytojais suderinimas, priemonių koordinavimas ir vykdymo kontrolė | G19: Vyr. specialistė (savivaldybės gydytoja) | H19: SB | I19: 20 | J19: 20 | K19: Suteiktų dantų protezavimo paslaugų, finansuojamų savivaldybės biudžeto lėšomis, skaičius | L19: 41 | M19: 41 | N19: Įgyvendinant programą savivaldybės biudžeto lėšomis dantų protezavimo paslauga suteikta 41 asmeniui
A20: 02 | B20: 01 | C20: 03 | D20: Vykdyti Kėdainių rajono tuberkuliozės prevencijos, ankstyvosios diagnostikos, gydymo ir kontrolės 2017–2022 m. programą | E20: 1 | F20: Sutarčių su vykdytojais suderinimas, priemonių koordinavimas ir vykdymo kontrolė | G20: Vyr. specialistė (savivaldybės gydytoja) | H20: SB | I20: 26.2 | J20: 26.2 | K20: Įsigytos įrangos skaičius (lizingas)/atliktų tyrimų ir paslaugų sk. | L20: 1/3000/ 5000 | M20: 1/ 3589/ | N20: Programos lėšomis mokėtos lizingo įmokos už įsigytą universalų distancinį valdymo rentgeno diagnostikos aparatą, pirkti tuberkulino mėginiai
A21: 02 | B21: 01 | C21: 04 | D21: Vykdyti Ultragarsinių diagnostinių paslaugų teikimo efektyvumo gerinimo Kėdainių rajono savivaldybėje 2017–2022 m. programą | E21: 1 | F21: Sutarčių su vykdytojais suderinimas, priemonių koordinavimas ir vykdymo kontrolė | G21: Vyr. specialistė (savivaldybės gydytoja) | H21: SB | I21: 5.2 | J21: 5.2 | K21: Atliktų echoskopijų skaičius per metus | L21: 14500 | M21: 17394 | N21: Programos lėšomis išmokėtos lizingo įmokos už įsigytą echoskopą.
A22: 02 | B22: 01 | C22: 05 | D22: Vykdyti pirminės asmens sveikatos priežiūros paslaugų prieinamumo ir kokybės užtikrinimo Kėdainių rajono kaimiškųjų vietovių gyventojams 2017–2023 m. programą | E22: 1 | F22: Sutarčių su vykdytojais suderinimas, priemonių koordinavimas ir vykdymo kontrolė | G22: Vyr. specialistė (savivaldybės gydytoja) | H22: SB | I22: 96.5 | J22: 95.3 | K22: Pacientų, patenkintų pirminės asmens sveikatos priežiūros paslaugų kokybe, skaičiaus didėjimas (proc.). | L22: 3 | M22: 3 | N22: Programos lėšomis dalinai finansuotos ambulatorijų ir medicinos punktų komunalinės išlaidos, įsigyti 2 odontologiniai įrenginiai (Josvainių ir Dotnuvos amb.).
A23: 02 | B23: 01 | C23: 06 | D23: Vykdyti ambulatorinės akušerinės ir ginekologinės pagalbos kokybės gerinimo Kėdainių rajono savivaldybės moterims 2019-2024 m. programą | E23: 1 | F23: Sutarčių su vykdytojais suderinimas, priemonių koordinavimas ir vykdymo kontrolė | G23: Vyr. specialistė (savivaldybės gydytoja) | H23: SB | I23: 6 | J23: 6 | K23: Įsigytos įrangos skaičius/ vidutinis atliktų ultragarsinių tyrimų skaičius 1 gydytojui | L23: 285 | M23: 354 | N23: Programos lėšomis mokamos lizingo įmokos už įsigytą ultragarsinį aparatą. Vienas gydytojas vidutiniškai atliko 354 vnt. ultragarsinius tyrimus
A24: 02 | B24: 01 | C24: 07 | D24: Vykdyti endoskopinių paslaugų prieinamumo ir kokybės gerinimo Kėdainių rajono savivaldybėje 2020-2025 m. programą | E24: 1 | F24: Sutarčių su vykdytojais suderinimas, priemonių koordinavimas ir vykdymo kontrolė | G24: Vyr. specialistė (savivaldybės gydytoja) | H24: SB | I24: 21.1 | J24: 21.1 | K24: Įsigytos įrangos skaičius / atliktų endoskopijų ir kolonoskopijų skaičius | L24: 1750 | M24: 1398 | N24: Programos lėšomis mokėtos lizingo įmokos už endoskopinę įrangą su vežimėliu bei endoskopų plovimo ir dezinfekavimo mašiną. Dėl Covid-19 taikomų priemonių buvo pailgintas dezinfekcijos laikas tarp ligonių priėmimo, kas sąlygojo mažesnį priimtų pacientų skaičių
A25: 02 | B25: 01 | C25: 08 | D25: Vykdyti mamografijos paslaugų tęstinumo, kokybės gerinimo Kėdainių rajono savivaldybėje 2020-2025 m. programą | E25: 1 | F25: Sutarčių su vykdytojais suderinimas, priemonių koordinavimas ir vykdymo kontrolė | G25: Vyr. specialistė (savivaldybės gydytoja) | H25: SB | I25: 19.1 | J25: 19.1 | K25: Įsigytos įrangos skaičius / atliktų mamografijų ir vertinimo paslaugų skaičius per metus | L25: 1800 | M25: 5814 | N25: Programos lėšomis mokamos lizingo įmokos už skaitmenizuoto mamografo įsigijimą, atlikta 5814 mamografijų ir vertinimo paslaugų
A26: 02 | B26: 01 | C26: 09 | D26: Vykdyti trūkstamos sveikatos priežiūros specialistų skatinimo dirbti Kėdainių rajono savivaldybės viešosiose asmens priežiūros įstaigose 2022-2026 m. programą | E26: 1 | F26: Sutarčių su vykdytojais suderinimas, priemonių koordinavimas ir vykdymo kontrolė | G26: Vyr. specialistė (savivaldybės gydytoja) | H26: SB | I26: 18.2 | J26: 0 | K26: Naujai atvykusių dirbti į Kėdainių PSPC bei Kėdainių ligoninę specialistų, pagal programą, skaičius | L26: 3 | M26: 0 | N26: Ne Pagal šią priemonę planuota prisidėti prie LR SAM finansuojamos ES programos pritraukiant naujus specialistus, tačiau šios programos sąlygos (dirbti įstaigoje ne mažiau kaip 7 m.) nebuvo patrauklios naujiems gydytojams
A27: 02 | B27: 01 | C27: 10 | D27: Diegti pacientų eilių valdymo sistemą Kėdainių rajono asmens sveikatos priežiūros įstaigose | E27: 1 | F27: Sutarčių su vykdytojais suderinimas, priemonių koordinavimas ir vykdymo kontrolė | G27: Vyr. specialistė (savivaldybės gydytoja) | H27: SB | I27: 14 | J27: 12.5 | K27: Įsigytos / palaikomos pacientų eilių valdymo sistemos įrangos skaičius | L27: 1 | M27: 1 | N27: Įsigyta ir sumontuota VŠĮ Kėdainių PSPC registratūroje Eilių valdymo sistema
A28: 02 | B28: 01 | C28: 11 | D28: Vykdyti anestezijos paslaugų vaikams ir suaugusiesiems kokybės gerinimo Kėdainių rajono savivaldybėje 2022-2027 m. programą | E28: 1 | F28: Sutarčių su vykdytojais suderinimas, priemonių koordinavimas ir vykdymo kontrolė | G28: Vyr. specialistė (savivaldybės gydytoja) | H28: SB | I28: 31.8 | J28: 31.8 | K28: Įsigytos įrangos skaičius /atliktų bendrųjų anestezijų skaičius per metus | L28: 2/1482 | M28: 2/1482 | N28: Įsigyti 2 vnt. anestezijos aparatų su paciento gyvybinių funkcijų montavimo sistema bei elektros energijos generatorius. Įmokėta pradinė lizingo įmoka.
A29: 02 | B29: 01 | C29: 12 | D29: Vykdyti rentgeno paslaugų atnaujinimo, kokybės gerinimo Kėdainių rajono savivaldybėje 2022-2027 m. programą | E29: 1 | F29: Sutarčių su vykdytojais suderinimas, priemonių koordinavimas ir vykdymo kontrolė | G29: Vyr. specialistė (savivaldybės gydytoja) | H29: SB | I29: 41.4 | J29: 32 | K29: Įsigytos įrangos skaičius | L29: 1 | M29: 1 | N29: Įsigytas skaitmeninis rentgeno aparatas. Įmokėta pradinė lizingo įmoka.
A30: 02 | B30: 01 | C30: 14 | D30: Vykdyti tinkamų ir saugių darbo sąlygų užtikrinimo, įrengiant vėdinimo bei kondicionavimo sistemas VšĮ PSPC 2022-2026 m. programą | E30: 1 | F30: Sutarčių su vykdytojais suderinimas, priemonių koordinavimas ir vykdymo kontrolė | G30: Vyr. specialistė (savivaldybės gydytoja) | H30: SB | I30: 39 | J30: 38.3 | K30: Patalpų, kuriose įrengta vėdinimo (kondicionavimo) sistema, skaičius | L30: 30 | M30: 32 | N30: Iš programos lėšų 32 kabinetuose/patalpose įrengi kondicionieriai
A31: 02 | B31: 01 | C31: 15 | D31: Teikti Metų medicinos darbuotojo apdovanojimą | E31: 1 | F31: Sutarčių su vykdytojais suderinimas, priemonių koordinavimas ir vykdymo kontrolė | G31: Vyr. specialistė (savivaldybės gydytoja) | H31: SB | I31: 3 | J31: 3 | K31: Įteiktas Metų medicinos darbuotojo apdovanojimas | L31: 1 | M31: 1 | N31: Metų medikės vardas ir sidabro ženklas „Už nuopelnus“ įteikta Kėdainių PSPC vyr. slaugos specialistei, bendruomenės slaugytojai, COVID-19 mobiliojo patikros punkto koordinatorei Raimondai Pučėtienei
A32: 02 | B32: 01 | C32: 16 | D32: Vykdyti Pirminės asmens sveikatos priežiūros prieinamumo užtikrinimo Kėdainių raj. Pernaravos seniūnijos Langakių kaimo gyventojams programą | E32: 1 | F32: Sutarčių su vykdytojais suderinimas, priemonių koordinavimas ir vykdymo kontrolė | G32: Vyr. specialistė (savivaldybės gydytoja) | H32: SB | I32: 8.3 | J32: 8.3 | K32: Gyventojų, kuriems gali būti suteiktos reikalingos pirminės asmens sveikatos priežiūros (taip pat ir profilaktinio darbo) paslaugos, skaičius | L32: ~320 | M32: ~320 | N32: Programos lėšomis įsigyti baldai, 2 nešiojami kompiuteriai, smulkios medicininės įrangos
A33: 02 | B33: 01 | C33: Iš viso uždaviniui | I33: =SUM(I18:I32) -> 394.7 | J33: =SUM(J18:J32) -> 363.7
A34: 02 | B34: Iš viso tikslui | I34: =+I33 -> 394.7 | J34: =+J33 -> 363.7
A35: 03 | B35: Pritaikyti viešąją infrastruktūrą sveikatos gerinimo poreikiams
A36: 03 | B36: 01 | C36: Modernizuoti ir atnaujinti sveikatos priežiūros vidaus ir išorės infrastruktūrą
A37: 03 | B37: 01 | C37: 03 | D37: Didinti pirminės asmens sveikatos priežiūros veiklos efektyvumą VšĮ Kėdainių pirminės sveikatos priežiūros centre | E37: 1 | F37: Projekto, kurį vykdo Kėdainių PSPC, kofinansavimo užtikrinimas | G37: Administracijos direktorius | H37: SB | I37: 6.3 | J37: 2.6 | K37: Viešąsias sveikatos priežiūros paslaugas teikiančių įstaigų, kuriose pagerinta paslaugų teikimo infrastruktūra, skaičius / Gyventojų, pasinaudojusių pagerintomis paslaugomis, skaičius tūkst. | L37: 1 /40,3 | M37: 1 /40,3 | N37: Dalinai kofinansuotas PSPC įgyvendinamas projektas. Atliktas numatytų ambulatorijų patalpų remontas, įsigyta įranga pirminės sveikatos priežiūros paslaugų teikimui
A38: 03 | B38: 01 | C38: 04 | D38: Įgyvendinti priemones, skirtas žemo slenksčio paslaugų kokybės gerinimui Kėdainių rajono savivaldybėje | E38: 1 | F38: Projekto koordinavimas, įrangos/prekių įsigijimo sutarčių koordinavimas, tiekėjo prisiimtų sutartinių įsipareigojimų vykdymo kontrolė | G38: Strateginio planavimo ir investicijų skyrius | H38: ES | I38: 22 | J38: 16.5 | K38: Apsilankymai (kartais) žemo slenksčio paslaugų kabinetuose per metus | L38: 1152 | M38: 1562 | N38: Įgyvendinant projektą teiktos stacionarios Žemo slenksčio kabinete ir mobilios paslaugos 1562 lankytojams, įsigytos priemonės (atrankiniai greitieji ŽIV, Hepatitų C, B, sifilio testai, vienkartinės dezinfekcinės, žaizdų gydymo priemonės, utilizavimo konteineriai ir transportavimo įranga (krepšiai) mobilioms paslaugoms teikti)
H39: VB | I39: 4 | J39: 2.9
A40: 03 | B40: 01 | C40: 05 | D40: Įrengti medicinos punktą Langakių kaime | E40: 1 | F40: Rangos sutarties vykdymo kontrolė, baldų/įrangos įsigijimo viešojo pirkimo organizavimas, tiekėjo prisiimtų sutartinių įsipareigojimų vykdymo kontrolė, baldų bei reikiamos įrangos įsigijimo kordinavimas | G40: Statybos ir turto skyrius, Vyr. specialistė (savivaldybės gydytoja) | H40: SB | I40: 6.7 | J40: 6.7 | K40: Gyventojų, galinčių pasinaudoti paslaugomis, skaičius | L40: ~320 | M40: ~320 | N40: Baigti Langakių medicinos punkto įrengimo darbai
A41: 03 | B41: 01 | C41: Iš viso uždaviniui | I41: =SUM(I37:I40) -> 39 | J41: =SUM(J37:J40) -> 28.7
A42: 03 | B42: Iš viso tikslui | I42: =+I41 -> 39 | J42: =+J41 -> 28.7
A43: Iš viso programai | I43: =+I42+I34+I15 -> 523.6 | J43: =+J42+J34+J15 -> 457.4
A44: iš jų: | I44: =+I43-I45-I52 -> 0 | J44: =+J43-J45-J52 -> 9.2370556e-14
...

Sheet 03social.
I1: PATVIRTINTA Kėdainių rajono savivaldybės administracijos direktoriaus 2022 m. kovo 9 d. įsakymu Nr.AD-1-276 (Kėdainių rajono savivaldybės administracijos direktoriaus 2022 m. gruodžio d. įsakymo Nr.AD-1- redakcija)
A3: Programos tikslo kodas | B3: Uždavinio kodas | C3: Priemonės kodas | D3: Priemonės pavadinimas | E3: Veiklos/darbo/ veiksmo kodas | F3: Veiklos/darbo/ veiksmo pavadinimas | G3: Atsakingi vykdytojai | H3: Finansavimo šaltinis | I3: Numatomi 2022-ųjų m. asignavimai, tūkst. Eur | J3: Panaudoti 2022-ųjų m. asignavimai, tūkst. Eur | K3: Proceso/indėlio vertinimo kriterijai
K4: Pavadinimas | L4: Planuota reikšmė | M4: Pasiekta reikšmė | N4: Nukrypimų nuo plano priežastys, pastabos, komentarai
A8: 03 SOCIALINĖS APSAUGOS PLĖTOJIMAS
A9: 01 | B9: Organizuoti socialinę paramą ir skatinti socialinę integraciją
A10: 01 | B10: 01 | C10: Organizuoti Lietuvos Respublikos teisės aktuose numatytos paramos bei paslaugų asmenims ir šeimoms teikimą
A11: 01 | B11: 01 | C11: 01 | D11: Teikti ir administruoti socialines išmokas ir kompensacijas (būsto šildymo išlaidų, išlaidų šaltam bei nuotekoms ir išlaidų karštam vandeniui) | E11: 1 | F11: Koordinavimas, duomenų suvedimas į programą "Parama" | G11: Socialinės paramos skyrius | H11: SBVB | I11: 4.5 | J11: 4.1 | K11: Asmenų, gaunančių socialinę pašalpą ir kompensacijas skaičius | L11: 6900 | M11: 11342 | N11: Piniginės socialinės paramos gavėjų skaičius ženkliai išaugo dėl pasikeitusių teisės aktų, kurie reglamentavo Valstybės remiamų pajamų didėjimą, kuris tiesiogiai susijęs tiek su kompensacijos dydžiu, tiek nustatant teisę skirti kompensaciją būsto šildymui, šaltam bei karštam vandeniui
H12: SB | I12: 656.3 | J12: 573.2
A13: 01 | B13: 01 | C13: 02 | D13: Dengti išlaidas už įsigytus produktus, mokinio reikmenis, administruoti socialinę paramą mokiniams | E13: 1 | F13: Koordinavimas, duomenų suvedimas į programą "Parama", informacijos teikimas švietimo įstaigų vadovams | G13: Socialinės paramos skyrius, Švietimo skyrius | H13: SBVB | I13: 942.5 | J13: 912.1 | K13: Mokinių, gaunančių nemokamą maitinimą, skaičius | L13: 2300 | M13: 2138 | N13: Mokinių ir lėšų augimą lėmė skiriamų lėšų dydžio maisto produktams įsigyti didėjimas bei Socialinės paramos mokiniams įstatymo pakeitimai, susiję su socialinės paramos skyrimu netestuojant pajamų I-II klasę lankantiems mokiniams
K14: Mokinių, gaunančių būtiniausius mokinio reikmenis, skaičius | L14: 1250 | M14: 1325
A15: 01 | B15: 01 | C15: 03 | D15: Teikti socialinę globą asmenims su sunkia negalia | E15: 1 | F15: Koordinavimas, apmokėjimas už suteiktas paslaugas ne savivaldybės pavaldumo globos įstaigoms | G15: Socialinės paramos skyrius | H15: SBVB | I15: 380.5 | J15: 380.5 | K15: Globojamų asmenų skaičius/globojamų asmenų, kuriems teikiamos paslaugos procentas, palyginus su visais asmenimis, kuriems nustatytas paslaugos poreikis | L15: 210/98 | M15: 226/98 | N15: Globojamų asmenų su sunkia negalia skaičius pastaraisiais metais didėja, daugėja tiek dienos socialinės globos paslaugų namuose, tiek stacionariose įstaigose gavėjų
A16: 01 | B16: 01 | C16: 05 | D16: Organizuoti nemokamą socialiai remtinų vaikų maitinimą ikimokyklinėse įstaigose | E16: 1 | F16: Informacijos rinkimas, ikimokyklinių įstaigų užmokesčio už vaikų išlaikymą analizė | G16: Švietimo skyrius | H16: SB | I16: 68 | J16: 61 | K16: Vaikų, gaunančių nemokamą maitinimą, skaičius | L16: 340 | M16: 502 | N16: 502 vaikai iš dalies arba visiškai atleisti nuo mokesčio už maitinimą. Lėšų reikėjo daugiau, kadangi ukrainiečių vaikams (46) kompensuota 100 proc.
A17: 01 | B17: 01 | C17: 06 | D17: Kompensuoti nemokamo mokinių maitinimo kainą bendrojo lavinimo mokyklose | E17: 1 | F17: Koordinavimas, duomenų rinkimas, apmokėjimas maitinimo paslaugų teikėjams bei įstaigoms | G17: Socialinės paramos skyrius, Apskaitos skyrius | H17: SB | I17: 233.8 | J17: 223 | K17: Mokinių, gaunančių nemokamą maitinimą, skaičius | L17: 2300 | M17: 2138 | N17: 2138 mokiniui kompensuota nemokamo maitinimo kaina.
A18: 01 | B18: 01 | C18: 07 | D18: Teikti tikslines kompensacijas neįgaliesiems | E18: 1 | F18: Asmenų konsultavimas, prašymų priėmimas, Duomenų suvedimas į programą | G18: Socialinės paramos skyrius | H18: VB | I18: 3130.8 | J18: 2998 | K18: Asmenų, gaunančių šalpos išmokas, skaičius | L18: 1429 | M18: 1470 | N18: Asmenims išmokėtos tikslinės kompensacijos
H19: SBVB | I19: 0.1 | J19: 0.1
A20: 01 | B20: 01 | C20: 08 | D20: Teikti išmokas vaikams | E20: 1 | F20: Koordinavimas, Duomenų suvedimas į programą "Parama" | G20: Socialinės paramos skyrius | H20: VB | I20: 10760.5 | J20: 10398 | K20: Asmenų, gaunančių išmokas vaikams, skaičius | L20: 11700 | M20: 8846 | N20: Išmoka skirta 8846 vaikams
A21: 01 | B21: 01 | C21: 09 | D21: Organizuoti socialinės reabilitacijos paslaugų neįgaliesiems bendruomenėje projektų konkursus | E21: 1 | F21: Projektų konkurso organizavimas, projektų koordinavimas, sutarčių vykdymo kontrolė | G21: Socialinės paramos skyrius | H21: SBVB | I21: 84.1 | J21: 83.4 | K21: Neįgaliųjų, gavusių paslaugas, skaičius | L21: 380 | M21: 479 | N21: Įgyvendinti 6 Kėdainių rajono neįgaliuosius atstovaujančių organizacijų pateikti socialinės reabilitacijos paslaugų neįgaliems asmenims projektai, kuriuose dalyvavo 479 neįgalūs asmenys
H22: SB | I22: 16 | J22: 16
A23: 01 | B23: 01 | C23: 10 | D23: Organizuoti ir dalinai kompensuoti būsto pritaikymą neįgaliesiems | E23: 1 | F23: Poreikio identifikavimas, viešųjų pirkimų organizavimas, sutarties vykdymo koordinavimas | G23: Socialinės paramos skyrius | H23: SBVB | I23: 23.1 | J23: 23.1 | K23: Pritaikyti būstų neįgaliesiems skaičius | L23: 7 | M23: 7 | N23: Neįgaliųjų poreikiams pritaikyti 7 būstai
A24: 01 | B24: 01 | C24: 11 | D24: Kompensuoti komunalines išlaidas neįgaliesiems | E24: 1 | F24: Asmenų konsultavimas, prašymų priėmimas, Duomenų suvedimas į programą "Parama" | G24: Socialinės paramos skyrius | H24: VB | I24: 0.1 | J24: 0 | K24: Neįgaliųjų, gavusių kompensacijas skaičius | L24: 1 | M24: 0 | N24: Nesikreipta dėl paslaugos
A25: 01 | B25: 01 | C25: 12 | D25: Teikti kompensacijas ginkluoto pasipriešinimo dalyvių šeimoms, sovietinėje armijoje sužalotiems asmenims bei žuvusiųjų šeimoms | E25: 1 | F25: Asmenų konsultavimas, prašymų priėmimas, Duomenų suvedimas į programą "Parama" | G25: Socialinės paramos skyrius | H25: VB | I25: 1.6 | J25: 0 | K25: Asmenų, gavusių kompensacijas, skaičius | L25: 1 | M25: 0 | N25: Finansavimą gali gauti asmenys, pateikę prašymą, tačiau pateiktų prašymų skirti kompensacijas 2022 m. nebuvo
A26: 01 | B26: 01 | C26: 13 | D26: Kompensuoti būsto nuomos ar išperkamosios būsto nuomos mokesčių dalį | E26: 1 | F26: Asmenų konsultavimas, prašymų priėmimas, sąrašų sudarymas, duomenų vedimas į SPIS programą | G26: Socialinės paramos skyrius | H26: SBVB | I26: 8.9 | J26: 4.3 | K26: Asmenų, gavusių būsto nuomos ar išperkamosios būsto nuomos mokesčių dalies kompensaciją, skaičius | L26: 9 | M26: 9 | N26: Vykdytas viešinimas dėl galimybės pasinaudoti šia paslauga, 9 asmenys (šeimos) kreipėsi dėl kompensacijų
A27: 01 | B27: 01 | C27: 14 | D27: Teikti ir administruoti asmeninę pagalbą | E27: 1 | F27: Asmenų konsultavimas, prašymų priėmimas, sprendimų dėl paslaugų skyrimo rengimas, lėšų poreikio apskaičiavimas ir lėšų pervedimas paslaugos teikėjui, finansinių ir dalykinių ataskaitų teikimas | G27: Socialinės paramos skyrius | H27: SBVB | I27: 6.2 | J27: 3.4 | K27: Asmenų, gaunančių išmokas, skaičius | L27: 6 | M27: 4 | N27: 4 asmenims teikta išmoka asmeninei pagalbai teikti ir administruoti. Pagal poreikį panaudota mažesnė lėšų suma iš SBVB, kadangi paslaugos buvo finansuotos iš projekto "Kompleksinių paslaugų teikimas Kėdainių rajono savivaldybėje"
A28: 01 | B28: 01 | C28: 15 | D28: Finansuoti išlaidas už būsto suteikimą užsieniečiams, pasitraukusiems iš Ukrainos dėl Rusijos federacijos karinių veiksmų Ukrainoje | E28: 1 | F28: Priemonės koordinavimas | G28: Socialinės paramos skyrius | H28: SBVB | I28: 125.6 | J28: 140.4 | K28: Paramos pagal poreikį teikimas | L28: 100 | M28: 100 | N28: Išlaidos finansuotos 437 asmenims
A29: 01 | B29: 01 | C29: 17 | D29: Kita dotacija kompensuoti iki 2022 m. birželio 13 d. savivaldybės patirtas išlaidas užsieniečiams, pasitraukusiems iš Ukrainos dėl Rusijos federacijos karinių veiksmų Ukrainoje, priimti ir pagalbai jiems teikti įgyvendinant Lietuvos Respublikos piniginės socialinės paramos nepasiturintiems gyventojams įstatymą | E29: 1 | F29: Priemonės koordinavimas | G29: Socialinės paramos skyrius | H29: SBVB | I29: 140.4 | J29: 96.8 | K29: Gautos kompensacijos dalis, proc., per numatytą laikotarpį | L29: 100 | M29: 100 | N29: Parama suteikta 182 asmenims
A30: 01 | B30: 01 | C30: 18 | D30: Teikti vienkartines išmokas įsikurti gyvenamojoje vietoje savivaldybės teritorijoje ir (ar) mėnesines kompensacijas vaiko ugdymo pagal ikimokyklinio ir priešmokyklinio ugdymo programą | E30: 1 | F30: Priemonės koordinavimas | G30: Socialinės paramos skyrius | H30: SBVB | I30: 3.9 | J30: 7 | K30: Paramos pagal poreikį teikimas | L30: 100 | M30: 100 | N30: Išmokos skirtos 24 asmenims (10 šeimų).
A31: 01 | B31: 01 | C31: Iš viso uždaviniui | I31: =SUM(I11:I30) -> 16586.9 | J31: =SUM(J11:J30) -> 15924.4
A32: 01 | B32: 02 | C32: Organizuoti socialinės paramos ir paslaugų teikimą Lietuvos Respublikos įstatymuose nenumatytais atvejais
A33: 01 | B33: 02 | C33: 01 | D33: Teikti savivaldybės paramą neįgaliesiems, senyvo amžiaus asmenims, vaikams ir daugiavaikėms, skurdžiai gyvenančioms, nuo stichinių nelaimių nukentėjusioms šeimoms, pirkti socialines paslaugas | E33: 1 | F33: Apmokėjimas už suteiktas paslaugas ne savivaldybės pavaldumo globos įstaigoms | G33: Apskaitos skyrius, Socialinės paramos skyrius | H33: SB | I33: 440 | J33: 497.9 | K33: Asmenų, gaunančių savivaldybės paramą, skaičius | L33: 4500 | M33: 4540 | N33: Finansuotos pagal sutartis socialinės paslaugos asmenims, kurias teikia kitos savivaldybės.
A34: 01 | B34: 02 | C34: 02 | D34: Dengti kainų skirtumą gyventojams už šildymą | E34: 1 | F34: Apmokėjimų užtikrinimas paslaugų teikėjams | G34: Apskaitos skyrius | H34: SB | I34: 126 | J34: 120.7 | K34: Asmenų, kuriems dengiamas kainų skirtumas, skaičius | L34: 500 | M34: 498 | N34: 498 asmenims kompensuotas kainų skirtumas už šildymą. Lėšų poreikis kompensacijoms skiriamas atsižvelgiant į gyventojų gaunamas pajamas, šildymo sezono trukmę
A35: 01 | B35: 02 | C35: 03 | D35: Kompensuoti karšto ir šalto vandens pardavimo kainą socialiai remtiniems asmenims | E35: 1 | F35: Koordinavimas, duomenų teikimas paslaugų teikėjams | G35: Socialinės paramos skyrius, Apskaitos skyrius | H35: SB | I35: 132.5 | J35: 130 | K35: Asmenų, gaunančių kompensaciją, skaičius | L35: 5800 | M35: 5796 | N35: 5796 asmenims kompensuota karšto ir šalto vandens pardavimo kaina.
A36: 01 | B36: 02 | C36: 04 | D36: Teikti vienkartinę išmoką gimus vaikui Lietuvos Respublikos teritorijoje ir gyvenančiam Kėdainių rajono savivaldybėje | E36: 1 | F36: Išmokų pervedimas | G36: Apskaitos skyrius | H36: SB | I36: 30 | J36: 29.1 | K36: Asmenų, gaunančių išmokas, skaičius | L36: 320 | M36: 291 | N36: 267 vaikams, gimusiems Lietuvoje ir gyvenantiems Kėdainių r. savivaldybėje mokėtos 100 Eur vienkartinės išmokos
A37: 01 | B37: 02 | C37: 05 | D37: Užtikrinti 2022 metais Lietuvos Respublikos piniginės socialinės paramos nepasiturintiems gyventojams įstatymo įgyvendinimą dėl padidėjusių išlaidų būsto šildymo išlaidų kompensacijoms teikti | E37: 1 | F37: Koordinavimas, duomenų suvedimas į programą "Parama" | G37: Socialinės paramos skyrius | H37: SBVB | I37: 371.2 | J37: 371.2 | K37: Funkcijos vykdymo užtikrinimas | L37: 100 | M37: 100 | N37: 3591 asmeniui teikta kompensacija
A38: 01 | B38: 02 | C38: 07 | D38: Teikti Metų socialinio darbuotojo apdovanojimą | E38: 1 | F38: Metų socialinio darbuotojo konkurso organizavimas | G38: Socialinės paramos skyrius | H38: SB | I38: 3 | J38: 3 | K38: Įteiktas Metų socialinio darbuotojo apdovanojimas | L38: 1 | M38: 1 | N38: Metų socialinio darbuotojo apdovanojimas skirtas Pelėdnagių seniūnijos socialinio darbo specialistei Vilmai Paškevičienei
A39: 01 | B39: 02 | C39: 08 | D39: Teikti socialines paslaugas dėl karinių veiksmų iš Ukrainos pasitraukusiems gyventojams savivaldybėje | E39: 1 | F39: Priemonės kordinavimas | G39: Socialinės paramos skyrius, Apskaitos skyrius | H39: SBVB | I39: 0.9 | J39: 0.9 | K39: Funkcijos vykdymo užtikrinimas | L39: 100 | M39: 100 | N39: Teiktos socialinės paslaugos iš Ukrainos pasitraukusiems gyventojams
A40: 01 | B40: 02 | C40: 09 | D40: Teikti integralią pagalbą nuo 2022 m. sausio 1 d. iki 2022 m. gruodžio 31 d. | E40: 1 | F40: Priemonės kordinavimas | G40: Socialinės paramos skyrius, Apskaitos skyrius | H40: SBVB | I40: 85.3 | J40: 80.2 | K40: Funkcijos vykdymo užtikrinimas | L40: 100 | M40: 100 | N40: Pagal poreikį teikta integralią pagalbą
A41: 01 | B41: 02 | C41: Iš viso uždaviniui | I41: =SUM(I33:I40) -> 1188.9 | J41: =SUM(J33:J40) -> 1233
A42: 01 | B42: 03 | C42: Užtikrinti transporto lengvatų, numatytų Lietuvos Respublikos transporto lengvatų įstatyme, taikymą
A43: 01 | B43: 03 | C43: 01 | D43: Kompensuoti kelionės išlaidas už lengvatinį keleivių vežimą | E43: 1 | F43: Duomenų ir pateisinamųjų dokumentų iš vežėjų ir įstaigų rinkimas, sisteminimas, analizė ir teikimas Apskaitos bei Biudžeto ir finansų skyriams | G43: Statybos ir turto skyrius | H43: SB | I43: 462.6 | J43: 448.4 | K43: Parduotų su nuolaida bilietų skaičius (tūkst.) | L43: 550 | M43: 747.3 | N43: 2022 m. UAB "Kėdbusas" finansuota už keleivių, turinčių teisę į lengvatas (moksleivius, senjorus ir neįgaliuosius pagal LT Transporto lengvatų įstatymą, užsieniečius, pasitraukusius iš Ukrainos dėl Rusijos Federacijos karinių veiksmų) vežimą.
A44: 01 | B44: 03 | C44: Iš viso uždaviniui | I44: =SUM(I43) -> 462.6 | J44: =SUM(J43) -> 448.4
...

Sheet 04sport.
A3: Programos tikslo kodas | B3: Uždavinio kodas | C3: Priemonės kodas | D3: Priemonės pavadinimas | E3: Veiklos/darbo/ veiksmo kodas | F3: Veiklos/darbo/ veiksmo pavadinimas | G3: Atsakingi vykdytojai | H3: Finansavimo šaltinis | I3: Numatomi 2022-ųjų m. asignavimai, tūkst. Eur | J3: Panaudoti 2022-ųjų m. asignavimai, tūkst. Eur | K3: Proceso/indėlio vertinimo kriterijai
K4: Pavadinimas | L4: Planuota reikšmė | M4: Pasiekta reikšmė | N4: Nukrypimų nuo plano priežastys, pastabos, komentarai
A8: 04 SPORTO VEIKLOS PLĖTRA
A9: 01 | B9: 01 tikslas. Didinti gyventojų fizinį aktyvumą, ugdyti sportišką bendruomenę
A10: 01 | B10: 01 | C10: Užtikrinti Kultūros ir sporto skyriaus veiklą kūno kultūros ir sporto srityje
A11: 01 | B11: 01 | C11: 01 | D11: Organizuoti ir užtikrinti Kultūros ir sporto skyriaus veiklą kūno kultūros ir sporto srityje | E11: 1 | F11: Kūno kultūros ir sporto politikos formavimas ir įgyvendinimo užtikrinimas | G11: Kultūros ir sporto skyrius | H11: SB | I11: 53.7 | J11: 50.9 | K11: Kultivuojamų sporto šakų skaičius | L11: 31 | M11: 31 | N11: Kultūros ir sporto skyrius, bendradarbiaudamas su rajono sporto nevyriausybinėmis organizacijomis, biudžetinėmis įstaigomis, 2022 m. organizavo krepšinio, futbolo, bokso, šachmatų, stalo teniso, sportinių šokių, lengvosios atletikos, dviračių sporto, karate, kultūrizmo, žolės riedulio ir kitų sporto šakų varžybas, respublikinius, tarptautinius ir kitus renginius.
A12: 01 | B12: 01 | C12: Iš viso uždaviniui | I12: =SUM(I11) -> 53.7 | J12: =SUM(J11) -> 50.9
A13: 01 | B13: 03 | C13: Ugdyti sveiką, aktyvų, savimi ir savo gebėjimais pasitikinti pilietį bei sudaryti sąlygas gyventojų fiziniam aktyvumui
A14: 01 | B14: 03 | C14: 01 | D14: Finansuoti Vaikų mokymo plaukti veiklos programą, dalyvaujant projekte „Mokėk plaukti ir saugiau elgtis vandenyje“ | E14: 1 | F14: Sutarčių su vykdytojais suderinimas, priemonių koordinavimas ir vykdymo kontrolė | G14: Kultūros ir sporto skyrius | H14: SB | I14: 10.3 | J14: 10.3 | K14: Programoje dalyvaujančių vaikų skaičius/pamokų skaičius | L14: 300/14 | M14: 300/14 | N14: Organizuotos mokymo plaukti pamokos 2–3 klasių mokiniams Kėdainių rajono baseinuose. Mokymo plaukti programa finansuojama Lietuvos plaukimo federacijos informacijos ir paslaugų biuro (18 pamokų rudens ciklas) ir savivaldybės (14 pamokų pavasario ciklas) lėšomis. Programoje dalyvavo 7 ugdymo įstaigos.
A15: 01 | B15: 03 | C15: 02 | D15: Skatinti Neįgaliųjų fizinį aktyvumą, organizuoti sporto renginius ir sporto treniruočių stovyklas | E15: 1 | F15: Sportinės veiklos organizavimas, koordinavimas | G15: Kultūros ir sporto skyrius | H15: SB | I15: 3.5 | J15: 2.9 | K15: Neįgaliųjų kūno kultūros ir sporto renginių skaičius / stovyklų skaičius | L15: 6/4 | M15: 6/3 | N15: Organizuotos rajoninės tarporganizacinės neįgaliųjų šaškių, bočios, stalo teniso varžybos, paraplegikų spartakiada, žygiai su šiaurietiškomis lazdomis, Dalyvauta respublikinės bočios varžybose, rankų lenkimo čempionate. Suorganizuotos 3 sportinės stovyklos pasiruošti varžyboms
A16: 01 | B16: 03 | C16: Iš viso uždaviniui | I16: =SUM(I14:I15) -> 13.8 | J16: =SUM(J14:J15) -> 13.2
A17: 01 | B17: 04 | C17: Vystyti įvairias gyventojų poreikius atitinkančias sporto šakas, didinti sportinės veiklos žinomumą Kėdainių rajone
A18: 01 | B18: 04 | C18: 01 | D18: Organizuoti rajoninius, respublikinius, tarptautinius visų amžiaus grupių aukšto meistriškumo sporto renginius ir aukšto meistriškumo sporto treniruočių stovyklas | E18: 1 | F18: Sportinės veiklos organizavimas, koordinavimas | G18: Kultūros ir sporto skyrius | H18: SB | I18: 43.5 | J18: 43.8 | K18: Suorganizuotų rajoninių, respublikinių ir tarptautinių kūno kultūros ir sporto renginių skaičius / veteranų sporto šakų skaičius / stovyklų skaičius | L18: 18/12/8 | M18: 18/12/15 | N18: Pasiruošimui ir dalyvavimui šalies ir tarptautiniuose sporto renginiuose įvyko 11 sporto stovyklų, jose dalyvavo 99 sportininkai. Organizuotos aerobinės gimnastikos, krepšinio, šachmatų, šaškių, teniso, stalo teniso, turizmo, sportinių šokių, dviračių sporto, karate, kultūrizmo, žolės riedulio ir kitų sporto šakų varžybos ir kiti renginiai. Kėdainių rajono sportininkai ir komandos šalies pirmenybėse, čempionatuose, tarptautinėse varžybose įvairaus amžiaus grupėse ir atskirose sporto šakose laimėjo 125 medalius
A19: 01 | B19: 04 | C19: Iš viso uždaviniui | I19: =SUM(I18:I18) -> 43.5 | J19: =SUM(J18:J18) -> 43.8
A20: 01 | B20: 05 | C20: Skatinti Kėdainių rajono sporto organizacijas, sporto komandas ir sportininkus, finansuoti sporto veiklos projektus ir programas
A21: 01 | B21: 05 | C21: 01 | D21: Finansuoti sporto šakų programas, iš jų: | E21: 1 | F21: Prioritetinių sporto šakų paraiškų finansavimui organizavimas, sutarčių su vykdytojais suderinimas, veiklos vykdymo kontrolė | G21: Kultūros ir sporto skyrius | H21: SB | I21: =SUM(I22:I26) -> 475 | J21: =SUM(J22:J26) -> 475 | K21: Finansuotų sporto šakų programų skaičius | L21: 5 | M21: 5 | N21: Finansuotos 5 sporto veiklos programos
C22: 01. 02 | D22: VšĮ "Veržlusis Nevėžis" krepšinio komandos Kėdainių "Nevėžis - Optibet" veiklos programai | H22: SB | I22: 220 | J22: 220 | K22: Užimta vieta 2021/2022m. LKL čempionate/ žiūrovų, stebinčių rungtynes, skaičiaus vidurkis/socialinių projektų krašto bendruomenei skaičius / vasaros stovyklų kėdainiečiams vaikams skaičius | L22: 10/ 800 /19/2 | M22: 10/ 800 /19/2 | N22: Krepšinio komanda „Nevėžis“ 2021/2022 m. LKL čempionate iškovojo 10 vietą
C23: 01. 03 | D23: VšĮ „Sporto perspektyvos“ veiklos programai | H23: SB | I23: 120 | J23: 120 | K23: Užimta vieta LFF pirmosios lygos pirmenybėse / žiūrovų, stebinčių rungtynes, skaičiaus vidurkis/ sportinių-mokomųjų stovyklų skaičius/išugdytų kėdainiečių, atstovaujančių FK "Nevėžis" suaugusiųjų komandoje, skaičius | L23: 5-6 /300/8 /6 | M23: 3 /~200/9/9 | N23: Užimta 3 vieta LFF Optibet Pirmosios lygos pirmenybėse, sužaista 30 rungtynių, iškovota 17 pergalių, 7 kartus - lygiosios. suorganizuotos 9 treniruotės stovyklos. "Nevėžio" vyrų komandos sudėtį papildė 9 jaunieji ugdytiniai futbolininkai
C24: 01. 04 | D24: Kėdainių bokso federacijos veiklos programai | H24: SB | I24: 15 | J24: 15 | K24: Įvairaus amžiaus grupių šalies bokso čempionatuose iškovotų medalių skaičius/tarptautinėse bokso varžybose iškovotų medalių skaičius/sporto treniruočių stovyklų skaičius/paruoštų boksininkų šalies bokso rinktinei skaičius | L24: 23/5/14/1 | M24: 24/5/14/3 | N24: Suorganizuota 14 stovyklų, įvairaus amžiaus grupėse šalies ir tarptautinėse varžybose boksininkai iškovojo 24 medalius
C25: 01. 05 | D25: VšĮ „Sporto perspektyvos“ vaikų ir jaunimo futbolo plėtros veiklos programai | H25: SB | I25: 100 | J25: 100 | K25: Sportuojančių vaikų skaičius/ dalyvaujančių LFF vaikų pirmenybėse komandų skaičius/FK "Nevėžis" vyrų komandos papildymas jaunais žaidėjais skaičius | L25: 250/7/6 | M25: 250/8/9 | N25: Dalyvauta 8 šalies vaikų, jaunių ir jaunimo pirmenybėse įvairiose amžiaus grupėse, 9 jauni žaidėjai papildė „Nevėžio“ komandą
C26: 01.06 | D26: Asociacijos "Krepšinio naktis" veiklos programai | H26: SB | I26: 20 | J26: 20 | K26: Turnyrų, kuriuose dalyvauta, skaičius/ Tarptautinių FIBA "Challenger" turnyrų, kuriuose dalyvauta, skaičius | L26: 13/2 | M26: 13/4 | N26: 2022 m. komanda 3 kartus pateko į FIBA "Challenger" serijos turnyrus. Per sezoną sudalyvauta 13-oje turnyrų
A27: 01 | B27: 05 | C27: 02 | D27: Finansuoti fizinio aktyvumo ir sporto veiklos projektus | H27: SB | I27: 55 | J27: 55 | K27: Finansuojamų projektų skaičius | L27: 25 | M27: 25 | N27: Finansuota 14 gyventojų fizinio aktyvumo plėtros bei 11 sporto veiklos projektų. Projektų veiklose dalyvavo per 2,1 tūkst. asmenų
A28: 01 | B28: 05 | C28: 03 | D28: Teikti apdovanojimus aukšto meistriškumo sportininkams ir jų treneriams už sporto pasiekimus | E28: 1 | F28: Tvarkos aprašo parengimas, konkurso, apdovanojant aukšto meistriškumo sportininkus ir jų trenerius už sporto pasiekimus, organizavimas | G28: Kultūros ir sporto skyrius | H28: SB | I28: 10 | J28: 10 | K28: Teiktų premijų skaičius (ne mažiau) | L28: 10 | M28: 39 | N28: Apdovanoti už sporto pasiekimus 34 sportininkai ir 5 treneriai
A29: 01 | B29: 05 | C29: Iš viso uždaviniui | I29: =+I27+I21+I28 -> 540 | J29: =+J27+J21+J28 -> 540
A30: 01 | B30: Iš viso tikslui | I30: =+I29+I19+I16+I12 -> 651 | J30: =+J29+J19+J16+J12 -> 647.9
A31: 02 | B31: Atnaujinti ir plėsti Kėdainių rajono savivaldybės sporto infrastruktūrą, pritaikyti ją šiuolaikiniams poreikiams
A32: 02 | B32: 01 | C32: Modernizuoti sporto objektų materialinę bazę, sudarant sąlygas fizinio aktyvumo ugdymui
A33: 02 | B33: 01 | C33: 01 | D33: Atnaujinti ir (arba) plėsti bendruomeninę fizinio aktyvumo infrastruktūrą mieste ir rajone, pritaikant ją bendruomenės poreikiams bei laisvalaikiui | E33: 1 | F33: Poreikio išsiaiškinimas, bendradarbiavimas su Miesto seniūnija, atnaujinimo darbų viešojo pirkimo koordinavimas rangovo prisiimtų sutartinių įsipareigojimų vykdymo kontrolė | G33: Kultūros ir sporto skyrius | H33: SB | I33: 50 | J33: 44.1 | K33: Atnaujintų/įrengtų vaikų sporto ir žaidimų aikštelių skaičius | L33: 5 | M33: 5 | N33: Atnaujinta vaikų ir krepšinio žaidimo aikštelė (Chemikų g. 20), prie Šėtos g. 110 namo, įrengti nauji saugos atitvarai futbolo manieže (Rasos g.), įrengta nauja vaikų žaidimų aikštelė prie Daukšos g. 52, atnaujinta Aristavos BC krepšinio aikštelės danga, vykdyti smulkūs remonto darbai esančiose žaidimų aikštelių erdvėse
A34: 02 | B34: 01 | C34: 02 | D34: Tobulinti Kėdainių sporto centro infrastruktūrą (Parko g. 4, Vilainiai) | E34: 1 | F34: Projekto koordinavimas, rangovo prisiimtų sutartinių įsipareigojimų vykdymo kontrolė | G34: Strateginio planavimo ir investicijų skyrius, Statybos ir turto skyrius | H34: SB | I34: 0 | J34: 0 | K34: Atnaujintų viešosios paskirties pastatų skaičius | L34: 1 | M34: 1 | N34: Projekto veiklos fiziškai įgyvendintos 2021 m. Pervestos ES lėšų dalis
H35: ES | I35: 15 | J35: 14.4
A36: 02 | B36: 03 | C36: 03 | D36: Atnaujinti Kėdainių „Ryto“ progimnazijos stadioną ir sporto aikštyną | E36: 1 | F36: Paraiškos teikimas, rangos darbų viešojo pirkimo organizavimas, rangovo prisiimtų sutartinių įsipareigojimų vykdymo kontrolė | G36: Strateginio planavimo ir investicijų skyrius, Statybos ir turto skyrius | H36: SB | I36: 0 | J36: 0 | K36: Parengtos techninės dokumentacijos skaičius/ atnaujinamų objektų skaičius | N36: Parengtas stadiono ir sporto aikštyno atnaujinimo techninis projektas, teikta paraiška finansavimui gauti, tačiau finansavimas neskirtas
H37: VB | I37: 0 | J37: 0
A38: 02 | B38: 01 | C38: 04 | D38: Atnaujinti Kėdainių miesto ir rajono progimnazijų ir gimnazijų stadionus /sporto aikštynus | E38: 1 | F38: Krakių gimnazijos sporto aikštyno bei J.Paukštelio sporto aikštyno atnaujinimo techninės dokumentacijos parengimo koordinavimas | G38: Kultūros ir sporto skyrius | H38: SB | I38: 20 | J38: 19.7 | K38: Parengtos techninės dokumentacijos skaičius/ atnaujinamų objektų skaičius | L38: 2/0 | M38: 2/0 | N38: Parengti J. Paukštelio progimnazijos, Krakių M.Katkaus gimnazijos aikštynų atnaujinimo projektai
A39: 02 | B39: 01 | C39: 05 | D39: Atnaujinti Kėdainių sporto centro bazes | E39: 1 | F39: Priemonės koordinavimas | G39: Administracijos direktorius | H39: SB | I39: 15 | J39: 15 | K39: Atnaujinamų vidaus erdvių skaičius | L39: 1 | M39: 1 | N39: Sutvarkyta nuogrinda Parko g. 4
A40: 02 | B40: 01 | C40: Iš viso uždaviniui | I40: =SUM(I33:I39) -> 100 | J40: =SUM(J33:J39) -> 93.2
A41: 02 | B41: Iš viso tikslui | I41: =+I40 -> 100 | J41: =+J40 -> 93.2
A42: Iš viso programai | I42: =+I41+I30 -> 751 | J42: =+J41+J30 -> 741.1
A43: iš jų: | I43: =+I42-I44-I51 -> 0 | J43: =+J42-J44-J51 -> 2.0428104e-13
A44: SAVIVALDYBĖS LĖŠOS | I44: =SUM(I45:I50) -> 736 | J44: =SUM(J45:J50) -> 726.7
A45: Savivaldybės biudžetas SB | I45: =+I39+I38+I36+I34+I33+I27+I21+I18+I15+I14+I11+I28 -> 736 | J45: =+J39+J38+J36+J34+J33+J27+J21+J18+J15+J14+J11+J28 -> 726.7
...

Sheet 05kultura
A3: Programos tikslo kodas | B3: Uždavinio kodas | C3: Priemonės kodas | D3: Priemonės pavadinimas | E3: Veiklos/darbo/ veiksmo kodas | F3: Veiklos/darbo/ veiksmo pavadinimas | G3: Atsakingi vykdytojai | H3: Finansavimo šaltinis | I3: Numatomi 2022-ųjų m. asignavimai, tūkst. Eur | J3: Panaudoti 2022-ųjų m. asignavimai, tūkst. Eur | K3: Proceso/indėlio vertinimo kriterijai
K4: Pavadinimas | L4: Planuota reikšmė | M4: Pasiekta reikšmė | N4: Nukrypimų nuo plano priežastys, pastabos, komentarai
A8: 05 KULTŪROS VEIKLOS PLĖTRA
A9: 03 | B9: Sudaryti sąlygas krašto bendruomenei dalyvauti kultūrinėje bei kūrybinėje veikloje
A10: 03 | B10: 02 | C10: Sudaryti sąlygas kultūros plėtrai rajone
A11: 03 | B11: 02 | C11: 01 | D11: Organizuoti ir užtikrinti Kultūros ir sporto skyriaus specialistų darbą kultūros srityje | E11: 1 | F11: Lietuvos Respublikos ir Savivaldybės kultūros politikos nuostatų įgyvendinimas, kultūros įstaigų veiklos koordinavimas | G11: Kultūros ir sporto skyrius | H11: SB | I11: 91.9 | J11: 77.3 | K11: Suorganizuotų renginių skaičius | L11: 40 | M11: 40 | N11: Kultūros ir sporto skyrius formavo ir įgyvendino rajono savivaldybės kultūros politiką muziejų, bibliotekų, etninės kultūros, meno mėgėjų veikloje bei kitose kultūros srityse, rūpinosi gyventojų bendrosios kultūros ugdymu. Skyrius organizavo, finansavo 40 kultūrinių renginių, dalinai finansuota 4 knygų leidyba
A12: 03 | B12: 02 | C12: 02 | D12: Finansuoti rajono savivaldybės renginius ir kultūrines iniciatyvas | E12: 1 | F12: Rajoninių renginių, konkursų, dalyvavimo regioniniuose ir respublikiniuose renginiuose bei konkursuose koordinavimas ir finansavimas | G12: Kultūros ir sporto skyrius | H12: SB | I12: 232.1 | J12: 230.7
A13: 03 | B13: 02 | C13: 03 | D13: Finansuoti kultūrinės veiklos projektus | E13: 1 | F13: Kultūros projektų konkurso organizavimas | G13: Kultūros ir sporto skyrius | H13: SB | I13: 25 | J13: 25 | K13: Finansuotų projektų skaičius | L13: 21 | M13: 21 | N13: Konkurso būdu iš pateiktų 32 paraiškų, finansuotas 21 projektas, kurių metu organizuoti 62 edukaciniai užsiėmimai ir seminarai, 17 parodų ir 102 kiti renginiai. Projektų veiklose dalyvavo 5344 dalyviai ir žiūrovai.
A14: 03 | B14: 02 | C14: 04 | D14: Teikti Krašto kultūros premiją | E14: 1 | F14: Kėdainių krašto kultūros premijos konkurso organizavimas | G14: Kultūros ir sporto skyrius | H14: SB | I14: 3 | J14: 3 | K14: Kultūros premijos laureatų skaičius | L14: 1 | M14: 1 | N14: Krašto kultūros premija įteikta Jūratei Gudliauskienei už etninės kultūros puoselėjimą ir propagavimą, aktyvią kultūrinę meninę veiklą ir Kėdainių krašto garsinimą
A15: 03 | B15: 02 | C15: 05 | D15: Teikti Česlavo Milošo premiją | E15: 1 | F15: Česlavo Milošo premijos konkurso organizavimas | G15: Kultūros ir sporto skyrius | H15: SB | I15: 0 | J15: 0 | K15: Česlovo Milošo premijos laureatų skaičius | L15: 0 | M15: 0 | N15: Vadovaujantis Kėdainių krašto garbės piliečio Česlovo Milošo premijos konkurso nuostatų 13 p. konkursas laikomas neįvykusiu, jeigu pateikiami raštai-rekomendacijos, pristatantys mažiau kaip 3 pretendentus
A16: 03 | B16: 02 | C16: 06 | D16: Aprūpinti mėgėjų meno kolektyvus tautiniais ir kitais koncertiniais kostiumais bei muzikos instrumentais | E16: 1 | F16: Dalyvavimas tautinių kostiumų ir instrumentų įsigijimo finansavimo konkurse | G16: Kultūros ir sporto skyrius | H16: SB | I16: 13 | J16: 13 | K16: Koncertinius kostiumų komplektus/instrumentus atsinaujinusių kolektyvų skaičius | L16: 7 | M16: 7 | N16: 7 kolektyvams skirta lėšų tautinių, archeologinių, istorinių kostiumų ar jų dalių įsigijimui bei mėgėjų meno kolektyvų muzikos instrumentų įsigijimui
A17: 03 | B17: 02 | C17: 07 | D17: Plėtoti tarptautinius kultūros mainus | E17: 1 | F17: Tarptautinių kultūros mainų organizavimas | G17: Kultūros ir sporto skyrius | H17: SB | I17: 9.3 | J17: 9.4 | K17: Organizuotų tarptautinių mainų skaičius | L17: 3 | M17: 3 | N17: Liaudiškų šokių grupė „Volungė“ dalyvavo tarptautiniame šokių ir muzikos festivalyje „Cote d‘azur“ (Italija–Prancūzija), Vaikų popchorų „Perliukai“ ir „Skambantys Perliukai“, duetas „Kipras+Urtė ir solistai dalyvavo tarptautiniame vaikų ir jaunimo konkurse-festivalyje „Summer talent league“ (Ispanija), Kėdainių kultūros centre pirmą kartą Kėdainiuose unikalaus, vienintelio Ukrainoje viso kūno šešėlių teatro trupė iš Kyivo „Papasony“ kėdainiečiams pristatė spektaklį „Pasąmonės šnabždesiai… Sapnai“.
A18: 03 | B18: 02 | C18: Iš viso uždaviniui | I18: =SUM(I11:I17) -> 374.3 | J18: =SUM(J11:J17) -> 358.4
A19: 03 | B19: Iš viso tikslui | I19: =+I18 -> 374.3 | J19: =+J18 -> 358.4
A20: 04 | B20: Vystyti jaunimui palankią aplinką bei infrastruktūrą, plėsti ir skatinti įvairias jaunimo veiklas ir užimtumą
A21: 04 | B21: 01 | C21: Skatinti Kėdainių rajono jaunimo ir su jaunimu dirbančių organizacijų nuolatinę ir ilgalaikę programinę veiklą, jaunimo veiklos projektus, jaunimo iniciatyvas
A22: 04 | B22: 01 | C22: 01 | D22: Finansuoti jaunimo veiklos projektus | E22: 1 | F22: Jaunimo veiklos projektų konkurso organizavimas | G22: Vyr. specialistė (jaunimo reikalų koordinatorė) | H22: SB | I22: 11 | J22: 11 | K22: Finansuotų projektų skaičius | L22: 5 | M22: 5 | N22: Finansuoti 5 jaunimo ir/ar su jaunimu dirbančių organizacijų projektai, į kurių veiklas įsitraukė 983 jaunuoliai (14–29 m.)
A23: 04 | B23: 01 | C23: 02 | D23: Finansuoti programas, užtikrinančias jaunimo neformalaus ugdymo plėtrą | E23: 1 | F23: Sutarčių sudarymas, programų įgyvendinimo priežiūros organizavimas, ataskaitų rinkimas | G23: Vyr. specialistė (jaunimo reikalų koordinatorė) | H23: SB | I23: 4 | J23: 4 | K23: Suorganizuotų mokymų, susitikimų, renginių, forumų skaičius | L23: 40 | M23: 40 | N23: Finansuota Kėdainių rajono mokinių savivaldos plėtros programa, kurios priemonės skirtos stiprinti ir plėtoti rajono mokinių savivaldos institucijas
A24: 04 | B24: 01 | C24: 03 | D24: Finansuoti Atviro jaunimo centro ir Atvirųjų jaunimo erdvių veiklos projektus | E24: 1 | F24: Atvirųjų jaunimo erdvių veiklos projektų konkurso organizavimas | G24: Vyr. specialistė (jaunimo reikalų koordinatorė) | H24: SB | I24: 16 | J24: 16 | K24: Finansuotų projektų skaičius | L24: 6 | M24: 4 | N24: 2022 m. rajone veikė 5 atvirosios jaunimo erdvės bei 1 atviras jaunimo centras. Konkurso būdu finansuoti 4 projektai, kurių veiklose dalyvavo 281 jaunuolis
A25: 04 | B25: 01 | C25: 04 | D25: Plėtoti jaunimo savanorystę Kėdainių rajone ir skatinti jaunimą užsiimti savanoriška veikla | E25: 1 | F25: Jaunimo savarankiškos veiklos plėtros konkurso organizavimas | G25: Vyr. specialistė (jaunimo reikalų koordinatorė) | H25: SB | I25: 2 | J25: 2 | K25: Finansuotų projektų skaičius | L25: 1 | M25: 1 | N25: Savanoriškos tarnybos įgyvendinimą rajone koordinuoja LPF "Tavo svajonė". Programos veikloje dalyvavo 6 jaunuoliai
A26: 04 | B26: 01 | C26: 05 | D26: Atlikti jaunimo problematikos tyrimą | E26: 1 | F26: Paslaugų teikimo viešojo pirkimo konkurso organizavimas, sutarties koordinavimas, teikėjo prisiimtų sutartinių įsipareigojimų vykdymo kontrolė | G26: Vyr. specialistė (jaunimo reikalų koordinatorė) | H26: SB | I26: 3 | J26: 3 | K26: Atliktų tyrimų skaičius | L26: 1 | M26: 1 | N26: Atliktas jaunimo problematikos tyrimas, siekiant ištirti jaunimo problemas mokymosi, darbo, laisvalaikio, dalyvavimo, fizinės ir psichinės sveikatos bei kt srityse
A27: 04 | B27: 01 | C27: 06 | D27: Organizuoti Tarptautinės jaunimo dienos renginį | E27: 1 | F27: Priemonės organizavimas ir koordinavimas | G27: Vyr. specialistė (jaunimo reikalų koordinatorė) | H27: SB | I27: 5 | J27: 5 | K27: Suorganizuotų renginius skaičius | L27: 1 | M27: 1 | N27: Pirmą kartą suorganizuotas Tarptautinis jaunimo dienos renginys, turėjęs didelį jaunimo susidomėjimą ir populiarumą
A28: 04 | B28: 01 | C28: 07 | D28: Dalyvauti jaunimo užimtumo vasarą ir integracijos į darbo rinką programoje | E28: 1 | F28: Priemonės koordinavimas ir viešinimas | G28: Vyr. specialistė (jaunimo reikalų koordinatorė) | H28: SB | I28: 3.5 | J28: 3.5 | K28: Pagal programą įdarbintų 14-18 m. jaunuolių skaičius | L28: 7 | M28: 6 | N28: Programa, kurios tikslas sudaryti palankias sąlygas kokybiškam jaunimo užimtumui, susidomėjo 4 darbdaviai. Įdarbinti buvo 6jaunuoliai (14-19 m.)
H29: VB | I29: 5.3 | J29: 5.3
A30: 04 | B30: 01 | C30: Iš viso uždaviniui | I30: =SUM(I22:I29) -> 49.8 | J30: =SUM(J22:J29) -> 49.8
A31: 04 | B31: Iš viso tikslui | I31: =+I30 -> 49.8 | J31: =+J30 -> 49.8
A32: 05 | B32: Skatinti nevyriausybinių organizacijų veiklą, didinti jų įtrauktį
A33: 05 | B33: 01 | C33: Skatinti nevyriausybinių ir bendruomeninių organizacijų plėtrą Kėdainių rajone
