Workbook

Sheet 01šviet.
K1: PATVIRTINTA Kėdainių rajono savivaldybės administracijos direktoriaus 2023 m. balandžio 7 d. įsakymu Nr. AD-1-391
A2: Kėdainių rajono savivaldybės administracijos 2022 metų veiklos plano įgyvendinimo ataskaita
A4: Programos tikslo kodas | B4: Uždavinio kodas | C4: Priemonės kodas | D4: Priemonės pavadinimas | E4: Veiklos/darbo/ veiksmo kodas | F4: Veiklos/darbo/ veiksmo pavadinimas | G4: Atsakingi vykdytojai | H4: Finansavimo šaltinis | I4: Numatomi 2022-ųjų m. asignavimai, tūkst. Eur | J4: Panudoti 2022-ųjų m. asignavimai, tūkst. Eur | K4: Proceso/indėlio vertinimo kriterijai
K5: Pavadinimas | L5: Planuota reikšmė | M5: Pasiekta reikšmė | N5: Nukrypimų nuo plano priežastys, pastabos, komentarai
A9: 01 ŠVIETIMAS IR UGDYMAS
A10: 01 | B10: Plėtoti kokybišką, visiems prieinamą, tęstinę švietimo sistemą savivaldybėje
A11: 01 | B11: 01 | C11: Sudaryti prielaidas ugdymo kokybei gerinti, mažinti ugdymo kokybės skirtumus tarp mokyklų, didinti pedagogų motyvaciją
A12: 01 | B12: 01 | C12: 07 | D12: Įgyvendinti Kėdainių rajono savivaldybės mokytojų motyvacijos programą | E12: 1 | F12: Programos įgyvendinimo koordinavimas | G12: Švietimo skyrius | H12: SB | I12: 69 | J12: 63.5 | K12: Savivaldybės mokyklose dirbančių mokytojų, kurie paskatinti, skaičius | L12: 600 | M12: 700 | N12: Programos lėšomis 698 paskatinti mokytojai už mokinių parengimą olimpiadoms ir pasiekimus, už inovatyvias ugdymo idėjas ir jų įgyvendinimą, 1 mokytojui iš dalies kompensuotas būsto nuomos mokestis, 1 - kompensuotos persikėlimo išlaidos
A13: 01 | B13: 01 | C13: 10 | D13: Finansuoti vaikų vasaros stovyklų ir kitų neformaliojo vaikų švietimo veiklų programas | E13: 1 | F13: Programų konkurso organizavimas, konsultacijos, paraiškų ir sutarčių derinimas, veiklų stebėjimas, vertinimas, ataskaitų teikimas | G13: Švietimo skyrius | H13: SB | I13: 50 | J13: 50 | K13: Finansuotų vaikų vasaros poilsio ir užimtumo programų skaičius | L13: 35 | M13: 36 | N13: Finansuotos (konkurso būdu atrinktos) 36 vaikų vasaros poilsio ir užimtumo stovyklų programos, kuriose dalyvavo 941 vaikas, iš kurių 32 didelių ir labai didelių specialiųjų ugdymosi poreikių turintys vaikai
A14: 01 | B14: 01 | C14: 11 | D14: Skatinti savivaldybės gabius mokinius | E14: 1 | F14: Mokyklose besimokančių gabių mokinių, per vienerius mokslo metus pasiekusių puikių mokymosi rezultatų, įvertinimas ir paskatinimas | G14: Švietimo skyrius | H14: SB | I14: 14 | J14: 10 | K14: Mokinių, kuriems skirti piniginiai prizai, skaičius | L14: 110 | M14: 128 | N14: Už pasiekimus dalykinėse olimpiadose, konkursuose, meno festivaliuose ir sporto varžybose buvo atrinkti ir apdovanoti 128 mokiniai
A15: 01 | B15: 01 | C15: 12 | D15: Koofinansuoti švietimo įstaigų dalyvavimą infrastruktūros gerinimo/modernizavimo projektuose | E15: 1 | F15: Priemonės koordinavimas | G15: Administracijos direktorius | H15: SB | I15: 50 | J15: 1.6 | K15: Įstaigų, kurioms skirtas finansavimas, skaičius | L15: 3 | M15: 3 | N15: Kofinansuoti 3 įstaigų dalinis dalyvavimas projektuose
A16: 01 | B16: 01 | C16: 13 | D16: Organizuoti ir užtikrinti Švietimo skyriaus specialistų darbą | E16: 1 | F16: Švietimo įstaigų veiklos koordinavimas, ugdymo proceso stebėjimas, analizavimas | G16: Švietimo skyrius | H16: SB | I16: 146.6 | J16: 138.1 | K16: Kuruojamų švietimo įstaigų skaičius | L16: 28 | M16: 27 | N16: Švietimo skyrius koordinavo 6 gimnazijų, Suaugusiųjų ir jaunimo mokymo centro, 3 progimnazijų, 5 pagrindinių mokyklų, mokyklos-darželio, 7 lopšelių-darželių, 3 neformaliojo vaikų švietimo mokyklų ir Švietimo pagalbos tarnybos veiklą. Ikimokyklinio ir priešmokyklinio ugdymo grupės veikė Josvainių ir Šėtos socialiniuose ugdymo centruose. Nuo 2022 m. rugsėjo 1 d., vykdant Mokyklų tinklo pertvarką, Truskavos pagrindinė mokykla prijungta prie Šėtos gimnazijos
H17: SBVB | I17: 8.1 | J17: 8.1
A18: 01 | B18: 01 | C18: 14 | D18: Teikti Metų mokytojo apdovanojimą | E18: 1 | F18: Savivaldybės mokytojų kompetencijų, veiklos rezultatų įvertinimas ir paskatinimas profesinei bei kūrybinei iniciatyvai | G18: Švietimo skyrius | H18: SB | I18: 3 | J18: 3 | K18: Įteiktų apdovanojimų skaičius | L18: 1 | M18: 1 | N18: Už puikius pedagoginio darbo rezultatus Kėdainių „Atžalyno“ gimnazijos lietuvių kalbos ir literatūros mokytoja metodininkė A. Krapikienė
A19: 01 | B19: 01 | C19: Iš viso uždaviniui | I19: =SUM(I12:I18) -> 340.7 | J19: =SUM(J12:J18) -> 274.3
A20: 01 | B20: Iš viso tikslui | I20: =+I19 -> 340.7 | J20: =+J19 -> 274.3
H21: SB
H22: SBVB
H23: ES
H24: VB
H25: ĮP
A26: 02 | B26: Tobulinti ugdymo(si) infrastruktūrą, aplinką, diegti inovacijas
A27: 02 | B27: 01 | C27: Gerinti darbo ir mokymo(si) sąlygas savivaldybės švietimo įstaigose
A28: 02 | B28: 01 | C28: 01 | D28: Modernizuoti Kėdainių šviesiosios gimnazijos pastatą Kėdainiuose, Didžioji g. 60 | E28: 1 | F28: Rangos darbų koordinavimas, rangovo prisiimtų sutartinių įsipareigojimų vykdymo kontrolė | G28: Statybos ir turto skyrius | H28: SBVB | I28: 855 | J28: 855 | K28: Atlikta einamaisiais metais numatytų darbų, proc. | L28: 100 | M28: 100 | N28: Tęsti gimnazijos pastato rekonstrukcijos darbai
H29: SB | I29: 57.2 | J29: 57.2
A30: 02 | B30: 01 | C30: 02 | D30: Remontuoti Kėdainių „Ryto“ progimnaziją, kuriant šiuolaikines mokymosi erdves | E30: 1 | F30: Priemonės įgyvendinimo koordinavimas | G30: Administracijos direktorius | H30: SB | I30: 30 | J30: 30 | K30: Įgyvendintų veiklų, modernizuojant edukacines erdves einamaisiais metais, proc. | L30: 100 | M30: 100 | N30: Progimnazijoje atnaujintos visų kabinetų durys, suremontuota koridoriaus dalis (II a.)
A31: 02 | B31: 01 | C31: 03 | D31: Atnaujinti Lietuvos sporto universiteto Kėdainių „Aušros“ progimnaziją, kuriant modernias ir saugias erdves | E31: 1 | F31: Projekto koordinavimas, rangos darbų koordinavimas, rangovo prisiimtų sutartinių įsipareigojimų vykdymo kontrolė | G31: Statybos ir turto skyrius, Strateginio planavimo ir investicijų skyrius | H31: SB | I31: 99.1 | J31: 86.7 | K31: Įgyvendintų veiklų, atnaujinant progimnaziją bei modernizuojant edukacines erdves einamaisiais metais, proc. | L31: 100 | M31: 100 | N31: Gavus papildomą finansavimą, įsigytos papildomos edukacinės priemonės ir baldai, įvesta priešgaisrinė ir saugos signalizacija, vykdyti baseino remonto darbai
H32: ES | I32: 58.4 | J32: 56.1
H33: VB | I33: 5.1 | J33: 5
A34: 02 | B34: 01 | C34: 04 | D34: Sudaryti saugias ugdymo sąlygas įstaigose, vykdančiose ugdymo programas | E34: 1 | F34: Priemonės įgyvendinimo koordinavimas | G34: Švietimo skyrius | H34: SB | I34: 100 | J34: 94.2 | K34: Įstaigų skaičius, kuriose atlikti remonto darbai | L34: 4 | M34: 4 | N34: "Spindulio" mokykloje atnaujintos WC patalpos, naujai įrengtos l/d "Žilvitis", m/d "Obelėlė" tvoros, l/d "Puriena" keisti vartai, varteliai, atnaujinta virtuvė įranga
A35: 02 | B35: 01 | C35: 05 | D35: Įrengti vėdinimo ir kondicionavimo sistemas savivaldybės ugdymo įstaigose | E35: 1 | F35: Priemonės įgyvendinimo koordinavimas | G35: Švietimo skyrius | H35: SB | I35: 50 | J35: 50 | K35: Grupių, klasių ir egzaminų centrų skaičius, kuriose įrengta vėdinimo (kondicionavimo) sistema | L35: 37 | M35: 37 | N35: Darželių grupių bei dalies mokyklų klasių patalpose montuota vėdinimo (kondicionavimo) sistema
A36: 02 | B36: 01 | C36: 06 | D36: Įrengti gamtos ir technologijų mokslų laboratorijas | E36: 1 | F36: Priemonės įgyvendinimo koordinavimas | G36: Švietimo skyrius | H36: SB | I36: 20 | J36: 20 | K36: Įstaigų skaičius, kuriose įrengtos laboratorijos | L36: 4 | M36: 4 | N36: Finansavimas skitas Šėtos bei Akademijos gimnazijoms, Surviliškio V.Svirskio bei Labūnavos pagrindinėms mokykloms
A37: 02 | B37: 01 | C37: 07 | D37: Atnaujinti Kėdainių muzikos mokyklos pastato fasadą, laiptus į rūsį | E37: 1 | F37: Techninės dokumentacijos ir rangos darbų pirkimo viešojo konkurso organizavimas, sutarčių koordinavimas, teikėjų prisiimtų sutartinių įsipareigojimų vykdymo kontrolė | G37: Statybos ir turto skyrius | H37: SB | I37: 40.4 | J37: 40.3 | K37: Atlikta einamaisiais metais numatytų darbų, proc. | L37: 100 | M37: 100 | N37: Einamaisiais metais atlikti fasado (nuo Didžiosios g. pusės) remonto darbai
A38: 02 | B38: 01 | C38: 08 | D38: Parengti bendrojo ir ikimokyklinio ugdymo įstaigų (skyrių) pastatų modernizavimo technines dokumentacijas ir atlikti darbus | E38: 1 | F38: Kėdainių l/d "Vyturėlis" ir Kėdainių l/d. "Varpelis" modernizavimo techninės dokumentacijos rengimo sutarčių koordinavimas, rangos konkurso viešojo pirkimo organizavimas, sutarčių koordinavimas, įsipareigojimų vykdymo kontrolė | G38: Statybos ir turto skyrius, Strateginio planavimo ir investicijų skyrius | H38: SB | I38: 40 | J38: 20.6 | K38: Parengtos techninės dokumentacijos skaičius/Atlikta einamaisiais metais numatytų darbų, proc. | L38: 2/100 | M38: 2/0 | N38: Parengti ir ekspertuoti l/d "Vyturėlis" ir l/d. "Varpelis" modernizavimo techniniai projektai. Pradėtos rangos darbų įsigijimo procedūros. Rangos darbai - 2023 m.
H39: SK | I39: 400 | J39: 0
A40: 02 | B40: 01 | C40: 11 | D40: Atnaujinti Kėdainių J.Paukštelio progimnazijos vidaus erdves | E40: 1 | F40: Priemonės įgyvendinimo koordinavimas | G40: Administracijos direktorius | H40: SB | I40: 25 | J40: 25 | K40: Einamaisiais metais numatyta atlikti darbų, proc. | L40: 100 | M40: 100 | N40: Mokykloje įrengta „Tylioji skaitykla“, atnaujinta biblioteka, suremontuoti 7 mokomieji kabinetai, 2 aukšto koridorius
A41: 02 | B41: 01 | C41: 12 | D41: Vykdyti Kėdainių lopšelio-darželio „Žilvitis“ infrastruktūros modernizavimo projektą | E41: 1 | F41: Projekto koordinavimas, prekių įsigijimo viešųjų pirkimų organizavimas, tiekėjo prisiimtų sutartinių įsipareigojimų vykdymo kontrolė | G41: Strateginio planavimo ir investicijų skyrius | H41: SB | I41: 0.5 | J41: 0 | K41: Įsigytų edukacinių priemonių skaičius | L41: 3 | M41: 3 | N41: Gavus papildomą finansavimą įsigytos papildomos edukacinės priemonės, apmokėjimas - 2023 m.
H42: ES | I42: 6.2 | J42: 0
A43: 02 | B43: 01 | C43: Iš viso uždaviniui | I43: =SUM(I28:I42) -> 1786.9 | J43: =SUM(J28:J42) -> 1340.1
A44: 02 | B44: Iš viso tikslui | I44: =+I43 -> 1786.9 | J44: =+J43 -> 1340.1
A45: Iš viso programai | I45: =+I44+I20 -> 2127.6 | J45: =+J44+J20 -> 1614.4
A46: iš jų: | I46: =+I45-I47-I54 -> 2.8421709e-13 | J46: =+J45-J47-J54 -> -3.1974423e-13
A47: SAVIVALDYBĖS LĖŠOS | I47: =SUM(I48:I53) -> 2057.9 | J47: =SUM(J48:J53) -> 1553.3
A48: Savivaldybės biudžetas SB | I48: =+I40+I38+I37+I36+I35+I34+I31+I30+I18+I16+I15+I14+I13+I12+I29+I41 -> 794.8 | J48: =+J40+J38+J37+J36+J35+J34+J31+J30+J18+J16+J15+J14+J13+J12+J29+J41 -> 690.2
A49: Valstybės biudžeto specialiosios tikslinės dotacijos lėšos SBVB | I49: =+I28+I17 -> 863.1 | J49: =+J28+J17 -> 863.1
A50: Aplinkos apsaugos rėmimo specialiosios programos lėšos AA
A51: Iš pajamų už suteiktas paslaugas lėšos ĮP
A52: Skolintos lėšos SK | I52: =+I39 -> 400 | J52: =+J39 -> 0
A53: Kelių priežiūros ir plėtros programos lėšos KPP
A54: KITOS LĖŠOS | I54: =+I55+I56+I57+I58 -> 69.7 | J54: =+J55+J56+J57+J58 -> 61.1
A55: Europos Sąjungos lėšos, užsienio fondų lėšos ES | I55: =+I32+I42 -> 64.6 | J55: =+J32+J42 -> 56.1
A56: Valstybės biudžeto lėšos VB | I56: =+I33 -> 5.1 | J56: =+J33 -> 5
A57: Privačios – investuotojų lėšos PR
A58: Kiti finansavimo šaltiniai KT

Sheet 02sveikat.
A2: Programos tikslo kodas | B2: Uždavinio kodas | C2: Priemonės kodas | D2: Priemonės pavadinimas | E2: Veiklos/darbo/ veiksmo kodas | F2: Veiklos/darbo/ veiksmo pavadinimas | G2: Atsakingi vykdytojai | H2: Finansavimo šaltinis | I2: Numatomi 2022-ųjų m. asignavimai, tūkst. Eur | J2: Panaudoti 2022-ųjų m. asignavimai, tūkst. Eur | K2: Proceso/indėlio vertinimo kriterijai
K3: Pavadinimas | L3: Planuota reikšmė | M3: Pasiekta reikšmė | N3: Nukrypimų nuo plano priežastys, pastabos, komentarai
A7: 02 SVEIKATOS APSAUGA
A8: 01 | B8: Stiprinti ir išsaugoti gyventojų sveikatą
A9: 01 | B9: 01 | C9: Sudaryti sąlygas gyventojams stiprinti sveikatą, kurti ir plėtoti su sveikatos stiprinimu susijusias paslaugas
A10: 01 | B10: 01 | C10: 01 | D10: Vykdyti Visuomenės sveikatos rėmimo specialiosios programos priemones | E10: 1 | F10: Programos priemonių sveikatos projektų konkurso organizavimas, sutarčių su vykdytojais parengimas, priemonių įgyvendinimo koordinavimas ir kontrolė; užkrečiamųjų ligų plano priemonių vykdymo kontrolė | G10: Vyr. specialistė (savivaldybės gydytoja) | H10: AA | I10: 87.3 | J10: 62.7 | K10: Visuomenės sveikatos rėmimo specialiosios programos įgyvendinimas, proc. | L10: 100 | M10: 100 | N10: Savivaldybės visuomenės sveikatos rėmimo specialiosios programos lėšos buvo skirtos priemonėms Psichikos sveikatos stiprinimo srityje; Nelaimingų atsitikimų ir traumų prevencijos srityje; Aplinkos sveikatinimo srityje. Iš viso suplanuotos ir įvykdytos 29 priemonės
A11: 01 | B11: 01 | C11: 03 | D11: Peržiūrėti neveiksniais pripažintų asmenų būklę | E11: 1 | F11: Neveiksniais pripažintų asmenų būklės peržiūrėjimo organizavimas | G11: Socialinės paramos skyrius | H11: SBVB | I11: 2.5 | J11: 2.3 | K11: Asmenų, kurių neveiksnumas peržiūrėtas, skaičius | L11: 60 | M11: 63 | N11: Neveiksnių asmenų būklės peržiūrėjimo komisija peržiūrėjo 63 asmenų būklę
A12: 01 | B12: 01 | C12: 04 | D12: Gerinti pirminės asmens sveikatos priežiūros paslaugų teikimo prieinamumą tuberkuliozės srityje | E12: 1 | F12: Projekto, kurį vykdo Kėdainių PSPC, kofinansavimo užtikrinimas | G12: Administracijos direktorius | H12: SB | I12: 0.1 | J12: 0 | K12: Tuberkulioze sergančių pacientų, kuriems buvo suteiktos socialinės paramos priemonės tuberkuliozės gydymo metu | L12: 4 | M12: 4 | N12: Projektą įgyvendina Kėdainių PSPC. Savivaldybės indėlio 2022 m. nereikėjo. Projekto įgyvendinimo metu tuberkulioze sergantiems pacientams, ambulatorinio gydymo metu dalijami maisto talonai
A13: 01 | B13: 01 | C13: 07 | D13: Kompensuoti patirtas išlaidas už skiepijimo nuo COVID-19 ligos (koronaviruso infekcijos) paslaugas | H13: SBVB | K13: Paskiepytų vakcina gyventojų procentinė dalis (ne mažiau) | L13: 75 | M13: 75
A14: 01 | B14: 01 | C14: Iš viso uždaviniui | I14: =SUM(I10:I13) -> 89.9 | J14: =SUM(J10:J13) -> 65
A15: 01 | B15: Iš viso tikslui | I15: =+I14 -> 89.9 | J15: =+J14 -> 65
A16: 02 | B16: Gerinti sveikatos priežiūros paslaugų kokybę ir prieinamumą, plėsti paslaugų spektrą, atnaujinti materialinę aplinką
A17: 02 | B17: 01 | C17: Siekti gyventojų sveikatos išsaugojimo, gerinant sveikatos priežiūros paslaugų kokybę ir prieinamumą
A18: 02 | B18: 01 | C18: 01 | D18: Vykdyti E. sveikatos informacinės sistemos diegimo, palaikymo ir tobulinimo VšĮ PSPC ir VšĮ Kėdainių ligoninėje 2022-2026 m. programą | E18: 1 | F18: Sutarčių su vykdytojais suderinimas, priemonių koordinavimas ir vykdymo kontrolė | G18: Vyr. specialistė (savivaldybės gydytoja) | H18: SB | I18: 44.9 | J18: 44.9 | K18: Atnaujintos ir E. Sveikatos IS funkcionalumui pritaikytos įrangos skaičius | L18: 6 | M18: 6 | N18: Įgyvendinant programą vykdytas E. sveikatos IS funkcionalumų palaikymas, atnaujinimas ir diegimas, IKT įrangos modernizavimas, apmokyti nauji darbuotojai
A19: 02 | B19: 01 | C19: 02 | D19: Vykdyti VšĮ Kėdainių ligoninės dantų protezavimo programą | E19: 1 | F19: Sutarčių su vykdytojais suderinimas, priemonių koordinavimas ir vykdymo kontrolė | G19: Vyr. specialistė (savivaldybės gydytoja) | H19: SB | I19: 20 | J19: 20 | K19: Suteiktų dantų protezavimo paslaugų, finansuojamų savivaldybės biudžeto lėšomis, skaičius | L19: 41 | M19: 41 | N19: Įgyvendinant programą savivaldybės biudžeto lėšomis dantų protezavimo paslauga suteikta 41 asmeniui
A20: 02 | B20: 01 | C20: 03 | D20: Vykdyti Kėdainių rajono tuberkuliozės prevencijos, ankstyvosios diagnostikos, gydymo ir kontrolės 2017–2022 m. programą | E20: 1 | F20: Sutarčių su vykdytojais suderinimas, priemonių koordinavimas ir vykdymo kontrolė | G20: Vyr. specialistė (savivaldybės gydytoja) | H20: SB | I20: 26.2 | J20: 26.2 | K20: Įsigytos įrangos skaičius (lizingas)/atliktų tyrimų ir paslaugų sk. | L20: 1/3000/ 5000 | M20: 1/ 3589/ | N20: Programos lėšomis mokėtos lizingo įmokos už įsigytą universalų distancinį valdymo rentgeno diagnostikos aparatą, pirkti tuberkulino mėginiai
A21: 02 | B21: 01 | C21: 04 | D21: Vykdyti Ultragarsinių diagnostinių paslaugų teikimo efektyvumo gerinimo Kėdainių rajono savivaldybėje 2017–2022 m. programą | E21: 1 | F21: Sutarčių su vykdytojais suderinimas, priemonių koordinavimas ir vykdymo kontrolė | G21: Vyr. specialistė (savivaldybės gydytoja) | H21: SB | I21: 5.2 | J21: 5.2 | K21: Atliktų echoskopijų skaičius per metus | L21: 14500 | M21: 17394 | N21: Programos lėšomis išmokėtos lizingo įmokos už įsigytą echoskopą.
A22: 02 | B22: 01 | C22: 05 | D22: Vykdyti pirminės asmens sveikatos priežiūros paslaugų prieinamumo ir kokybės užtikrinimo Kėdainių rajono kaimiškųjų vietovių gyventojams 2017–2023 m. programą | E22: 1 | F22: Sutarčių su vykdytojais suderinimas, priemonių koordinavimas ir vykdymo kontrolė | G22: Vyr. specialistė (savivaldybės gydytoja) | H22: SB | I22: 96.5 | J22: 95.3 | K22: Pacientų, patenkintų pirminės asmens sveikatos priežiūros paslaugų kokybe, skaičiaus didėjimas (proc.). | L22: 3 | M22: 3 | N22: Programos lėšomis dalinai finansuotos ambulatorijų ir medicinos punktų komunalinės išlaidos, įsigyti 2 odontologiniai įrenginiai (Josvainių ir Dotnuvos amb.).
A23: 02 | B23: 01 | C23: 06 | D23: Vykdyti ambulatorinės akušerinės ir ginekologinės pagalbos kokybės gerinimo Kėdainių rajono savivaldybės moterims 2019-2024 m. programą | E23: 1 | F23: Sutarčių su vykdytojais suderinimas, priemonių koordinavimas ir vykdymo kontrolė | G23: Vyr. specialistė (savivaldybės gydytoja) | H23: SB | I23: 6 | J23: 6 | K23: Įsigytos įrangos skaičius/ vidutinis atliktų ultragarsinių tyrimų skaičius 1 gydytojui | L23: 285 | M23: 354 | N23: Programos lėšomis mokamos lizingo įmokos už įsigytą ultragarsinį aparatą. Vienas gydytojas vidutiniškai atliko 354 vnt. ultragarsinius tyrimus
A24: 02 | B24: 01 | C24: 07 | D24: Vykdyti endoskopinių paslaugų prieinamumo ir kokybės gerinimo Kėdainių rajono savivaldybėje 2020-2025 m. programą | E24: 1 | F24: Sutarčių su vykdytojais suderinimas, priemonių koordinavimas ir vykdymo kontrolė | G24: Vyr. specialistė (savivaldybės gydytoja) | H24: SB | I24: 21.1 | J24: 21.1 | K24: Įsigytos įrangos skaičius / atliktų endoskopijų ir kolonoskopijų skaičius | L24: 1750 | M24: 1398 | N24: Programos lėšomis mokėtos lizingo įmokos už endoskopinę įrangą su vežimėliu bei endoskopų plovimo ir dezinfekavimo mašiną. Dėl Covid-19 taikomų priemonių buvo pailgintas dezinfekcijos laikas tarp ligonių priėmimo, kas sąlygojo mažesnį priimtų pacientų skaičių
A25: 02 | B25: 01 | C25: 08 | D25: Vykdyti mamografijos paslaugų tęstinumo, kokybės gerinimo Kėdainių rajono savivaldybėje 2020-2025 m. programą | E25: 1 | F25: Sutarčių su vykdytojais suderinimas, priemonių koordinavimas ir vykdymo kontrolė | G25: Vyr. specialistė (savivaldybės gydytoja) | H25: SB | I25: 19.1 | J25: 19.1 | K25: Įsigytos įrangos skaičius / atliktų mamografijų ir vertinimo paslaugų skaičius per metus | L25: 1800 | M25: 5814 | N25: Programos lėšomis mokamos lizingo įmokos už skaitmenizuoto mamografo įsigijimą, atlikta 5814 mamografijų ir vertinimo paslaugų
A26: 02 | B26: 01 | C26: 09 | D26: Vykdyti trūkstamos sveikatos priežiūros specialistų skatinimo dirbti Kėdainių rajono savivaldybės viešosiose asmens priežiūros įstaigose 2022-2026 m. programą | E26: 1 | F26: Sutarčių su vykdytojais suderinimas, priemonių koordinavimas ir vykdymo kontrolė | G26: Vyr. specialistė (savivaldybės gydytoja) | H26: SB | I26: 18.2 | J26: 0 | K26: Naujai atvykusių dirbti į Kėdainių PSPC bei Kėdainių ligoninę specialistų, pagal programą, skaičius | L26: 3 | M26: 0 | N26: Ne Pagal šią priemonę planuota prisidėti prie LR SAM finansuojamos ES programos pritraukiant naujus specialistus, tačiau šios programos sąlygos (dirbti įstaigoje ne mažiau kaip 7 m.) nebuvo patrauklios naujiems gydytojams
A27: 02 | B27: 01 | C27: 10 | D27: Diegti pacientų eilių valdymo sistemą Kėdainių rajono asmens sveikatos priežiūros įstaigose | E27: 1 | F27: Sutarčių su vykdytojais suderinimas, priemonių koordinavimas ir vykdymo kontrolė | G27: Vyr. specialistė (savivaldybės gydytoja) | H27: SB | I27: 14 | J27: 12.5 | K27: Įsigytos / palaikomos pacientų eilių valdymo sistemos įrangos skaičius | L27: 1 | M27: 1 | N27: Įsigyta ir sumontuota VŠĮ Kėdainių PSPC registratūroje Eilių valdymo sistema
A28: 02 | B28: 01 | C28: 11 | D28: Vykdyti anestezijos paslaugų vaikams ir suaugusiesiems kokybės gerinimo Kėdainių rajono savivaldybėje 2022-2027 m. programą | E28: 1 | F28: Sutarčių su vykdytojais suderinimas, priemonių koordinavimas ir vykdymo kontrolė | G28: Vyr. specialistė (savivaldybės gydytoja) | H28: SB | I28: 31.8 | J28: 31.8 | K28: Įsigytos įrangos skaičius /atliktų bendrųjų anestezijų skaičius per metus | L28: 2/1482 | M28: 2/1482 | N28: Įsigyti 2 vnt. anestezijos aparatų su paciento gyvybinių funkcijų montavimo sistema bei elektros energijos generatorius. Įmokėta pradinė lizingo įmoka.
A29: 02 | B29: 01 | C29: 12 | D29: Vykdyti rentgeno paslaugų atnaujinimo, kokybės gerinimo Kėdainių rajono savivaldybėje 2022-2027 m. programą | E29: 1 | F29: Sutarčių su vykdytojais suderinimas, priemonių koordinavimas ir vykdymo kontrolė | G29: Vyr. specialistė (savivaldybės gydytoja) | H29: SB | I29: 41.4 | J29: 32 | K29: Įsigytos įrangos skaičius | L29: 1 | M29: 1 | N29: Įsigytas skaitmeninis rentgeno aparatas. Įmokėta pradinė lizingo įmoka.
A30: 02 | B30: 01 | C30: 14 | D30: Vykdyti tinkamų ir saugių darbo sąlygų užtikrinimo, įrengiant vėdinimo bei kondicionavimo sistemas VšĮ PSPC 2022-2026 m. programą | E30: 1 | F30: Sutarčių su vykdytojais suderinimas, priemonių koordinavimas ir vykdymo kontrolė | G30: Vyr. specialistė (savivaldybės gydytoja) | H30: SB | I30: 39 | J30: 38.3 | K30: Patalpų, kuriose įrengta vėdinimo (kondicionavimo) sistema, skaičius | L30: 30 | M30: 32 | N30: Iš programos lėšų 32 kabinetuose/patalpose įrengi kondicionieriai
A31: 02 | B31: 01 | C31: 15 | D31: Teikti Metų medicinos darbuotojo apdovanojimą | E31: 1 | F31: Sutarčių su vykdytojais suderinimas, priemonių koordinavimas ir vykdymo kontrolė | G31: Vyr. specialistė (savivaldybės gydytoja) | H31: SB | I31: 3 | J31: 3 | K31: Įteiktas Metų medicinos darbuotojo apdovanojimas | L31: 1 | M31: 1 | N31: Metų medikės vardas ir sidabro ženklas „Už nuopelnus“ įteikta Kėdainių PSPC vyr. slaugos specialistei, bendruomenės slaugytojai, COVID-19 mobiliojo patikros punkto koordinatorei Raimondai Pučėtienei
A32: 02 | B32: 01 | C32: 16 | D32: Vykdyti Pirminės asmens sveikatos priežiūros prieinamumo užtikrinimo Kėdainių raj. Pernaravos seniūnijos Langakių kaimo gyventojams programą | E32: 1 | F32: Sutarčių su vykdytojais suderinimas, priemonių koordinavimas ir vykdymo kontrolė | G32: Vyr. specialistė (savivaldybės gydytoja) | H32: SB | I32: 8.3 | J32: 8.3 | K32: Gyventojų, kuriems gali būti suteiktos reikalingos pirminės asmens sveikatos priežiūros (taip pat ir profilaktinio darbo) paslaugos, skaičius | L32: ~320 | M32: ~320 | N32: Programos lėšomis įsigyti baldai, 2 nešiojami kompiuteriai, smulkios medicininės įrangos
A33: 02 | B33: 01 | C33: Iš viso uždaviniui | I33: =SUM(I18:I32) -> 394.7 | J33: =SUM(J18:J32) -> 363.7
A34: 02 | B34: Iš viso tikslui | I34: =+I33 -> 394.7 | J34: =+J33 -> 363.7
A35: 03 | B35: Pritaikyti viešąją infrastruktūrą sveikatos gerinimo poreikiams
A36: 03 | B36: 01 | C36: Modernizuoti ir atnaujinti sveikatos priežiūros vidaus ir išorės infrastruktūrą
A37: 03 | B37: 01 | C37: 03 | D37: Didinti pirminės asmens sveikatos priežiūros veiklos efektyvumą VšĮ Kėdainių pirminės sveikatos priežiūros centre | E37: 1 | F37: Projekto, kurį vykdo Kėdainių PSPC, kofinansavimo užtikrinimas | G37: Administracijos direktorius | H37: SB | I37: 6.3 | J37: 2.6 | K37: Viešąsias sveikatos priežiūros paslaugas teikiančių įstaigų, kuriose pagerinta paslaugų teikimo infrastruktūra, skaičius / Gyventojų, pasinaudojusių pagerintomis paslaugomis, skaičius tūkst. | L37: 1 /40,3 | M37: 1 /40,3 | N37: Dalinai kofinansuotas PSPC įgyvendinamas projektas. Atliktas numatytų ambulatorijų patalpų remontas, įsigyta įranga pirminės sveikatos priežiūros paslaugų teikimui
A38: 03 | B38: 01 | C38: 04 | D38: Įgyvendinti priemones, skirtas žemo slenksčio paslaugų kokybės gerinimui Kėdainių rajono savivaldybėje | E38: 1 | F38: Projekto koordinavimas, įrangos/prekių įsigijimo sutarčių koordinavimas, tiekėjo prisiimtų sutartinių įsipareigojimų vykdymo kontrolė | G38: Strateginio planavimo ir investicijų skyrius | H38: ES | I38: 22 | J38: 16.5 | K38: Apsilankymai (kartais) žemo slenksčio paslaugų kabinetuose per metus | L38: 1152 | M38: 1562 | N38: Įgyvendinant projektą teiktos stacionarios Žemo slenksčio kabinete ir mobilios paslaugos 1562 lankytojams, įsigytos priemonės (atrankiniai greitieji ŽIV, Hepatitų C, B, sifilio testai, vienkartinės dezinfekcinės, žaizdų gydymo priemonės, utilizavimo konteineriai ir transportavimo įranga (krepšiai) mobilioms paslaugoms teikti)
H39: VB | I39: 4 | J39: 2.9
A40: 03 | B40: 01 | C40: 05 | D40: Įrengti medicinos punktą Langakių kaime | E40: 1 | F40: Rangos sutarties vykdymo kontrolė, baldų/įrangos įsigijimo viešojo pirkimo organizavimas, tiekėjo prisiimtų sutartinių įsipareigojimų vykdymo kontrolė, baldų bei reikiamos įrangos įsigijimo kordinavimas | G40: Statybos ir turto skyrius, Vyr. specialistė (savivaldybės gydytoja) | H40: SB | I40: 6.7 | J40: 6.7 | K40: Gyventojų, galinčių pasinaudoti paslaugomis, skaičius | L40: ~320 | M40: ~320 | N40: Baigti Langakių medicinos punkto įrengimo darbai
A41: 03 | B41: 01 | C41: Iš viso uždaviniui | I41: =SUM(I37:I40) -> 39 | J41: =SUM(J37:J40) -> 28.7
A42: 03 | B42: Iš viso tikslui | I42: =+I41 -> 39 | J42: =+J41 -> 28.7
A43: Iš viso programai | I43: =+I42+I34+I15 -> 523.6 | J43: =+J42+J34+J15 -> 457.4
A44: iš jų: | I44: =+I43-I45-I52 -> 0 | J44: =+J43-J45-J52 -> 9.2370556e-14
A45: SAVIVALDYBĖS LĖŠOS | I45: =SUM(I46:I51) -> 497.6 | J45: =SUM(J46:J51) -> 438
A46: Savivaldybės biudžetas SB | I46: =+I40+I37+I31+I30+I29+I28+I27+I26+I24+I25+I23+I22+I21+I20+I19+I18+I12+I32 -> 407.8 | J46: =+J40+J37+J31+J30+J29+J28+J27+J26+J24+J25+J23+J22+J21+J20+J19+J18+J12+J32 -> 373 | K46: =+I46+I48 -> 495.1 | L46: =+J46+J48 -> 435.7
A47: Valstybės biudžeto specialiosios tikslinės dotacijos lėšos SBVB | I47: =+I13+I11 -> 2.5 | J47: =+J13+J11 -> 2.3
A48: Aplinkos apsaugos rėmimo specialiosios programos lėšos AA | I48: =+I10 -> 87.3 | J48: =+J10 -> 62.7
A49: Iš pajamų už suteiktas paslaugas lėšos ĮP
A50: Skolintos lėšos SK
A51: Kelių priežiūros ir plėtros programos lėšos KPP
A52: KITOS LĖŠOS | I52: =SUM(I53:I56) -> 26 | J52: =SUM(J53:J56) -> 19.4
A53: Europos Sąjungos lėšos, užsienio fondų lėšos ES | I53: =+I38 -> 22 | J53: =+J38 -> 16.5
A54: Valstybės biudžeto lėšos VB | I54: =+I39 -> 4 | J54: =+J39 -> 2.9
A55: Privačios – investuotojų lėšos PR
A56: Kiti finansavimo šaltiniai KT

Sheet 03social.
I1: PATVIRTINTA Kėdainių rajono savivaldybės administracijos direktoriaus 2022 m. kovo 9 d. įsakymu Nr.AD-1-276 (Kėdainių rajono savivaldybės administracijos direktoriaus 2022 m. gruodžio d. įsakymo Nr.AD-1- redakcija)
A3: Programos tikslo kodas | B3: Uždavinio kodas | C3: Priemonės kodas | D3: Priemonės pavadinimas | E3: Veiklos/darbo/ veiksmo kodas | F3: Veiklos/darbo/ veiksmo pavadinimas | G3: Atsakingi vykdytojai | H3: Finansavimo šaltinis | I3: Numatomi 2022-ųjų m. asignavimai, tūkst. Eur | J3: Panaudoti 2022-ųjų m. asignavimai, tūkst. Eur | K3: Proceso/indėlio vertinimo kriterijai
K4: Pavadinimas | L4: Planuota reikšmė | M4: Pasiekta reikšmė | N4: Nukrypimų nuo plano priežastys, pastabos, komentarai
A8: 03 SOCIALINĖS APSAUGOS PLĖTOJIMAS
A9: 01 | B9: Organizuoti socialinę paramą ir skatinti socialinę integraciją
A10: 01 | B10: 01 | C10: Organizuoti Lietuvos Respublikos teisės aktuose numatytos paramos bei paslaugų asmenims ir šeimoms teikimą
A11: 01 | B11: 01 | C11: 01 | D11: Teikti ir administruoti socialines išmokas ir kompensacijas (būsto šildymo išlaidų, išlaidų šaltam bei nuotekoms ir išlaidų karštam vandeniui) | E11: 1 | F11: Koordinavimas, duomenų suvedimas į programą "Parama" | G11: Socialinės paramos skyrius | H11: SBVB | I11: 4.5 | J11: 4.1 | K11: Asmenų, gaunančių socialinę pašalpą ir kompensacijas skaičius | L11: 6900 | M11: 11342 | N11: Piniginės socialinės paramos gavėjų skaičius ženkliai išaugo dėl pasikeitusių teisės aktų, kurie reglamentavo Valstybės remiamų pajamų didėjimą, kuris tiesiogiai susijęs tiek su kompensacijos dydžiu, tiek nustatant teisę skirti kompensaciją būsto šildymui, šaltam bei karštam vandeniui
H12: SB | I12: 656.3 | J12: 573.2
A13: 01 | B13: 01 | C13: 02 | D13: Dengti išlaidas už įsigytus produktus, mokinio reikmenis, administruoti socialinę paramą mokiniams | E13: 1 | F13: Koordinavimas, duomenų suvedimas į programą "Parama", informacijos teikimas švietimo įstaigų vadovams | G13: Socialinės paramos skyrius, Švietimo skyrius | H13: SBVB | I13: 942.5 | J13: 912.1 | K13: Mokinių, gaunančių nemokamą maitinimą, skaičius | L13: 2300 | M13: 2138 | N13: Mokinių ir lėšų augimą lėmė skiriamų lėšų dydžio maisto produktams įsigyti didėjimas bei Socialinės paramos mokiniams įstatymo pakeitimai, susiję su socialinės paramos skyrimu netestuojant pajamų I-II klasę lankantiems mokiniams
K14: Mokinių, gaunančių būtiniausius mokinio reikmenis, skaičius | L14: 1250 | M14: 1325
A15: 01 | B15: 01 | C15: 03 | D15: Teikti socialinę globą asmenims su sunkia negalia | E15: 1 | F15: Koordinavimas, apmokėjimas už suteiktas paslaugas ne savivaldybės pavaldumo globos įstaigoms | G15: Socialinės paramos skyrius | H15: SBVB | I15: 380.5 | J15: 380.5 | K15: Globojamų asmenų skaičius/globojamų asmenų, kuriems teikiamos paslaugos procentas, palyginus su visais asmenimis, kuriems nustatytas paslaugos poreikis | L15: 210/98 | M15: 226/98 | N15: Globojamų asmenų su sunkia negalia skaičius pastaraisiais metais didėja, daugėja tiek dienos socialinės globos paslaugų namuose, tiek stacionariose įstaigose gavėjų
A16: 01 | B16: 01 | C16: 05 | D16: Organizuoti nemokamą socialiai remtinų vaikų maitinimą ikimokyklinėse įstaigose | E16: 1 | F16: Informacijos rinkimas, ikimokyklinių įstaigų užmokesčio už vaikų išlaikymą analizė | G16: Švietimo skyrius | H16: SB | I16: 68 | J16: 61 | K16: Vaikų, gaunančių nemokamą maitinimą, skaičius | L16: 340 | M16: 502 | N16: 502 vaikai iš dalies arba visiškai atleisti nuo mokesčio už maitinimą. Lėšų reikėjo daugiau, kadangi ukrainiečių vaikams (46) kompensuota 100 proc.
A17: 01 | B17: 01 | C17: 06 | D17: Kompensuoti nemokamo mokinių maitinimo kainą bendrojo lavinimo mokyklose | E17: 1 | F17: Koordinavimas, duomenų rinkimas, apmokėjimas maitinimo paslaugų teikėjams bei įstaigoms | G17: Socialinės paramos skyrius, Apskaitos skyrius | H17: SB | I17: 233.8 | J17: 223 | K17: Mokinių, gaunančių nemokamą maitinimą, skaičius | L17: 2300 | M17: 2138 | N17: 2138 mokiniui kompensuota nemokamo maitinimo kaina.
A18: 01 | B18: 01 | C18: 07 | D18: Teikti tikslines kompensacijas neįgaliesiems | E18: 1 | F18: Asmenų konsultavimas, prašymų priėmimas, Duomenų suvedimas į programą | G18: Socialinės paramos skyrius | H18: VB | I18: 3130.8 | J18: 2998 | K18: Asmenų, gaunančių šalpos išmokas, skaičius | L18: 1429 | M18: 1470 | N18: Asmenims išmokėtos tikslinės kompensacijos
H19: SBVB | I19: 0.1 | J19: 0.1
A20: 01 | B20: 01 | C20: 08 | D20: Teikti išmokas vaikams | E20: 1 | F20: Koordinavimas, Duomenų suvedimas į programą "Parama" | G20: Socialinės paramos skyrius | H20: VB | I20: 10760.5 | J20: 10398 | K20: Asmenų, gaunančių išmokas vaikams, skaičius | L20: 11700 | M20: 8846 | N20: Išmoka skirta 8846 vaikams
A21: 01 | B21: 01 | C21: 09 | D21: Organizuoti socialinės reabilitacijos paslaugų neįgaliesiems bendruomenėje projektų konkursus | E21: 1 | F21: Projektų konkurso organizavimas, projektų koordinavimas, sutarčių vykdymo kontrolė | G21: Socialinės paramos skyrius | H21: SBVB | I21: 84.1 | J21: 83.4 | K21: Neįgaliųjų, gavusių paslaugas, skaičius | L21: 380 | M21: 479 | N21: Įgyvendinti 6 Kėdainių rajono neįgaliuosius atstovaujančių organizacijų pateikti socialinės reabilitacijos paslaugų neįgaliems asmenims projektai, kuriuose dalyvavo 479 neįgalūs asmenys
H22: SB | I22: 16 | J22: 16
A23: 01 | B23: 01 | C23: 10 | D23: Organizuoti ir dalinai kompensuoti būsto pritaikymą neįgaliesiems | E23: 1 | F23: Poreikio identifikavimas, viešųjų pirkimų organizavimas, sutarties vykdymo koordinavimas | G23: Socialinės paramos skyrius | H23: SBVB | I23: 23.1 | J23: 23.1 | K23: Pritaikyti būstų neįgaliesiems skaičius | L23: 7 | M23: 7 | N23: Neįgaliųjų poreikiams pritaikyti 7 būstai
A24: 01 | B24: 01 | C24: 11 | D24: Kompensuoti komunalines išlaidas neįgaliesiems | E24: 1 | F24: Asmenų konsultavimas, prašymų priėmimas, Duomenų suvedimas į programą "Parama" | G24: Socialinės paramos skyrius | H24: VB | I24: 0.1 | J24: 0 | K24: Neįgaliųjų, gavusių kompensacijas skaičius | L24: 1 | M24: 0 | N24: Nesikreipta dėl paslaugos
A25: 01 | B25: 01 | C25: 12 | D25: Teikti kompensacijas ginkluoto pasipriešinimo dalyvių šeimoms, sovietinėje armijoje sužalotiems asmenims bei žuvusiųjų šeimoms | E25: 1 | F25: Asmenų konsultavimas, prašymų priėmimas, Duomenų suvedimas į programą "Parama" | G25: Socialinės paramos skyrius | H25: VB | I25: 1.6 | J25: 0 | K25: Asmenų, gavusių kompensacijas, skaičius | L25: 1 | M25: 0 | N25: Finansavimą gali gauti asmenys, pateikę prašymą, tačiau pateiktų prašymų skirti kompensacijas 2022 m. nebuvo
A26: 01 | B26: 01 | C26: 13 | D26: Kompensuoti būsto nuomos ar išperkamosios būsto nuomos mokesčių dalį | E26: 1 | F26: Asmenų konsultavimas, prašymų priėmimas, sąrašų sudarymas, duomenų vedimas į SPIS programą | G26: Socialinės paramos skyrius | H26: SBVB | I26: 8.9 | J26: 4.3 | K26: Asmenų, gavusių būsto nuomos ar išperkamosios būsto nuomos mokesčių dalies kompensaciją, skaičius | L26: 9 | M26: 9 | N26: Vykdytas viešinimas dėl galimybės pasinaudoti šia paslauga, 9 asmenys (šeimos) kreipėsi dėl kompensacijų
A27: 01 | B27: 01 | C27: 14 | D27: Teikti ir administruoti asmeninę pagalbą | E27: 1 | F27: Asmenų konsultavimas, prašymų priėmimas, sprendimų dėl paslaugų skyrimo rengimas, lėšų poreikio apskaičiavimas ir lėšų pervedimas paslaugos teikėjui, finansinių ir dalykinių ataskaitų teikimas | G27: Socialinės paramos skyrius | H27: SBVB | I27: 6.2 | J27: 3.4 | K27: Asmenų, gaunančių išmokas, skaičius | L27: 6 | M27: 4 | N27: 4 asmenims teikta išmoka asmeninei pagalbai teikti ir administruoti. Pagal poreikį panaudota mažesnė lėšų suma iš SBVB, kadangi paslaugos buvo finansuotos iš projekto "Kompleksinių paslaugų teikimas Kėdainių rajono savivaldybėje"
A28: 01 | B28: 01 | C28: 15 | D28: Finansuoti išlaidas už būsto suteikimą užsieniečiams, pasitraukusiems iš Ukrainos dėl Rusijos federacijos karinių veiksmų Ukrainoje | E28: 1 | F28: Priemonės koordinavimas | G28: Socialinės paramos skyrius | H28: SBVB | I28: 125.6 | J28: 140.4 | K28: Paramos pagal poreikį teikimas | L28: 100 | M28: 100 | N28: Išlaidos finansuotos 437 asmenims
A29: 01 | B29: 01 | C29: 17 | D29: Kita dotacija kompensuoti iki 2022 m. birželio 13 d. savivaldybės patirtas išlaidas užsieniečiams, pasitraukusiems iš Ukrainos dėl Rusijos federacijos karinių veiksmų Ukrainoje, priimti ir pagalbai jiems teikti įgyvendinant Lietuvos Respublikos piniginės socialinės paramos nepasiturintiems gyventojams įstatymą | E29: 1 | F29: Priemonės koordinavimas | G29: Socialinės paramos skyrius | H29: SBVB | I29: 140.4 | J29: 96.8 | K29: Gautos kompensacijos dalis, proc., per numatytą laikotarpį | L29: 100 | M29: 100 | N29: Parama suteikta 182 asmenims
A30: 01 | B30: 01 | C30: 18 | D30: Teikti vienkartines išmokas įsikurti gyvenamojoje vietoje savivaldybės teritorijoje ir (ar) mėnesines kompensacijas vaiko ugdymo pagal ikimokyklinio ir priešmokyklinio ugdymo programą | E30: 1 | F30: Priemonės koordinavimas | G30: Socialinės paramos skyrius | H30: SBVB | I30: 3.9 | J30: 7 | K30: Paramos pagal poreikį teikimas | L30: 100 | M30: 100 | N30: Išmokos skirtos 24 asmenims (10 šeimų).
A31: 01 | B31: 01 | C31: Iš viso uždaviniui | I31: =SUM(I11:I30) -> 16586.9 | J31: =SUM(J11:J30) -> 15924.4
A32: 01 | B32: 02 | C32: Organizuoti socialinės paramos ir paslaugų teikimą Lietuvos Respublikos įstatymuose nenumatytais atvejais
A33: 01 | B33: 02 | C33: 01 | D33: Teikti savivaldybės paramą neįgaliesiems, senyvo amžiaus asmenims, vaikams ir daugiavaikėms, skurdžiai gyvenančioms, nuo stichinių nelaimių nukentėjusioms šeimoms, pirkti socialines paslaugas | E33: 1 | F33: Apmokėjimas už suteiktas paslaugas ne savivaldybės pavaldumo globos įstaigoms | G33: Apskaitos skyrius, Socialinės paramos skyrius | H33: SB | I33: 440 | J33: 497.9 | K33: Asmenų, gaunančių savivaldybės paramą, skaičius | L33: 4500 | M33: 4540 | N33: Finansuotos pagal sutartis socialinės paslaugos asmenims, kurias teikia kitos savivaldybės.
A34: 01 | B34: 02 | C34: 02 | D34: Dengti kainų skirtumą gyventojams už šildymą | E34: 1 | F34: Apmokėjimų užtikrinimas paslaugų teikėjams | G34: Apskaitos skyrius | H34: SB | I34: 126 | J34: 120.7 | K34: Asmenų, kuriems dengiamas kainų skirtumas, skaičius | L34: 500 | M34: 498 | N34: 498 asmenims kompensuotas kainų skirtumas už šildymą. Lėšų poreikis kompensacijoms skiriamas atsižvelgiant į gyventojų gaunamas pajamas, šildymo sezono trukmę
A35: 01 | B35: 02 | C35: 03 | D35: Kompensuoti karšto ir šalto vandens pardavimo kainą socialiai remtiniems asmenims | E35: 1 | F35: Koordinavimas, duomenų teikimas paslaugų teikėjams | G35: Socialinės paramos skyrius, Apskaitos skyrius | H35: SB | I35: 132.5 | J35: 130 | K35: Asmenų, gaunančių kompensaciją, skaičius | L35: 5800 | M35: 5796 | N35: 5796 asmenims kompensuota karšto ir šalto vandens pardavimo kaina.
A36: 01 | B36: 02 | C36: 04 | D36: Teikti vienkartinę išmoką gimus vaikui Lietuvos Respublikos teritorijoje ir gyvenančiam Kėdainių rajono savivaldybėje | E36: 1 | F36: Išmokų pervedimas | G36: Apskaitos skyrius | H36: SB | I36: 30 | J36: 29.1 | K36: Asmenų, gaunančių išmokas, skaičius | L36: 320 | M36: 291 | N36: 267 vaikams, gimusiems Lietuvoje ir gyvenantiems Kėdainių r. savivaldybėje mokėtos 100 Eur vienkartinės išmokos
A37: 01 | B37: 02 | C37: 05 | D37: Užtikrinti 2022 metais Lietuvos Respublikos piniginės socialinės paramos nepasiturintiems gyventojams įstatymo įgyvendinimą dėl padidėjusių išlaidų būsto šildymo išlaidų kompensacijoms teikti | E37: 1 | F37: Koordinavimas, duomenų suvedimas į programą "Parama" | G37: Socialinės paramos skyrius | H37: SBVB | I37: 371.2 | J37: 371.2 | K37: Funkcijos vykdymo užtikrinimas | L37: 100 | M37: 100 | N37: 3591 asmeniui teikta kompensacija
A38: 01 | B38: 02 | C38: 07 | D38: Teikti Metų socialinio darbuotojo apdovanojimą | E38: 1 | F38: Metų socialinio darbuotojo konkurso organizavimas | G38: Socialinės paramos skyrius | H38: SB | I38: 3 | J38: 3 | K38: Įteiktas Metų socialinio darbuotojo apdovanojimas | L38: 1 | M38: 1 | N38: Metų socialinio darbuotojo apdovanojimas skirtas Pelėdnagių seniūnijos socialinio darbo specialistei Vilmai Paškevičienei
A39: 01 | B39: 02 | C39: 08 | D39: Teikti socialines paslaugas dėl karinių veiksmų iš Ukrainos pasitraukusiems gyventojams savivaldybėje | E39: 1 | F39: Priemonės kordinavimas | G39: Socialinės paramos skyrius, Apskaitos skyrius | H39: SBVB | I39: 0.9 | J39: 0.9 | K39: Funkcijos vykdymo užtikrinimas | L39: 100 | M39: 100 | N39: Teiktos socialinės paslaugos iš Ukrainos pasitraukusiems gyventojams
A40: 01 | B40: 02 | C40: 09 | D40: Teikti integralią pagalbą nuo 2022 m. sausio 1 d. iki 2022 m. gruodžio 31 d. | E40: 1 | F40: Priemonės kordinavimas | G40: Socialinės paramos skyrius, Apskaitos skyrius | H40: SBVB | I40: 85.3 | J40: 80.2 | K40: Funkcijos vykdymo užtikrinimas | L40: 100 | M40: 100 | N40: Pagal poreikį teikta integralią pagalbą
A41: 01 | B41: 02 | C41: Iš viso uždaviniui | I41: =SUM(I33:I40) -> 1188.9 | J41: =SUM(J33:J40) -> 1233
A42: 01 | B42: 03 | C42: Užtikrinti transporto lengvatų, numatytų Lietuvos Respublikos transporto lengvatų įstatyme, taikymą
A43: 01 | B43: 03 | C43: 01 | D43: Kompensuoti kelionės išlaidas už lengvatinį keleivių vežimą | E43: 1 | F43: Duomenų ir pateisinamųjų dokumentų iš vežėjų ir įstaigų rinkimas, sisteminimas, analizė ir teikimas Apskaitos bei Biudžeto ir finansų skyriams | G43: Statybos ir turto skyrius | H43: SB | I43: 462.6 | J43: 448.4 | K43: Parduotų su nuolaida bilietų skaičius (tūkst.) | L43: 550 | M43: 747.3 | N43: 2022 m. UAB "Kėdbusas" finansuota už keleivių, turinčių teisę į lengvatas (moksleivius, senjorus ir neįgaliuosius pagal LT Transporto lengvatų įstatymą, užsieniečius, pasitraukusius iš Ukrainos dėl Rusijos Federacijos karinių veiksmų) vežimą.
A44: 01 | B44: 03 | C44: Iš viso uždaviniui | I44: =SUM(I43) -> 462.6 | J44: =SUM(J43) -> 448.4
A45: 01 | B45: Iš viso tikslui | I45: =+I44+I41+I31 -> 18238.4 | J45: =+J44+J41+J31 -> 17605.8
A46: 02 | B46: Gerinti socialinių paslaugų prieinamumą, užtikrinti jų teikimą bei didinti socialinių paslaugų ir jų teikėjų įvairovę
A47: 02 | B47: 01 | C47: Užtikrinti, plėsti ir gerinti socialinių paslaugų teikimą
A48: 02 | B48: 01 | C48: 06 | D48: Užtikrinti paslaugų teikimą VšĮ "Gyvenimo namai sutrikusio intelekto asmenims" | E48: 1 | F48: Sutarčių su vykdytojais suderinimas, priemonių koordinavimas ir vykdymo kontrolė | G48: Socialinės paramos skyrius | H48: SB | I48: 60 | J48: 60 | K48: Paslaugas gavusių asmenų skaičius | L48: 21 | M48: 21 | N48: Įstaiga paslaugas teikė 21asmeniui
A49: 02 | B49: 01 | C49: 08 | D49: Teikti kompleksines paslaugas šeimai Kėdainių rajone | E49: 1 | F49: Projekto koordinavimas | G49: Socialinės paramos skyrius | H49: ES | I49: 98 | J49: 97.7 | K49: Asmenų, kuriems suteiktos paslaugos, skaičius | L49: 150 | M49: 266 | N49: 2022 m. projektinėse veiklose dalyvavo 266 dalyviai. Teikiamos psichologo paslaugos ir pozityvios tėvystės užsiėmimai. Asmenys noriai naudojasi paslaugomis, ypatingai psichologų pagalba
A50: 02 | B50: 01 | C50: 09 | D50: Finansuoti dienos socialinės globos paslaugų teikimą Kėdainių socialinės globos namuose | E50: 1 | F50: Programos vykdymo kontrolė | G50: Socialinės paramos skyrius | H50: SBVB | I50: 35 | J50: 35 | K50: Asmenų, kuriems suteiktos paslaugos, skaičius | L50: 5 | M50: 5 | N50: Projektą įgyvendina Kėdainių socialinės globos namai. Paslaugos teiktos 5 asmenims, iš kurių 4 - su negalia
H51: SB | I51: 7 | J51: 3.4
A52: 02 | B52: 01 | C52: 10 | D52: Finansuoti vaikų dienos centrų veiklos programas | E52: 1 | F52: Sutarčių sudarymas, programų įgyvendinimo priežiūros organizavimas | G52: Socialinės paramos skyrius | H52: SB | I52: 78.9 | J52: 78.8 | K52: Finansuotų vaikų dienos centrų skaičius/veiklose dalyvavusių vaikų, jaunuolių skaičius | L52: 8/155 | M52: 9/175 | N52: Finansuoti 9 vaikų dienos centrai: Kėdainių pagalbos šeimai centro vaikų dienos centras (25 vaikai), VšĮ „Laiptai į viltį“ (20 vaikų), Vaikų dienos centras „Tavo svajonė“ (20 vaikų), Gudžiūnų bendruomenės centras (25 vaikai), Ažytėnų bendruomenės centras (15 vaikų), Asociacija „Trinus“ (25 vaikai), Tiskūnų bendruomenės centras (15 vaikų), Alternatyviojo ugdymo centras (15 vaikų), "Mes kitokie vaikai" (15 vaikų)
H53: SBVB | I53: 150.9 | J53: 150.9
A54: 02 | B54: 01 | C54: 11 | D54: Finansuoti Kėdainių rajono moterų krizių centro veiklos programą | E54: 1 | F54: Sutarčių su vykdytojais suderinimas, priemonių koordinavimas ir vykdymo kontrolė | G54: Socialinės paramos skyrius | H54: SB | I54: 13.5 | J54: 13.5 | K54: Asmenų, kuriems suteikta psichologinė, teisinė, savipagalbos, socialinių darbuotojų konsultacinė pagalba | L54: 100 | M54: 105 | N54: Teikta pagalba krizines situacijas ir smurtą artimoje aplinkoje išgyvenantiems asmenims, smurto artimoje aplinkoje prevencinė ̸ švietėjiška veikla, taip pat veikla skirta lyčių lygybės klausimams, šeimos gerovės didinimui bei socialinės atskirties mažinimui, vykdyta Daiktų ir Maisto banko paslauga
A55: 02 | B55: 01 | C55: Iš viso uždaviniui | I55: =SUM(I48:I54) -> 443.3 | J55: =SUM(J48:J54) -> 439.3
A56: 02 | B56: Iš viso tikslui | I56: =+I55 -> 443.3 | J56: =+J55 -> 439.3
A57: 03 | B57: Modernizuoti socialinių paslaugų įstaigų infrastruktūrą
A58: 03 | B58: 01 | C58: Gerinti socialines paslaugas teikiančių įstaigų ir socialinio būsto infrastruktūrą
A59: 03 | B59: 01 | C59: 01 | D59: Užtikrinti socialinio būsto fondo plėtrą Kėdainiuose | E59: 1 | F59: Projekto koordinavimas, viešųjų pirkimų organizavimas, sutarčių vykdymo kontrolė | G59: Strateginio planavimo ir investicijų skyrius, Statybos ir turto skyrius, Socialinės paramos skyrius | H59: SB | I59: 150 | J59: 93 | K59: Įsigytų socialinės paskirties butų skaičius | L59: 3 | M59: 2 | N59: 2022 m. įsigyti 2socialiniai būstai. ES projektas baigtas įgyvendinti.
H60: ES | I60: 12.5 | J60: 0
A61: 03 | B61: 01 | C61: 02 | D61: Remontuoti savivaldybės ir socialinį būstą | E61: 1 | F61: Poreikio surinkimas, informacijos susisteminimas, komisijos darbo organizavimas, viešųjų pirkimų organizavimas, rangovo prisiimtų sutartinių įsipareigojimų vykdymo kontrolė | G61: Socialinės paramos skyrius, Statybos ir turto skyrius | H61: SB | I61: 200 | J61: 174.2 | K61: Einamaisiais metais pagal poreikį atliktų remontų socialiniuose būstuose skaičius, proc. | L61: 100 | M61: 100 | N61: Socialiniuose būstuose keisti langai, atlikti elektros instaliacijos, vandentiekio remonto, vamzdynų, sanitarinių įrenginių keitimo (remonto) ir kiti darbai
A62: 03 | B62: 01 | C62: 03 | D62: Pritaikyti viešąją aplinką specialiųjų poreikių turintiems gyventojams | E62: 1 | F62: Poreikio surinkimas, viešųjų pirkimų organizavimas, rangovo prisiimtų sutartinių įsipareigojimų vykdymo kontrolė | G62: Socialinės paramos skyrius, Statybos ir turto skyrius | H62: SB | I62: 30 | J62: 28.2 | K62: Objektų, pritaikytų neįgaliųjų poreikiams, skaičius | L62: 3 | M62: 3 | N62: Lėšos skirtos Krakių M.Katkaus gimnazijai, Kėdainių kultūros centrui bei Pagalbos šeimai centrui
A63: 03 | B63: 01 | C63: 04 | D63: Plėtoti bendruomeninių vaikų globos namų ir vaikų dienos centrų tinklą Kėdainių rajono savivaldybėje | E63: 1 | F63: Projekto koordinavimas, sutarčių vykdymo kontrolė | G63: Strateginio planavimo ir investicijų skyrius, Statybos ir turto skyrius | H63: ES | I63: 34.5 | J63: 7.9 | K63: Įkurtų bendruomeninių vaikų globos namų skaičius / išplėstų vaikų dienos centrų skaičius | L63: 3/3 | M63: 3/3 | N63: Projekto veiklos įgyvendintos 2021m., pervesta ES lėšų dalis administracijai
H64: SB | I64: 0.4 | J64: 0.4
A65: 03 | B65: 01 | C65: Iš viso uždaviniui | I65: =SUM(I59:I64) -> 427.4 | J65: =SUM(J59:J64) -> 303.7
A66: 03 | B66: Iš viso tikslui | I66: =+I65 -> 427.4 | J66: =+J65 -> 303.7
A67: Iš viso programai | I67: =+I66+I56+I45 -> 19109.1 | J67: =+J66+J56+J45 -> 18348.8
A68: iš jų: | I68: =+I67-I69-I76 -> 0 | J68: =+J67-J69-J76 -> 0
A69: SAVIVALDYBĖS LĖŠOS | I69: =SUM(I70:I75) -> 5071.1 | J69: =SUM(J70:J75) -> 4847.2
A70: Savivaldybės biudžetas SB | I70: =+I62+I61+I59+I52+I51+I48+I43+I38+I35+I34+I33+I22+I17+I16+I12+I64+I36+I54 -> 2708 | J70: =+J62+J61+J59+J52+J51+J48+J43+J38+J35+J34+J33+J22+J17+J16+J12+J64+J36+J54 -> 2553.8 | K70: 2553.8 | L70: =+K70-J70 -> 0
A71: Valstybės biudžeto specialiosios tikslinės dotacijos lėšos SBVB | I71: =+I50+I26+I15+I13+I11+I53+I37+I27+I21+I23+I28+I29+I30+I19+I40+I39 -> 2363.1 | J71: =+J50+J26+J15+J13+J11+J53+J37+J27+J21+J23+J28+J29+J30+J19+J40+J39 -> 2293.4
A72: Aplinkos apsaugos rėmimo specialiosios programos lėšos AA
A73: Iš pajamų už suteiktas paslaugas lėšos ĮP
A74: Skolintos lėšos SK
A75: Kelių priežiūros ir plėtros programos lėšos KPP
A76: KITOS LĖŠOS | I76: =SUM(I77:I80) -> 14038 | J76: =SUM(J77:J80) -> 13501.6
A77: Europos Sąjungos lėšos, užsienio fondų lėšos ES | I77: =+I63+I60+I49 -> 145 | J77: =+J63+J60+J49 -> 105.6
A78: Valstybės biudžeto lėšos VB | I78: =+I25+I24+I20+I18 -> 13893 | J78: =+J25+J24+J20+J18 -> 13396
A79: Privačios – investuotojų lėšos PR
A80: Kiti finansavimo šaltiniai KT

Sheet 04sport.
A3: Programos tikslo kodas | B3: Uždavinio kodas | C3: Priemonės kodas | D3: Priemonės pavadinimas | E3: Veiklos/darbo/ veiksmo kodas | F3: Veiklos/darbo/ veiksmo pavadinimas | G3: Atsakingi vykdytojai | H3: Finansavimo šaltinis | I3: Numatomi 2022-ųjų m. asignavimai, tūkst. Eur | J3: Panaudoti 2022-ųjų m. asignavimai, tūkst. Eur | K3: Proceso/indėlio vertinimo kriterijai
K4: Pavadinimas | L4: Planuota reikšmė | M4: Pasiekta reikšmė | N4: Nukrypimų nuo plano priežastys, pastabos, komentarai
A8: 04 SPORTO VEIKLOS PLĖTRA
A9: 01 | B9: 01 tikslas. Didinti gyventojų fizinį aktyvumą, ugdyti sportišką bendruomenę
A10: 01 | B10: 01 | C10: Užtikrinti Kultūros ir sporto skyriaus veiklą kūno kultūros ir sporto srityje
A11: 01 | B11: 01 | C11: 01 | D11: Organizuoti ir užtikrinti Kultūros ir sporto skyriaus veiklą kūno kultūros ir sporto srityje | E11: 1 | F11: Kūno kultūros ir sporto politikos formavimas ir įgyvendinimo užtikrinimas | G11: Kultūros ir sporto skyrius | H11: SB | I11: 53.7 | J11: 50.9 | K11: Kultivuojamų sporto šakų skaičius | L11: 31 | M11: 31 | N11: Kultūros ir sporto skyrius, bendradarbiaudamas su rajono sporto nevyriausybinėmis organizacijomis, biudžetinėmis įstaigomis, 2022 m. organizavo krepšinio, futbolo, bokso, šachmatų, stalo teniso, sportinių šokių, lengvosios atletikos, dviračių sporto, karate, kultūrizmo, žolės riedulio ir kitų sporto šakų varžybas, respublikinius, tarptautinius ir kitus renginius.
A12: 01 | B12: 01 | C12: Iš viso uždaviniui | I12: =SUM(I11) -> 53.7 | J12: =SUM(J11) -> 50.9
A13: 01 | B13: 03 | C13: Ugdyti sveiką, aktyvų, savimi ir savo gebėjimais pasitikinti pilietį bei sudaryti sąlygas gyventojų fiziniam aktyvumui
A14: 01 | B14: 03 | C14: 01 | D14: Finansuoti Vaikų mokymo plaukti veiklos programą, dalyvaujant projekte „Mokėk plaukti ir saugiau elgtis vandenyje“ | E14: 1 | F14: Sutarčių su vykdytojais suderinimas, priemonių koordinavimas ir vykdymo kontrolė | G14: Kultūros ir sporto skyrius | H14: SB | I14: 10.3 | J14: 10.3 | K14: Programoje dalyvaujančių vaikų skaičius/pamokų skaičius | L14: 300/14 | M14: 300/14 | N14: Organizuotos mokymo plaukti pamokos 2–3 klasių mokiniams Kėdainių rajono baseinuose. Mokymo plaukti programa finansuojama Lietuvos plaukimo federacijos informacijos ir paslaugų biuro (18 pamokų rudens ciklas) ir savivaldybės (14 pamokų pavasario ciklas) lėšomis. Programoje dalyvavo 7 ugdymo įstaigos.
A15: 01 | B15: 03 | C15: 02 | D15: Skatinti Neįgaliųjų fizinį aktyvumą, organizuoti sporto renginius ir sporto treniruočių stovyklas | E15: 1 | F15: Sportinės veiklos organizavimas, koordinavimas | G15: Kultūros ir sporto skyrius | H15: SB | I15: 3.5 | J15: 2.9 | K15: Neįgaliųjų kūno kultūros ir sporto renginių skaičius / stovyklų skaičius | L15: 6/4 | M15: 6/3 | N15: Organizuotos rajoninės tarporganizacinės neįgaliųjų šaškių, bočios, stalo teniso varžybos, paraplegikų spartakiada, žygiai su šiaurietiškomis lazdomis, Dalyvauta respublikinės bočios varžybose, rankų lenkimo čempionate. Suorganizuotos 3 sportinės stovyklos pasiruošti varžyboms
A16: 01 | B16: 03 | C16: Iš viso uždaviniui | I16: =SUM(I14:I15) -> 13.8 | J16: =SUM(J14:J15) -> 13.2
A17: 01 | B17: 04 | C17: Vystyti įvairias gyventojų poreikius atitinkančias sporto šakas, didinti sportinės veiklos žinomumą Kėdainių rajone
A18: 01 | B18: 04 | C18: 01 | D18: Organizuoti rajoninius, respublikinius, tarptautinius visų amžiaus grupių aukšto meistriškumo sporto renginius ir aukšto meistriškumo sporto treniruočių stovyklas | E18: 1 | F18: Sportinės veiklos organizavimas, koordinavimas | G18: Kultūros ir sporto skyrius | H18: SB | I18: 43.5 | J18: 43.8 | K18: Suorganizuotų rajoninių, respublikinių ir tarptautinių kūno kultūros ir sporto renginių skaičius / veteranų sporto šakų skaičius / stovyklų skaičius | L18: 18/12/8 | M18: 18/12/15 | N18: Pasiruošimui ir dalyvavimui šalies ir tarptautiniuose sporto renginiuose įvyko 11 sporto stovyklų, jose dalyvavo 99 sportininkai. Organizuotos aerobinės gimnastikos, krepšinio, šachmatų, šaškių, teniso, stalo teniso, turizmo, sportinių šokių, dviračių sporto, karate, kultūrizmo, žolės riedulio ir kitų sporto šakų varžybos ir kiti renginiai. Kėdainių rajono sportininkai ir komandos šalies pirmenybėse, čempionatuose, tarptautinėse varžybose įvairaus amžiaus grupėse ir atskirose sporto šakose laimėjo 125 medalius
A19: 01 | B19: 04 | C19: Iš viso uždaviniui | I19: =SUM(I18:I18) -> 43.5 | J19: =SUM(J18:J18) -> 43.8
A20: 01 | B20: 05 | C20: Skatinti Kėdainių rajono sporto organizacijas, sporto komandas ir sportininkus, finansuoti sporto veiklos projektus ir programas
A21: 01 | B21: 05 | C21: 01 | D21: Finansuoti sporto šakų programas, iš jų: | E21: 1 | F21: Prioritetinių sporto šakų paraiškų finansavimui organizavimas, sutarčių su vykdytojais suderinimas, veiklos vykdymo kontrolė | G21: Kultūros ir sporto skyrius | H21: SB | I21: =SUM(I22:I26) -> 475 | J21: =SUM(J22:J26) -> 475 | K21: Finansuotų sporto šakų programų skaičius | L21: 5 | M21: 5 | N21: Finansuotos 5 sporto veiklos programos
C22: 01. 02 | D22: VšĮ "Veržlusis Nevėžis" krepšinio komandos Kėdainių "Nevėžis - Optibet" veiklos programai | H22: SB | I22: 220 | J22: 220 | K22: Užimta vieta 2021/2022m. LKL čempionate/ žiūrovų, stebinčių rungtynes, skaičiaus vidurkis/socialinių projektų krašto bendruomenei skaičius / vasaros stovyklų kėdainiečiams vaikams skaičius | L22: 10/ 800 /19/2 | M22: 10/ 800 /19/2 | N22: Krepšinio komanda „Nevėžis“ 2021/2022 m. LKL čempionate iškovojo 10 vietą
C23: 01. 03 | D23: VšĮ „Sporto perspektyvos“ veiklos programai | H23: SB | I23: 120 | J23: 120 | K23: Užimta vieta LFF pirmosios lygos pirmenybėse / žiūrovų, stebinčių rungtynes, skaičiaus vidurkis/ sportinių-mokomųjų stovyklų skaičius/išugdytų kėdainiečių, atstovaujančių FK "Nevėžis" suaugusiųjų komandoje, skaičius | L23: 5-6 /300/8 /6 | M23: 3 /~200/9/9 | N23: Užimta 3 vieta LFF Optibet Pirmosios lygos pirmenybėse, sužaista 30 rungtynių, iškovota 17 pergalių, 7 kartus - lygiosios. suorganizuotos 9 treniruotės stovyklos. "Nevėžio" vyrų komandos sudėtį papildė 9 jaunieji ugdytiniai futbolininkai
C24: 01. 04 | D24: Kėdainių bokso federacijos veiklos programai | H24: SB | I24: 15 | J24: 15 | K24: Įvairaus amžiaus grupių šalies bokso čempionatuose iškovotų medalių skaičius/tarptautinėse bokso varžybose iškovotų medalių skaičius/sporto treniruočių stovyklų skaičius/paruoštų boksininkų šalies bokso rinktinei skaičius | L24: 23/5/14/1 | M24: 24/5/14/3 | N24: Suorganizuota 14 stovyklų, įvairaus amžiaus grupėse šalies ir tarptautinėse varžybose boksininkai iškovojo 24 medalius
C25: 01. 05 | D25: VšĮ „Sporto perspektyvos“ vaikų ir jaunimo futbolo plėtros veiklos programai | H25: SB | I25: 100 | J25: 100 | K25: Sportuojančių vaikų skaičius/ dalyvaujančių LFF vaikų pirmenybėse komandų skaičius/FK "Nevėžis" vyrų komandos papildymas jaunais žaidėjais skaičius | L25: 250/7/6 | M25: 250/8/9 | N25: Dalyvauta 8 šalies vaikų, jaunių ir jaunimo pirmenybėse įvairiose amžiaus grupėse, 9 jauni žaidėjai papildė „Nevėžio“ komandą
C26: 01.06 | D26: Asociacijos "Krepšinio naktis" veiklos programai | H26: SB | I26: 20 | J26: 20 | K26: Turnyrų, kuriuose dalyvauta, skaičius/ Tarptautinių FIBA "Challenger" turnyrų, kuriuose dalyvauta, skaičius | L26: 13/2 | M26: 13/4 | N26: 2022 m. komanda 3 kartus pateko į FIBA "Challenger" serijos turnyrus. Per sezoną sudalyvauta 13-oje turnyrų
A27: 01 | B27: 05 | C27: 02 | D27: Finansuoti fizinio aktyvumo ir sporto veiklos projektus | H27: SB | I27: 55 | J27: 55 | K27: Finansuojamų projektų skaičius | L27: 25 | M27: 25 | N27: Finansuota 14 gyventojų fizinio aktyvumo plėtros bei 11 sporto veiklos projektų. Projektų veiklose dalyvavo per 2,1 tūkst. asmenų
A28: 01 | B28: 05 | C28: 03 | D28: Teikti apdovanojimus aukšto meistriškumo sportininkams ir jų treneriams už sporto pasiekimus | E28: 1 | F28: Tvarkos aprašo parengimas, konkurso, apdovanojant aukšto meistriškumo sportininkus ir jų trenerius už sporto pasiekimus, organizavimas | G28: Kultūros ir sporto skyrius | H28: SB | I28: 10 | J28: 10 | K28: Teiktų premijų skaičius (ne mažiau) | L28: 10 | M28: 39 | N28: Apdovanoti už sporto pasiekimus 34 sportininkai ir 5 treneriai
A29: 01 | B29: 05 | C29: Iš viso uždaviniui | I29: =+I27+I21+I28 -> 540 | J29: =+J27+J21+J28 -> 540
A30: 01 | B30: Iš viso tikslui | I30: =+I29+I19+I16+I12 -> 651 | J30: =+J29+J19+J16+J12 -> 647.9
A31: 02 | B31: Atnaujinti ir plėsti Kėdainių rajono savivaldybės sporto infrastruktūrą, pritaikyti ją šiuolaikiniams poreikiams
A32: 02 | B32: 01 | C32: Modernizuoti sporto objektų materialinę bazę, sudarant sąlygas fizinio aktyvumo ugdymui
A33: 02 | B33: 01 | C33: 01 | D33: Atnaujinti ir (arba) plėsti bendruomeninę fizinio aktyvumo infrastruktūrą mieste ir rajone, pritaikant ją bendruomenės poreikiams bei laisvalaikiui | E33: 1 | F33: Poreikio išsiaiškinimas, bendradarbiavimas su Miesto seniūnija, atnaujinimo darbų viešojo pirkimo koordinavimas rangovo prisiimtų sutartinių įsipareigojimų vykdymo kontrolė | G33: Kultūros ir sporto skyrius | H33: SB | I33: 50 | J33: 44.1 | K33: Atnaujintų/įrengtų vaikų sporto ir žaidimų aikštelių skaičius | L33: 5 | M33: 5 | N33: Atnaujinta vaikų ir krepšinio žaidimo aikštelė (Chemikų g. 20), prie Šėtos g. 110 namo, įrengti nauji saugos atitvarai futbolo manieže (Rasos g.), įrengta nauja vaikų žaidimų aikštelė prie Daukšos g. 52, atnaujinta Aristavos BC krepšinio aikštelės danga, vykdyti smulkūs remonto darbai esančiose žaidimų aikštelių erdvėse
A34: 02 | B34: 01 | C34: 02 | D34: Tobulinti Kėdainių sporto centro infrastruktūrą (Parko g. 4, Vilainiai) | E34: 1 | F34: Projekto koordinavimas, rangovo prisiimtų sutartinių įsipareigojimų vykdymo kontrolė | G34: Strateginio planavimo ir investicijų skyrius, Statybos ir turto skyrius | H34: SB | I34: 0 | J34: 0 | K34: Atnaujintų viešosios paskirties pastatų skaičius | L34: 1 | M34: 1 | N34: Projekto veiklos fiziškai įgyvendintos 2021 m. Pervestos ES lėšų dalis
H35: ES | I35: 15 | J35: 14.4
A36: 02 | B36: 03 | C36: 03 | D36: Atnaujinti Kėdainių „Ryto“ progimnazijos stadioną ir sporto aikštyną | E36: 1 | F36: Paraiškos teikimas, rangos darbų viešojo pirkimo organizavimas, rangovo prisiimtų sutartinių įsipareigojimų vykdymo kontrolė | G36: Strateginio planavimo ir investicijų skyrius, Statybos ir turto skyrius | H36: SB | I36: 0 | J36: 0 | K36: Parengtos techninės dokumentacijos skaičius/ atnaujinamų objektų skaičius | N36: Parengtas stadiono ir sporto aikštyno atnaujinimo techninis projektas, teikta paraiška finansavimui gauti, tačiau finansavimas neskirtas
H37: VB | I37: 0 | J37: 0
A38: 02 | B38: 01 | C38: 04 | D38: Atnaujinti Kėdainių miesto ir rajono progimnazijų ir gimnazijų stadionus /sporto aikštynus | E38: 1 | F38: Krakių gimnazijos sporto aikštyno bei J.Paukštelio sporto aikštyno atnaujinimo techninės dokumentacijos parengimo koordinavimas | G38: Kultūros ir sporto skyrius | H38: SB | I38: 20 | J38: 19.7 | K38: Parengtos techninės dokumentacijos skaičius/ atnaujinamų objektų skaičius | L38: 2/0 | M38: 2/0 | N38: Parengti J. Paukštelio progimnazijos, Krakių M.Katkaus gimnazijos aikštynų atnaujinimo projektai
A39: 02 | B39: 01 | C39: 05 | D39: Atnaujinti Kėdainių sporto centro bazes | E39: 1 | F39: Priemonės koordinavimas | G39: Administracijos direktorius | H39: SB | I39: 15 | J39: 15 | K39: Atnaujinamų vidaus erdvių skaičius | L39: 1 | M39: 1 | N39: Sutvarkyta nuogrinda Parko g. 4
A40: 02 | B40: 01 | C40: Iš viso uždaviniui | I40: =SUM(I33:I39) -> 100 | J40: =SUM(J33:J39) -> 93.2
A41: 02 | B41: Iš viso tikslui | I41: =+I40 -> 100 | J41: =+J40 -> 93.2
A42: Iš viso programai | I42: =+I41+I30 -> 751 | J42: =+J41+J30 -> 741.1
A43: iš jų: | I43: =+I42-I44-I51 -> 0 | J43: =+J42-J44-J51 -> 2.0428104e-13
A44: SAVIVALDYBĖS LĖŠOS | I44: =SUM(I45:I50) -> 736 | J44: =SUM(J45:J50) -> 726.7
A45: Savivaldybės biudžetas SB | I45: =+I39+I38+I36+I34+I33+I27+I21+I18+I15+I14+I11+I28 -> 736 | J45: =+J39+J38+J36+J34+J33+J27+J21+J18+J15+J14+J11+J28 -> 726.7
A46: Valstybės biudžeto specialiosios tikslinės dotacijos lėšos SBVB
A47: Aplinkos apsaugos rėmimo specialiosios programos lėšos AA
A48: Iš pajamų už suteiktas paslaugas lėšos ĮP
A49: Skolintos lėšos SK
A50: Kelių priežiūros ir plėtros programos lėšos KPP
A51: KITOS LĖŠOS | I51: =SUM(I52:I55) -> 15 | J51: =SUM(J52:J55) -> 14.4
A52: Europos Sąjungos lėšos, užsienio fondų lėšos ES | I52: =+I35 -> 15 | J52: =+J35 -> 14.4
A53: Valstybės biudžeto lėšos VB
A54: Privačios – investuotojų lėšos PR
A55: Kiti finansavimo šaltiniai KT

Sheet 05kultura
A3: Programos tikslo kodas | B3: Uždavinio kodas | C3: Priemonės kodas | D3: Priemonės pavadinimas | E3: Veiklos/darbo/ veiksmo kodas | F3: Veiklos/darbo/ veiksmo pavadinimas | G3: Atsakingi vykdytojai | H3: Finansavimo šaltinis | I3: Numatomi 2022-ųjų m. asignavimai, tūkst. Eur | J3: Panaudoti 2022-ųjų m. asignavimai, tūkst. Eur | K3: Proceso/indėlio vertinimo kriterijai
K4: Pavadinimas | L4: Planuota reikšmė | M4: Pasiekta reikšmė | N4: Nukrypimų nuo plano priežastys, pastabos, komentarai
A8: 05 KULTŪROS VEIKLOS PLĖTRA
A9: 03 | B9: Sudaryti sąlygas krašto bendruomenei dalyvauti kultūrinėje bei kūrybinėje veikloje
A10: 03 | B10: 02 | C10: Sudaryti sąlygas kultūros plėtrai rajone
A11: 03 | B11: 02 | C11: 01 | D11: Organizuoti ir užtikrinti Kultūros ir sporto skyriaus specialistų darbą kultūros srityje | E11: 1 | F11: Lietuvos Respublikos ir Savivaldybės kultūros politikos nuostatų įgyvendinimas, kultūros įstaigų veiklos koordinavimas | G11: Kultūros ir sporto skyrius | H11: SB | I11: 91.9 | J11: 77.3 | K11: Suorganizuotų renginių skaičius | L11: 40 | M11: 40 | N11: Kultūros ir sporto skyrius formavo ir įgyvendino rajono savivaldybės kultūros politiką muziejų, bibliotekų, etninės kultūros, meno mėgėjų veikloje bei kitose kultūros srityse, rūpinosi gyventojų bendrosios kultūros ugdymu. Skyrius organizavo, finansavo 40 kultūrinių renginių, dalinai finansuota 4 knygų leidyba
A12: 03 | B12: 02 | C12: 02 | D12: Finansuoti rajono savivaldybės renginius ir kultūrines iniciatyvas | E12: 1 | F12: Rajoninių renginių, konkursų, dalyvavimo regioniniuose ir respublikiniuose renginiuose bei konkursuose koordinavimas ir finansavimas | G12: Kultūros ir sporto skyrius | H12: SB | I12: 232.1 | J12: 230.7
A13: 03 | B13: 02 | C13: 03 | D13: Finansuoti kultūrinės veiklos projektus | E13: 1 | F13: Kultūros projektų konkurso organizavimas | G13: Kultūros ir sporto skyrius | H13: SB | I13: 25 | J13: 25 | K13: Finansuotų projektų skaičius | L13: 21 | M13: 21 | N13: Konkurso būdu iš pateiktų 32 paraiškų, finansuotas 21 projektas, kurių metu organizuoti 62 edukaciniai užsiėmimai ir seminarai, 17 parodų ir 102 kiti renginiai. Projektų veiklose dalyvavo 5344 dalyviai ir žiūrovai.
A14: 03 | B14: 02 | C14: 04 | D14: Teikti Krašto kultūros premiją | E14: 1 | F14: Kėdainių krašto kultūros premijos konkurso organizavimas | G14: Kultūros ir sporto skyrius | H14: SB | I14: 3 | J14: 3 | K14: Kultūros premijos laureatų skaičius | L14: 1 | M14: 1 | N14: Krašto kultūros premija įteikta Jūratei Gudliauskienei už etninės kultūros puoselėjimą ir propagavimą, aktyvią kultūrinę meninę veiklą ir Kėdainių krašto garsinimą
A15: 03 | B15: 02 | C15: 05 | D15: Teikti Česlavo Milošo premiją | E15: 1 | F15: Česlavo Milošo premijos konkurso organizavimas | G15: Kultūros ir sporto skyrius | H15: SB | I15: 0 | J15: 0 | K15: Česlovo Milošo premijos laureatų skaičius | L15: 0 | M15: 0 | N15: Vadovaujantis Kėdainių krašto garbės piliečio Česlovo Milošo premijos konkurso nuostatų 13 p. konkursas laikomas neįvykusiu, jeigu pateikiami raštai-rekomendacijos, pristatantys mažiau kaip 3 pretendentus
A16: 03 | B16: 02 | C16: 06 | D16: Aprūpinti mėgėjų meno kolektyvus tautiniais ir kitais koncertiniais kostiumais bei muzikos instrumentais | E16: 1 | F16: Dalyvavimas tautinių kostiumų ir instrumentų įsigijimo finansavimo konkurse | G16: Kultūros ir sporto skyrius | H16: SB | I16: 13 | J16: 13 | K16: Koncertinius kostiumų komplektus/instrumentus atsinaujinusių kolektyvų skaičius | L16: 7 | M16: 7 | N16: 7 kolektyvams skirta lėšų tautinių, archeologinių, istorinių kostiumų ar jų dalių įsigijimui bei mėgėjų meno kolektyvų muzikos instrumentų įsigijimui
A17: 03 | B17: 02 | C17: 07 | D17: Plėtoti tarptautinius kultūros mainus | E17: 1 | F17: Tarptautinių kultūros mainų organizavimas | G17: Kultūros ir sporto skyrius | H17: SB | I17: 9.3 | J17: 9.4 | K17: Organizuotų tarptautinių mainų skaičius | L17: 3 | M17: 3 | N17: Liaudiškų šokių grupė „Volungė“ dalyvavo tarptautiniame šokių ir muzikos festivalyje „Cote d‘azur“ (Italija–Prancūzija), Vaikų popchorų „Perliukai“ ir „Skambantys Perliukai“, duetas „Kipras+Urtė ir solistai dalyvavo tarptautiniame vaikų ir jaunimo konkurse-festivalyje „Summer talent league“ (Ispanija), Kėdainių kultūros centre pirmą kartą Kėdainiuose unikalaus, vienintelio Ukrainoje viso kūno šešėlių teatro trupė iš Kyivo „Papasony“ kėdainiečiams pristatė spektaklį „Pasąmonės šnabždesiai… Sapnai“.
A18: 03 | B18: 02 | C18: Iš viso uždaviniui | I18: =SUM(I11:I17) -> 374.3 | J18: =SUM(J11:J17) -> 358.4
A19: 03 | B19: Iš viso tikslui | I19: =+I18 -> 374.3 | J19: =+J18 -> 358.4
A20: 04 | B20: Vystyti jaunimui palankią aplinką bei infrastruktūrą, plėsti ir skatinti įvairias jaunimo veiklas ir užimtumą
A21: 04 | B21: 01 | C21: Skatinti Kėdainių rajono jaunimo ir su jaunimu dirbančių organizacijų nuolatinę ir ilgalaikę programinę veiklą, jaunimo veiklos projektus, jaunimo iniciatyvas
A22: 04 | B22: 01 | C22: 01 | D22: Finansuoti jaunimo veiklos projektus | E22: 1 | F22: Jaunimo veiklos projektų konkurso organizavimas | G22: Vyr. specialistė (jaunimo reikalų koordinatorė) | H22: SB | I22: 11 | J22: 11 | K22: Finansuotų projektų skaičius | L22: 5 | M22: 5 | N22: Finansuoti 5 jaunimo ir/ar su jaunimu dirbančių organizacijų projektai, į kurių veiklas įsitraukė 983 jaunuoliai (14–29 m.)
A23: 04 | B23: 01 | C23: 02 | D23: Finansuoti programas, užtikrinančias jaunimo neformalaus ugdymo plėtrą | E23: 1 | F23: Sutarčių sudarymas, programų įgyvendinimo priežiūros organizavimas, ataskaitų rinkimas | G23: Vyr. specialistė (jaunimo reikalų koordinatorė) | H23: SB | I23: 4 | J23: 4 | K23: Suorganizuotų mokymų, susitikimų, renginių, forumų skaičius | L23: 40 | M23: 40 | N23: Finansuota Kėdainių rajono mokinių savivaldos plėtros programa, kurios priemonės skirtos stiprinti ir plėtoti rajono mokinių savivaldos institucijas
A24: 04 | B24: 01 | C24: 03 | D24: Finansuoti Atviro jaunimo centro ir Atvirųjų jaunimo erdvių veiklos projektus | E24: 1 | F24: Atvirųjų jaunimo erdvių veiklos projektų konkurso organizavimas | G24: Vyr. specialistė (jaunimo reikalų koordinatorė) | H24: SB | I24: 16 | J24: 16 | K24: Finansuotų projektų skaičius | L24: 6 | M24: 4 | N24: 2022 m. rajone veikė 5 atvirosios jaunimo erdvės bei 1 atviras jaunimo centras. Konkurso būdu finansuoti 4 projektai, kurių veiklose dalyvavo 281 jaunuolis
A25: 04 | B25: 01 | C25: 04 | D25: Plėtoti jaunimo savanorystę Kėdainių rajone ir skatinti jaunimą užsiimti savanoriška veikla | E25: 1 | F25: Jaunimo savarankiškos veiklos plėtros konkurso organizavimas | G25: Vyr. specialistė (jaunimo reikalų koordinatorė) | H25: SB | I25: 2 | J25: 2 | K25: Finansuotų projektų skaičius | L25: 1 | M25: 1 | N25: Savanoriškos tarnybos įgyvendinimą rajone koordinuoja LPF "Tavo svajonė". Programos veikloje dalyvavo 6 jaunuoliai
A26: 04 | B26: 01 | C26: 05 | D26: Atlikti jaunimo problematikos tyrimą | E26: 1 | F26: Paslaugų teikimo viešojo pirkimo konkurso organizavimas, sutarties koordinavimas, teikėjo prisiimtų sutartinių įsipareigojimų vykdymo kontrolė | G26: Vyr. specialistė (jaunimo reikalų koordinatorė) | H26: SB | I26: 3 | J26: 3 | K26: Atliktų tyrimų skaičius | L26: 1 | M26: 1 | N26: Atliktas jaunimo problematikos tyrimas, siekiant ištirti jaunimo problemas mokymosi, darbo, laisvalaikio, dalyvavimo, fizinės ir psichinės sveikatos bei kt srityse
A27: 04 | B27: 01 | C27: 06 | D27: Organizuoti Tarptautinės jaunimo dienos renginį | E27: 1 | F27: Priemonės organizavimas ir koordinavimas | G27: Vyr. specialistė (jaunimo reikalų koordinatorė) | H27: SB | I27: 5 | J27: 5 | K27: Suorganizuotų renginius skaičius | L27: 1 | M27: 1 | N27: Pirmą kartą suorganizuotas Tarptautinis jaunimo dienos renginys, turėjęs didelį jaunimo susidomėjimą ir populiarumą
A28: 04 | B28: 01 | C28: 07 | D28: Dalyvauti jaunimo užimtumo vasarą ir integracijos į darbo rinką programoje | E28: 1 | F28: Priemonės koordinavimas ir viešinimas | G28: Vyr. specialistė (jaunimo reikalų koordinatorė) | H28: SB | I28: 3.5 | J28: 3.5 | K28: Pagal programą įdarbintų 14-18 m. jaunuolių skaičius | L28: 7 | M28: 6 | N28: Programa, kurios tikslas sudaryti palankias sąlygas kokybiškam jaunimo užimtumui, susidomėjo 4 darbdaviai. Įdarbinti buvo 6jaunuoliai (14-19 m.)
H29: VB | I29: 5.3 | J29: 5.3
A30: 04 | B30: 01 | C30: Iš viso uždaviniui | I30: =SUM(I22:I29) -> 49.8 | J30: =SUM(J22:J29) -> 49.8
A31: 04 | B31: Iš viso tikslui | I31: =+I30 -> 49.8 | J31: =+J30 -> 49.8
A32: 05 | B32: Skatinti nevyriausybinių organizacijų veiklą, didinti jų įtrauktį
A33: 05 | B33: 01 | C33: Skatinti nevyriausybinių ir bendruomeninių organizacijų plėtrą Kėdainių rajone
A34: 05 | B34: 01 | C34: 01 | D34: Užtikrinti rajono nevyriausybinių organizacijų (įskaitant bendruomenines organizacijas) plėtrą, finansuojant projektus socialinio, pilietinio, kultūros paveldo pažinimo, etninės kultūros puoselėjimo, užimtumo bei verslumo srityse | E34: 1 | F34: Nevyriausybinių organizacijų veiklos projektų konkurso organizavimas | G34: Vyr. specialistė (nevyriausybinių organizacijų koordinatorė) | H34: SB | I34: 22 | J34: 22 | K34: Finansuotų projektų skaičius | L34: 8 | M34: 8 | N34: Konkurso būdu finansuoti 8 projektai, skirti nevyriausybinių organizacijų veiklos stiprinimui, partnerystės ir bendradarbiavimo, sprendžiant vietos bendruomenei aktualius klausimus, skatinimui, vietos bendruomenės aktyvinimui ir telkimui, vyresnio amžiaus žmonių įsitraukimo į aktyvų visuomeninį (bendruomeninį) gyvenimą, telkimosi bendrauti ir savitarpio pagalbos skatinimui, socialinio verslo plėtrai ir / ar pasirengimui jį kurti, teikti viešąsias paslaugas
A35: 05 | B35: 01 | C35: 02 | D35: Sudaryti sąlygas bendruomeninių organizacijų veiklai | E35: 1 | F35: Rajono bendruomeninių organizacijų veiklos projektų konkurso organizavimas | G35: Vyr. specialistė (nevyriausybinių organizacijų koordinatorė) | H35: SB | I35: 24.5 | J35: 24.3 | K35: Finansuotų bendruomeninių organizacijų skaičius | L35: 20 | M35: 28 | N35: Lėšos skirtos bendruomeninių organizacijų patalpų ir turto draudimo, komunalinių paslaugų ir kitų išlaidų iš dalies finansavimui
A36: 05 | B36: 01 | C36: 03 | D36: Finansuoti Kėdainių rajono vietos veiklos grupės teritorijos vietos plėtros 2015-2023 m. strategijos įgyvendinimą | E36: 1 | F36: Sutarčių su strategijos vykdytoju ir projektų vykdytojais sudarymas | G36: Vyr. specialistė (nevyriausybinių organizacijų koordinatorė) | H36: SB | I36: 30.4 | J36: 29.7 | K36: Finansuotų projektų skaičius | L36: 8 | M36: 8 | N36: Dalinai finansuoti nevyriausybinių ir bendruomeninių organizacijų vietos projektai. 2022 metais buvo įgyvendinama 20 vietos projektų, iš kurių 12 baigti įgyvendinti.
A37: 05 | B37: 01 | C37: 04 | D37: Finansuoti Kėdainių miesto vietos veiklos grupės 2016–2022 m. vietos plėtros strategijos įgyvendinimą | E37: 1 | F37: Sutarčių su strategijos vykdytoju ir projektų vykdytojais sudarymas | G37: Vyr. specialistė (nevyriausybinių organizacijų koordinatorė) | H37: SB | I37: 19.9 | J37: 19.3 | K37: Finansuotų projektų skaičius | L37: 21 | M37: 21 | N37: Dalinai finansuoti nevyriausybinių ir bendruomeninių organizacijų vietos projektai. 2022 m. užbaigtos 17 projektų veiklos, 3 projektų veiklos bus vykdomos 2023 m.
A38: 05 | B38: 01 | C38: 05 | D38: Remti bendruomenių veiklą savivaldybėje | E38: 1 | F38: Nevyriausybinių organizacijų ir bendruomeninės veiklos koordinavimas | G38: Vyr. specialistė (nevyriausybinių organizacijų koordinatorė) | H38: SBVB | I38: 32.8 | J38: 32.3 | K38: Įgyvendinta projektų veiklų proc. | L38: 100 | M38: 100 | N38: Įgyvendinti 9 projektai, kurių veiklose dalyvavo apie 830 vietos bendruomenių narių (gyventojų)
A39: 05 | B39: 01 | C39: 06 | D39: Skatinti nevyriausybinių organizacijų, bendruomeninių organizacijų plėtrą rajone | E39: 1 | F39: Nevyriausybinių organizacijų forumo ir tarptautinės savanorių dienos paminėjimo organizavimas | G39: Vyr. specialistė (nevyriausybinių organizacijų koordinatorė) | H39: SB | I39: 12 | J39: 12 | K39: Paskatintų iniciatyvų bei suorganizuotų veiklų skaičius | L39: 3 | M39: 3 | N39: Suorganizuotas Savanorių dienos paminėjimas, įsteigtas savivaldybės savanorio ženklelis. Suorganizuotas NVO forumas, mokymai.
A40: 05 | B40: 01 | C40: Iš viso uždaviniui | I40: =SUM(I34:I39) -> 141.6 | J40: =SUM(J34:J39) -> 139.6
A41: 05 | B41: Iš viso tikslui | I41: =+I40 -> 141.6 | J41: =+J40 -> 139.6
A42: 06 | B42: Atnaujinti ir plėsti kultūros įstaigų viešąją infrastruktūrą, pritaikyti ją kultūriniams ir bendruomeniniams poreikiams
A43: 06 | B43: 01 | C43: Gerinti kultūros paskirties viešąją infrastruktūrą, modernizuoti materialinę ir edukacinę aplinką
A44: 06 | B44: 01 | C44: 01 | D44: Rekonstruoti Kėdainių kultūros centrą | E44: 1 | F44: Rangos darbų koordinavimas, rangovo prisiimtų sutartinių įsipareigojimų vykdymo kontrolė | G44: Statybos ir turto skyrius | H44: SBVB | I44: 700 | J44: 700 | K44: Įgyvendinta einamaisiais metais numatomų atlikti projekto veiklų proc. | L44: 100 | M44: 100 | N44: Tęsti kultūros centro tiek išorės, tiek vidaus rekonstrukcijos darbai
H45: SB | I45: 202.5 | J45: 201.9
A46: 06 | B46: 01 | C46: 02 | D46: Aktualizuoti Kėdainių krašto muziejų, padidinant kultūros paveldo aktualumą, lankomumą ir žinomumą (įskaitant ekspozicijų atnaujinimą) | E46: 1 | F46: Projekto koordinavimas, rangos darbų koordinavimas, rangovo prisiimtų sutartinių įsipareigojimų vykdymo kontrolė | G46: Strateginio planavimo ir investicijų skyrius, Statybos ir turto skyrius | H46: SB | I46: 200 | J46: 123.9 | K46: Aktualizuotų objektų skaičius | L46: 1 | M46: 1 | N46: Projekto veiklos įgyvendintos. Atnaujintas pastato fasadas, pastatas pritaikytas neįgaliesiems (įrengtas keltuvas), įrengtos naujos 4 ekspozicijos
H47: ES | I47: 373 | J47: 325.4
A48: 06 | B48: 01 | C48: 03 | D48: Atnaujinti Truskavos kultūros centrą, pritaikant jį kaimo bendruomenės poreikiams bei kultūrinei veiklai | E48: 1 | F48: Projekto koordinavimas, rangos darbų koordinavimas, salės kėdžių viešojo pirkimo organizavimas, rangovo bei tiekėjo prisiimtų sutartinių įsipareigojimų kontrolė | G48: Strateginio planavimo ir investicijų skyrius, Statybos ir turto skyrius | H48: SB | I48: 161.3 | J48: 161.3 | K48: Atnaujintų viešosios paskirties pastatų skaičius | L48: 1 | M48: 1 | N48: Projekto veiklos įgyvendintos. Atlikta pastato rekonstrukcija, modernizuotos vidaus erdvės, įsigytos žiūrovų kėdės, scenos užuolaidos ir kita įranga
H49: VB | I49: 5.4 | J49: 4.9
H50: ES | I50: 31 | J50: 27.5
A51: 06 | B51: 01 | C51: 06 | D51: Remontuoti Akademijos kultūros centrą | E51: 1 | F51: Rangos darbų viešojo pirkimo organizavimas, rangos darbų koordinavimas, rangovo prisiimtų sutartinių įsipareigojimų vykdymo kontrolė | G51: Statybos ir turto skyrius | H51: SB | I51: 70 | J51: 70 | K51: Atlikta einamaisiais metais numatytų darbų, proc. | L51: 100 | M51: 100 | N51: Pakeisti kultūros centro langai pagal parengtą projektą
A52: 06 | B52: 01 | C52: 07 | D52: Įrengti reikalingą infrastruktūrą atlikėjams prie Kėdainių miesto parko didžiosios scenos | E52: 1 | F52: Techninės dokumentacijos parengimo viešojo pirkimo organizavimas, tiekėjo prisiimtų sutartinių įsipareigojimų vykdymo kontrolė | G52: Architektūros ir urbanistikos skyrius, Statybos ir turto skyrius | H52: SB | I52: 0 | J52: 0 | K52: Parengta vizija/techninė dokumentacija/ įrengta persirengimo/ poilsio/laukimo infrastruktūra atlikėjams | L52: 1/0/0 | M52: 0/0/0 | N52: Kreiptasi į NŽT dėl sklypo atskyrimo ir suformavimo
A53: 06 | B53: 01 | C53: Iš viso uždaviniui | I53: =SUM(I44:I52) -> 1743.2 | J53: =SUM(J44:J52) -> 1614.9
A54: 06 | B54: Iš viso tikslui | I54: =+I53 -> 1743.2 | J54: =+J53 -> 1614.9
A55: Iš viso programai | I55: =+I54+I41+I31+I19 -> 2308.9 | J55: =+J54+J41+J31+J19 -> 2162.7
A56: iš jų: | I56: =+I55-I57-I64 -> 0 | J56: =+J55-J57-J64 -> 0
A57: SAVIVALDYBĖS LĖŠOS | I57: =SUM(I58:I63) -> 1894.2 | J57: =SUM(J58:J63) -> 1799.6
A58: Savivaldybės biudžetas SB | I58: =+I51+I48+I46+I37+I36+I35+I34+I27+I24+I23+I22+I17+I16+I15+I14+I13+I12+I11+I39+I28+I26+I25+I52+I45 -> 1161.4 | J58: =+J51+J48+J46+J37+J36+J35+J34+J27+J24+J23+J22+J17+J16+J15+J14+J13+J12+J11+J39+J28+J26+J25+J52+J45 -> 1067.3
A59: Valstybės biudžeto specialiosios tikslinės dotacijos lėšos SBVB | I59: =+I44+I38 -> 732.8 | J59: =+J44+J38 -> 732.3
A60: Aplinkos apsaugos rėmimo specialiosios programos lėšos AA
A61: Iš pajamų už suteiktas paslaugas lėšos ĮP
A62: Skolintos lėšos SK
A63: Kelių priežiūros ir plėtros programos lėšos KPP
A64: KITOS LĖŠOS | I64: =SUM(I65:I68) -> 414.7 | J64: =SUM(J65:J68) -> 363.1
A65: Europos Sąjungos lėšos, užsienio fondų lėšos ES | I65: =+I47+I50 -> 404 | J65: =+J47+J50 -> 352.9
A66: Valstybės biudžeto lėšos VB | I66: =+I49+I29 -> 10.7 | J66: =+J49+J29 -> 10.2
A67: Privačios – investuotojų lėšos PR
A68: Kiti finansavimo šaltiniai KT

Sheet 06turizm_paveld
A2: Programos tikslo kodas | B2: Uždavinio kodas | C2: Priemonės kodas | D2: Priemonės pavadinimas | E2: Veiklos/darbo/ veiksmo kodas | F2: Veiklos/darbo/ veiksmo pavadinimas | G2: Atsakingi vykdytojai | H2: Finansavimo šaltinis | I2: Numatomi 2022-ųjų m. asignavimai, tūkst. Eur | J2: Panaudoti 2022-ųjų m. asignavimai, tūkst. Eur | K2: Proceso/indėlio vertinimo kriterijai
K3: Pavadinimas | L3: Planuota reikšmė | M3: Pasiekta reikšmė | N3: Nukrypimų nuo plano priežastys, pastabos, komentarai
A7: 06 KULTŪROS PAVELDO IŠSAUGOJIMAS, TURIZMO SKATINIMAS IR VYSTYMAS
A8: 01 | B8: Skatinti vietinį bei atvykstamąjį turizmą, plėtoti turizmo rinkodarą
A9: 01 | B9: 01 | C9: Užtikrinti efektyvią VšĮ Kėdainių turizmo ir verslo informacijos centro veiklą turizmo srityje
A10: 01 | B10: 01 | C10: 01 | D10: Finansuoti VšĮ Kėdainių turizmo ir verslo informacijos centro turizmo veiklos programą: | E10: 1 | F10: Priemonės įgyvendinimo koordinavimas | G10: Administracijos direktorius | H10: SB | I10: 75 | J10: 75 | K10: Kėdainių rajono savivaldybėje apsilankiusių turistų skaičius per metus (tūkst. asmenų/ per metus) (vertinami Kėdainių TVIC apsilankę turistai) | L10: 9 | M10: 10.3 | N10: 2022 m. Kėdainių TVIC sulaukė 28,8 proc. daugiau lankytojų nei 2021 m. (iš viso 10,3 tūkst. lankytojų). 81,4 proc. visų lankytojų - lietuviai, 18,6 proc. - užsienio turistai. Didžioji dalis užsienio turistų - lenkai bei latviai.
D11: turizmo maršrutų, individualių ekskursijų programų rengimas | K11: Atnaujintų/parengtų turizmo maršrutų skaičius | L11: 4 | M11: 4 | N11: 2022 m. išleista 2 000 vnt. miesto/rajono žemėlapių LT ir EN, 1 500 vnt. brošiūrų, 2 500 vnt. atvirukų, 1 500 vnt. skirtukų, 500 vnt. reklaminių maišelių "Kėdainiai".
D12: kartografinių-informacinių turistinių leidinių leidyba
D13: turizmo informacijos apie gamtos, architektūros, istorijos, kultūros paveldo objektus, lankytinas vietas, maitinimo, apgyvendinimo, kaimo turizmo sodybas, amatus teikimas, kaupimas, sisteminimas ir atnaujinimas | K13: Turizmo statistikos duomenų apskaita ir analizė, val. | L13: 160 | M13: 160 | N13: Kėdainių TVIC vykdė lankytojų, kaimo turizmo, apgyvendinimo įmonių, muziejų duomenų apskaitą ir analizę
D14: dalyvavimas turizmo parodose, mugėse, šventėse | K14: Parodų, mugių, kuriuose dalyvauta, skaičius | L14: 4 | M14: 4 | N14: Kėdainių TVIC dalyvavo turizmo parodoje "Adventur", Jūros šventės, Ukmergės šventės ir "Sostinės dienų" turizmo gatvėse. Dalyvavimas miestų švenčių turizmo gatvėse itin pasiteisina, nes pasiekia tikslingą ir plačią tikslinę auditoriją
D15: turizmo informacijos sklaida socialiniuose tinkluose, spaudoje | K15: Informacijos sklaida, val. | L15: 1000 | M15: 1390 | N15: Informacija populiarinanti Kėdainių kraštą, talpinamos socialiniame tinkle „Facebook“ lietuvių ir anglų kalbomis (,,Kėdainių turizmo ir verslo informacijos centras“, ,,Kėdainių senamiestis“, ,,Kėdainiai tourism and business“): pateikiama aktuali informacija apie renginius, lankytinus objektus ir paslaugas. Skelbiami įrašai Kėdainių TVIC Instagram ir Twitter paskyrose. Taip pat apie TVIC veiklą ir naujienas skelbiama Kėdainių rajono spaudai bei televizijai. Organizuoti įvairūs konkursai. suteikta galimybė naudotis mobiliąja programėle "Visit Kėdainiai".
A16: 01 | B16: 01 | C16: Iš viso uždaviniui | I16: =SUM(I10:I15) -> 75 | J16: =SUM(J10:J15) -> 75
A17: 01 | B17: Iš viso tikslui | I17: =+I16 -> 75 | J17: =+J16 -> 75
A18: 02 | B18: Pritaikyti viešąją infrastruktūrą visuomenės turizmo ir rekreacijos poreikiams, įveiklinti kultūros ir gamtos paveldą
A19: 02 | B19: 01 | C19: Išsaugoti istorinį bei kultūros paveldą, didinti jo patrauklumą ir žinomumą
A20: 02 | B20: 02 | C20: 01 | D20: Parengti Nekilnojamųjų kultūros vertybių vertinimo medžiagą ir pristatyti nekilnojamojo kultūros paveldo vertinimo tarybai | E20: 1 | F20: Nekilnojamųjų kultūros vertybių vertinimo medžiagos parengimo organizavimas ir koordinavimas (viešųjų pirkimų organizavimas ir koordinavimas) | G20: Architektūros ir urbanistikos skyrius | H20: SB | I20: 3 | J20: 2 | K20: Skaičius objektų, esančių Kultūros vertybių registre, kurių duomenys bus tikslinami, ir skaičius objektų, kurie planuojami įrašyti į Kultūros vertybių registrą | L20: 3 | M20: 1 | N20: Parengti 36 kultūros paveldo objektų būklės patikrinimo aktai su fotofiksacija, taip pat 14 - rajono gyventojams dėl sandorių. Atliktas kultūros paveldo objektų stebėsenos sisteminimas ir projektų bei vertinimo aktų dokumentacijos archyvo kūrimas
A21: 02 | B21: 02 | C21: 02 | D21: Rengti nekilnojamųjų kultūros paveldo objektų, vietovių individualius apsaugos reglamentus | E21: 1 | F21: Individualių apsaugos reglamentų nekilnojamiesiems kultūros objektams, vietovėms rengimas | G21: Architektūros ir urbanistikos skyrius | H21: SB | I21: 3 | J21: 0 | K21: Objektų skaičius, kuriems parengti individualūs apsaugos reglamentai | L21: 3 | M21: 1
A22: 02 | B22: 01 | C22: 03 | D22: Įgyvendinti Kėdainių rajono savivaldybės bažnyčių rėmimo programą | E22: 1 | F22: Programos įgyvendinimo koordinavimas | G22: Architektūros ir urbanistikos skyrius | H22: SB | I22: 45 | J22: 45 | K22: Kulto pastatų skaičius, kuriems skirtas finansavimas tvarkybos darbams atlikti | L22: 4 | M22: 4 | N22: Įgyvendinant 2022 m. programą sutvarkyta Šėtos bažnyčios pagrindinio korpuso stogo dalis, Kėdainių Šv. Jurgio bažnyčioje vykdyta vargonų restauracija, prisidėta prie Dotnuvos bažnyčios bokštų tvarkybos darbų, vykdyti Kėdainių evangelikų liuteronų bažnyčios fasadų tvarkybos darbai
A23: 02 | B23: 01 | C23: 04 | D23: Įgyvendinti priemones, skirtas kovų už Lietuvos Nepriklausomybę vietoms ir paminklams įamžinti | E23: 1 | F23: Priemonių įgyvendinimo koordinavimas | G23: Architektūros ir urbanistikos skyrius | H23: SB | I23: 45 | J23: 42.9 | K23: Įgyvendintų programos priemonių skaičius | L23: 4 | M23: 4 | N23: Parengtas Pirmojo žuvusio Lietuvos savanorio P.Lukšio kapo ir Lietuvos karių kapų teritorijos tvarkybos projektas, užbaigti 1919 m. memorialinio paminklo, esančio Koliupės k., tvarkybos darbai, Atminties skvere suformuotos 2 kalvelės ir įamžinti Nepriklausomybės kovų dalyviai
A24: 02 | B24: 01 | C24: 05 | D24: Kompleksiškai sutvarkyti Kėdainių Sinagogą (Smilgos g. 5A, Kėdainiai), pritaikant kultūrinėms bei kitoms reikmėms | E24: 1 | F24: Projekto koordinavimas, rangos darbų koordinavimas, rangovo prisiimtų sutartinių įsipareigojimų vykdymo kontrolė | G24: Strateginio planavimo ir investicijų skyrius, Statybos ir turto skyrius | H24: SB | I24: 0 | J24: 0 | K24: Įgyvendinta einamaisiais metais planuotų projekto veiklų proc. | L24: 100 | M24: 100 | N24: Projekto veiklos įgyvendintos 2021 m. Pareiškėjui pervesta ES lėšų dalis.
H25: ES | I25: 25.5 | J25: 1.1
A26: 02 | B26: 01 | C26: 07 | D26: Remontuoti Minareto fasadą | E26: 1 | F26: Techninės dokumentacijos korektūros viešojo pirkimo organizavimas, tiekėjo prisiimtų sutartinių įsipareigojimų koordinavimas, rangos darbų viešojo pirkimo organizavimas, rangos darbų koordinavimas, rangovo prisiimtų sutartinių įsipareigojimų koordinavimas | G26: Architektūros ir urbanistikos skyrius, Statybos ir turto skyrius | H26: SB | I26: 30 | J26: 7 | K26: Parengtos tvarkybos dokumentacijos skaičius / Suremontuotų objektų skaičius | L26: 1/0 | M26: 1/0 | N26: 2022 m. parengtas minareto restauravimo tvarkomųjų paveldosaugos darbų projektas, atlikta specialioji ekspertizė.
A27: 02 | B27: 01 | C27: 09 | D27: Parengti projektus ir remontuoti koplytėles, koplytstulpius, skulptūras, kapinaites ir kapus | E27: 1 | F27: Pašėtės koplytstulpio atnaujinimo darbų, rangovo prisiimtų sutartinių įsipareigojimų vykdymo kontrolė | G27: Architektūros ir urbanistikos skyrius | H27: SB | I27: 31 | J27: 28.1 | K27: Parengtos tvarkybos dokumentacijos skaičius / Suremontuotų objektų skaičius | L27: 1/4 | M27: 1/7 | N27: Atlikti Pašėtės k. koplytstulpio tvarkomieji paveldosauginiai darbai, sutvarkyti Paberžės 1863 m. sukilimo muziejaus teritorijoje esantys mediniai koplytstulpiai, atlikti monumentinio kryžiaus (Surviliškio k.) apsauginio stogelio remonto darbai, atlikti Surviliškio k. koplytėlės einamieji priežiūros darbai
E28: 2 | F28: Gumbių koplytstulpio atnaujinimo darbų viešojo pirkimo organizavimas, darbų, rangovo prisiimtų sutartinių įsipareigojimų vykdymo kontrolė
E29: 3 | F29: V.Svirskio kapo ir antkapinio kryžiaus atnaujinimo darbų koordinavimas
A30: 02 | B30: 01 | C30: 10 | D30: Atlikti Paberžės klebonijos ir svirno restauravimo ir remonto darbus | E30: 1 | F30: Priemonės koordinavimas | G30: Architektūros ir urbanistikos skyrius | H30: SB | I30: 40 | J30: 11.4 | K30: Restauruojamų objektų skaičius | L30: 2 | M30: 2 | N30: Projektą įgyvendina Kultūros infrastruktūros centras. 2022 m. pradėti Paberžės dvaro ir Švč. Mergelės Marijos Apsilankymo bažnyčios statinių komplekso svirno (u.k. 31163) ir klebonijos (u.k. 10959) restauravimo darbai (vertė ~314 tūkst. Eur)
A31: 02 | B31: 01 | C31: 11 | D31: Įrengti valstybinės reikšmės kelių nuorodas į savivaldybės kultūros paveldo objektus | E31: 1 | F31: Informacinių lentelių prie karių palaidojimo vietų įrengimo koordinavimas | G31: Architektūros ir urbanistikos skyrius | H31: SB | I31: 14 | J31: 4.5 | K31: Įrengtų/tvarkomų informacinių ženklinimo infrastruktūros objektų skaičius | L31: 80 | M31: 77 | N31: Mieste ir rajone įrengti nauji/atnaujinti informaciniai kelio ženklai Nr.628 ( krypties rodyklės) į lankytinas vietas (14 vnt.), pagaminti 63 medinės nuorodų lentelės Camino Lituano keliui, pasirašytos sutartys dar dėl 14 nuorodų gamybos ir įrengimo
A32: 02 | B32: 01 | C32: 12 | D32: Atlikti archeologinius ir kitus tyrinėjimus kultūros paveldo teritorijose, vykdyti paveldo objektams parengtų tvarkybos projektų ekspertizę, parengti sąmatas | E32: 1 | F32: Pagal poreikį | G32: Architektūros ir urbanistikos skyrius | H32: SB | I32: 2 | J32: 1.1 | K32: Einamaisiais metais numatomų atlikti tyrinėjimų/ Ekspertuotų projektų skaičius | L32: 1/2 | M32: 0/1 | N32: priemonės vykdymas pagal poreikį. 2022 m. apmokėtos rengiamo tvarkybos projekto ekspertizės dalinės išlaidos
A33: 02 | B33: 01 | C33: 14 | D33: Atlikti kultūros paveldo objektų ar objektų, esančių kultūros paveldo teritorijų prieigose tvarkybos darbus seniūnijose | E33: 1 | F33: Pagal poreikį | G33: Architektūros ir urbanistikos skyrius | H33: SB | I33: 32.5 | J33: 27.7 | K33: Tvarkomų objektų skaičius | L33: 1 | M33: 4 | N33: Demontuotos sovietų karių skulptūros Šėtos miestelyje bei Kėdainių miesto Klevų g. kapinėse, suremontuota atraminė sienutė Vilniaus g. 3 (Kėdainiai), atlikti Lančiūnavos dvaro sodybos sandėlio avarinės būklės likvidavimo darbai
A34: 02 | B34: 01 | C34: 15 | D34: Vykdyti rezistentų paminklinio akmens ir teritorijos apimančios masinę kapavietę sutvarkymo darbus (Skongalio g.) | E34: 1 | F34: Rangos darbų viešojo pirkimo organizavimas, rangos darbų koordinavimas, rangovo prisiimtų sutartinių įsipareigojimų vykdymo kontrolė | G34: Architektūros ir urbanistikos skyrius, Statybos ir turto skyrius | H34: SB | I34: 0 | J34: 0 | K34: Atnaujintų objektų skaičius | N34: Vykdyta parengto Rezistentų paminklinio akmens prieigų (Skongalio g. gale) ir dviračio tako nuo rezistentų paminklinio akmens iki senojo Kėdainių miesto uosto Nevėžio dešiniajame krante rekonstrukcijos techninis darbo projekto ekspertizė, esant pastaboms - tikslintas projektas
A35: 02 | B35: 01 | C35: 16 | D35: Atlikti Bakainių piliakalnio su priešpiliu ir papiliu, priešpilio tvarkybos darbus | E35: 1 | F35: Priemonės įgyvendinimo koordinavimas | G35: Architektūros ir urbanistikos skyrius | H35: SB | I35: 20 | J35: 0 | K35: Atlikti moksliniai taikomieji tyrimai / parengta projektinė dokumentacija / einamaisiais metais numatyta atliktų darbų | L35: 1/0/0 | M35: 1/0/0 | N35: Parengta Bakainių piliakalnio teritorijos topografinė nuotrauka, įsigyta Bakainių piliakalnio su priešpiliu ir papiliu priešpilio (u.k. KVR 23742) inžinerinių geologinių tyrimų atlikimo paslauga. Kreiptasi į KPD dėl finansavimo, tačiau KPD finansavimo neskyrė.
A36: 02 | B36: 01 | C36: 17 | D36: Įgyvendinti dalyvaujamojo biudžeto iniciatyvų projektus "Justinavos pliažas" ir "Tako iki kabančio tilto per Nevėžį Surviliškyje sutvarkymas" | E36: 1 | F36: Rangos darbų Justinavoje viešojo pirkimo organizavimas, rangos darbų koordinavimas, rangovo prisiimtų sutartinių įsipareigojimų vykdymo kontrolė | G36: Statybos ir turto skyrius | H36: SB | I36: 40 | J36: 39.4 | K36: Atnaujintų viešųjų erdvių, pritaikytų gyventojų poreikiams, skaičius | L36: 2 | M36: 2 | N36: Dalyvaujamojo biudžeto principu, atrinkus 2 projektus, atnaujintas pliažas ties Justinavos sodais, taip pat suremontuotas kabantis tiltelis per Nevėžio upę Sirutiškyje, sutvarkyta aplinka
E37: 2 | F37: Rangos darbų Surviliškyje viešojo pirkimo organizavimas, rangos darbų koordinavimas, rangovo prisiimtų sutartinių įsipareigojimų vykdymo kontrolė
A38: 02 | B38: 01 | C38: 18 | D38: Įgyvendinti kultūros paveldo objektų, esančių Kėdainių rajono savivaldybės teritorijoje ir kultūros paveldo statinių, esančių Kėdainių senamiesčio dalyje išsaugojimo darbų finansavimo programą | E38: 1 | F38: Programos įgyvendinimo koordinavimas | G38: Architektūros ir urbanistikos skyrius | H38: SB | I38: 26 | J38: 26 | K38: Tvarkomų kultūros paveldo objektų ar kultūros paveldo statinių skaičius | L38: 1 | M38: 1 | N38: Atlikti daliniai Šlapaberžės dvaro, esančio Stoties g. 1 Šlapaberžės k., avarinės būklės likvidavimo darbai
A39: 02 | B39: 01 | C39: Iš viso uždaviniui | I39: =SUM(I20:I38) -> 357 | J39: =SUM(J20:J38) -> 236.2
A40: 02 | B40: 02 | C40: Plėtoti, atnaujinti viešąją infrastruktūrą, atsižvelgiant į turizmo plėtros ir rekreacijos poreikius
A41: 02 | B41: 02 | C41: 01 | D41: Kompleksiškai sutvarkyti ir pritaikyti bendruomenei ir verslui Kėdainių miesto viešąsias erdves (miesto parko, universalaus daugiafunkcio aikštyno prieigos) | E41: 1 | F41: Universalaus daugiafunkcio aikštyno triukšmo sienelės įrengimo viešojo pirkimo organizavimas, darbų koordinavimas, rangovo prisiimtų sutartinių įsipareigojimų vykdymo kontrolė | G41: Statybos ir turto skyrius | H41: SB | I41: 105 | J41: 102.9 | K41: Einamaisiais metais numatyta atlikti darbų | L41: 100 | M41: 80 | N41: Įrengta ledo arenos triukšmo mažinimo sienelė, parengtas miesto parko vartų atnaujinimo projektas
E42: 2 | F42: Miesto parko vartų atnaujinimo projekto parengimo, tualeto įrengimo viešojo pirkimo organizavimas, paslaugų teikimo koordinavimas, rangovo prisiimtų sutartinių įsipareigojimų vykdymo kontrolė
A43: 02 | B43: 02 | C43: 02 | D43: Įgyvendinti projektą „Jonavos, Kėdainių ir Raseinių rajonų savivaldybes jungiančių trasų ir turizmo maršrutų informacinės infrastruktūros plėtra“ | E43: 1 | F43: Projekto koordinavimas, rangovo prisiimtų sutartinių įsipareigojimų vykdymo kontrolė | G43: Strateginio planavimo ir investicijų skyrius | H43: SB | I43: 3.5 | J43: 3.5 | K43: Parengta techninė dokumentacija / Atnaujintos/įrengtos ženklinimo infrastruktūros objektų skaičius Kėdainių mieste ir rajone | L43: 2 | M43: 2 | N43: Projektas įgyvendintas. 2022 m. Kėdainių ir Raseinių rajonuose pastatyta po interaktyvų informacinį terminalą su lankytinomis šių rajono vietomis.
H44: ES | I44: 37.1 | J44: 37
A45: 02 | B45: 02 | C45: 03 | D45: Vykdyti WiFi prieigų tinklo plėtrą miesto ir rajono viešosiose erdvėse | E45: 1 | F45: Prieigų įrengimo sutarties koordinavimas, rangovo prisiimtų sutartinių įsipareigojimų vykdymo kontrolė | G45: Bendrasis skyrius | H45: SB | I45: 0 | J45: 0 | K45: Įrengtų WiFi prieigos taškų skaičius (iš viso) | L45: 13 | M45: 22 | N45: Iš viso Kėdainių mieste nemokamas WiFi yra 13 viešųjų erdvių bei 9 - Kėdainių ligoninės prieigose. Apmokėtas apdovanojimas iš 11 programos 01 01 01 priemonės lėšų (3,3 tūkst. Eur)
A46: 02 | B46: 02 | C46: 04 | D46: Parengti Akademijos parko tvarkybos ir techninius projektus ir atlikti darbus | E46: 1 | F46: Techninės dokumentacijos rengimo viešųjų pirkimų organizavimas, paslaugų teikėjo prisiimtų sutartinių įsipareigojimų vykdymo kontrolė | G46: Architektūros ir urbanistikos skyrius, Statybos ir turto skyrius | H46: SB | I46: 0 | J46: 0 | K46: Parengta techninė dokumentacija / atlikta einamaisiais metais numatytų darbų, proc. | L46: 2/0 | M46: 0/0 | N46: Prieš rengiant techninį projektą vykdytos Akademijos parko takų inventorizavimo procedūros
A47: 02 | B47: 02 | C47: Iš viso uždaviniui | I47: =SUM(I41:I46) -> 145.6 | J47: =SUM(J41:J46) -> 143.4
A48: 11 | B48: Iš viso tikslui | I48: =+I47+I39 -> 502.6 | J48: =+J47+J39 -> 379.6
A49: Iš viso programai | I49: =+I48+I17 -> 577.6 | J49: =+J48+J17 -> 454.6
A50: iš jų: | I50: =+I49-I51-I58 -> 0 | J50: =+J49-J51-J58 -> 0
A51: SAVIVALDYBĖS LĖŠOS | I51: =SUM(I52:I57) -> 515 | J51: =SUM(J52:J57) -> 416.5
A52: Savivaldybės biudžetas SB | I52: =+I46+I45+I43+I41+I35+I34+I33+I32+I31+I30+I27+I26+I24+I23+I22+I21+I20+I10+I36+I38 -> 515 | J52: =+J46+J45+J43+J41+J35+J34+J33+J32+J31+J30+J27+J26+J24+J23+J22+J21+J20+J10+J36+J38 -> 416.5
A53: Valstybės biudžeto specialiosios tikslinės dotacijos lėšos SBVB
A54: Aplinkos apsaugos rėmimo specialiosios programos lėšos AA
A55: Iš pajamų už suteiktas paslaugas lėšos ĮP
A56: Skolintos lėšos SK
A57: Kelių priežiūros ir plėtros programos lėšos KPP
A58: KITOS LĖŠOS | I58: =SUM(I59:I62) -> 62.6 | J58: =SUM(J59:J62) -> 38.1
A59: Europos Sąjungos lėšos, užsienio fondų lėšos ES | I59: =+I44+I25 -> 62.6 | J59: =+J44+J25 -> 38.1
A60: Valstybės biudžeto lėšos VB
A61: Privačios – investuotojų lėšos PR
A62: Kiti finansavimo šaltiniai KT

Sheet 07Infrastr.
A3: Programos tikslo kodas | B3: Uždavinio kodas | C3: Priemonės kodas | D3: Priemonės pavadinimas | E3: Veiklos/darbo/ veiksmo kodas | F3: Veiklos/darbo/ veiksmo pavadinimas | G3: Atsakingi vykdytojai | H3: Finansavimo šaltinis | I3: Numatomi 2022-ųjų m. asignavimai, tūkst. Eur | J3: Panaudoti 2022-ųjų m. asignavimai, tūkst. Eur | K3: Proceso/indėlio vertinimo kriterijai
K4: Pavadinimas | L4: Planuota reikšmė | M4: Pasiekta reikšmė | N4: Nukrypimų nuo plano priežastys, pastabos, komentarai
A8: 07 INFRASTRUKTŪROS OBJEKTŲ PRIEŽIŪRA IR PLĖTRA
A9: 01 tikslas. Kurti ir pritaikyti viešąją infrastruktūrą su darnia aplinka šiuolaikiniams poreikiams
A10: 01 uždavinys. Rengti ir (arba) atnaujinti Kėdainių rajono savivaldybės teritorijų planavimo ir kitus dokumentus, sudarant sąlyga infrastruktūros plėtrai
A11: 01 | B11: 01 | C11: 01 | D11: Rengti specialiuosius, bendruosius, detaliuosius, geodezinius planus bei topografines nuotraukas | E11: 1 | F11: Specialiųjų, detaliųjų, geodezinių planų rengimo viešųjų pirkimų organizavimas, teikiamų paslaugų koordinavimas, paslaugų teikėjo prisiimtų sutartinių įsipareigojimų vykdymo kontrolė | G11: Architektūros ir urbanistikos skyrius | H11: SB | I11: 75 | J11: 38.1 | K11: Parengtų bendrųjų, specialiųjų, detaliųjų, geodezinių planų skaičius | L11: 49 | M11: 31 | N11: Vykdytos funkcijos teritorijų planavimo ir žemėtvarkos srityje. Parengti ir patvirtinti rajono bei miesto bendrųjų planų pakeitimai, pradėti rengti 3 specialieji planai, parengti 29 geodezinių matavimų sklypų planai, patvirtinti 134 žemės sklypų formavimo ir pertvarkymo projektai
A12: 01 | B12: 01 | C12: 02 | D12: Parengti Senojo Upytės kelio specialųjį planą ("Isos slėnis") | E12: 1 | F12: Specialiojo plano rengimo viešųjų pirkimų organizavimas, teikiamų paslaugų koordinavimas, paslaugų teikėjo prisiimtų sutartinių įsipareigojimų vykdymo kontrolė | G12: Architektūros ir urbanistikos skyrius | H12: SB | I12: 20 | J12: 0 | K12: Parengtų specialiųjų planų skaičius | L12: 1 | M12: 0 | N12: Viešasis pirkimas dėl Upytės kelio specialiojo plano parengimo, tačiau nebuvo nei vieno pasiūlymo, atitinkančio suplanuoto pirkimo vertei
A13: 01 | B13: 01 | C13: 03 | D13: Atlikti turto inventorizavimą, teisinę registraciją, parengti dokumentus turto privatizavimui | E13: 1 | F13: Savivaldybei nuosavybės teise priklausančio turto dokumentų rengimas, sisteminimas ir teikimas kadastriniams matavimams ir teisinei registracijai atlikti | G13: Statybos ir turto skyrius | H13: SB | I13: 45 | J13: 17.2 | K13: Inventorizuotų nekilnojamojo turto objektų skaičius | L13: 60 | M13: 133 | N13: Vykdytos Savivaldybei nuosavybės teise priklausančio turto dokumentų rengimo, sisteminimo ir teikimo kadastriniams matavimams ir teisinei registracijai, organizuotas Savivaldybei nuosavybės teise priklausančio numatyto parduoti turto vertinimas, vykdytos Savivaldybės nuosavybės teise priklausančio turto pardavimo procedūros
E14: 2 | F14: Savivaldybei nuosavybės teise priklausančio numatyto parduoti turto vertinimo organizavimas
E15: 3 | F15: Savivaldybės nuosavybės teise priklausančio turto pardavimo procedūrų vykdymas
A16: 01 | B16: 01 | C16: 04 | D16: Rengti infrastruktūros objektų tvarkymo investicinius projektus, paraiškas, kitą techninę dokumentaciją Europos Sąjungos fondų paramai gauti | E16: 1 | F16: Projektinių pasiūlymų, paraiškų ir kitos dokumentacijos parengimo organizavimas ir kontrolė | G16: Strateginio planavimo ir investicijų skyrius | H16: SB | I16: 60 | J16: 36.3 | K16: Parengtos investicinės dokumentacijos skaičius | L16: 4 | M16: 8 | N16: 2022 m. pateikti 2 projektiniai pasiūlymai, parengtos 6 projektų paraiškos, pasirašytos 2 projektų finansavimo sutartys, rengta kita techninė dokumentacija
A17: 01 | B17: 01 | C17: 05 | D17: Parengti Kėdainių rajono atsinaujinančių energijos išteklių plėtros planą | E17: 1 | F17: Plano rengimo koordinavimas, teikėjo prisiimtų sutartinių įsipareigojimų vykdymo kontrolė | G17: Statybos ir turto skyrius | H17: SB | I17: 12 | J17: 12 | K17: Patvirtintų planų skaičius | L17: 1 | M17: 1 | N17: Parengtas ir rajono taryboje patvirtintas Kėdainių rajono atsinaujinančių energijos išteklių plėtros planas
A18: 01 | B18: 01 | C18: Iš viso 01 uždaviniui | I18: =SUM(I11:I17) -> 212 | J18: =SUM(J11:J17) -> 103.6
H19: Iš viso SB | I19: =+I17+I16+I13+I11+I12 -> 212 | J19: =+J17+J16+J13+J11+J12 -> 103.6
A21: 02 uždavinys. Užtikrinti inžinerinio aprūpinimo (vandentiekio, nuotekų tinklų ir kt.) sistemų atnaujinimą ir plėtrą
A22: 01 | B22: 02 | C22: 01 | D22: Įrengti, rekonstruoti, išplėsti vandentiekio ir/ar nuotekų tinklus Kėdainių mieste (Algirdo g., Parakinės g., Rūtų g., Pievų g., Šviesos g. ) | E22: 1 | F22: Rangos darbų koordinavimas, rangovo prisiimtų sutartinių įsipareigojimų vykdymo kontrolė | G22: Statybos ir turto skyrius | H22: SB | I22: 61 | J22: 57.8 | K22: Paklota vandentiekio ir nuotekų tinklų, m | L22: ~360 | M22: 380 | N22: 2022 m. įrengti vandentiekio ir buitinių nuotekų tinklai Algirdo, Parakinės ir Rūtų pravažiavimuose, rengtas Šviesos g. vandentiekio ir nuotekų tinklų įrengimo techninis projektas
A23: 01 | B23: 02 | C23: 02 | D23: Rekonstruoti ir plėsti vandentiekio ir buitinių nuotekų infrastruktūrą Šėtos miestelyje, Kunionių kaime bei Kėdainių mieste | E23: 1 | F23: Priemonės įgyvendinimo koordinavimas | G23: Administracijos direktorius | H23: SB | I23: 150 | J23: 24.7 | K23: Rekonstruojamų/naujai paklotų vandentiekio ir nuotekų tinklų, km | L23: ~11 | M23: ~11 | N23: 2022 m. užbaigta paskutinė projekto dalis – „Šėtos miestelio vandentiekio ir nuotekų tinklų plėtra". Sudarytos sąlygos prisijungti 162 namų ūkiams prie centralizuoto vandentiekio sistemos, 269 namų ūkiams – prie nuotekų tvarkymo sistemos.
A24: 01 | B24: 02 | C24: 03 | D24: Rekonstruoti ir plėsti Kėdainių miesto paviršinių nuotekų tinklus | E24: 1 | F24: Priemonės įgyvendinimo koordinavimas | G24: Administracijos direktorius | H24: SB | I24: 85 | J24: 85 | K24: Paklota/rekonstruota paviršinių nuotekų tinklų, km | L24: ~9 | M24: 7.65 | N24: Fiziškai paviršinių nuotekų tinklų plėtros II etapo darbai baigti 2021 m., atliktas paviršinių nuotėkio tinklo inventorizavimas, skaitmenizavimas ir teisinis registravimas. Viso projekto įgyvendinimo metu paklota beveik 20 km paviršinių nuotekų tinklų
A25: 01 | B25: 02 | C25: 04 | D25: Rekonstruoti Kėdainių miesto nuotekų valyklą | E25: 1 | F25: Priemonės įgyvendinimo koordinavimas | G25: Administracijos direktorius | H25: SB | I25: 52.5 | J25: 52.4 | K25: Rekonstruotų objektų skaičius | L25: 1 | M25: 1 | N25: Miesto valyklos rekonstrukcija baigta. Siekiamas rezultatas – bendrojo azoto koncentracija valytose nuotekose neturi viršyti „Nuotekų tvarkymo reglamente“ nustatytos 15 mg/l vertės.
A26: 01 | B26: 02 | C26: 05 | D26: Rekonstruoti Akademijos nuotekų valyklą | E26: 1 | F26: Priemonės įgyvendinimo koordinavimas | G26: Administracijos direktorius | H26: SB | I26: 84.7 | J26: 59.1 | K26: Rekonstruoti nuotekų valykla | L26: 1 | M26: 1 | N26: Akademijos valyklos rekonstrukcija, siekiant padidinti nuotekų tvarkymo sistemos efektyvumą, pagerinti išvalytų nuotekų kokybę iki reikalaujamų parametrų, baigta. Pradėta vykdyti teisinė registracija.
A27: 01 | B27: 02 | C27: 06 | D27: Išplėsti buitinių nuotekų tinklus Labūnavos gyvenvietėje, Nevėžio g, ir Vainikų g. | E27: 1 | F27: Projektavimo paslaugų teikėjo prisiimtų sutartinių įsipareigojimų vykdymo kontrolė, rangos darbų viešojo pirkimo organizavimas, rangos darbų koordinavimas, rangovo prisiimtų sutartinių įsipareigojimų vykdymo kontrolė | G27: Statybos ir turto skyrius | H27: SB | I27: 111 | J27: 111 | K27: Įrengiamų vandentiekio, buitinių nuotekų tinklų, m/ darbų atlikimo proc. einamaisiais metais | L27: 2552 /35 | M27: 2552/35 | N27: Pasirašyta rangos sutartis (vertė -318 tūkst. Eur). Pradėti vykdyti darbai
A28: 01 | B28: 02 | C28: 07 | D28: Suprojektuoti ir įrengti inžinerinius tinklus Kėdainių miesto vakariniame kvartale | E28: 1 | F28: Rangos darbų viešojo pirkimo organizavimas, rangos darbų koordinavimas, rangovo prisiimtų sutartinių įsipareigojimų vykdymo kontrolė | G28: Statybos ir turto skyrius | H28: SB | I28: 24 | J28: 24 | K28: Įrengta inžinerinių tinklų, m | L28: ~335 | M28: 335 | N28: 2022 m. suprojektuoti ir įrengti V. Budvyčio g. vandentiekio ir nuotekų tinklai
A29: 01 | B29: 02 | C29: 08 | D29: Parengti buitinių nuotekų tinklų įrengimo ir išplėtimo projektą Surviliškio kaime | E29: 1 | F29: Projektavimo paslaugų teikėjo prisiimtų sutartinių įsipareigojimų vykdymo kontrolė | G29: Statybos ir turto skyrius | H29: SB | I29: 0 | J29: 0 | K29: Suprojektuota vandentiekio ir nuotekų tinklų, m | N29: Rengtas nuotekų tinklų įrengimo techninis projektas, tačiau Kelių direkcija nesutiko, kad nuotekų tinklai būtų klojami kelio apsaugos zonoje, projekto nederino, teikė siūlymą tinklus kloti per privačių gyventojų sklypus. Didžioji dalis gyventojų sutikimo nedavė
A30: 01 | B30: 02 | C30: 09 | D30: Plėsti vandentiekio ir nuotekų tinklus Šlapaberžės kaime | E30: 1 | F30: Projektavimo viešojo pirkimo organizavimas, paslaugų teikėjo prisiimtų sutartinių įsipareigojimų vykdymo kontrolė | G30: Statybos ir turto skyrius | H30: SB | I30: 4 | J30: 3 | K30: Parengtos techninės dokumentacijos skaičius / Paklota vandentiekio ir/ ar nuotekų tinklų, m | L30: 1/0 | M30: 1/0 | N30: Parengtas vandentiekio ir nuotekų šalinimo tinklų Šlapaberžės kaime statybos projektas, kuris teikiamas ekspertizės išvadai gauti
A31: 01 | B31: 02 | C31: 11 | D31: Remontuoti objektus pagal administracijos direktoriaus įsakymus | E31: 1 | F31: Priemonės įgyvendinimo koordinavimas | G31: Administracijos direktorius | H31: SB | I31: 40 | J31: 39.8 | K31: Remontuotų objektų skaičius | L31: 6 | M31: 6 | N31: Lėšos skirtos 6 objektų remontui
A32: 01 | B32: 02 | C32: 12 | D32: Likviduoti avarinius židinius | E32: 1 | F32: Priemonės įgyvendinimo koordinavimas | G32: Administracijos direktorius | H32: SB | I32: 90 | J32: 41.8 | K32: Objektų skaičius, kuriuose likviduoti avariniai židiniai | L32: 8 | M32: 8 | N32: Lėšos skirtos 8 objektų remontui
A33: 01 | B33: 02 | C33: 17 | D33: Išplėsti vandentiekio ir nuotekų tinklus Lipliūnų k. Greisupio g. | E33: 1 | F33: Rangos darbų viešojo pirkimo organizavimas, rangos darbų koordinavimas, rangovo prisiimtų sutartinių įsipareigojimų vykdymo kontrolė | G33: Statybos ir turto skyrius | H33: SB | I33: 132.5 | J33: 132.1 | K33: Parengtos techninės dokumentacijos skaičius/paklota nuotekų ir vandentiekio tinklų, m | L33: 1/ ~1740 | M33: 1/ 1769 | N33: Išplėsti vandentiekio ir nuotekų tinklai Lipliūnų k. Greisupio g.
A34: 01 | B34: 02 | C34: 20 | D34: Parengti vandentiekio ir nuotekų tinklų įrengimo Krakių miestelio Klaipėdos, Lauko, Neries, Miško ir P.Lukšio gatvėse techninę dokumentaciją ir atlikti darbus | E34: 1 | F34: Dalinis kompensavimas UAB "Kėdainių vandenys" už atliktus darbus | G34: Apskaitos skyrius | H34: SB | I34: 327 | J34: 327 | K34: Įrengta vandentiekio ir nuotekų tinklų, m | L34: 1/3018 | M34: 1/3018 | N34: Fiziškai darbai atlikti 2021 m. Įrengta vandentiekio (1365 m) ir nuotekų (1653 m) tinklų
A35: 01 | B35: 02 | C35: 21 | D35: Parengti vandentiekio ir nuotekų tinklų išplėtimo Angirių k. techninę dokumentaciją ir atlikti darbus | E35: 1 | F35: Rangos darbų viešojo pirkimo organizavimas, rangos darbų koordinavimas, rangovo prisiimtų sutartinių įsipareigojimų vykdymo kontrolė | G35: Statybos ir turto skyrius | H35: SB | I35: 100 | J35: 100 | K35: Parengtos techninės dokumentacijos skaičius / Įrengiamų vandentiekio ir nuotekų tinklų, proc., nuo visų planuojamų įrengti tinklų | L35: 1 / ~20 | M35: 1 / ~17 | N35: Pradėti vykdyti darbai pagal parengtą projektą "Vandentiekio ir nuotekų šalinimo tinklų Miško, Lakštingalų, Kranto ir Šušvės g. statyba". Darbai vykdyti Miško ir Lakštingalų g.
A36: 01 | B36: 02 | C36: 23 | D36: Parengti vandentiekio ir nuotekų tinklų išplėtimo Mantviliškio kaime techninį projektą | E36: 1 | F36: Projektavimo viešojo pirkimo organizavimas, paslaugų teikėjo prisiimtų sutartinių įsipareigojimų vykdymo kontrolė | G36: Statybos ir turto skyrius | H36: SB | I36: 19 | J36: 0 | K36: Parengtos techninės dokumentacijos skaičius | L36: 1 | M36: 0 | N36: Pasirašyta techninio projekto rengimo sutartis, tačiau dėl paslaugų teikėjo sutartinių įsipareigojimų nevykdymo, sutartis vienašališkai nutraukta
A37: 01 | B37: 02 | C37: 24 | D37: Įrengti biologinius ar individualius nuotekų valymo įrenginius | E37: 1 | F37: Priemonės įgyvendinimo koordinavimas | G37: Administracijos direktorius | H37: SB | I37: 12 | J37: 11.7 | K37: Įsigytų įrenginių skaičius | L37: 1 | M37: 1 | N37: Įrengta vietinė buitinių nuotekų valykla Aluonos g. 3, Paaluonio k.
A38: 01 | B38: 02 | C38: 25 | D38: Parengti buitinių nuotekų tinklų išplėtimo Pavermenio kaime techninį projektą ir atlikti darbus | E38: 1 | F38: Rangos darbų koordinavimas, rangovo prisiimtų sutartinių įsipareigojimų vykdymo kontrolė | G38: Statybos ir turto skyrius | H38: SB | I38: 12 | J38: 12 | K38: Įrengta nuotekų tinklų, m | L38: ~1678 | M38: ~1678 | N38: 2021 m. baigti vykdyti buitinių nuotekų tinklų išplėtimo darbai, 2022 m. atlikti nuotekų siurblinės prijungimo prie ESO apskaitos baigiamieji darbai
A39: 01 | B39: 02 | C39: 26 | D39: Įrengti vandens gręžinį ir vandentiekio tinklus Gineitų k., Vilainių sen. | E39: 1 | F39: Dalinis kompensavimas UAB "Kėdainių vandenys" už atliktus darbus | G39: Apskaitos skyrius | H39: SB | I39: 64.8 | J39: 64.8 | K39: Įrengtas gręžinys/ pastatytų vandens kolonėlių / gerinimo stočių skaičius / techninio projekto parengimas | L39: 1/1/1 | M39: 1/1/1 | N39: Apmokėta už 2021 m. įrengtą vandens gręžinį, nugeležinimo stotelę ir vandens kolonėlę
A40: 01 | B40: 02 | C40: 47 | D40: Parengti vandentiekio ir nuotekų tinklų, nuotekų valyklos įrengimo Langakių k. techninį projektą | E40: 1 | F40: Projektavimo paslaugų teikėjo prisiimtų sutartinių įsipareigojimų vykdymo kontrolė | G40: Statybos ir turto skyrius | H40: SB | I40: 0 | J40: 0 | K40: Parengtos techninės dokumentacijos skaičius | N40: Pasirašyta techninio projekto rengimo sutartis, tačiau dėl paslaugų teikėjo sutartinių įsipareigojimų nevykdymo, sutartis vienašališkai nutraukta
A41: 01 | B41: 02 | C41: 50 | D41: Parengti nuotekų tinklų įrengimo Josvainių mstl. P.Cvirkos g. projektą | E41: 1 | F41: Projektavimo viešojo pirkimo organizavimas, paslaugų teikėjo prisiimtų sutartinių įsipareigojimų vykdymo kontrolė | G41: Statybos ir turto skyrius | H41: SB | I41: 4 | J41: 0 | K41: Parengtos techninės dokumentacijos skaičius | L41: 1 | M41: 1 | N41: Parengtas nuotekų tinklų įrengimo projektas pateiktas ekspertizės išvadai gauti. Apmokėjimas 2023 m.
A42: 01 | B42: 02 | C42: Iš viso 02 uždaviniui | I42: =SUM(I22:I41) -> 1373.5 | J42: =SUM(J22:J41) -> 1146.2
H43: Iš viso SB | I43: =+I37+I35+I34+I33+I32+I31+I30+I29+I27+I26+I25+I24+I23+I22+I36+I39+I40+I41+I38+I28 -> 1373.5 | J43: =+J37+J35+J34+J33+J32+J31+J30+J29+J27+J26+J25+J24+J23+J22+J36+J39+J40+J41+J38+J28 -> 1146.2
H44: Iš viso ES
H45: Iš viso PR
H46: Iš viso SK
H47: Iš viso AA
H48: Iš viso VB
A49: 03 uždavinys. Atnaujinti ir (arba) plėsti miesto ir rajono gatvių, kelių, viešųjų teritorijų apšvietimą, naudojant energiją taupančias priemones
A50: 01 | B50: 03 | C50: 01 | D50: Rekonstruoti/įrengti/modernizuoti Kėdainių miesto gatvių apšvietimą | E50: 1 | F50: Viešųjų pirkimų organizavimas, rangos darbų vykdymo koordinavimas, rangovo prisiimtų sutartinių įsipareigojimų vykdymo kontrolė | G50: Statybos ir turto skyrius | H50: SB | I50: 0 | J50: 0 | K50: Pakeistų atramų/šviestuvų skaičius | L50: 7/7 | M50: 0 | N50: Buvo planuota Vykdyti oro linijų kabeliavimo darbus ESO iškėlus tinklus,tačiau įmonei pakeitus planus, darbai nevykdyti. Lėšos perkeltos į 01.03.03 priemonę
A51: 01 | B51: 03 | C51: 02 | D51: Įgyvendinti projektą "Kėdainių gatvių apšvietimo modernizavimas" | E51: 1 | F51: Projekto koordinavimas, viešųjų pirkimų organizavimas, rangos darbų koordinavimas, rangovo prisiimtų sutartinių įsipareigojimų vykdymo kontrolė | G51: Strateginio planavimo ir investicijų skyrius, Statybos ir turto skyrius | H51: SB | I51: 150 | J51: 137.5 | K51: Einamaisiais metais numatytų atlikti darbų, proc. | L51: 100 | M51: 100 | N51: Įvykdyta pagrindinė projekto rangos sutartis, mieste atnaujinti 793 šviestuvai. Sutaupius projekto lėšų, planuojamos vykdyti papildomos veiklos, t.y. dar atnaujinti 293 šviestuvus
H52: SK | I52: 0
H53: ES | I53: 150 | J53: 136.6
A54: 01 | B54: 03 | C54: 03 | D54: Rekonstruoti/įrengti/modernizuoti Kėdainių rajono gatvių apšvietimą | E54: 1 | F54: Viešųjų pirkimų organizavimas, rangos darbų vykdymo koordinavimas, rangovo prisiimtų sutartinių įsipareigojimų vykdymo kontrolė | G54: Statybos ir turto skyrius | H54: SB | I54: 61 | J54: 60.6 | K54: Pakeistų atramų/šviestuvų skaičius | L54: 27/23 | M54: /3 /75 | N54: Įvykdyta. Darbai vykdyti Šlapaberžės k., Josvainių mstl. Vytauto g., Gudžiūnų glž. st. gyvenvietėje, Zabieliškio k., Dotnuvos mstl. Vytauto g. / Janonio g.
D55: Iš viso 03 uždaviniui | I55: =SUM(I50:I54) -> 361 | J55: =SUM(J50:J54) -> 334.7
H56: Iš viso SB | I56: =+I50+I54+I51 -> 211 | J56: =+J50+J54+J51 -> 198.1
H57: Iš viso ES | I57: =+I53 -> 150 | J57: =+J53 -> 136.6
H58: Iš viso VB
H59: Iš viso SK | I59: =+I52 -> 0 | J59: =+J52 -> 0
H60: Iš viso PR
A61: 04 uždavinys. Gerinti rajono susisiekimo infrastruktūrą, užtikrinant gyventojų darnų judumą bei mobilumą
A62: 01 | B62: 04 | C62: 01 | D62: Tvarkyti ir plėtoti kaimiškųjų seniūnijų kelius ir gatves, atlikti kelių ir gatvių kokybės kontrolę, techninę priežiūrą, techninių projektų ekspertizę, eismo saugumo auditus | E62: 1 | F62: Rangos darbų viešųjų pirkimų organizavimas, rangos darbų koordinavimas, rangovo prisiimtų sutartinių įsipareigojimų vykdymo kontrolė, seniūnijų konsultavimas | G62: Statybos ir turto skyrius | H62: KPP | I62: 1589.5 | J62: 1639.8 | K62: Lėšų dalis, tenkanti rajono kaimiškųjų seniūnijų kelių ir gatvių tvarkymui, plėtojimui nuo bendros Kelių priežiūros ir plėtros programos lėšų, proc. | L62: ~60 | M62: 59 | N62: Vykdyti kaimiškųjų seniūnijų kelių ir gatvių priežiūros, remonto bei rekonstrukcijos darbai
A63: 01 | B63: 04 | C63: 02 | D63: Atlikti vietinės reikšmės kelių ir gatvių inventorizaciją, kokybės kontrolę, diegti saugaus eismo ir darnaus judumo priemones | E63: 1 | F63: Paslaugų viešųjų pirkimų organizavimas, vykdomų veiklų koordinavimas, rangovo prisiimtų sutartinių įsipareigojimų vykdymo kontrolė | G63: Statybos ir turto skyrius | H63: KPP | I63: 106.3 | J63: 61.3 | K63: Inventorizuotų gatvių skaičius | L63: 45 | M63: 63 | N63: Atlikta (~42 km) vietinės reikšmės kelių (gatvių) inventorizacija
A64: 01 | B64: 04 | C64: 03 | D64: Rekonstruoti, tvarkyti ir vykdyti gatvių priežiūrą mieste, atlikti kelių ir gatvių kokybės kontrolę, techninę priežiūrą, techninių projektų ekspertizę, eismo saugumo auditus iš kurių: | E64: 1 | F64: Rangos darbų viešųjų pirkimų organizavimas, rangos darbų koordinavimas, rangovo prisiimtų sutartinių įsipareigojimų vykdymo kontrolė, miesto seniūnijos konsultavimas | G64: Statybos ir turto skyrius | H64: KPP | I64: 959.8 | J64: 969.7 | K64: Lėšų dalis, tenkanti Miesto seniūnijos kelių ir gatvių tvarkymui, plėtojimui nuo bendros Kelių priežiūros ir plėtros programos lėšų, proc. | L64: ~40 | M64: 41 | N64: Vykdyti miesto seniūnijos kelių ir gatvių priežiūros, remonto bei rekonstrukcijos darbai
H65: SB | I65: =+I79 -> 20 | J65: =+J79 -> 20
H66: ES | I66: =+I78 -> 34 | J66: =+J78 -> 0
H67: VB
H68: SK
H69: PR
A70: 01 | B70: 04 | C70: 03.01 | D70: Įrengti gatves Kėdainių miesto II Janušavoje (Janušavos g., Gluosnių g.) | E70: 1 | F70: Janušavos g. rekonstravimo techninės dokumentacijos parengimo koordinavimas, paslaugų teikėjo prisiimtų sutartinių įsipareigojimų vykdymo kontrolė | G70: Statybos ir turto skyrius | H70: KPP | I70: 9.3 | J70: 9.3 | K70: Projektuojamos rekonstruoti gatvės dalis, m | L70: ~1021 | M70: ~1021 | N70: Parengtas techninis projektas
E71: 2 | F71: Gluosnių g. rekonstravimo techninės dokumentacijos parengimo koordinavimas, paslaugų teikėjo prisiimtų sutartinių įsipareigojimų vykdymo kontrolė | H71: KPP | I71: 6.8 | J71: 6.8 | K71: Projektuojamos rekonstruoti gatvės dalis, m | L71: ~520 | M71: ~520 | N71: Parengtas techninis projektas
A72: 01 | B72: 04 | C72: 03.02 | D72: Įrengti Šviesos ir Pievų gatves individualių gyvenamųjų namų Babėnų II kvartale | H72: KPP | K72: Įrengiamos gatvės dalis, m | N72: Įrengiamos gatvės dalis, m
A73: 01 | B73: 04 | C73: 03.03. | D73: Parengti Babėnų kvartalo gatvių įrengimo projektus ir įrengti gatves (II etapas) (Pergalės g., Žilvičių g., Draugystės g., Saulėlydžio g., Alksnių g., Daumantų g., Karklų g., Vyšnių sk., Jubiliejaus ir Kosmonautų g. akligatviai) | E73: 1 | F73: Saulėlydžio g. rangos darbų koordinavimas, rangovo prisiimtų sutartinių įsipareigojimų vykdymo kontrolė | G73: Statybos ir turto skyrius | H73: KPP | I73: 250.9 | J73: 250.8 | K73: Įrengiamos gatvės dalis, m | L73: ~1100 | M73: ~1100 | N73: Tęsti Saulėlydžio g. rekonstrukcijos darbai
A74: 01 | B74: 04 | C74: 03.04 | D74: Rekonstruoti miesto gatvių šaligatvius (Lakštingalų g., Sporto takas, Rasos g., Aušros g.,Liaudies g., S.Dariaus ir Girėno g., Liepų al, ) | G74: Statybos ir turto skyrius | H74: KPP | K74: Suprojektuotų /rekonstruojamų šaligatvių dalis, m | N74: Suprojektuotų /rekonstruojamų šaligatvių dalis, m
A75: 01 | B75: 04 | C75: 03.05 | D75: Rekonstruoti šaligatvius pagal projektą "Kėdainių miesto Birutės, J.Basanavičiaus, Dotnuvos gatvių rekonstrukcija" | E75: 1 | F75: Birutės g. šaligatvių rekonstravimo viešojo pirkimo organizavimas, rangovo prisiimtų sutartinių įsipareigojimų vykdymo kontrolė | G75: Statybos ir turto skyrius | H75: KPP | I75: 209.3 | J75: 228.8 | K75: Suprojektuotų /rekonstruojamų šaligatvių dalis, m | L75: ~620 | M75: ~620 | N75: Pradėti Birutės g. šaligatvių rekonstrukcijos darbai
A78: 01 | B78: 04 | C78: 03.06 | D78: Įgyvendinti projektą "Kėdainių miesto A. Kanapinsko, P. Lukšio, Mindaugo, Pavasario ir Žemaitės gatvių rekonstrukcija" | E78: 1 | F78: Projekto koordinavimas, rangos darbų koordinavimas, rangovo prisiimtų sutartinių įsipareigojimų vykdymo kontrolė | G78: Strateginio planavimo ir investicijų skyrius, Statybos ir turto skyrius | H78: ES | I78: 34 | J78: 0 | K78: Rekonstruojamų gatvių ir šaligatvių dalis, m | L78: ~1197 | M78: ~1197 | N78: Projekto veiklos baigtos įgyvendinti 2021 m. Projekto metu rekonstruota Kanapinsko g., P.Lukšio g.,Žemaitės g. su šaligatviais bei Pavasario ir Mindaugo g. šaligatviai
H79: SB | I79: 20 | J79: 20
H80: SK
H81: KPP
A84: 01 | B84: 04 | C84: 03.08 | D84: Įrengti Topolių gatvę individualių gyvenamųjų namų Janušavos II kvartale | H84: KPP | K84: Parengtos techninės dokumentacijos skaičius/ įrengtos gatvės dalis, m | N84: Parengtos techninės dokumentacijos skaičius/ įrengtos gatvės dalis, m
A85: 01 | B85: 04 | C85: 03.09 | D85: Įrengti gatves Vakariniame kvartale | H85: KPP | K85: Parengtos techninės dokumentacijos skaičius/ įrengtos gatvės dalis, m | N85: Parengtos techninės dokumentacijos skaičius/ įrengtos gatvės dalis, m
A86: 01 | B86: 04 | C86: 03.10 | D86: Parengti projektus ir rekonstruoti/ remontuoti, Janonio g., V, Svirskio g., Kruopinių g., Elevatoriaus g. (nuo pervažos ties įmonėmis), Liepų al. gatves) | E86: 1 | F86: Janonio g. rekonstrukcijos darbų koordinavimas, rangovo prisiimtų sutartinių įsipareigojimų vykdymo kontrolė | G86: Statybos ir turto skyrius | H86: KPP | I86: 104.5 | J86: 104.5 | K86: Parengtos techninės dokumentacijos skaičius / įrengiamos (rekonstruojamos) gatvės dalis, m | L86: 1/~328 | M86: 1/~328 | N86: Baigta rekonstruoti Janonio g.
E87: 2 | F87: V.Svirskio g. rekonstrukcijos techninės dokumentacijos rengimo viešojo pirkimo organizavimas, paslaugų teikėjo prisiimtų sutartinių įsipareigojimų vykdymo kontrolė | H87: KPP | I87: 10 | J87: 3.2 | K87: Projektuojamos gatvės dalis, m | L87: ~270 | M87: ~270 | N87: Parengtas techninis projektas
A88: 01 | B88: 04 | C88: 03.11 | D88: Rekonstruoti J.Biliūno g. | E88: 1 | F88: J. Biliūno g. rangos darbų koordinavimas, rangovo prisiimtų sutartinių įsipareigojimų vykdymo kontrolė | G88: Statybos ir turto skyrius | H88: KPP | I88: 131.4 | J88: 131.3 | K88: Rekonstruojamos gatvės dalis, m | L88: ~944 | M88: ~944 | N88: Baigti J.Biliūno g. rekonstrukcijos darbai
A89: 01 | B89: 04 | C89: 03.12 | D89: Atnaujinti asfaltbetonio dangą Daumantų k., Daukšių g. | H89: KPP | K89: Atnaujinamos dangos dalis, m | N89: Atnaujinamos dangos dalis, m
A90: 02 | B90: 02 | C90: 04 | D90: Plėsti dviračių takų infrastruktūrą mieste ir rajone | E90: 1 | F90: Pėsčiųjų-dviračių tako Kėdainių miesto Šėtos g. rekonstravimo viešojo pirkimo organizavimas, rangos darbų koordinavimas, rangovo prisiimtų sutartinių įsipareigojimų vykdymo kontrolė | G90: Statybos ir turto skyrius | H90: KPP | I90: 195 | J90: 176.4 | K90: Įrengiamų pėsčiųjų - dviračių takų, m | L90: ~527 | M90: ~527 | N90: Rekonstruota pėsčiųjų-dviračių tako Kėdainių miesto Šėtos g. dalis (527 m),
E91: 2 | F91: J. Basanavičiaus g. šaligatvių bortų nužeminimo viešojo pirkimo organizavimas, rangos darbų koordinavimas, rangovo prisiimtų sutartinių įsipareigojimų vykdymo kontrolė | G91: Statybos ir turto skyrius | H91: SB | I91: 22.1 | J91: 22 | K91: Pritaikytų šaligatvių vietų skaičius | L91: 4 | M91: 5 | N91: 5 pėsčiųjų perėjos J.Basanavičiaus g. pritaikytos neįgaliesiems, nužeminti šaligatvių bortai,
E92: 3 | F92: Pėsčiųjų-dviračių tako Kėdainių miesto (nuo pėsčiųjų tilto "Vaivorykštė" iki J.Basanavičiaus g.) rekonstravimo techninės dokumentacijos rengimo koordinavimas, paslaugų teikėjo prisiimtų sutartinių įsipareigojimų vykdymo kontrolė | G92: Statybos ir turto skyrius | H92: KPP | I92: 6.7 | J92: 6.7 | K92: Projektuojamos pėsčiųjų-dviračių tako dalis, m | L92: ~1790 | M92: ~1790 | N92: Parengtas pėsčiųjų dviračių tako atkarpos įrengimo nuo "Vaivorykštės" tilto iki J.Basanavičiaus g. (~1,8 km) techninis projektas
A93: 02 | B93: 02 | C93: 05 | D93: Įrengti pėsčiųjų ir dviračių takus Pramonės g. Kėdainių mieste | E93: 1 | F93: Projekto koordinavimas, rangovo prisiimtų sutartinių įsipareigojimų vykdymo kontrolė | G93: Strateginio planavimo ir investicijų skyrius, Statybos ir turto skyrius | H93: SB | I93: 15.5 | J93: 0.2 | K93: Įrengtų/atnaujintų dviračių/pėsčiųjų takų, km | L93: ~1 | M93: ~1 | N93: Fiziškai veiklos įgyvendintos 2020 m. - įrengtas pėsčiųjų dviračių takas Pramonės g. (nuo Kauno g. iki Vakarų – Cukraus g.). 2022 m. padengtos kompensavimo būdu apmokėtos išlaidos
H94: ES | I94: 38 | J94: 29
A95: 01 | B95: 04 | C95: 06 | D95: Remontuoti biudžetinių įstaigų kiemus | E95: 1 | F95: Viešųjų pirkimų organizavimas, rangos darbų koordinavimas, rangovo prisiimtų sutartinių įsipareigojimų vykdymo kontrolė | G95: Statybos ir turto skyrius | H95: SB | I95: 70 | J95: 66 | K95: Remontuotų biudžetinių įstaigų kiemų skaičius | L95: 3 | M95: 4 | N95: Atnaujintos lopšelio - darželio "Aviliukas, lopšelio - darželio 'Vaikystė", J.Paukštelio progimnazijos bei Akademijos gimnazijos "Kaštono" skyriaus kiemų dangos
A96: 01 | B96: 04 | C96: 07 | D96: Finansuoti inžinerines paslaugas, darbus ir įrengimus | E96: 1 | F96: Organizuoti inžinerinių tinklų perkėlimo darbus tvarkant miesto bei rajono gatves | G96: Statybos ir turto skyrius | H96: SB | I96: 115 | J96: 114 | K96: Atlikta numatytų darbų, proc. | L96: 100 | M96: 100 | N96: Pagal poreikį lėšos skirtos darbams, kurie netinkami finansuoti KPPP lėšomis, rekonstruojant gatves, šaligatvius
D97: Iš viso 04 uždaviniui | I97: =+I96+I95+I93+I92+I90+I94+I64+I65+I66+I62+I63+I91 -> 3171.9 | J97: =+J96+J95+J93+J92+J90+J94+J64+J65+J66+J62+J63+J91 -> 3105.1
H98: Iš viso SB | I98: =+I96+I95+I93+I65+I91 -> 242.6 | J98: =+J96+J95+J93+J65+J91 -> 222.2
H99: Iš viso KPP | I99: =+I92+I90+I64+I63+I62 -> 2857.3 | J99: =+J92+J90+J64+J63+J62 -> 2853.9
H100: Iš viso ES | I100: =+I66+I94 -> 72 | J100: =+J66+J94 -> 29
H101: Iš viso VB
H102: IŠ viso SK
H103: Iš viso PR
A104: 05 uždavinys. Vystyti gyvenamąją aplinką, užtikrinant viešosios infrastruktūros priežiūrą, atnaujinimą ir tinkamą naudojimą
A105: 01 | B105: 05 | C105: 01 | D105: Atlikti Savivaldybės pastato ir jo aplinkos sutvarkymo darbus | E105: 1 | F105: Savivaldybės administracijos III a. salės atnaujinimo projekto viešųjų pirkimų organizavimas, paslaugų teikėjo prisiimtų sutartinių įsipareigojimų vykdymo kontrolė | G105: Statybos ir turto skyrius, Architektūros ir urbanistikos skyrius | H105: SB | I105: 10 | J105: 9.9 | K105: Atlikta einamaisiais metais numatytų darbų, proc. | L105: 100 | M105: 100 | N105: Parengtas savivaldybės tarybos posėdžių salės (didžiosios) bei pagalbinių patalpų interjero projektas
A106: 01 | B106: 05 | C106: 03 | D106: Remontuoti viešųjų ir biudžetinių įstaigų stogus | E106: 1 | F106: Rangos darbų viešųjų pirkimų organizavimas (pagal poreikį), rangos darbų koordinavimas, rangovo prisiimtų sutartinių įsipareigojimų vykdymo kontrolė | G106: Statybos ir turto skyrius | H106: SB | I106: 80 | J106: 65.8 | K106: Pastatų, kurių stogai remontuoti, skaičius | L106: 8 | M106: 11 | N106: 11 įstaigų remontuoti pastatų stogai
A107: 01 | B107: 05 | C107: 04 | D107: Kompleksiškai atnaujinti daugiabučių namų kvartalus (II etapas) | E107: 1 | F107: Projekto koordinavimas, rangos darbų koordinavimas, rangovo prisiimtų sutartinių įsipareigojimų vykdymo kontrolė | G107: Strateginio planavimo ir investicijų skyrius, Statybos ir turto skyrius | H107: SB | I107: 0 | J107: 0 | K107: Einamaisiais metais atlikta numatytų darbų, proc. | L107: 100 | M107: 100 | N107: Projekto veiklos fiziškai įgyvendintos. Viso projekto įgyvendinimo metu kompleksiškai atnaujintos Žemaitės, Liaudies, Respublikos, Josvainių (II), Rasos g. kvartalų daugiabučių namų teritorijos
H108: ES | I108: 282 | J108: 270.2
H109: VB | I109: 25.3 | J109: 23.9
A110: 01 | B110: 05 | C110: 05 | D110: Atnaujinti daugiabučių namų kiemų kietąsias dangas | E110: 1 | F110: Rangos darbų viešųjų pirkimų organizavimas (pagal poreikį), rangos darbų koordinavimas, rangovo prisiimtų sutartinių įsipareigojimų vykdymo kontrolė | G110: Statybos ir turto skyrius | H110: SB | I110: 50 | J110: 49.4 | K110: Atnaujintų teritorijų skaičius, m2 | L110: 3055 | M110: 3055 | N110: SB lėšomis atnaujinta Kėdainių miesto Sodų g. 10 ir 10A daugiabučių namų kiemų danga. KPP lėšomis atnaujinta Kanapinsko g. 2, Josvainių mstl. Skroblų g. 10, 12,14, Labūnavos g. 7 daugiabučių namų kiemų danga.
...

Sheet 08aplinkosauga
A2: Programos tikslo kodas | B2: Uždavinio kodas | C2: Priemonės kodas | D2: Priemonės pavadinimas | E2: Veiklos/darbo/ veiksmo kodas | F2: Veiklos/darbo/ veiksmo pavadinimas | G2: Atsakingi vykdytojai | H2: Finansavimo šaltinis | I2: Numatomi 2022-ųjų m. asignavimai, tūkst. Eur | J2: Panaudoti 2022-ųjų m. asignavimai, tūkst. Eur | K2: Proceso/indėlio vertinimo kriterijai
K3: Pavadinimas | L3: Planuota reikšmė | M3: Pasiekta reikšmė | N3: Nukrypimų nuo plano priežastys, pastabos, komentarai
A7: 08 APLINKOS APSAUGA
A8: 01 | B8: Įgyvendinti Aplinkos apsaugos rėmimo specialiosios programos finansuojamas priemones
A9: 01 | B9: 01 | C9: Gerinti aplinkos kokybę ir apsaugą
A10: 01 | B10: 01 | C10: 01 | D10: Įgyvendinti aplinkos kokybės gerinimo ir apsaugos priemones | E10: 1 | F10: Sosnovskio barščio naikinimo rajono seniūnijose koordinavimas | G10: Žemės ūkio ir aplinkosaugos skyrius | H10: AA | I10: 69.1 | J10: 47.5 | K10: Įgyvendinamų priemonių skaičius | L10: 5 | M10: 5 | N10: 8 seniūnijose naikinti Sosnovskio barščių plotai, lėšos skirtos individualių nuotekų valymo įrenginių įsigijimo daliniam finansavimui (17 obj.), parengtas pėsčiųjų ir dviračių tako (tarp J.Basanavičiaus g. iki Josvainių g.) statybos projektas, pradėtas pėsčiųjų ir dviračių tako S. Dariaus ir S.Girėno bei M.Daukšos g. rekonstrukcijos projekto rengimas
E11: 2 | F11: Individualių nuotekų valymo įrenginių kompensavimo tvarkos įgyvendinimas
E12: 3 | F12: Dviračių takų projektavimo koordinavimas
E13: 4 | F13: Kraujupio upelio papildymo minimaliam debetui Nevėžio upės vandeniu užtikrinti | H13: SBVB | I13: 8.2 | J13: 8.2
E14: 5 | F14: Kėdainių miesto gatvių plovimo, laistymo, esant poreikiui, užtikrinimas
A15: 01 | B15: 01 | C15: 02 | D15: Įgyvendinti aplinkos atkūrimo, prevencines priemones, tvarkant vandens telkinius, jų pakrantes, vykdyti atliekų tvarkymo infrastruktūros plėtros priemones | E15: 1 | F15: Gelbėjimo ir cheminių avarijų padarinių likvidavimo koordinavimas, | G15: Žemės ūkio ir aplinkosaugos skyrius | H15: AA | I15: 64.3 | J15: 59.2 | K15: Įgyvendintų priemonių skaičius | L15: 5 | M15: 7 | N15: Vykdytas gelbėjimo ir cheminių avarijų padarinių likvidavimo koordinavimas, tvarkytos ir valytos Nevėžio bei Dotnuvėlės upių pakrantės, įžuvinti rajono tvenkiniai, vykdytas rajono karjerų ir tvenkinių makrofitų šienavimas, atlikti naftos produktais užteršto vandens ir dumblo sutvarkymo darbai ( S.Dariaus ir S.Girėno g. 23, Kėdainiai)
E16: 2 | F16: Nevėžio, Dotnuvėlės upių pakrančių valymo darbų koordinavimas
E17: 3 | F17: Vandens telkinių pakrančių tvarkymo ir valymo darbų koordinavimas
E18: 4 | F18: Tvenkinių ir upių valymo projektų parengimo viešųjų pirkimų organizavimas, tiekėjų prisiimtų sutartinių įsipareigojimų vykdymas
E19: 5 | F19: Jūrinių erelių perimviečių stebėjimo užtikrinimas
A20: 01 | B20: 01 | C20: 03 | D20: Vykdyti aplinkos oro, paviršinio ir požeminio vandens, dirvožemio ir triukšmo stebėseną Kėdainių mieste ir rajone (įskaitant pramonės rajoną) | E20: 1 | F20: 2019–2024 m. aplinkos monitoringo programos įgyvendinimas | G20: Žemės ūkio ir aplinkosaugos skyrius | H20: AA | I20: 25.5 | J20: 22.1 | K20: Tiriamų parametrų skaičius | L20: 5 | M20: 5 | N20: Įgyvendinant Aplinkos monitoringo 2019-2024 m. programos priemonės vykdytas aplinkos oro, paviršinio vandens (gyvulininkystės kompleksų nuotekų), požeminio vandens, dirvožemio ir aplinkos triukšmo monitoringas, taip pat atlikti Nevėžio, Obelies, Šerkšnio upių vandens tyrimai
E21: 2 | F21: Aplinkos oro, dirvožemio, požeminio ir paviršinio vandens nuotekų tyrimai
E22: 3 | F22: Upių vandens tyrimų organizavimas ir koordinavimas
A23: 01 | B23: 01 | C23: 04 | D23: Įgyvendinti želdynų ir želdinių apsaugos, tvarkymo, būklės stebėsenos, želdynų kūrimo, želdinių veisimo ir inventorizavimo priemones | E23: 1 | F23: Želdinių priežiūros, naujų želdinių įveisimo organizavimas | G23: Žemės ūkio ir aplinkosaugos skyrius | H23: AA | I23: 102 | J23: 98.2 | K23: Seniūnijų skaičius, kuriose įgyvendinamos želdynų ir želdinių apsaugos, tvarkymo, būklės stebėsenos, želdynų kūrimo, želdinių veisimo ir inventorizavimo priemones | L23: 11 | M23: 11 | N23: Seniūnijoms skirtos lėšos želdiniams įsigyti, želdynams prižiūrėti, pakabintos Kaštoninės keršakandės gaudyklės
A24: 01 | B24: 01 | C24: Iš viso uždaviniui | I24: =SUM(I10:I23) -> 269.1 | J24: =SUM(J10:J23) -> 235.2
A25: 01 | B25: 02 | C25: Vykdyti žalos aplinkai prevenciją
A26: 01 | B26: 02 | C26: 01 | D26: Įgyvendinti prevencinės priemones, kuriomis siekiama išvengti medžiojamųjų gyvūnų daromos žalos miškui | E26: 1 | F26: Medžioklės klausimų koordinavimas, dalyvavimas finansinės paramos medžiojamųjų gyvūnų daromos žalos prevencijos priemonėms įgyvendinti komisijoje | G26: Žemės ūkio ir aplinkosaugos skyrius | H26: AA | I26: 59.4 | J26: 57.4 | K26: Finansuotos medžiojamų gyvūnų daromos žalos prevencijos ir kitos priemonės sutarčių sk.) | L26: 4 | M26: 5 | N26: Lėšos skirtos želdiniams repelentais apdoroti, tvoroms įrengti pasėliams ir medeliams apsaugoti
A27: 01 | B27: 02 | C27: Iš viso uždaviniui | I27: =+I26 -> 59.4 | J27: =+J26 -> 57.4
A28: 01 | B28: 03 | C28: Skatinti aplinkos apsaugos iniciatyvas, vykdyti gyventojų aplinkosauginį švietimą
A29: 01 | B29: 03 | C29: 01 | D29: Įgyvendinti visuomenės aplinkosauginio švietimo priemones | E29: 1 | F29: Aplinkosauginio švietimo organizavimas | G29: Žemės ūkio ir aplinkosaugos skyrius | H29: AA | I29: 6 | J29: 5.8 | K29: Surengtų akcijų, seminarų, viešinimo priemonių skaičius | L29: 7 | M29: 10 | N29: Organizuoti Europos judumo savaitės renginiai, 2 ugdymo įstaigoms sumokėtas gamtosauginių mokyklų programos dalyvio mokestis, pagaminta plakatų „Nedegink žolės“ Kėdainių rajono mokykloms, darželiams, švietimo ir savivaldybės įstaigoms, suorganizuotas edukacinis renginys klimato tema bei kt. renginiai
A30: 01 | B30: 03 | C30: 02 | D30: Finansuoti konkursą "Gražiausiai tvarkoma aplinka" | E30: 1 | F30: Konkurso organizavimas, dalyvavimas vertinimo komisijos veikloje | G30: Žemės ūkio ir aplinkosaugos skyrius | H30: AA | I30: 6 | J30: 6 | K30: Išrinktų gražiausiai besitvarkančių aplinką savininkų skaičius | L30: 10 | M30: 14 | N30: Konkurse išrinkti ir apdovanoti 14 gražiausiai besitvarkančių aplinkų
A31: 01 | B31: 03 | C31: 03 | D31: Įsigyti priemonių, susijusių su visuomenės informavimu ir ekologiniu švietimu, kitos išlaidos | E31: 1 | F31: Aplinkosauginių priemonių švietimo įstaigoms platinimas | G31: Žemės ūkio ir aplinkosaugos skyrius | H31: AA | I31: 5.9 | J31: 5 | K31: Prenumeruojamų leidinių skaičius | L31: 4 | M31: 4 | N31: Prenumeruoti leidiniai „Žaliasis pasaulis“, „Miškai“ ir „Lututė“, „Sodo spalvos“ lopšeliams-darželiams, mokykloms-darželiams ir bibliotekoms, įsigyti Europos judumo savaitės renginių dalyvių apdovanojimams skirti prizai, priemonės akcijai "Darom"
A32: 01 | B32: 02 | C32: Iš viso uždaviniui | I32: =SUM(I29:I31) -> 17.9 | J32: =SUM(J29:J31) -> 16.8
A33: 01 | B33: Iš viso tikslui | I33: =+I32+I27+I24 -> 346.4 | J33: =+J32+J27+J24 -> 309.4
A34: 02 | B34: Tobulinti atliekų tvarkymo bei aplinkos išsaugojimo sistemą, gerinti kraštovaizdžio apsaugą
A35: 02 | B35: 01 | C35: Tinkamai tvarkyti komunalines atliekas, palaikyti tvarką ir švarą rajono bendrojo naudojimo teritorijose
A36: 02 | B36: 01 | C36: 01 | D36: Vykdyti atliekų tvarkymo sistemos organizavimo funkciją | E36: 1 | F36: Priemonės įgyvendinimo koordinavimas | G36: Bendrasis skyrius, Apskaitos skyrius | H36: SB | I36: 1720 | J36: 1699.3 | K36: Surinktų atliekų (bendras) kiekis, tūkst. t. | L36: 16.6 | M36: 14.8 | N36: Savivaldybės teritorijoje iš bendrojo naudojimo ir individualių konteinerių buvo surinka ir sutvarkyta 11,2 tūkst. t mišrių komunalinių atliekų (1,2 t. t mažiau nei 2021 m.) ir 1,74 tūkst. t antrinių žaliavų (183,3 t daugiau nei 2021; 372,1 t. daugiau nei 2020 m.), 118,8 t tekstilės atliekų (2020 m. - 69,1 t). Taip pat iš individualių valdų ir prie bendrojo naudojimo konteinerių surinkta per 560 t. didelių gabaritų atliekų. Iš sodų - 455,78 t. žaliųjų atliekų, iš miesto - 657 t. bešeimininkių atliekų. 2022 m. iš fizinių ir juridinių asmenų rinkliavos už komunalinių atliekų surinkimą ir tvarkymą paslaugas surinkta 1 612 828,87 Eur
A37: 02 | B37: 01 | C37: 02 | D37: Prižiūrėti ir tvarkyti bendro naudojimo teritorijas, įsigyti teritorijų priežiūrai reikalingą įrangą | E37: 1 | F37: Sąskaitų ir aktų priėmimas iš paslaugų teikėjų, suderinimas ir atsiskaitymas už paslaugas paslaugų teikėjui | G37: Bendrasis skyrius, Apskaitos skyrius | H37: SB | I37: 91 | J37: 89.1
A38: 02 | B38: 01 | C38: 03 | D38: Finansuoti žvyro įsigijimą seniūnijų keliams prižiūrėti | E38: 1 | F38: Priemonės įgyvendinimo koordinavimas | G38: Statybos ir turto skyrius, Biudžeto skyrius | H38: SB | I38: 230 | J38: 229.7 | K38: Prižiūrimų žvyrkelių ilgis, km | L38: ~40 | M38: ~40,5 | N38: 11 seniūnijų vykdyti žvyravimo darbai. Seniūnijose nužvyruota apie 40,5 km kelių
A39: 02 | B39: 01 | C39: 04 | D39: Atnaujinti ir plėsti komunalinių atliekų tvarkymo infrastruktūrą Kėdainių rajono savivaldybėje | E39: 1 | F39: Projekto koordinavimas, rangovo/tiekėjo prisiimtų sutartinių įsipareigojimų vykdymo kontrolė | G39: Strateginio planavimo ir investicijų skyrius, Bendrasis skyrius, Statybos ir turto skyrius | H39: SB | I39: 105.3 | J39: 32.5 | K39: Įrengtų/atnaujintų požeminių, pusiau požeminių ir antžeminių konteinerių aikštelių skaičius | L39: 35 | M39: 35 | N39: 2022 m. įrengti 29 konteinerių aikštelių pagrindai, įrengtos 6 pusiau požeminės aikštelės, įsigyti 129 antžeminiai konteineriai, kurie bus pastatyti 29 aikštelėse 2023 m. pradžioje
H40: SK | I40: 0
H41: ES | I41: 439 | J41: 184.7
A42: 02 | B42: 01 | C42: 05 | D42: Sutvarkyti naudotas padangas, kurių turėtojų nustatyti neįmanoma arba kuris neegzistuoja | E42: 1 | F42: Naudotų padangų, kurių turėtojų nustatyti neįmanoma arba kurie neegzistuoja, sutvarkymo paslaugos organizavimas | G42: Bendrasis skyrius | H42: SB | I42: 27 | J42: 0 | K42: |Sutvarkyta naudotų padangų, t | L42: 182 | M42: 200.37 | N42: 2022 m. liepos 8 d. pasirašyta naudotų padangų, kurių turėtojų nustatyti neįmanoma arba kuris neegzistuoja, tvarkymo paslaugų Kėdainių rajono savivaldybėje sutartis su UAB „Ekonovus“. Sutvarkyta per 200 t bešeimininkių padangų. Dotacijos lėšos bus pervestos 2023 m.
A43: 02 | B43: 01 | C43: 06 | D43: Sutvarkyti namų ūkiuose susidariusias asbesto atliekas | E43: 1 | F43: Namų ūkiuose susidariusių asbesto atliekų tvarkymo organizavimas | G43: Bendrasis skyrius | H43: SB | I43: 37 | J43: 0 | K43: Sutvarkyta asbesto atliekų, t. | L43: 130 | M43: 0 | N43: 2022 m. įvykdytos viešųjų pirkimų procedūros. 2023 m. vasario 10 d. pasirašyta namų ūkiuose susidariusio asbesto atliekų tvarkymo paslaugų sutartis su UAB „VAATC“. Rezultatai bus pasiekti ir dotacijos lėšos bus pervestos 2023 m.
A44: 02 | B44: 01 | C44: 07 | D44: Įsigyti tekstilės atliekų surinkimo konteinerius Kėdainių rajono savivaldybėje | E44: 1 | F44: Tekstilės atliekų surinkimo konteinerių įsigijimo viešojo pirkimo organizavimas, sutarties vykdymo kontrolė | G44: Bendrasis skyrius | H44: SB | I44: 53 | J44: 0 | K44: Įsigytų konteinerių skaičius | L44: 39 | M44: 0 | N44: 2022 m. įvykdytos viešųjų pirkimų procedūros. 2022 m. spalio 24 d. pasirašytos 39 vnt. tekstilės konteinerių įsigijimo sutartys. Rezultatai bus pasiekti ir dotacijos lėšos bus pervestos 2023 m.
A45: 02 | B45: 01 | C45: Iš viso uždaviniui | I45: =SUM(I36:I44) -> 2702.3 | J45: =SUM(J36:J44) -> 2235.3
A46: 02 | B46: 02 | C46: Gerinti kraštovaizdžio apsaugą bei didinti jo patrauklumą
A47: 02 | B47: 02 | C47: 01 | D47: Likviduoti apleistus (bešeimininkius ar savivaldybei nuosavybės teise priklausančius) pastatus ir kitus aplinką žalojančius objektus | E47: 1 | F47: Projekto koordinavimas, viešųjų pirkimų organizavimas, rangovo prisiimtų sutartinių įsipareigojimų vykdymo kontrolė | G47: Strateginio planavimo ir investicijų skyrius, Architektūros ir urbanistikos skyrius | H47: SB | I47: 21 | J47: 7.1 | K47: Likviduotų apleistų bešeimininkių pastatų skaičius | L47: 17 | M47: 16 | N47: Likviduota 16 apleistų pastatų, rangos darbai viešojo konkurso būdu įsigyti pigiau nei planuota
H48: ES | I48: 116 | J48: 40.3
A49: 02 | B49: 02 | C49: 02 | D49: Sutvirtinti pažeistus Dotnuvėlės upelio krantus | E49: 1 | F49: Rangos darbų viešojo pirkimo konkurso organizavimas, rangos darbų koordinavimas, rangovo prisiimtų sutartinių įsipareigojimų vykdymo kontrolė | G49: Žemės ūkio ir aplinkosaugos skyrius | H49: AA | I49: 30 | J49: 30 | K49: Atliktų einamaisiais metais numatytų darbų, proc. | L49: 100 | M49: 100 | N49: Parengtas darbų techninis projektas, vykdyti pažeistų krantų tvirtinimo darbai
A50: 02 | B50: 02 | C50: 04 | D50: Vykdyti bešeimininkių ir bepriežiūrių gyvūnų surinkimą, gaudymą bei karantinavimą | E50: 1 | F50: Priemonės konkurso organizavimas, sutarties su vykdytoju suderinimas, kontrolė | G50: Žemės ūkio ir aplinkosaugos skyrius | H50: SB | I50: 35 | J50: 10.3 | K50: Surinktų beglobių gyvūnų skaičius | L50: 80 | M50: 59 | N50: Surinkti 59 beglobiai, bešeimininkiai gyvūnai, iš kurių 22 šunys, 24 katės.
A51: 02 | B51: 02 | C51: 05 | D51: Organizuoti Gyvūnų globos organizacijų rengiamų bešeimininkių kačių kastravimo programų įgyvendinimą | E51: 1 | F51: Priemonės konkurso organizavimas, sutarties su vykdytoju suderinimas, kontrolė | G51: Žemės ūkio ir aplinkosaugos skyrius | H51: SB | I51: 5 | J51: 2.7 | K51: Kastruotų bešeimininkių kačių skaičius | L51: 180 | M51: 126 | N51: Sterilizuotos / kastruotos, paskiepytos nuo pasiutligės ir paženklintos išoriniu žymekliu 126 katės
A52: 02 | B52: 02 | C52: 06 | D52: Vykdyti gyvūnų augintinių gerovės ir apsaugos 2020-2024 m. prevencinę programą | E52: 1 | F52: Sutarčių su vykdytojais suderinimas, vykdymo kontrolė | G52: Žemės ūkio ir aplinkosaugos skyrius | H52: SB | I52: 2.5 | J52: 2.5 | K52: Bepriežiūrių ir bešeimininkių gyvūnų skaičiaus mažėjimas (lyginant su praėjusiais metais), proc. | L52: 6 | M52: 5 | N52: Suorganizuoti 3 šviečiamojo pobūdžio renginiai, pravesta 100 prevencinių/šviečiamųjų pamokų rajono mokyklose. Per metus padidėjo ženklintų ir registruotų šunų skaičius -1 143, kačių -594.
A53: 02 | B53: 02 | C53: 07 | D53: Įrengti vandens transporto priemonių nuleidimo vietą Angirių tvenkinyje | E53: 1 | F53: Projekto koordinavimas | G53: Žemės ūkio ir aplinkosaugos skyrius | H53: SB | I53: 0 | J53: 0 | K53: Įrengtų aplinkai draugiškų priemonių skaičius | L53: 1 | M53: 1 | N53: Projekto veiklos fiziškai įgyvendintos 2021 m. Pervesta ES dotacijos dalis
H54: SBVB | I54: 0 | J54: 22.8
A55: 02 | B55: 02 | C55: 08 | D55: Atkurti Nevėžio upės vientisumą, nugriaunant neeksploatuojamus hidroelektrinės statinius | E55: 1 | F55: Projekto koordinavimas | G55: Žemės ūkio ir aplinkosaugos skyrius | H55: SBVB | I55: 1.9 | J55: 0 | K55: Projektinės dokumentacijos parengimas | L55: 100 | M55: 0 | N55: Rengiama techninė dokumentacija
A56: 02 | B56: 02 | C56: Iš viso uždaviniui | I56: =SUM(I47:I55) -> 211.4 | J56: =SUM(J47:J55) -> 115.7
A57: 02 | B57: Iš viso tikslui | I57: =+I56+I45 -> 2913.7 | J57: =+J56+J45 -> 2351
A58: Iš viso programai | I58: =+I57+I33 -> 3260.1 | J58: =+J57+J33 -> 2660.4
A59: iš jų: | I59: =+I58-I60-I67 -> 0 | J59: =+J58-J60-J67 -> 0
A60: SAVIVALDYBĖS LĖŠOS | I60: =SUM(I61:I66) -> 2705.1 | J60: =SUM(J61:J66) -> 2435.4
A61: Savivaldybės biudžetas SB | I61: =+I52+I51+I50+I47+I39+I38+I37+I36+I53+I42+I43+I44 -> 2326.8 | J61: =+J52+J51+J50+J47+J39+J38+J37+J36+J53+J42+J43+J44 -> 2073.2 | K61: =+I61+I63 -> 2695 | L61: =+J61+J63 -> 2404.4
A62: Valstybės biudžeto specialiosios tikslinės dotacijos lėšos SBVB | I62: =+I54+I13+I55 -> 10.1 | J62: =+J54+J13+J55 -> 31
A63: Aplinkos apsaugos rėmimo specialiosios programos lėšos AA | I63: =+I31+I30+I29+I26+I23+I20+I15+I10+I49 -> 368.2 | J63: =+J31+J30+J29+J26+J23+J20+J15+J10+J49 -> 331.2
A64: Iš pajamų už suteiktas paslaugas lėšos ĮP
A65: Skolintos lėšos SK | I65: =+I40 -> 0 | J65: =+J40 -> 0
A66: Kelių priežiūros ir plėtros programos lėšos KPP
A67: KITOS LĖŠOS | I67: =SUM(I68:I71) -> 555 | J67: =SUM(J68:J71) -> 225
A68: Europos Sąjungos lėšos, užsienio fondų lėšos ES | I68: =+I48+I41 -> 555 | J68: =+J48+J41 -> 225
A69: Valstybės biudžeto lėšos VB
A70: Privačios – investuotojų lėšos PR
A71: Kiti finansavimo šaltiniai KT

Sheet 09ž.ū.
A3: Programos tikslo kodas | B3: Uždavinio kodas | C3: Priemonės kodas | D3: Priemonės pavadinimas | E3: Veiklos/darbo/ veiksmo kodas | F3: Veiklos/darbo/ veiksmo pavadinimas | G3: Atsakingi vykdytojai | H3: Finansavimo šaltinis | I3: Numatomi 2022-ųjų m. asignavimai, tūkst. Eur | J3: Panaudoti 2022-ųjų m. asignavimai, tūkst. Eur | K3: Proceso/indėlio vertinimo kriterijai
K4: Pavadinimas | L4: Planuota reikšmė | M4: Pasiekta reikšmė | N4: Nukrypimų nuo plano priežastys, pastabos, komentarai
A8: 09 ŽEMĖS ŪKIO PLĖTRA IR MELIORACIJA
A9: 01 | B9: Įgyvendinti Savivaldybės teritorijoje valstybės politiką kaimo plėtros, žemės ūkio ir melioracijos srityse, sudaryti sąlygas inovatyvaus žemės ūkio vystymui
A10: 01 | B10: 01 | C10: Vykdyti valstybinių (valstybės perduotas savivaldybėms) funkcijas žemės ūkio srityje, konsultuojant rajono asmenis ūkininkavimo, melioracijos, žemės ūkio technikos registravimo ir kitais su žemės ūkiu susijusiais klausimais
A11: 01 | B11: 01 | C11: 01 | D11: Organizuoti ir užtikrinti Žemės ūkio ir aplinkosaugos skyriaus darbą, kuruojant valstybės perduotas savivaldybėms funkcijas žemės ūkio srityje | E11: 1 | F11: Žemės ūkio valdų skaičius (įregistravimas, išregistravimas, kasmetinis duomenų atnaujinimas) | G11: Žemės ūkio ir aplinkosaugos skyrius | H11: SBVB | I11: 78.9 | J11: 78.9 | K11: Įregistruotų žemės ūkio valdų skaičius (įregistravimas, išregistravimas, kasmetinis duomenų atnaujinimas) | L11: 2680 | M11: 2758 | N11: Įvykdyta. Vykdytos funkcijos žemės ūkio srityje.
E12: 2 | F12: Ūkininkų ūkių įregistravimas, išregistravimas, kasmetinis duomenų atnaujinimas | K12: Įregistruotų ūkininkų ūkių skaičius (įregistravimas, išregistravimas, duomenų atnaujinimas) | L12: 1750 | M12: 1709
E13: 3 | F13: Paramos už žemės ūkio naudmenas ir kitus plotus bei gyvulius paraiškos pildymas, deklaruojamų laukų įbraižymas, duomenų keitimas, pasikeitusių KŽS ribų aprašymas | K13: Paramos už žemės ūkio naudmenas ir kitus plotus bei gyvulius priimtų paraiškų skaičius (pasėlių deklaracijos pildymas, deklaruojamų laukų įbraižymas, duomenų keitimas, pasikeitusių KŽS ribų aprašymas) | L13: 2020 | M13: 2051
E17: 4 | F17: Pagal gautus prašymus pasėliams, miškui padarytos žalos įvertinimas vietoje ir apžiūros aktų surašymas, sprendimų priėmimas, atstovavimas teismuose | K17: Prašymų dėl medžiojamųjų gyvūnų padarytos žalos nustatymo skaičius (pasėliams, miškui padarytos žalos įvertinimas vietoje ir apžiūros aktų surašymas, sprendimų paruošimas) | L17: 30 | M17: 55
E18: 5 | F18: Paraiškų priėmimas, įvertinimas, kompensuojamų sumų apskaičiavimas, duomenų suvedimas į ŽŪMIS ir KOTIS | K18: Pateiktų paraiškų dalies draudimo įmokų kompensacijai gauti skaičius (augalų draudimas nuo nepalankių oro sąlygų; paraiškų priėmimas, duomenų sutikrinimas, kompensuojamos sumos apskaičiavimas, duomenų suvedimas į ŽŪMIS ir KOTIS) | L18: 90 | M18: 122
E19: 6 | F19: Paraiškų priėmimas, įvertinimas, kompensuojamų sumų apskaičiavimas, duomenų suvedimas į ŽŪMIS | K19: Paramos paraiškų pagal Lietuvos kaimo plėtros 2014–2020 metų programos priemonės „Rizikos valdymas“ veiklos srities ,,Pasėlių, gyvūnų ir augalų draudimo įmokos“, susijusios su pasėlių ir augalų, ūkinių gyvūnų draudimo įmokų kompensavimu skaičius | L19: 55 | M19: 51
E20: 7 | F20: Paramos teikimo bičių laikytojams už papildomą bičių maitinimą administravimas | K20: Paraiškų už papildomą bičių maitinimą skaičius | L20: 125 | M20: 140
E21: 8 | F21: Informacijos pateikimas pareiškėjams | K21: Žemės ūkio subjektų skaičius, kuriems skiriama išmoka už gyvulius, vnt. | L21: 50 | M21: 50
E22: 9 | F22: Pieno pardavimo tiesiogiai vartoti deklaracijų ir kitų dokumentų administravimas | K22: Pieno gamybos ir realizavimo metinių deklaracijų skaičius | L22: 90 | M22: 37
E23: 10 | F23: Žemės ūkio technikos įregistravimas, perregistravimas, išregistravimas, registracijos dokumentų išdavimas, duomenų suvedimas į registrą | K23: Aptarnaujamos žemės ūkio technikos, įregistruotos rajone, skaičius | L23: 7200 | M23: 6949
E24: 11 | F24: Žemės ūkio technikos techninių apžiūrų atlikimas, duomenų suvedimas, talonų išdavimas | K24: Atliktų techninių apžiūrų skaičius | L24: 800 | M24: 983
A25: 01 | B25: 01 | C25: 02 | D25: Tvarkyti erdvinių duomenų rinkinį | E25: 1 | F25: Priemonės koordinavimas | G25: Architektūros ir urbanistikos skyrius | H25: SBVB | I25: 22.1 | J25: 22.1 | K25: Erdvinių duomenų rinkinio tvarkymo užtikrinimas, proc. | L25: 100 | M25: 100 | N25: Įvykdyta. Vykdytos duomenų rinkinio tvarkymo funkcijos
A26: 01 | B26: 01 | C26: 03 | D26: Teikti Metų žemdirbio apdovanojimą | E26: 1 | F26: Tvarkos aprašo parengimas, konkurso, apdovanojant Metų žemdirbį, organizavimas | G26: Žemės ūkio ir aplinkosaugos skyrius | H26: SB | I26: 3 | J26: 3 | K26: Įteiktų apdovanojimų skaičius | L26: 1 | M26: 1 | N26: Įvykdyta. 2022 m. pirmą kartą Kėdainių rajone surengtas „Metų žemdirbio“ konkursas. Metų žemdirbio apdovanojimas atiteko Nerijui Žilinskui, renginio metu pagerbti bei paskatinti ir kiti rajono ūkininkai.
A27: 01 | B27: 01 | C27: Iš viso uždaviniui | I27: =+I11+I25+I26 -> 104 | J27: =+J11+J25+J26 -> 104
A28: 01 | B28: 02 | C28: Vykdyti valstybines (perduotas savivaldybėms) funkcijas melioracijos srityje, rekonstruojant remontuojant ir (arba) atnaujinant valstybei nuosavybės teise priklausančią melioracijos, hidrotechnikos infrastruktūrą Kėdainių rajono savivaldybės teritorijoje
A29: 01 | B29: 02 | C29: 01 | D29: Gerinti hidrotechninių statinių ir kitų melioracijos sistemų būklę | E29: 1 | F29: Melioracijos statinių priežiūros ir remonto darbų viešųjų pirkimų organizavimas, darbų koordinavimas, rangovo prisiimtų sutartinių įsipareigojimų vykdymo kontrolė | G29: Žemės ūkio ir aplinkosaugos skyrius | H29: SBVB | I29: 359.9 | J29: 359.9 | K29: Remontuojamų, prižiūrimų melioracijos griovių ilgis, km | L29: 40 | M29: 43.14 | N29: Įvykdyta. Suremontuota drenažo sistemų 7,5 ha plote, 43,14 km magistralinių griovių, 22 vandens pralaidos, prižiūrimi 9,2 km apsauginių pylimų, 1 vandens siurblinė, nušienauta 85,27 ha griovių šlaitų.
E30: 2 | F30: Priešprojektiniai tyrinėjimų techninės sąmatinės dokumentacijos sudarymo, ekspertizės viešųjų pirkimų organizavimas, paslaugų teikėjo prisiimtų sutartinių įsipareigojimų vykdymo kontrolė
E31: 3 | F31: Darbų techninė priežiūros koordinavimas, vykdymo kontrolė
A32: 01 | B32: 02 | C32: 02 | D32: Rengti projektus ir remontuoti gyvenviečių lietaus nuotekų-drenažų sistemas | E32: 1 | F32: Remonto darbų viešųjų pirkimų organizavimas, rangos darbų koordinavimas, rangovo prisiimtų sutartinių įsipareigojimų vykdymo kontrolė | G32: Žemės ūkio ir aplinkosaugos skyrius | H32: SB | I32: 125 | J32: 125 | K32: Gyvenviečių, kuriose atlikti drenažo remonto darbai, skaičius | L32: 15 | M32: 15 | N32: Įvykdyta. Lietingos vasaros metu išaugo lietaus nuotekų-drenažų sistemų remonto poreikis. Darbai atlikti Miegėnų k, Lipliūnų k., Šlapaberžės k.Aušros k., Mantviliškio k., Akademijos bei Dotnuvos mstl., Pilsupių k., Pajieslio k., Tiskūnų k., Ledų v.s., Pelutavos k., Pagirių k.
A33: 01 | B33: 02 | C33: 03 | D33: Vykdyti Kėdainių rajono Saviečių kadastrinės vietovės Mėklos sausinimo sistemos melioracijos griovių ir juose esančių statinių rekonstrukciją | H33: VB | K33: Rekonstruotų griovių ilgis
A34: 01 | B34: 02 | C34: 04 | D34: Parengti projektus ir atnaujinti hidrotechninius įrenginius | E34: 1 | F34: Remonto darbų viešųjų pirkimų organizavimas, rangos darbų koordinavimas, rangovo prisiimtų sutartinių įsipareigojimų vykdymo kontrolė | G34: Žemės ūkio ir aplinkosaugos skyrius | H34: SB | I34: 14 | J34: 13.8 | K34: Parengtų projektų skaičius | L34: 3 | M34: 3 | N34: Įvykdyta. Parengtas Krakių tvenkinių hidrotechninių statinių techninis projektas, kadastrinės vietovės Linkavos sausinimo sistemos melioracijos griovių ir juose esančių statinių rekonstrukcijos projektas bei atliktas poveikio aplinkai vertinimas dėl Vaidatonių tvenkinio hidrotechnikos statinių rekonstrukcijos
A35: 01 | B35: 02 | C35: Iš viso uždaviniui | I35: =SUM(I29:I34) -> 498.9 | J35: =SUM(J29:J34) -> 498.7
A36: 01 | B36: Iš viso tikslui | I36: =+I35+I27 -> 602.9 | J36: =+J35+J27 -> 602.7
A37: Iš viso programai | I37: =+I36 -> 602.9 | J37: =+J36 -> 602.7
A38: iš jų: | I38: =+I37-I39 -> 0 | J38: =+J37-J39 -> 0
A39: SAVIVALDYBĖS LĖŠOS | I39: =+I40+I41 -> 602.9 | J39: =+J40+J41 -> 602.7
A40: Savivaldybės biudžetas SB | I40: =+I32+I34+I26 -> 142 | J40: =+J32+J34+J26 -> 141.8
A41: Valstybės biudžeto specialiosios tikslinės dotacijos lėšos SBVB | I41: =+I29+I25+I11 -> 460.9 | J41: =+J29+J25+J11 -> 460.9
A42: Aplinkos apsaugos rėmimo specialiosios programos lėšos AA
A43: Iš pajamų už suteiktas paslaugas lėšos ĮP
A44: Skolintos lėšos SK
A45: Kelių priežiūros ir plėtros programos lėšos KPP
A46: KITOS LĖŠOS | I46: =SUM(I47:I50) -> 0 | J46: =SUM(J47:J50) -> 0
A47: Europos Sąjungos lėšos, užsienio fondų lėšos ES
A48: Valstybės biudžeto lėšos VB
A49: Privačios – investuotojų lėšos PR
A50: Kiti finansavimo šaltiniai KT

Sheet 10verslas
A3: Programos tikslo kodas | B3: Uždavinio kodas | C3: Priemonės kodas | D3: Priemonės pavadinimas | E3: Veiklos/darbo/ veiksmo kodas | F3: Veiklos/darbo/ veiksmo pavadinimas | G3: Atsakingi vykdytojai | H3: Finansavimo šaltinis | I3: Numatomi 2022-ųjų m. asignavimai, tūkst. Eur | J3: Panaudoti 2022-ųjų m. asignavimai, tūkst. Eur | K3: Proceso/indėlio vertinimo kriterijai
K4: Pavadinimas | L4: Planuota reikšmė | M4: Pasiekta reikšmė | N4: Nukrypimų nuo plano priežastys, pastabos, komentarai
A8: 10 PARAMA VERSLUI IR VERSLO PLĖTRA
A9: 01 | B9: Gerinti verslo paramos bei informavimo sistemą, plėtoti viešojo ir privataus sektorių bendradarbiavimą, gyventojų verslumą
A10: 01 | B10: 01 | C10: Stiprinti savivaldybės institucijų ir verslo įmonių bendradarbiavimą rengiant, įgyvendinant bendrus projektus
A11: 01 | B11: 01 | C11: 01 | D11: Finansuoti VšĮ Kėdainių turizmo ir verslo informacijos centro viešųjų paslaugų verslui programą: | E11: 1 | F11: Priemonės įgyvendinimo koordinavimas | G11: Administracijos direktorius | H11: SB | I11: 36 | J11: 36 | K11: Suteiktų informacinių, konsultacinių paslaugų ūkio subjektams ir asmenims pagal paklausimus skaičius, vnt. | L11: 900 | M11: 1390 | N11: 2022 m. buvo vykdomos numatytos priemonės: skatinamas naujų verslo įmonių steigimas, skleidžiama informacija ir kuriama konsultavimo informavimo sistema, atnaujinama įstaigos duomenų bazė, plėtotas bendradarbiavimas su Užimtumo tarnybos Šiaulių departamento Kėdainių skyriumi. 2022 m. Kėdainių TVIC darbuotojai atsakė į 1 390 paklausimus, suteikė 480 val. verslo konsultacijų Per 2022 m. verslą pradėjo 120 naujai įregistruotų įmonių, t.y. 4,3 proc. daugiau nei 2021 m. Kėdainių TVIC konsultacijų ir/ar suteikta pagalba įsikūrė 33 naujos įmonės (iš 120)
A12: 01 | B12: 01 | C12: 01.01 | D12: techninės ir metodinės pagalbos rajono verslininkams, verslo įmonėms, asmenims, ketinantiems pradėti verslą, investuotojams teikimas | K12: Paklausimų, konsultacijų telefonu, internetu, centre teikimas, val. | L12: 300 | M12: 480
A13: 01 | B13: 01 | C13: 01.02 | D13: Kėdainių rajono savivaldybės smulkaus verslo rėmimo fondo administravimas | K13: Konsultuotų subjektų skaičius | L13: 110 | M13: 112
A14: 01 | B14: 01 | C14: 01.03 | D14: savivaldybės įmonių duomenų bazės atnaujinimas, verslo situacijos analizė, duomenų apdorojimas ir viešinimas | K14: Verslo aplinkos statistikos duomenų analizė, val. | L14: 10 | M14: 10
A15: 01 | B15: 01 | C15: 01.04 | D15: viešojo ir privataus sektorių bendravimo skatinimas, susitikimų, forumų organizavimas | K15: Organizuotų, inicijuotų susitikimų skaičius | L15: 2 | M15: 2
A16: 01 | B16: 01 | C16: 01.05 | D16: savivaldybės administracijos, Kėdainių TVIC ir verslą vienijančių asociacijų bendradarbiavimo stiprinimas
A17: 01 | B17: 01 | C17: 02 | D17: Teikti finansinę paramą verslą pradedantiems ar sunkumų patiriantiems SVV subjektams Kėdainių rajone per Savivaldybės smulkiojo verslo rėmimo fondą | E17: 1 | F17: Priemonės įgyvendinimo koordinavimas | G17: Administracijos direktorius | H17: KT (FL) | I17: 32.7 | J17: 32.6 | K17: Subjektų, kuriems suteikta finansinė parama, skaičius | L17: 49 | M17: 38 | N17: Per 2022 m. verslininkams skirta SVRF parama už 76,5 tūkst. Eur pagal 6 priemones. Populiariausios Smulkiojo verslo rėmimo fondo paramos priemonės buvo dvi: įrangos/darbo priemonių įsigijimo dalinis išlaidų kompensavimas (pasinaudojo 21 pradedanti veiklą įmonė, skirta parama už 42,2 tūkst. Eur) ir naujų darbo vietų kūrimo – sukurta 19 naujų darbo vietų. Finansinės paramos pagal šią priemonę buvo suteikta už 32,2 tūkst. Eur. 2022 m. Kėdainių rajono savivaldybės suteiktos vidutinis finansinės paramos dydis 1 verslo subjektui buvo 2 012,42 Eur, o vidutinė finansinė parama naujai darbo vietai – 1 693,98 Eur.
H18: SB | I18: 70 | J18: 43.9
A19: 01 | B19: 01 | C19: 03 | D19: Organizuoti ir viešinti verslumą skatinančius, gerąją verslo patirtį viešinančius renginius Kėdainių rajone | E19: 1 | F19: Priemonės įgyvendinimo koordinavimas | G19: Administracijos direktorius | H19: SB | I19: 3 | J19: 0 | K19: Suorganizuotas verslininkų pagerbimo renginys ,,Verslo diena", nominuojant verslininkus pagal patvirtintus konkurso nuostatus | L19: 1 | M19: 1 | N19: Septintą kartą apdovanoti 4 labiausiai rajonui nusipelnę ir per metus pasižymėję verslo atstovai. Taip pat padėkota dar 4 rajono verslams, kurie netradiciškai pasižiūri į kasdienybę ir siekia bendros krašto gerovės. Apdovanotas Kauno prekybos, pramonės ir amatų rūmų rengiamo konkurso ,,Sukurta Kėdainių rajone“ nugalėtojas. Apmokėtas apdovanojimas iš 11 programos 01 01 01 priemonės lėšų
A20: 01 | B20: 01 | C20: Iš viso uždaviniui | I20: =SUM(I11:I19) -> 141.7 | J20: =SUM(J11:J19) -> 112.5
A21: 01 | B21: Iš viso tikslui | I21: =+I20 -> 141.7 | J21: =+J20 -> 112.5
A22: 02 | B22: Kurti ekonominį augimą skatinančios verslo aplinkos plėtrą
A23: 02 | B23: 01 | C23: Sudaryti palankias sąlygas sumanios pramonės ir logistikos srities verslų atsiradimui, plėtrai bei investicijų pritraukimui
A24: 02 | B24: 01 | C24: 02 | D24: Įgyvendinti projektą "Kėdainių miesto viešosios infrastruktūros, svarbios verslui, atnaujinimas ir plėtra" | E24: 1 | F24: Paraiškos teikimas, rangos darbų, projektavimo viešojo pirkimo organizavimas, rangos darbų koordinavimas, rangovo prisiimtų sutartinių įsipareigojimų vykdymo kontrolė | G24: Strateginio planavimo ir investicijų skyrius, Statybos ir turto skyrius | H24: SBVB | I24: 47.5 | J24: 42.3 | K24: Parengtos techninės dokumentacijos skaičius / investicijoms parengtų/pagerintų viešųjų teritorijų plotas, ha (iš viso) | L24: 2/ ~4,8 | M24: 2/ ~4,8 | N24: Investicijoms parengti Vandenvietės g. (nuo Pramonės g. iki Sandėlių g.) ir Vakarų g. rekonstravimo bei paviršinio vandens ir lietaus nuotekų sistemų LEZ teritorijoje rekonstrukcijos techniniai projektai
A25: 03 | B25: 01 | C25: Iš viso uždaviniui | I25: =SUM(I24:I24) -> 47.5 | J25: =SUM(J24:J24) -> 42.3
A26: 03 | B26: Iš viso tikslui | I26: =+I25 -> 47.5 | J26: =+J25 -> 42.3
A27: Iš viso programai | I27: =+I26+I21 -> 189.2 | J27: =+J26+J21 -> 154.8
A28: iš jų: | I28: =+I27-I29-I36 -> 0 | J28: =+J27-J29-J36 -> 0
A29: SAVIVALDYBĖS LĖŠOS | I29: =SUM(I30:I35) -> 156.5 | J29: =SUM(J30:J35) -> 122.2
A30: Savivaldybės biudžetas SB | I30: =+I19+I11+I18 -> 109 | J30: =+J19+J11+J18 -> 79.9
A31: Valstybės biudžeto specialiosios tikslinės dotacijos lėšos SBVB | I31: =+I24 -> 47.5 | J31: =+J24 -> 42.3
A32: Aplinkos apsaugos rėmimo specialiosios programos lėšos AA
A33: Iš pajamų už suteiktas paslaugas lėšos ĮP
A34: Skolintos lėšos SK
A35: Kelių priežiūros ir plėtros programos lėšos KPP
A36: KITOS LĖŠOS | I36: =SUM(I37:I40) -> 32.7 | J36: =SUM(J37:J40) -> 32.6
A37: Europos Sąjungos lėšos, užsienio fondų lėšos ES
A38: Valstybės biudžeto lėšos VB
A39: Privačios – investuotojų lėšos PR
A40: Kiti finansavimo šaltiniai KT | I40: =+I17 -> 32.7 | J40: =+J17 -> 32.6

Sheet 11valdym.
A3: Programos tikslo kodas | B3: Uždavinio kodas | C3: Priemonės kodas | D3: Priemonės pavadinimas | E3: Veiklos/darbo/ veiksmo kodas | F3: Veiklos/darbo/ veiksmo pavadinimas | G3: Atsakingi vykdytojai | H3: Finansavimo šaltinis | I3: Numatomi 2022-ųjų m. asignavimai, tūkst. Eur | J3: Panaudoti 2022-ųjų m. asignavimai, tūkst. Eur | K3: Proceso/indėlio vertinimo kriterijai
K4: Pavadinimas | L4: Planuota reikšmė | M4: Pasiekta reikšmė | N4: Nukrypimų nuo plano priežastys, pastabos, komentarai
A8: 11 SAVIVALDYBĖS VALDYMO TOBULINIMAS
A9: 01 | B9: Didinti savivaldybės valdymo ir veiklos efektyvumą, gerinti žmogiškųjų išteklių kompetencijas
A10: 01 | B10: 01 | C10: Sudaryti sąlygas kokybiškai įgyvendinti Savivaldybės funkcijas, mažinant administracinę naštą, įgyvendinant lygias galimybes užtikrinančias bei korupcijos prevencijos priemones
A11: 01 | B11: 01 | C11: 01 | D11: Organizuoti Savivaldybės tarybos ir Savivaldybės administracijos veiklą, įgyvendinant administracinės naštos, lygių galimybių bei korupcijos prevencijos priemones, stiprinti darbuotojų kompetencijas | E11: 1 | F11: Administracijos skyriams priskirtų funkcijų kokybiško vykdymo, administracinės naštos mažinimo priemonių vykdymo užtikrinimas | G11: Administracijos direktorius | H11: SB | I11: 4187.5 | J11: 4277.7 | K11: Priimtų tarybos sprendimų skaičius | L11: 300 | M11: 348 | N11: Įvykdyta. Savivaldybės taryba ir Savivaldybės administracija vykdė Lietuvos Respublikos Konstitucijos ir įstatymų nustatytas, Lietuvos Respublikos vietos savivaldos įstatymu reglamentuotas savarankiškas savivaldybės bei valstybines (valstybės perduotos savivaldybei) funkcijas. 2022 m. 12 tarybos posėdžių metu apsvarstyti 355 sprendimų projektus ir priimti 348 Tarybos sprendimai.
K12: Prašymų, į kuriuos atsakymai fiziniams asmenims pateikti per įstatymais nustatytus terminus dalis nuo visų gautų prašymų, proc. | L12: 100 | M12: 99.3
K13: Įgyvendintų administracinės naštos mažinimo priemonių, įgyvendinamų pagal patvirtintą planą, proc. | L13: 100 | M13: 82 | N13: Įvykdyta. Administracinės naštos 2022 m. plane suplanuota 11 priemonių. Centralizuoto vidaus audito skyrius 2022 m. I ir II pusm. atliko vidaus auditą dėl administracinės naštos mažinimo priemonių plano vykdymo kontrolę. Pagal atliktą vidaus audito išvadą 2022 m. savivaldybės administracijos vidaus kontrolė administracinės naštos mažinimo srityje vertinama gerai.
E14: 2 | F14: Korupcijos prevencijos, lygias galimybes užtikrinančių priemonių įgyvendinimas | G14: Administracijos direktorius | H14: ĮP | I14: 22.9 | J14: 10.8 | K14: Įgyvendintų korupcijos prevencijos priemonių pagal patvirtintą planą, proc. | L14: 100 | M14: 95 | N14: Įvykdyta. 2022 m. gegužės mėn. Savivaldybėje darbą pradėjo vyr. specialistas atsakingas už korupcijai atsakingos aplinkos kūrimą. Parengta 60 teisės aktų projektų antikorupcinio vertinimo pažymų. Atliktas savivaldybės darbuotojų korupcijos tolerancijos tyrimas, kuris parodė, kad korupcijos netoleravimo lygis - labai aukštas. Parengtas ir patvirtintas 2022-2024 m. savivaldybės administracijos korupcijos prevencijos planas. Plane 2022 m. numatyta 20 priemonių, iš kurių 19 - vykdoma. Priemonė dėl mokymų perkelta į 2023 m.
K15: Įgyvendintų lygias galimybes užtikrinančių priemonių skaičius | L15: 7 | M15: 7 | N15: Įvykdyta. Savivaldybės administracijos lygių galimybių politika ir jos įgyvendinimo tvarkos aprašas nustato lygių galimybių Savivaldybės administracijoje principus ir jų įgyvendinimo darbe sąlygas bei tvarką. Pagal 2022 m. Lygių galimybių kontrolieriaus tarnybos atliktą vertinimą bei sudarytą Lietuvos savivaldybių lyčių lygybės žemėlapį, Kėdainiai užima 14 vietą
A16: 01 | B16: 01 | C16: Iš viso uždaviniui | I16: =SUM(I11:I15) -> 4210.4 | J16: =SUM(J11:J15) -> 4288.5
A17: 01 | B17: 02 | C17: Organizuoti ir užtikrinti kokybišką valstybės perduotų funkcijų įgyvendinimą
A18: 01 | B18: 02 | C18: 01 | D18: Vykdyti gyventojų registrų tvarkymo ir duomenų valstybės registrui teikimo funkciją | E18: 1 | F18: Duomenų teikimas Registrų centrui | G18: Civilinės metrikacijos ir archyvo skyrius | H18: SBVB | I18: 0.8 | J18: 0.8 | K18: Duomenų teikimo skaičius | L18: 2000 | M18: 1600 | N18: Įvykdyta. Registrų centrui teikiami duomenys pagal poreikį, t.y. tiek, kiek gauta prašymų
A19: 01 | B19: 02 | C19: 02 | D19: Tvarkyti archyvinius dokumentus | E19: 1 | F19: Informacijos paieška, pažymų, išrašų išrašymas, kopijų darymas, dokumentų išdavimas, konsultavimas | G19: Civilinės metrikacijos ir archyvo skyrius | H19: SBVB | I19: 46.7 | J19: 46.7 | K19: Išduotų pažymų skaičius | L19: 700 | M19: 907 | N19: Įvykdyta. Juridinius faktus patvirtinančių pažymų pagal prašymus kopijų išduotos 907, t.y. 10 proc. daugiau nei 2021 m.
A20: 01 | B20: 02 | C20: 03 | D20: Registruoti civilinės būklės aktus | E20: 1 | F20: Įrašų registravimas, papildymas, anuliavimas, atkūrimas. Vardų, pavardžių pakeitimas, ištaisymas | G20: Civilinės metrikacijos ir archyvo skyrius | H20: SBVB | I20: 33.7 | J20: 33.6 | K20: Užregistruotų civilinės būklės aktų skaičius | L20: 1600 | M20: 1741 | N20: Įvykdyta. Civilinės būklės įrašų sudaryta 1741 vnt.
A21: 01 | B21: 02 | C21: 04 | D21: Vykdyti valstybinės kalbos vartojimo ir taisyklingumo kontrolę | E21: 1 | F21: Valstybinės kalbos vartojimo ir taisyklingumo kontrolės vykdymas įmonėse, įstaigose, organizacijose | G21: Vyr. specialistas (kalbos tvarkytoja) | H21: SBVB | I21: 8.5 | J21: 8.5 | K21: Atliktų patikrinimų (įmonių, įstaigų, organizacijų) skaičius | L21: 20 | M21: 21 | N21: Įvykdyta. Pagal planą 2021 m. patikrintas 21 objektas (Kėdainių fabrikai, Kėdainiuose įsteigtos parduotuvės, restoranai, kavinės). Tikrinti dokumentai, užrašai, interneto svetainės. Taip pat suteikta apie 300 kalbos konsultacijų, parašyti 90 kalbinių straipsnių ir straipsnelių, koordinuoti ir organizuoti kalbiniai renginiai
E22: 2 | F22: Metodinių patarimų, straipsnių žiniasklaidoje, interneto svetainėje rengimas
E23: 3 | F23: Fizinių bei juridinių asmenų konsultavimas
A24: 01 | B24: 02 | C24: 05 | D24: Koordinuoti koordinuotai teikiamas paslaugas vaikams nuo gimimo iki 18 m. ir vaiko atstovams | E24: 1 | F24: Už vaiko saugumą ir gerovę atsakingų institucijų veiksmų suderinamumas, teikiant koordinuotas paslaugas | G24: Vyr. specialistas (tarpinstitucinio bendradarbiavimo koordinatorius) | H24: SBVB | I24: 18.8 | J24: 18.8 | K24: Suorganizuotų vaiko gerovės komisijų posėdžių skaičius | L24: 5 | M24: 6 | N24: Įvykdyta. Vykdytas už vaiko saugumą ir gerovę atsakingų institucijų (vaiko teisių apsaugos, įvaikinimo, globos, socialinių įstaigų, policijos) veiksmų suderinamumas, teikiant koordinuotas paslaugas. 2022 m. organizuoti 6 posėdžiai, svarstyta 15 atvejų, 5-paskirtos minimalios priežiūros priemonės.
A25: 01 | B25: 02 | C25: 06 | D25: Vykdyti jaunimo teisių apsaugą | E25: 1 | F25: Savivaldybės jaunimo politikos programų ir priemonių rengimas bei įgyvendinimas | G25: Vyr. specialistė (jaunimo reikalų koordinatorė) | H25: SBVB | I25: 20 | J25: 20 | K25: Aktyvaus jaunimo dalis, proc. nuo bendro rajono jaunimo skaičiaus | L25: 10 | M25: 10 | N25: Įvykdyta. Rajono jaunimo ir su jaunimu dirbančios organizacijos, jauni žmonės buvo informuojami ir konsultuojami jiems aktualiais klausimais, organizuotas rajono jaunimo iniciatyvų projektų, atvirųjų jaunimo erdvių konkursai, koordinuota mokinių savivaldos programa, Jaunimo vasaros užimtumo ir integracijos į darbo rinką programa, pirmą kartą organizuota Tarptautinės jaunimo dienos renginys
E26: 2 | F26: Savivaldybės institucijų bei įstaigų veiklos koordinavimas jaunimo politikos srityje
E27: 3 | F27: Duomenų apie savivaldybės teritorijoje gyvenančio jaunimo padėties rinkimas ir sisteminimas, pokyčių analizė, išvadų ir pasiūlymų teikimas
A28: 01 | B28: 02 | C28: 07 | D28: Teikti pirminę teisinę pagalbą | E28: 1 | F28: Lietuvos Respublikos valstybės garantuojamos teisinės pagalbos įstatymo nustatyta tvarka teisinės informacijos, teisinės konsultacijos teikimas, valstybės ir savivaldybių institucijoms skirtų dokumentų rengimas, išskyrus procesinius dokumentus | G28: Teisės ir personalo skyrius | H28: SBVB | I28: 14.5 | J28: 14.5 | K28: Suteiktos teisinės pagalbos atvejų skaičius | L28: 800 | M28: 713 | N28: Įvykdyta. Valstybės garantuojama pirminė teisinė pagalba suteikta 713 asmenų t.y. 4,5 proc. daugiau nei 2021 m. Didžioji atvejų dalis susijusi su Civiline teise ir civiliniu procesu bei su Šeimos teise.
E29: 2 | F29: Patarimų dėl ginčo išsprendimo ne teismo tvarka, veiksmų dėl taikaus ginčo išsprendimo teikimas, taikos sutarties parengimas
A30: 01 | B30: 02 | C30: 08 | D30: Teikti duomenis Valstybės suteiktos pagalbos registrui | E30: 1 | F30: Duomenų teikimas Konkurencijos tarybai | G30: Biudžeto ir finansų skyrius | H30: SBVB | I30: 1.3 | J30: 1.3 | K30: Duomenų teikimo skaičius | L30: 12 | M30: 12 | N30: Įvykdyta. Funkciją vykdo Biudžeto ir finansų skyrius
A31: 01 | B31: 02 | C31: 09 | D31: Vykdyti valstybinės žemės ir kito turto valdymo, naudojimo ir disponavimo juo patikėjimo teise, funkciją | E31: 1 | F31: Valstybinės žemės ir kito turto perėmimo procedūrų vykdymas | G31: Turto valdymo skyrius, Architektūros ir urbanistikos skyrius | H31: SBVB | I31: 0.3 | J31: 0.3 | K31: Savivaldybei patikėjimo teise perduotų valstybinės žemės sklypų skaičius | L31: 1 | M31: 0 | N31: Vykdoma pagal poreikį. Nebuvo priimta sprendimų dėl valstybinių žemės sklypų perėmimo savivaldybės nuosavybėn
A32: 01 | B32: 02 | C32: 11 | D32: Įgyvendinti Kėdainių rajono savivaldybės užimtumo didinimo programą | E32: 1 | F32: Priemonės kordinavimas | G32: Socialinės paramos skyrius | H32: SBVB | I32: 14 | J32: 11.5 | K32: Funkcijos administravimas | L32: 100 | M32: 100 | N32: Įvykdyta. Įgyvendinant darbo rinkos politiką ir gyventojų užimtumo programą, 2022 m. rajone įdarbinti 74 asmenys
A33: 01 | B33: 02 | C33: Iš viso uždaviniui | I33: =SUM(I18:I32) -> 158.6 | J33: =SUM(J18:J32) -> 156
A34: 01 | B34: 03 | C34: Užtikrinti finansavimą nenumatytoms išlaidoms dengti bei valdyti prisiimtus finansinius įsipareigojimus
A35: 01 | B35: 03 | C35: 01 | D35: Įgyvendinti priemones, finansuojamas iš Savivaldybės administracijos direktoriaus rezervo | E35: 1 | F35: Ekstremalių situacijų/ įvykių padarytų nuostolių apmokėjimas | G35: Apskaitos skyrius | H35: SB | I35: 55 | J35: 6.5 | K35: Rezervo panaudojimo proc. | L35: 100 | M35: 12 | N35: Įvykdyta. Fondo lėšos panaudotos COVID-19 ligos padariniams šalinti ir jos plitimui valdyti, esant valstybės lygio ekstremaliai situacijai. Įsigytos Covid prevencinės priemonės, apmokėta (pagal pasirašytą sutartį) už asmenų pavežėjimą, įtariant Covid-19 ligą į patikros punktą. 2022 m. administracijai iš valstybės biudžeto kompensuotos išlaidos patirtos 2021/2022 m.
A36: 01 | B36: 03 | C36: 02 | D36: Įgyvendinti priemones, finansuojamas iš Savivaldybės mero fondo | E36: 1 | F36: Fondo administravimas | G36: Apskaitos skyrius | H36: SB | I36: 30 | J36: 28.4 | K36: Fondo panaudojimo proc. | L36: 100 | M36: 94.7 | N36: Įvykdyta. Fondo lėšos panaudotos pagal tarybos nustatytą tvarką, neviršijant bendrų savivaldybės reprezentacijai skirtų lėšų
A37: 01 | B37: 03 | C37: 03 | D37: Grąžinti paskolas, skolas, palūkanas | E37: 1 | F37: Finansinių įsipareigojimų vykdymas | G37: Biudžeto ir finansų skyrius | H37: SB | I37: 95 | J37: 83.1 | K37: Finansinių įsipareigojimų vykdymo savalaikiškumas, proc. | L37: 100 | M37: 100 | N37: Įvykdyta. Pagal grafiką grąžintos paskolos, mokėtos palūkanos
H38: SB | I38: 48.1 | J38: 48.1
H39: SB
H40: SK | I40: 1169.7 | J40: 1169.7
A41: 01 | B41: 03 | C41: 04 | D41: Kompensuoti UAB "Kėdbusas" nuostolingus maršrutus | E41: 1 | F41: Duomenų ir pateisinamųjų dokumentų iš vežėjų rinkimas, sisteminimas, analizė ir teikimas Apskaitos, Biudžeto ir finansų skyriams | G41: Turto valdymo skyrius | H41: SB | I41: 900.3 | J41: 900.3 | K41: Patvirtintų pavėžėjimo išlaidų kompensavimas | L41: 100 | M41: 100 | N41: Įvykdyta. Lėšos skirtos vežėjo patirtų nuostolių už keleivių vežimą vietinio (miesto ir priemiestinio) reguliaraus susisiekimo autobusų maršrutais kompensavimui
A42: 01 | B42: 03 | C42: 05 | D42: Kompensuoti dalį išlaidų savivaldybėms, siekiant šalinti COVID-19 ligos (koronaviruso infekcijos) padarinius ir valdyti jos plitimą, esant valstybės lygio ekstremaliai situacijai | E42: 1 | F42: Ekstremalių situacijų/ įvykių padarytų nuostolių apmokėjimas, priemonių įsigijimas | G42: Apskaitos skyrius | H42: SBVB | I42: 22.3 | J42: 22.1 | K42: Finansinių įsipareigojimų vykdymas, proc. | L42: 100 | M42: 100 | N42: Įvykdyta. Kompensuota dalis išlaidų, patirtų šalinant COVID-19 ligos padarinius ir valdant jos plitimą, esant valstybės lygio ekstremaliai situacijai
A43: 01 | B43: 03 | C43: 06 | D43: Kompensuoti savivaldybės patirtas išlaidas valdant nepaprastąją padėtį dėl užsieniečių, pasitraukusių iš Ukrainos dėl Rusijos federacijos karinių veiksmų Ukrainoje | E43: 1 | F43: Priemonės koordinavimas | G43: Administracijos direktorius | H43: SBVB | I43: 9.8 | J43: 9.8 | K43: Įstaigų, kurioms kompensuojamos išlaidos / asmenų, pasitraukusių iš Ukrainos dėl Rusijos Federacijos karinių veiksmų Ukrainoje, skaičius | L43: 3/24 | M43: 2/28 | N43: Įvykdyta. Kompensuotos patirtos išlaidos (komunalinės, dalis priemonių) iš Ukrainos pasitraukusiems asmenims, gyvenantiems Pagalbos šeimai centre (15 asm) bei Spindulio mokykloje (13 asm)
A44: 01 | B44: 03 | C44: Iš viso uždaviniui | I44: =SUM(I35:I43) -> 2330.2 | J44: =SUM(J35:J43) -> 2268
A45: 01 | B45: Iš viso tikslui | I45: =+I44+I33+I16 -> 6699.2 | J45: =+J44+J33+J16 -> 6712.5
A46: 02 | B46: Gerinti Kėdainių rajono savivaldybės tarybos ir administracijos komunikavimo ir įvaizdžio formavimo funkcijas
A47: 02 | B47: 01 | C47: Užtikrinti savivaldybės veiklos viešumą, gerinti komunikavimo ryšį su rajono bendruomenės nariais
A48: 02 | B48: 01 | C48: 01 | D48: Tobulinti Kėdainių rajono savivaldybės tarybos ir administracijos komunikaciją su bendruomene ir visuomenės informavimą | E48: 1 | F48: Komunikacijos su bendruomene ir visuomenės informavimo koordinavimas | G48: Administracijos direktorius | H48: SB | I48: 29.5 | J48: 17.2 | K48: Informacijos apie Savivaldybės veiklą, sprendimus, projektus, renginius spaudoje, interneto svetainėje, televizijoje, socialiniuose tinkluose, leidiniuose ir kt. žiniasklaidos priemonėse skleidimas | L48: 100 | M48: ~130 | N48: Įvykdyta. Informacija apie savivaldybės administracijos, tarybos vykdomą veiklą viešinta respublikinėje, vietinėje spaudoje, televizijoje, savivaldybės internetiniame tinklapyje. Daugiau komunikuota socialiniuose tinkluose, informacija teikta internetinėje svetainėje
A49: 02 | B49: 01 | C49: Iš viso uždaviniui | I49: =+I48 -> 29.5 | J49: =+J48 -> 17.2
A50: 02 | B50: 02 | C50: Plėtojant dalykinius santykius ir ryšius su tarptautinėmis ir vietinėmis institucijomis bei organizacijomis, stiprinti rajono įvaizdį
A51: 02 | B51: 02 | C51: 01 | D51: Dalyvauti Lietuvos savivaldybių asociacijos veikloje | E51: 1 | F51: Dalyvavimas LSA veikloje, sprendžianti narių – savivaldybių bendruosius klausimus | G51: Administracijos direktorius | H51: SB | I51: 20 | J51: 20 | K51: Veikloje dalyvaujančių partnerių skaičius | L51: 59 | M51: 59 | N51: Įvykdyta. Dalyvauta regioninio, tarptautinio bendradarbiavimo susitikimuose, renginiuose, forumuose, diskusijose
A52: 02 | B52: 02 | C52: 02 | D52: Dalyvauti Kauno regiono plėtros agentūros veikloje | E52: 1 | F52: Kauno apskrities savivaldybių regioninis bendradarbiavimas, kvalifikacijos tobulinimas, projektų įgyvendinimas | G52: Administracijos direktorius | H52: SB | I52: 15 | J52: 15 | K52: Programų, kuriose dalyvauja savivaldybė, skaičius | L52: 4 | M52: 4
A53: 02 | B53: 02 | C53: Iš viso uždaviniui | I53: =SUM(I51:I52) -> 35 | J53: =SUM(J51:J52) -> 35
A54: 02 | B54: Iš viso tikslui | I54: =+I53+I49 -> 64.5 | J54: =+J53+J49 -> 52.2
A55: 03 | B55: Gerinti savivaldybės administracijos darbo kokybę, atnaujinant (diegiant) informacines sistemas, kompiuterinę įrangą, užtikrinant sisteminį viešųjų ir administracinių paslaugų modernizavimą
A56: 03 | B56: 01 | C56: Organizuoti savivaldybės veiklą vadovaujantis šiuolaikiniais vadybos principais, tobulinti darbuotojų kompetenciją
A57: 03 | B57: 01 | C57: 01 | D57: Užtikrinti informacinių technologijų plėtrą savivaldybės administracijoje, kelti elektroninių paslaugų brandos lygį, naudoti elektroninį parašą | E57: 1 | F57: IT įrangos, programų, IS atnaujinimo viešųjų pirkimų organizavimas, įdiegtų programų, IS priežiūra ir plėtros organizavimas | G57: Bendrasis skyrius | H57: SB | I57: 161 | J57: 116.9 | K57: Atnaujintos/prižiūrimos IT įrangos skaičius | L57: 50 | M57: 46 | N57: Įvykdyta. Įsigytos antivirusinės programos, licencijos, kompiuteriai, skeneriai, vykdyta IT programų priežiūra, IT įrangos remontas
A58: 03 | B58: 01 | C58: Iš viso uždaviniui | I58: =SUM(I57:I57) -> 161 | J58: =SUM(J57:J57) -> 116.9
A59: 03 | B59: Iš viso tikslui | I59: =+I58 -> 161 | J59: =+J58 -> 116.9
A60: 04 | B60: Didinti saugumą rajone
A61: 04 | B61: 01 | C61: Užtikrinti rajono gyventojų viešąją tvarką ir viešąjį saugumą
A62: 04 | B62: 01 | C62: 01 | D62: Finansuoti prevencinę programą „Saugios aplinkos kūrimas ir bendruomenės teisėtvarkos kūrimas" | E62: 1 | F62: Įgyvendinamų programos priemonių koordinavimas | G62: Bendrasis skyrius | H62: SB | I62: 2 | J62: 2 | K62: Įgyvendintų prevencinių priemonių skaičius | L62: 2 | M62: 2 | N62: Įvykdyta. Organizuoti teisinių žinių konkursai „Būk saugus“, „Temidė“, konferencija „Nepilnamečių nusikalstamumas“, vykdytos prevencinės priemonės „Sveikas Rugsėji“, skatinti jaunieji policijos rėmėjai, kurių 2022 m. buvo 8. Jie savanorišką veiklą vykdė 596 valandas.
A63: 04 | B63: 01 | C63: 03 | D63: Organizuoti civilinę saugą | E63: 1 | F63: Civilinės saugos ekstremaliųjų situacijų valdymo plano prevencinių priemonių rengimas (atnaujinimas) | G63: Vyr. specialistas (civilinei ir priešgaisrinei saugai) | H63: SBVB | I63: 46.5 | J63: 46.4 | K63: Įgyvendintų ekstremaliųjų situacijų prevencijos priemonių planą vykdymo procentas | L63: 100 | M63: 100 | N63: Įvykdyta. Pagal ekstremaliųjų situacijų prevencijos priemonių planą 2021 m. numatytos 62 prevencinės priemonės įvykdytos. 2022 m. įvyko 2 Ekstremaliųjų situacijų komisijos posėdžiai. 2022 m. rajone įvyko 6 ekstremalūs įvykiai; dėl jų nukentėjusių žmonių nebuvo. Kėdainių mieste ir rajone pasirinkti 29 Savivaldybei priklausantys pastatai, kuriuose gali būti priimta ir užtikrinamos būtinos laikinam gyvenimui sąlygos beveik 11 tūkst. žmonių. Taip pat pasirinkti ir pažymėti 25 pastatai su ženklu "Priedanga", kuriuose galima sutalpinti 5660 žmonių. Organizuoti civilinės saugos bei civilinės gynybos seminarai, mokymai
E64: 2 | F64: Administracijos struktūrinių padalinių, įstaigų, įmonių darbų saugos patikrinimų vykdymas, priešgaisrinės tarnybos parengties kontroliavimas
E65: 3 | F65: Rajono civilinės saugos perspėjimo sistemos būklės kontroliavimas, civilinės saugos mokymų organizavimas
A66: 04 | B66: 01 | C66: 04 | D66: Vykdyti mobilizacijos administravimą | E66: 1 | F66: Pasirengimo mobilizacijai, demobilizacijai ir priimančios šalies paramos teikimo administravimas | G66: Vyr. specialistas (mobilizacijai ir civilinei saugai) | H66: SBVB | I66: 30.1 | J66: 28.8 | K66: Parengtų mobilizacijos planų skaičius | L66: 1 | M66: 1 | N66: Įvykdyta. 2022 m. parengti ir įvykdyti Mobilizacijos bei Priimančios šalies paramos teikimo mokymo planas. Taip pat sudaryta Mobilizacijos valdymo grupė ir parengti jos nuostatai, organizuoti tęstiniai pilietinio (neginkluoto) pasipriešinimo mokymai
E67: 2 | F67: Duomenų rinkimas, sisteminimas, savivaldybės mobilizacijos plano rengimas
E68: 3 | F68: Mobilizacinio ar priimančios šalies paramos teikimo mokymo organizavimas, koordinavimas
A69: 04 | B69: 01 | C69: 05 | D69: Modernizuoti gyventojų perspėjimo sistemą bei įrengti Ekstremalių situacijų operacijų centro patalpas | E69: 1 | F69: Priemonės įgyvendinio organizavimas | G69: Vyr. specialistas (civilinei saugai) | H69: SB | I69: 26 | J69: 26 | K69: Įrengta Ekstremaliųjų situacijų operacijų centro patalpa/Diegiamų šiuolaikinių elektroninių akustinių sirenų skaičius | L69: 1/0 | M69: 1/1 | N69: Vykdoma. Baigta įrengti ekstremalių situacijų valdymo patalpa: sumontuota ventiliacija, atnaujintos patalpos, įsigytas elektros generatorius. Pašilių kolektyviniuose soduose pastatyta nauja akustinė sirena. Iš viso turimos 29 centralizuoto valdymo elektros sirenos
A70: 04 | B70: 01 | C70: 06 | D70: Užtikrinti gyventojų saugumą, diegiant vaizdo stebėjimo ir saugumo priemones mieste | E70: 1 | F70: Vaizdo stebėjimo sistemos ir transporto priemonių greičio, raudono šviesoforo signalo pažeidimo fiksavimo sistemos įrangos nuomos, šių sistemų įrengimo ir priežiūros sutarties koordinavimas | G70: Bendrasis skyrius | H70: SB | I70: 167.4 | J70: 79.7 | K70: Stebėjimo vietų viešosiose erdvėse skaičius | L70: 67 | M70: 49 | N70: Vykdoma. Kėdainių mieste viešąsias erdves stebi 42 vaizdo kameros. Taip pat naudojamos 6 kilnojamosios kameros, kurių vietos nuolat keičiamos pagal prašymus ar poreikį ir 1 stacionari. Mieste 2022 m. buvo fiksuoti 1048 įvairūs atvejai apie galimus teisės pažeidimus, pagal kuriuos buvo atlikti aplinkybių tikslinimai
A71: 04 | B71: 02 | C71: Iš viso uždaviniui | I71: =SUM(I62:I70) -> 272 | J71: =SUM(J62:J70) -> 182.9
A72: 04 | B72: Iš viso tikslui | I72: =+I71 -> 272 | J72: =+J71 -> 182.9
A73: Iš viso programai | I73: =+I72+I59+I54+I45 -> 7196.7 | J73: =+J72+J59+J54+J45 -> 7064.5
A74: Finansavimo šaltiniai | I74: =+I73-I75-I82 -> 0 | J74: =+J73-J75-J82 -> 0
A75: SAVIVALDYBĖS LĖŠOS | I75: =SUM(I76:I81) -> 7196.7 | J75: =SUM(J76:J81) -> 7064.5
A76: Savivaldybės biudžetas SB | I76: =+I70+I62+I57+I52+I51+I48+I41+I37+I36+I35+I11+I38+I39+I69 -> 5736.8 | J76: =+J70+J62+J57+J52+J51+J48+J41+J37+J36+J35+J11+J38+J39+J69 -> 5620.9
A77: Valstybės biudžeto specialiosios tikslinės dotacijos lėšos SBVB | I77: =+I66+I63+I32+I30+I28+I25+I24+I21+I20+I19+I18+I42+I31+I43 -> 267.3 | J77: =+J66+J63+J32+J30+J28+J25+J24+J21+J20+J19+J18+J42+J31+J43 -> 263.1
A78: Aplinkos apsaugos rėmimo specialiosios programos lėšos AA
A79: Iš pajamų už suteiktas paslaugas lėšos ĮP | I79: =+I14 -> 22.9 | J79: =+J14 -> 10.8
A80: Skolintos lėšos SK | I80: =+I40 -> 1169.7 | J80: =+J40 -> 1169.7
A81: Kelių priežiūros ir plėtros programos lėšos KPP
A82: KITOS LĖŠOS | I82: =SUM(I83:I86) -> 0 | J82: =SUM(J83:J86) -> 0
A83: Europos Sąjungos lėšos, užsienio fondų lėšos ES
A84: Valstybės biudžeto lėšos VB
A85: Privačios – investuotojų lėšos PR
A86: Kiti finansavimo šaltiniai KT

Sheet Lešu poreikis iš viso
A2: Finansavimas 2022 m. programų vykdymui
A4: Finansavimo šaltinis | F4: Numatomi 2022-ųjų m. asignavimai | G4: Panaudoti 2022-ųjų m. asignavimai
A9: IŠ VISO PROGRAMOMS | F9: =+'01šviet.'!I45+'02sveikat.'!I43+'03social.'!I67+'04sport.'!I42+'05kultura'!I55+'06turizm_paveld'!I49+'07Infrastr.'!I122+'08aplinkosauga'!I58+'09ž.ū.'!I37+'10verslas'!I27+'11valdym.'!I73 -> 42559.4 | G9: =+'01šviet.'!J45+'02sveikat.'!J43+'03social.'!J67+'04sport.'!J42+'05kultura'!J55+'06turizm_paveld'!J49+'07Infrastr.'!J122+'08aplinkosauga'!J58+'09ž.ū.'!J37+'10verslas'!J27+'11valdym.'!J73 -> 39659.3
A10: Finansavimo šaltiniai | F10: =+F9-F11-F18 -> 0 | G10: =+G9-G11-G18 -> 0
A11: SAVIVALDYBĖS LĖŠOS | F11: =+'01šviet.'!I47+'02sveikat.'!I45+'03social.'!I69+'04sport.'!I44+'05kultura'!I57+'06turizm_paveld'!I51+'07Infrastr.'!I124+'08aplinkosauga'!I60+'09ž.ū.'!I39+'10verslas'!I29+'11valdym.'!I75 -> 26680.4 | G11: =+'01šviet.'!J47+'02sveikat.'!J45+'03social.'!J69+'04sport.'!J44+'05kultura'!J57+'06turizm_paveld'!J51+'07Infrastr.'!J124+'08aplinkosauga'!J60+'09ž.ū.'!J39+'10verslas'!J29+'11valdym.'!J75 -> 24808.6
A12: Savivaldybės biudžetas SB | F12: =+'01šviet.'!I48+'02sveikat.'!I46+'03social.'!I70+'04sport.'!I45+'05kultura'!I58+'06turizm_paveld'!I52+'07Infrastr.'!I125+'08aplinkosauga'!I61+'09ž.ū.'!I40+'10verslas'!I30+'11valdym.'!I76 -> 16876.7 | G12: =+'01šviet.'!J48+'02sveikat.'!J46+'03social.'!J70+'04sport.'!J45+'05kultura'!J58+'06turizm_paveld'!J52+'07Infrastr.'!J125+'08aplinkosauga'!J61+'09ž.ū.'!J40+'10verslas'!J30+'11valdym.'!J76 -> 15543.1 | I12: 15931.6 | J12: =+G12+G14 -> 15937
A13: Valstybės biudžeto specialiosios tikslinės dotacijos lėšos SBVB | F13: =+'01šviet.'!I49+'02sveikat.'!I47+'03social.'!I71+'04sport.'!I46+'05kultura'!I59+'06turizm_paveld'!I53+'07Infrastr.'!I126+'08aplinkosauga'!I62+'09ž.ū.'!I41+'10verslas'!I31+'11valdym.'!I77 -> 4747.3 | G13: =+'01šviet.'!J49+'02sveikat.'!J47+'03social.'!J71+'04sport.'!J46+'05kultura'!J59+'06turizm_paveld'!J53+'07Infrastr.'!J126+'08aplinkosauga'!J62+'09ž.ū.'!J41+'10verslas'!J31+'11valdym.'!J77 -> 4688.4
A14: Aplinkos apsaugos rėmimo specialiosios programos lėšos AA | F14: =+'01šviet.'!I50+'02sveikat.'!I48+'03social.'!I72+'04sport.'!I47+'05kultura'!I60+'06turizm_paveld'!I54+'07Infrastr.'!I127+'08aplinkosauga'!I63+'09ž.ū.'!I42+'10verslas'!I32+'11valdym.'!I78 -> 455.5 | G14: =+'01šviet.'!J50+'02sveikat.'!J48+'03social.'!J72+'04sport.'!J47+'05kultura'!J60+'06turizm_paveld'!J54+'07Infrastr.'!J127+'08aplinkosauga'!J63+'09ž.ū.'!J42+'10verslas'!J32+'11valdym.'!J78 -> 393.9 | J14: =+J12-I12 -> 5.4
A15: Iš pajamų už suteiktas paslaugas lėšos ĮP | F15: =+'01šviet.'!I51+'02sveikat.'!I49+'03social.'!I73+'04sport.'!I48+'05kultura'!I61+'06turizm_paveld'!I55+'07Infrastr.'!I128+'08aplinkosauga'!I64+'09ž.ū.'!I43+'10verslas'!I33+'11valdym.'!I79 -> 22.9 | G15: =+'01šviet.'!J51+'02sveikat.'!J49+'03social.'!J73+'04sport.'!J48+'05kultura'!J61+'06turizm_paveld'!J55+'07Infrastr.'!J128+'08aplinkosauga'!J64+'09ž.ū.'!J43+'10verslas'!J33+'11valdym.'!J79 -> 10.8
A16: Skolintos lėšos SK | F16: =+'01šviet.'!I52+'02sveikat.'!I50+'03social.'!I74+'04sport.'!I49+'05kultura'!I62+'06turizm_paveld'!I56+'07Infrastr.'!I129+'08aplinkosauga'!I65+'09ž.ū.'!I44+'10verslas'!I34+'11valdym.'!I80 -> 1569.7 | G16: =+'01šviet.'!J52+'02sveikat.'!J50+'03social.'!J74+'04sport.'!J49+'05kultura'!J62+'06turizm_paveld'!J56+'07Infrastr.'!J129+'08aplinkosauga'!J65+'09ž.ū.'!J44+'10verslas'!J34+'11valdym.'!J80 -> 1169.7
A17: Kelių priežiūros ir plėtros programos lėšos KPP | F17: =+'01šviet.'!I53+'02sveikat.'!I51+'03social.'!I75+'04sport.'!I50+'05kultura'!I63+'06turizm_paveld'!I57+'07Infrastr.'!I130+'08aplinkosauga'!I66+'09ž.ū.'!I45+'10verslas'!I35+'11valdym.'!I81 -> 3008.3 | G17: =+'01šviet.'!J53+'02sveikat.'!J51+'03social.'!J75+'04sport.'!J50+'05kultura'!J63+'06turizm_paveld'!J57+'07Infrastr.'!J130+'08aplinkosauga'!J66+'09ž.ū.'!J45+'10verslas'!J35+'11valdym.'!J81 -> 3002.7
A18: KITOS LĖŠOS | F18: =+'01šviet.'!I54+'02sveikat.'!I52+'03social.'!I76+'04sport.'!I51+'05kultura'!I64+'06turizm_paveld'!I58+'07Infrastr.'!I131+'08aplinkosauga'!I67+'09ž.ū.'!I46+'10verslas'!I36+'11valdym.'!I82 -> 15879 | G18: =+'01šviet.'!J54+'02sveikat.'!J52+'03social.'!J76+'04sport.'!J51+'05kultura'!J64+'06turizm_paveld'!J58+'07Infrastr.'!J131+'08aplinkosauga'!J67+'09ž.ū.'!J46+'10verslas'!J36+'11valdym.'!J82 -> 14850.7
A19: Europos Sąjungos lėšos, užsienio fondų lėšos ES | F19: =+'01šviet.'!I55+'02sveikat.'!I53+'03social.'!I77+'04sport.'!I52+'05kultura'!I65+'06turizm_paveld'!I59+'07Infrastr.'!I132+'08aplinkosauga'!I68+'09ž.ū.'!I47+'10verslas'!I37+'11valdym.'!I83 -> 1908.2 | G19: =+'01šviet.'!J55+'02sveikat.'!J53+'03social.'!J77+'04sport.'!J52+'05kultura'!J65+'06turizm_paveld'!J59+'07Infrastr.'!J132+'08aplinkosauga'!J68+'09ž.ū.'!J47+'10verslas'!J37+'11valdym.'!J83 -> 1380.1
A20: Valstybės biudžeto lėšos VB | F20: =+'01šviet.'!I56+'02sveikat.'!I54+'03social.'!I78+'04sport.'!I53+'05kultura'!I66+'06turizm_paveld'!I60+'07Infrastr.'!I133+'08aplinkosauga'!I69+'09ž.ū.'!I48+'10verslas'!I38+'11valdym.'!I84 -> 13938.1 | G20: =+'01šviet.'!J56+'02sveikat.'!J54+'03social.'!J78+'04sport.'!J53+'05kultura'!J66+'06turizm_paveld'!J60+'07Infrastr.'!J133+'08aplinkosauga'!J69+'09ž.ū.'!J48+'10verslas'!J38+'11valdym.'!J84 -> 13438
A21: Privačios – investuotojų lėšos PR | F21: =+'01šviet.'!I57+'02sveikat.'!I55+'03social.'!I79+'04sport.'!I54+'05kultura'!I67+'06turizm_paveld'!I61+'07Infrastr.'!I134+'08aplinkosauga'!I70+'09ž.ū.'!I49+'10verslas'!I39+'11valdym.'!I85 -> 0 | G21: =+'01šviet.'!J57+'02sveikat.'!J55+'03social.'!J79+'04sport.'!J54+'05kultura'!J67+'06turizm_paveld'!J61+'07Infrastr.'!J134+'08aplinkosauga'!J70+'09ž.ū.'!J49+'10verslas'!J39+'11valdym.'!J85 -> 0
A22: Kiti finansavimo šaltiniai KT | F22: =+'01šviet.'!I58+'02sveikat.'!I56+'03social.'!I80+'04sport.'!I55+'05kultura'!I68+'06turizm_paveld'!I62+'07Infrastr.'!I135+'08aplinkosauga'!I71+'09ž.ū.'!I50+'10verslas'!I40+'11valdym.'!I86 -> 32.7 | G22: =+'01šviet.'!J58+'02sveikat.'!J56+'03social.'!J80+'04sport.'!J55+'05kultura'!J68+'06turizm_paveld'!J62+'07Infrastr.'!J135+'08aplinkosauga'!J71+'09ž.ū.'!J50+'10verslas'!J40+'11valdym.'!J86 -> 32.6
