Workbook

Sheet 01šviet.
L1: PATVIRTINTA
L2: Kėdainių rajono savivaldybės administracijos direktoriaus
L3: 2024 m. vasario 29 d. įsakymu Nr. AD-1-149
A5: Kėdainių rajono savivaldybės administracijos 2023 metų veiklos plano ataskaita
A6: Programos tikslo kodas | B6: Uždavinio kodas | C6: Priemonės kodas | D6: Priemonės pavadinimas | E6: Veiklos/darbo/ veiksmo kodas | F6: Veiklos/darbo/ veiksmo pavadinimas | G6: Atsakingi vykdytojai | H6: Finansavimo šaltinis | I6: Numatomi 2023-ųjų m. asignavimai, tūkst. Eur | J6: Panaudoti 2023-ųjų m. asignavimai, tūkst. Eur | K6: Proceso/indėlio vertinimo kriterijai
K7: Pavadinimas | L7: Planuota reikšmė | M7: Pasiekta reikšmė | N7: Nukrypimų nuo plano priežastys, pastabos, komentarai
A11: 01 ŠVIETIMAS IR UGDYMAS
A12: 01 | B12: Plėtoti kokybišką, visiems prieinamą, tęstinę švietimo sistemą savivaldybėje
A13: 01 | B13: 01 | C13: Sudaryti prielaidas ugdymo kokybei gerinti, mažinti ugdymo kokybės skirtumus tarp mokyklų, didinti pedagogų motyvaciją
A14: 01 | B14: 01 | C14: 07 | D14: Įgyvendinti mokytojų ir pagalbos mokiniui specialistų motyvacijos programą | E14: 1 | F14: Programos įgyvendinimo koordinavimas | G14: Švietimo skyrius | H14: SB | I14: 95 | J14: 75.9 | K14: Savivaldybės švietimo įstaigose dirbančių mokytojų, specialistų, kurie paskatinti, skaičius | L14: 780 | M14: 787 | N14: Programos lėšomis 780 mokytojų paskatinti už mokinių parengimą olimpiadoms ir pasiekimus, už inovatyvias ugdymo idėjas ir jų įgyvendinimą, 1 mokytojui kompensuotas būsto nuomos mokestis, 1 - vienkartinė materialinė 2 400 Eur išmoka (neatskaičius mokesčių) su sąlyga, kad į laisvą Pedagogo pareigybę švietimo įstaigoje priimtas asmuo įsipareigoja dirbti ne trumpiau kaip vienerius mokslo metus. 3 - apmokėta 100 proc. studijų kainos studentams, pasirinkusiems pedagogines studijas dalykų, kurių mokymui trūksta Pedagogų (studijas pedagogas privalo dirbti mokykloje pagal įgytą specialybę ne mažiau kaip 5 metus. 2 - iš dalies finansuotos persikvalifikuojančių Pedagogų studijų išlaidos, 1 - kompensuotos išlaidos organizuojant tarptautinį kvalifikacijos tobulinimo renginį (Šviesioji gimnazija su Rumunija)
A15: 01 | B15: 01 | C15: 11 | D15: Finansuoti vaikų vasaros stovyklų ir kitų neformaliojo vaikų švietimo veiklų programas | E15: 1 | F15: Programų konkurso organizavimas, konsultacijos, paraiškų ir sutarčių derinimas, veiklų stebėjimas, vertinimas, ataskaitų teikimas | G15: Švietimo skyrius | H15: SB | I15: 50 | J15: 50 | K15: Finansuotų vaikų vasaros poilsio ir užimtumo programų skaičius | L15: 36 | M15: 35 | N15: Finansuotos (konkurso būdu atrinktos) 25 vaikų vasaros poilsio ir užimtumo stovyklų programos, kuriose dalyvavo 734 vaikai, iš kurių 54 didelių ir labai didelių specialiųjų ugdymosi poreikių turintys vaikai. Dar 10 vasaros poilsio ir užimtumo stovyklų programos vykdytos vaikams gaunantiems nemokamą maitinimą. Jose dalyvavo 153 vaikai.
A16: 01 | B16: 01 | C16: 12 | D16: Skatinti savivaldybės gabius mokinius | E16: 1 | F16: Mokyklose besimokančių gabių mokinių, per vienerius mokslo metus pasiekusių puikių mokymosi rezultatų, įvertinimas ir paskatinimas | G16: Švietimo skyrius | H16: SB | I16: 9 | J16: 9 | K16: Mokinių, kuriems skirti piniginiai prizai, skaičius | L16: 153 | M16: 161 | N16: Už pasiekimus dalykinėse olimpiadose, konkursuose, meno festivaliuose ir sporto varžybose buvo atrinkti ir apdovanoti 149 mokiniai. Už pasiekimus brandos egzaminuose ir aukštus įvertinimus apdovanota 12 abiturientų.
A17: 01 | B17: 01 | C17: 13 | D17: Įgyvendinti "Tūkstantmečio mokyklos I" projektą | E17: 1 | F17: Projekto administravimas | G17: Strateginio planavimo ir investicijų skyrius, Švietimo skyrius | H17: ES | I17: 840 | J17: 811.2 | K17: Projekte dalyvaujančių mokyklų skaičius | L17: 4 | M17: 4 | N17: Pradėtos projekto įgyvendinimo veiklos pagal Pažangos priemonių planą. Projekte dalyvauja 4 mokyklos: "Atžalyno", Šviesioji gimnazijos, J. Paukštelio bei "Ryto" progimnazijos
A18: 01 | B18: 01 | C18: 14 | D18: Koofinansuoti ugdymo įstaigų dalyvavimą infrastruktūros gerinimo/modernizavimo projektuose | E18: 1 | F18: Priemonės koordinavimas | G18: Administracijos direktorius | H18: SB | I18: 5 | J18: 0.8 | K18: Įstaigų, kurioms skirtas finansavimas, skaičius | L18: 1 | M18: 1 | N18: Šėtos gimnazijai koofinansuotos išlaidos dalyvaujant projekte
A19: 01 | B19: 01 | C19: 15 | D19: Organizuoti ir užtikrinti Švietimo skyriaus specialistų darbą | E19: 1 | F19: Švietimo įstaigų veiklos koordinavimas, ugdymo proceso stebėjimas, analizavimas | G19: Švietimo skyrius | H19: SB | I19: 170.5 | J19: 155.9 | K19: Kuruojamų švietimo įstaigų skaičius | L19: 27 | M19: 27 | N19: Švietimo skyrius koordinavo 6 gimnazijų, Suaugusiųjų ir jaunimo mokymo centro, 3 progimnazijų, 5 pagrindinių mokyklų, mokyklos-darželio, 7 lopšelių-darželių, 3 neformaliojo vaikų švietimo mokyklų ir Švietimo pagalbos tarnybos veiklą. Ikimokyklinio ir priešmokyklinio ugdymo grupės veikė Josvainių ir Šėtos socialiniuose ugdymo centruose. Nuo 2023 m. rugsėjo 1 d., vykdant Mokyklų tinklo pertvarką, Miegėnų pagrindinė mokykla tapo Akademijos gimnazijos skyriumi
A20: 01 | B20: 01 | C20: 16 | D20: Teikti Metų mokytojo apdovanojimą | E20: 1 | F20: Savivaldybės mokytojų kompetencijų, veiklos rezultatų įvertinimas ir paskatinimas profesinei bei kūrybinei iniciatyvai | G20: Švietimo skyrius | H20: SB | I20: 3 | J20: 3 | K20: Įteiktų apdovanojimų skaičius | L20: 1 | M20: 1 | N20: Už puikius pedagoginio darbo rezultatus apdovanota Kėdainių Šviesiosios gimnazijos lietuvių kalbos ir literatūros mokytoja metodininkė A. Jakštienė
A21: 01 | B21: 01 | C21: Iš viso uždaviniui | I21: =SUM(I14:I20) -> 1172.5 | J21: =SUM(J14:J20) -> 1105.8
A22: 01 | B22: Iš viso tikslui | I22: =+I21 -> 1172.5 | J22: =+J21 -> 1105.8
A23: 02 | B23: Tobulinti ugdymo(si) infrastruktūrą, aplinką, diegti inovacijas
A24: 02 | B24: 01 | C24: Gerinti darbo ir mokymo(si) sąlygas savivaldybės švietimo įstaigose
A25: 02 | B25: 01 | C25: 01 | D25: Modernizuoti Kėdainių šviesiosios gimnazijos pastatą Kėdainiuose, Didžioji g. 60 | E25: 1 | F25: Rangos darbų koordinavimas, rangovo prisiimtų sutartinių įsipareigojimų vykdymo kontrolė | G25: Statybos ir turto skyrius | H25: SBVB | I25: 484 | J25: 484 | K25: Atlikta einamaisiais metais numatytų darbų, proc. | L25: 100 | M25: 100 | N25: Užbaigti naujojo pastato modernizavimo darbai, 2024 m. bus vykdomi gimnazijos įrengimo (įveiklinimo) darbai
H26: SK | I26: 0 | J26: 0
A27: 02 | B27: 01 | C27: 02 | D27: Remontuoti Kėdainių „Ryto“ progimnaziją, kuriant šiuolaikines mokymosi erdves | E27: 1 | F27: Priemonės įgyvendinimo koordinavimas | G27: Administracijos direktorius | H27: SB | I27: 20 | J27: 20 | K27: Įgyvendintų veiklų, modernizuojant edukacines erdves einamaisiais metais, proc. | L27: 100 | M27: 100 | N27: Progimnazijoje atnaujintos I aukšto erdvės, modernizuotas apšvietimas
A28: 02 | B28: 01 | C28: 03 | D28: Atnaujinti Lietuvos sporto universiteto Kėdainių „Aušros“ progimnaziją, kuriant modernias ir saugias erdves | E28: 1 | F28: Projekto koordinavimas, rangos darbų koordinavimas, rangovo prisiimtų sutartinių įsipareigojimų vykdymo kontrolė | G28: Statybos ir turto skyrius, Strateginio planavimo ir investicijų skyrius | H28: SB | I28: 171 | J28: 155.2 | K28: Įgyvendintų veiklų, atnaujinant progimnaziją bei modernizuojant edukacines erdves einamaisiais metais, proc. | L28: 100 | M28: 100 | N28: Užbaigti progimnazijos vidaus erdvių įrengimo darbai, įsigyta įranga ir baldai, modernizuota progimnazijos šildymo sistema
H29: SK | I29: 260 | J29: 260
H30: ES | I30: 22.4 | J30: 17
H31: VB | I31: 1.9 | J31: 1.5
A32: 02 | B32: 01 | C32: 04 | D32: Sudaryti saugias ugdymo sąlygas įstaigose, vykdančiose ugdymo programas | E32: 1 | F32: Priemonės įgyvendinimo koordinavimas | G32: Švietimo skyrius | H32: SB | I32: 63 | J32: 52.5 | K32: Įstaigų skaičius, kuriose atlikti remonto darbai | L32: 2 | M32: 3 | N32: Lopšelis-darželis "Aviliukas" teritorija apjuosta nauja tvora, lopšelio-darželio "Vyturėlis" pakeista dalis teritorijos juosiančios tvoros, J. Paukštelio progimnazija įsigijo elektroninių cigarečių sensorius
A33: 02 | B33: 01 | C33: 05 | D33: Įrengti vėdinimo ir kondicionavimo sistemas savivaldybės ugdymo įstaigose | E33: 1 | F33: Priemonės įgyvendinimo koordinavimas | G33: Švietimo skyrius | H33: SB | I33: 30 | J33: 30 | K33: Grupių, klasių ir egzaminų centrų skaičius, kuriose įrengta vėdinimo (kondicionavimo) sistema | L33: 23 | M33: 29 | N33: Darželių grupių bei dalies mokyklų klasių patalpose montuota vėdinimo (kondicionavimo) sistema
A34: 02 | B34: 01 | C34: 06 | D34: Įrengti gamtos ir technologijų mokslų laboratorijas | E34: 1 | F34: Priemonės įgyvendinimo koordinavimas | G34: Švietimo skyrius | H34: SB | I34: 50 | J34: 50 | K34: Įstaigų skaičius, kuriose įrengtos laboratorijos | L34: 4 | M34: 4 | N34: Laboratorijų įrangą, priemones įsigijo Šėtos, Josvainių, Krakių Mikalojaus Katkaus ir Akademijos gimnazijos
A35: 02 | B35: 01 | C35: 07 | D35: Atnaujinti Kėdainių muzikos mokyklos pastato fasadą, laiptus į rūsį | E35: 1 | F35: Techninio projekto rengimo paslaugos viešojo pirkimo konkurso organizavimas, sutarčių koordinavimas, teikėjo prisiimtų sutartinių įsipareigojimų vykdymo kontrolė | G35: Statybos ir turto skyrius | H35: SB | I35: 7 | J35: 7 | K35: Techninės dokumentacijos parengimo paslaugos pirkimas | L35: 1 | M35: 1 | N35: Parengtas mokyklos pastato atnaujinimo projektas
A36: 02 | B36: 01 | C36: 08 | D36: Parengti bendrojo ir ikimokyklinio ugdymo įstaigų (skyrių) pastatų modernizavimo technines dokumentacijas | E36: 1 | F36: Kėdainių l/d "Vyturėlis" ir Kėdainių l/d. "Varpelis" modernizavimo techninės dokumentacijos rengimo sutarčių koordinavimas, teikėjų prisiimtų sutartinių įsipareigojimų vykdymo kontrolė | G36: Statybos ir turto skyrius | H36: SB | I36: 18 | J36: 14.3 | K36: Parengtos techninės dokumentacijos skaičius | L36: 2 | M36: 2 | N36: Parengti Kėdainių lopšelių-darželių „Varpelis“ bei "Vyturėlis" pastatų modernizavimo techniniai projektai
A37: 02 | B37: 01 | C37: 11 | D37: Įdiegti saulės elektrinės pagamintos energijos kaupimo įrenginį Kėdainių r. Šėtos gimnazijoje | E37: 1 | F37: Priemonės įgyvendinimo koordinavimas | G37: Administracijos direktorius | H37: SB | I37: 15.7 | J37: 12.1 | K37: Įsigytas saulės energijos įrenginys, skaičius | L37: 1 | M37: 1 | N37: Įsigytas saulės elektrinės pagamintos energijos kaupimo įrenginys
A38: 02 | B38: 01 | C38: 12 | D38: Didinti Kėdainių lopšelio-darželio „Varpelis“ (Pavasario g. 8, Kėdainiai) pastato energinį efektyvumą, modernizuoti vidaus erdves | E38: 1 | F38: Rangos darbų viešojo pirkimo organizavimas, rangos darbų koordinavimas, rangovo prisiimtų sutartinių įsipareigojimų vykdymo kontrolė | G38: Statybos ir turto skyrius | H38: SK | I38: 426 | J38: 370.6 | K38: Pasiekta pastato energijos naudingumo klasė / atnaujintos vidaus erdvės | L38: B | M38: B | N38: Modernizuotas lopšelio darželio pastatas, pasiekta pastato energijos naudingumo B klasė, vykdyti įstaigos vidaus erdvių atnaujinimo darbai, kurie bus tęsiami ir 2024 m.
H39: SB | I39: 320 | J39: 278.1
H40: ES | I40: 426 | J40: 266.9
A41: 02 | B41: 01 | C41: 13 | D41: Didinti Kėdainių lopšelio-darželio „Vyturėlis“ (Josvainių g. 53, Kėdainiai) pastato energinį efektyvumą, modernizuoti vidaus erdves | E41: 1 | F41: Rangos darbų viešojo pirkimo organizavimas, rangos darbų koordinavimas, rangovo prisiimtų sutartinių įsipareigojimų vykdymo kontrolė | G41: Statybos ir turto skyrius | H41: SK | I41: 682 | J41: 619.1 | K41: Pasiekta pastato energijos naudingumo klasė / atnaujintos vidaus erdvės | L41: B | M41: B | N41: Modernizuotas lopšelio darželio pastatas, pasiekta pastato energijos naudingumo B klasė, vykdyti įstaigos vidaus erdvių atnaujinimo darbai, kurie bus tęsiami ir 2024 m.
H42: SB | I42: 600 | J42: 542.6
H43: ES | I43: 532 | J43: 296.4
A44: 02 | B44: 01 | C44: 14 | D44: Didinti ugdymo prieinamumą atskirtį patiriantiems vaikams | E44: 1 | F44: Investicijų projekto rengimo viešojo pirkimo organizavimas, dokumentacijos rengimo sutarties koordinavimas, teikėjų prisiimtų sutartinių įsipareigojimų vykdymo kontrolė | G44: Strateginio planavimo ir investicijų skyrius | H44: SB | I44: 10 | J44: 6 | K44: Parengta dokumentacija, vnt. | L44: 1 | M44: 1 | N44: Parengtas investicinis projektas atskirtį patiriantiems vaikams Kėdainių „Ryto“ ir Kėdainių Juozo Paukštelio progimnazijose, pateiktas projektinis pasiūlymas ES investicijos gauti
...

Sheet 02sveikat.
H1: PATVIRTINTA Kėdainių rajono savivaldybės administracijos direktoriaus 2023 m. vasario 10 d. įsakymu Nr.AD-1- 165 (Kėdainių rajono savivaldybės administracijos direktoriaus 2024 m. sausio d. įsakymo Nr.AD-1- redakcija)
A4: Programos tikslo kodas | B4: Uždavinio kodas | C4: Priemonės kodas | D4: Priemonės pavadinimas | E4: Veiklos/darbo/ veiksmo kodas | F4: Veiklos/darbo/ veiksmo pavadinimas | G4: Atsakingi vykdytojai | H4: Finansavimo šaltinis | I4: Numatomi 2023-ųjų m. asignavimai, tūkst. Eur | J4: Panaudoti 2023-ųjų m. asignavimai, tūkst. Eur | K4: Proceso/indėlio vertinimo kriterijai
K5: Pavadinimas | L5: Planuota reikšmė | M5: Pasiekta reikšmė | N5: Nukrypimų nuo plano priežastys, pastabos, komentarai
A9: 02 SVEIKATOS APSAUGA
A10: 01 | B10: Stiprinti ir išsaugoti gyventojų sveikatą
A11: 01 | B11: 01 | C11: Sudaryti sąlygas gyventojams stiprinti sveikatą, kurti ir plėtoti su sveikatos stiprinimu susijusias paslaugas
A12: 01 | B12: 01 | C12: 01 | D12: Vykdyti Visuomenės sveikatos rėmimo specialiosios programos priemones | E12: 1 | F12: Programos priemonių sveikatos projektų konkurso organizavimas, sutarčių su vykdytojais parengimas, priemonių įgyvendinimo koordinavimas ir kontrolė; užkrečiamųjų ligų plano priemonių vykdymo kontrolė | G12: Vyr. specialistė (savivaldybės gydytoja) | H12: AA | I12: 149 | J12: 106.3 | K12: Visuomenės sveikatos rėmimo specialiosios programos įgyvendinimas, proc. | L12: 100 | M12: 100 | N12: Programos lėšos skirtos profilaktinei onkologinių ligų patikrai (asmenims nepatenkantiems į nustatytas profilaktines sveikatos apsaugos ministerijos amžiaus grupes), visuomenės sveikatos stebėsenos ataskaitos rekomendacijų įgyvendinimui, psichikos sveikatos stiprinimui; nelaimingų atsitikimų ir traumų prevencijai; maudymosi vietų monitoringui. Iš viso suplanuotos ir įvykdytos 8 priemonės, t. y. 40 sveikatos projektams skirtas finansavimas
A13: 01 | B13: 01 | C13: 03 | D13: Peržiūrėti neveiksniais pripažintų asmenų būklę | E13: 1 | F13: Neveiksniais pripažintų asmenų būklės peržiūrėjimo organizavimas | G13: Socialinės paramos skyrius | H13: SBVB | I13: 1.8 | J13: 1.6 | K13: Asmenų, kurių neveiksnumas peržiūrėtas, skaičius | L13: 60 | M13: 64 | N13: Neveiksnių asmenų būklės peržiūrėjimo komisija peržiūrėjo 64 asmenų būklę
A14: 01 | B14: 01 | C14: 04 | D14: Gerinti pirminės asmens sveikatos priežiūros paslaugų teikimo prieinamumą tuberkuliozės srityje | E14: 1 | F14: Projekto, kurį vykdo Kėdainių PSPC, kofinansavimo užtikrinimas | G14: Administracijos direktorius | H14: SB | I14: 0.6 | J14: 0.01 | K14: Tuberkulioze sergančių pacientų, kuriems buvo suteiktos socialinės paramos priemonės tuberkuliozės gydymo metu | L14: 4 | M14: 4 | N14: Projektą įgyvendina Kėdainių PSPC. Projekto įgyvendinimo metu tuberkulioze sergantiems pacientams, ambulatorinio gydymo metu dalyti maisto talonai
A15: 01 | B15: 01 | C15: Iš viso uždaviniui | I15: =SUM(I12:I14) -> 151.4 | J15: =SUM(J12:J14) -> 107.91
A16: 01 | B16: Iš viso tikslui | I16: =+I15 -> 151.4 | J16: =+J15 -> 107.91
A17: 02 | B17: Gerinti sveikatos priežiūros paslaugų kokybę ir prieinamumą, plėsti paslaugų spektrą, atnaujinti materialinę aplinką
A18: 02 | B18: 01 | C18: Siekti gyventojų sveikatos išsaugojimo, gerinant sveikatos priežiūros paslaugų kokybę ir prieinamumą
A19: 02 | B19: 01 | C19: 01 | D19: Vykdyti E. sveikatos informacinės sistemos palaikymo ir tobulinimo VšĮ Kėdainių PSPC ir VšĮ Kėdainių ligoninėje 2022-2026 m. programą | E19: 1 | F19: Sutarčių su vykdytojais suderinimas, priemonių koordinavimas ir vykdymo kontrolė | G19: Vyr. specialistė (savivaldybės gydytoja) | H19: SB | I19: 20 | J19: 20 | K19: Atnaujintos ir E. sveikatos IS funkcionalumui pritaikytos įrangos kompl. skaičius | L19: 3 | M19: 4 | N19: Įgyvendinant programą vykdytas E. sveikatos IS funkcionalumų palaikymas (2 kompl.), įsigyti 2 kompl. aptarnavimo paslaugų.
A20: 02 | B20: 01 | C20: 02 | D20: Vykdyti Kėdainių rajono tuberkuliozės prevencijos, ankstyvosios diagnostikos, gydymo ir kontrolės 2023–2027 m. programą | E20: 1 | F20: Sutarčių su vykdytojais suderinimas, priemonių koordinavimas ir vykdymo kontrolė | G20: Vyr. specialistė (savivaldybės gydytoja) | H20: SB | I20: 1.8 | J20: 1.8 | K20: Atliktų tyrimų skaičius | L20: 1500 | M20: 1314 | N20: Programos lėšomis pirkti tuberkulino mėginiai, vykdyta rizikos grupių asmenų ankstyvoji diagnostika. Veiklos įgyvendinimo kriterijus pasiektas nepilnai, nes dalis rizikos grupių vaikų tėvų tyrimo atsisakė, kai kurie rizikos grupių vaikų nepavyko pasiekti dėl nedeklaruoto išvykimo ir kt. priežasčių
A21: 02 | B21: 01 | C21: 03 | D21: Vykdyti pirminės asmens sveikatos priežiūros paslaugų prieinamumo ir kokybės užtikrinimo Kėdainių rajono kaimiškųjų vietovių gyventojams 2017–2025 m. programą | E21: 1 | F21: Sutarčių su vykdytojais suderinimas, priemonių koordinavimas ir vykdymo kontrolė | G21: Vyr. specialistė (savivaldybės gydytoja) | H21: SB | I21: 75 | J21: 75 | K21: Kaimiškųjų vietovių gyventojų, kuriems suteiktos reikalingos medicininės (taip pat ir profilaktinio darbo) paslaugos | L21: 12000 | M21: 12108 | N21: Programos lėšomis dalinai finansuotos ambulatorijų ir medicinos punktų komunalinės išlaidos, pradėtos teikti Mobilaus medicinos punkto paslaugos
A22: 02 | B22: 01 | C22: 04 | D22: Vykdyti ambulatorinės akušerinės ir ginekologinės pagalbos kokybės gerinimo Kėdainių rajono savivaldybės moterims 2019-2024 m. programą | E22: 1 | F22: Sutarčių su vykdytojais suderinimas, priemonių koordinavimas ir vykdymo kontrolė | G22: Vyr. specialistė (savivaldybės gydytoja) | H22: SB | I22: 7 | J22: 6.1 | K22: Įsigytos įrangos skaičius/ vidutinis atliktų ultragarsinių tyrimų skaičius | L22: 285 | M22: 654 | N22: Programos lėšomis mokamos lizingo įmokos už įsigytą ultragarsinį aparatą. Vienas gydytojas vidutiniškai atliko 654 vnt. ultragarsinius tyrimus. Įstaigos specialistai tobulinosi echoskopijų srityje, todėl vienos konsultacijos metu iš karto atliekama ir echoskopija, kadangi didėja poreikis echoskopiniams ištyrimams
A23: 02 | B23: 01 | C23: 05 | D23: Vykdyti endoskopinių paslaugų prieinamumo ir kokybės gerinimo Kėdainių rajono savivaldybėje 2020-2025 m. programą | E23: 1 | F23: Sutarčių su vykdytojais suderinimas, priemonių koordinavimas ir vykdymo kontrolė | G23: Vyr. specialistė (savivaldybės gydytoja) | H23: SB | I23: 21.1 | J23: 21.1 | K23: Įsigytos įrangos skaičius / atliktų endoskopijų ir kolonoskopijų skaičius | L23: 1800 | M23: 2095 | N23: Programos lėšomis mokėtos lizingo įmokos už endoskopinę įrangą su vežimėliu bei endoskopų plovimo ir dezinfekavimo mašiną. Atlikta 1337 (metinio plano įvykdymas 96 proc.) endoskopijos ir 758 (metinio plano įvykdymas 217 proc.) kolonoskopijos tyrimų
A24: 02 | B24: 01 | C24: 06 | D24: Vykdyti mamografijos paslaugų tęstinumo, kokybės gerinimo Kėdainių rajono savivaldybėje 2020-2025 m. programą | E24: 1 | F24: Sutarčių su vykdytojais suderinimas, priemonių koordinavimas ir vykdymo kontrolė | G24: Vyr. specialistė (savivaldybės gydytoja) | H24: SB | I24: 19.1 | J24: 19.1 | K24: Įsigytos įrangos skaičius / atliktų mamografijų ir vertinimo paslaugų skaičius per metus | L24: 1800 | M24: 5814 | N24: Programos lėšomis mokamos lizingo įmokos už skaitmenizuoto mamografo įsigijimą, atlikta 5814 mamografijų ir vertinimo paslaugų. Aktyviai dirbta viešinimo srityje
A25: 02 | B25: 01 | C25: 07 | D25: Vykdyti anestezijos paslaugų vaikams ir suaugusiesiems kokybės gerinimo Kėdainių rajono savivaldybėje 2022-2027 m. programą | E25: 1 | F25: Sutarčių su vykdytojais suderinimas, priemonių koordinavimas ir vykdymo kontrolė | G25: Vyr. specialistė (savivaldybės gydytoja) | H25: SB | I25: 75.9 | J25: 75.9 | K25: Įsigytos įrangos skaičius /atliktų bendrųjų anestezijų skaičius per metus | L25: 1482 | M25: 1701 | N25: Finansuotos lizingo įmokos už įsigytus 2 vnt. anestezijos aparatų su paciento gyvybinių funkcijų montavimo sistema bei elektros energijos generatorius. Anestezijų skaičius padidėjo dėl įsigytos įrangos suteiktų galimybių atlikti daugiau dienos chirurgijos paslaugų ir kitų operacijų savalaikio užtikrinimo
A26: 02 | B26: 01 | C26: 08 | D26: Vykdyti rentgeno paslaugų atnaujinimo, kokybės gerinimo Kėdainių rajono savivaldybėje 2022-2027 m. programą | E26: 1 | F26: Sutarčių su vykdytojais suderinimas, priemonių koordinavimas ir vykdymo kontrolė | G26: Vyr. specialistė (savivaldybės gydytoja) | H26: SB | I26: 28.5 | J26: 25.7 | K26: Atliktų rentgenologinių tyrimų skaičius/trumpesnės registracijos rentgeno tyrimui eilės, dienomis | L26: 10000/ 4 d. | M26: 5015 | N26: Rentgeno aparatas pradėtas eksploatuoti nuo 2023 m. liepos mėn. Rentgeno paslaugų suteikta 5015 vnt., efektas registracijos rentgeno tyrimų eilei bus vertinamas 2024 m.
A27: 02 | B27: 01 | C27: 09 | D27: Vykdyti tinkamų ir saugių darbo sąlygų užtikrinimo, įrengiant vėdinimo bei kondicionavimo sistemas VšĮ Kėdainių ligoninėje 2023-2028 m. programą | E27: 1 | F27: Sutarčių su vykdytojais suderinimas, priemonių koordinavimas ir vykdymo kontrolė | G27: Vyr. specialistė (savivaldybės gydytoja) | H27: SB | I27: 50.7 | J27: 50.7 | K27: Patalpų, kuriose įrengta vėdinimo (kondicionavimo) sistema, skaičius | L27: 39 | M27: 50 | N27: Programos lėšomis įsigyti kondicionieriai įrengti pediatrijos, BPG terapijos skyriuose, iš dalies kaimiškosiose ambulatorijose. Kadangi vykdant viešuosius pirkimus sutaupyta lėšų, kondicionierių įsigyta daugiau nei planuota
A28: 02 | B28: 01 | C28: 10 | D28: Vykdyti tinkamų ir saugių darbo sąlygų užtikrinimo, įrengiant vėdinimo bei kondicionavimo sistemas VšĮ Kėdainių PSPC 2022-2026 m. programą | E28: 1 | F28: Sutarčių su vykdytojais suderinimas, priemonių koordinavimas ir vykdymo kontrolė | G28: Vyr. specialistė (savivaldybės gydytoja) | H28: SB | I28: 37.7 | J28: 37.4 | K28: Patalpų, kuriose įrengta vėdinimo (kondicionavimo) sistema, skaičius | L28: 29 | M28: 39 | N28: Programos lėšomis įsigyti kondicionieriai įrengti iš dalies palaikomojo gydymo, traumatologijos, vaikų ligų bei radiologijos skyriuose bei administracijoje. Kadangi vykdant viešuosius pirkimus sutaupyta lėšų, kondicionierių įsigyta daugiau nei planuota
A29: 02 | B29: 01 | C29: 11 | D29: Įgyvendinti žemo slenksčio paslaugų kokybės Kėdainių rajone užtikrinimo 2023-2027 m. programą | E29: 1 | F29: Sutarčių su vykdytojais suderinimas, priemonių koordinavimas ir vykdymo kontrolė | G29: Vyr. specialistė (savivaldybės gydytoja) | H29: SB | I29: 4.8 | J29: 4.8 | K29: Apsilankymai (kartais) žemo slenksčio paslaugų kabinetuose per metus | L29: 1000 | M29: 1653 | N29: Programos lėšomis teiktos stacionarios Žemo slenksčio kabinete ir mobilios paslaugos 1653 lankytojams, įsigytos priemonės (atrankiniai greitieji ŽIV, Hepatitų C, B, sifilio testai, vienkartinės dezinfekcinės, žaizdų gydymo priemonės, utilizavimo konteineriai ir transportavimo įranga (krepšiai) mobilioms paslaugoms teikti. Pasiektas didesnis rodiklis dėl papildomo finansavimo iš Respublikinio priklausomybės ligų centro.
A30: 02 | B30: 01 | C30: 12 | D30: Vykdyti kompiuterinės tomografijos paslaugų kokybės gerinimo Kėdainių rajono savivaldybėje 2023-2030 m. programą | E30: 1 | F30: Sutarčių su vykdytojais suderinimas, priemonių koordinavimas ir vykdymo kontrolė | G30: Vyr. specialistė (savivaldybės gydytoja) | H30: SB | I30: 122.1 | J30: 122.1 | K30: Įsigytos įrangos skaičius | L30: 1 | M30: 1 | N30: Programos lėšomis, įvykdžius viešuosius pirkimus, įsigytas tomografas, įmokėtos pradinė įmoka. Paslaugos bus pradėtos teikti nuo 2024 m.
A31: 02 | B31: 01 | C31: 13 | D31: Stiprinti vaikų, turinčių autizmo spektro ir kitų raidos sutrikimų, sveikatą, sudaryti galimybes siekti asmeninės pažangos, užtikrinti pilnaverčio socialinio dalyvavimo prielaidas | E31: 1 | F31: Sutarčių su vykdytojais suderinimas, priemonių koordinavimas ir vykdymo kontrolė | G31: Vyr. specialistė (savivaldybės gydytoja) | H31: SB | I31: 15 | J31: 15 | K31: Paslaugą gaunančių vaikų skaičius | L31: 15 | M31: 15 | N31: Reabilitacijos ir sveikatos stiprinimo paslaugos teiktos 15 vaikų, iš kurių 6 - su sunkia negalia, 6 - su vidutine negalia, 1 - su lengva negaliai 2- su kitais sutrikimais esantiems vaikams
A32: 02 | B32: 01 | C32: 14 | D32: Teikti Metų medicinos darbuotojo apdovanojimą | E32: 1 | F32: Metų mediko konkurso organizavimas | G32: Vyr. specialistė (savivaldybės gydytoja) | H32: SB | I32: 3 | J32: 3 | K32: Įteiktas Metų medicinos darbuotojo apdovanojimas | L32: 1 | M32: 1 | N32: Metų medikės vardas, premija ir sidabro ženklas „Už nuopelnus“ įteikta Kėdainių PSPC šeimos gydytojai Daivai Linai Lesevičienei
A33: 02 | B33: 01 | C33: 15 | D33: Vykdyti trūkstamos sveikatos priežiūros specialistų skatinimo dirbti VšĮ Kėdainių PSPC 2022-2026 m. programą | E33: 1 | F33: Sutarčių su vykdytojais suderinimas, priemonių koordinavimas ir vykdymo kontrolė | G33: Vyr. specialistė (savivaldybės gydytoja) | H33: SB | I33: 49 | J33: 48.1 | K33: Paskatintų specialistų skaičius / paskatų priemonių skaičius | L33: 22/5 | M33: 20/2 | N33: Programoje numatytomis skatinamosiomis priemonėmis pasinaudojo 5 atvykę specialistai (4 šeimos gydytojai ir 1 odontologas). Kitiems sveikatos priežiūros specialistams, gyvenantiems kituose miestuose, kompensuotos kelionės išlaidos
A34: 02 | B34: 01 | C34: 16 | D34: Vykdyti trūkstamos sveikatos priežiūros specialistų skatinimo dirbti VšĮ Kėdainių ligoninėje 2023-2026 m. programą | E34: 1 | F34: Sutarčių su vykdytojais suderinimas, priemonių koordinavimas ir vykdymo kontrolė | G34: Vyr. specialistė (savivaldybės gydytoja) | H34: SB | I34: 70 | J34: 70 | K34: Paskatintų specialistų skaičius / paskatų priemonių skaičius | L34: ~80/2 | M34: 87/2 | N34: Programoje numatytomis skatinamosiomis priemonėmis pasinaudojo 87 sveikatos priežiūros specialistai. Per 2023 m. VšĮ Kėdainių ligoninėje įdarbinti 38 nauji gydytojai. Kadangi nemaža dalis specialistų dirba mažiau dienų per savaitę, bet po daugiau valandų - važiavimų į darbą sumažėja. Todėl didesnis skaičius darbuotojų pasinaudojo kelionės išlaidų iš/į darbą kompensacija
A35: 02 | B35: 01 | C35: 17 | D35: Vykdyti VšĮ Kėdainių ligoninės sterilizacinės modernizavimo 2023-2028 m. programą | E35: 1 | F35: Sutarčių su vykdytojais suderinimas, priemonių koordinavimas ir vykdymo kontrolė | G35: Vyr. specialistė (savivaldybės gydytoja) | H35: SB | I35: 53.3 | J35: 53.3 | K35: Įsigytos dezinfekacijos ir sterilizavimo įrangos (lizingas) skaičius /sutrumpėjusi sterilizavimo proceso trukmė | L35: 13 | M35: 13 | N35: Vykdyti viešieji pirkimai, įsigyta dezinfekacijos ir sterilizavimo įranga iš 13 komponentų, įmokėta pradinė įmoka. Sterilizavimo proceso trukmė įsigijus modernią įrangą bus vertinama 2024 m.
A36: 02 | B36: 01 | C36: 18 | D36: Vykdyti pacientų eilių valdymo sistemos palaikymo VšĮ Kėdainių pirminės priežiūros centre 2022-2026 m. programą | E36: 1 | F36: Sutarčių su vykdytojais suderinimas, priemonių koordinavimas ir vykdymo kontrolė | G36: Vyr. specialistė (savivaldybės gydytoja) | H36: SB | I36: 3 | J36: 3 | K36: Pacientų, patenkintų eilių valdymo sistemos kokybe, skaičiaus didėjimas, proc. | L36: +5 | M36: +5 | N36: 2022 m. įsigyta ir sumontuota VŠĮ Kėdainių PSPC registratūroje Eilių valdymo sistema, kuri veikia efektyviai. Lėšų skirta sistemos palaikymui
A37: 02 | B37: 01 | C37: Iš viso uždaviniui | I37: =SUM(I19:I36) -> 657 | J37: =SUM(J19:J36) -> 652.1
A38: 02 | B38: Iš viso tikslui | I38: =+I37 -> 657 | J38: =+J37 -> 652.1
A39: 03 | B39: Pritaikyti viešąją infrastruktūrą sveikatos gerinimo poreikiams
A40: 03 | B40: 01 | C40: Modernizuoti ir atnaujinti sveikatos priežiūros vidaus ir išorės infrastruktūrą
A41: 03 | B41: 01 | C41: 03 | D41: Didinti pirminės asmens sveikatos priežiūros veiklos efektyvumą VšĮ Kėdainių pirminės sveikatos priežiūros centre | E41: 1 | F41: Projekto, kurį vykdo Kėdainių PSPC, kofinansavimo užtikrinimas | G41: Administracijos direktorius | H41: SB | I41: 3.4 | J41: 3.4 | K41: Viešąsias sveikatos priežiūros paslaugas teikiančių įstaigų, kuriose pagerinta paslaugų teikimo infrastruktūra, skaičius / Gyventojų, pasinaudojusių pagerintomis paslaugomis, skaičius tūkst. | L41: 1 /40,3 | M41: 1 /40,3 | N41: Dalinai koofinansuotas PSPC įgyvendinamas projektas. Įgyvendintos baigiamosios projekto veiklos
A42: 03 | B42: 01 | C42: 04 | D42: Įgyvendinti priemones, skirtas žemo slenksčio paslaugų kokybės gerinimui Kėdainių rajono savivaldybėje | E42: 1 | F42: Projekto koordinavimas, įrangos/prekių įsigijimo sutarčių koordinavimas, tiekėjo prisiimtų sutartinių įsipareigojimų vykdymo kontrolė | G42: Strateginio planavimo ir investicijų skyrius | H42: ES | I42: 5.5 | J42: 3.8 | K42: Apsilankymai (kartais) žemo slenksčio paslaugų kabinetuose per metus | L42: 1562 | M42: 1653 | N42: Baigtas įgyvendinti VšĮ Kėdainių PSPC projektas. Priemonė koreliuoja su 02.01.11 priemone
H43: VB | I43: 1.1 | J43: 0.8
A44: 03 | B44: 01 | C44: Iš viso uždaviniui | I44: =SUM(I41:I43) -> 10 | J44: =SUM(J41:J43) -> 8
A45: 03 | B45: Iš viso tikslui | I45: =+I44 -> 10 | J45: =+J44 -> 8
...

Sheet 03social.
H1: PATVIRTINTA Kėdainių rajono savivaldybės administracijos direktoriaus 2023 m. vasario 10 d. įsakymu Nr.AD-1- 165 (Kėdainių rajono savivaldybės administracijos direktoriaus 2024 m. sausio d. įsakymo Nr.AD-1- redakcija)
A3: Programos tikslo kodas | B3: Uždavinio kodas | C3: Priemonės kodas | D3: Priemonės pavadinimas | E3: Veiklos/darbo/ veiksmo kodas | F3: Veiklos/darbo/ veiksmo pavadinimas | G3: Atsakingi vykdytojai | H3: Finansavimo šaltinis | I3: Numatomi 2023-ųjų m. asignavimai, tūkst. Eur | J3: Panaudoti 2023-ųjų m. asignavimai, tūkst. Eur | K3: Proceso/indėlio vertinimo kriterijai
K4: Pavadinimas | L4: Planuota reikšmė | M4: Pasiekta reikšmė | N4: Nukrypimų nuo plano priežastys, pastabos, komentarai
A8: 03 SOCIALINĖS APSAUGOS PLĖTOJIMAS
A9: 01 | B9: Organizuoti socialinę paramą ir skatinti socialinę integraciją
A10: 01 | B10: 01 | C10: Organizuoti Lietuvos Respublikos teisės aktuose numatytos paramos bei paslaugų asmenims ir šeimoms teikimą
A11: 01 | B11: 01 | C11: 01 | D11: Teikti ir administruoti paramą mirties atveju, teikti ir administruoti socialines išmokas bei kompensacijas (būsto šildymo išlaidų, išlaidų šaltam bei nuotekoms ir išlaidų karštam vandeniui) | E11: 1 | F11: Koordinavimas, duomenų suvedimas į programą "Parama" | G11: Socialinės paramos skyrius | H11: SBVB | I11: 5 | J11: 4.5 | K11: Asmenų, gaunančių socialinę pašalpą ir kompensacijas, skaičius | L11: 10000 | M11: 19272 | N11: Piniginės socialinės paramos gavėjų skaičius ženkliai išaugo dėl pasikeitusių teisės aktų, kurie reglamentavo Valstybės remiamų pajamų didėjimą, kuris tiesiogiai susijęs tiek su kompensacijos dydžiu, tiek nustatant teisę skirti kompensaciją būsto šildymui, šaltam bei karštam vandeniui. Lėšų iš SB reikėjo mažiau, kadangi buvo gauta dotacija iš SBVB lėšų (2,763 mln. Eur)
H12: SB | I12: 322 | J12: 113.3
A13: 01 | B13: 01 | C13: 02 | D13: Dengti išlaidas už įsigytus produktus, mokinio reikmenis, administruoti socialinę paramą mokiniams | E13: 1 | F13: Koordinavimas, duomenų suvedimas į programą "Parama", informacijos teikimas švietimo įstaigų vadovams | G13: Socialinės paramos skyrius, Švietimo skyrius | H13: SBVB | I13: 924.2 | J13: 904.4 | K13: Mokinių, gaunančių nemokamą maitinimą, skaičius | L13: 2140 | M13: 2082 | N13: Mokinių ir lėšų augimą lėmė skiriamų lėšų dydžio maisto produktams įsigyti didėjimas bei Socialinės paramos mokiniams įstatymo pakeitimai, susiję su socialinės paramos skyrimu
K14: Mokinių, gaunančių būtiniausius mokinio reikmenis, skaičius | L14: 1320 | M14: 1270
A15: 01 | B15: 01 | C15: 03 | D15: Organizuoti nemokamą socialiai remtinų vaikų maitinimą ikimokyklinėse įstaigose | E15: 1 | F15: Informacijos rinkimas, ikimokyklinių įstaigų užmokesčio už vaikų išlaikymą analizė | G15: Švietimo skyrius | H15: SB | I15: 94 | J15: 85.8 | K15: Vaikų, gaunančių nemokamą maitinimą, skaičius | L15: 440 | M15: 548 | N15: 548 vaikai iš dalies arba visiškai atleisti nuo mokesčio už maitinimą (iš kurių 42 - ukrainiečiai)
A16: 01 | B16: 01 | C16: 04 | D16: Kompensuoti nemokamo mokinių maitinimo kainą bendrojo lavinimo mokyklose | E16: 1 | F16: Koordinavimas, duomenų rinkimas, apmokėjimas maitinimo paslaugų teikėjams bei įstaigoms | G16: Socialinės paramos skyrius, Apskaitos skyrius | H16: SB | I16: 240 | J16: 207.7 | K16: Mokinių, gaunančių nemokamą maitinimą, skaičius | L16: 2140 | M16: 2082 | N16: 2082 mokiniams kompensuota nemokamo maitinimo kaina
A17: 01 | B17: 01 | C17: 05 | D17: Teikti tikslines kompensacijas, išmokas neįgaliesiems | E17: 1 | F17: Asmenų konsultavimas, prašymų priėmimas, Duomenų suvedimas į programą | G17: Socialinės paramos skyrius | H17: VB | I17: 3144 | J17: 3795.8 | K17: Asmenų, gaunančių šalpos išmokas, skaičius | L17: 1456 | M17: 1985 | N17: Išmokėtos tikslinės kompensacijos 1985 asmenims, iš kurių 1195 moterys ir 790 vyrai. Metų eigoje skirta daugiau tikslinių lėšų
H18: SBVB | I18: 0.1 | J18: 0.1
A19: 01 | B19: 01 | C19: 06 | D19: Teikti išmokas vaikams | E19: 1 | F19: Koordinavimas, Duomenų suvedimas į programą "Parama" | G19: Socialinės paramos skyrius | H19: VB | I19: 11433.2 | J19: 11701.3 | K19: Asmenų, gaunančių išmokas vaikams, skaičius | L19: 11500 | M19: 8705 | N19: Išmoka skirta 8705 vaikams. Metų eigoje skirta daugiau tikslinių lėšų iš VB
A20: 01 | B20: 01 | C20: 07 | D20: Teikti kompensacijas ginkluoto pasipriešinimo dalyvių šeimoms, sovietinėje armijoje sužalotiems asmenims bei žuvusiųjų šeimoms | E20: 1 | F20: Asmenų konsultavimas, prašymų priėmimas, Duomenų suvedimas į programą "Parama" | G20: Socialinės paramos skyrius | H20: VB | I20: 8.1 | J20: 0 | K20: Asmenų, gavusių kompensacijas, skaičius | L20: 2 | M20: 0 | N20: Finansavimą gali gauti asmenys, pateikę prašymą, tačiau pateiktų prašymų skirti kompensacijas 2023 m. nebuvo
A21: 01 | B21: 01 | C21: 08 | D21: Kompensuoti būsto nuomos ar išperkamosios būsto nuomos mokesčių dalį | E21: 1 | F21: Asmenų konsultavimas, prašymų priėmimas, sąrašų sudarymas, duomenų vedimas į SPIS programą | G21: Socialinės paramos skyrius | H21: SBVB | I21: 13.1 | J21: 9 | K21: Asmenų, gavusių būsto nuomos ar išperkamosios būsto nuomos mokesčių dalies kompensaciją, skaičius iš bendro asmenų, turinčių teisę į paramą būstui išsinuomoti ir įrašytų į sąrašus, skaičiaus, proc | L21: 10 | M21: 30 | N21: Vykdytas viešinimas dėl galimybės pasinaudoti šia paslauga, 30 asmenų skirta kompensacija
A22: 01 | B22: 01 | C22: 09 | D22: Finansuoti išlaidas už būsto suteikimą užsieniečiams, pasitraukusiems iš Ukrainos dėl Rusijos Federacijos karinių veiksmų Ukrainoje | E22: 1 | F22: Priemonės koordinavimas | G22: Socialinės paramos skyrius, Apskaitos skyrius | H22: SBVB | I22: 281.9 | J22: 279.1 | K22: Paramos pagal poreikį teikimas | L22: 100 | M22: 100 | N22: Teikta parama pagal poreikį, pagal teisės aktų nuostatas
A23: 01 | B23: 01 | C23: 10 | D23: Kompensuoti savivaldybės patirtas išlaidas užsieniečiams, pasitraukusiems iš Ukrainos dėl Rusijos Federacijos karinių veiksmų Ukrainoje, priimti ir pagalbai jiems teikti įgyvendinant Lietuvos Respublikos piniginės socialinės paramos nepasiturintiems gyventojams įstatymą | E23: 1 | F23: Priemonės koordinavimas | G23: Socialinės paramos skyrius, Apskaitos skyrius | H23: SBVB | I23: 194.9 | J23: 193.4 | K23: Paramos pagal poreikį teikimas | L23: 100 | M23: 100 | N23: Teikta parama pagal poreikį, pagal teisės aktų nuostatas
A24: 01 | B24: 01 | C24: 11 | D24: Teikti vienkartines išmokas įsikurti gyvenamojoje vietoje savivaldybės teritorijoje ir (ar) mėnesines kompensacijas vaiko ugdymo pagal ikimokyklinio ir priešmokyklinio ugdymo programą | E24: 1 | F24: Priemonės koordinavimas | G24: Socialinės paramos skyrius, Švietimo skyrius, Apskaitos skyrius | H24: SBVB | I24: 2.6 | J24: 1 | K24: Paramos pagal poreikį teikimas | L24: 100 | M24: 100 | N24: Teikta parama pagal poreikį, pagal teisės aktų nuostatas
A25: 01 | B25: 01 | C25: 12 | D25: Kompensuoti kelionės išlaidas už lengvatinį keleivių vežimą | E25: 1 | F25: Duomenų ir pateisinamųjų dokumentų iš vežėjų ir įstaigų rinkimas, sisteminimas, analizė ir teikimas Apskaitos bei Biudžeto ir finansų skyriams | G25: Statybos ir turto skyrius, Apskaitos skyrius | H25: SB | I25: 869.2 | J25: 798.5 | K25: Parduotų su nuolaida bilietų skaičius (tūkst.) | L25: 900 | M25: 1156.354 | N25: UAB "Kėdbusas" finansuota už keleivių, turinčių teisę į lengvatas (moksleivius, senjorus ir neįgaliuosius pagal LT Transporto lengvatų įstatymą, užsieniečius, pasitraukusius iš Ukrainos dėl Rusijos Federacijos karinių veiksmų) vežimą. Autobusais vyko didesnis žmonių skaičius
A26: 01 | B26: 01 | C26: 13 | D26: Užtikrinti 2023 metais Lietuvos Respublikos piniginės socialinės paramos nepasiturintiems gyventojams įstatymo įgyvendinimą | E26: 1 | F26: Priemonės koordinavimas | G26: Socialinės paramos skyrius | H26: SBVB | I26: 1609.3 | J26: 1609.3 | K26: Funkcijos vykdymo užtikrinimas | L26: 100 | M26: 100 | N26: Teikta parama pagal poreikį, pagal teisės aktų nuostatas
A28: 01 | B28: 01 | C28: 15 | D28: Teikti socialinę paramą mokiniams pagal Lietuvos Respublikos socialinės paramos mokiniams įstatymą užsieniečiams, pasitraukusiems iš Ukrainos dėl Rusijos federacijos karinių veiksmų Ukrainoje | E28: 1 | F28: Priemonės koordinavimas | G28: Socialinės paramos skyrius | H28: SBVB | I28: 33.7 | J28: 33.7 | K28: Funkcijos vykdymo užtikrinimas | L28: 100 | M28: 100 | N28: Teikta parama pagal poreikį, pagal teisės aktų nuostatas
A29: 01 | B29: 01 | C29: 16 | D29: Teikti paramą būstui išsinuomoti pagal Lietuvos Respublikos paramos būstui įsigyti ar išsinuomoti įstatymą užsieniečiams, pasitraukusiems iš Ukrainos dėl Rusijos federacijos karinių veiksmų Ukrainoje | E29: 1 | F29: Priemonės koordinavimas | G29: Socialinės paramos skyrius | H29: SBVB | I29: 2.6 | J29: 2.5 | K29: Funkcijos vykdymo užtikrinimas | L29: 100 | M29: 100 | N29: Teikta parama pagal poreikį, pagal teisės aktų nuostatas
A30: 01 | B30: 01 | C30: 17 | D30: Padengti išlaidas patirtas teikiant specialiąsias socialines paslaugas užsieniečiams, pasitraukusiems iš Ukrainos dėl Rusijos federacijos karinių veiksmų Ukrainoje | E30: 1 | F30: Priemonės koordinavimas | G30: Socialinės paramos skyrius | H30: SBVB | I30: 1 | J30: 1.2 | K30: Funkcijos vykdymo užtikrinimas | L30: 100 | M30: 100 | N30: Teikta parama pagal poreikį, pagal teisės aktų nuostatas
A31: 01 | B31: 01 | C31: Iš viso uždaviniui | I31: =SUM(I11:I30) -> 19178.9 | J31: =SUM(J11:J30) -> 19740.6
A32: 01 | B32: 02 | C32: Gerinti socialinę aplinką ir didinti socialinės paramos įvairovę
A33: 01 | B33: 02 | C33: 02 | D33: Dengti kainų skirtumą gyventojams už šildymą | E33: 1 | F33: Apmokėjimų užtikrinimas paslaugų teikėjams | G33: Apskaitos skyrius | H33: SB | I33: 99.5 | J33: 92.3 | K33: Bendras gyvenamas plotas, kuriam dengiamas kainų skirtumas (tūkst. kv. metrų) | L33: 500 | M33: ~510 | N33: Gyventojams kompensuotas kainų skirtumas už šildymą. Lėšų poreikis kompensacijoms skiriamas atsižvelgiant į gyventojų gaunamas pajamas, šildymo sezono trukmę
A34: 01 | B34: 02 | C34: 03 | D34: Kompensuoti karšto ir šalto vandens pardavimo kainą socialiai remtiniems asmenims | E34: 1 | F34: Koordinavimas, duomenų teikimas paslaugų teikėjams | G34: Socialinės paramos skyrius, Apskaitos skyrius | H34: SB | I34: 160.7 | J34: 156 | K34: Asmenų, gaunančių kompensaciją, skaičius | L34: 8000 | M34: 7956 | N34: Asmenims kompensuota karšto ir šalto vandens pardavimo kaina
A35: 01 | B35: 02 | C35: 04 | D35: Teikti vienkartinę išmoką gimus vaikui Lietuvos Respublikos teritorijoje ir gyvenančiam Kėdainių rajono savivaldybėje | E35: 1 | F35: Išmokų pervedimas | G35: Apskaitos skyrius | H35: SB | I35: 30 | J35: 23.1 | K35: Asmenų, gaunančių kompensaciją, skaičius | L35: 320 | M35: 231 | N35: 231 vaikui, gimusiam Lietuvoje ir gyvenančiam Kėdainių r. savivaldybėje mokėtos 100 Eur vienkartinės išmokos
A36: 01 | B36: 02 | C36: 06 | D36: Teikti Metų socialinio darbuotojo apdovanojimą | E36: 1 | F36: Metų socialinio darbuotojo konkurso organizavimas | G36: Socialinės paramos skyrius | H36: SB | I36: 3 | J36: 3 | K36: Įteiktas Metų socialinio darbuotojo apdovanojimas | L36: 1 | M36: 1 | N36: Metų socialinio darbuotojo apdovanojimas skirtas Kėdainių pagalbos šeimai centro socialinei darbuotojai Rositai Juozaitei
A37: 01 | B37: 02 | C37: Iš viso uždaviniui | I37: =SUM(I33:I36) -> 293.2 | J37: =SUM(J33:J36) -> 274.4
A38: 01 | B38: Iš viso tikslui | I38: =+I37+I31 -> 19472.1 | J38: =+J37+J31 -> 20015
A39: 02 | B39: Gerinti socialinių paslaugų prieinamumą, užtikrinti jų teikimą bei didinti socialinių paslaugų ir jų teikėjų įvairovę
A40: 02 | B40: 01 | C40: Plėsti socialinių paslaugų įvairovę, skatinti socialines inovacijas
A41: 02 | B41: 01 | C41: 01 | D41: Finansuoti socialinės globos ir akredituotos socialinės priežiūros paslaugas teikiamas ne savivaldybės pavaldumo ir nevyriausybinėse organizacijose, pirkti paslaugas | E41: 1 | F41: Apmokėjimas už suteiktas paslaugas ne savivaldybės pavaldumo globos įstaigoms | G41: Apskaitos skyrius, Socialinės paramos skyrius | H41: SB | I41: 520 | J41: 639.4 | K41: Tiekėjų, teikiančių paslaugas, skaičius | L41: 17 | M41: 19 | N41: Finansuotos pagal sutartis socialinės paslaugos asmenims, kurias teikia kitos savivaldybės.
A42: 02 | B42: 01 | C42: 02 | D42: Plėsti Kėdainių rajono savivaldybės socialines paslaugas teikiančių įstaigų informacinių technologijų aplinką bei elektronines paslaugas | E42: 1 | F42: Priemonės koordinavimas | G42: Apskaitos skyrius, Socialinės paramos skyrius | H42: SB | I42: 10.8 | J42: 6 | K42: Įstaigų, taikančių inovatyvias informacines technologijas, skaičius | L42: 2 | M42: 1 | N42: Lėšos skirtos Kėdainių bendruomenės socialiniam centrui. 6 asmenims teiktos e-globos paslaugos
A43: 02 | B43: 01 | C43: Iš viso uždaviniui | I43: =+I42+I41 -> 530.8 | J43: =+J42+J41 -> 645.4
A44: 02 | B44: 02 | C44: Užtikrinti ir gerinti socialines paslaugas, teikiamas institucijose, namuose ir bendruomenėje pagyvenusio ir senyvo amžiaus asmenims
A45: 02 | B45: 02 | C45: 05 | D45: Įgyvendinti savarankiško gyvenimo namų paslaugų asmenims su sutrikusiu intelektu teikimo programą | E45: 1 | F45: Sutarčių su vykdytojais suderinimas, priemonių koordinavimas ir vykdymo kontrolė | G45: Socialinės paramos skyrius | H45: SB | I45: 90 | J45: 90 | K45: Paslaugas gavusių asmenų skaičius | L45: 21 | M45: 21 | N45: Finansuota VšĮ "Gyvenimo namai sutrikusio intelekto asmenims" programa, įstaiga paslaugas teikė 21 asmeniui
...

Sheet 04sport.
H1: PATVIRTINTA Kėdainių rajono savivaldybės administracijos direktoriaus 2023 m. vasario 10 d. įsakymu Nr.AD-1- 165 (Kėdainių rajono savivaldybės administracijos direktoriaus 2024 m. sausio d. įsakymo Nr.AD-1- redakcija)
A4: Programos tikslo kodas | B4: Uždavinio kodas | C4: Priemonės kodas | D4: Priemonės pavadinimas | E4: Veiklos/darbo/ veiksmo kodas | F4: Veiklos/darbo/ veiksmo pavadinimas | G4: Atsakingi vykdytojai | H4: Finansavimo šaltinis | I4: Numatomi 2023-ųjų m. asignavimai, tūkst. Eur | J4: Panaudoti 2023-ųjų m. asignavimai, tūkst. Eur | K4: Proceso/indėlio vertinimo kriterijai
K5: Pavadinimas | L5: Planuota reikšmė | M5: Pasiekta reikšmė | N5: Nukrypimų nuo plano priežastys, pastabos, komentarai
A9: 04 SPORTO VEIKLOS PLĖTRA
A10: 01 | B10: 01 tikslas. Didinti gyventojų fizinį aktyvumą, ugdyti sportišką bendruomenę
A11: 01 | B11: 01 | C11: Užtikrinti Kultūros ir sporto skyriaus veiklą kūno kultūros ir sporto srityje
A12: 01 | B12: 01 | C12: 01 | D12: Organizuoti ir užtikrinti Kultūros ir sporto skyriaus veiklą kūno kultūros ir sporto srityje | E12: 1 | F12: Kūno kultūros ir sporto politikos formavimas ir įgyvendinimo užtikrinimas | G12: Kultūros ir sporto skyrius | H12: SB | I12: 53.1 | J12: 50.8 | K12: Kultivuojamų sporto šakų skaičius | L12: 31 | M12: 31 | N12: Kultūros ir sporto skyrius, bendradarbiaudamas su rajono sporto nevyriausybinėmis organizacijomis, biudžetinėmis įstaigomis, 2023 m. rajone organizavo ar dalyvavo organizuojant krepšinio, futbolo, bokso, šachmatų, stalo teniso, sportinių šokių, lengvosios atletikos, dviračių sporto, karate, kultūrizmo, žolės riedulio ir kitų sporto šakų varžybas, kitus respublikinius, tarptautinius ir kiti renginius
A13: 01 | B13: 01 | C13: Iš viso uždaviniui | I13: =SUM(I12) -> 53.1 | J13: =SUM(J12) -> 50.8
A14: 01 | B14: 03 | C14: Skatinti gyventojų fizinį aktyvumą, vystyti įvairias gyventojų poreikius atitinkančias sporto šakas
A15: 01 | B15: 03 | C15: 01 | D15: Finansuoti vaikų mokymo plaukti veiklos programą, dalyvaujant projekte „Mokėk plaukti ir saugiau elgtis vandenyje“ | E15: 1 | F15: Sutarčių su vykdytojais suderinimas, priemonių koordinavimas ir vykdymo kontrolė | G15: Kultūros ir sporto skyrius | H15: SB | I15: 10.3 | J15: 10.3 | K15: Programoje dalyvaujančių vaikų skaičius / plaukimo pamokų sk. | L15: 300/14 | M15: 300/14 | N15: Organizuotos mokymo plaukti pamokos 2–4 klasių mokiniams. Mokymo plaukti programa finansuojama Lietuvos plaukimo federacijos informacijos ir paslaugų biuro (18 pamokų rudens ciklas) ir savivaldybės (14 pamokų pavasario ciklas) lėšomis. Programoje dalyvavo 5 ugdymo įstaigos
H16: VB | I16: 15.4 | J16: 15.4
A17: 01 | B17: 03 | C17: 02 | D17: Skatinti neįgaliųjų ir senjorų fizinį aktyvumą, organizuoti sporto renginius ir sporto treniruočių stovyklas | E17: 1 | F17: Sportinės veiklos organizavimas, koordinavimas | G17: Kultūros ir sporto skyrius | H17: SB | I17: 12 | J17: 11.1 | K17: Neįgaliųjų fizinio aktyvumo ir sporto renginių skaičius / senjorų sporto šakų skaičius / stovyklų skaičius | L17: 6/ 12 /5 | M17: 6/ 12 /8 | N17: Organizuotos rajoninės neįgaliųjų šaškių, bočios, stalo teniso varžybos, paraplegikų spartakiada, žygiai su šiaurietiškomis lazdomis. Dalyvauta respublikinės bočios, smiginio, rankų lenkimo čempionatuose. Suorganizuotos 8 sportinės atskirų sporto šakų pasiruošimo varžyboms ir treniruočių stovyklos
A18: 01 | B18: 03 | C18: 04 | D18: Organizuoti rajoninius, respublikinius, tarptautinius visų amžiaus grupių aukšto meistriškumo sporto renginius ir aukšto meistriškumo sporto treniruočių stovyklas | E18: 1 | F18: Sportinės veiklos organizavimas, koordinavimas | G18: Kultūros ir sporto skyrius | H18: SB | I18: 52.5 | J18: 52.5 | K18: Suorganizuotų rajoninių, respublikinių ir tarptautinių sporto renginių skaičius / stovyklų skaičius | L18: 18/5 | M18: 19/10 | N18: Pasiruošimui ir dalyvavimui šalies ir tarptautiniuose sporto renginiuose surengta 10 sporto treniruočių stovyklų (90 dalyvių). Sportininkai ir komandos šalies pirmenybėse, čempionatuose, tarptautinėse varžybose įvairaus amžiaus grupėse ir atskirose sporto šakose laimėjo 159 medalius.
A19: 01 | B19: 03 | C19: Iš viso uždaviniui | I19: =SUM(I15:I18) -> 90.2 | J19: =SUM(J15:J18) -> 89.3
A20: 01 | B20: 04 | C20: Skatinti Kėdainių rajono sporto organizacijas, sporto komandas ir sportininkus, finansuoti sporto veiklos projektus ir programas
A21: 01 | B21: 04 | C21: 01 | D21: Finansuoti sporto šakų programas, iš jų: | E21: 1 | F21: Prioritetinių sporto šakų paraiškų finansavimui organizavimas, sutarčių su vykdytojais suderinimas, sutarčių vykdymo kontrolė | G21: Kultūros ir sporto skyrius | H21: SB | I21: =SUM(I22:I27) -> 521.2 | J21: =SUM(J22:J27) -> 521.2 | K21: Finansuotų sporto šakų programų skaičius | L21: 6 | M21: 6 | N21: Finansuotos 6 sporto šakų veiklos programos
A22: 01 | B22: 04 | C22: 01. 01 | D22: Kėdainių krepšinio komandos „Nevėžis-Optibet“ klubinio krepšinio vystymo programai | H22: SB | I22: 226.2 | J22: 226.2 | K22: Užimta vieta LKL čempionate/ žiūrovų stebinčių rungtynes skaičiaus vidurkis/socialinių veiklų krašto bendruomenei skaičius / vasaros stovyklų kėdainiečiams vaikams skaičius / atviros treniruotės | L22: 7-10/ 800 / 3/2/2 | M22: 8/800/3/1/5 | N22: Finansuota programa. Krepšinio komanda „Nevėžis-Optibet“ 2022/2023 m. LKL čempionate iškovojo 8 vietą, dalyvavo FIBA EUROPE taurės turnyro atrankos varžybose. Vykdyta programa, kurioje dalyvavo 5 rajono mokyklos (17 fizinio ugdymo pamokų), suorganizuoti 2 krepšinio 3x3 turnyrai klubo fanams ir Kėdainių SC auklėtiniams, surengtos 5 atviros treniruotės.
A23: 01 | B23: 04 | C23: 01. 02 | D23: Futbolo komandos Kėdainių „Nevėžis“ klubinio futbolo vystymo programai | H23: SB | I23: 120 | J23: 120 | K23: Užimta vieta LFF pirmosios lygos pirmenybėse / žiūrovų stebinčių rungtynes skaičiaus vidurkis/ sportinių-mokomųjų stovyklų skaičius/išugdytų kėdainiečių, atstovaujančių FK "Nevėžis" suaugusiųjų komandoje skaičius | L23: 3-8 /200/8/6 | M23: 3/250/8/7 | N23: Finansuota programa. Iškovota 3 vieta LFF Optibet Pirmosios lygos pirmenybėse, vidutinis žiūrovų sk. 250, suorganizuotos 8 sportinės treniruočių stovyklos. „Nevėžio“ vyrų komandos sudėtį papildė 7 jaunieji futbolininkai iš Kėdainių.
A24: 01 | B24: 04 | C24: 01. 03 | D24: Bokso sporto šakos vystymo programai | H24: SB | I24: 15 | J24: 15 | K24: Įvairaus amžiaus grupių šalies bokso čempionatuose iškovotų medalių skaičius/tarptautinėse bokso varžybose iškovotų medalių skaičius/sporto treniruočių stovyklų skaičius/paruoštų boksininkų šalies bokso rinktinei skaičius | L24: 5/5/15/2 | M24: 6/5/15/2 | N24: Finansuota programa. Surengta 15 sporto treniruočių stovyklų. Įvairaus amžiaus grupėse šalies ir rajonų čempionatuose (44) bei tarptautinėse varžybose (5) iškovoti 49 medaliai.
A25: 01 | B25: 04 | C25: 01. 04 | D25: Kėdainių rajono vaikų ir jaunimo futbolo plėtros programai | H25: SB | I25: 120 | J25: 120 | K25: Sportuojančių vaikų skaičius/ dalyvaujančių LFF vaikų pirmenybėse komandų skaičius/FK „Nevėžis“ vyrų komandos papildymas jaunais žaidėjais skaičius | L25: 250/7/6 | M25: 280/8/7 | N25: Finansuota programa. Dalyvauta Lietuvos futbolo federacijos pirmenybių varžybose 8 amžiaus gr. 7 jauni žaidėjai papildė „Nevėžio“ komandą
A26: 01 | B26: 04 | C26: 01. 05 | D26: 3 prieš 3 krepšinio plėtros programai | H26: SB | I26: 20 | J26: 20 | K26: Sportuojančių sk., / Tarptautinių FIBA Challenger turnyrų, kuriuose dalyvauta, skaičius / Kėdainiečių sportininkų atstovavimas komandai | L26: 50/2/3 | M26: 50/0/3 | N26: Už aukšto meistriškumo sporto pasiekimus apdovanoti 35 sportininkai ir 7 treneriai+M30:M39
A27: 01 | B27: 04 | C27: 01. 06 | D27: Moterų futbolo komandos Kėdainių „Nevėžis“ programai | H27: SB | I27: 20 | J27: 20 | K27: Lietuvos moterų futbolo asociacijos Pirmos lygos pirmenybėse iškovota vieta /sporto treniruočių sk. / komandai atstovaujančių kėdainiečių sk. | L27: 3-7 / 3 / 8 | M27: 6 / 4 / 8 | N27: Finansuota programa. Lietuvos moterų futbolo asociacijos Pirmos lygos pirmenybėse iškovota 6 vieta. Surengtos 4 sporto treniruočių stovyklos. Komandai atstovauja 8 kėdainietės.
A28: 01 | B28: 04 | C28: 02 | D28: Finansuoti sporto projektus | E28: 1 | F28: Sporto projektų konkurso organizavimas, sutarčių su vykdytojais suderinimas, sutarčių vykdymo kontrolė | G28: Kultūros ir sporto skyrius | H28: SB | I28: 55 | J28: 55 | K28: Finansuojamų sporto / fizinio aktyvumo projektų skaičius | L28: 9/11 | M28: 9/11 | N28: Finansuoti 9 sporto veiklos ir 11 gyventojų fizinio aktyvumo projektų.
A29: 01 | B29: 04 | C29: 03 | D29: Teikti apdovanojimus aukšto meistriškumo sportininkams ir jų treneriams už sporto pasiekimus | E29: 1 | F29: Konkurso, apdovanojant aukšto meistriškumo sportininkus ir jų trenerius už sporto pasiekimus, organizavimas | G29: Kultūros ir sporto skyrius | H29: SB | I29: 10 | J29: 10 | K29: Apdovanotųjų skaičius | L29: 30 | M29: 42 | N29: Už aukšto meistriškumo sporto pasiekimus apdovanoti 35 sportininkai ir 7 treneriai
A30: 01 | B30: 05 | C30: Iš viso uždaviniui | I30: =+I28+I21+I29 -> 586.2 | J30: =+J28+J21+J29 -> 586.2
A31: 01 | B31: Iš viso tikslui | I31: =+I30+I19+I13 -> 729.5 | J31: =+J30+J19+J13 -> 726.3
A32: 02 | B32: Atnaujinti ir plėsti Kėdainių rajono savivaldybės sporto infrastruktūrą, pritaikyti ją šiuolaikiniams poreikiams
A33: 02 | B33: 01 | C33: Modernizuoti sporto objektų materialinę bazę, sudarant sąlygas fizinio aktyvumo ugdymui
A34: 02 | B34: 01 | C34: 01 | D34: Atnaujinti ir (arba) plėsti bendruomeninę fizinio aktyvumo infrastruktūrą mieste ir rajone, pritaikant ją bendruomenės poreikiams bei laisvalaikiui | E34: 1 | F34: Poreikio išsiaiškinimas, bendradarbiavimas su Miesto seniūnija, atnaujinimo darbų viešojo pirkimo koordinavimas, rangovo prisiimtų sutartinių įsipareigojimų vykdymo kontrolė | G34: Kultūros ir sporto skyrius, Statybos ir turto skyrius | H34: SB | I34: 50 | J34: 50 | K34: Atnaujintų/įrengtų vaikų sporto ir žaidimų aikštelių skaičius | L34: 3 | M34: 3 | N34: Atnaujinta 1 krepšinio aikštelė Vainikų k. Josvainių sen., atnaujinto miesto Rasos g. esančių krepšinio aikštelių asfalto dangos, atlikti smulkūs remonto darbai, atnaujinta Šėtos g. 87 vaikų žaidimo sporto aikštelė
A35: 02 | B35: 03 | C35: 03 | D35: Atnaujinti Kėdainių Juozo Paukštelio progimnazijos sporto aikštyną | E35: 1 | F35: Rangos darbų viešojo pirkimo organizavimas, rangovo prisiimtų sutartinių įsipareigojimų vykdymo kontrolė | G35: Statybos ir turto skyrius | H35: SBVB | I35: 232 | J35: 232 | K35: Atnaujinamų objektų skaičius | L35: 1 | M35: 1 | N35: Pradėti vykdyti J. Paukštelio progimnazijos sporto aikštyno atnaujinimo darbai, kurie bus tęsiami ir 2024 m.
H36: SB | I36: 60 | J36: 58
A37: 02 | B37: 01 | C37: 05 | D37: Rengti techninę dokumentaciją ugdymo įstaigų stadionų /sporto aikštynų atnaujinimui | E37: 1 | F37: Krakių gimnazijos sporto aikštyno bei J.Paukštelio sporto aikštyno atnaujinimo techninės dokumentacijos parengimo koordinavimas | G37: Statybos ir turto skyrius | H37: SB | I37: 22 | J37: 18.7 | K37: Parengtos techninės dokumentacijos skaičius | L37: 2 | M37: 2 | N37: Apmokėta už parengtus J. Paukštelio progimnazijos, Krakių M.Katkaus gimnazijos aikštynų atnaujinimo projektus
A38: 02 | B38: 01 | C38: Iš viso uždaviniui | I38: =SUM(I34:I37) -> 364 | J38: =SUM(J34:J37) -> 358.7
A39: 02 | B39: Iš viso tikslui | I39: =+I38 -> 364 | J39: =+J38 -> 358.7
A40: Iš viso programai | I40: =+I39+I31 -> 1093.5 | J40: =+J39+J31 -> 1085
A41: iš jų: | I41: =+I40-I42-I49 -> 9.0594199e-14 | J41: =+J40-J42-J49 -> 9.0594199e-14
A42: SAVIVALDYBĖS LĖŠOS | I42: =SUM(I43:I48) -> 1078.1 | J42: =SUM(J43:J48) -> 1069.6
A43: Savivaldybės biudžetas SB | I43: =+I37+I34+I28+I21+I17+I15+I12+I29+I18+I36 -> 846.1 | J43: =+J37+J34+J28+J21+J17+J15+J12+J29+J18+J36 -> 837.6
A44: Valstybės biudžeto specialiosios tikslinės dotacijos lėšos SBVB | I44: =+I35 -> 232 | J44: =+J35 -> 232
A45: Aplinkos apsaugos rėmimo specialiosios programos lėšos AA
...

Sheet 05kultura
H1: PATVIRTINTA Kėdainių rajono savivaldybės administracijos direktoriaus 2023 m. vasario 10 d. įsakymu Nr.AD-1- 165 (Kėdainių rajono savivaldybės administracijos direktoriaus 2024 m. sausio d. įsakymo Nr.AD-1- redakcija)
A3: Programos tikslo kodas | B3: Uždavinio kodas | C3: Priemonės kodas | D3: Priemonės pavadinimas | E3: Veiklos/darbo/ veiksmo kodas | F3: Veiklos/darbo/ veiksmo pavadinimas | G3: Atsakingi vykdytojai | H3: Finansavimo šaltinis | I3: Numatomi 2023-ųjų m. asignavimai, tūkst. Eur | J3: Panaudoti 2023-ųjų m. asignavimai, tūkst. Eur | K3: Proceso/indėlio vertinimo kriterijai
K4: Pavadinimas | L4: Planuota reikšmė | M4: Pasiekta reikšmė | N4: Nukrypimų nuo plano priežastys, pastabos, komentarai
A8: 05 KULTŪROS VEIKLOS PLĖTRA
A9: 03 | B9: Sudaryti sąlygas krašto bendruomenei dalyvauti kultūrinėje bei kūrybinėje veikloje
A10: 03 | B10: 02 | C10: Sudaryti sąlygas kultūros plėtrai rajone
A11: 03 | B11: 02 | C11: 01 | D11: Organizuoti ir užtikrinti Kultūros ir sporto skyriaus specialistų darbą kultūros srityje | E11: 1 | F11: Lietuvos Respublikos ir Savivaldybės kultūros politikos nuostatų įgyvendinimas, kultūros įstaigų veiklos koordinavimas | G11: Kultūros ir sporto skyrius | H11: SB | I11: 97.1 | J11: 95.4 | K11: Suorganizuotų renginių skaičius | L11: 35 | M11: 49 | N11: Kultūros ir sporto skyrius formavo ir įgyvendino rajono savivaldybės kultūros politiką muziejų, bibliotekų, etninės kultūros, meno mėgėjų veikloje bei kitose kultūros srityse, rūpinosi gyventojų bendrosios kultūros ugdymu. Skyrius organizavo, finansavo 40 kultūrinių renginių, švenčių, festivalių. | P11: =+J18+J28 -> 428
A12: 03 | B12: 02 | C12: 02 | D12: Finansuoti rajono savivaldybės renginius ir kultūrines iniciatyvas | E12: 1 | F12: Rajoninių renginių, konkursų, dalyvavimo regioniniuose ir respublikiniuose renginiuose bei konkursuose koordinavimas ir finansavimas | G12: Kultūros ir sporto skyrius | H12: SB | I12: 234.2 | J12: 219.1
A13: 03 | B13: 02 | C13: 03 | D13: Finansuoti kultūrinės veiklos projektus | E13: 1 | F13: Kultūros projektų konkurso organizavimas | G13: Kultūros ir sporto skyrius | H13: SB | I13: 30 | J13: 30 | K13: Finansuotų projektų skaičius | L13: 19 | M13: 19 | N13: Konkurso būdu iš pateiktų 37 paraiškų, finansuota 19 projektų, kurių metu organizuoti 65 edukaciniai užsiėmimai ir seminarai, 11 parodų ir 34 kiti įvairaus pobūdžio renginiai. Projektų veiklose dalyvavo beveik 5 tūkst. rajono gyventojų
A14: 03 | B14: 02 | C14: 04 | D14: Teikti Krašto kultūros premiją | E14: 1 | F14: Kėdainių krašto kultūros premijos konkurso organizavimas | G14: Kultūros ir sporto skyrius | H14: SB | I14: 3 | J14: 3 | K14: Kultūros premijos laureatų skaičius | L14: 1 | M14: 1 | N14: Krašto kultūros premija įteikta Erikai Usevičiūtei už naujų originalių kūrybos formų įgyvendinimą ir aktyvią kūrybinę veiklą bei Kėdainių krašto garsinimą
A15: 03 | B15: 02 | C15: 05 | D15: Teikti Česlavo Milošo premiją | E15: 1 | F15: Česlavo Milošo premijos konkurso organizavimas | G15: Kultūros ir sporto skyrius | H15: SB | I15: 5 | J15: 5 | K15: Kultūros premijos laureatų skaičius | L15: 1 | M15: 1 | N15: Kėdainių krašto garbės piliečio Česlovo Milošo premija įteikta humanitarinių mokslų daktarei, fotografijos istorikei, knygos „Vinco Svirskio mediniai stebuklai“ sudarytojai Margaritai Matulytei
A16: 03 | B16: 02 | C16: 06 | D16: Aprūpinti mėgėjų meno kolektyvus tautiniais ir kitais koncertiniais kostiumais bei muzikos instrumentais | E16: 1 | F16: Dalyvavimas tautinių kostiumų ir instrumentų įsigijimo finansavimo konkurse | G16: Kultūros ir sporto skyrius | H16: SB | I16: 15 | J16: 15 | K16: Koncertinius kostiumų komplektus/instrumentus atsinaujinusių kolektyvų skaičius | L16: 10 | M16: 10 | N16: 10-čiai kolektyvų skirta lėšų tautinių, archeologinių, istorinių kostiumų ar jų dalių įsigijimui bei mėgėjų meno kolektyvų muzikos instrumentų įsigijimui
A17: 03 | B17: 02 | C17: 07 | D17: Plėtoti tarptautinius kultūros mainus | E17: 1 | F17: Tarptautinių kultūros mainų organizavimas | G17: Kultūros ir sporto skyrius | H17: SB | I17: 10 | J17: 5.5 | K17: Organizuotų tarptautinių mainų skaičius | L17: 3 | M17: 3 | N17: Liaudiškų šokių grupė „Volungė“ dalyvavo tarptautiniame konkurse „Pasaulio folkloro taurė 2023“ (Antalija, Turkija) ir tarptautiniame šokių ir muzikos festivalyje „Dubai culture fest“ (Dubajus, Jungtiniai Arabų Emyratai). Kėdainių šviesiojoje gimnazijoje vyko delegacijos iš Feltičenio miesto (Rumunija) susitikimas su gimnazijos bendruomene
A18: 03 | B18: 02 | C18: Iš viso uždaviniui | I18: =SUM(I11:I17) -> 394.3 | J18: =SUM(J11:J17) -> 373
A19: 03 | B19: Iš viso tikslui | I19: =+I18 -> 394.3 | J19: =+J18 -> 373
A20: 04 | B20: Vystyti jaunimui palankią aplinką bei infrastruktūrą, plėsti ir skatinti įvairias jaunimo veiklas ir užimtumą, formuojant jaunimo politiką Kėdainių rajone
A21: 04 | B21: 01 | C21: Skatinti Kėdainių rajono jaunimo ir su jaunimu dirbančių organizacijų nuolatinę ir ilgalaikę programinę veiklą, jaunimo veiklos projektus, jaunimo iniciatyvas
