Workbook

Sheet 01šviet.
L1: PATVIRTINTA
L2: Kėdainių rajono savivaldybės administracijos direktoriaus
L3: 2024 m. vasario 29 d. įsakymu Nr. AD-1-149
A5: Kėdainių rajono savivaldybės administracijos 2023 metų veiklos plano ataskaita
A6: Programos tikslo kodas | B6: Uždavinio kodas | C6: Priemonės kodas | D6: Priemonės pavadinimas | E6: Veiklos/darbo/ veiksmo kodas | F6: Veiklos/darbo/ veiksmo pavadinimas | G6: Atsakingi vykdytojai | H6: Finansavimo šaltinis | I6: Numatomi 2023-ųjų m. asignavimai, tūkst. Eur | J6: Panaudoti 2023-ųjų m. asignavimai, tūkst. Eur | K6: Proceso/indėlio vertinimo kriterijai
K7: Pavadinimas | L7: Planuota reikšmė | M7: Pasiekta reikšmė | N7: Nukrypimų nuo plano priežastys, pastabos, komentarai
A11: 01 ŠVIETIMAS IR UGDYMAS
A12: 01 | B12: Plėtoti kokybišką, visiems prieinamą, tęstinę švietimo sistemą savivaldybėje
A13: 01 | B13: 01 | C13: Sudaryti prielaidas ugdymo kokybei gerinti, mažinti ugdymo kokybės skirtumus tarp mokyklų, didinti pedagogų motyvaciją
A14: 01 | B14: 01 | C14: 07 | D14: Įgyvendinti mokytojų ir pagalbos mokiniui specialistų motyvacijos programą | E14: 1 | F14: Programos įgyvendinimo koordinavimas | G14: Švietimo skyrius | H14: SB | I14: 95 | J14: 75.9 | K14: Savivaldybės švietimo įstaigose dirbančių mokytojų, specialistų, kurie paskatinti, skaičius | L14: 780 | M14: 787 | N14: Programos lėšomis 780 mokytojų paskatinti už mokinių parengimą olimpiadoms ir pasiekimus, už inovatyvias ugdymo idėjas ir jų įgyvendinimą, 1 mokytojui kompensuotas būsto nuomos mokestis, 1 - vienkartinė materialinė 2 400 Eur išmoka (neatskaičius mokesčių) su sąlyga, kad į laisvą Pedagogo pareigybę švietimo įstaigoje priimtas asmuo įsipareigoja dirbti ne trumpiau kaip vienerius mokslo metus. 3 - apmokėta 100 proc. studijų kainos studentams, pasirinkusiems pedagogines studijas dalykų, kurių mokymui trūksta Pedagogų (studijas pedagogas privalo dirbti mokykloje pagal įgytą specialybę ne mažiau kaip 5 metus. 2 - iš dalies finansuotos persikvalifikuojančių Pedagogų studijų išlaidos, 1 - kompensuotos išlaidos organizuojant tarptautinį kvalifikacijos tobulinimo renginį (Šviesioji gimnazija su Rumunija)
A15: 01 | B15: 01 | C15: 11 | D15: Finansuoti vaikų vasaros stovyklų ir kitų neformaliojo vaikų švietimo veiklų programas | E15: 1 | F15: Programų konkurso organizavimas, konsultacijos, paraiškų ir sutarčių derinimas, veiklų stebėjimas, vertinimas, ataskaitų teikimas | G15: Švietimo skyrius | H15: SB | I15: 50 | J15: 50 | K15: Finansuotų vaikų vasaros poilsio ir užimtumo programų skaičius | L15: 36 | M15: 35 | N15: Finansuotos (konkurso būdu atrinktos) 25 vaikų vasaros poilsio ir užimtumo stovyklų programos, kuriose dalyvavo 734 vaikai, iš kurių 54 didelių ir labai didelių specialiųjų ugdymosi poreikių turintys vaikai. Dar 10 vasaros poilsio ir užimtumo stovyklų programos vykdytos vaikams gaunantiems nemokamą maitinimą. Jose dalyvavo 153 vaikai.
A16: 01 | B16: 01 | C16: 12 | D16: Skatinti savivaldybės gabius mokinius | E16: 1 | F16: Mokyklose besimokančių gabių mokinių, per vienerius mokslo metus pasiekusių puikių mokymosi rezultatų, įvertinimas ir paskatinimas | G16: Švietimo skyrius | H16: SB | I16: 9 | J16: 9 | K16: Mokinių, kuriems skirti piniginiai prizai, skaičius | L16: 153 | M16: 161 | N16: Už pasiekimus dalykinėse olimpiadose, konkursuose, meno festivaliuose ir sporto varžybose buvo atrinkti ir apdovanoti 149 mokiniai. Už pasiekimus brandos egzaminuose ir aukštus įvertinimus apdovanota 12 abiturientų.
A17: 01 | B17: 01 | C17: 13 | D17: Įgyvendinti "Tūkstantmečio mokyklos I" projektą | E17: 1 | F17: Projekto administravimas | G17: Strateginio planavimo ir investicijų skyrius, Švietimo skyrius | H17: ES | I17: 840 | J17: 811.2 | K17: Projekte dalyvaujančių mokyklų skaičius | L17: 4 | M17: 4 | N17: Pradėtos projekto įgyvendinimo veiklos pagal Pažangos priemonių planą. Projekte dalyvauja 4 mokyklos: "Atžalyno", Šviesioji gimnazijos, J. Paukštelio bei "Ryto" progimnazijos
A18: 01 | B18: 01 | C18: 14 | D18: Koofinansuoti ugdymo įstaigų dalyvavimą infrastruktūros gerinimo/modernizavimo projektuose | E18: 1 | F18: Priemonės koordinavimas | G18: Administracijos direktorius | H18: SB | I18: 5 | J18: 0.8 | K18: Įstaigų, kurioms skirtas finansavimas, skaičius | L18: 1 | M18: 1 | N18: Šėtos gimnazijai koofinansuotos išlaidos dalyvaujant projekte
A19: 01 | B19: 01 | C19: 15 | D19: Organizuoti ir užtikrinti Švietimo skyriaus specialistų darbą | E19: 1 | F19: Švietimo įstaigų veiklos koordinavimas, ugdymo proceso stebėjimas, analizavimas | G19: Švietimo skyrius | H19: SB | I19: 170.5 | J19: 155.9 | K19: Kuruojamų švietimo įstaigų skaičius | L19: 27 | M19: 27 | N19: Švietimo skyrius koordinavo 6 gimnazijų, Suaugusiųjų ir jaunimo mokymo centro, 3 progimnazijų, 5 pagrindinių mokyklų, mokyklos-darželio, 7 lopšelių-darželių, 3 neformaliojo vaikų švietimo mokyklų ir Švietimo pagalbos tarnybos veiklą. Ikimokyklinio ir priešmokyklinio ugdymo grupės veikė Josvainių ir Šėtos socialiniuose ugdymo centruose. Nuo 2023 m. rugsėjo 1 d., vykdant Mokyklų tinklo pertvarką, Miegėnų pagrindinė mokykla tapo Akademijos gimnazijos skyriumi
A20: 01 | B20: 01 | C20: 16 | D20: Teikti Metų mokytojo apdovanojimą | E20: 1 | F20: Savivaldybės mokytojų kompetencijų, veiklos rezultatų įvertinimas ir paskatinimas profesinei bei kūrybinei iniciatyvai | G20: Švietimo skyrius | H20: SB | I20: 3 | J20: 3 | K20: Įteiktų apdovanojimų skaičius | L20: 1 | M20: 1 | N20: Už puikius pedagoginio darbo rezultatus apdovanota Kėdainių Šviesiosios gimnazijos lietuvių kalbos ir literatūros mokytoja metodininkė A. Jakštienė
A21: 01 | B21: 01 | C21: Iš viso uždaviniui | I21: =SUM(I14:I20) -> 1172.5 | J21: =SUM(J14:J20) -> 1105.8
A22: 01 | B22: Iš viso tikslui | I22: =+I21 -> 1172.5 | J22: =+J21 -> 1105.8
A23: 02 | B23: Tobulinti ugdymo(si) infrastruktūrą, aplinką, diegti inovacijas
A24: 02 | B24: 01 | C24: Gerinti darbo ir mokymo(si) sąlygas savivaldybės švietimo įstaigose
A25: 02 | B25: 01 | C25: 01 | D25: Modernizuoti Kėdainių šviesiosios gimnazijos pastatą Kėdainiuose, Didžioji g. 60 | E25: 1 | F25: Rangos darbų koordinavimas, rangovo prisiimtų sutartinių įsipareigojimų vykdymo kontrolė | G25: Statybos ir turto skyrius | H25: SBVB | I25: 484 | J25: 484 | K25: Atlikta einamaisiais metais numatytų darbų, proc. | L25: 100 | M25: 100 | N25: Užbaigti naujojo pastato modernizavimo darbai, 2024 m. bus vykdomi gimnazijos įrengimo (įveiklinimo) darbai
H26: SK | I26: 0 | J26: 0
A27: 02 | B27: 01 | C27: 02 | D27: Remontuoti Kėdainių „Ryto“ progimnaziją, kuriant šiuolaikines mokymosi erdves | E27: 1 | F27: Priemonės įgyvendinimo koordinavimas | G27: Administracijos direktorius | H27: SB | I27: 20 | J27: 20 | K27: Įgyvendintų veiklų, modernizuojant edukacines erdves einamaisiais metais, proc. | L27: 100 | M27: 100 | N27: Progimnazijoje atnaujintos I aukšto erdvės, modernizuotas apšvietimas
A28: 02 | B28: 01 | C28: 03 | D28: Atnaujinti Lietuvos sporto universiteto Kėdainių „Aušros“ progimnaziją, kuriant modernias ir saugias erdves | E28: 1 | F28: Projekto koordinavimas, rangos darbų koordinavimas, rangovo prisiimtų sutartinių įsipareigojimų vykdymo kontrolė | G28: Statybos ir turto skyrius, Strateginio planavimo ir investicijų skyrius | H28: SB | I28: 171 | J28: 155.2 | K28: Įgyvendintų veiklų, atnaujinant progimnaziją bei modernizuojant edukacines erdves einamaisiais metais, proc. | L28: 100 | M28: 100 | N28: Užbaigti progimnazijos vidaus erdvių įrengimo darbai, įsigyta įranga ir baldai, modernizuota progimnazijos šildymo sistema
H29: SK | I29: 260 | J29: 260
H30: ES | I30: 22.4 | J30: 17
H31: VB | I31: 1.9 | J31: 1.5
A32: 02 | B32: 01 | C32: 04 | D32: Sudaryti saugias ugdymo sąlygas įstaigose, vykdančiose ugdymo programas | E32: 1 | F32: Priemonės įgyvendinimo koordinavimas | G32: Švietimo skyrius | H32: SB | I32: 63 | J32: 52.5 | K32: Įstaigų skaičius, kuriose atlikti remonto darbai | L32: 2 | M32: 3 | N32: Lopšelis-darželis "Aviliukas" teritorija apjuosta nauja tvora, lopšelio-darželio "Vyturėlis" pakeista dalis teritorijos juosiančios tvoros, J. Paukštelio progimnazija įsigijo elektroninių cigarečių sensorius
A33: 02 | B33: 01 | C33: 05 | D33: Įrengti vėdinimo ir kondicionavimo sistemas savivaldybės ugdymo įstaigose | E33: 1 | F33: Priemonės įgyvendinimo koordinavimas | G33: Švietimo skyrius | H33: SB | I33: 30 | J33: 30 | K33: Grupių, klasių ir egzaminų centrų skaičius, kuriose įrengta vėdinimo (kondicionavimo) sistema | L33: 23 | M33: 29 | N33: Darželių grupių bei dalies mokyklų klasių patalpose montuota vėdinimo (kondicionavimo) sistema
A34: 02 | B34: 01 | C34: 06 | D34: Įrengti gamtos ir technologijų mokslų laboratorijas | E34: 1 | F34: Priemonės įgyvendinimo koordinavimas | G34: Švietimo skyrius | H34: SB | I34: 50 | J34: 50 | K34: Įstaigų skaičius, kuriose įrengtos laboratorijos | L34: 4 | M34: 4 | N34: Laboratorijų įrangą, priemones įsigijo Šėtos, Josvainių, Krakių Mikalojaus Katkaus ir Akademijos gimnazijos
A35: 02 | B35: 01 | C35: 07 | D35: Atnaujinti Kėdainių muzikos mokyklos pastato fasadą, laiptus į rūsį | E35: 1 | F35: Techninio projekto rengimo paslaugos viešojo pirkimo konkurso organizavimas, sutarčių koordinavimas, teikėjo prisiimtų sutartinių įsipareigojimų vykdymo kontrolė | G35: Statybos ir turto skyrius | H35: SB | I35: 7 | J35: 7 | K35: Techninės dokumentacijos parengimo paslaugos pirkimas | L35: 1 | M35: 1 | N35: Parengtas mokyklos pastato atnaujinimo projektas
A36: 02 | B36: 01 | C36: 08 | D36: Parengti bendrojo ir ikimokyklinio ugdymo įstaigų (skyrių) pastatų modernizavimo technines dokumentacijas | E36: 1 | F36: Kėdainių l/d "Vyturėlis" ir Kėdainių l/d. "Varpelis" modernizavimo techninės dokumentacijos rengimo sutarčių koordinavimas, teikėjų prisiimtų sutartinių įsipareigojimų vykdymo kontrolė | G36: Statybos ir turto skyrius | H36: SB | I36: 18 | J36: 14.3 | K36: Parengtos techninės dokumentacijos skaičius | L36: 2 | M36: 2 | N36: Parengti Kėdainių lopšelių-darželių „Varpelis“ bei "Vyturėlis" pastatų modernizavimo techniniai projektai
A37: 02 | B37: 01 | C37: 11 | D37: Įdiegti saulės elektrinės pagamintos energijos kaupimo įrenginį Kėdainių r. Šėtos gimnazijoje | E37: 1 | F37: Priemonės įgyvendinimo koordinavimas | G37: Administracijos direktorius | H37: SB | I37: 15.7 | J37: 12.1 | K37: Įsigytas saulės energijos įrenginys, skaičius | L37: 1 | M37: 1 | N37: Įsigytas saulės elektrinės pagamintos energijos kaupimo įrenginys
A38: 02 | B38: 01 | C38: 12 | D38: Didinti Kėdainių lopšelio-darželio „Varpelis“ (Pavasario g. 8, Kėdainiai) pastato energinį efektyvumą, modernizuoti vidaus erdves | E38: 1 | F38: Rangos darbų viešojo pirkimo organizavimas, rangos darbų koordinavimas, rangovo prisiimtų sutartinių įsipareigojimų vykdymo kontrolė | G38: Statybos ir turto skyrius | H38: SK | I38: 426 | J38: 370.6 | K38: Pasiekta pastato energijos naudingumo klasė / atnaujintos vidaus erdvės | L38: B | M38: B | N38: Modernizuotas lopšelio darželio pastatas, pasiekta pastato energijos naudingumo B klasė, vykdyti įstaigos vidaus erdvių atnaujinimo darbai, kurie bus tęsiami ir 2024 m.
H39: SB | I39: 320 | J39: 278.1
H40: ES | I40: 426 | J40: 266.9
A41: 02 | B41: 01 | C41: 13 | D41: Didinti Kėdainių lopšelio-darželio „Vyturėlis“ (Josvainių g. 53, Kėdainiai) pastato energinį efektyvumą, modernizuoti vidaus erdves | E41: 1 | F41: Rangos darbų viešojo pirkimo organizavimas, rangos darbų koordinavimas, rangovo prisiimtų sutartinių įsipareigojimų vykdymo kontrolė | G41: Statybos ir turto skyrius | H41: SK | I41: 682 | J41: 619.1 | K41: Pasiekta pastato energijos naudingumo klasė / atnaujintos vidaus erdvės | L41: B | M41: B | N41: Modernizuotas lopšelio darželio pastatas, pasiekta pastato energijos naudingumo B klasė, vykdyti įstaigos vidaus erdvių atnaujinimo darbai, kurie bus tęsiami ir 2024 m.
H42: SB | I42: 600 | J42: 542.6
H43: ES | I43: 532 | J43: 296.4
A44: 02 | B44: 01 | C44: 14 | D44: Didinti ugdymo prieinamumą atskirtį patiriantiems vaikams | E44: 1 | F44: Investicijų projekto rengimo viešojo pirkimo organizavimas, dokumentacijos rengimo sutarties koordinavimas, teikėjų prisiimtų sutartinių įsipareigojimų vykdymo kontrolė | G44: Strateginio planavimo ir investicijų skyrius | H44: SB | I44: 10 | J44: 6 | K44: Parengta dokumentacija, vnt. | L44: 1 | M44: 1 | N44: Parengtas investicinis projektas atskirtį patiriantiems vaikams Kėdainių „Ryto“ ir Kėdainių Juozo Paukštelio progimnazijose, pateiktas projektinis pasiūlymas ES investicijos gauti
A45: 02 | B45: 01 | C45: 15 | D45: Plėtoti įvairialypį švietimą, vykdant visos dienos mokyklos veiklą | E45: 1 | F45: Investicijų projekto rengimo viešojo pirkimo organizavimas, dokumentacijos rengimo sutarties koordinavimas, teikėjų prisiimtų sutartinių įsipareigojimų vykdymo kontrolė | G45: Strateginio planavimo ir investicijų skyrius | H45: SB | I45: 10 | J45: 5 | K45: Parengta dokumentacija, vnt. | L45: 1 | M45: 1 | N45: Parengtas „Aušros“ progimnazijos bei mokyklos-darželio „Obelėlė“, vykdant visos dienos mokyklos veiklas, investicinis projektas, pateiktas projektinis pasiūlymas ES investicijos gauti
A46: 02 | B46: 01 | C46: 16 | D46: Vykdyti Kėdainių lopšelio-darželio „Žilvitis“ infrastruktūros modernizavimo projektą | E46: 1 | F46: Projekto koordinavimas, baigtinės dokumentacijos institucijoms teikimas | G46: Strateginio planavimo ir investicijų skyrius | H46: SB | I46: 1 | J46: 0.8 | K46: Projekto veiklų įgyvendinimas | L46: 100 | M46: 100 | N46: Įsigyta įranga ir baldai, užbaigtos ES projekto veiklos
H47: VB | I47: 0.8 | J47: 0.8
H48: ES | I48: 8.4 | J48: 8.4
A49: 02 | B49: 01 | C49: Iš viso uždaviniui | I49: =SUM(I25:I48) -> 4159.2 | J49: =SUM(J25:J48) -> 3498.3
A50: 02 | B50: Iš viso tikslui | I50: =+I49 -> 4159.2 | J50: =+J49 -> 3498.3
A51: Iš viso programai | I51: =+I50+I22 -> 5331.7 | J51: =+J50+J22 -> 4604.1
A52: iš jų: | I52: =+I51-I53-I60 -> 0 | J52: =+J51-J53-J60 -> 0
A53: SAVIVALDYBĖS LĖŠOS | I53: =SUM(I54:I59) -> 3500.2 | J53: =SUM(J54:J59) -> 3201.9
A54: Savivaldybės biudžetas SB | I54: =+I46+I45+I44+I37+I36+I35+I34+I33+I32+I28+I27++I20+I19+I18+I16+I15+I14+I42+I39 -> 1648.2 | J54: =+J46+J45+J44+J37+J36+J35+J34+J33+J32+J28+J27++J20+J19+J18+J16+J15+J14+J42+J39 -> 1468.2
A55: Valstybės biudžeto specialiosios tikslinės dotacijos lėšos SBVB | I55: =+I25 -> 484 | J55: =+J25 -> 484
A56: Aplinkos apsaugos rėmimo specialiosios programos lėšos AA
A57: Iš pajamų už suteiktas paslaugas lėšos ĮP
A58: Skolintos lėšos SK | I58: =+I41+I38+I29+I26 -> 1368 | J58: =+J41+J38+J29+J26 -> 1249.7
A59: Kelių priežiūros ir plėtros programos lėšos KPP
A60: KITOS LĖŠOS | I60: =+I61+I62+I63+I64 -> 1831.5 | J60: =+J61+J62+J63+J64 -> 1402.2
A61: Europos Sąjungos lėšos, užsienio fondų lėšos ES | I61: =+I48+I43+I40+I30+I17 -> 1828.8 | J61: =+J48+J43+J40+J30+J17 -> 1399.9
A62: Valstybės biudžeto lėšos VB | I62: =+I47+I31 -> 2.7 | J62: =+J47+J31 -> 2.3
A63: Privačios – investuotojų lėšos PR
A64: Kiti finansavimo šaltiniai KT

Sheet 02sveikat.
H1: PATVIRTINTA Kėdainių rajono savivaldybės administracijos direktoriaus 2023 m. vasario 10 d. įsakymu Nr.AD-1- 165 (Kėdainių rajono savivaldybės administracijos direktoriaus 2024 m. sausio d. įsakymo Nr.AD-1- redakcija)
A4: Programos tikslo kodas | B4: Uždavinio kodas | C4: Priemonės kodas | D4: Priemonės pavadinimas | E4: Veiklos/darbo/ veiksmo kodas | F4: Veiklos/darbo/ veiksmo pavadinimas | G4: Atsakingi vykdytojai | H4: Finansavimo šaltinis | I4: Numatomi 2023-ųjų m. asignavimai, tūkst. Eur | J4: Panaudoti 2023-ųjų m. asignavimai, tūkst. Eur | K4: Proceso/indėlio vertinimo kriterijai
K5: Pavadinimas | L5: Planuota reikšmė | M5: Pasiekta reikšmė | N5: Nukrypimų nuo plano priežastys, pastabos, komentarai
A9: 02 SVEIKATOS APSAUGA
A10: 01 | B10: Stiprinti ir išsaugoti gyventojų sveikatą
A11: 01 | B11: 01 | C11: Sudaryti sąlygas gyventojams stiprinti sveikatą, kurti ir plėtoti su sveikatos stiprinimu susijusias paslaugas
A12: 01 | B12: 01 | C12: 01 | D12: Vykdyti Visuomenės sveikatos rėmimo specialiosios programos priemones | E12: 1 | F12: Programos priemonių sveikatos projektų konkurso organizavimas, sutarčių su vykdytojais parengimas, priemonių įgyvendinimo koordinavimas ir kontrolė; užkrečiamųjų ligų plano priemonių vykdymo kontrolė | G12: Vyr. specialistė (savivaldybės gydytoja) | H12: AA | I12: 149 | J12: 106.3 | K12: Visuomenės sveikatos rėmimo specialiosios programos įgyvendinimas, proc. | L12: 100 | M12: 100 | N12: Programos lėšos skirtos profilaktinei onkologinių ligų patikrai (asmenims nepatenkantiems į nustatytas profilaktines sveikatos apsaugos ministerijos amžiaus grupes), visuomenės sveikatos stebėsenos ataskaitos rekomendacijų įgyvendinimui, psichikos sveikatos stiprinimui; nelaimingų atsitikimų ir traumų prevencijai; maudymosi vietų monitoringui. Iš viso suplanuotos ir įvykdytos 8 priemonės, t. y. 40 sveikatos projektams skirtas finansavimas
A13: 01 | B13: 01 | C13: 03 | D13: Peržiūrėti neveiksniais pripažintų asmenų būklę | E13: 1 | F13: Neveiksniais pripažintų asmenų būklės peržiūrėjimo organizavimas | G13: Socialinės paramos skyrius | H13: SBVB | I13: 1.8 | J13: 1.6 | K13: Asmenų, kurių neveiksnumas peržiūrėtas, skaičius | L13: 60 | M13: 64 | N13: Neveiksnių asmenų būklės peržiūrėjimo komisija peržiūrėjo 64 asmenų būklę
A14: 01 | B14: 01 | C14: 04 | D14: Gerinti pirminės asmens sveikatos priežiūros paslaugų teikimo prieinamumą tuberkuliozės srityje | E14: 1 | F14: Projekto, kurį vykdo Kėdainių PSPC, kofinansavimo užtikrinimas | G14: Administracijos direktorius | H14: SB | I14: 0.6 | J14: 0.01 | K14: Tuberkulioze sergančių pacientų, kuriems buvo suteiktos socialinės paramos priemonės tuberkuliozės gydymo metu | L14: 4 | M14: 4 | N14: Projektą įgyvendina Kėdainių PSPC. Projekto įgyvendinimo metu tuberkulioze sergantiems pacientams, ambulatorinio gydymo metu dalyti maisto talonai
A15: 01 | B15: 01 | C15: Iš viso uždaviniui | I15: =SUM(I12:I14) -> 151.4 | J15: =SUM(J12:J14) -> 107.91
A16: 01 | B16: Iš viso tikslui | I16: =+I15 -> 151.4 | J16: =+J15 -> 107.91
A17: 02 | B17: Gerinti sveikatos priežiūros paslaugų kokybę ir prieinamumą, plėsti paslaugų spektrą, atnaujinti materialinę aplinką
A18: 02 | B18: 01 | C18: Siekti gyventojų sveikatos išsaugojimo, gerinant sveikatos priežiūros paslaugų kokybę ir prieinamumą
A19: 02 | B19: 01 | C19: 01 | D19: Vykdyti E. sveikatos informacinės sistemos palaikymo ir tobulinimo VšĮ Kėdainių PSPC ir VšĮ Kėdainių ligoninėje 2022-2026 m. programą | E19: 1 | F19: Sutarčių su vykdytojais suderinimas, priemonių koordinavimas ir vykdymo kontrolė | G19: Vyr. specialistė (savivaldybės gydytoja) | H19: SB | I19: 20 | J19: 20 | K19: Atnaujintos ir E. sveikatos IS funkcionalumui pritaikytos įrangos kompl. skaičius | L19: 3 | M19: 4 | N19: Įgyvendinant programą vykdytas E. sveikatos IS funkcionalumų palaikymas (2 kompl.), įsigyti 2 kompl. aptarnavimo paslaugų.
A20: 02 | B20: 01 | C20: 02 | D20: Vykdyti Kėdainių rajono tuberkuliozės prevencijos, ankstyvosios diagnostikos, gydymo ir kontrolės 2023–2027 m. programą | E20: 1 | F20: Sutarčių su vykdytojais suderinimas, priemonių koordinavimas ir vykdymo kontrolė | G20: Vyr. specialistė (savivaldybės gydytoja) | H20: SB | I20: 1.8 | J20: 1.8 | K20: Atliktų tyrimų skaičius | L20: 1500 | M20: 1314 | N20: Programos lėšomis pirkti tuberkulino mėginiai, vykdyta rizikos grupių asmenų ankstyvoji diagnostika. Veiklos įgyvendinimo kriterijus pasiektas nepilnai, nes dalis rizikos grupių vaikų tėvų tyrimo atsisakė, kai kurie rizikos grupių vaikų nepavyko pasiekti dėl nedeklaruoto išvykimo ir kt. priežasčių
A21: 02 | B21: 01 | C21: 03 | D21: Vykdyti pirminės asmens sveikatos priežiūros paslaugų prieinamumo ir kokybės užtikrinimo Kėdainių rajono kaimiškųjų vietovių gyventojams 2017–2025 m. programą | E21: 1 | F21: Sutarčių su vykdytojais suderinimas, priemonių koordinavimas ir vykdymo kontrolė | G21: Vyr. specialistė (savivaldybės gydytoja) | H21: SB | I21: 75 | J21: 75 | K21: Kaimiškųjų vietovių gyventojų, kuriems suteiktos reikalingos medicininės (taip pat ir profilaktinio darbo) paslaugos | L21: 12000 | M21: 12108 | N21: Programos lėšomis dalinai finansuotos ambulatorijų ir medicinos punktų komunalinės išlaidos, pradėtos teikti Mobilaus medicinos punkto paslaugos
A22: 02 | B22: 01 | C22: 04 | D22: Vykdyti ambulatorinės akušerinės ir ginekologinės pagalbos kokybės gerinimo Kėdainių rajono savivaldybės moterims 2019-2024 m. programą | E22: 1 | F22: Sutarčių su vykdytojais suderinimas, priemonių koordinavimas ir vykdymo kontrolė | G22: Vyr. specialistė (savivaldybės gydytoja) | H22: SB | I22: 7 | J22: 6.1 | K22: Įsigytos įrangos skaičius/ vidutinis atliktų ultragarsinių tyrimų skaičius | L22: 285 | M22: 654 | N22: Programos lėšomis mokamos lizingo įmokos už įsigytą ultragarsinį aparatą. Vienas gydytojas vidutiniškai atliko 654 vnt. ultragarsinius tyrimus. Įstaigos specialistai tobulinosi echoskopijų srityje, todėl vienos konsultacijos metu iš karto atliekama ir echoskopija, kadangi didėja poreikis echoskopiniams ištyrimams
A23: 02 | B23: 01 | C23: 05 | D23: Vykdyti endoskopinių paslaugų prieinamumo ir kokybės gerinimo Kėdainių rajono savivaldybėje 2020-2025 m. programą | E23: 1 | F23: Sutarčių su vykdytojais suderinimas, priemonių koordinavimas ir vykdymo kontrolė | G23: Vyr. specialistė (savivaldybės gydytoja) | H23: SB | I23: 21.1 | J23: 21.1 | K23: Įsigytos įrangos skaičius / atliktų endoskopijų ir kolonoskopijų skaičius | L23: 1800 | M23: 2095 | N23: Programos lėšomis mokėtos lizingo įmokos už endoskopinę įrangą su vežimėliu bei endoskopų plovimo ir dezinfekavimo mašiną. Atlikta 1337 (metinio plano įvykdymas 96 proc.) endoskopijos ir 758 (metinio plano įvykdymas 217 proc.) kolonoskopijos tyrimų
A24: 02 | B24: 01 | C24: 06 | D24: Vykdyti mamografijos paslaugų tęstinumo, kokybės gerinimo Kėdainių rajono savivaldybėje 2020-2025 m. programą | E24: 1 | F24: Sutarčių su vykdytojais suderinimas, priemonių koordinavimas ir vykdymo kontrolė | G24: Vyr. specialistė (savivaldybės gydytoja) | H24: SB | I24: 19.1 | J24: 19.1 | K24: Įsigytos įrangos skaičius / atliktų mamografijų ir vertinimo paslaugų skaičius per metus | L24: 1800 | M24: 5814 | N24: Programos lėšomis mokamos lizingo įmokos už skaitmenizuoto mamografo įsigijimą, atlikta 5814 mamografijų ir vertinimo paslaugų. Aktyviai dirbta viešinimo srityje
A25: 02 | B25: 01 | C25: 07 | D25: Vykdyti anestezijos paslaugų vaikams ir suaugusiesiems kokybės gerinimo Kėdainių rajono savivaldybėje 2022-2027 m. programą | E25: 1 | F25: Sutarčių su vykdytojais suderinimas, priemonių koordinavimas ir vykdymo kontrolė | G25: Vyr. specialistė (savivaldybės gydytoja) | H25: SB | I25: 75.9 | J25: 75.9 | K25: Įsigytos įrangos skaičius /atliktų bendrųjų anestezijų skaičius per metus | L25: 1482 | M25: 1701 | N25: Finansuotos lizingo įmokos už įsigytus 2 vnt. anestezijos aparatų su paciento gyvybinių funkcijų montavimo sistema bei elektros energijos generatorius. Anestezijų skaičius padidėjo dėl įsigytos įrangos suteiktų galimybių atlikti daugiau dienos chirurgijos paslaugų ir kitų operacijų savalaikio užtikrinimo
A26: 02 | B26: 01 | C26: 08 | D26: Vykdyti rentgeno paslaugų atnaujinimo, kokybės gerinimo Kėdainių rajono savivaldybėje 2022-2027 m. programą | E26: 1 | F26: Sutarčių su vykdytojais suderinimas, priemonių koordinavimas ir vykdymo kontrolė | G26: Vyr. specialistė (savivaldybės gydytoja) | H26: SB | I26: 28.5 | J26: 25.7 | K26: Atliktų rentgenologinių tyrimų skaičius/trumpesnės registracijos rentgeno tyrimui eilės, dienomis | L26: 10000/ 4 d. | M26: 5015 | N26: Rentgeno aparatas pradėtas eksploatuoti nuo 2023 m. liepos mėn. Rentgeno paslaugų suteikta 5015 vnt., efektas registracijos rentgeno tyrimų eilei bus vertinamas 2024 m.
A27: 02 | B27: 01 | C27: 09 | D27: Vykdyti tinkamų ir saugių darbo sąlygų užtikrinimo, įrengiant vėdinimo bei kondicionavimo sistemas VšĮ Kėdainių ligoninėje 2023-2028 m. programą | E27: 1 | F27: Sutarčių su vykdytojais suderinimas, priemonių koordinavimas ir vykdymo kontrolė | G27: Vyr. specialistė (savivaldybės gydytoja) | H27: SB | I27: 50.7 | J27: 50.7 | K27: Patalpų, kuriose įrengta vėdinimo (kondicionavimo) sistema, skaičius | L27: 39 | M27: 50 | N27: Programos lėšomis įsigyti kondicionieriai įrengti pediatrijos, BPG terapijos skyriuose, iš dalies kaimiškosiose ambulatorijose. Kadangi vykdant viešuosius pirkimus sutaupyta lėšų, kondicionierių įsigyta daugiau nei planuota
A28: 02 | B28: 01 | C28: 10 | D28: Vykdyti tinkamų ir saugių darbo sąlygų užtikrinimo, įrengiant vėdinimo bei kondicionavimo sistemas VšĮ Kėdainių PSPC 2022-2026 m. programą | E28: 1 | F28: Sutarčių su vykdytojais suderinimas, priemonių koordinavimas ir vykdymo kontrolė | G28: Vyr. specialistė (savivaldybės gydytoja) | H28: SB | I28: 37.7 | J28: 37.4 | K28: Patalpų, kuriose įrengta vėdinimo (kondicionavimo) sistema, skaičius | L28: 29 | M28: 39 | N28: Programos lėšomis įsigyti kondicionieriai įrengti iš dalies palaikomojo gydymo, traumatologijos, vaikų ligų bei radiologijos skyriuose bei administracijoje. Kadangi vykdant viešuosius pirkimus sutaupyta lėšų, kondicionierių įsigyta daugiau nei planuota
A29: 02 | B29: 01 | C29: 11 | D29: Įgyvendinti žemo slenksčio paslaugų kokybės Kėdainių rajone užtikrinimo 2023-2027 m. programą | E29: 1 | F29: Sutarčių su vykdytojais suderinimas, priemonių koordinavimas ir vykdymo kontrolė | G29: Vyr. specialistė (savivaldybės gydytoja) | H29: SB | I29: 4.8 | J29: 4.8 | K29: Apsilankymai (kartais) žemo slenksčio paslaugų kabinetuose per metus | L29: 1000 | M29: 1653 | N29: Programos lėšomis teiktos stacionarios Žemo slenksčio kabinete ir mobilios paslaugos 1653 lankytojams, įsigytos priemonės (atrankiniai greitieji ŽIV, Hepatitų C, B, sifilio testai, vienkartinės dezinfekcinės, žaizdų gydymo priemonės, utilizavimo konteineriai ir transportavimo įranga (krepšiai) mobilioms paslaugoms teikti. Pasiektas didesnis rodiklis dėl papildomo finansavimo iš Respublikinio priklausomybės ligų centro.
A30: 02 | B30: 01 | C30: 12 | D30: Vykdyti kompiuterinės tomografijos paslaugų kokybės gerinimo Kėdainių rajono savivaldybėje 2023-2030 m. programą | E30: 1 | F30: Sutarčių su vykdytojais suderinimas, priemonių koordinavimas ir vykdymo kontrolė | G30: Vyr. specialistė (savivaldybės gydytoja) | H30: SB | I30: 122.1 | J30: 122.1 | K30: Įsigytos įrangos skaičius | L30: 1 | M30: 1 | N30: Programos lėšomis, įvykdžius viešuosius pirkimus, įsigytas tomografas, įmokėtos pradinė įmoka. Paslaugos bus pradėtos teikti nuo 2024 m.
A31: 02 | B31: 01 | C31: 13 | D31: Stiprinti vaikų, turinčių autizmo spektro ir kitų raidos sutrikimų, sveikatą, sudaryti galimybes siekti asmeninės pažangos, užtikrinti pilnaverčio socialinio dalyvavimo prielaidas | E31: 1 | F31: Sutarčių su vykdytojais suderinimas, priemonių koordinavimas ir vykdymo kontrolė | G31: Vyr. specialistė (savivaldybės gydytoja) | H31: SB | I31: 15 | J31: 15 | K31: Paslaugą gaunančių vaikų skaičius | L31: 15 | M31: 15 | N31: Reabilitacijos ir sveikatos stiprinimo paslaugos teiktos 15 vaikų, iš kurių 6 - su sunkia negalia, 6 - su vidutine negalia, 1 - su lengva negaliai 2- su kitais sutrikimais esantiems vaikams
A32: 02 | B32: 01 | C32: 14 | D32: Teikti Metų medicinos darbuotojo apdovanojimą | E32: 1 | F32: Metų mediko konkurso organizavimas | G32: Vyr. specialistė (savivaldybės gydytoja) | H32: SB | I32: 3 | J32: 3 | K32: Įteiktas Metų medicinos darbuotojo apdovanojimas | L32: 1 | M32: 1 | N32: Metų medikės vardas, premija ir sidabro ženklas „Už nuopelnus“ įteikta Kėdainių PSPC šeimos gydytojai Daivai Linai Lesevičienei
A33: 02 | B33: 01 | C33: 15 | D33: Vykdyti trūkstamos sveikatos priežiūros specialistų skatinimo dirbti VšĮ Kėdainių PSPC 2022-2026 m. programą | E33: 1 | F33: Sutarčių su vykdytojais suderinimas, priemonių koordinavimas ir vykdymo kontrolė | G33: Vyr. specialistė (savivaldybės gydytoja) | H33: SB | I33: 49 | J33: 48.1 | K33: Paskatintų specialistų skaičius / paskatų priemonių skaičius | L33: 22/5 | M33: 20/2 | N33: Programoje numatytomis skatinamosiomis priemonėmis pasinaudojo 5 atvykę specialistai (4 šeimos gydytojai ir 1 odontologas). Kitiems sveikatos priežiūros specialistams, gyvenantiems kituose miestuose, kompensuotos kelionės išlaidos
A34: 02 | B34: 01 | C34: 16 | D34: Vykdyti trūkstamos sveikatos priežiūros specialistų skatinimo dirbti VšĮ Kėdainių ligoninėje 2023-2026 m. programą | E34: 1 | F34: Sutarčių su vykdytojais suderinimas, priemonių koordinavimas ir vykdymo kontrolė | G34: Vyr. specialistė (savivaldybės gydytoja) | H34: SB | I34: 70 | J34: 70 | K34: Paskatintų specialistų skaičius / paskatų priemonių skaičius | L34: ~80/2 | M34: 87/2 | N34: Programoje numatytomis skatinamosiomis priemonėmis pasinaudojo 87 sveikatos priežiūros specialistai. Per 2023 m. VšĮ Kėdainių ligoninėje įdarbinti 38 nauji gydytojai. Kadangi nemaža dalis specialistų dirba mažiau dienų per savaitę, bet po daugiau valandų - važiavimų į darbą sumažėja. Todėl didesnis skaičius darbuotojų pasinaudojo kelionės išlaidų iš/į darbą kompensacija
A35: 02 | B35: 01 | C35: 17 | D35: Vykdyti VšĮ Kėdainių ligoninės sterilizacinės modernizavimo 2023-2028 m. programą | E35: 1 | F35: Sutarčių su vykdytojais suderinimas, priemonių koordinavimas ir vykdymo kontrolė | G35: Vyr. specialistė (savivaldybės gydytoja) | H35: SB | I35: 53.3 | J35: 53.3 | K35: Įsigytos dezinfekacijos ir sterilizavimo įrangos (lizingas) skaičius /sutrumpėjusi sterilizavimo proceso trukmė | L35: 13 | M35: 13 | N35: Vykdyti viešieji pirkimai, įsigyta dezinfekacijos ir sterilizavimo įranga iš 13 komponentų, įmokėta pradinė įmoka. Sterilizavimo proceso trukmė įsigijus modernią įrangą bus vertinama 2024 m.
A36: 02 | B36: 01 | C36: 18 | D36: Vykdyti pacientų eilių valdymo sistemos palaikymo VšĮ Kėdainių pirminės priežiūros centre 2022-2026 m. programą | E36: 1 | F36: Sutarčių su vykdytojais suderinimas, priemonių koordinavimas ir vykdymo kontrolė | G36: Vyr. specialistė (savivaldybės gydytoja) | H36: SB | I36: 3 | J36: 3 | K36: Pacientų, patenkintų eilių valdymo sistemos kokybe, skaičiaus didėjimas, proc. | L36: +5 | M36: +5 | N36: 2022 m. įsigyta ir sumontuota VŠĮ Kėdainių PSPC registratūroje Eilių valdymo sistema, kuri veikia efektyviai. Lėšų skirta sistemos palaikymui
A37: 02 | B37: 01 | C37: Iš viso uždaviniui | I37: =SUM(I19:I36) -> 657 | J37: =SUM(J19:J36) -> 652.1
A38: 02 | B38: Iš viso tikslui | I38: =+I37 -> 657 | J38: =+J37 -> 652.1
A39: 03 | B39: Pritaikyti viešąją infrastruktūrą sveikatos gerinimo poreikiams
A40: 03 | B40: 01 | C40: Modernizuoti ir atnaujinti sveikatos priežiūros vidaus ir išorės infrastruktūrą
A41: 03 | B41: 01 | C41: 03 | D41: Didinti pirminės asmens sveikatos priežiūros veiklos efektyvumą VšĮ Kėdainių pirminės sveikatos priežiūros centre | E41: 1 | F41: Projekto, kurį vykdo Kėdainių PSPC, kofinansavimo užtikrinimas | G41: Administracijos direktorius | H41: SB | I41: 3.4 | J41: 3.4 | K41: Viešąsias sveikatos priežiūros paslaugas teikiančių įstaigų, kuriose pagerinta paslaugų teikimo infrastruktūra, skaičius / Gyventojų, pasinaudojusių pagerintomis paslaugomis, skaičius tūkst. | L41: 1 /40,3 | M41: 1 /40,3 | N41: Dalinai koofinansuotas PSPC įgyvendinamas projektas. Įgyvendintos baigiamosios projekto veiklos
A42: 03 | B42: 01 | C42: 04 | D42: Įgyvendinti priemones, skirtas žemo slenksčio paslaugų kokybės gerinimui Kėdainių rajono savivaldybėje | E42: 1 | F42: Projekto koordinavimas, įrangos/prekių įsigijimo sutarčių koordinavimas, tiekėjo prisiimtų sutartinių įsipareigojimų vykdymo kontrolė | G42: Strateginio planavimo ir investicijų skyrius | H42: ES | I42: 5.5 | J42: 3.8 | K42: Apsilankymai (kartais) žemo slenksčio paslaugų kabinetuose per metus | L42: 1562 | M42: 1653 | N42: Baigtas įgyvendinti VšĮ Kėdainių PSPC projektas. Priemonė koreliuoja su 02.01.11 priemone
H43: VB | I43: 1.1 | J43: 0.8
A44: 03 | B44: 01 | C44: Iš viso uždaviniui | I44: =SUM(I41:I43) -> 10 | J44: =SUM(J41:J43) -> 8
A45: 03 | B45: Iš viso tikslui | I45: =+I44 -> 10 | J45: =+J44 -> 8
A46: Iš viso programai | I46: =+I45+I38+I16 -> 818.4 | J46: =+J45+J38+J16 -> 768.01
A47: iš jų: | I47: =+I46-I48-I55 -> 2.3092639e-14 | J47: =+J46-J48-J55 -> -9.0594199e-14
A48: SAVIVALDYBĖS LĖŠOS | I48: =SUM(I49:I54) -> 811.8 | J48: =SUM(J49:J54) -> 763.41
A49: Savivaldybės biudžetas SB | I49: =+I41+I32+I28+I27+I26+I25+I23+I24+I22+I21+I19+I14+I31+I30+I29+I20+I36+I35+I34+I33 -> 661 | J49: =+J41+J32+J28+J27+J26+J25+J23+J24+J22+J21+J19+J14+J31+J30+J29+J20+J36+J35+J34+J33 -> 655.51 | K49: =+J49+J51+101.1 -> 862.91
A50: Valstybės biudžeto specialiosios tikslinės dotacijos lėšos SBVB | I50: =+I13 -> 1.8 | J50: =+J13 -> 1.6
A51: Aplinkos apsaugos rėmimo specialiosios programos lėšos AA | I51: =+I12 -> 149 | J51: =+J12 -> 106.3
A52: Iš pajamų už suteiktas paslaugas lėšos ĮP
A53: Skolintos lėšos SK
A54: Kelių priežiūros ir plėtros programos lėšos KPP
A55: KITOS LĖŠOS | I55: =SUM(I56:I59) -> 6.6 | J55: =SUM(J56:J59) -> 4.6
A56: Europos Sąjungos lėšos, užsienio fondų lėšos ES | I56: =+I42 -> 5.5 | J56: =+J42 -> 3.8
A57: Valstybės biudžeto lėšos VB | I57: =+I43 -> 1.1 | J57: =+J43 -> 0.8
A58: Privačios – investuotojų lėšos PR
A59: Kiti finansavimo šaltiniai KT

Sheet 03social.
H1: PATVIRTINTA Kėdainių rajono savivaldybės administracijos direktoriaus 2023 m. vasario 10 d. įsakymu Nr.AD-1- 165 (Kėdainių rajono savivaldybės administracijos direktoriaus 2024 m. sausio d. įsakymo Nr.AD-1- redakcija)
A3: Programos tikslo kodas | B3: Uždavinio kodas | C3: Priemonės kodas | D3: Priemonės pavadinimas | E3: Veiklos/darbo/ veiksmo kodas | F3: Veiklos/darbo/ veiksmo pavadinimas | G3: Atsakingi vykdytojai | H3: Finansavimo šaltinis | I3: Numatomi 2023-ųjų m. asignavimai, tūkst. Eur | J3: Panaudoti 2023-ųjų m. asignavimai, tūkst. Eur | K3: Proceso/indėlio vertinimo kriterijai
K4: Pavadinimas | L4: Planuota reikšmė | M4: Pasiekta reikšmė | N4: Nukrypimų nuo plano priežastys, pastabos, komentarai
A8: 03 SOCIALINĖS APSAUGOS PLĖTOJIMAS
A9: 01 | B9: Organizuoti socialinę paramą ir skatinti socialinę integraciją
A10: 01 | B10: 01 | C10: Organizuoti Lietuvos Respublikos teisės aktuose numatytos paramos bei paslaugų asmenims ir šeimoms teikimą
A11: 01 | B11: 01 | C11: 01 | D11: Teikti ir administruoti paramą mirties atveju, teikti ir administruoti socialines išmokas bei kompensacijas (būsto šildymo išlaidų, išlaidų šaltam bei nuotekoms ir išlaidų karštam vandeniui) | E11: 1 | F11: Koordinavimas, duomenų suvedimas į programą "Parama" | G11: Socialinės paramos skyrius | H11: SBVB | I11: 5 | J11: 4.5 | K11: Asmenų, gaunančių socialinę pašalpą ir kompensacijas, skaičius | L11: 10000 | M11: 19272 | N11: Piniginės socialinės paramos gavėjų skaičius ženkliai išaugo dėl pasikeitusių teisės aktų, kurie reglamentavo Valstybės remiamų pajamų didėjimą, kuris tiesiogiai susijęs tiek su kompensacijos dydžiu, tiek nustatant teisę skirti kompensaciją būsto šildymui, šaltam bei karštam vandeniui. Lėšų iš SB reikėjo mažiau, kadangi buvo gauta dotacija iš SBVB lėšų (2,763 mln. Eur)
H12: SB | I12: 322 | J12: 113.3
A13: 01 | B13: 01 | C13: 02 | D13: Dengti išlaidas už įsigytus produktus, mokinio reikmenis, administruoti socialinę paramą mokiniams | E13: 1 | F13: Koordinavimas, duomenų suvedimas į programą "Parama", informacijos teikimas švietimo įstaigų vadovams | G13: Socialinės paramos skyrius, Švietimo skyrius | H13: SBVB | I13: 924.2 | J13: 904.4 | K13: Mokinių, gaunančių nemokamą maitinimą, skaičius | L13: 2140 | M13: 2082 | N13: Mokinių ir lėšų augimą lėmė skiriamų lėšų dydžio maisto produktams įsigyti didėjimas bei Socialinės paramos mokiniams įstatymo pakeitimai, susiję su socialinės paramos skyrimu
K14: Mokinių, gaunančių būtiniausius mokinio reikmenis, skaičius | L14: 1320 | M14: 1270
A15: 01 | B15: 01 | C15: 03 | D15: Organizuoti nemokamą socialiai remtinų vaikų maitinimą ikimokyklinėse įstaigose | E15: 1 | F15: Informacijos rinkimas, ikimokyklinių įstaigų užmokesčio už vaikų išlaikymą analizė | G15: Švietimo skyrius | H15: SB | I15: 94 | J15: 85.8 | K15: Vaikų, gaunančių nemokamą maitinimą, skaičius | L15: 440 | M15: 548 | N15: 548 vaikai iš dalies arba visiškai atleisti nuo mokesčio už maitinimą (iš kurių 42 - ukrainiečiai)
A16: 01 | B16: 01 | C16: 04 | D16: Kompensuoti nemokamo mokinių maitinimo kainą bendrojo lavinimo mokyklose | E16: 1 | F16: Koordinavimas, duomenų rinkimas, apmokėjimas maitinimo paslaugų teikėjams bei įstaigoms | G16: Socialinės paramos skyrius, Apskaitos skyrius | H16: SB | I16: 240 | J16: 207.7 | K16: Mokinių, gaunančių nemokamą maitinimą, skaičius | L16: 2140 | M16: 2082 | N16: 2082 mokiniams kompensuota nemokamo maitinimo kaina
A17: 01 | B17: 01 | C17: 05 | D17: Teikti tikslines kompensacijas, išmokas neįgaliesiems | E17: 1 | F17: Asmenų konsultavimas, prašymų priėmimas, Duomenų suvedimas į programą | G17: Socialinės paramos skyrius | H17: VB | I17: 3144 | J17: 3795.8 | K17: Asmenų, gaunančių šalpos išmokas, skaičius | L17: 1456 | M17: 1985 | N17: Išmokėtos tikslinės kompensacijos 1985 asmenims, iš kurių 1195 moterys ir 790 vyrai. Metų eigoje skirta daugiau tikslinių lėšų
H18: SBVB | I18: 0.1 | J18: 0.1
A19: 01 | B19: 01 | C19: 06 | D19: Teikti išmokas vaikams | E19: 1 | F19: Koordinavimas, Duomenų suvedimas į programą "Parama" | G19: Socialinės paramos skyrius | H19: VB | I19: 11433.2 | J19: 11701.3 | K19: Asmenų, gaunančių išmokas vaikams, skaičius | L19: 11500 | M19: 8705 | N19: Išmoka skirta 8705 vaikams. Metų eigoje skirta daugiau tikslinių lėšų iš VB
A20: 01 | B20: 01 | C20: 07 | D20: Teikti kompensacijas ginkluoto pasipriešinimo dalyvių šeimoms, sovietinėje armijoje sužalotiems asmenims bei žuvusiųjų šeimoms | E20: 1 | F20: Asmenų konsultavimas, prašymų priėmimas, Duomenų suvedimas į programą "Parama" | G20: Socialinės paramos skyrius | H20: VB | I20: 8.1 | J20: 0 | K20: Asmenų, gavusių kompensacijas, skaičius | L20: 2 | M20: 0 | N20: Finansavimą gali gauti asmenys, pateikę prašymą, tačiau pateiktų prašymų skirti kompensacijas 2023 m. nebuvo
A21: 01 | B21: 01 | C21: 08 | D21: Kompensuoti būsto nuomos ar išperkamosios būsto nuomos mokesčių dalį | E21: 1 | F21: Asmenų konsultavimas, prašymų priėmimas, sąrašų sudarymas, duomenų vedimas į SPIS programą | G21: Socialinės paramos skyrius | H21: SBVB | I21: 13.1 | J21: 9 | K21: Asmenų, gavusių būsto nuomos ar išperkamosios būsto nuomos mokesčių dalies kompensaciją, skaičius iš bendro asmenų, turinčių teisę į paramą būstui išsinuomoti ir įrašytų į sąrašus, skaičiaus, proc | L21: 10 | M21: 30 | N21: Vykdytas viešinimas dėl galimybės pasinaudoti šia paslauga, 30 asmenų skirta kompensacija
A22: 01 | B22: 01 | C22: 09 | D22: Finansuoti išlaidas už būsto suteikimą užsieniečiams, pasitraukusiems iš Ukrainos dėl Rusijos Federacijos karinių veiksmų Ukrainoje | E22: 1 | F22: Priemonės koordinavimas | G22: Socialinės paramos skyrius, Apskaitos skyrius | H22: SBVB | I22: 281.9 | J22: 279.1 | K22: Paramos pagal poreikį teikimas | L22: 100 | M22: 100 | N22: Teikta parama pagal poreikį, pagal teisės aktų nuostatas
A23: 01 | B23: 01 | C23: 10 | D23: Kompensuoti savivaldybės patirtas išlaidas užsieniečiams, pasitraukusiems iš Ukrainos dėl Rusijos Federacijos karinių veiksmų Ukrainoje, priimti ir pagalbai jiems teikti įgyvendinant Lietuvos Respublikos piniginės socialinės paramos nepasiturintiems gyventojams įstatymą | E23: 1 | F23: Priemonės koordinavimas | G23: Socialinės paramos skyrius, Apskaitos skyrius | H23: SBVB | I23: 194.9 | J23: 193.4 | K23: Paramos pagal poreikį teikimas | L23: 100 | M23: 100 | N23: Teikta parama pagal poreikį, pagal teisės aktų nuostatas
A24: 01 | B24: 01 | C24: 11 | D24: Teikti vienkartines išmokas įsikurti gyvenamojoje vietoje savivaldybės teritorijoje ir (ar) mėnesines kompensacijas vaiko ugdymo pagal ikimokyklinio ir priešmokyklinio ugdymo programą | E24: 1 | F24: Priemonės koordinavimas | G24: Socialinės paramos skyrius, Švietimo skyrius, Apskaitos skyrius | H24: SBVB | I24: 2.6 | J24: 1 | K24: Paramos pagal poreikį teikimas | L24: 100 | M24: 100 | N24: Teikta parama pagal poreikį, pagal teisės aktų nuostatas
A25: 01 | B25: 01 | C25: 12 | D25: Kompensuoti kelionės išlaidas už lengvatinį keleivių vežimą | E25: 1 | F25: Duomenų ir pateisinamųjų dokumentų iš vežėjų ir įstaigų rinkimas, sisteminimas, analizė ir teikimas Apskaitos bei Biudžeto ir finansų skyriams | G25: Statybos ir turto skyrius, Apskaitos skyrius | H25: SB | I25: 869.2 | J25: 798.5 | K25: Parduotų su nuolaida bilietų skaičius (tūkst.) | L25: 900 | M25: 1156.354 | N25: UAB "Kėdbusas" finansuota už keleivių, turinčių teisę į lengvatas (moksleivius, senjorus ir neįgaliuosius pagal LT Transporto lengvatų įstatymą, užsieniečius, pasitraukusius iš Ukrainos dėl Rusijos Federacijos karinių veiksmų) vežimą. Autobusais vyko didesnis žmonių skaičius
A26: 01 | B26: 01 | C26: 13 | D26: Užtikrinti 2023 metais Lietuvos Respublikos piniginės socialinės paramos nepasiturintiems gyventojams įstatymo įgyvendinimą | E26: 1 | F26: Priemonės koordinavimas | G26: Socialinės paramos skyrius | H26: SBVB | I26: 1609.3 | J26: 1609.3 | K26: Funkcijos vykdymo užtikrinimas | L26: 100 | M26: 100 | N26: Teikta parama pagal poreikį, pagal teisės aktų nuostatas
A28: 01 | B28: 01 | C28: 15 | D28: Teikti socialinę paramą mokiniams pagal Lietuvos Respublikos socialinės paramos mokiniams įstatymą užsieniečiams, pasitraukusiems iš Ukrainos dėl Rusijos federacijos karinių veiksmų Ukrainoje | E28: 1 | F28: Priemonės koordinavimas | G28: Socialinės paramos skyrius | H28: SBVB | I28: 33.7 | J28: 33.7 | K28: Funkcijos vykdymo užtikrinimas | L28: 100 | M28: 100 | N28: Teikta parama pagal poreikį, pagal teisės aktų nuostatas
A29: 01 | B29: 01 | C29: 16 | D29: Teikti paramą būstui išsinuomoti pagal Lietuvos Respublikos paramos būstui įsigyti ar išsinuomoti įstatymą užsieniečiams, pasitraukusiems iš Ukrainos dėl Rusijos federacijos karinių veiksmų Ukrainoje | E29: 1 | F29: Priemonės koordinavimas | G29: Socialinės paramos skyrius | H29: SBVB | I29: 2.6 | J29: 2.5 | K29: Funkcijos vykdymo užtikrinimas | L29: 100 | M29: 100 | N29: Teikta parama pagal poreikį, pagal teisės aktų nuostatas
A30: 01 | B30: 01 | C30: 17 | D30: Padengti išlaidas patirtas teikiant specialiąsias socialines paslaugas užsieniečiams, pasitraukusiems iš Ukrainos dėl Rusijos federacijos karinių veiksmų Ukrainoje | E30: 1 | F30: Priemonės koordinavimas | G30: Socialinės paramos skyrius | H30: SBVB | I30: 1 | J30: 1.2 | K30: Funkcijos vykdymo užtikrinimas | L30: 100 | M30: 100 | N30: Teikta parama pagal poreikį, pagal teisės aktų nuostatas
A31: 01 | B31: 01 | C31: Iš viso uždaviniui | I31: =SUM(I11:I30) -> 19178.9 | J31: =SUM(J11:J30) -> 19740.6
A32: 01 | B32: 02 | C32: Gerinti socialinę aplinką ir didinti socialinės paramos įvairovę
A33: 01 | B33: 02 | C33: 02 | D33: Dengti kainų skirtumą gyventojams už šildymą | E33: 1 | F33: Apmokėjimų užtikrinimas paslaugų teikėjams | G33: Apskaitos skyrius | H33: SB | I33: 99.5 | J33: 92.3 | K33: Bendras gyvenamas plotas, kuriam dengiamas kainų skirtumas (tūkst. kv. metrų) | L33: 500 | M33: ~510 | N33: Gyventojams kompensuotas kainų skirtumas už šildymą. Lėšų poreikis kompensacijoms skiriamas atsižvelgiant į gyventojų gaunamas pajamas, šildymo sezono trukmę
A34: 01 | B34: 02 | C34: 03 | D34: Kompensuoti karšto ir šalto vandens pardavimo kainą socialiai remtiniems asmenims | E34: 1 | F34: Koordinavimas, duomenų teikimas paslaugų teikėjams | G34: Socialinės paramos skyrius, Apskaitos skyrius | H34: SB | I34: 160.7 | J34: 156 | K34: Asmenų, gaunančių kompensaciją, skaičius | L34: 8000 | M34: 7956 | N34: Asmenims kompensuota karšto ir šalto vandens pardavimo kaina
A35: 01 | B35: 02 | C35: 04 | D35: Teikti vienkartinę išmoką gimus vaikui Lietuvos Respublikos teritorijoje ir gyvenančiam Kėdainių rajono savivaldybėje | E35: 1 | F35: Išmokų pervedimas | G35: Apskaitos skyrius | H35: SB | I35: 30 | J35: 23.1 | K35: Asmenų, gaunančių kompensaciją, skaičius | L35: 320 | M35: 231 | N35: 231 vaikui, gimusiam Lietuvoje ir gyvenančiam Kėdainių r. savivaldybėje mokėtos 100 Eur vienkartinės išmokos
A36: 01 | B36: 02 | C36: 06 | D36: Teikti Metų socialinio darbuotojo apdovanojimą | E36: 1 | F36: Metų socialinio darbuotojo konkurso organizavimas | G36: Socialinės paramos skyrius | H36: SB | I36: 3 | J36: 3 | K36: Įteiktas Metų socialinio darbuotojo apdovanojimas | L36: 1 | M36: 1 | N36: Metų socialinio darbuotojo apdovanojimas skirtas Kėdainių pagalbos šeimai centro socialinei darbuotojai Rositai Juozaitei
A37: 01 | B37: 02 | C37: Iš viso uždaviniui | I37: =SUM(I33:I36) -> 293.2 | J37: =SUM(J33:J36) -> 274.4
A38: 01 | B38: Iš viso tikslui | I38: =+I37+I31 -> 19472.1 | J38: =+J37+J31 -> 20015
A39: 02 | B39: Gerinti socialinių paslaugų prieinamumą, užtikrinti jų teikimą bei didinti socialinių paslaugų ir jų teikėjų įvairovę
A40: 02 | B40: 01 | C40: Plėsti socialinių paslaugų įvairovę, skatinti socialines inovacijas
A41: 02 | B41: 01 | C41: 01 | D41: Finansuoti socialinės globos ir akredituotos socialinės priežiūros paslaugas teikiamas ne savivaldybės pavaldumo ir nevyriausybinėse organizacijose, pirkti paslaugas | E41: 1 | F41: Apmokėjimas už suteiktas paslaugas ne savivaldybės pavaldumo globos įstaigoms | G41: Apskaitos skyrius, Socialinės paramos skyrius | H41: SB | I41: 520 | J41: 639.4 | K41: Tiekėjų, teikiančių paslaugas, skaičius | L41: 17 | M41: 19 | N41: Finansuotos pagal sutartis socialinės paslaugos asmenims, kurias teikia kitos savivaldybės.
A42: 02 | B42: 01 | C42: 02 | D42: Plėsti Kėdainių rajono savivaldybės socialines paslaugas teikiančių įstaigų informacinių technologijų aplinką bei elektronines paslaugas | E42: 1 | F42: Priemonės koordinavimas | G42: Apskaitos skyrius, Socialinės paramos skyrius | H42: SB | I42: 10.8 | J42: 6 | K42: Įstaigų, taikančių inovatyvias informacines technologijas, skaičius | L42: 2 | M42: 1 | N42: Lėšos skirtos Kėdainių bendruomenės socialiniam centrui. 6 asmenims teiktos e-globos paslaugos
A43: 02 | B43: 01 | C43: Iš viso uždaviniui | I43: =+I42+I41 -> 530.8 | J43: =+J42+J41 -> 645.4
A44: 02 | B44: 02 | C44: Užtikrinti ir gerinti socialines paslaugas, teikiamas institucijose, namuose ir bendruomenėje pagyvenusio ir senyvo amžiaus asmenims
A45: 02 | B45: 02 | C45: 05 | D45: Įgyvendinti savarankiško gyvenimo namų paslaugų asmenims su sutrikusiu intelektu teikimo programą | E45: 1 | F45: Sutarčių su vykdytojais suderinimas, priemonių koordinavimas ir vykdymo kontrolė | G45: Socialinės paramos skyrius | H45: SB | I45: 90 | J45: 90 | K45: Paslaugas gavusių asmenų skaičius | L45: 21 | M45: 21 | N45: Finansuota VšĮ "Gyvenimo namai sutrikusio intelekto asmenims" programa, įstaiga paslaugas teikė 21 asmeniui
A46: 02 | B46: 02 | C46: 06 | D46: Įgyvendinti savarankiško gyvenimo namų paslaugų senyvo amžiaus asmenims teikimo programą | E46: 1 | F46: Sutarčių su vykdytojais suderinimas, priemonių koordinavimas ir vykdymo kontrolė | G46: Socialinės paramos skyrius | H46: SB | I46: 15 | J46: 15 | K46: Paslaugas gavusių asmenų skaičius | L46: 5 | M46: 5 | N46: Finansuota VšĮ "Langakių savarankiško gyvenimo namai" programa, paslaugos teiktos 5 asmenims
A47: 02 | B47: 02 | C47: 08 | D47: Organizuoti socialinės reabilitacijos paslaugų neįgaliesiems bendruomenėje projektų konkursus | E47: 1 | F47: Projektų konkurso organizavimas, projektų koordinavimas, sutarčių vykdymo kontrolė | G47: Socialinės paramos skyrius | H47: SBVB | I47: 89.1 | J47: 84.8 | K47: Neįgaliųjų, gavusių paslaugas, skaičius | L47: 180 | M47: 161 | N47: Akredituotos 5 Kėdainių rajono neįgaliuosius atstovaujančių organizacijų teikti socialinės reabilitacijos paslaugų neįgaliems asmenims; paslaugas gavo 161 asmuo su negalia
H48: SB | I48: 58.5 | J48: 46.2
A49: 02 | B49: 02 | C49: 09 | D49: Teikti socialinę globą asmenims su sunkia negalia | E49: 1 | F49: Koordinavimas, apmokėjimas už suteiktas paslaugas ne savivaldybės pavaldumo globos įstaigoms | G49: Socialinės paramos skyrius | H49: SBVB | I49: 510.7 | J49: 552.7 | K49: Globojamų asmenų skaičius/globojamų asmenų, kuriems teikiamos paslaugos, procentas, palyginus su visais asmenimis, kuriems nustatytas paslaugos poreikis | L49: 230/98 | M49: 255/98 | N49: Globojamų asmenų su sunkia negalia skaičius pastaraisiais metais didėja, daugėja tiek dienos socialinės globos paslaugų namuose, tiek stacionariose įstaigose gavėjų
A50: 02 | B50: 02 | C50: 10 | D50: Teikti ir administruoti asmeninę pagalbą | E50: 1 | F50: Asmenų konsultavimas, prašymų priėmimas, sprendimų dėl paslaugų skyrimo rengimas, lėšų poreikio apskaičiavimas ir lėšų pervedimas paslaugos teikėjui, finansinių ir dalykinių ataskaitų teikimas | G50: Socialinės paramos skyrius | H50: SBVB | I50: 44.6 | J50: 42.8 | K50: Asmenų, gaunančių išmokas, skaičius | L50: 10 | M50: 10 | N50: 10 asmenų teikta išmoka asmeninei pagalbai teikti ir administruoti
H51: SB | I51: 2 | J51: 0
A52: 02 | B52: 02 | C52: Iš viso uždaviniui | I52: =SUM(I45:I51) -> 809.9 | J52: =SUM(J45:J51) -> 831.5
A53: 02 | B53: 03 | C53: Užtikrinti ir gerinti stacionarias ir nestacionarias socialines paslaugas socialinę riziką patiriančioms šeimoms, asmenims ir vaikams
A54: 02 | B54: 03 | C54: 02 | D54: Teikti šeimoms ir asmenims kompleksinę pagalbą | E54: 1 | F54: Projekto koordinavimas | G54: Socialinės paramos skyrius | H54: ES | I54: 123.4 | J54: 19.4 | K54: Asmenų, kuriems suteiktos paslaugos, skaičius | L54: 200 | M54: 275 | N54: Įgyvendintas ES projektas. Teiktos psichologo paslaugos ir vesti pozityvios tėvystės užsiėmimai. Nuo 2023 m. liepos 1 d. analogišką projektą pradėjo įgyvendinti Kėdainių pagalbos šeimai centras, kurio veiklose 2023 m. dalyvavo 275 dalyviai
A58: 02 | B58: 03 | C58: 04 | D58: Finansuoti vaikų dienos centrų veiklos programas | E58: 1 | F58: Sutarčių sudarymas, programų įgyvendinimo priežiūros organizavimas | G58: Socialinės paramos skyrius | H58: SB | I58: 117.1 | J58: 107.4 | K58: Finansuotų vaikų dienos centrų skaičius/veiklose dalyvavusių vaikų, jaunuolių skaičius | L58: 9/155 | M58: 9/175 | N58: Finansuoti 9 vaikų dienos centrų veiklos, kuriose dalyvavo 175 vaikai
H59: SBVB | I59: 159 | J59: 159
A60: 02 | B60: 03 | C60: 05 | D60: Teikti pagalbą į krizines situacijas patekusiems, smurtą artimoje aplinkoje patyrusiems asmenims ir jų šeimų nariams | E60: 1 | F60: Sutarčių su vykdytojais suderinimas, priemonių koordinavimas ir vykdymo kontrolė | G60: Socialinės paramos skyrius | H60: SB | I60: 18.4 | J60: 18.4 | K60: Asmenų, kuriems suteikta psichologinė, konsultacinė pagalba, skaičius | L60: 100 | M60: 100 | N60: Teikta pagalba krizines situacijas ir smurtą artimoje aplinkoje išgyvenantiems asmenims, smurto artimoje aplinkoje prevencinė ̸ švietėjiška veikla, taip pat veikla skirta lyčių lygybės klausimams, šeimos gerovės didinimui bei socialinės atskirties mažinimui, vykdyta Daiktų ir Maisto banko paslauga
A61: 02 | B61: 03 | C61: 06 | D61: Užtikrinti laisvės atėmimo bausmę atlikusių asmenų integraciją į visuomenę | E61: 1 | F61: Sutarčių su vykdytojais suderinimas, priemonių koordinavimas ir vykdymo kontrolė | G61: Socialinės paramos skyrius | H61: SB | I61: 10 | J61: 9.9 | K61: Asmenų, kuriems suteikta pagalba, skaičius | L61: 40 | M61: 45 | N61: Finansuota Kauno arkivyskupijos Caritas programa, pagalba teikta 45 asmenims
A62: 02 | B62: 03 | C62: 08 | D62: Įgyvendinti Kėdainių rajono savivaldybės užimtumo didinimo programą | E62: 1 | F62: Programos koordinavimas | G62: Socialinės paramos skyrius | H62: SBVB | I62: 50 | J62: 43 | K62: Pasibaigus užimtumo didinimo programoms po 6 mėnesių dirbs arba vykdys savarankišką veiklą asmenų dalis iš užimtumo didinimo programų dalyvių skaičiaus (procentai) | L62: 13 | M62: 21.6 | N62: Įgyvendinant darbo rinkos politiką ir gyventojų užimtumo programą, 2023 m. programoje dalyvavo 89 asmenys, seniūnijose, pagal terminuotas darbo sutartis buvo įdarbinti 64 asmenys, įsidarbino 13 asmenų tvariai, dalyvavusių atvejo vadybos procese
A63: 02 | B63: 01 | C63: Iš viso uždaviniui | I63: =SUM(I54:I62) -> 477.9 | J63: =SUM(J54:J62) -> 357.1
A64: 02 | B64: Iš viso tikslui | I64: =+I63+I52+I43 -> 1818.6 | J64: =+J63+J52+J43 -> 1834
A65: 03 | B65: Modernizuoti socialinių paslaugų įstaigų infrastruktūrą
A66: 03 | B66: 01 | C66: Gerinti socialines paslaugas teikiančių įstaigų ir socialinio būsto infrastruktūrą
A67: 03 | B67: 01 | C67: 01 | D67: Užtikrinti socialinio būsto fondo plėtrą Kėdainiuose | E67: 1 | F67: Socialinės paskirties butų pirkimo organizavimas, sutarčių sudarymas, sutarčių vykdymo kontrolė | G67: Statybos ir turto skyrius, Socialinės paramos skyrius | H67: SB | I67: 220 | J67: 181.3 | K67: Įsigytų socialinės paskirties butų skaičius | L67: 5 | M67: 4 | N67: 2023 m. nupirkti 4 butai socialinio būsto plėtrai. Kompensuotos baigto įgyvendinti ES projekto lėšos
E68: 2 | F68: Projekto baigiamosios dokumentacijos pateikimas atsakingoms institucijoms | G68: Strateginio planavimo ir investicijų skyrius | H68: ES | I68: 9.8 | J68: 1.4
A69: 03 | B69: 01 | C69: 02 | D69: Remontuoti savivaldybės ir socialinį būstą | E69: 1 | F69: Poreikio surinkimas, informacijos susisteminimas, komisijos darbo organizavimas, viešųjų pirkimų organizavimas, rangovo prisiimtų sutartinių įsipareigojimų vykdymo kontrolė | G69: Socialinės paramos skyrius, Statybos ir turto skyrius | H69: SB | I69: 150 | J69: 150 | K69: Einamaisiais metais pagal poreikį atliktų remontų socialiniuose būstuose skaičius, proc. | L69: 100 | M69: 100 | N69: Suremontuoti 9 butai ir Šėtos g. 91 namo 5 aukšto koridorius.
A70: 03 | B70: 01 | C70: 03 | D70: Prisidėti prie savivaldybei priklausančio būsto renovacijos savivaldybės biudžeto lėšomis | E70: 1 | F70: Apmokėjimo užtikrinimas pagal pateiktas paraiškas | G70: Apskaitos skyrius | H70: SB | I70: 15.5 | J70: 12.7 | K70: Finansavimas pagal teikiamą poreikį | L70: 100 | M70: 100 | N70: Pagal poreikį kompensuotos savivaldybei priklausančio būsto renovacijos išlaidos
A71: 03 | B71: 01 | C71: 04 | D71: Pritaikyti viešąją aplinką specialiųjų poreikių turintiems gyventojams | E71: 1 | F71: Poreikio surinkimas, viešųjų pirkimų organizavimas, rangovo prisiimtų sutartinių įsipareigojimų vykdymo kontrolė | G71: Socialinės paramos skyrius, Statybos ir turto skyrius | H71: SB | I71: 42 | J71: 8.5 | K71: Objektų, pritaikytų neįgaliųjų poreikiams, skaičius | L71: 2 | M71: 1 | N71: Lėšos skirtos Pagalbos šeimai centrui bei Josvainių gimnazijai (projektui parengimui). Josvainių gimnazijos keltuvo įrengimo darbai perkelti į 2024 m.
A72: 03 | B72: 01 | C72: 05 | D72: Organizuoti ir dalinai kompensuoti būsto pritaikymą neįgaliesiems | E72: 1 | F72: Poreikio identifikavimas, viešųjų pirkimų organizavimas, sutarties vykdymo koordinavimas | G72: Socialinės paramos skyrius | H72: SBVB | I72: 28.7 | J72: 28.4 | K72: Pritaikytų būstų neįgaliesiems skaičius | L72: 6 | M72: 3 | N72: Neįgaliųjų poreikiams pritaikyti 3 būstai
A73: 03 | B73: 01 | C73: Iš viso uždaviniui | I73: =SUM(I67:I72) -> 466 | J73: =SUM(J67:J72) -> 382.3
A74: 03 | B74: Iš viso tikslui | I74: =+I73 -> 466 | J74: =+J73 -> 382.3
A75: Iš viso programai | I75: =+I74+I64+I38 -> 21756.7 | J75: =+J74+J64+J38 -> 22231.3
A76: iš jų: | I76: =+I75-I77-I84 -> 0 | J76: =+J75-J77-J84 -> 0
A77: SAVIVALDYBĖS LĖŠOS | I77: =SUM(I78:I83) -> 7038.2 | J77: =SUM(J78:J83) -> 6713.4
A78: Savivaldybės biudžetas SB | I78: =+I71+I70+I69+I67+I61+I60+I58+I51+I48+I46+I45+I42+I41+I36+I35+I34+I33+I25+I16+I15+I12 -> 3087.7 | J78: =+J71+J70+J69+J67+J61+J60+J58+J51+J48+J46+J45+J42+J41+J36+J35+J34+J33+J25+J16+J15+J12 -> 2764.5
A79: Valstybės biudžeto specialiosios tikslinės dotacijos lėšos SBVB | I79: =+I72+I62+I59+I50+I49+I47+I24+I22+I21+I13+I11+I18+I26+I27+I30+I29+I28+I23 -> 3950.5 | J79: =+J72+J62+J59+J50+J49+J47+J24+J22+J21+J13+J11+J18+J26+J27+J30+J29+J28+J23 -> 3948.9
A80: Aplinkos apsaugos rėmimo specialiosios programos lėšos AA
A81: Iš pajamų už suteiktas paslaugas lėšos ĮP
A82: Skolintos lėšos SK
A83: Kelių priežiūros ir plėtros programos lėšos KPP
A84: KITOS LĖŠOS | I84: =SUM(I85:I88) -> 14718.5 | J84: =SUM(J85:J88) -> 15517.9
A85: Europos Sąjungos lėšos, užsienio fondų lėšos ES | I85: =+I68+I54+I56 -> 133.2 | J85: =+J68+J54+J56 -> 20.8
A86: Valstybės biudžeto lėšos VB | I86: =+I20+I19+I17 -> 14585.3 | J86: =+J20+J19+J17 -> 15497.1
A87: Privačios – investuotojų lėšos PR
A88: Kiti finansavimo šaltiniai KT
J91: 2758.5
J93: =+J78-J91 -> 6

Sheet 04sport.
H1: PATVIRTINTA Kėdainių rajono savivaldybės administracijos direktoriaus 2023 m. vasario 10 d. įsakymu Nr.AD-1- 165 (Kėdainių rajono savivaldybės administracijos direktoriaus 2024 m. sausio d. įsakymo Nr.AD-1- redakcija)
A4: Programos tikslo kodas | B4: Uždavinio kodas | C4: Priemonės kodas | D4: Priemonės pavadinimas | E4: Veiklos/darbo/ veiksmo kodas | F4: Veiklos/darbo/ veiksmo pavadinimas | G4: Atsakingi vykdytojai | H4: Finansavimo šaltinis | I4: Numatomi 2023-ųjų m. asignavimai, tūkst. Eur | J4: Panaudoti 2023-ųjų m. asignavimai, tūkst. Eur | K4: Proceso/indėlio vertinimo kriterijai
K5: Pavadinimas | L5: Planuota reikšmė | M5: Pasiekta reikšmė | N5: Nukrypimų nuo plano priežastys, pastabos, komentarai
A9: 04 SPORTO VEIKLOS PLĖTRA
A10: 01 | B10: 01 tikslas. Didinti gyventojų fizinį aktyvumą, ugdyti sportišką bendruomenę
A11: 01 | B11: 01 | C11: Užtikrinti Kultūros ir sporto skyriaus veiklą kūno kultūros ir sporto srityje
A12: 01 | B12: 01 | C12: 01 | D12: Organizuoti ir užtikrinti Kultūros ir sporto skyriaus veiklą kūno kultūros ir sporto srityje | E12: 1 | F12: Kūno kultūros ir sporto politikos formavimas ir įgyvendinimo užtikrinimas | G12: Kultūros ir sporto skyrius | H12: SB | I12: 53.1 | J12: 50.8 | K12: Kultivuojamų sporto šakų skaičius | L12: 31 | M12: 31 | N12: Kultūros ir sporto skyrius, bendradarbiaudamas su rajono sporto nevyriausybinėmis organizacijomis, biudžetinėmis įstaigomis, 2023 m. rajone organizavo ar dalyvavo organizuojant krepšinio, futbolo, bokso, šachmatų, stalo teniso, sportinių šokių, lengvosios atletikos, dviračių sporto, karate, kultūrizmo, žolės riedulio ir kitų sporto šakų varžybas, kitus respublikinius, tarptautinius ir kiti renginius
A13: 01 | B13: 01 | C13: Iš viso uždaviniui | I13: =SUM(I12) -> 53.1 | J13: =SUM(J12) -> 50.8
A14: 01 | B14: 03 | C14: Skatinti gyventojų fizinį aktyvumą, vystyti įvairias gyventojų poreikius atitinkančias sporto šakas
A15: 01 | B15: 03 | C15: 01 | D15: Finansuoti vaikų mokymo plaukti veiklos programą, dalyvaujant projekte „Mokėk plaukti ir saugiau elgtis vandenyje“ | E15: 1 | F15: Sutarčių su vykdytojais suderinimas, priemonių koordinavimas ir vykdymo kontrolė | G15: Kultūros ir sporto skyrius | H15: SB | I15: 10.3 | J15: 10.3 | K15: Programoje dalyvaujančių vaikų skaičius / plaukimo pamokų sk. | L15: 300/14 | M15: 300/14 | N15: Organizuotos mokymo plaukti pamokos 2–4 klasių mokiniams. Mokymo plaukti programa finansuojama Lietuvos plaukimo federacijos informacijos ir paslaugų biuro (18 pamokų rudens ciklas) ir savivaldybės (14 pamokų pavasario ciklas) lėšomis. Programoje dalyvavo 5 ugdymo įstaigos
H16: VB | I16: 15.4 | J16: 15.4
A17: 01 | B17: 03 | C17: 02 | D17: Skatinti neįgaliųjų ir senjorų fizinį aktyvumą, organizuoti sporto renginius ir sporto treniruočių stovyklas | E17: 1 | F17: Sportinės veiklos organizavimas, koordinavimas | G17: Kultūros ir sporto skyrius | H17: SB | I17: 12 | J17: 11.1 | K17: Neįgaliųjų fizinio aktyvumo ir sporto renginių skaičius / senjorų sporto šakų skaičius / stovyklų skaičius | L17: 6/ 12 /5 | M17: 6/ 12 /8 | N17: Organizuotos rajoninės neįgaliųjų šaškių, bočios, stalo teniso varžybos, paraplegikų spartakiada, žygiai su šiaurietiškomis lazdomis. Dalyvauta respublikinės bočios, smiginio, rankų lenkimo čempionatuose. Suorganizuotos 8 sportinės atskirų sporto šakų pasiruošimo varžyboms ir treniruočių stovyklos
A18: 01 | B18: 03 | C18: 04 | D18: Organizuoti rajoninius, respublikinius, tarptautinius visų amžiaus grupių aukšto meistriškumo sporto renginius ir aukšto meistriškumo sporto treniruočių stovyklas | E18: 1 | F18: Sportinės veiklos organizavimas, koordinavimas | G18: Kultūros ir sporto skyrius | H18: SB | I18: 52.5 | J18: 52.5 | K18: Suorganizuotų rajoninių, respublikinių ir tarptautinių sporto renginių skaičius / stovyklų skaičius | L18: 18/5 | M18: 19/10 | N18: Pasiruošimui ir dalyvavimui šalies ir tarptautiniuose sporto renginiuose surengta 10 sporto treniruočių stovyklų (90 dalyvių). Sportininkai ir komandos šalies pirmenybėse, čempionatuose, tarptautinėse varžybose įvairaus amžiaus grupėse ir atskirose sporto šakose laimėjo 159 medalius.
A19: 01 | B19: 03 | C19: Iš viso uždaviniui | I19: =SUM(I15:I18) -> 90.2 | J19: =SUM(J15:J18) -> 89.3
A20: 01 | B20: 04 | C20: Skatinti Kėdainių rajono sporto organizacijas, sporto komandas ir sportininkus, finansuoti sporto veiklos projektus ir programas
A21: 01 | B21: 04 | C21: 01 | D21: Finansuoti sporto šakų programas, iš jų: | E21: 1 | F21: Prioritetinių sporto šakų paraiškų finansavimui organizavimas, sutarčių su vykdytojais suderinimas, sutarčių vykdymo kontrolė | G21: Kultūros ir sporto skyrius | H21: SB | I21: =SUM(I22:I27) -> 521.2 | J21: =SUM(J22:J27) -> 521.2 | K21: Finansuotų sporto šakų programų skaičius | L21: 6 | M21: 6 | N21: Finansuotos 6 sporto šakų veiklos programos
A22: 01 | B22: 04 | C22: 01. 01 | D22: Kėdainių krepšinio komandos „Nevėžis-Optibet“ klubinio krepšinio vystymo programai | H22: SB | I22: 226.2 | J22: 226.2 | K22: Užimta vieta LKL čempionate/ žiūrovų stebinčių rungtynes skaičiaus vidurkis/socialinių veiklų krašto bendruomenei skaičius / vasaros stovyklų kėdainiečiams vaikams skaičius / atviros treniruotės | L22: 7-10/ 800 / 3/2/2 | M22: 8/800/3/1/5 | N22: Finansuota programa. Krepšinio komanda „Nevėžis-Optibet“ 2022/2023 m. LKL čempionate iškovojo 8 vietą, dalyvavo FIBA EUROPE taurės turnyro atrankos varžybose. Vykdyta programa, kurioje dalyvavo 5 rajono mokyklos (17 fizinio ugdymo pamokų), suorganizuoti 2 krepšinio 3x3 turnyrai klubo fanams ir Kėdainių SC auklėtiniams, surengtos 5 atviros treniruotės.
A23: 01 | B23: 04 | C23: 01. 02 | D23: Futbolo komandos Kėdainių „Nevėžis“ klubinio futbolo vystymo programai | H23: SB | I23: 120 | J23: 120 | K23: Užimta vieta LFF pirmosios lygos pirmenybėse / žiūrovų stebinčių rungtynes skaičiaus vidurkis/ sportinių-mokomųjų stovyklų skaičius/išugdytų kėdainiečių, atstovaujančių FK "Nevėžis" suaugusiųjų komandoje skaičius | L23: 3-8 /200/8/6 | M23: 3/250/8/7 | N23: Finansuota programa. Iškovota 3 vieta LFF Optibet Pirmosios lygos pirmenybėse, vidutinis žiūrovų sk. 250, suorganizuotos 8 sportinės treniruočių stovyklos. „Nevėžio“ vyrų komandos sudėtį papildė 7 jaunieji futbolininkai iš Kėdainių.
A24: 01 | B24: 04 | C24: 01. 03 | D24: Bokso sporto šakos vystymo programai | H24: SB | I24: 15 | J24: 15 | K24: Įvairaus amžiaus grupių šalies bokso čempionatuose iškovotų medalių skaičius/tarptautinėse bokso varžybose iškovotų medalių skaičius/sporto treniruočių stovyklų skaičius/paruoštų boksininkų šalies bokso rinktinei skaičius | L24: 5/5/15/2 | M24: 6/5/15/2 | N24: Finansuota programa. Surengta 15 sporto treniruočių stovyklų. Įvairaus amžiaus grupėse šalies ir rajonų čempionatuose (44) bei tarptautinėse varžybose (5) iškovoti 49 medaliai.
A25: 01 | B25: 04 | C25: 01. 04 | D25: Kėdainių rajono vaikų ir jaunimo futbolo plėtros programai | H25: SB | I25: 120 | J25: 120 | K25: Sportuojančių vaikų skaičius/ dalyvaujančių LFF vaikų pirmenybėse komandų skaičius/FK „Nevėžis“ vyrų komandos papildymas jaunais žaidėjais skaičius | L25: 250/7/6 | M25: 280/8/7 | N25: Finansuota programa. Dalyvauta Lietuvos futbolo federacijos pirmenybių varžybose 8 amžiaus gr. 7 jauni žaidėjai papildė „Nevėžio“ komandą
A26: 01 | B26: 04 | C26: 01. 05 | D26: 3 prieš 3 krepšinio plėtros programai | H26: SB | I26: 20 | J26: 20 | K26: Sportuojančių sk., / Tarptautinių FIBA Challenger turnyrų, kuriuose dalyvauta, skaičius / Kėdainiečių sportininkų atstovavimas komandai | L26: 50/2/3 | M26: 50/0/3 | N26: Už aukšto meistriškumo sporto pasiekimus apdovanoti 35 sportininkai ir 7 treneriai+M30:M39
A27: 01 | B27: 04 | C27: 01. 06 | D27: Moterų futbolo komandos Kėdainių „Nevėžis“ programai | H27: SB | I27: 20 | J27: 20 | K27: Lietuvos moterų futbolo asociacijos Pirmos lygos pirmenybėse iškovota vieta /sporto treniruočių sk. / komandai atstovaujančių kėdainiečių sk. | L27: 3-7 / 3 / 8 | M27: 6 / 4 / 8 | N27: Finansuota programa. Lietuvos moterų futbolo asociacijos Pirmos lygos pirmenybėse iškovota 6 vieta. Surengtos 4 sporto treniruočių stovyklos. Komandai atstovauja 8 kėdainietės.
A28: 01 | B28: 04 | C28: 02 | D28: Finansuoti sporto projektus | E28: 1 | F28: Sporto projektų konkurso organizavimas, sutarčių su vykdytojais suderinimas, sutarčių vykdymo kontrolė | G28: Kultūros ir sporto skyrius | H28: SB | I28: 55 | J28: 55 | K28: Finansuojamų sporto / fizinio aktyvumo projektų skaičius | L28: 9/11 | M28: 9/11 | N28: Finansuoti 9 sporto veiklos ir 11 gyventojų fizinio aktyvumo projektų.
A29: 01 | B29: 04 | C29: 03 | D29: Teikti apdovanojimus aukšto meistriškumo sportininkams ir jų treneriams už sporto pasiekimus | E29: 1 | F29: Konkurso, apdovanojant aukšto meistriškumo sportininkus ir jų trenerius už sporto pasiekimus, organizavimas | G29: Kultūros ir sporto skyrius | H29: SB | I29: 10 | J29: 10 | K29: Apdovanotųjų skaičius | L29: 30 | M29: 42 | N29: Už aukšto meistriškumo sporto pasiekimus apdovanoti 35 sportininkai ir 7 treneriai
A30: 01 | B30: 05 | C30: Iš viso uždaviniui | I30: =+I28+I21+I29 -> 586.2 | J30: =+J28+J21+J29 -> 586.2
A31: 01 | B31: Iš viso tikslui | I31: =+I30+I19+I13 -> 729.5 | J31: =+J30+J19+J13 -> 726.3
A32: 02 | B32: Atnaujinti ir plėsti Kėdainių rajono savivaldybės sporto infrastruktūrą, pritaikyti ją šiuolaikiniams poreikiams
A33: 02 | B33: 01 | C33: Modernizuoti sporto objektų materialinę bazę, sudarant sąlygas fizinio aktyvumo ugdymui
A34: 02 | B34: 01 | C34: 01 | D34: Atnaujinti ir (arba) plėsti bendruomeninę fizinio aktyvumo infrastruktūrą mieste ir rajone, pritaikant ją bendruomenės poreikiams bei laisvalaikiui | E34: 1 | F34: Poreikio išsiaiškinimas, bendradarbiavimas su Miesto seniūnija, atnaujinimo darbų viešojo pirkimo koordinavimas, rangovo prisiimtų sutartinių įsipareigojimų vykdymo kontrolė | G34: Kultūros ir sporto skyrius, Statybos ir turto skyrius | H34: SB | I34: 50 | J34: 50 | K34: Atnaujintų/įrengtų vaikų sporto ir žaidimų aikštelių skaičius | L34: 3 | M34: 3 | N34: Atnaujinta 1 krepšinio aikštelė Vainikų k. Josvainių sen., atnaujinto miesto Rasos g. esančių krepšinio aikštelių asfalto dangos, atlikti smulkūs remonto darbai, atnaujinta Šėtos g. 87 vaikų žaidimo sporto aikštelė
A35: 02 | B35: 03 | C35: 03 | D35: Atnaujinti Kėdainių Juozo Paukštelio progimnazijos sporto aikštyną | E35: 1 | F35: Rangos darbų viešojo pirkimo organizavimas, rangovo prisiimtų sutartinių įsipareigojimų vykdymo kontrolė | G35: Statybos ir turto skyrius | H35: SBVB | I35: 232 | J35: 232 | K35: Atnaujinamų objektų skaičius | L35: 1 | M35: 1 | N35: Pradėti vykdyti J. Paukštelio progimnazijos sporto aikštyno atnaujinimo darbai, kurie bus tęsiami ir 2024 m.
H36: SB | I36: 60 | J36: 58
A37: 02 | B37: 01 | C37: 05 | D37: Rengti techninę dokumentaciją ugdymo įstaigų stadionų /sporto aikštynų atnaujinimui | E37: 1 | F37: Krakių gimnazijos sporto aikštyno bei J.Paukštelio sporto aikštyno atnaujinimo techninės dokumentacijos parengimo koordinavimas | G37: Statybos ir turto skyrius | H37: SB | I37: 22 | J37: 18.7 | K37: Parengtos techninės dokumentacijos skaičius | L37: 2 | M37: 2 | N37: Apmokėta už parengtus J. Paukštelio progimnazijos, Krakių M.Katkaus gimnazijos aikštynų atnaujinimo projektus
A38: 02 | B38: 01 | C38: Iš viso uždaviniui | I38: =SUM(I34:I37) -> 364 | J38: =SUM(J34:J37) -> 358.7
A39: 02 | B39: Iš viso tikslui | I39: =+I38 -> 364 | J39: =+J38 -> 358.7
A40: Iš viso programai | I40: =+I39+I31 -> 1093.5 | J40: =+J39+J31 -> 1085
A41: iš jų: | I41: =+I40-I42-I49 -> 9.0594199e-14 | J41: =+J40-J42-J49 -> 9.0594199e-14
A42: SAVIVALDYBĖS LĖŠOS | I42: =SUM(I43:I48) -> 1078.1 | J42: =SUM(J43:J48) -> 1069.6
A43: Savivaldybės biudžetas SB | I43: =+I37+I34+I28+I21+I17+I15+I12+I29+I18+I36 -> 846.1 | J43: =+J37+J34+J28+J21+J17+J15+J12+J29+J18+J36 -> 837.6
A44: Valstybės biudžeto specialiosios tikslinės dotacijos lėšos SBVB | I44: =+I35 -> 232 | J44: =+J35 -> 232
A45: Aplinkos apsaugos rėmimo specialiosios programos lėšos AA
A46: Iš pajamų už suteiktas paslaugas lėšos ĮP
A47: Skolintos lėšos SK
A48: Kelių priežiūros ir plėtros programos lėšos KPP
A49: KITOS LĖŠOS | I49: =SUM(I50:I53) -> 15.4 | J49: =SUM(J50:J53) -> 15.4
A50: Europos Sąjungos lėšos, užsienio fondų lėšos ES
A51: Valstybės biudžeto lėšos VB | I51: =+I16 -> 15.4 | J51: =+J16 -> 15.4
A52: Privačios – investuotojų lėšos PR
A53: Kiti finansavimo šaltiniai KT

Sheet 05kultura
H1: PATVIRTINTA Kėdainių rajono savivaldybės administracijos direktoriaus 2023 m. vasario 10 d. įsakymu Nr.AD-1- 165 (Kėdainių rajono savivaldybės administracijos direktoriaus 2024 m. sausio d. įsakymo Nr.AD-1- redakcija)
A3: Programos tikslo kodas | B3: Uždavinio kodas | C3: Priemonės kodas | D3: Priemonės pavadinimas | E3: Veiklos/darbo/ veiksmo kodas | F3: Veiklos/darbo/ veiksmo pavadinimas | G3: Atsakingi vykdytojai | H3: Finansavimo šaltinis | I3: Numatomi 2023-ųjų m. asignavimai, tūkst. Eur | J3: Panaudoti 2023-ųjų m. asignavimai, tūkst. Eur | K3: Proceso/indėlio vertinimo kriterijai
K4: Pavadinimas | L4: Planuota reikšmė | M4: Pasiekta reikšmė | N4: Nukrypimų nuo plano priežastys, pastabos, komentarai
A8: 05 KULTŪROS VEIKLOS PLĖTRA
A9: 03 | B9: Sudaryti sąlygas krašto bendruomenei dalyvauti kultūrinėje bei kūrybinėje veikloje
A10: 03 | B10: 02 | C10: Sudaryti sąlygas kultūros plėtrai rajone
A11: 03 | B11: 02 | C11: 01 | D11: Organizuoti ir užtikrinti Kultūros ir sporto skyriaus specialistų darbą kultūros srityje | E11: 1 | F11: Lietuvos Respublikos ir Savivaldybės kultūros politikos nuostatų įgyvendinimas, kultūros įstaigų veiklos koordinavimas | G11: Kultūros ir sporto skyrius | H11: SB | I11: 97.1 | J11: 95.4 | K11: Suorganizuotų renginių skaičius | L11: 35 | M11: 49 | N11: Kultūros ir sporto skyrius formavo ir įgyvendino rajono savivaldybės kultūros politiką muziejų, bibliotekų, etninės kultūros, meno mėgėjų veikloje bei kitose kultūros srityse, rūpinosi gyventojų bendrosios kultūros ugdymu. Skyrius organizavo, finansavo 40 kultūrinių renginių, švenčių, festivalių. | P11: =+J18+J28 -> 428
A12: 03 | B12: 02 | C12: 02 | D12: Finansuoti rajono savivaldybės renginius ir kultūrines iniciatyvas | E12: 1 | F12: Rajoninių renginių, konkursų, dalyvavimo regioniniuose ir respublikiniuose renginiuose bei konkursuose koordinavimas ir finansavimas | G12: Kultūros ir sporto skyrius | H12: SB | I12: 234.2 | J12: 219.1
A13: 03 | B13: 02 | C13: 03 | D13: Finansuoti kultūrinės veiklos projektus | E13: 1 | F13: Kultūros projektų konkurso organizavimas | G13: Kultūros ir sporto skyrius | H13: SB | I13: 30 | J13: 30 | K13: Finansuotų projektų skaičius | L13: 19 | M13: 19 | N13: Konkurso būdu iš pateiktų 37 paraiškų, finansuota 19 projektų, kurių metu organizuoti 65 edukaciniai užsiėmimai ir seminarai, 11 parodų ir 34 kiti įvairaus pobūdžio renginiai. Projektų veiklose dalyvavo beveik 5 tūkst. rajono gyventojų
A14: 03 | B14: 02 | C14: 04 | D14: Teikti Krašto kultūros premiją | E14: 1 | F14: Kėdainių krašto kultūros premijos konkurso organizavimas | G14: Kultūros ir sporto skyrius | H14: SB | I14: 3 | J14: 3 | K14: Kultūros premijos laureatų skaičius | L14: 1 | M14: 1 | N14: Krašto kultūros premija įteikta Erikai Usevičiūtei už naujų originalių kūrybos formų įgyvendinimą ir aktyvią kūrybinę veiklą bei Kėdainių krašto garsinimą
A15: 03 | B15: 02 | C15: 05 | D15: Teikti Česlavo Milošo premiją | E15: 1 | F15: Česlavo Milošo premijos konkurso organizavimas | G15: Kultūros ir sporto skyrius | H15: SB | I15: 5 | J15: 5 | K15: Kultūros premijos laureatų skaičius | L15: 1 | M15: 1 | N15: Kėdainių krašto garbės piliečio Česlovo Milošo premija įteikta humanitarinių mokslų daktarei, fotografijos istorikei, knygos „Vinco Svirskio mediniai stebuklai“ sudarytojai Margaritai Matulytei
A16: 03 | B16: 02 | C16: 06 | D16: Aprūpinti mėgėjų meno kolektyvus tautiniais ir kitais koncertiniais kostiumais bei muzikos instrumentais | E16: 1 | F16: Dalyvavimas tautinių kostiumų ir instrumentų įsigijimo finansavimo konkurse | G16: Kultūros ir sporto skyrius | H16: SB | I16: 15 | J16: 15 | K16: Koncertinius kostiumų komplektus/instrumentus atsinaujinusių kolektyvų skaičius | L16: 10 | M16: 10 | N16: 10-čiai kolektyvų skirta lėšų tautinių, archeologinių, istorinių kostiumų ar jų dalių įsigijimui bei mėgėjų meno kolektyvų muzikos instrumentų įsigijimui
A17: 03 | B17: 02 | C17: 07 | D17: Plėtoti tarptautinius kultūros mainus | E17: 1 | F17: Tarptautinių kultūros mainų organizavimas | G17: Kultūros ir sporto skyrius | H17: SB | I17: 10 | J17: 5.5 | K17: Organizuotų tarptautinių mainų skaičius | L17: 3 | M17: 3 | N17: Liaudiškų šokių grupė „Volungė“ dalyvavo tarptautiniame konkurse „Pasaulio folkloro taurė 2023“ (Antalija, Turkija) ir tarptautiniame šokių ir muzikos festivalyje „Dubai culture fest“ (Dubajus, Jungtiniai Arabų Emyratai). Kėdainių šviesiojoje gimnazijoje vyko delegacijos iš Feltičenio miesto (Rumunija) susitikimas su gimnazijos bendruomene
A18: 03 | B18: 02 | C18: Iš viso uždaviniui | I18: =SUM(I11:I17) -> 394.3 | J18: =SUM(J11:J17) -> 373
A19: 03 | B19: Iš viso tikslui | I19: =+I18 -> 394.3 | J19: =+J18 -> 373
A20: 04 | B20: Vystyti jaunimui palankią aplinką bei infrastruktūrą, plėsti ir skatinti įvairias jaunimo veiklas ir užimtumą, formuojant jaunimo politiką Kėdainių rajone
A21: 04 | B21: 01 | C21: Skatinti Kėdainių rajono jaunimo ir su jaunimu dirbančių organizacijų nuolatinę ir ilgalaikę programinę veiklą, jaunimo veiklos projektus, jaunimo iniciatyvas
A22: 04 | B22: 01 | C22: 01 | D22: Finansuoti jaunimo veiklos projektus | E22: 1 | F22: Jaunimo veiklos projektų konkurso organizavimas | G22: Vyr. specialistė (jaunimo reikalų koordinatorė) | H22: SB | I22: 11 | J22: 11 | K22: Finansuotų projektų skaičius | L22: 5 | M22: 4 | N22: Finansuoti 4 jaunimo ir/ar su jaunimu dirbančių organizacijų projektai, į kurių veiklas įsitraukė 989 jaunuoliai (14–29 m.)
A23: 04 | B23: 01 | C23: 02 | D23: Finansuoti programas, užtikrinančias jaunimo neformalaus ugdymo plėtrą | E23: 1 | F23: Sutarčių sudarymas, programų įgyvendinimo priežiūros organizavimas, ataskaitų rinkimas | G23: Vyr. specialistė (jaunimo reikalų koordinatorė) | H23: SB | I23: 5 | J23: 5 | K23: Suorganizuotų mokymų, susitikimų, renginių, forumų skaičius | L23: 10 | M23: 10 | N23: Finansuota Kėdainių rajono mokinių savivaldos plėtros programa, kurios priemonės skirtos stiprinti ir plėtoti rajono mokinių savivaldos institucijas ir jų vaidmenį mokyklos bendruomenėje, mokinių nuomonės atstovavimą, ugdyti pilietines, socialines, komunikacines kompetencijas
A24: 04 | B24: 01 | C24: 03 | D24: Finansuoti Atviro jaunimo centro ir atvirųjų jaunimo erdvių veiklos projektus | E24: 1 | F24: Atvirųjų jaunimo erdvių veiklos projektų konkurso organizavimas | G24: Vyr. specialistė (jaunimo reikalų koordinatorė) | H24: SB | I24: 16 | J24: 16 | K24: Finansuotų projektų skaičius | L24: 6 | M24: 5 | N24: 2023 m. rajone veikė 5 atvirosios jaunimo erdvės bei 1 atviras jaunimo centras. Konkurso būdu finansuoti 5 projektai, kurių veiklose dalyvavo 252 jaunuoliai. Per 2023 m. AJE ir AJC apsilankė per 1,1 tūkst. Jaunuolių.
A25: 04 | B25: 01 | C25: 04 | D25: Plėtoti jaunimo savanorystę Kėdainių rajone ir skatinti jaunimą užsiimti savanoriška veikla | E25: 1 | F25: Jaunimo savarankiškos veiklos plėtros konkurso organizavimas | G25: Vyr. specialistė (jaunimo reikalų koordinatorė) | H25: SB | I25: 3 | J25: 3 | K25: Finansuotų projektų skaičius | L25: 1 | M25: 1 | N25: Savanoriškos tarnybos įgyvendinimą rajone koordinuoja LPF "Tavo svajonė". Programos veikloje dalyvavo 9 jaunuoliai
A26: 04 | B26: 01 | C26: 05 | D26: Organizuoti Tarptautinės jaunimo dienos renginį | E26: 1 | F26: Priemonės organizavimas ir koordinavimas | G26: Vyr. specialistė (jaunimo reikalų koordinatorė) | H26: SB | I26: 15 | J26: 15 | K26: Suorganizuotų renginius skaičius | L26: 1 | M26: 1 | N26: Antrą kartą suorganizuotas Tarptautinis jaunimo dienos renginys, turėjęs didelį jaunimo susidomėjimą ir populiarumą
A27: 04 | B27: 01 | C27: 06 | D27: Dalyvauti jaunimo užimtumo vasarą ir integracijos į darbo rinką programoje | E27: 1 | F27: Priemonės koordinavimas ir viešinimas | G27: Vyr. specialistė (jaunimo reikalų koordinatorė) | H27: SB | I27: 7 | J27: 5 | K27: Pagal programą įdarbintų 14-18 m. jaunuolių skaičius | L27: 14 | M27: 10 | N27: Programa, kurios tikslas sudaryti palankias sąlygas kokybiškam jaunimo užimtumui, susidomėjo 6 darbdaviai. Įdarbinta buvo 10 jaunuolių (14-19 m.)
A28: 04 | B28: 01 | C28: Iš viso uždaviniui | I28: =SUM(I22:I27) -> 57 | J28: =SUM(J22:J27) -> 55
A29: 04 | B29: Iš viso tikslui | I29: =+I28 -> 57 | J29: =+J28 -> 55
A30: 05 | B30: Skatinti nevyriausybinių organizacijų veiklą, didinti jų įtrauktį
A31: 05 | B31: 01 | C31: Skatinti nevyriausybinių ir bendruomeninių organizacijų plėtrą Kėdainių rajone
A32: 05 | B32: 01 | C32: 01 | D32: Užtikrinti rajono nevyriausybinių organizacijų (įskaitant bendruomenines organizacijas) plėtrą, finansuojant projektus socialinio, pilietinio, kultūros paveldo pažinimo, etninės kultūros puoselėjimo, užimtumo bei verslumo srityse | E32: 1 | F32: Nevyriausybinių organizacijų veiklos projektų konkurso organizavimas | G32: Vyr. specialistė (nevyriausybinių organizacijų koordinatorė) | H32: SB | I32: 27 | J32: 27 | K32: Finansuotų projektų skaičius | L32: 8 | M32: 8 | N32: Organizuotas Nevyriausybinių organizacijų institucinio stiprinimo ir veiklos plėtojimo projektų finansavimo Savivaldybės biudžeto lėšomis konkursas. Konkurso būdu finansuoti 8 projektai
A33: 05 | B33: 01 | C33: 02 | D33: Sudaryti sąlygas bendruomeninių organizacijų veiklai | E33: 1 | F33: Rajono bendruomeninių organizacijų veiklos projektų konkurso organizavimas | G33: Vyr. specialistė (nevyriausybinių organizacijų koordinatorė) | H33: SB | I33: 25 | J33: 20.6 | K33: Finansuotų bendruomeninių organizacijų skaičius | L33: 28 | M33: 24 | N33: Organizuotas Bendruomeninių organizacijų veiklos projektų finansavimo Savivaldybės biudžeto lėšomis konkursas, kurio metu finansuoti 24 projektai
A34: 05 | B34: 01 | C34: 03 | D34: Finansuoti Kėdainių rajono vietos veiklos grupės teritorijos vietos plėtros 2015-2023 m. strategijos įgyvendinimą | E34: 1 | F34: Sutarčių su strategijos vykdytoju ir projektų vykdytojais sudarymas | G34: Vyr. specialistė (nevyriausybinių organizacijų koordinatorė) | H34: SB | I34: 36 | J34: 27.7 | K34: Finansuotų projektų skaičius | L34: 11 | M34: 9 | N34: Dalinai finansuoti 9 rajono bendruomeninių organizacijų vietos projektai, įgyvendinti pagal Kėdainių rajono vietos veiklos grupės teritorijos vietos plėtros strategijos 2015–2023 m. priemones.
A35: 05 | B35: 01 | C35: 04 | D35: Užtikrinti Kėdainių miesto vietos veiklos grupės 2023–2027 m. vietos plėtros strategijos parengimą ir programos "Vietos plėtros strategijos rengimo ir įgyvendinimo programa" įgyvendinimą | E35: 1 | F35: Sutarties su vykdytoju suderinimas, sutarties vykdymo kontrolė | G35: Vyr. specialistė (nevyriausybinių organizacijų koordinatorė) | H35: SB | I35: 19 | J35: 19 | K35: Finansuotų programų skaičius | L35: 1 | M35: 1 | N35: Finansuotas Kėdainių miesto vietos veiklos grupės „Vietos plėtros strategijos rengimo ir įgyvendinimo 2023 m. programos įgyvendinimas. Programos vykdymo metu parengtas Kėdainių miesto vietos veiklos grupės vietos plėtros 2023–2029 metų strategijos projektas, kuriam pritarė Kėdainių rajono savivaldybės taryba
A36: 05 | B36: 01 | C36: 05 | D36: Remti bendruomenių veiklą savivaldybėje | E36: 1 | F36: Nevyriausybinių organizacijų ir bendruomeninės veiklos koordinavimas | G36: Vyr. specialistė (nevyriausybinių organizacijų koordinatorė) | H36: SBVB | I36: 32 | J36: 32 | K36: Įgyvendinta projektų veiklų proc. | L36: 100 | M36: 100 | N36: 2023 m. valstybės biudžeto lėšomis finansuota ir įgyvendinta 10 projektų, kurių metu suplanuotos veiklos įvykdytos 100 proc., veiklose dalyvavo 1137 vietos bendruomenės nariai (gyventojai)
A37: 05 | B37: 01 | C37: 06 | D37: Skatinti nevyriausybinių organizacijų, bendruomeninių organizacijų plėtrą rajone | E37: 1 | F37: Nevyriausybinių organizacijų forumo ir tarptautinės savanorių dienos paminėjimo organizavimas | G37: Vyr. specialistė (nevyriausybinių organizacijų koordinatorė) | H37: SB | I37: 10 | J37: 9.9 | K37: Paskatintų iniciatyvų bei suorganizuotų veiklų skaičius | L37: 3 | M37: 6 | N37: Priemonės įgyvendinimo metu suorganizuoti mokymai rajono nevyriausybinėms organizacijoms ir administracijos darbuotojams; suorganizuotas rajono nevyriausybinių organizacijų forumas; surengtas Savanorių padėkos dienos, minint tarptautinę savanorių dieną, renginys, pasirašyta Kėdainių rajono savivaldybės ir Raseinių rajono savivaldybės bendradarbiavimo sutartis, kuria rajonų savivaldybės susitarė bendradarbiauti abipusiai reikšmingoje srityje – bendruomeninių organizacijų veiklos stiprinimo ir plėtojimo srityje. Sudarytos galimybės rajono bendruomeninių organizacijų atstovams dalyvauti Lietuvos bendruomenių sąskrydyje Karklėje.
A38: 05 | B38: 01 | C38: Iš viso uždaviniui | I38: =SUM(I32:I37) -> 149 | J38: =SUM(J32:J37) -> 136.2
A39: 05 | B39: Iš viso tikslui | I39: =+I38 -> 149 | J39: =+J38 -> 136.2
A40: 06 | B40: Atnaujinti ir plėsti kultūros įstaigų viešąją infrastruktūrą, pritaikyti ją kultūriniams ir bendruomeniniams poreikiams
A41: 06 | B41: 01 | C41: Gerinti kultūros paskirties viešąją infrastruktūrą, modernizuoti materialinę ir edukacinę aplinką
A42: 06 | B42: 01 | C42: 01 | D42: Rekonstruoti Kėdainių kultūros centrą | E42: 1 | F42: Rangos darbų koordinavimas, rangovo prisiimtų sutartinių įsipareigojimų vykdymo kontrolė | G42: Statybos ir turto skyrius | H42: SBVB | I42: 300 | J42: 300 | K42: Įgyvendinta einamaisiais metais numatomų atlikti projekto veiklų proc. | L42: 100 | M42: 100 | N42: Tęsti vidaus apdailos darbai, įrengtos akustinės sienos ir lubos, įrengta kiliminė danga, išbetonuoti pamatai, apšiltintos grindys. Sklypo teritorijoje išasfaltuotas kelias, įrengti pagrindai takams, įrengta trinkelių danga.
H43: SK | I43: 106 | J43: 106
A44: 06 | B44: 01 | C44: 02 | D44: Aktualizuoti Kėdainių krašto muziejų, padidinant kultūros paveldo aktualumą, lankomumą ir žinomumą (įskaitant ekspozicijų atnaujinimą) | E44: 1 | F44: Projekto koordinavimas, rangos darbų koordinavimas, rangovo prisiimtų sutartinių įsipareigojimų vykdymo kontrolė | G44: Strateginio planavimo ir investicijų skyrius, Statybos ir turto skyrius | H44: SB | I44: 10 | J44: 10 | K44: Aktualizuotų objektų skaičius | L44: 1 | M44: 1 | N44: Įgyvendintas ES projektas, atlikti baigiamieji projekto darbai
A45: 06 | B45: 01 | C45: 05 | D45: Remontuoti Akademijos kultūros centrą | E45: 1 | F45: Rangos darbų viešojo pirkimo organizavimas, rangos darbų koordinavimas, rangovo prisiimtų sutartinių įsipareigojimų vykdymo kontrolė | G45: Statybos ir turto skyrius | H45: SK | I45: 170 | J45: 170 | K45: Atlikta einamaisiais metais numatytų darbų, proc. | L45: 100 | M45: 100 | N45: 2022 m. pakeisti visi kultūros centro langai pagal parengtą projektą, apmokėta likusi dalis išlaidų.
H46: SB | I46: 14.6 | J46: 0
A47: 06 | B47: 01 | C47: 07 | D47: Įsigyti Janinos Monkutės-Marks pastatą | E47: 1 | F47: Pastato įsigijimo organizavimas ir koordinavimas | G47: Administracijos direktorius | H47: SB | I47: 267.3 | J47: 267.3 | K47: Įsigytų objektų visuomenės poreikiams skaičius | L47: 1 | M47: 1 | N47: Įsigyti Janinos Monkutės-Marks pastatas visuomenės ir kultūrinėms veikloms vykdyti
A48: 06 | B48: 01 | C48: Iš viso uždaviniui | I48: =SUM(I42:I47) -> 867.9 | J48: =SUM(J42:J47) -> 853.3
A49: 06 | B49: Iš viso tikslui | I49: =+I48 -> 867.9 | J49: =+J48 -> 853.3
A50: Iš viso programai | I50: =+I49+I39+I29+I19 -> 1468.2 | J50: =+J49+J39+J29+J19 -> 1417.5
A51: iš jų: | I51: =+I50-I52-I59 -> 0 | J51: =+J50-J52-J59 -> 0
A52: SAVIVALDYBĖS LĖŠOS | I52: =SUM(I53:I58) -> 1468.2 | J52: =SUM(J53:J58) -> 1417.5
A53: Savivaldybės biudžetas SB | I53: =+I47+I44+I37+I35+I34+I33+I32+I27+I26+I25+I24+I23+I22+I17+I16+I15+I14+I13+I12+I11+I46 -> 860.2 | J53: =+J47+J44+J37+J35+J34+J33+J32+J27+J26+J25+J24+J23+J22+J17+J16+J15+J14+J13+J12+J11+J46 -> 809.5
A54: Valstybės biudžeto specialiosios tikslinės dotacijos lėšos SBVB | I54: =+I42+I36 -> 332 | J54: =+J42+J36 -> 332
A55: Aplinkos apsaugos rėmimo specialiosios programos lėšos AA
A56: Iš pajamų už suteiktas paslaugas lėšos ĮP
A57: Skolintos lėšos SK | I57: =+I43+I45 -> 276 | J57: =+J43+J45 -> 276
A58: Kelių priežiūros ir plėtros programos lėšos KPP
A59: KITOS LĖŠOS | I59: =SUM(I60:I63) -> 0 | J59: =SUM(J60:J63) -> 0
A60: Europos Sąjungos lėšos, užsienio fondų lėšos ES
A61: Valstybės biudžeto lėšos VB
A62: Privačios – investuotojų lėšos PR
A63: Kiti finansavimo šaltiniai KT

Sheet 06turizm_paveld
H1: PATVIRTINTA Kėdainių rajono savivaldybės administracijos direktoriaus 2023 m. vasario 10 d. įsakymu Nr.AD-1- 165 (Kėdainių rajono savivaldybės administracijos direktoriaus 2024 m. sausio d. įsakymo Nr.AD-1- redakcija)
A3: Programos tikslo kodas | B3: Uždavinio kodas | C3: Priemonės kodas | D3: Priemonės pavadinimas | E3: Veiklos/darbo/ veiksmo kodas | F3: Veiklos/darbo/ veiksmo pavadinimas | G3: Atsakingi vykdytojai | H3: Finansavimo šaltinis | I3: Numatomi 2023-ųjų m. asignavimai, tūkst. Eur | J3: Panaudoti 2023-ųjų m. asignavimai, tūkst. Eur | K3: Proceso/indėlio vertinimo kriterijai
K4: Pavadinimas | L4: Planuota reikšmė | M4: Pasiekta reikšmė | N4: Nukrypimų nuo plano priežastys, pastabos, komentarai
A8: 06 KULTŪROS PAVELDO IŠSAUGOJIMAS, TURIZMO SKATINIMAS IR VYSTYMAS
A9: 01 | B9: Skatinti vietinį bei atvykstamąjį turizmą, plėtoti turizmo rinkodarą
A10: 01 | B10: 01 | C10: Užtikrinti efektyvią VšĮ Kėdainių turizmo ir verslo informacijos centro veiklą turizmo srityje
A11: 01 | B11: 01 | C11: 01 | D11: Finansuoti VšĮ Kėdainių turizmo ir verslo informacijos centro turizmo veiklos programą: | E11: 1 | F11: Priemonės įgyvendinimo koordinavimas | G11: Administracijos direktorius | H11: SB | I11: 80.4 | J11: 80.4 | K11: Kėdainių rajono savivaldybėje apsilankiusių turistų skaičius per metus (tūkst. asmenų/ per metus) (vertinami Kėdainių TVIC apsilankę turistai) | L11: 9.5 | M11: 11.6 | N11: 2023 m. Kėdainių TVIC sulaukė 12,4 proc. daugiau lankytojų nei 2022 m. 78 proc. visų lankytojų - lietuviai, 22 proc. - užsienio turistai. Didžioji dalis užsienio turistų - lenkai bei latviai.
D12: turizmo maršrutų, individualių ekskursijų programų rengimas | K12: Atnaujintų/parengtų turizmo maršrutų skaičius | L12: 4 | M12: 4 | N12: Įgyvendinant finansuojamos programos veiklas, išleista po 500 vnt. brošiūrų "Kėdainiai" lietuvių ir lenkų kalbomis, 1000 bukletų "Isos slėnis: kelias" LT kalba, 200 vnt. sieninių kalendorių, 2000 vnt. skirtukų-kalendoriukų. Leidinukai nemokamai dalinami Kėdainių TVIC, turizmo parodose ir renginiuose
D13: kartografinių-informacinių turistinių leidinių leidyba
D14: turizmo informacijos apie gamtos, architektūros, istorijos, kultūros paveldo objektus, lankytinas vietas, maitinimo, apgyvendinimo, kaimo turizmo sodybas, amatus teikimas, kaupimas, sisteminimas ir atnaujinimas | K14: Turizmo statistikos duomenų apskaita ir analizė, val. | L14: 160 | M14: 160 | N14: Kėdainių TVIC vykdė lankytojų, kaimo turizmo, apgyvendinimo įmonių, muziejų duomenų apskaitą ir analizę
D15: dalyvavimas turizmo parodose, mugėse, šventėse | K15: Parodų, mugių, kuriuose dalyvauta, skaičius | L15: 4 | M15: 4 | N15: Kėdainių TVIC dalyvavo turizmo parodoje "Adventur", turizmo parodoje Vroclave (Lenkija), Jūros šventėje Klaipėdoje, Vilniaus knygų mugėje.. Dalyvavimas parodose, turizmo renginiuose bendruose stenduose su kitomis savivaldybėmis pasiteisina, kadangi mažesnėmis sąnaudomis pasiekiama tikslinė auditorija
D16: turizmo informacijos sklaida socialiniuose tinkluose, spaudoje | K16: Informacijos sklaida, val. | L16: 1390 | M16: 1390 | N16: Įgyvendinant programą informacija populiarinanti Kėdainių kraštą, talpinamos socialiniame tinkle „Facebook“ lietuvių ir anglų kalbomis (,,Kėdainių turizmo ir verslo informacijos centras“, ,,Kėdainių senamiestis“, ,,Kėdainiai tourism and business“): pateikiama aktuali informacija apie renginius, lankytinus objektus ir paslaugas. Skelbiami įrašai Kėdainių TVIC Instagram ir Twitter paskyrose. Taip pat apie TVIC veiklą ir naujienas skelbiama Kėdainių rajono spaudai bei televizijai. Organizuoti įvairūs konkursai. suteikta galimybė naudotis mobiliąja programėle "Visit Kėdainiai".
A17: 01 | B17: 01 | C17: Iš viso uždaviniui | I17: =SUM(I11:I16) -> 80.4 | J17: =SUM(J11:J16) -> 80.4
A18: 01 | B18: Iš viso tikslui | I18: =+I17 -> 80.4 | J18: =+J17 -> 80.4
A19: 02 | B19: Pritaikyti viešąją infrastruktūrą visuomenės turizmo ir rekreacijos poreikiams, įveiklinti kultūros ir gamtos paveldą
A20: 02 | B20: 01 | C20: Išsaugoti istorinį bei kultūros paveldą, didinti jo patrauklumą ir žinomumą
A21: 02 | B21: 02 | C21: 01 | D21: Parengti Nekilnojamųjų kultūros vertybių vertinimo medžiagą, nekilnojamųjų kultūros paveldo objektų, vietovių individualius apsaugos reglamentus | E21: 1 | F21: Nekilnojamųjų kultūros vertybių vertinimo medžiagos parengimo organizavimas ir koordinavimas | G21: Architektūros ir urbanistikos skyrius | H21: SB | I21: 6 | J21: 4.8 | K21: Skaičius objektų, esančių Kultūros vertybių registre, kurių duomenys / objektų skaičius, kuriems parengti individualūs apsaugos reglamentai | L21: 1 | M21: 1 | N21: Parengti 29 kultūros paveldo objektų būklės patikrinimo aktai su fotofiksacija, taip pat 17 - rajono gyventojams dėl sandorių. Atliktas kultūros paveldo objektų stebėsenos sisteminimas ir projektų bei vertinimo aktų dokumentacijos archyvo kūrimas
E22: 2 | F22: Individualių apsaugos reglamentų nekilnojamiesiems kultūros objektams, vietovėms rengimas | G22: Architektūros ir urbanistikos skyrius
A23: 02 | B23: 01 | C23: 02 | D23: Įgyvendinti Kėdainių rajono savivaldybės bažnyčių rėmimo programą | E23: 1 | F23: Programos įgyvendinimo koordinavimas | G23: Architektūros ir urbanistikos skyrius | H23: SB | I23: 50 | J23: 50 | K23: Kulto pastatų, kuriems skirtas finansavimas tvarkybos darbams atlikti, skaičius | L23: 3 | M23: 5 | N23: Įgyvendinant programą pasirašytos 5 biudžeto lėšų naudojimo sutartys. Sutvarkyta Šėtos Švenčiausiosios Trejybės bažnyčios šoninių navų ir presbiterijos korpusų stogo dalys. Kėdainių Šv. Jurgio bažnyčioje baigta vargonų restauracija, prisidėta prie Dotnuvos bažnyčios bokštų tvarkybos darbų (fasadų tvarkybos darbai baigti), vykdyti Šlapaberžės Nukryžiuotojo Jėzaus bažnyčios medinių grindų keitimo darbai, vykdyti Šventybraščio Kristaus Atsimainymo bažnyčios stogo valymo, lopymo, dažymo darbai
A24: 02 | B24: 02 | C24: 03 | D24: Rengti dokumentaciją, atlikti lankytinų objektų, kultūros paveldo objektų ar objektų, esančių kultūros paveldo teritorijų prieigose, tvarkybos, atnaujinimo, restauravimo darbus seniūnijose | E24: 1 | F24: P.P.Lapės antkapio, paminklo, teritorijos sutvarkymo projekto parengimo viešojo pirkimo organizavimas, paslaugų teikėjo prisiimtų sutartinių įsipareigojimų vykdymo kontrolė | G24: Architektūros ir urbanistikos skyrius | H24: SB | I24: 80 | J24: 54.4 | K24: Tvarkomų objektų skaičius | L24: 5 | M24: 7 | N24: Atlikti Pranciškaus Prūsaičio – Lapės antkapinio paminklo akmens įrengimo darbai, sutvarkytas pirmo žuvusio Lietuvos savanorio P. Lukšio kapas, atminties skvere įrengta betoninė kalvelė, įsigyta topografinės nuotraukos paruošimo paslaugos, atlikti Minareto bokšto vidaus valymo ir dezinfekavimo darbai, parengta Apytalaukio dvaro sodybos rūmų tvarkybos darbų projekto A laida, paruoštas paveldo tvarkybos darbų projektas. Taip pat įrengta Slikių kaimo atminimo akmens, žuvusiems už Lietuvos laisvę, memorialinė lenta, atnaujintas monumentalus medinis kryžius, skirtas nekaltai žuvusiems 1945-11-09 Okainių gyventojams ir jį juosianti tvorelė, atlikti 2019 m. archeologinių kasinėjimų metu aptiktų XV-XVII a. Kėdainių miesto senkapio priklausančių palaikų, antkapinio akmens (Sirutiškio k. Daškonių k. 4.) įrengimo darbai, atnaujintas Kryždirbio V. Svirskio kapo medinis kryžius, pasirašyta Gumbių koplytėlės paveldo tvarkybos darbų sutartis
E25: 2 | F25: Atminties skvero memorialo teritorijos sutvarkymo projekto parengimo ir projektinių sprendinių įgyvendinimo viešojo pirkimo organizavimas, tiekėjų prisiimtų sutartinių įsipareigojimų vykdymo kontrolė | G25: Architektūros ir urbanistikos skyrius
E26: 3 | F26: Okainių k. Kryžiaus tvarkybos, Slikių kaimo memorialinės lentos atnaujinimo darbų koordinavimas | G26: Architektūros ir urbanistikos skyrius
E27: 4 | F27: Apytalaukio dvaro sodybos remonto, avarinės būklės likvidavimo ir paveldo tvarkybos darbų projekto su tyrimais viešojo pirkimo organizavimas, tiekėjų prisiimtų sutartinių įsipareigojimų vykdymo kontrolė | G27: Architektūros ir urbanistikos skyrius
E28: 5 | F28: Praėjimo iš Senosios rinkos aikštės į Smilgos g. arkos sutvarkymo darbų organizavimas | G28: Architektūros ir urbanistikos skyrius
A29: 02 | B29: 01 | C29: 06 | D29: Atlikti Paberžės klebonijos ir svirno restauravimo ir remonto darbus | E29: 1 | F29: Priemonės koordinavimas | G29: Architektūros ir urbanistikos skyrius | H29: SB | I29: 47 | J29: 47 | K29: Restauruotų objektų skaičius | L29: 2 | M29: 2 | N29: Baigtos Kultūros infrastruktūros centro įgyvendinamo ir savivaldybės dalinai finansuojamo projekto veiklos. Restauruotas Paberžės dvaro ir Švč. Mergelės Marijos Apsilankymo bažnyčios statinių komplekso svirnas ir klebonija
A30: 02 | B30: 01 | C30: 07 | D30: Įrengti valstybinės reikšmės kelių nuorodas į savivaldybės kultūros paveldo objektus | E30: 1 | F30: Informacinių lentelių / nuorodų įrengimo į paveldo objektus koordinavimas | G30: Architektūros ir urbanistikos skyrius | H30: SB | I30: 11 | J30: 10.6 | K30: Įrengtų/tvarkomų informacinių ženklinimo infrastruktūros objektų skaičius | L30: 6 | M30: 32 | N30: Pagal 2022 m. pasirašytą sutartį mieste ir rajone baigtos įrengti nauji/atnaujintos krypties rodyklės į lankytinas vietas (14 vnt.), taip pat papildomai įrengta dar 18 krypties rodyklių
A31: 02 | B31: 01 | C31: 08 | D31: Atlikti archeologinius ir kitus tyrinėjimus kultūros paveldo teritorijose, vykdyti paveldo objektams parengtų tvarkybos projektų ekspertizę, parengti sąmatas | E31: 1 | F31: Pagal poreikį | G31: Architektūros ir urbanistikos skyrius | H31: SB | I31: 3 | J31: 1 | K31: Einamaisiais metais numatomų atlikti tyrinėjimų/ Ekspertuotų projektų skaičius (pagal poreikį) | L31: 1/2 | M31: 0/2 | N31: Atliktos Minareto fasadų tvarkybos darbų projekto dalinės projekto ekspertizės paslaugos, taip pat Apytalaukio dvaro sodybos rūmų tvarkybos darbų (tyrimų, remonto, restauravimo, avarijos grėsmės pašalinimo (apsaugos techninių priemonių įrengimo) tvarkybos darbų (skaičiuojamosios kainos) nustatymas
A32: 02 | B32: 01 | C32: 11 | D32: Atlikti Bakainių piliakalnio su priešpiliu ir papiliu, priešpilio tvarkybos darbus | E32: 1 | F32: Pasirašytos sutarties dėl atliekamų tyrimų koordinavimas | G32: Architektūros ir urbanistikos skyrius | H32: AA | I32: 23 | J32: 25.1 | K32: Atlikti moksliniai taikomieji tyrimai / parengta projektinė dokumentacija / einamaisiais metais numatyta atliktų darbų | L32: 1/0/0 | M32: 1/0/0 | N32: Atlikti inžineriniai geologiniai tyrimai, įsigytos priemonės teritorijų apsaugai, KPD pateikta paraiška dėl avarinės būklės likvidavimo aprašo/projekto ruošimo
A33: 02 | B33: 01 | C33: 12 | D33: Įgyvendinti kultūros paveldo objektų, esančių Kėdainių rajono savivaldybės teritorijoje, ir kultūros paveldo statinių, esančių Kėdainių senamiesčio dalyje, išsaugojimo darbų finansavimo programą | E33: 1 | F33: Programos įgyvendinimo koordinavimas | G33: Architektūros ir urbanistikos skyrius | H33: SB | I33: 20 | J33: 7.4 | K33: Tvarkomų kultūros paveldo objektų ar kultūros paveldo statinių skaičius | L33: 2 | M33: 2 | N33: Įgyvendinant programą, pasirašytos 3 biudžeto finansavimo sutartys. Daliniu finansavimu sutvarkyti pastato Didžioji g. 38, Kėdainiai fasadai, taip pat daliniu finansavimu atlikti Lipliūnų dvaro interjero polichromijos tyrimai. 1 sutartis neįgyvendinta dėl pastato savininkų nesutarimo dėl dalinės tvarkybos veiksmų
A34: 02 | B34: 01 | C34: Iš viso uždaviniui | I34: =SUM(I21:I33) -> 240 | J34: =SUM(J21:J33) -> 200.3
A35: 02 | B35: 02 | C35: Plėtoti, atnaujinti viešąją infrastruktūrą, atsižvelgiant į turizmo plėtros ir rekreacijos poreikius
A36: 02 | B36: 02 | C36: 01 | D36: Parengti Akademijos parko tvarkybos bei techninius projektus ir atlikti darbus | E36: 1 | F36: Techninės dokumentacijos rengimo viešųjų pirkimų organizavimas, paslaugų teikėjo prisiimtų sutartinių įsipareigojimų vykdymo kontrolė | G36: Statybos ir turto skyrius | H36: SB | I36: 23 | J36: 0 | K36: Parengta techninė dokumentacija | L36: 1 | M36: 0 | N36: Įgyvendintos Akademijos parko takų inventorizavimo procedūros. parengtas dalies parko tvarkybos projektas. Keletą kartų vykdyti viešieji pirkimai viso parko techniniam projektui parengti, tačiau nebuvo gautas nei vienas pasiūlymas. 2024 m. planuojama skelbti naują rangos viešojo pirkimo konkursą
A37: 02 | B37: 02 | C37: 02 | D37: Kompleksiškai sutvarkyti ir pritaikyti bendruomenei ir verslui Kėdainių miesto viešąsias erdves | E37: 1 | F37: Projekto koordinavimas, baigtinės dokumentacijos institucijoms teikimas | G37: Strateginio planavimo ir investicijų skyrius | H37: ES | I37: 250.8 | J37: 79.6 | K37: Projekto veiklų įgyvendinimo proc. | L37: 100 | M37: 100 | N37: Projekto veiklos įgyvendintos dar 2022 m., vertinamas galutinis mokėjimo prašymas, 2023 m. kompensuotos SB patirtos išlaidos
H38: VB | I38: 20.3 | J38: 0
A39: 02 | B39: 02 | C39: Iš viso uždaviniui | I39: =SUM(I36:I38) -> 294.1 | J39: =SUM(J36:J38) -> 79.6
A40: 11 | B40: Iš viso tikslui | I40: =+I39+I34 -> 534.1 | J40: =+J39+J34 -> 279.9
A41: Iš viso programai | I41: =+I40+I18 -> 614.5 | J41: =+J40+J18 -> 360.3
A42: iš jų: | I42: =+I41-I43-I50 -> 0 | J42: =+J41-J43-J50 -> 0
A43: SAVIVALDYBĖS LĖŠOS | I43: =SUM(I44:I49) -> 343.4 | J43: =SUM(J44:J49) -> 280.7
A44: Savivaldybės biudžetas SB | I44: =+I36+I33+I31+I30+I29+I24+I23+I21+I11 -> 320.4 | J44: =+J36+J33+J31+J30+J29+J24+J23+J21+J11 -> 255.6
A45: Valstybės biudžeto specialiosios tikslinės dotacijos lėšos SBVB
A46: Aplinkos apsaugos rėmimo specialiosios programos lėšos AA | I46: =+I32 -> 23 | J46: =+J32 -> 25.1
A47: Iš pajamų už suteiktas paslaugas lėšos ĮP
A48: Skolintos lėšos SK
A49: Kelių priežiūros ir plėtros programos lėšos KPP
A50: KITOS LĖŠOS | I50: =SUM(I51:I54) -> 271.1 | J50: =SUM(J51:J54) -> 79.6
A51: Europos Sąjungos lėšos, užsienio fondų lėšos ES | I51: =+I37 -> 250.8 | J51: =+J37 -> 79.6
A52: Valstybės biudžeto lėšos VB | I52: =+I38 -> 20.3 | J52: =+J38 -> 0
A53: Privačios – investuotojų lėšos PR

Sheet 07Infrastr.
H1: PATVIRTINTA Kėdainių rajono savivaldybės administracijos direktoriaus 2023 m. vasario 10 d. įsakymu Nr.AD-1- 165 (Kėdainių rajono savivaldybės administracijos direktoriaus 2024 m. sausio d. įsakymo Nr.AD-1- redakcija)
A3: Programos tikslo kodas | B3: Uždavinio kodas | C3: Priemonės kodas | D3: Priemonės pavadinimas | E3: Veiklos/darbo/ veiksmo kodas | F3: Veiklos/darbo/ veiksmo pavadinimas | G3: Atsakingi vykdytojai | H3: Finansavimo šaltinis | I3: Numatomi 2023-ųjų m. asignavimai, tūkst. Eur | J3: Panaudoti 2023-ųjų m. asignavimai, tūkst. Eur | K3: Proceso/indėlio vertinimo kriterijai
K4: Pavadinimas | L4: Planuota reikšmė | M4: Pasiekta reikšmė | N4: Nukrypimų nuo plano priežastys, pastabos, komentarai
A8: 07 INFRASTRUKTŪROS OBJEKTŲ PRIEŽIŪRA IR PLĖTRA
A9: 01 tikslas. Kurti ir pritaikyti viešąją infrastruktūrą su darnia aplinka šiuolaikiniams poreikiams
A10: 01 uždavinys. Rengti ir (arba) atnaujinti Kėdainių rajono savivaldybės teritorijų planavimo ir kitus dokumentus, sudarant sąlyga infrastruktūros plėtrai
A11: 01 | B11: 01 | C11: 01 | D11: Rengti specialiuosius, bendruosius, detaliuosius, geodezinius planus bei topografines nuotraukas | E11: 1 | F11: Specialiųjų, detaliųjų, geodezinių planų rengimo viešųjų pirkimų organizavimas, teikiamų paslaugų koordinavimas, paslaugų teikėjo prisiimtų sutartinių įsipareigojimų vykdymo kontrolė | G11: Architektūros ir urbanistikos skyrius | H11: SB | I11: 75 | J11: 35.4 | K11: Parengtų specialiųjų, detaliųjų, geodezinių planų skaičius | L11: ~50 | M11: 46 | N11: Vykdytos funkcijos teritorijų planavimo ir žemėtvarkos srityje. Parengti ir patvirtinti Gebenių ir Sausmedžių g., specialieji planai, koreguotas Kėdainių rajono vandens tiekimo ir nuotekų tvarkymo infrastruktūros plėtros specialusis planas, pasirašytos sutartys dėl Birutės g., Daukšių k. ir Paeismilgio k. specialiojo plano rengimo, Pelėdnagių k. detaliojo plano korektūros, užsakyti 42 žemės sklypų kadastriniai matavimai, patvirtinti 134 žemės sklypų formavimo ir pertvarkymo projektai
A12: 01 | B12: 01 | C12: 02 | D12: Parengti Senojo Upytės kelio specialųjį planą ("Isos slėnis") | E12: 1 | F12: Specialiojo plano rengimo viešųjų pirkimų organizavimas, teikiamų paslaugų koordinavimas, paslaugų teikėjo prisiimtų sutartinių įsipareigojimų vykdymo kontrolė | G12: Architektūros ir urbanistikos skyrius | H12: SB | I12: 50 | J12: 0 | K12: Rengiamų specialiųjų planų skaičius | L12: 1 | M12: 1 | N12: Įvykdytos viešojo pirkimo procedūros, pasirašyta plano rengimo sutartis, planuojama specialiojo plano parengimo data - 2025 m.
A13: 01 | B13: 01 | C13: 03 | D13: Atlikti turto inventorizavimą, teisinę registraciją, parengti dokumentus turto privatizavimui | E13: 1 | F13: Savivaldybei nuosavybės teise priklausančio turto dokumentų rengimas, sisteminimas ir teikimas kadastriniams matavimams ir teisinei registracijai atlikti | G13: Statybos ir turto skyrius | H13: SB | I13: 30 | J13: 22.9 | K13: Inventorizuotų nekilnojamojo turto objektų skaičius | L13: 50 | M13: 83 | N13: Vykdytos Savivaldybei nuosavybės teise priklausančio turto dokumentų rengimo, sisteminimo ir teikimo kadastriniams matavimams ir teisinei registracijai, organizuotas Savivaldybei nuosavybės teise priklausančio numatyto parduoti turto vertinimas, vykdytos Savivaldybės nuosavybės teise priklausančio turto pardavimo procedūros
E14: 2 | F14: Savivaldybei nuosavybės teise priklausančio numatyto parduoti turto vertinimo organizavimas
E15: 3 | F15: Savivaldybės nuosavybės teise priklausančio turto pardavimo procedūrų vykdymas
A16: 01 | B16: 01 | C16: 04 | D16: Rengti infrastruktūros objektų tvarkymo investicinius projektus, planus, paraiškas, kitą techninę dokumentaciją Europos Sąjungos ar kitų fondų paramai gauti | E16: 1 | F16: Projektinių pasiūlymų, paraiškų ir kitos dokumentacijos parengimo organizavimas ir kontrolė | G16: Strateginio planavimo ir investicijų skyrius | H16: SB | I16: 60 | J16: 5.7 | K16: Parengtos dokumentacijos skaičius | L16: 4 | M16: 12 | N16: 2023 m. pateikti 2 projektiniai pasiūlymai, parengtos 6 projektų paraiškos, parengti 4 investiciniai projektai, rengta kita techninė dokumentacija. Gavus finansavimą projektams, lėšos už techninės dokumentacijos parengimą kompensuotos
A17: 01 | B17: 01 | C17: 05 | D17: Rengti infrastruktūros plėtros technines dokumentacijas | E17: 1 | F17: Techninės dokumentacijos rengimo viešojo pirkimo organizavimas, tiekėjo prisiimtų sutartinių įsipareigojimų vykdymo kontrolė | G17: Architektūros ir urbanistikos skyrius | H17: SB | I17: 50 | J17: 0 | K17: Parengtų techninių dokumentacijų skaičius | L17: 2 | M17: 0 | N17: Priemonė planuota iš Infrastruktūros plėtros įmokų lėšų. 2023 m. techninės dokumentacijos rengimo viešųjų pirkimų procedūros nebuvo organizuotos
A18: 01 | B18: 01 | C18: Iš viso 01 uždaviniui | I18: =SUM(I11:I17) -> 265 | J18: =SUM(J11:J17) -> 64
H19: Iš viso SB | I19: =+I16+I13+I11+I12+I17 -> 265 | J19: =+J16+J13+J11+J12+J17 -> 64
A21: 02 uždavinys. Užtikrinti inžinerinio aprūpinimo (vandentiekio, nuotekų tinklų ir kt.) sistemų atnaujinimą ir plėtrą
A22: 01 | B22: 02 | C22: 01 | D22: Įrengti, rekonstruoti, išplėsti vandentiekio ir/ar nuotekų tinklus Kėdainių mieste (Šviesos, g. Pievų g.) | E22: 1 | F22: Rangos darbų Šviesos g. viešojo pirkimo organizavimas, rangos darbų koordinavimas, rangovo prisiimtų sutartinių įsipareigojimų vykdymo kontrolė | G22: Statybos ir turto skyrius | H22: SB | I22: 83.1 | J22: 83.1 | K22: Paklota vandentiekio ir nuotekų tinklų, m | L22: ~300 | M22: 416 | N22: Šviesos g. įrengti vandentiekio (194 m) ir nuotekų tinklai (223 m)
A23: 01 | B23: 02 | C23: 02 | D23: Rekonstruoti ir plėsti vandentiekio ir buitinių nuotekų infrastruktūrą Šėtos miestelyje, Kunionių kaime bei Kėdainių mieste | E23: 1 | F23: Projekto, kurį įgyvendina UAB "Kėdainių vandenys", kofinansavimo dalies užtikrinimas | G23: Apskaitos skyrius | H23: SB | I23: 445.3 | J23: 1.9 | K23: Rekonstruojamų/naujai paklotų vandentiekio ir nuotekų tinklų, km (iš viso suminis) | L23: ~11 | M23: ~11 | N23: UAB "Kėdainių vandenys" įgyvedinamam projektui gavus papildomą finansavimą papildomoms veikloms įgyvendinti ir projekto finansiniam intensyvumui susimažinti, planuotų lėšų neprireikė
H24: AA | I24: 150 | J24: 0
A25: 01 | B25: 02 | C25: 04 | D25: Rekonstruoti Kėdainių miesto nuotekų valyklą | E25: 1 | F25: Projekto, kurį įgyvendina UAB "Kėdainių vandenys", kofinansavimo dalies užtikrinimas | G25: Apskaitos skyrius | H25: SB | I25: 39.5 | J25: 18.6 | K25: Rekonstruotų objektų skaičius | L25: 1 | M25: 1 | N25: Miesto valyklos rekonstrukcija fiziškai baigta 2022 m. Apmokėtos galutinio mokėjimo prašymo išlaidos
A26: 01 | B26: 02 | C26: 06 | D26: Išplėsti buitinių nuotekų tinklus Labūnavos gyvenvietėje, Nevėžio g, ir Vainikų g. | E26: 1 | F26: Rangos darbų koordinavimas, rangovo prisiimtų sutartinių įsipareigojimų vykdymo kontrolė | G26: Statybos ir turto skyrius | H26: SB | I26: 0 | J26: 0 | K26: Paklota vandentiekio buitinių nuotekų tinklų, m | L26: ~3100 | M26: 2728 | N26: Įrengti vandentiekio tinklai Nevėžio g. (865 m) bei nuotekų tinklai Nevėžio ir Vainikų g. (1863 m)
H27: SK | I27: 210 | J27: 210
A28: 01 | B28: 02 | C28: 08 | D28: Plėsti vandentiekio ir nuotekų tinklus Šlapaberžės kaime | E28: 1 | F28: Projektavimo paslaugų teikėjo prisiimtų sutartinių įsipareigojimų vykdymo kontrolė | G28: Statybos ir turto skyrius | H28: SB | I28: 17.7 | J28: 14.7 | K28: Parengtos techninės dokumentacijos skaičius | L28: 1 | M28: 1 | N28: Parengtas supaprastintas statybos projektas
A29: 01 | B29: 02 | C29: 10 | D29: Remontuoti objektus pagal administracijos direktoriaus įsakymus | E29: 1 | F29: Priemonės įgyvendinimo koordinavimas | G29: Administracijos direktorius | H29: SB | I29: 80 | J29: 74.5 | K29: Remontuotų objektų skaičius | L29: 7 | M29: 11 | N29: Lėšos skirtos 11 objektų remontui
A30: 01 | B30: 02 | C30: 11 | D30: Likviduoti avarinius židinius | E30: 1 | F30: Priemonės įgyvendinimo koordinavimas | G30: Administracijos direktorius | H30: SB | I30: 40 | J30: 15.7 | K30: Objektų skaičius, kuriuose likviduoti avariniai židiniai | L30: 6 | M30: 5 | N30: Lėšos skirtos 5 objektų remontui
A31: 01 | B31: 02 | C31: 15 | D31: Išplėsti nuotekų tinklus Aukštųjų Kaplių k. Liepų g. ir įrengti siurblinę | E31: 1 | F31: Rangos darbų viešojo pirkimo organizavimas, rangos darbų koordinavimas, rangovo prisiimtų sutartinių įsipareigojimų vykdymo kontrolė | G31: Statybos ir turto skyrius | H31: SB | I31: 0 | J31: 0 | K31: Paklota nuotekų tinklų, m | L31: ~250 | M31: 0 | N31: Pakeitus sprendinį, tarybai pritarus, atsisakyta nuotekų tinklų įrengimo. Vietoj to, pagal poreikį, įrengta 10 vnt. individualių valyklų
H32: AA | I32: 42 | J32: 41.8
A33: 01 | B33: 02 | C33: 16 | D33: Parengti vandentiekio ir nuotekų tinklų išplėtimo Angirių k. techninę dokumentaciją ir atlikti darbus | E33: 1 | F33: Rangos darbų koordinavimas, rangovo prisiimtų sutartinių įsipareigojimų vykdymo kontrolė | G33: Statybos ir turto skyrius | H33: SB | I33: 0 | J33: 0 | K33: Išplėsta vandentiekio ir nuotekų tinklų m | L33: ~500 | M33: ~491 | N33: Tęsti vandentiekio ir nuotekų tinklų išplėtimo darbai. 2022 m. vykdyti Miško ir Lakštingalų g., 2023 m. - Šušvės ir kranto gatvėse
H34: SK | I34: 150 | J34: 150
A35: 01 | B35: 02 | C35: 18 | D35: Parengti vandentiekio ir nuotekų tinklų išplėtimo Mantviliškio kaime techninį projektą | E35: 1 | F35: Projektavimo paslaugų teikėjo prisiimtų sutartinių įsipareigojimų vykdymo kontrolė | G35: Statybos ir turto skyrius | H35: SB | I35: 5 | J35: 0 | K35: Parengtos techninės dokumentacijos skaičius | N35: Tris kartus skelbus viešąjį pirkimą dėl techninio projekto parengimo, pasiūlymų negauta
A36: 01 | B36: 02 | C36: 19 | D36: Įrengti biologinius nuotekų valymo įrenginius | E36: 1 | F36: Priemonės įgyvendinimo koordinavimas | G36: Statybos ir turto skyrius | H36: SB | I36: 15 | J36: 14.8 | K36: Įsigytų įrenginių skaičius | L36: 1 | M36: 1 | N36: Įrengta vietinė buitinių nuotekų valykla Aluonos g. 7, Paaluonio k.
A37: 01 | B37: 02 | C37: 20 | D37: Parengti nuotekų tinklų ir nuotekų valyklos įrengimo Okainių k. techninį projektą | E37: 1 | F37: Projektavimo paslaugų viešojo pirkimo organizavimas, teikėjo prisiimtų sutartinių įsipareigojimų vykdymo kontrolė | G37: Statybos ir turto skyrius | H37: SB | I37: 10 | J37: 0 | K37: Parengtos techninės dokumentacijos skaičius | N37: Tris kartus skelbus viešąjį pirkimą dėl techninio projekto parengimo, pasiūlymų negauta
A38: 01 | B38: 02 | C38: 32 | D38: Parengti vandentiekio ir nuotekų tinklų, nuotekų valyklos įrengimo Langakių k. techninį projektą | E38: 1 | F38: Projektavimo paslaugų teikėjo prisiimtų sutartinių įsipareigojimų vykdymo kontrolė | G38: Statybos ir turto skyrius | H38: SB | I38: 5 | J38: 0 | K38: Parengtos techninės dokumentacijos skaičius | N38: Tris kartus skelbus viešąjį pirkimą dėl techninio projekto parengimo, pasiūlymų negauta
A39: 01 | B39: 02 | C39: 33 | D39: Parengti nuotekų tinklų įrengimo Josvainių mstl. P.Cvirkos g. projektą | E39: 1 | F39: Projektavimo paslaugų teikėjo prisiimtų sutartinių įsipareigojimų vykdymo kontrolė | G39: Statybos ir turto skyrius | H39: SB | I39: 4 | J39: 4 | K39: Parengtos techninės dokumentacijos skaičius | L39: 1 | M39: 1 | N39: Parengtas supaprastintas statybos projektas
A40: 01 | B40: 02 | C40: Iš viso 02 uždaviniui | I40: =SUM(I22:I39) -> 1296.6 | J40: =SUM(J22:J39) -> 629.1
H41: Iš viso SB | I41: =+I36+I33+I31+I30+I29+I28+I26+I25+I23+I22+I35+I38+I39+I37 -> 744.6 | J41: =+J36+J33+J31+J30+J29+J28+J26+J25+J23+J22+J35+J38+J39+J37 -> 227.3
H42: Iš viso ES
H43: Iš viso PR
H44: Iš viso SK | I44: =+I34+I27 -> 360 | J44: =+J34+J27 -> 360
H45: Iš viso AA | I45: =+I32+I24 -> 192 | J45: =+J32+J24 -> 41.8
H46: Iš viso VB
A47: 03 uždavinys. Atnaujinti ir (arba) plėsti miesto ir rajono gatvių, kelių, viešųjų teritorijų apšvietimą, naudojant energiją taupančias priemones
A48: 01 | B48: 03 | C48: 01 | D48: Rekonstruoti/įrengti/modernizuoti Kėdainių miesto bei rajono gatvių apšvietimą | E48: 1 | F48: Viešųjų pirkimų organizavimas, rangos darbų vykdymo koordinavimas, rangovo prisiimtų sutartinių įsipareigojimų vykdymo kontrolė | G48: Statybos ir turto skyrius | H48: SB | I48: 70 | J48: 67.9 | K48: Oro kabelinės linijos įrengimas, m / pakeistų atramų/šviestuvų skaičius | L48: 300/25/ 25 | M48: 1185/19/ 33 | N48: Darbai vykdyti Miegėnų k., Josvainių mstl. Rytų g.,Labūnavos g., Pagirių k. (mstl. aikštė), Šlapaberžės k. Stoties g., miesto P.Lukšio, Šviesos, Gluosnių g.
A49: 01 | B49: 03 | C49: 02 | D49: Įgyvendinti projektą "Kėdainių gatvių apšvietimo modernizavimas" | E49: 1 | F49: Projekto koordinavimas, viešųjų pirkimų organizavimas, rangos darbų koordinavimas, rangovo prisiimtų sutartinių įsipareigojimų vykdymo kontrolė | G49: Strateginio planavimo ir investicijų skyrius, Statybos ir turto skyrius | H49: SB | I49: 65 | J49: 45.4 | K49: Einamaisiais metais modernizuotų šviestuvų skaičius / planuojamas elektros energijos sutaupymas, proc. | L49: 293/43 | M49: 293/56,4 | N49: Įgyvendinus šio projekto papildomas veiklas, modernizuoti dar 293 šviestuvai
H50: ES | I50: 75 | J50: 45.9
D51: Iš viso 03 uždaviniui | I51: =SUM(I48:I50) -> 210 | J51: =SUM(J48:J50) -> 159.2
H52: Iš viso SB | I52: =+I48+I49 -> 135 | J52: =+J48+J49 -> 113.3
H53: Iš viso ES | I53: =+I50 -> 75 | J53: =+J50 -> 45.9
H54: Iš viso VB
H55: Iš viso SK
H56: Iš viso PR
A57: 04 uždavinys. Gerinti rajono susisiekimo infrastruktūrą, užtikrinant gyventojų darnų judumą bei mobilumą
A58: 01 | B58: 04 | C58: 01 | D58: Tvarkyti ir plėtoti kaimiškųjų seniūnijų kelius ir gatves, atlikti kelių ir gatvių kokybės kontrolę, techninę priežiūrą, techninių projektų ekspertizę, eismo saugumo auditus | E58: 1 | F58: Rangos darbų viešųjų pirkimų organizavimas, rangos darbų koordinavimas, rangovo prisiimtų sutartinių įsipareigojimų vykdymo kontrolė, seniūnijų konsultavimas | G58: Statybos ir turto skyrius | H58: KPP | I58: 1569.5 | J58: 1578.3 | K58: Lėšų dalis, tenkanti rajono kaimiškųjų seniūnijų kelių ir gatvių tvarkymui, plėtojimui nuo bendros Kelių priežiūros ir plėtros programos lėšų, proc. | L58: ~60 | M58: 54 | N58: Vykdyti kaimiškųjų seniūnijų kelių ir gatvių priežiūros, remonto bei rekonstrukcijos darbai
A59: 01 | B59: 04 | C59: 02 | D59: Atlikti vietinės reikšmės kelių ir gatvių inventorizaciją, kokybės kontrolę, diegti saugaus eismo ir darnaus judumo priemones | E59: 1 | F59: Paslaugų viešųjų pirkimų organizavimas, vykdomų veiklų koordinavimas, rangovo prisiimtų sutartinių įsipareigojimų vykdymo kontrolė | G59: Statybos ir turto skyrius | H59: KPP | I59: 78.3 | J59: =18.6+2.8+45.7+12.5 -> 79.6 | K59: Inventorizuotų gatvių skaičius | L59: 45 | M59: 45 | N59: Inventorizuoti 45 vietinės reikšmės keliai (gatvės)
A60: 01 | B60: 04 | C60: 03 | D60: Rekonstruoti, tvarkyti ir vykdyti gatvių priežiūrą mieste, atlikti kelių ir gatvių kokybės kontrolę, techninę priežiūrą, techninių projektų ekspertizę, eismo saugumo auditus | E60: 1 | F60: Rangos darbų viešųjų pirkimų organizavimas, rangos darbų koordinavimas, rangovo prisiimtų sutartinių įsipareigojimų vykdymo kontrolė, miesto seniūnijos konsultavimas | G60: Statybos ir turto skyrius | H60: KPP | I60: 975.2 | J60: 1116.8 | K60: Lėšų dalis, tenkanti Miesto seniūnijos kelių ir gatvių tvarkymui, plėtojimui nuo bendros Kelių priežiūros ir plėtros programos lėšų, proc. | L60: ~40 | M60: 46 | N60: Vykdyti miesto seniūnijos kelių ir gatvių priežiūros, remonto bei rekonstrukcijos darbai
H61: ES | I61: 58.7 | J61: 58.6
A62: 02 | B62: 02 | C62: 04 | D62: Plėsti dviračių takų infrastruktūrą mieste ir rajone | E62: 1 | F62: Pėsčiųjų ir dviračių tako įrengimo Pramonės g. projekto baigiamosios dokumentacijos teikimas atsakingoms institucijoms | G62: Strateginio planavimo ir investicijų skyrius | H62: SB | I62: 0 | J62: 0 | K62: Įrengiamų dviračių takų, km | N62: Fiziškai projekto veiklos įgyvendintos 2020 m. - įrengtas pėsčiųjų dviračių takas Pramonės g. (nuo Kauno g. iki Vakarų – Cukraus g.). 2023 m. kompensuotos savivaldybės patirtos išlaidos iš ES
H63: ES | I63: 35.2 | J63: 22.8
E64: 2 | F64: Pėsčiųjų ir dviračių tako (tarp J.Basanavičiaus g. ir Josvainių g.) rangos darbų viešųjų pirkimų organizavimas, rangos darbų koordinavimas, rangovo prisiimtų sutartinių įsipareigojimų vykdymo kontrolė, miesto seniūnijos konsultavimas | G64: Statybos ir turto skyrius | H64: KPP | I64: 142 | J64: 0 | N64: Keletą kartų skelbus viešąjį pirkimą dėl pėsčiųjų ir dviračių tako (tarp J.Basanavičiaus g. ir Josvainių g.) rangos darbų atlikimo, pasiūlymų negauta, lėšos nukreiptos Janušavos g. rekonstrukcijai vykdyti
E65: 3 | F65: Birutės g. šaligatvių (pėstiesiems ir dviratininkams) rekonstravimas | G65: Statybos ir turto skyrius | H65: KPP | I65: 80.6 | J65: 80.4 | K65: /rekonstruojamų šaligatvių dalis, m | L65: ~620 | M65: 616 | N65: Atlikti šaligatvių rekonstrukcijos darbai
A66: 01 | B66: 04 | C66: 05 | D66: Remontuoti biudžetinių įstaigų kiemus | E66: 1 | F66: Viešųjų pirkimų organizavimas, rangos darbų koordinavimas, rangovo prisiimtų sutartinių įsipareigojimų vykdymo kontrolė | G66: Statybos ir turto skyrius | H66: SB | I66: 70 | J66: 69.7 | K66: Remontuotų biudžetinių įstaigų kiemų skaičius | L66: 5 | M66: 2 | N66: Vykdyti Akademijos gimnazijos bei Savivaldybės vidinio kiemo dangų atnaujinimo darbai
A67: 01 | B67: 04 | C67: 06 | D67: Finansuoti inžinerines paslaugas, darbus ir įrengimus | E67: 1 | F67: Organizuoti inžinerinių tinklų perkėlimo darbus tvarkant miesto bei rajono gatves | G67: Statybos ir turto skyrius | H67: SB | I67: 165 | J67: 132.8 | K67: Atlikta numatytų darbų, proc. | L67: 100 | M67: 100 | N67: Pagal poreikį lėšos skirtos darbams, kurie netinkami finansuoti KPPP lėšomis, rekonstruojant gatves, šaligatvius
A68: 01 | B68: 04 | C68: 08 | D68: Mokėti išmokas pagal savivaldybės infrastruktūros plėtros sutartis | E68: 1 | F68: Priemonės koordinavimas | G68: Architektūros ir urbanistikos skyrius | H68: SB | I68: 175 | J68: 0 | K68: Sudarytų sutarčių skaičius | L68: 2 | M68: 0 | N68: Prašymų dėl išmokų nebuvo gauta
D69: Iš viso 04 uždaviniui | I69: =SUM(I58:I68) -> 3349.5 | J69: =SUM(J58:J68) -> 3139
H70: Iš viso SB | I70: =+I62+I66+I67+I68 -> 410 | J70: =+J62+J66+J67+J68 -> 202.5
H71: Iš viso KPP | I71: =+I60+I59+I58+I64+I65 -> 2845.6 | J71: =+J60+J59+J58+J64+J65 -> 2855.1
H72: Iš viso ES | I72: =+I63+I61 -> 93.9 | J72: =+J63+J61 -> 81.4
H73: Iš viso VB
H74: IŠ viso SK
H75: Iš viso PR
A76: 05 uždavinys. Vystyti gyvenamąją aplinką, užtikrinant viešosios infrastruktūros priežiūrą, atnaujinimą ir tinkamą naudojimą
A77: 01 | B77: 05 | C77: 02 | D77: Remontuoti viešųjų ir biudžetinių įstaigų stogus | E77: 1 | F77: Rangos darbų viešųjų pirkimų organizavimas (pagal poreikį), rangos darbų koordinavimas, rangovo prisiimtų sutartinių įsipareigojimų vykdymo kontrolė | G77: Statybos ir turto skyrius | H77: SB | I77: 50 | J77: 31.4 | K77: Pastatų, kurių stogai remontuoti, skaičius | L77: 6 | M77: 5 | N77: Remontuoti 5 įstaigų pastatų stogai (Kėdainių kultūros centro Labūnavos skyrius, Kėdainių bendruomenės socialinis centras, Miegėnų pagrindinė mokykla, Krakių mstl. socialinis būstas, Akademijos kultūros centro lietaus vamzdynas, pradėti Josvainių gimnazijos stogo remonto darbai)
A78: 01 | B78: 05 | C78: 03 | D78: Atnaujinti daugiabučių namų kiemų kietąsias dangas | E78: 1 | F78: Rangos darbų viešųjų pirkimų organizavimas (pagal poreikį), rangos darbų koordinavimas, rangovo prisiimtų sutartinių įsipareigojimų vykdymo kontrolė | G78: Statybos ir turto skyrius | H78: SB | I78: 0 | J78: 0 | K78: Atnaujintų teritorijų skaičius, m2 | L78: ~2335 | M78: 1680 | N78: Atlikti miesto Gegučių g. 17, Respublikos g. 26 bei Akademijos mstl. Parko g. 10 daugiabučių namų kiemų dangos atnaujinimo darbai
H79: KPP | I79: 150 | J79: 140.2
A80: 01 | B80: 05 | C80: 04 | D80: Apmokėti Europos Sąjungos projektų, kuriems taikomas apmokėjimas kompensavimo būdu, išlaidas | E80: 1 | F80: Priemonės įgyvendinimo koordinavimas | G80: Apskaitos skyrius | H80: SB | I80: 40 | J80: 36.4 | K80: Projektų, vykdomų apmokėjimo kompensavimo būdus, skaičius | L80: 2 | M80: 2 | N80: Išlaidos skirtos ES finansuojamų projektų išlaidų apmokėjimui kompensavimo būdu
D81: Iš viso 05 uždaviniui | I81: =SUM(I77:I80) -> 240 | J81: =SUM(J77:J80) -> 208
H82: Iš viso SB | I82: =+I80+I78+I77 -> 90 | J82: =+J80+J78+J77 -> 67.8
H83: Iš viso ES
H84: Iš viso VB
H85: Iš viso SK | I85: 0 | J85: 0
H86: Iš viso KPP | I86: =+I79 -> 150 | J86: =+J79 -> 140.2
H87: Iš viso PR
D88: Iš viso 01 tikslui | I88: =+I81+I69+I51+I40+I18 -> 5361.1 | J88: =+J81+J69+J51+J40+J18 -> 4199.3
A89: Iš viso programai | I89: =+I88 -> 5361.1 | J89: =+J88 -> 4199.3
A90: iš jų: | I90: =+I89-I91-I98 -> -3.6948222e-13 | J90: =+J89-J91-J98 -> -7.3896445e-13
A91: SAVIVALDYBĖS LĖŠOS | I91: =SUM(I92:I97) -> 5192.2 | J91: =SUM(J92:J97) -> 4072
A92: Savivaldybės biudžetas SB | I92: =+I82+I70+I52+I41+I19 -> 1644.6 | J92: =+J82+J70+J52+J41+J19 -> 674.9 | K92: =+J92+J94 -> 716.7
A93: Valstybės biudžeto specialiosios tikslinės dotacijos lėšos SBVB
A94: Aplinkos apsaugos rėmimo specialiosios programos lėšos AA | I94: =+I45 -> 192 | J94: =+J45 -> 41.8
A95: Iš pajamų už suteiktas paslaugas lėšos ĮP
A96: Skolintos lėšos SK | I96: =+I85+I74+I55+I44 -> 360 | J96: =+J85+J74+J55+J44 -> 360
A97: Kelių priežiūros ir plėtros programos lėšos KPP | I97: =+I71+I86 -> 2995.6 | J97: =+J71+J86 -> 2995.3
A98: KITOS LĖŠOS | I98: =SUM(I99:I102) -> 168.9 | J98: =SUM(J99:J102) -> 127.3
A99: Europos Sąjungos lėšos, užsienio fondų lėšos ES | I99: =+I83+I72+I53+I42 -> 168.9 | J99: =+J83+J72+J53+J42 -> 127.3
A100: Valstybės biudžeto lėšos VB | I100: =+I84+I73+I54+I46 -> 0 | J100: =+J84+J73+J54+J46 -> 0
A101: Privačios – investuotojų lėšos PR | I101: =+I87+I75+I56+I43 -> 0 | J101: =+J87+J75+J56+J43 -> 0
A102: Kiti finansavimo šaltiniai KT

Sheet 08aplinkosauga
H1: PATVIRTINTA Kėdainių rajono savivaldybės administracijos direktoriaus 2023 m. vasario 10 d. įsakymu Nr.AD-1- 165 (Kėdainių rajono savivaldybės administracijos direktoriaus 2024 m. sausio d. įsakymo Nr.AD-1- redakcija)
A3: Programos tikslo kodas | B3: Uždavinio kodas | C3: Priemonės kodas | D3: Priemonės pavadinimas | E3: Veiklos/darbo/ veiksmo kodas | F3: Veiklos/darbo/ veiksmo pavadinimas | G3: Atsakingi vykdytojai | H3: Finansavimo šaltinis | I3: Numatomi 2023-ųjų m. asignavimai, tūkst. Eur | J3: Panaudoti 2023-ųjų m. asignavimai, tūkst. Eur | K3: Proceso/indėlio vertinimo kriterijai
K4: Pavadinimas | L4: Planuota reikšmė | M4: Pasiekta reikšmė | N4: Nukrypimų nuo plano priežastys, pastabos, komentarai
A8: 08 APLINKOS APSAUGA
A9: 01 | B9: Įgyvendinti Aplinkos apsaugos rėmimo specialiosios programos finansuojamas priemones
A10: 01 | B10: 01 | C10: Gerinti aplinkos kokybę ir apsaugą
A11: 01 | B11: 01 | C11: 01 | D11: Įgyvendinti aplinkos kokybės gerinimo ir apsaugos priemones | E11: 1 | F11: Sosnovskio barščio naikinimo rajono seniūnijose koordinavimas | G11: Žemės ūkio ir aplinkosaugos skyrius | H11: AA | I11: 91.3 | J11: 61.2 | K11: Įgyvendinamų priemonių skaičius | L11: 5 | M11: 5 | N11: Sosnovskio barščių naikinimas vykdytas 8 Kėdainių rajono seniūnijose, lėšos skirtos individualių nuotekų valymo įrenginių įsigijimo daliniam finansavimui (patenkinti 29 prašymai), Kraujupio upelis buvo papildomas vandeniu iš Nevėžio upės, tačiau Kėdainių miesto gatvių plovimo ir laistymo poreikio nebuvo. Parengtas S. Dariaus ir S. Girėno bei M. Daukšos pėsčiųjų ir dviračio tako techninis projektas bei atlikta projekto ekspertizė | O11: =+J11+J15+J19+J22+J25+J28+J29+J30+J50 -> 335.9
E12: 2 | F12: Individualių nuotekų valymo įrenginių kompensavimo tvarkos įgyvendinimas
E13: 3 | F13: Kraujupio upelio papildymo minimaliam debetui Nevėžio upės vandeniu užtikrinti | H13: SBVB | I13: 7.3 | J13: 7.2
E14: 4 | F14: Kėdainių miesto gatvių plovimo, laistymo, esant poreikiui, užtikrinimas
A15: 01 | B15: 01 | C15: 02 | D15: Įgyvendinti aplinkos atkūrimo, prevencines priemones, tvarkant vandens telkinius, jų pakrantes, vykdyti atliekų tvarkymo infrastruktūros plėtros priemones | E15: 1 | F15: Gelbėjimo ir cheminių avarijų padarinių likvidavimo koordinavimas | G15: Žemės ūkio ir aplinkosaugos skyrius | H15: AA | I15: 37.2 | J15: 44 | K15: Įgyvendintų priemonių skaičius | L15: 5 | M15: 5 | N15: Savivaldybės priešgaisrinei tarnybai skirta lėšų įsigyti priemones, naudojamas ekstremaliose situacijose, incidentuose, įvykiuose; atlikti Dotnuvėlės upės pakrančių valymo, tvarkymo darbai, nušienauti makrofitai Nevėžio upės atkarpoje miesto centre, parengtas vandens telkinio Pernaravos sen. Langakių k. sutvarkymo projektas, vykdytas jūrinių erelių perimviečių stebėjimas, atliktas žaliųjų atliekų Kėdainių aerodromo teritorijoje sutvarkymas
E16: 2 | F16: Nevėžio, Dotnuvėlės upių pakrančių valymo darbų koordinavimas
E17: 3 | F17: Vandens telkinių tvarkymo darbų parengimo viešųjų pirkimų organizavimas, tiekėjų prisiimtų sutartinių įsipareigojimų vykdymas
E18: 4 | F18: Jūrinių erelių perimviečių stebėjimo užtikrinimas
A19: 01 | B19: 01 | C19: 03 | D19: Vykdyti aplinkos oro, paviršinio ir požeminio vandens, dirvožemio ir triukšmo stebėseną Kėdainių mieste ir rajone (įskaitant pramonės rajoną) | E19: 1 | F19: 2019–2024 m. aplinkos monitoringo programos įgyvendinimas | G19: Žemės ūkio ir aplinkosaugos skyrius | H19: AA | I19: 25.5 | J19: 22.8 | K19: Tiriamų parametrų skaičius | L19: 5 | M19: 5 | N19: Vykdytas aplinkos oro, paviršinio ir požeminio vandens, dirvožemio, aplinkos triukšmo monitoringas pagal Kėdainių rajono savivaldybės aplinkos monitoringo 2019-2024 m. programą, taip pat atlikti Nevėžio, Obelies ir Šerkšnio upių vandens tyrimai.
E20: 2 | F20: Aplinkos oro, dirvožemio, požeminio ir paviršinio vandens nuotekų tyrimai
E21: 3 | F21: Upių vandens tyrimų organizavimas ir koordinavimas
A22: 01 | B22: 01 | C22: 04 | D22: Įgyvendinti želdynų ir želdinių apsaugos, tvarkymo, būklės stebėsenos, želdynų kūrimo, želdinių veisimo ir inventorizavimo priemones | E22: 1 | F22: Želdinių priežiūros, naujų želdinių įveisimo organizavimas | G22: Žemės ūkio ir aplinkosaugos skyrius | H22: AA | I22: 110.3 | J22: 86.3 | K22: Seniūnijų skaičius, kuriose įgyvendinamos želdynų ir želdinių apsaugos, tvarkymo, būklės stebėsenos, želdynų kūrimo, želdinių veisimo ir inventorizavimo priemonės | L22: 11 | M22: 11 | N22: Seniūnijoms skirtos lėšos želdiniams įsigyti, želdynams prižiūrėti, atliktas viešųjų erdvių apželdinimas Kėdainių mieste daugiamečiais augalais, įsigytos biologinės apsaugos priemonės kaštonams apsaugoti, pradėtas rengti Žaliosios infrastruktūros Kėdainių miesto urbanizuotoje aplinkoje projektas
A23: 01 | B23: 01 | C23: Iš viso uždaviniui | I23: =SUM(I11:I22) -> 271.6 | J23: =SUM(J11:J22) -> 221.5
A24: 01 | B24: 02 | C24: Vykdyti žalos aplinkai prevenciją
A25: 01 | B25: 02 | C25: 01 | D25: Įgyvendinti prevencinės priemones, kuriomis siekiama išvengti medžiojamųjų gyvūnų daromos žalos miškui | E25: 1 | F25: Medžioklės klausimų koordinavimas, dalyvavimas finansinės paramos medžiojamųjų gyvūnų daromos žalos prevencijos priemonėms įgyvendinti komisijoje | G25: Žemės ūkio ir aplinkosaugos skyrius | H25: AA | I25: 82.7 | J25: 76.3 | K25: Finansuotos medžiojamų gyvūnų daromos žalos prevencijos ir kitos priemonės (paraiškų sk.) | L25: 4 | M25: 11 | N25: Lėšos panaudotos tvoroms įrengti pasėliams ir medeliams apsaugoti, želdiniams repelentais apdoroti, aptvarams avių ganymui ir apsaugai nuo vilkų įrengti
A26: 01 | B26: 02 | C26: Iš viso uždaviniui | I26: =+I25 -> 82.7 | J26: =+J25 -> 76.3
A27: 01 | B27: 03 | C27: Skatinti aplinkos apsaugos iniciatyvas, vykdyti gyventojų aplinkosauginį švietimą
A28: 01 | B28: 03 | C28: 01 | D28: Įgyvendinti visuomenės aplinkosauginio švietimo priemones | E28: 1 | F28: Aplinkosauginio švietimo organizavimas | G28: Žemės ūkio ir aplinkosaugos skyrius | H28: AA | I28: 6 | J28: 3.4 | K28: Surengtų akcijų, seminarų, viešinimo priemonių skaičius | L28: 7 | M28: 7 | N28: Organizuoti Europos judumo savaitės renginiai (7 dienos), aplinkos švarinimo akcija „Darom kartu“, 2 ugdymo įstaigoms sumokėtas gamtosauginių mokyklų programos dalyvio mokestis, pagaminta plakatų „Nedegink žolės“ Kėdainių rajono įstaigoms, įsigyti Europos judumo savaitės renginių dalyvių apdovanojimui skirti prizai
A29: 01 | B29: 03 | C29: 02 | D29: Finansuoti konkursą "Gražiausiai tvarkoma aplinka" | E29: 1 | F29: Konkurso organizavimas, dalyvavimas vertinimo komisijos veikloje | G29: Žemės ūkio ir aplinkosaugos skyrius | H29: AA | I29: 7 | J29: 7 | K29: Išrinktų gražiausiai besitvarkančių aplinką savininkų skaičius | L29: 10 | M29: 16 | N29: Konkurse išrinktos gražiausiai tvarkomos miesto ir kaimo, individualių gyvenamųjų namų, biudžetinių įstaigų, įmonių, įstaigų, organizacijų ir daugiabučių namų aplinkos
A30: 01 | B30: 03 | C30: 03 | D30: Įsigyti priemonių, susijusių su visuomenės informavimu ir ekologiniu švietimu, kitos išlaidos | E30: 1 | F30: Aplinkosauginių priemonių švietimo įstaigoms platinimas | G30: Žemės ūkio ir aplinkosaugos skyrius | H30: AA | I30: 7 | J30: 2 | K30: Prenumeruojamų leidinių skaičius | L30: 4 | M30: 3 | N30: Prenumeruoti žurnalai „Lututė“, „Miškai“ bei laikraštis „Žaliasis pasaulis“ Kėdainių rajono bibliotekoms, lopšeliams-darželiams, mokyklai-darželiui
A31: 01 | B31: 02 | C31: Iš viso uždaviniui | I31: =SUM(I28:I30) -> 20 | J31: =SUM(J28:J30) -> 12.4
A32: 01 | B32: Iš viso tikslui | I32: =+I31+I26+I23 -> 374.3 | J32: =+J31+J26+J23 -> 310.2
A33: 02 | B33: Tobulinti atliekų tvarkymo bei aplinkos išsaugojimo sistemą, gerinti kraštovaizdžio apsaugą
A34: 02 | B34: 01 | C34: Tinkamai tvarkyti komunalines atliekas, palaikyti tvarką ir švarą rajono bendrojo naudojimo teritorijose
A35: 02 | B35: 01 | C35: 01 | D35: Vykdyti atliekų tvarkymo sistemos organizavimo funkciją | E35: 1 | F35: Priemonės įgyvendinimo koordinavimas | G35: Bendrasis skyrius, Apskaitos skyrius | H35: SB | I35: 1713 | J35: 1553.8 | K35: Surinktų atliekų (bendras) kiekis, ~ tūkst. t. | L35: 14 | M35: 14.6 | N35: Savivaldybės teritorijoje iš bendrojo naudojimo ir individualių konteinerių buvo surinka ir sutvarkyta 11,3 tūkst. t mišrių komunalinių atliekų, 1,9 tūkst. t antrinių žaliavų, 258 t tekstilės atliekų. Taip pat iš individualių valdų ir prie bendrojo naudojimo konteinerių surinkta per 554 t. didelių gabaritų atliekų. Iš sodų - 591 t. žaliųjų atliekų. 2023 m. iš fizinių ir juridinių asmenų rinkliavos už komunalinių atliekų surinkimą ir tvarkymą paslaugas surinkta beveik 1,568 mln. Eur
A36: 02 | B36: 01 | C36: 02 | D36: Prižiūrėti ir tvarkyti bendro naudojimo teritorijas, įsigyti teritorijų priežiūrai reikalingą įrangą | E36: 1 | F36: Sąskaitų ir aktų priėmimas iš paslaugų teikėjų, suderinimas ir atsiskaitymas už paslaugas paslaugų teikėjui | G36: Bendrasis skyrius, Apskaitos skyrius | H36: SB | I36: 120 | J36: 120
A37: 02 | B37: 01 | C37: 03 | D37: Finansuoti žvyro įsigijimą seniūnijų keliams prižiūrėti | E37: 1 | F37: Priemonės įgyvendinimo koordinavimas | G37: Statybos ir turto skyrius, Biudžeto skyrius | H37: SB | I37: 230 | J37: 229.9 | K37: Prižiūrimų žvyrkelių ilgis, km | L37: ~40 | M37: 41.5 | N37: 11 seniūnijų vykdyti žvyravimo darbai. Seniūnijose nužvyruota apie 41,5 km kelių
A38: 02 | B38: 01 | C38: 04 | D38: Atnaujinti ir plėsti komunalinių atliekų tvarkymo infrastruktūrą Kėdainių rajono savivaldybėje | E38: 1 | F38: Projekto koordinavimas, rangovo/tiekėjo prisiimtų sutartinių įsipareigojimų vykdymo kontrolė | G38: Strateginio planavimo ir investicijų skyrius, Bendrasis skyrius, Statybos ir turto skyrius | H38: SB | I38: 60 | J38: 60 | K38: Įrengtų/atnaujintų požeminių, pusiau požeminių ir antžeminių konteinerių aikštelių skaičius | L38: 29 | M38: 29 | N38: Baigtas įgyvendinti ES projektas, 2023 m. baigtos įrengti 29 antžeminės konteinerių aikštelės, kuriose pastatyti 129 konteineriai. Iš viso projekto metu įrengtos 174 konteinerinės aikštelės, iš kurių 43 - pusiau požeminės, 2 pilnai požeminės ir 129 antžemininės. Aikštelėse pastatyti 833 (mišrių, tekstilės, plastiko, popieriaus stiklo, atliekų) konteineriai
H39: ES | I39: 307.4 | J39: 307.3
A40: 02 | B40: 01 | C40: 05 | D40: Sutvarkyti naudotas padangas, kurių turėtojų nustatyti neįmanoma arba kurie neegzistuoja | E40: 1 | F40: Naudotų padangų, kurių turėtojų nustatyti neįmanoma arba kurie neegzistuoja, sutvarkymo paslaugos organizavimas | G40: Bendrasis skyrius | H40: SB | I40: 0.1 | J40: 0 | K40: |Sutvarkyta naudotų padangų, t | L40: 227 | M40: 62.08 | N40: Sutvarkyta 62,08 t. naudotų bešeimininkių padangų atliekų (apmokėta 13,4 t. Eur SB lėšomis iš 11 programos 01.01.01. priemonės), grąžinta dotacijos SBVB dalis už 2022 m. sutvarkytas 200 t bešeimininkių padangų.
H41: SBVB | I41: 15.4 | J41: 15.4
A42: 02 | B42: 01 | C42: 06 | D42: Sutvarkyti namų ūkiuose susidariusias asbesto atliekas | E42: 1 | F42: Namų ūkiuose susidariusių asbesto atliekų tvarkymo organizavimas | G42: Bendrasis skyrius | H42: SB | I42: 3.2 | J42: 3.1 | K42: Sutvarkyta asbesto atliekų, t. | L42: 130 | M42: 145.9 | N42: Sutvarkyta beveik 146 t. asbesto atliekų iš 98 namų ūkių
H43: SBVB | I43: 27.8 | J43: 25.7
A44: 02 | B44: 01 | C44: 07 | D44: Įsigyti tekstilės atliekų surinkimo konteinerius | E44: 1 | F44: Tekstilės atliekų surinkimo konteinerių įsigijimo viešojo pirkimo organizavimas, sutarties vykdymo kontrolė | G44: Bendrasis skyrius | H44: SB | I44: 7.6 | J44: 7.5 | K44: Įsigytų konteinerių skaičius | L44: 39 | M44: 39 | N44: Atliekų surinkimo aikštelės papildytos 39 tekstilės konteineriais (11 -mieste, 28 - kaimiškosiose seniūnijose)
H45: SBVB | I45: 42.9 | J45: 42.9
A46: 02 | B46: 01 | C46: Iš viso uždaviniui | I46: =SUM(I35:I45) -> 2527.4 | J46: =SUM(J35:J45) -> 2365.6
A47: 02 | B47: 02 | C47: Gerinti kraštovaizdžio apsaugą bei didinti jo patrauklumą
A48: 02 | B48: 02 | C48: 01 | D48: Likviduoti apleistus (bešeimininkius ar savivaldybei nuosavybės teise priklausančius) pastatus ir kitus aplinką žalojančius objektus | E48: 1 | F48: Projekto koordinavimas, viešųjų pirkimų organizavimas, rangovo prisiimtų sutartinių įsipareigojimų vykdymo kontrolė | G48: Strateginio planavimo ir investicijų skyrius, Architektūros ir urbanistikos skyrius | H48: SB | I48: 10 | J48: 10 | K48: Likviduotų apleistų bešeimininkių pastatų skaičius | L48: 2 | M48: 3 | N48: Baigtas įgyvendinti ES projektas. Užbaigti 2 objektų Kalnaberžės k. likvidavimo darbai. Sutaupius lėšų papildomai likviduotas objektas Šiukštulių k.
H49: ES | I49: 10 | J49: 9.2
A50: 02 | B50: 02 | C50: 02 | D50: Sutvirtinti pažeistus Dotnuvėlės upelio krantus | E50: 1 | F50: Rangos darbų koordinavimas, rangovo prisiimtų sutartinių įsipareigojimų vykdymo kontrolė | G50: Žemės ūkio ir aplinkosaugos skyrius | H50: AA | I50: 33 | J50: 32.9 | K50: Atliktų einamaisiais metais numatytų darbų, proc. | L50: 100 | M50: 100 | N50: Užbaigti 2022 m. pradėti pažeistų Dotnuvėlės upės krantų tvirtinimo darbai
A51: 02 | B51: 02 | C51: 04 | D51: Vykdyti bešeimininkių ir bepriežiūrių gyvūnų surinkimą, gaudymą bei karantinavimą | E51: 1 | F51: Priemonės konkurso organizavimas, sutarties su vykdytoju suderinimas, kontrolė | G51: Žemės ūkio ir aplinkosaugos skyrius | H51: SB | I51: 5.1 | J51: 5 | K51: Surinktų beglobių gyvūnų skaičius | L51: 80 | M51: 31 | N51: Sugauti 8 bešeimininkiai ir bepriežiūriai gyvūnai (4 šunys ir 4 katės), o iš namų paimti 23 vnt. (21 šuo ir 2 katės)
A52: 02 | B52: 02 | C52: 05 | D52: Organizuoti Gyvūnų globos organizacijų rengiamų bešeimininkių kačių kastravimo programų įgyvendinimą | E52: 1 | F52: Priemonės konkurso organizavimas, sutarties su vykdytoju suderinimas, kontrolė | G52: Žemės ūkio ir aplinkosaugos skyrius | H52: SB | I52: 3.1 | J52: 3.1 | K52: Kastruotų bešeimininkių kačių skaičius | L52: 160 | M52: 159 | N52: Kastruotos (sterilizuotos) ir vėl paleistos 159 sulaukėjusios katės (119 patelių ir 40 patinų)
A53: 02 | B53: 02 | C53: 06 | D53: Vykdyti gyvūnų augintinių gerovės ir apsaugos 2020-2025 m. prevencinę programą | E53: 1 | F53: Sutarčių su vykdytojais suderinimas, vykdymo kontrolė | G53: Žemės ūkio ir aplinkosaugos skyrius | H53: SB | I53: 2.5 | J53: 2.5 | K53: Bepriežiūrių ir bešeimininkių gyvūnų skaičiaus mažėjimas (lyginant su praėjusiais metais), proc. | L53: 7 | M53: 6 | N53: Įsigytos gyvūnų ženklinimui reikalingos mikroschemos - 192 vnt.
A54: 02 | B54: 02 | C54: 07 | D54: Prižiūrėti, vykdyti Kėdainių miesto Babėnų šilo apsaugos bei tvarkybos darbus | E54: 1 | F54: Kėdainių miesto seniūnijos vykdomų darbų koordinavimas (menkaverčių, pavojingų medžių, krūmų šalinimas, atliekų šalinimas ir surinkimas bei pėsčiųjų takų priežiūra) | G54: Žemės ūkio ir aplinkosaugos skyrius | H54: SBVB | I54: 14.1 | J54: 12 | K54: Prižiūrimo plotas, ha | L54: ~10 | M54: 9 | N54: Vykdyta atokvėpio vietų, pėsčiųjų takų priežiūra ir tvarkymas, rinktos ir pašalintos atliekos iš miško, šalinti pavojingi medžiai
A55: 02 | B55: 02 | C55: Iš viso uždaviniui | I55: =SUM(I48:I54) -> 77.8 | J55: =SUM(J48:J54) -> 74.7
A56: 02 | B56: Iš viso tikslui | I56: =+I55+I46 -> 2605.2 | J56: =+J55+J46 -> 2440.3
A57: Iš viso programai | I57: =+I56+I32 -> 2979.5 | J57: =+J56+J32 -> 2750.5
A58: iš jų: | I58: =+I57-I59-I66 -> 1.0231815e-12 | J58: =+J57-J59-J66 -> -4.5474735e-13
A59: SAVIVALDYBĖS LĖŠOS | I59: =SUM(I60:I65) -> 2662.1 | J59: =SUM(J60:J65) -> 2434
A60: Savivaldybės biudžetas SB | I60: =+I53+I52+I51+I48+I38+I37+I36+I35+I44+I42+I40 -> 2154.6 | J60: =+J53+J52+J51+J48+J38+J37+J36+J35+J44+J42+J40 -> 1994.9 | K60: =+I60+I62 -> 2554.6 | N60: =+L60+L62 -> 0
A61: Valstybės biudžeto specialiosios tikslinės dotacijos lėšos SBVB | I61: =+I54+I45+I43+I41+I13 -> 107.5 | J61: =+J54+J45+J43+J41+J13 -> 103.2
A62: Aplinkos apsaugos rėmimo specialiosios programos lėšos AA | I62: =+I30+I29+I28+I25+I22+I19+I15+I11+I50 -> 400 | J62: =+J30+J29+J28+J25+J22+J19+J15+J11+J50 -> 335.9
A63: Iš pajamų už suteiktas paslaugas lėšos ĮP
A64: Skolintos lėšos SK
A65: Kelių priežiūros ir plėtros programos lėšos KPP
A66: KITOS LĖŠOS | I66: =SUM(I67:I70) -> 317.4 | J66: =SUM(J67:J70) -> 316.5
A67: Europos Sąjungos lėšos, užsienio fondų lėšos ES | I67: =+I49+I39 -> 317.4 | J67: =+J49+J39 -> 316.5
A68: Valstybės biudžeto lėšos VB
A69: Privačios – investuotojų lėšos PR
A70: Kiti finansavimo šaltiniai KT
J74: =+J60+J62 -> 2330.8

Sheet 09ž.ū.
H1: PATVIRTINTA Kėdainių rajono savivaldybės administracijos direktoriaus 2023 m. vasario 10 d. įsakymu Nr.AD-1- 165 (Kėdainių rajono savivaldybės administracijos direktoriaus 2024 m. sausio d. įsakymo Nr.AD-1- redakcija)
A3: Programos tikslo kodas | B3: Uždavinio kodas | C3: Priemonės kodas | D3: Priemonės pavadinimas | E3: Veiklos/darbo/ veiksmo kodas | F3: Veiklos/darbo/ veiksmo pavadinimas | G3: Atsakingi vykdytojai | H3: Finansavimo šaltinis | I3: Numatomi 2023-ųjų m. asignavimai, tūkst. Eur | J3: Panaudoti 2023-ųjų m. asignavimai, tūkst. Eur | K3: Proceso/indėlio vertinimo kriterijai
K4: Pavadinimas | L4: Planuota reikšmė | M4: Pasiekta reikšmė | N4: Nukrypimų nuo plano priežastys, pastabos, komentarai
A8: 09 ŽEMĖS ŪKIO PLĖTRA IR MELIORACIJA
A9: 01 | B9: Įgyvendinti Savivaldybės teritorijoje valstybės politiką kaimo plėtros, žemės ūkio ir melioracijos srityse, sudaryti sąlygas inovatyvaus žemės ūkio vystymui
A10: 01 | B10: 01 | C10: Vykdyti valstybinių (valstybės perduotas savivaldybėms) funkcijas žemės ūkio srityje, konsultuojant rajono asmenis ūkininkavimo, melioracijos, žemės ūkio technikos registravimo ir kitais su žemės ūkiu susijusiais klausimais
A11: 01 | B11: 01 | C11: 01 | D11: Organizuoti ir užtikrinti Žemės ūkio ir aplinkosaugos skyriaus darbą, kuruojant valstybės perduotas savivaldybėms funkcijas žemės ūkio srityje | E11: 1 | F11: Žemės ūkio valdų skaičius (įregistravimas, išregistravimas, kasmetinis duomenų atnaujinimas) | G11: Žemės ūkio ir aplinkosaugos skyrius | H11: SBVB | I11: 136.5 | J11: 136.1 | K11: Įregistruotų žemės ūkio valdų skaičius (įregistravimas, išregistravimas, kasmetinis duomenų atnaujinimas) | L11: 2660 | M11: 2888 | N11: Savivaldybės administracijos Žemės ūkio ir aplinkosaugos skyrius vykdė Valstybės savivaldybei perduotas funkcijas žemės ūkio srityje
E12: 2 | F12: Ūkininkų ūkių įregistravimas, išregistravimas, kasmetinis duomenų atnaujinimas | K12: Įregistruotų ūkininkų ūkių skaičius (įregistravimas, išregistravimas, duomenų atnaujinimas) | L12: 1700 | M12: 1962
E13: 3 | F13: Paramos už žemės ūkio naudmenas ir kitus plotus bei gyvulius paraiškos pildymas, deklaruojamų laukų įbraižymas, duomenų keitimas, pasikeitusių KŽS ribų aprašymas | K13: Paramos už žemės ūkio naudmenas ir kitus plotus bei gyvulius priimtų paraiškų skaičius (pasėlių deklaracijos pildymas, deklaruojamų laukų įbraižymas, duomenų keitimas, pasikeitusių KŽS ribų aprašymas) | L13: 2000 | M13: 1978
E16: 4 | F16: Pagal gautus prašymus pasėliams, miškui padarytos žalos įvertinimas vietoje ir apžiūros aktų surašymas, sprendimų priėmimas, atstovavimas teismuose | K16: Prašymų dėl medžiojamųjų gyvūnų padarytos žalos nustatymo skaičius (pasėliams, miškui padarytos žalos įvertinimas vietoje ir apžiūros aktų surašymas, sprendimų paruošimas) | L16: 30 | M16: 44
E17: 5 | F17: Paraiškų priėmimas, įvertinimas, kompensuojamų sumų apskaičiavimas, duomenų suvedimas į ŽŪMIS ir KOTIS | H17: SB | I17: 97 | J17: 77.9 | K17: Pateiktų paraiškų dalies draudimo įmokų kompensacijai gauti skaičius (augalų draudimas nuo nepalankių oro sąlygų; paraiškų priėmimas, duomenų sutikrinimas, kompensuojamos sumos apskaičiavimas, duomenų suvedimas į ŽŪMIS ir KOTIS) | L17: 100 | M17: 115
E18: 6 | F18: Paraiškų priėmimas, įvertinimas, kompensuojamų sumų apskaičiavimas, duomenų suvedimas į ŽŪMIS | K18: Paramos paraiškų pagal Lietuvos kaimo plėtros 2014–2020 metų programos priemonės „Rizikos valdymas“ veiklos srities ,,Pasėlių, gyvūnų ir augalų draudimo įmokos“, susijusios su pasėlių ir augalų, ūkinių gyvūnų draudimo įmokų kompensavimu, skaičius | L18: 55 | M18: 55
E19: 7 | F19: Paramos teikimo bičių laikytojams už papildomą bičių maitinimą administravimas | K19: Paraiškų už papildomą bičių maitinimą skaičius | L19: 125 | M19: 130
E20: 8 | F20: Pieno pardavimo tiesiogiai vartoti deklaracijų ir kitų dokumentų administravimas | K20: Pieno gamybos ir realizavimo metinių deklaracijų skaičius | L20: 27 | M20: 34
E21: 9 | F21: Žemės ūkio technikos įregistravimas, perregistravimas, išregistravimas, registracijos dokumentų išdavimas, duomenų suvedimas į registrą | K21: Aptarnaujamos žemės ūkio technikos, įregistruotos rajone, skaičius | L21: 7200 | M21: 7046
E22: 10 | F22: Žemės ūkio technikos techninių apžiūrų atlikimas, duomenų suvedimas, talonų išdavimas | K22: Atliktų techninių apžiūrų skaičius | L22: 2800 | M22: 3344
A23: 01 | B23: 01 | C23: 02 | D23: Tvarkyti erdvinių duomenų rinkinį | E23: 1 | F23: Priemonės koordinavimas | G23: Architektūros ir urbanistikos skyrius | H23: SBVB | I23: 19.9 | J23: 19.9 | K23: Erdvinių duomenų rinkinio tvarkymo užtikrinimas, proc. | L23: 100 | M23: 100 | N23: Vykdytos duomenų rinkinio tvarkymo funkcijos
A24: 01 | B24: 01 | C24: 03 | D24: Teikti Metų žemdirbio apdovanojimą | E24: 1 | F24: Tvarkos aprašo parengimas, konkurso, apdovanojant Metų žemdirbį, organizavimas | G24: Žemės ūkio ir aplinkosaugos skyrius | H24: SB | I24: 3 | J24: 3 | K24: Įteiktų apdovanojimų skaičius | L24: 1 | M24: 1 | N24: 2023 m. Kėdainių rajone surengtas „Metų žemdirbio“ konkursas. Metų žemdirbio apdovanojimas atiteko Šarūnui Šiušei, renginio metu pagerbti bei paskatinti ir kiti rajono ūkininkai
A25: 01 | B25: 01 | C25: Iš viso uždaviniui | I25: =+I11+I23+I24+I17 -> 256.4 | J25: =+J11+J23+J24+J17 -> 236.9
A26: 01 | B26: 02 | C26: Vykdyti valstybines (perduotas savivaldybėms) funkcijas melioracijos srityje, rekonstruojant remontuojant ir (arba) atnaujinant valstybei nuosavybės teise priklausančią melioracijos, hidrotechnikos infrastruktūrą Kėdainių rajono savivaldybės teritorijoje
A27: 01 | B27: 02 | C27: 01 | D27: Gerinti hidrotechninių statinių ir kitų melioracijos sistemų būklę | E27: 1 | F27: Melioracijos statinių priežiūros ir remonto darbų viešųjų pirkimų organizavimas, darbų koordinavimas, rangovo prisiimtų sutartinių įsipareigojimų vykdymo kontrolė | G27: Žemės ūkio ir aplinkosaugos skyrius | H27: SBVB | I27: 360 | J27: 360 | K27: Remontuojamų, prižiūrimų melioracijos griovių ilgis, km | L27: 45 | M27: 59 | N27: Suremontuotos 59 km magistralinių griovių, 44 vandens pralaidos, kiti statiniai (žiotys, kontroliniai šuliniai) 378 vnt. Nušienauta 25,39 ha griovių šlaitų, prižiūrimi 9,2 km apsauginių pylimų, 1 vandens siurblinė
E28: 2 | F28: Priešprojektiniai tyrinėjimų techninės sąmatinės dokumentacijos sudarymo, ekspertizės viešųjų pirkimų organizavimas, paslaugų teikėjo prisiimtų sutartinių įsipareigojimų vykdymo kontrolė
E29: 3 | F29: Darbų techninė priežiūros koordinavimas, vykdymo kontrolė
A30: 01 | B30: 02 | C30: 02 | D30: Rengti projektus ir remontuoti gyvenviečių lietaus nuotekų-drenažų sistemas | E30: 1 | F30: Remonto darbų viešųjų pirkimų organizavimas, rangos darbų koordinavimas, rangovo prisiimtų sutartinių įsipareigojimų vykdymo kontrolė | G30: Žemės ūkio ir aplinkosaugos skyrius | H30: SB | I30: 40 | J30: 40 | K30: Gyvenviečių, kuriose atlikti drenažo remonto darbai, skaičius | L30: 10 | M30: 8 | N30: Sudarytos 8 sutartys lietaus kanalizacijos - drenažų remonto darbams atlikti (Gudžiūnų sen., Kėdainių miesto sen., Dotnuvos sen., Josvainių sen., Pelėdnagių sen., Surviliškio sen., Vilainių sen., Truskavos sen.)
A31: 01 | B31: 02 | C31: 03 | D31: Vykdyti Kėdainių rajono Saviečių kadastrinės vietovės Mėklos sausinimo sistemos melioracijos griovių ir juose esančių statinių rekonstrukciją | E31: 1 | F31: Remonto darbų viešųjų pirkimų organizavimas, rangos darbų koordinavimas, rangovo prisiimtų sutartinių įsipareigojimų vykdymo kontrolė | G31: Žemės ūkio ir aplinkosaugos skyrius | H31: SBVB | I31: 300 | J31: 282.4 | K31: Rekonstruojamų griovių ilgis, km | L31: 15.9 | M31: 15.9 | N31: Atlikta Kėdainių rajono Saviečių kadastrinės vietovės Mėklos sausinimo sistemos melioracijos griovių ir juose esančių statinių rekonstrukciją. Įvykdžius viešuosius pirkimus, sutaupyta dalis lėšų
A32: 01 | B32: 02 | C32: 04 | D32: Parengti projektus hidrotechninių įrenginių atnaujinimui | E32: 1 | F32: Remonto darbų viešųjų pirkimų organizavimas, rangos darbų koordinavimas, rangovo prisiimtų sutartinių įsipareigojimų vykdymo kontrolė | G32: Žemės ūkio ir aplinkosaugos skyrius | H32: SB | I32: 10 | J32: 9.9 | K32: Parengtų projektų skaičius | L32: 1 | M32: 2 | N32: Parengtas Linkavos sausinimo sistemos griovių rekonstrukcijos projektas bei investicinis projektas
A33: 01 | B33: 02 | C33: 06 | D33: Vykdyti Kėdainių rajono Dotnuvos seniūnijos Kruostos upės Vaidatonių tvenkinio hidrotechnikos statinių rekonstrukciją ir techninės priežiūros paslaugas | E33: 1 | F33: Remonto darbų viešųjų pirkimų organizavimas, rangos darbų koordinavimas, rangovo prisiimtų sutartinių įsipareigojimų vykdymo kontrolė | G33: Žemės ūkio ir aplinkosaugos skyrius | H33: SB | I33: 151 | J33: 148.1 | K33: Rekonstruojamų hidrotechninių įrenginių skaičius | L33: 1 | M33: 1 | N33: Pradėti vykdyti užtvankos rekonstrukcijos darbai, kurie bus tęsiami ir užbaigti 2024 m.
H34: ES | I34: 76 | J34: 76
H35: VB | I35: 14 | J35: 13.4
A36: 01 | B36: 02 | C36: 07 | D36: Vykdyti Nevėžio upės vientisumo atkūrimą nugriaunant neeksploatuojamus hidroelektrinės statinius ir techninės priežiūros paslaugas | E36: 1 | F36: Remonto darbų viešųjų pirkimų organizavimas, rangos darbų koordinavimas, rangovo prisiimtų sutartinių įsipareigojimų vykdymo kontrolė | G36: Žemės ūkio ir aplinkosaugos skyrius | H36: SBVB | I36: 282 | J36: 124.8 | K36: Likviduojamų neeksploatuojamų statinių skaičius | L36: 1 | M36: 1 | N36: Pradėti vykdyti užtvankos likvidavimo darbai, kurie bus tęsiami ir užbaigti 2024 m.
A37: 01 | B37: 02 | C37: 13 | D37: Dalyvauti projekto „MSNA „Daukšių drenažas“ nariams priklausančių ir valstybinių melioracijos statinių rekonstravimas“ įgyvendinime | E37: 1 | F37: Priemonės koordinavimas, užtikrinant projekto kofinansavimą | G37: Žemės ūkio ir aplinkosaugos skyrius, Apskaitos skyrius | H37: SB | I37: 3.8 | J37: 3.8 | K37: Rekonstruotų rinktuvų, sausintuvų, griovių ilgis, km | L37: 10/12 / 1,5 | M37: 10/12/ 1,5 | N37: Koofinansuotas projektas, darbai atlikti
A38: 01 | B38: 02 | C38: 14 | D38: Parengti techninę dokumentaciją ir atlikti Kėdainių miesto hidrotechnikos statinio ant Dotnuvėlės upės remonto darbus | E38: 1 | F38: Techninės dokumentacijos parengimo viešojo pirkimo organizavimas, paslaugų teikėjo sutartinių įsipareigojimų vykdymo kontrolė | G38: Žemės ūkio ir aplinkosaugos skyrius | H38: SB | I38: 30 | J38: 19.2 | K38: Parengtos techninės dokumentacijos skaičius | L38: 1 | M38: 1 | N38: Parengta techninė dokumentacija darbams atlikti
A39: 01 | B39: 02 | C39: Iš viso uždaviniui | I39: =SUM(I27:I38) -> 1266.8 | J39: =SUM(J27:J38) -> 1077.6
A40: 01 | B40: Iš viso tikslui | I40: =+I39+I25 -> 1523.2 | J40: =+J39+J25 -> 1314.5
A41: Iš viso programai | I41: =+I40 -> 1523.2 | J41: =+J40 -> 1314.5
A42: iš jų: | I42: =+I41-I43-I50 -> -2.2737368e-13 | J42: =+J41-J43-J50 -> 0
A43: SAVIVALDYBĖS LĖŠOS | I43: =SUM(I44:I49) -> 1433.2 | J43: =SUM(J44:J49) -> 1225.1
A44: Savivaldybės biudžetas SB | I44: =+I38+I37+I33+I32+I30+I24+I17 -> 334.8 | J44: =+J38+J37+J33+J32+J30+J24+J17 -> 301.9
A45: Valstybės biudžeto specialiosios tikslinės dotacijos lėšos SBVB | I45: =+I36+I27+I23+I11+I31 -> 1098.4 | J45: =+J36+J27+J23+J11+J31 -> 923.2
A46: Aplinkos apsaugos rėmimo specialiosios programos lėšos AA
A47: Iš pajamų už suteiktas paslaugas lėšos ĮP
A48: Skolintos lėšos SK
A49: Kelių priežiūros ir plėtros programos lėšos KPP
A50: KITOS LĖŠOS | I50: =SUM(I51:I54) -> 90 | J50: =SUM(J51:J54) -> 89.4
A51: Europos Sąjungos lėšos, užsienio fondų lėšos ES | I51: =+I34 -> 76 | J51: =+J34 -> 76
A52: Valstybės biudžeto lėšos VB | I52: =+I35 -> 14 | J52: =+J35 -> 13.4
A53: Privačios – investuotojų lėšos PR
A54: Kiti finansavimo šaltiniai KT

Sheet 10verslas
H1: PATVIRTINTA Kėdainių rajono savivaldybės administracijos direktoriaus 2023 m. vasario 10 d. įsakymu Nr.AD-1- 165 (Kėdainių rajono savivaldybės administracijos direktoriaus 2024 m. sausio d. įsakymo Nr.AD-1- redakcija)
A3: Programos tikslo kodas | B3: Uždavinio kodas | C3: Priemonės kodas | D3: Priemonės pavadinimas | E3: Veiklos/darbo/ veiksmo kodas | F3: Veiklos/darbo/ veiksmo pavadinimas | G3: Atsakingi vykdytojai | H3: Finansavimo šaltinis | I3: Numatomi 2023-ųjų m. asignavimai, tūkst. Eur | J3: Panaudoti 2023-ųjų m. asignavimai, tūkst. Eur | K3: Proceso/indėlio vertinimo kriterijai
K4: Pavadinimas | L4: Planuota reikšmė | M4: Pasiekta reikšmė | N4: Nukrypimų nuo plano priežastys, pastabos, komentarai
A8: 10 PARAMA VERSLUI IR VERSLO PLĖTRA
A9: 01 | B9: Gerinti verslo paramos bei informavimo sistemą, plėtoti viešojo ir privataus sektorių bendradarbiavimą, gyventojų verslumą
A10: 01 | B10: 01 | C10: Stiprinti savivaldybės institucijų ir verslo įmonių bendradarbiavimą rengiant, įgyvendinant bendrus projektus
A11: 01 | B11: 01 | C11: 01 | D11: Finansuoti VšĮ Kėdainių turizmo ir verslo informacijos centro viešųjų paslaugų verslui programą: | E11: 1 | F11: Priemonės įgyvendinimo koordinavimas | G11: Administracijos direktorius | H11: SB | I11: 36 | J11: 36 | K11: Suteiktų informacinių, konsultacinių paslaugų ūkio subjektams ir asmenims pagal paklausimus skaičius, vnt. | L11: 900 | M11: 1390 | N11: Įgyvendinant programą buvo vykdomos numatytos priemonės: skatinamas naujų verslo įmonių steigimas, skleidžiama informacija ir kuriama konsultavimo informavimo sistema, atnaujinama įstaigos duomenų bazė, plėtotas bendradarbiavimas su Užimtumo tarnybos Šiaulių departamento Kėdainių skyriumi. 2023 m. Kėdainių TVIC darbuotojai atsakė į 1350 paklausimus, suteikė 350 val. verslo konsultacijų. Per 2023 m. verslą pradėjo 119 naujai įregistruotų įmonių (2022 m. -120). Kėdainių TVIC konsultacijų ir/ar suteikta pagalba įsikūrė 34 naujos įmonės (iš 119)
A12: 01 | B12: 01 | C12: 01.01 | D12: techninės ir metodinės pagalbos rajono verslininkams, verslo įmonėms, asmenims, ketinantiems pradėti verslą, investuotojams teikimas | K12: Paklausimų, telefonu internetu, centre teikimas, val. | L12: 300 | M12: 350
A13: 01 | B13: 01 | C13: 01.02 | D13: Kėdainių rajono savivaldybės smulkaus verslo rėmimo fondo administravimas | K13: Konsultuotų subjektų skaičius | L13: 110 | M13: 115
A14: 01 | B14: 01 | C14: 01.03 | D14: savivaldybės įmonių duomenų bazės atnaujinimas, verslo situacijos analizė, duomenų apdorojimas ir viešinimas | K14: Verslo aplinkos statistikos duomenų analizė, val. | L14: 20 | M14: 20
A15: 01 | B15: 01 | C15: 01.04 | D15: viešojo ir privataus sektorių bendravimo skatinimas, susitikimų, forumų organizavimas | K15: Organizuotų, inicijuotų susitikimų skaičius | L15: 2 | M15: 2
A16: 01 | B16: 01 | C16: 01.05 | D16: savivaldybės administracijos, Kėdainių TVIC ir verslą vienijančių asociacijų bendradarbiavimo stiprinimas
A17: 01 | B17: 01 | C17: 02 | D17: Teikti finansinę paramą verslą pradedantiems ar sunkumų patiriantiems SVV subjektams Kėdainių rajone per Savivaldybės smulkiojo verslo rėmimo fondą | E17: 1 | F17: Priemonės įgyvendinimo koordinavimas | G17: Administracijos direktorius | H17: KT (FL) | I17: 26.15 | J17: 0 | K17: Subjektų, kuriems suteikta finansinė parama, skaičius | L17: 37 | M17: 15 | N17: 2023 m. Smulkiojo verslo rėmimo fondo parama pasinaudojo mažiau verslo subjektų nei buvo planuota, kadangi 2022 m. spalio mėn. rajono taryba pakeitė Smulkiojo verslo rėmimo fondo nuostatus, t.y. verslo subjektai turėjo atitikti bent 2 prioritetines kryptis. Verslininkams skirta SVRF parama už 36,35 tūkst. Eur. Populiariausios Smulkiojo verslo rėmimo fondo paramos priemonė buvo įrangos/darbo priemonių įsigijimo dalinis išlaidų kompensavimas (pasinaudojo 12 subjektų).
H18: SB | I18: 50 | J18: 36.3
A19: 01 | B19: 01 | C19: 03 | D19: Organizuoti ir viešinti verslumą skatinančius, gerąją verslo patirtį viešinančius renginius Kėdainių rajone | E19: 1 | F19: Priemonės įgyvendinimo koordinavimas | G19: Administracijos direktorius | H19: SB | I19: 3 | J19: 0 | K19: Suorganizuotas verslininkų pagerbimo renginys ,,Verslo diena" ir nominuoti verslininkai pagal patvirtintus konkurso nuostatus | L19: 1 | M19: 1 | N19: Renginio metu nusipelnę verslininkai buvo apdovanoti pagal 4 nominacijas: ,,Už tautinių tradicijų puoselėjimą“ (MB Miltuotos rankos); ,,Už naujų erdvių kūrimą mažiesiems kėdainiečiams“ (MB Ant saldžių debesų); ,,Už ilgametę draugystę versle“ (uždaroji akcinė bendrovė „LAUMETRIS“) ir ,,Už sėkmingą inovacijų taikymą versle“ (UAB „Ardo projektai“). Kauno prekybos, pramonės ir amatų rūmų Kėdainių filialo konkurso ,,Sukurta Kėdainių rajone” laureatais tapo Ūkininkės Eglės Valuckaitės–Stašauskienės gaminys – pomidorų trapučiai „PADUOK POMIDORŲ“, „PADUOK AŠTRUMO“ .
A20: 01 | B20: 01 | C20: Iš viso uždaviniui | I20: =SUM(I11:I19) -> 115.15 | J20: =SUM(J11:J19) -> 72.3
A21: 01 | B21: Iš viso tikslui | I21: =+I20 -> 115.15 | J21: =+J20 -> 72.3
A22: 02 | B22: Kurti ekonominį augimą skatinančios verslo aplinkos plėtrą
A23: 02 | B23: 01 | C23: Sudaryti palankias sąlygas sumanios pramonės ir logistikos srities verslų atsiradimui, plėtrai bei investicijų pritraukimui
A24: 02 | B24: 01 | C24: 02 | D24: Įgyvendinti projektą "Kėdainių miesto viešosios infrastruktūros, svarbios verslui, atnaujinimas ir plėtra" | E24: 1 | F24: Paviršinio vandens sistemos ir lietaus nuotekų sistemos Kėdainių LEZ teritorijoje rekonstrukcijos, techninės priežiūros viešųjų pirkimų organizavimas, rangos darbų koordinavimas, rangovo prisiimtų sutartinių įsipareigojimų vykdymo kontrolė | G24: Statybos ir turto skyrius | H24: SBVB | I24: 724.4 | J24: 729.4 | K24: Investicijoms parengtų viešųjų teritorijų plotas, ha | L24: ~12 | M24: ~12 | N24: Rekonstruotos Vakarų g. (ilgis 1,049 km; plotos 16,1 m) ir Vandenvietės g. (ilgis 0,331 km; plotos 10 m): važiuojamoji dalis, nuovažų, dviračių, pėsčiųjų takų įrengimas, bordiūrai, lietaus nuotekų tinklų įrengimas, gatvės apšvietimo įrengimas (2 ha). Taip pat LEZ teritorijoje atlikti rekonstravimo bei paviršinio vandens ir lietaus nuotekų sistemų rekonstrukcijos techniniai projektai. LEZ teritorijoje įrengta beveik 2,2 km paviršinio vandens ir lietaus nuotekų sistemos tinklų bei 2,32 km drenažo tinklų (~10 ha)
E25: 2 | F25: Kėdainių miesto Vakarų g. ir Vandenvietės g. Kėdainių LEZ teritorijoje rekonstrukcijos, techninės priežiūros viešųjų pirkimų organizavimas, rangos darbų koordinavimas, rangovo prisiimtų sutartinių įsipareigojimų vykdymo kontrolė | G25: Žemės ūkio ir melioracijos skyrius | H25: SBVB | I25: 2496.5 | J25: 2189
A26: 03 | B26: 01 | C26: Iš viso uždaviniui | I26: =SUM(I24:I25) -> 3220.9 | J26: =SUM(J24:J25) -> 2918.4
A27: 03 | B27: Iš viso tikslui | I27: =+I26 -> 3220.9 | J27: =+J26 -> 2918.4
A28: Iš viso programai | I28: =+I27+I21 -> 3336.05 | J28: =+J27+J21 -> 2990.7
A29: iš jų: | I29: =+I28-I30-I37 -> 9.2370556e-14 | J29: =+J28-J30-J37 -> 0
A30: SAVIVALDYBĖS LĖŠOS | I30: =SUM(I31:I36) -> 3309.9 | J30: =SUM(J31:J36) -> 2990.7
A31: Savivaldybės biudžetas SB | I31: =+I19+I11+I18 -> 89 | J31: =+J19+J11+J18 -> 72.3
A32: Valstybės biudžeto specialiosios tikslinės dotacijos lėšos SBVB | I32: =+I24+I25 -> 3220.9 | J32: =+J24+J25 -> 2918.4
A33: Aplinkos apsaugos rėmimo specialiosios programos lėšos AA
A34: Iš pajamų už suteiktas paslaugas lėšos ĮP
A35: Skolintos lėšos SK
A36: Kelių priežiūros ir plėtros programos lėšos KPP
A37: KITOS LĖŠOS | I37: =SUM(I38:I41) -> 26.15 | J37: =SUM(J38:J41) -> 0
A38: Europos Sąjungos lėšos, užsienio fondų lėšos ES
A39: Valstybės biudžeto lėšos VB
A40: Privačios – investuotojų lėšos PR | I40: =+I14 -> 0 | J40: =+J14 -> 0
A41: Kiti finansavimo šaltiniai KT | I41: =+I17 -> 26.15 | J41: =+J17 -> 0

Sheet 11valdym.
H1: PATVIRTINTA Kėdainių rajono savivaldybės administracijos direktoriaus 2023 m. vasario 10 d. įsakymu Nr.AD-1- 165 (Kėdainių rajono savivaldybės administracijos direktoriaus 2024 m. sausio d. įsakymo Nr.AD-1- redakcija)
A3: Programos tikslo kodas | B3: Uždavinio kodas | C3: Priemonės kodas | D3: Priemonės pavadinimas | E3: Veiklos/darbo/ veiksmo kodas | F3: Veiklos/darbo/ veiksmo pavadinimas | G3: Atsakingi vykdytojai | H3: Finansavimo šaltinis | I3: Numatomi 2023-ųjų m. asignavimai, tūkst. Eur | J3: Panaudoti 2023-ųjų m. asignavimai, tūkst. Eur | K3: Proceso/indėlio vertinimo kriterijai
K4: Pavadinimas | L4: Planuota reikšmė | M4: Pasiekta reikšmė | N4: Nukrypimų nuo plano priežastys, pastabos, komentarai
A8: 11 SAVIVALDYBĖS VALDYMO TOBULINIMAS
A9: 01 | B9: Didinti savivaldybės valdymo ir veiklos efektyvumą, gerinti žmogiškųjų išteklių kompetencijas
A10: 01 | B10: 01 | C10: Sudaryti sąlygas kokybiškai įgyvendinti Savivaldybės funkcijas, mažinant administracinę naštą, įgyvendinant lygias galimybes užtikrinančias bei korupcijos prevencijos priemones
A11: 01 | B11: 01 | C11: 01 | D11: Organizuoti Savivaldybės tarybos ir Savivaldybės administracijos veiklą, įgyvendinant administracinės naštos, lygių galimybių bei korupcijos prevencijos priemones, stiprinti darbuotojų kompetencijas | E11: 1 | F11: Administracijos skyriams priskirtų funkcijų kokybiško vykdymo, administracinės naštos mažinimo priemonių vykdymo užtikrinimas | G11: Administracijos direktorius | H11: SB | I11: 5084.6 | J11: 4554.4 | K11: Priimtų tarybos sprendimų skaičius | L11: 300 | M11: 389 | N11: Savivaldybės taryba ir Savivaldybės administracija vykdė Lietuvos Respublikos Konstitucijos ir įstatymų nustatytas, Lietuvos Respublikos vietos savivaldos įstatymu reglamentuotas savarankiškas savivaldybės bei valstybines (valstybės perduotos savivaldybei) funkcijas. 2023 m. 11 tarybos posėdžių metu priimti 389 Tarybos sprendimai. Į Savivaldybės administraciją daugiausia asmenų kreipiasi socialinės paramos, žemės ūkio ir aplinkosaugos, teisės bei bendraisiais klausimais. 2023 m. gauti 1382 gyventojų prašymai, atsakymų laiku įvykdymas - 97,2 proc. Įtakos turėjo gegužės mėn. perėjimas prie kitos dokumentų valdymo sistemos. | V11: =4886.1-J49-J52-J58-J70-J71 -> 4554.4
K12: Prašymų, į kuriuos atsakymai fiziniams asmenims pateikti per įstatymais nustatytus terminus dalis nuo visų gautų prašymų, proc. | L12: 100 | M12: 97.2
K13: Įgyvendintų administracinės naštos mažinimo priemonių, įgyvendinamų pagal patvirtintą planą, skaičius | L13: 9 | M13: 9 | N13: Administracinės naštos 2023 m. plane suplanuota 9 priemonės (iš viso 2023-2025 m. plano laikotarpiu - 11). Centralizuoto vidaus audito skyrius 2023 m. atliko vidaus auditą dėl administracinės naštos mažinimo priemonių plano vykdymo kontrolę. Pagal atliktą vidaus audito išvadą 2023 m. savivaldybės administracijos vidaus kontrolė administracinės naštos mažinimo srityje vertinama gerai.
E14: 2 | F14: Korupcijos prevencijos, lygias galimybes užtikrinančių priemonių įgyvendinimas | G14: Administracijos direktorius | H14: ĮP | I14: 24.3 | J14: 14.2 | K14: Įgyvendintų korupcijos prevencijos priemonių pagal patvirtintą planą, proc. | L14: 100 | M14: 100 | N14: 2022-2024 m. savivaldybės administracijos korupcijos prevencijos plane 2023 m. suplanuota 20 priemonių, iš kurių visos įvykdytos, o tęstinės - vykdomos. 2023 m. parengtos 109 teisės aktų projektų antikorupcinio vertinimo pažymos. Atliktas savivaldybės darbuotojų korupcijos tolerancijos tyrimas, kuris parodė, kad korupcijos netoleravimo lygis - labai aukštas, o korupcinio pobūdžio veikų pasireiškimo galimybė (respondentų nuomone) yra minimali. Vykdyta informacinio, šviečiamojo pobūdžio veikla.
K15: Įgyvendintų lygias galimybes užtikrinančių priemonių skaičius | L15: 7 | M15: 7 | N15: Savivaldybės administracijos lygių galimybių politika ir jos įgyvendinimo tvarkos aprašas nustato lygių galimybių Savivaldybės administracijoje principus ir jų įgyvendinimo darbe sąlygas bei tvarką. Pagal Lygių galimybių kontrolieriaus tarnybos atliktą vertinimą Kėdainių rajono savivaldybė priskiriama kaip pasiekusi gerų lyčių lygybės rezultatų , pagal sudarytą Lietuvos savivaldybių lyčių lygybės žemėlapį, Kėdainiai užima 14 vietą
A16: 01 | B16: 01 | C16: 04 | D16: Didinti piliečių įtraukimo į biudžeto formavimą galimybes, įgyvendinant dalyvaujamojo biudžeto iniciatyvas | E16: 1 | F16: "Dotnuvių paplūdimys" iniciatyvos įgyvendinimas: rangos darbų viešojo pirkimo organizavimas, rangos darbų koordinavimas, rangovo prisiimtų sutartinių įsipareigojimų vykdymo kontrolė | G16: Statybos ir turto skyrius | H16: SB | I16: 40 | J16: 37.4 | K16: Įgyvendintų gyventojų iniciatyvų skaičius | L16: 2 | M16: 2 | N16: Įgyvendinti 2022 m. laimėtų dalyvaujamojo biudžeto iniciatyvų projektai - Dotnuvių paplūdimys bei "Atokvėpis neįgaliesiems". Taip pat suorganizuotas 2023 m. gyventojų iniciatyvų konkursas, kuriam buvo pateiktos 7 projektų idėjos. Sekančiais metais bus įgyvendinta "Unity Dome - kupolas kultūros ir bendruomenės ryšiams (Labūnava) iniciatyva, "Jaukumo ratas (Kėdainiai) iniciatyva bei „Babėnų miškas – sveikatingumo trasa“ iniciatyva (Kėdainiai (2024-2025 m.)
E17: 2 | F17: "Atokvėpis neįgaliesiems" iniciatyvos įgyvendinimas: rangos darbų viešojo pirkimo organizavimas, rangos darbų koordinavimas, rangovo prisiimtų sutartinių įsipareigojimų vykdymo kontrolė
A18: 01 | B18: 01 | C18: Iš viso uždaviniui | I18: =SUM(I11:I16) -> 5148.9 | J18: =SUM(J11:J16) -> 4606
A19: 01 | B19: 02 | C19: Organizuoti ir užtikrinti kokybišką valstybės perduotų funkcijų įgyvendinimą
A20: 01 | B20: 02 | C20: 01 | D20: Vykdyti gyventojų registrų tvarkymo ir duomenų valstybės registrui teikimo funkciją | E20: 1 | F20: Duomenų teikimas Registrų centrui | G20: Civilinės metrikacijos ir archyvo skyrius | H20: SBVB | I20: 0.8 | J20: 0.8 | K20: Duomenų teikimo skaičius | L20: 2000 | M20: 471 | N20: VĮ Registrų centrui teikiami duomenys pagal poreikį, t.y. tiek, kiek gauta prašymų iš fizinių ir juridinių asmenų
A21: 01 | B21: 02 | C21: 02 | D21: Tvarkyti archyvinius dokumentus | E21: 1 | F21: Informacijos paieška, pažymų, išrašų išrašymas, kopijų darymas, dokumentų išdavimas, konsultavimas | G21: Civilinės metrikacijos ir archyvo skyrius | H21: SBVB | I21: 47.9 | J21: 47.6 | K21: Išduotų pažymų skaičius | L21: 700 | M21: 1006 | N21: Juridinius faktus patvirtinančių pažymų, raštų pagal prašymus išduota 1006, t.y. 44 proc. daugiau nei buvo planuota
A22: 01 | B22: 02 | C22: 03 | D22: Registruoti civilinės būklės aktus | E22: 1 | F22: Įrašų registravimas, papildymas, anuliavimas, atkūrimas. Vardų, pavardžių pakeitimas, ištaisymas | G22: Civilinės metrikacijos ir archyvo skyrius | H22: SBVB | I22: 35.5 | J22: 35.5 | K22: Užregistruotų civilinės būklės aktų skaičius | L22: 1600 | M22: 1438 | N22: Užregistruota civilinės būklės aktų įrašų 10 proc. mažiau, nei buvo planuota. Užregistruota tiek, kiek buvo gauta prašymų
A23: 01 | B23: 02 | C23: 04 | D23: Vykdyti valstybinės kalbos vartojimo ir taisyklingumo kontrolę | E23: 1 | F23: Valstybinės kalbos vartojimo ir taisyklingumo kontrolės vykdymas įmonėse, įstaigose, organizacijose | G23: Vyr. specialistas (kalbos tvarkytoja) | H23: SBVB | I23: 9 | J23: 9 | K23: Atliktų patikrinimų (įmonių, įstaigų, organizacijų) skaičius | L23: 20 | M23: 50 | N23: Viršytas patikrinimų planas. Patikrinta 20 kavinių meniu, parduotuvių etikečių. Patikrinta 27 įstaigų interneto svetainės, 2 laikraščiai ir 1 televizija. Savivaldybės svetainėje (skiltyje "Valstybinė kalba") paskelbta 60 šviečiamojo pobūdžio straipsnių. Suteikta apie 400 konsultacijų telefonu, el. paštu, gyvai. Surengti 2 kalbiniai renginiai.
E24: 2 | F24: Metodinių patarimų, straipsnių žiniasklaidoje, interneto svetainėje rengimas
E25: 3 | F25: Fizinių bei juridinių asmenų konsultavimas
A26: 01 | B26: 02 | C26: 05 | D26: Koordinuoti koordinuotai teikiamas paslaugas vaikams nuo gimimo iki 18 m. ir vaiko atstovams | E26: 1 | F26: Už vaiko saugumą ir gerovę atsakingų institucijų veiksmų suderinamumas, teikiant koordinuotas paslaugas | G26: Vyr. specialistas (tarpinstitucinio bendradarbiavimo koordinatorius) | H26: SBVB | I26: 20.2 | J26: 18.7 | K26: Suorganizuotų vaiko gerovės komisijų posėdžių skaičius | L26: 5 | M26: 14 | N26: Vykdytas už vaiko saugumą ir gerovę atsakingų institucijų (vaiko teisių apsaugos, įvaikinimo, globos, socialinių įstaigų, policijos) veiksmų suderinamumas, teikiant koordinuotas paslaugas. 2023 m. organizuota 11 posėdžių, svarstyta 30 atvejų, iš jų 9 paskirtos minimalios priežiūros priemonės, ir 3 posėdžiai, svarstyti 7 atvejai dėl privalomo ikimokyklinio ugdymo
A27: 01 | B27: 02 | C27: 06 | D27: Vykdyti jaunimo teisių apsaugą | E27: 1 | F27: Savivaldybės jaunimo politikos programų ir priemonių rengimas bei įgyvendinimas | G27: Vyr. specialistė (jaunimo reikalų koordinatorė) | H27: SBVB | I27: 21.7 | J27: 21.7 | K27: Aktyvaus jaunimo dalis, proc. nuo bendro rajono jaunimo skaičiaus | L27: 10 | M27: 10 | N27: Rajono jaunimo ir su jaunimu dirbančios organizacijos, jauni žmonės buvo informuojami ir konsultuojami jiems aktualiais klausimais, organizuotas rajono jaunimo iniciatyvų projektų, atvirųjų jaunimo erdvių konkursai, koordinuota mokinių savivaldos programa, Jaunimo vasaros užimtumo ir integracijos į darbo rinką programa, organizuotas Tarptautinės jaunimo dienos renginys
E28: 2 | F28: Savivaldybės institucijų bei įstaigų veiklos koordinavimas jaunimo politikos srityje
E29: 3 | F29: Duomenų apie savivaldybės teritorijoje gyvenančio jaunimo padėties rinkimas ir sisteminimas, pokyčių analizė, išvadų ir pasiūlymų teikimas
A30: 01 | B30: 02 | C30: 07 | D30: Teikti pirminę teisinę pagalbą | E30: 1 | F30: Lietuvos Respublikos valstybės garantuojamos teisinės pagalbos įstatymo nustatyta tvarka teisinės informacijos, teisinės konsultacijos teikimas, valstybės ir savivaldybių institucijoms skirtų dokumentų rengimas, išskyrus procesinius dokumentus | G30: Teisės ir personalo skyrius | H30: SBVB | I30: 12.2 | J30: 12.2 | K30: Suteiktos teisinės pagalbos atvejų skaičius | L30: 720 | M30: 783 | N30: Valstybės garantuojama pirminė teisinė pagalba suteikta 783 asmenims t.y. 9 proc. daugiau nei 2022 m. Teikiant pirminę teisinę pagalbą daugiausiai konsultuota civilinės teisės ir civilinio proceso (310) ir šeimos teisės (288) klausimais
E31: 2 | F31: Patarimų dėl ginčo išsprendimo ne teismo tvarka, veiksmų dėl taikaus ginčo išsprendimo teikimas, taikos sutarties parengimas
A32: 01 | B32: 02 | C32: 08 | D32: Teikti duomenis Valstybės suteiktos pagalbos registrui | E32: 1 | F32: Duomenų teikimas Konkurencijos tarybai | G32: Biudžeto ir finansų skyrius | H32: SBVB | I32: 1.2 | J32: 1.2 | K32: Duomenų teikimo skaičius | L32: 12 | M32: 12 | N32: Funkciją vykdo Biudžeto ir finansų skyrius
A33: 01 | B33: 02 | C33: 11 | D33: Užtikrinti valstybės tarnybos reformos įgyvendinimą | E33: 1 | F33: Funkcijos koordinavimas | G33: Administracijos direktorius | H33: SBVB | I33: 6.3 | J33: 6.3 | K33: Funkcijų vykdymas, proc. | L33: 100 | M33: 100 | N33: Teisės ir personalo skyrius kartu su savivaldybės vadovais užtikrino sklandų valstybės tarnybos reformos nuostatų pritaikymą ir įgyvendinimą savivaldybėje
A34: 01 | B34: 02 | C34: Iš viso uždaviniui | I34: =SUM(I20:I33) -> 154.8 | J34: =SUM(J20:J33) -> 153
A35: 01 | B35: 03 | C35: Užtikrinti finansavimą nenumatytoms išlaidoms dengti bei valdyti prisiimtus finansinius įsipareigojimus
A36: 01 | B36: 03 | C36: 01 | D36: Įgyvendinti priemones, finansuojamas iš Savivaldybės mero rezervo | E36: 1 | F36: Ekstremalių situacijų/ įvykių padarytų nuostolių apmokėjimas | G36: Apskaitos skyrius | H36: SB | I36: 120 | J36: 0 | K36: Rezervo panaudojimo proc. | L36: 100 | M36: 0 | N36: Vadovaujantis patvirtintu Kėdainių rajono savivaldybės mero rezervo lėšų naudojimo tvarkos aprašu, kuriuo numatoma, kad Mero rezervas gali būti skiriamas ekstremaliosioms situacijoms ir (arba) ekstremaliesiems įvykiams likviduoti, jų padariniams šalinti ir padarytiems nuostoliams iš dalies apmokėti; gaisrų ir stichinių nelaimių ir kitų įvykių padariniams likviduoti ir jų padarytiems nuostoliams iš dalies apmokėti bei dėl nepaprastosios padėties atsiradusioms išlaidoms iš dalies apmokėti ir (arba) jos padariniams šalinti finansavimo 2023 m. neprireikė
A37: 01 | B37: 03 | C37: 02 | D37: Įgyvendinti priemones, finansuojamas iš Savivaldybės mero fondo | E37: 1 | F37: Fondo administravimas | G37: Apskaitos skyrius | H37: SB | I37: 21.6 | J37: 21.5 | K37: Rezervo panaudojimo proc. | L37: 100 | M37: 99.5 | N37: Fondo lėšos panaudotos pagal tarybos nustatytą tvarką, neviršijant bendrų savivaldybės reprezentacijai skirtų lėšų
A38: 01 | B38: 03 | C38: 03 | D38: Imti ir grąžinti paskolas, mokėti palūkanas, vykdyti finansinius įsipareigojimus | E38: 1 | F38: Finansinių įsipareigojimų vykdymas | G38: Biudžeto ir finansų skyrius | H38: SB | I38: 230 | J38: 185.1 | K38: Finansinių įsipareigojimų vykdymo savalaikiškumas, proc. | L38: 100 | M38: 100 | N38: Pagal grafiką grąžintos paskolos, mokėtos palūkanos
H39: SB | I39: 48.1 | J39: 48.1
H40: SB | I40: 0 | J40: 0
H41: SK | I41: 1836.7 | J41: 1836.6
A42: 01 | B42: 03 | C42: 04 | D42: Kompensuoti UAB "Kėdbusas" nuostolingus maršrutus | E42: 1 | F42: Duomenų ir pateisinamųjų dokumentų iš vežėjų rinkimas, sisteminimas, analizė ir teikimas Apskaitos, Biudžeto ir finansų skyriams | G42: Statybos ir turto skyrius | H42: SB | I42: 1622 | J42: 1622 | K42: Patvirtintų pavėžėjimo išlaidų kompensavimas | L42: 100 | M42: 100 | N42: Lėšos skirtos vežėjo patirtų nuostolių už keleivių vežimą vietinio (miesto ir priemiestinio) reguliaraus susisiekimo autobusų maršrutais kompensavimui, taip pat 500 tūkst. rajono tarybai pritarus skirta 2 autobusų įsigijimui
A44: 01 | B44: 03 | C44: 06 | D44: Kompensuoti savivaldybės patirtas išlaidas valdant nepaprastąją padėtį dėl užsieniečių, pasitraukusių iš Ukrainos dėl Rusijos Federacijos karinių veiksmų Ukrainoje | E44: 1 | F44: Priemonės koordinavimas | G44: Apskaitos skyrius | H44: SBVB | I44: 26.7 | J44: 26.7 | K44: Įstaigų, kurioms kompensuojamos išlaidos / asmenų, pasitraukusių iš Ukrainos dėl Rusijos Federacijos karinių veiksmų Ukrainoje, skaičius | L44: 2/20 | M44: 2/28 | N44: Kompensuotos patirtos išlaidos (komunalinės, dalis priemonių) iš Ukrainos pasitraukusiems asmenims, gyvenantiems Pagalbos šeimai centre bei Spindulio mokykloje
A45: 01 | B45: 03 | C45: Iš viso uždaviniui | I45: =SUM(I36:I44) -> 3905.1 | J45: =SUM(J36:J44) -> 3740
A46: 01 | B46: Iš viso tikslui | I46: =+I45+I34+I18 -> 9208.8 | J46: =+J45+J34+J18 -> 8499
A47: 02 | B47: Gerinti Kėdainių rajono savivaldybės tarybos ir administracijos komunikavimo ir įvaizdžio formavimo funkcijas
A48: 02 | B48: 01 | C48: Užtikrinti savivaldybės veiklos viešumą, gerinti komunikavimo ryšį su rajono bendruomenės nariais
A49: 02 | B49: 01 | C49: 01 | D49: Tobulinti Kėdainių rajono savivaldybės tarybos ir administracijos komunikaciją su bendruomene ir visuomenės informavimą | E49: 1 | F49: Komunikacijos su bendruomene ir visuomenės informavimo koordinavimas | G49: Administracijos direktorius | H49: SB | I49: 29 | J49: 19.8 | K49: Informacijos apie Savivaldybės veiklą, sprendimus, projektus, renginius spaudoje, interneto svetainėje, televizijoje, socialiniuose tinkluose, leidiniuose ir kt. žiniasklaidos priemonėse skleidimas (proc.0 | L49: 100 | M49: 100 | N49: Informacija apie savivaldybės administracijos, tarybos vykdomą veiklą viešinta respublikinėje, vietinėje spaudoje, televizijoje, savivaldybės internetiniame tinklapyje. Daugiau komunikuota socialiniuose tinkluose, informacija teikta internetinėje svetainėje
A50: 02 | B50: 01 | C50: Iš viso uždaviniui | I50: =+I49 -> 29 | J50: =+J49 -> 19.8
A51: 02 | B51: 02 | C51: Plėtojant dalykinius santykius ir ryšius su tarptautinėmis ir vietinėmis institucijomis bei organizacijomis, stiprinti rajono įvaizdį
A52: 02 | B52: 02 | C52: 01 | D52: Dalyvauti Lietuvos savivaldybių asociacijos veikloje | E52: 1 | F52: Dalyvavimas LSA veikloje, sprendžianti narių – savivaldybių bendruosius klausimus | G52: Administracijos direktorius | H52: SB | I52: 20 | J52: 22.5 | K52: Veikloje dalyvaujančių partnerių skaičius | L52: 59 | M52: 59 | N52: Dalyvauta regioninio, tarptautinio bendradarbiavimo susitikimuose, renginiuose, forumuose, diskusijose.
A53: 02 | B53: 02 | C53: 02 | D53: Dalyvauti Kauno regiono plėtros agentūros veikloje | E53: 1 | F53: Kauno apskrities savivaldybių regioninis bendradarbiavimas, kvalifikacijos tobulinimas, projektų įgyvendinimas | G53: Administracijos direktorius | H53: SB | I53: 15 | J53: 15 | K53: Programų, kuriose dalyvauja savivaldybė, skaičius | L53: 4 | M53: 4
A54: 02 | B54: 02 | C54: Iš viso uždaviniui | I54: =SUM(I52:I53) -> 35 | J54: =SUM(J52:J53) -> 37.5
A55: 02 | B55: Iš viso tikslui | I55: =+I54+I50 -> 64 | J55: =+J54+J50 -> 57.3
A56: 03 | B56: Gerinti savivaldybės administracijos darbo kokybę, atnaujinant (diegiant) informacines sistemas, kompiuterinę įrangą, užtikrinant sisteminį viešųjų ir administracinių paslaugų modernizavimą
A57: 03 | B57: 01 | C57: Organizuoti savivaldybės veiklą vadovaujantis šiuolaikiniais vadybos principais, tobulinti darbuotojų kompetenciją
A58: 03 | B58: 01 | C58: 01 | D58: Užtikrinti informacinių technologijų plėtrą savivaldybės administracijoje, kelti elektroninių paslaugų brandos lygį, naudoti elektroninį parašą | E58: 1 | F58: IT įrangos, programų, IS atnaujinimo viešųjų pirkimų organizavimas, įdiegtų programų, IS priežiūra ir plėtros organizavimas | G58: Bendrasis skyrius | H58: SB | I58: 161.5 | J58: 145.5 | K58: Atnaujintos/prižiūrimos IT įrangos skaičius | L58: 50 | M58: 62 | N58: Savivaldybės administracija yra 10 informacinių sistemų valdytoja ir tvarkytoja, dar 52 informacinių sistemų - tvarkytoja
A59: 03 | B59: 01 | C59: Iš viso uždaviniui | I59: =SUM(I58:I58) -> 161.5 | J59: =SUM(J58:J58) -> 145.5
A60: 03 | B60: Iš viso tikslui | I60: =+I59 -> 161.5 | J60: =+J59 -> 145.5
A61: 04 | B61: Didinti saugumą rajone
A62: 04 | B62: 01 | C62: Užtikrinti rajono gyventojų viešąją tvarką ir viešąjį saugumą
A63: 04 | B63: 01 | C63: 01 | D63: Finansuoti prevencinę programą „Saugios aplinkos kūrimas ir bendruomenės teisėtvarkos kūrimas" | E63: 1 | F63: Įgyvendinamų programos priemonių koordinavimas | G63: Bendrasis skyrius | H63: SB | I63: 12 | J63: 11.9 | K63: Įgyvendintų prevencinių priemonių skaičius | L63: 20 | M63: 20 | N63: Organizuoti teisinių žinių, teisinio švietimo (viktorinos, konkursai, protmūšiai) renginiai ir akcijos, vykdytos prevencinės priemonės, skatinti jaunieji policijos rėmėjai, kurių 2032 m. buvo 11 (2022m. - 8). Jie savanorišką veiklą vykdė 378 valandas. Įsigyta elektroninė daktiloskopavimo įranga
A64: 04 | B64: 01 | C64: 03 | D64: Organizuoti civilinę saugą | E64: 1 | F64: Civilinės saugos ekstremaliųjų situacijų valdymo plano prevencinių priemonių rengimas (atnaujinimas) | G64: Vyr. specialistas (civilinei ir priešgaisrinei saugai) | H64: SBVB | I64: 57.8 | J64: 52.9 | K64: Įgyvendintų ekstremaliųjų situacijų prevencijos priemonių plano vykdymo procentas | L64: 100 | M64: 100 | N64: Vykdant Savivaldybės civilinės saugos ekstremaliųjų situacijų 2021–2023 m. prevencijos priemonių planą, suorganizuotos ir įvykdytos savivaldybės lygio stalo civilinės saugos pratybos, ekstremalių situacijų operacijų centras į posėdžius rinkosi 2 kartus. Savivaldybės teritorijoje yra numatytas 41 kolektyvinės apsaugos statinys (toliau – KAS) (2022 m. - 31) . Pagal parinktų patalpų plotą šiuo metų KAS telpa 12 416 gyventojų. 2023 m. priedangų skaičius rajone padidėjo nuo 45 iki 122, (talpinama per 52 proc. savivaldybės gyventojų). 2023 m. patikslintas ekstremaliųjų situacijų valdymo planas, papildyti kolektyvinės apsaugos statinių ir priedangų sąrašai. Organizuoti civilinės saugos bei civilinės gynybos mokymai ikimokyklinio ugdymo įstaigų vadovams.
E65: 2 | F65: Administracijos struktūrinių padalinių, įstaigų, įmonių darbų saugos patikrinimų vykdymas, priešgaisrinės tarnybos parengties kontroliavimas
E66: 3 | F66: Rajono civilinės saugos perspėjimo sistemos būklės kontroliavimas, civilinės saugos mokymų organizavimas
A67: 04 | B67: 01 | C67: 04 | D67: Vykdyti mobilizacijos administravimą | E67: 1 | F67: Pasirengimo mobilizacijai, demobilizacijai ir priimančios šalies paramos teikimo administravimas | G67: Vyr. specialistas (mobilizacijai ir civilinei saugai) | H67: SBVB | I67: 32.6 | J67: 31.3 | K67: Parengtų mobilizacijos planų skaičius | L67: 1 | M67: 1 | N67: 2023 m. sudaryti ir įvykdyti Mobilizacinio ir Priimančios šalies paramos teikimo mokymo planai. Taip pat sudaryta Mobilizacijos valdymo grupė ir parengti jos nuostatai, organizuoti tęstiniai pilietinio (neginkluoto) pasipriešinimo mokymai
E68: 2 | F68: Duomenų rinkimas, sisteminimas, savivaldybės mobilizacijos plano rengimas
E69: 3 | F69: Mobilizacinio ar priimančios šalies paramos teikimo mokymo organizavimas, koordinavimas
A70: 04 | B70: 01 | C70: 05 | D70: Modernizuoti gyventojų perspėjimo sistemą bei įrengti Ekstremalių situacijų operacijų centro patalpas | E70: 1 | F70: Priemonės įgyvendinimo organizavimas | G70: Vyr. specialistas (civilinei saugai) | H70: SB | I70: 18 | J70: 17.8 | K70: Diegiamų šiuolaikinių elektroninių akustinių sirenų skaičius | L70: 2 | M70: 2 | N70: Tobulinta Civilinės saugos gyventojų perspėjimo sirenomis sistema. Į kitą vietą perkelta Krakių mstl. sirena, tad pagerėjo gyventojų pasiekiamumas, Kėdainiuose 2 motorinės sirenos pakeistos į akustines (Chemikų g. 30 ant „Aušros“ progimnazijos pastato ir Žemaitės g. 16) – daugiau miesto gyventojų galima įspėti ir žodiniu pranešimu. Dabar turimos 27 centralizuoto valdymo elektros sirenos ir 7 vietinio valdymo sirenos. SB lėšų nepanaudota, nes papildomas finansavimas metų pradžioje skirtas iš SBVB (04.01.04. priemonė)
A71: 04 | B71: 01 | C71: 06 | D71: Užtikrinti gyventojų saugumą, diegiant vaizdo stebėjimo ir saugumo priemones mieste | E71: 1 | F71: Vaizdo stebėjimo sistemos ir transporto priemonių greičio, raudono šviesoforo signalo pažeidimo fiksavimo sistemos įrangos nuomos, šių sistemų įrengimo ir priežiūros sutarties koordinavimas | G71: Bendrasis skyrius | H71: SB | I71: 141.9 | J71: 126.1 | K71: Stebėjimo vietų viešosiose erdvėse skaičius | L71: 67 | M71: 67 | N71: Kėdainių mieste viešąsias erdves stebi 64 vaizdo kameros. Taip pat naudojamos 3 mobilios kameros, kurių vietos nuolat keičiamos pagal prašymus ar poreikį. Mieste 2023 m. buvo fiksuoti 755 įvairūs atvejai apie galimus teisės pažeidimus, pagal kuriuos buvo atlikti aplinkybių tikslinimai
A72: 04 | B72: 02 | C72: Iš viso uždaviniui | I72: =SUM(I63:I71) -> 262.3 | J72: =SUM(J63:J71) -> 240
A73: 04 | B73: Iš viso tikslui | I73: =+I72 -> 262.3 | J73: =+J72 -> 240
A74: Iš viso programai | I74: =+I73+I60+I55+I46 -> 9696.6 | J74: =+J73+J60+J55+J46 -> 8941.8
A75: Finansavimo šaltiniai | I75: =+I74-I76-I83 -> 0 | J75: =+J74-J76-J83 -> -1.8189894e-12
A76: SAVIVALDYBĖS LĖŠOS | I76: =SUM(I77:I82) -> 9696.6 | J76: =SUM(J77:J82) -> 8941.8
A77: Savivaldybės biudžetas SB | I77: =+I71+I63+I58+I53+I52+I49+I42+I38+I37+I36+I11+I70+I39+I16+I40 -> 7563.7 | J77: =+J71+J63+J58+J53+J52+J49+J42+J38+J37+J36+J11+J70+J39+J16+J40 -> 6827.1
A78: Valstybės biudžeto specialiosios tikslinės dotacijos lėšos SBVB | I78: =+I67+I64+I33+I32+I30+I27+I26+I23+I22+I21+I20+I43+I44 -> 271.9 | J78: =+J67+J64+J33+J32+J30+J27+J26+J23+J22+J21+J20+J43+J44 -> 263.9
A79: Aplinkos apsaugos rėmimo specialiosios programos lėšos AA
A80: Iš pajamų už suteiktas paslaugas lėšos ĮP | I80: =+I14 -> 24.3 | J80: =+J14 -> 14.2
A81: Skolintos lėšos SK | I81: =+I41 -> 1836.7 | J81: =+J41 -> 1836.6
A82: Kelių priežiūros ir plėtros programos lėšos KPP
A83: KITOS LĖŠOS | I83: =SUM(I84:I87) -> 0 | J83: =SUM(J84:J87) -> 0
A84: Europos Sąjungos lėšos, užsienio fondų lėšos ES
A85: Valstybės biudžeto lėšos VB
A86: Privačios – investuotojų lėšos PR
A87: Kiti finansavimo šaltiniai KT

Sheet Lešu poreikis iš viso
A2: Finansavimas 2023 m. programų vykdymui
A4: Finansavimo šaltinis | F4: Numatomi 2023-ųjų m. asignavimai*
A5: IŠ VISO PROGRAMOMS | F5: =+'01šviet.'!I51+'02sveikat.'!I46+'03social.'!I75+'04sport.'!I40+'05kultura'!I50+'06turizm_paveld'!I41+'07Infrastr.'!I89+'08aplinkosauga'!I57+'09ž.ū.'!I41+'10verslas'!I28+'11valdym.'!I74 -> 53979.45
A6: Finansavimo šaltiniai | F6: =+'01šviet.'!I52+'02sveikat.'!I47+'03social.'!I76+'04sport.'!I41+'05kultura'!I51+'06turizm_paveld'!I42+'07Infrastr.'!I90+'08aplinkosauga'!I58+'09ž.ū.'!I42+'10verslas'!I29+'11valdym.'!I75 -> 6.3238303e-13
A7: SAVIVALDYBĖS LĖŠOS | F7: =+'01šviet.'!I53+'02sveikat.'!I48+'03social.'!I77+'04sport.'!I42+'05kultura'!I52+'06turizm_paveld'!I43+'07Infrastr.'!I91+'08aplinkosauga'!I59+'09ž.ū.'!I43+'10verslas'!I30+'11valdym.'!I76 -> 36533.9
A8: Savivaldybės biudžetas SB | F8: =+'01šviet.'!I54+'02sveikat.'!I49+'03social.'!I78+'04sport.'!I43+'05kultura'!I53+'06turizm_paveld'!I44+'07Infrastr.'!I92+'08aplinkosauga'!I60+'09ž.ū.'!I44+'10verslas'!I31+'11valdym.'!I77 -> 19210.3
A9: Valstybės biudžeto specialiosios tikslinės dotacijos lėšos SBVB | F9: =+'01šviet.'!I55+'02sveikat.'!I50+'03social.'!I79+'04sport.'!I44+'05kultura'!I54+'06turizm_paveld'!I45+'07Infrastr.'!I93+'08aplinkosauga'!I61+'09ž.ū.'!I45+'10verslas'!I32+'11valdym.'!I78 -> 9699
A10: Aplinkos apsaugos rėmimo specialiosios programos lėšos AA | F10: =+'01šviet.'!I56+'02sveikat.'!I51+'03social.'!I80+'04sport.'!I45+'05kultura'!I55+'06turizm_paveld'!I46+'07Infrastr.'!I94+'08aplinkosauga'!I62+'09ž.ū.'!I46+'10verslas'!I33+'11valdym.'!I79 -> 764
A11: Iš pajamų už suteiktas paslaugas lėšos ĮP | F11: =+'01šviet.'!I57+'02sveikat.'!I52+'03social.'!I81+'04sport.'!I46+'05kultura'!I56+'06turizm_paveld'!I47+'07Infrastr.'!I95+'08aplinkosauga'!I63+'09ž.ū.'!I47+'10verslas'!I34+'11valdym.'!I80 -> 24.3
A12: Skolintos lėšos SK | F12: =+'01šviet.'!I58+'02sveikat.'!I53+'03social.'!I82+'04sport.'!I47+'05kultura'!I57+'06turizm_paveld'!I48+'07Infrastr.'!I96+'08aplinkosauga'!I64+'09ž.ū.'!I48+'10verslas'!I35+'11valdym.'!I81 -> 3840.7
A13: Kelių priežiūros ir plėtros programos lėšos KPP | F13: =+'01šviet.'!I59+'02sveikat.'!I54+'03social.'!I83+'04sport.'!I48+'05kultura'!I58+'06turizm_paveld'!I49+'07Infrastr.'!I97+'08aplinkosauga'!I65+'09ž.ū.'!I49+'10verslas'!I36+'11valdym.'!I82 -> 2995.6
A14: KITOS LĖŠOS | F14: =+'01šviet.'!I60+'02sveikat.'!I55+'03social.'!I84+'04sport.'!I49+'05kultura'!I59+'06turizm_paveld'!I50+'07Infrastr.'!I98+'08aplinkosauga'!I66+'09ž.ū.'!I50+'10verslas'!I37+'11valdym.'!I83 -> 17445.55
A15: Europos Sąjungos lėšos, užsienio fondų lėšos ES | F15: =+'01šviet.'!I61+'02sveikat.'!I56+'03social.'!I85+'04sport.'!I50+'05kultura'!I60+'06turizm_paveld'!I51+'07Infrastr.'!I99+'08aplinkosauga'!I67+'09ž.ū.'!I51+'10verslas'!I38+'11valdym.'!I84 -> 2780.6
A16: Valstybės biudžeto lėšos VB | F16: =+'01šviet.'!I62+'02sveikat.'!I57+'03social.'!I86+'04sport.'!I51+'05kultura'!I61+'06turizm_paveld'!I52+'07Infrastr.'!I100+'08aplinkosauga'!I68+'09ž.ū.'!I52+'10verslas'!I39+'11valdym.'!I85 -> 14638.8
... A18: Kiti finansavimo šaltiniai KT | F18: =+'01šviet.'!I64+'02sveikat.'!I59+'03social.'!I88+'04sport.'!I53+'05kultura'!I63+'06turizm_paveld'!I54+'07Infrastr.'!I102+'08aplinkosauga'!I70+'09ž.ū.'!I54+'10verslas'!I41+'11valdym.'!I87 -> 26.15
