Workbook
Name _Hlk149118504: '01 Visuomenės ugdymo'!#REF!

Sheet 01 Visuomenės ugdymo
J1: PATVIRTINTA
J2: Kėdainių rajono savivaldybės tarybos
J3: 2026 m. vasario 20 d. sprendimu Nr. TS-33
J6: Kėdainių rajono savivaldybės 2026–2028 m.
J7: strateginio veiklos plano 1 priedas
O8: Lyginamasis variantas
B9: IV SKYRIUS. 3 lentelė. 2026–2028 m. programų uždaviniai, priemonės bei jų stebėsenos rodikliai, asignavimai ir kitos lėšos (tūkst. Eur)
B11: IV SKYRIUS. 3.1 lentelė. 2026–2028 m. AKTYVIOS VISUOMENĖS UGDYMO PROGRAMOS programų uždaviniai, priemonės bei jų stebėsenos rodikliai, asignavimai ir kitos lėšos (tūkst. Eur)
B15: Programos uždavinio, priemonės kodas ir požymis | C15: Uždavinio, priemonės pavadinimas, finansavimo šaltiniai | E15: * 2026 m. asignavimai ir kitos lėšos | F15: PATIKSLINTI 2026 m. asignavimai ir kitos lėšos | G15: 2027 m. asignavimai ir kitos lėšos | H15: 2028 m. asignavimai ir kitos lėšos | I15: Strateginio plėtros plano priemonės kodas | J15: Stebėsenos rodiklio pavadinimas (matavimo vnt.) | K15: Siektinos stebėsenos rodiklių reikšmės | O15: Komentarai, pastabos | P15: 2026 m. +/-pokytis tūkst. Eur
K16: 2026 m. | L16: TIKSLINIMAS 2026 m. | M16: 2027 m. | N16: 2028 m.
B18: 001-01-01 (T) | C18: Sudaryti prielaidas ugdymo kokybei gerinti, mažinti ugdymo kokybės skirtumus tarp mokyklų, užtikrinti STEAM dalykų programų įgyvendinimą bei skaitmeninio ugdymo turinio plėtrą | E18: =SUM(E19:E30) -> 45353.8 | F18: =SUM(F19:F30) -> 46164.1 | G18: =SUM(G19:G30) -> 48765 | H18: =SUM(H19:H30) -> 51107 | J18: Pagrindinio ugdymo pasiekimų patikrinimo (PUPP) metu bent pagrindinį lietuvių kalbos mokymosi pasiekimų lygį pasiekusių mokinių dalis, (proc.) / PUPP metu bent pagrindinį matematikos mokymosi pasiekimų lygį pasiekusių mokinių dalis, (proc.) | K18: 74/ 55,22 | L18: 74/ 55,22 | M18: 74/ 55,22 | N18: 74/ 55,22
B19: 001-01-01-01 (TP) | C19: Švietimo programų įgyvendinimas ir tinkamos ugdymo(si) aplinkos užtikrinimas | D19: SBVB | E19: =27550.7+57.2+510.3 -> 28118.2 | F19: =29217+13.5+0.8 -> 29231.3 | G19: 31500 | H19: 33000 | I19: 2.1. | J19: Ikimokykliniame ir priešmokykliniame ugdyme dalyvaujančių 3–5 metų vaikų dalis (proc.) | K19: 97.7 | L19: 97.7 | M19: 97.7 | N19: 97.7 | O19: Duomenys tikslinami vadovaujantis balandžio, gegužės mėn. biudžeto pakeitimais | P19: =+F19-E19 -> 1113.1
D20: SB | E20: 7908.4 | F20: 7644 | G20: 15700 | H20: 16500 | J20: Bendrojo ugdymo mokyklų 1–8 klasių komplektų, kurie yra jungtiniai, dalis, (proc.) | K20: 1.2 | L20: 1.2 | M20: 0 | N20: 0 | P20: =+F20-E20 -> -264.4
D21: SBL | E21: 7448 | F21: 7448 | G21: 0 | H21: 0 | P21: =+F21-E21 -> 0
D22: ĮP | E22: 1184.7 | F22: 1196.3 | G22: 1195 | H22: 1195 | J22: Bendrojo ugdymo mokyklų klasių komplektų, kuriuose yra mažiau kaip 8 mokiniai, dalis (proc.) | K22: 0.5 | L22: 0.5 | M22: 0 | N22: 0 | P22: =+F22-E22 -> 11.6
B23: 001-01-01-02 (PP) | C23: „Tūkstantmečio mokyklos I“ projekto įgyvendinimas | D23: SB | E23: 50 | F23: 5 | G23: 0 | H23: 0 | I23: 2.1.3.3. | J23: Projekte dalyvaujančių įstaigų skaičius (tinklaveika) | K23: 15 | L23: 15 | O23: Projekto veiklos įgyvendintos, papildomų numatytų savivaldybės biudžeto lėšų nebuvo patirta | P23: =+F23-E23 -> -45
D24: ES | E24: 5 | F24: 5 | G24: 0 | H24: 0 | P24: =+F24-E24 -> 0
D25: SBVB | E25: 281.4 | F25: 281.4 | G25: 0 | H25: 0 | P25: =+F25-E25 -> 0
B26: 001-01-01-03 (TP) | C26: Pirmoko krepšelio finansavimas | D26: SB | E26: 15 | F26: 10 | G26: 15 | H26: 15 | I26: 2.1. | J26: Pirmoko krepšelį gaunančiųjų skaičius | K26: ~400 | L26: 400 | M26: ~400 | N26: ~400 | O26: Tikslinamos lėšos pagal įvykdytą viešąjį pirkimą | P26: =+F26-E26 -> -5
B27: 001-01-01-04 (TP, PP) | C27: Švietimo paslaugų kokybės gerinimas, aprūpinant efektyviai veikiančias bendrojo ugdymo mokyklas laboratorine įranga ir priemonėmis bei sensoriniams kambariams įsirengti, priemonėms įsigyti | D27: SB | E27: 40 | F27: 40 | G27: 30 | H27: 20 | I27: 2.1.1.10 | J27: Bendrojo ugdymo mokyklų (vykdančių vidurinio ar pagrindinio ugdymo programas), turinčių gamtos mokslų laboratorijas/sensorinius kambarius dalis (proc.) | K27: 90/85 | L27: 90/85 | M27: 95/90 | N27: 100/100 | P27: =+F27-E27 -> 0
D28: ES | E28: 80 | F28: 80 | G28: 100 | H28: 150 | P28: =+F28-E28 -> 0
B29: 002-01-01-05 (TP, PP) | C29: Skaitmeninio ugdymo plėtra | D29: SBVB | E29: 102.1 | F29: 102.1 | G29: 104 | H29: 106 | I29: 2.1.1.10 | J29: Įstaigų, plečiančių skaitmeninimą, skaičius | K29: 15/25 | L29: 15/25 | M29: 15/25 | N29: 15/25 | P29: =+F29-E29 -> 0
D30: SB | E30: 121 | F30: 121 | G30: 121 | H30: 121 | P30: =+F30-E30 -> 0
B31: 001-01-02 (T, P) | C31: Užtikrinti neformaliojo ugdymo dermę | E31: =SUM(E32:E39) -> 3736.4 | F31: =SUM(F32:F39) -> 3720.8 | G31: =SUM(G32:G39) -> 4583 | H31: =SUM(H32:H39) -> 4344 | J31: Neformaliojo švietimo veikloje dalyvaujančių mokinių dalis (proc.) | K31: 79.1 | L31: 79.1 | M31: 79.1 | N31: 7.91 | P31: =+F31-E31 -> -15.6
B32: 001-01-02-01 (TP) | C32: Neformaliojo ugdymo programų įgyvendinimo ir tinkamos ugdymo (si) aplinkos užtikrinimas Kėdainių Dailės, Kalbų ir Muzikos mokyklose | D32: SBVB | E32: 73 | F32: 361 | G32: 420 | H32: 450 | I32: 2.1.2.7. | J32: Vaikų, lankančių neformaliojo vaikų švietimo mokyklas, skaičius | K32: ~1390 | L32: ~1390 | M32: ~1390 | N32: ~1390 | O32: Lėšos patikslintos, vadovaujantis balandžio mėn. biudžeto pakeitimais: gavus SBVB tikslines lėšas, atitinkamai koreguojant SB lėšas | P32: =+F32-E32 -> 288
D33: SB | E33: 2526.6 | F33: =2526.6-204.6 -> 2322 | G33: 2750 | H33: 2990 | P33: =+F33-E33 -> -204.6
D34: ĮP | E34: 395.1 | F34: 395.1 | G34: 395 | H34: 395 | P34: =+F34-E34 -> 0
B35: 001-01-02-02 (TP) | C35: Neformaliojo vaikų švietimo, socializacijos, prevencijos veiklų programų plėtojimas, vaikų vasaros stovyklų finansavimas | D35: SB | E35: 80 | F35: 75 | G35: 80 | H35: 80 | J35: Mokinių, dalyvavusių vasaros stovyklose, dalis (proc.) | K35: 14,6 | L35: 14,6 | M35: 14,6 | N35: 14,6 | O35: Lėšos tikslinamos pagal sudarytas ir pasirašytas sutartis po konkurso | P35: =+F35-E35 -> -5
D36: SBVB | E36: 361.7 | F36: 361.7 | G36: 369 | H36: 369 | I36: 2.1.2.7. | J36: NVŠ krepšeliu pasinaudojusių mokinių dalis (proc.) | K36: 39 | L36: 39 | M36: 39 | N36: 39 | P36: =+F36-E36 -> 0
B37: 001-01-02-03 (TP) | C37: Papildomų sąlygų didelio mokymosi potencialo vaikų ugdymui sudarymas | D37: SB | E37: 0 | F37: 0 | G37: 60 | H37: 60 | I37: 2.1.2.3 | J37: Suformuotų klasių skaičius (bendras) | K37: ~20 | L37: ~20 | M37: ~20 | N37: ~20 | P37: =+F37-E37 -> 0
B38: 001-01-02-04 (PP) | C38: Projekto „Išmaniųjų akademija“ įgyvendinimas (ES projekto „Kauno regiono funkcinės zonos strategija“ dalis) | D38: SB | E38: 45 | F38: =45-14 -> 31 | G38: 79 | H38: 0 | I38: 2.1.2.7. | J38: Neformaliojo vaikų švietimo galimybėmis pasinaudojusių mokinių skaičius (per dieną) | M38: Vertinama įgyvendinus projektą 2029 m. | O38: Projektas vykdomas. 2026 m. įrengta edukacinė kulinarinė erdvė ir nupirkta įranga. Lėšos perskirstomos į 2027 m., kadangi likusios 3 edukacinės erdvės bus įrengiamos pasibaigus mokslo metams | P38: =+F38-E38 -> -14
D39: ES | E39: 255 | F39: =255-80 -> 175 | G39: =350+80 -> 430 | H39: 0 | P39: =+F39-E39 -> -80
B40: 001-01-03 (T) | C40: Gerinti švietimo pagalbos teikimą, įgyvendinti kokybišką įvairių ugdymosi poreikių turinčių mokinių ugdymą, taikant inovatyvius ugdymo(si) metodus ir būdus | E40: =SUM(E41:E49) -> 2487.6 | F40: =SUM(F41:F49) -> 2545.8 | G40: =SUM(G41:G49) -> 1367 | H40: =SUM(H41:H49) -> 808 | J40: Švietimo pagalbą gaunančių mokinių dalis (proc.) | K40: ne mažiau 95 | L40: ne mažiau 95 | M40: ne mažiau 95 | N40: ne mažiau 95 | P40: =+F40-E40 -> 58.2
B41: 001-01-03-01 (TP) | C41: Kvalifikuotos švietimo pagalbos mokiniui, mokytojui, mokyklai teikimas | D41: SBVB | E41: 567.1 | F41: =567.1+58.2 -> 625.3 | G41: 585 | H41: 600 | I41: 2.1.2.1. | J41: Organizuotų kvalifikacijos tobulinimo renginių skaičius / kvalifikaciją ir kompetenciją tobulinusių pedagogų, pagalbos mokinių specialistų, vadovų skaičius | K41: 295 / 5390 | L41: 295 / 5390 | M41: 295 / 5390 | N41: 295/5390 | O41: Lėšos patikslintos, vadovaujantis balandžio mėn. biudžetu: gautos tikslinės SBVB | P41: =+F41-E41 -> 58.2
D42: SB | E42: 173.8 | F42: 173.8 | G42: 181 | H42: 192 | P42: =+F42-E42 -> 0
D43: ĮP | E43: 15.7 | F43: 15.7 | G43: 16 | H43: 16 | P43: =+F43-E43 -> 0
B44: 001-01-03-02 (PP) | C44: Projekto „Ugdymo prieinamumo didinimas atskirtį patiriantiems vaikams Kėdainių „Ryto“ ir Kėdainių senamiesčio progimnazijose“ įgyvendinimas | D44: SB | E44: 195 | F44: 195 | G44: 60 | H44: 0 | I44: 2.1.1.2 | J44: Mokyklų, kuriose įdiegtos universalaus dizaino ir kitos inžinerinės priemonės aplinką pritaikant asmenims, turintiems negalią, skaičius | M44: 2 | P44: =+F44-E44 -> 0
D45: ES | E45: 1105 | F45: 1105 | G45: 257 | H45: 0 | P45: =+F45-E45 -> 0
B46: 001-01-03-03 (PP) | C46: Projekto „Įvairialypio švietimo plėtojimas Kėdainių „Aušros“ progimnazijoje ir Vilainių mokykloje-darželyje „Obelėlė“, vykdant visos dienos mokyklos veiklą“ įgyvendinimas | D46: SB | E46: 25 | F46: 25 | G46: 0 | H46: 0 | I46: 2.1.1.2 | J46: Mokinių, kurie naudojasi sukurta visos dienos mokyklos infrastruktūra, skaičius | K46: ~900 | L46: ~900 | P46: =+F46-E46 -> 0
D47: ES | E47: 138 | F47: 138 | G47: 0 | H47: 0 | P47: =+F47-E47 -> 0
...

Sheet 02 Socialinės gerovės
B2: IV SKYRIUS. 3.2 lentelė. 2026–2028 m. SOCIALINĖS GEROVĖS UŽTIKRINIMO PROGRAMOS (02) programų uždaviniai, priemonės bei jų stebėsenos rodikliai, asignavimai ir kitos lėšos (tūkst. Eur)
B4: Programos uždavinio, priemonės kodas ir požymis | C4: Uždavinio, priemonės pavadinimas, finansavimo šaltiniai | E4: * 2026 m. asignavimai ir kitos lėšos | F4: PATIKSLINTI 2026 m. asignavimai ir kitos lėšos | G4: 2027 m. asignavimai ir kitos lėšos | H4: 2028 m. asignavimai ir kitos lėšos | I4: Strateginio plėtros plano priemonės kodas | J4: Stebėsenos rodiklio pavadinimas (matavimo vnt.) | K4: Siektinos stebėsenos rodiklių reikšmės | O4: Komentarai, pastabos | P4: 2026 m. +/-pokytis tūkst. Eur
K5: 2026 m. | L5: TIKSLINIMAS 2026 m. | M5: 2027 m. | N5: 2028 m.
B7: 002-01-01 (T, PP) | C7: Sudaryti sąlygas stiprinti gyventojų sveikatą užtikrinant prieinamų, kokybiškų ir integruotų visuomenės sveikatos bei sveikatos priežiūros paslaugų plėtrą, veiklų tęstinumą ir įgyvendinimą | E7: =SUM(E8:E20) -> 2476.2 | F7: =SUM(F8:F20) -> 2582.7 | G7: =SUM(G8:G20) -> 1941 | H7: =SUM(H8:H20) -> 1946 | J7: Išvengiamos hospitalizacijos skaičius 1000 gyv. | K7: mažėjantis | L7: mažėjantis | M7: mažėjantis | N7: mažėjantis
B8: 002-01-01-01 (TP) | C8: Visuomenės sveikatos rėmimo specialiosios programos priemonių įgyvendinimas | D8: SB (AA) | E8: 136.2 | F8: 158 | G8: 158 | H8: 158 | I8: 2.3.3.3. | J8: Visuomenės sveikatos rėmimo specialiosios programos įgyvendinimas, proc. | K8: 100 | L8: 100 | M8: 100 | N8: 100 | O8: Surinkus daugiau Aplinkos apsaugos specialiosios rėmimo programos lėšų, proporcingai didėja ir Sveikatos sričiai tenkantis finansavimas, sudarantis 20 proc. programos paskirstymo. | P8: =+F8-E8 -> 21.8
B9: 002-01-01-02 (TP) | C9: Visuomenės sveikatos biuro veiklos užtikrinimas, vykdant visuomenės sveikatos priežiūros funkcijas, plėtojant sveiką gyvenseną bendruomenėje, tęsiant „Jaunimui palankios sveikatos priežiūros paslaugos“ bei „Neįtikėtini metai“ projektų veiklas | D9: SB | E9: 153.3 | F9: 153.3 | G9: 163 | H9: 166 | I9: 2.3.3.4. 2.3.3.5. 2.3.2.7. 2.3.1.5. | J9: Visuomenės sveikatos priežiūros funkcijų vykdymas, proc. | K9: 100 | L9: 100 | M9: 100 | N9: 100 | P9: =+F9-E9 -> 0
D10: ĮP | E10: 1.8 | F10: 7.5 | G10: 7.5 | H10: 7.5 | P10: =+F10-E10 -> 5.7
D11: SBVB | E11: 525.6 | F11: 525.6 | G11: 529 | H11: 531 | I11: 2.3.3.4. 2.3.3.7. | J11: Organizuotų ir vykdytų sveikatinimo veiklų skaičius / sveikatinimo veiklose dalyvavusių asmenų skaičius, tūkst. | K11: >2000 / >14,5 | L11: >2000 / >14,5 | M11: >2000 / >14,5 | N11: >2000 / >14,5 | P11: =+F11-E11 -> 0
B12: 002-01-01-03 (PP) | C12: Projekto „Kokybiškų visuomenės sveikatos paslaugų prieinamumo didinimas Kėdainių rajone„ įgyvendinimas | D12: SB | E12: 35.3 | F12: 35.3 | G12: 26.5 | H12: 26.5 | I12: 2.3.3.3. | J12: Asmenų, dalyvavusių sveikatos raštingumo didinimo veiklose, skaičius | K12: ~220 | L12: ~220 | M12: ~220 | N12: ~220 | P12: =+F12-E12 -> 0
D13: ES | E13: 150 | F13: 150 | G13: 150 | H13: 150 | P13: =+F13-E13 -> 0
B14: 002-01-01-04 (TP) | C14: Sveikatos priežiūros paslaugų teikimo pajėgumų stiprinimas, užtikrinant paslaugų kokybę, saugą ir prieinamumą | D14: SB | E14: 1342 | F14: 1342 | G14: 800 | H14: 800 | I14: 2.3.3.3. | J14: Sveikatos priežiūros paslaugų prieinamumo ir naudojimo rodiklis (apsilankymai pas gydytojus ir odontologus, tenkantis 100 gyventojų, palyginti su Lietuvos vidurkiu) | K14: didesnis už LT rodiklį | L14: didesnis už LT rodiklį | M14: didesnis už LT rodiklį | N14: didesnis už LT rodiklį | P14: =+F14-E14 -> 0
B15: 002-01-01-05 (PP) | C15: Projekto „Sveikatos priežiūros specialistų rengimas, pritraukimas Kėdainių rajono savivaldybėje“ įgyvendinimas | D15: ES | E15: 100 | F15: 100 | G15: 80 | H15: 80 | I15: 2.3.1.1. | J15: Asmenys, dalyvavę kvalifikacijos įgijimo veiklose | N15: Vertinama įgyvendinus projektą 2029 m. | P15: =+F15-E15 -> 0
D16: SB | E16: 2 | F16: 2 | G16: 0 | H16: 0 | P16: =+F16-E16 -> 0
D17: SBVB | E17: 15 | F17: 15 | G17: 12 | H17: 12 | P17: =+F17-E17 -> 0
B18: 002-01-01-06 (TP) | C18: Vaikų, turinčių autizmo spektro ir kitų raidos sutrikimų, sveikatos stiprinimas, galimybių siekti asmeninės pažangos, visaverčio socialinio dalyvavimo prielaidų užtikrinimas | D18: SB | E18: 15 | F18: 10 | G18: 15 | H18: 15 | I18: 2.4.2. | J18: Finansuotų projektų skaičius | K18: 3 | L18: 2 | M18: 3 | N18: 3 | O18: Tikslinami 2026 m. duomenys pagal sudarytas ir pasirašytas sutartis po konkurso | P18: =+F18-E18 -> -5
B19: 002-01-01-07 (TP) | C19: Gydytojų rezidentų praktinio mokymo modelio įgyvendinimas VšĮ Kėdainių ligoninėje ir VšĮ Pirminiame sveikatos priežiūros centre | D19: SBVB | E19: 0 | F19: 57.3 | G19: 0 | H19: 0 | I19: 2.3.3.3. | J19: Rezidentūros bazių, kuriose gydytojai rezidentai atliks profesinės veiklos praktiką ir bus įdarbinti gydytojais rezidentais, skaičius | L19: 2 | O19: Įtraukiama nauja priemonė. Skirta tikslinė dotacija. | P19: =+F19-E19 -> 57.3
B20: 002-01-01-08 (PP) | C20: Dalyvavimas projekte „Antimikrobinio atsparumo valdymo plėtojimas" | D20: SBVB | E20: 0 | F20: 26.7 | G20: 0 | H20: 0 | I20: 2.3.3.3. | J20: Asmens sveikatos priežiūros įstaigų, kuriose integruotas antimikrobinio atsparumo valdymo modelis, skaičius / taikomų bandomųjų modelių skaičius | L20: 1/2 | O20: Įtraukiama nauja priemonė. Skirta tikslinė dotacija | P20: =+F20-E20 -> 26.7
B21: 02-01-02 (T, P) | C21: Modernizuoti ir atnaujinti sveikatos priežiūros įstaigų infrastruktūrą sveikatos gerinimo poreikiams | E21: =SUM(E22:E29) -> 2059 | F21: =SUM(F22:F29) -> 1959 | G21: =SUM(G22:G29) -> 3117 | H21: =SUM(H22:H29) -> 1652.4 | J21: Modernizuotos sveikatos priežiūros infrastruktūros naudotojų skaičius, (tūkst.) | K21: ~40 | L21: ~40 | M21: ~40 | N21: ~40 | P21: =+F21-E21 -> -100
B22: 002-01-02-01 (PP) | C22: Projekto „Sveikatos centro sudėtyje teikiamų sveikatos priežiūros paslaugų infrastruktūros modernizavimas Kėdainių rajono savivaldybėje“ įgyvendinimas | D22: ES | E22: 654 | F22: 654 | G22: 0 | H22: 0 | I22: 2.3.1.1. | J22: Naujos arba modernizuotos sveikatos priežiūros infrastruktūros naudotojų skaičius per metus | N22: Vertinama įgyvendinus projektą 2029 m. | P22: =+F22-E22 -> 0
D23: SB | E23: 500 | F23: 500 | G23: 1440 | H23: 0 | P23: =+F23-E23 -> 0
D24: SBVB | E24: 116 | F24: 116 | G24: 0 | H24: 0 | P24: =+F24-E24 -> 0
D25: KT (PR) | E25: 112 | F25: 112 | G25: 0 | H25: 0 | P25: =+F25-E25 -> 0
B26: 002-01-02-02 (PP) | C26: Projekto „Ilgalaikės priežiūros paslaugų plėtojimo užtikrinimas“ įgyvendinimas | D26: SB | E26: 75 | F26: 25 | G26: 225 | H26: =225+50 -> 275 | I26: 2.3.1.1. | J26: Naujos arba modernizuotos sveikatos priežiūros infrastruktūros naudotojų skaičius per metus | N26: Vertinama įgyvendinus projektą 2029 m. | O26: Lėšos patikslintos, vadovaujantis gegužės mėn. biudžeto pakeitimu ir atsižvelgiant į projekto veiklų įgyvendinimą (vykdomas projektavimas, klinikos perka įrangą, priemones) | P26: =+F26-E26 -> -50
D27: ES | E27: 425 | F27: =425-50 -> 375 | G27: 1275 | H27: =1275+50 -> 1325 | P27: =+F27-E27 -> -50
B28: 002-01-02-03 (PP) | C28: Projekto „Sveikatos centro veiklos modelio diegimas Kėdainių rajono savivaldybėje“ įgyvendinimas | D28: ES | E28: 150 | F28: 150 | G28: 150 | H28: 45.4 | I28: 2.3.1.1. | J28: Paramą gavusių nacionalinio, regionų ar vietos lygmens viešojo administravimo ar viešąsias paslaugas teikiančių įstaigų skaičius | N28: Vertinama įgyvendinus projektą 2029 m. | P28: =+F28-E28 -> 0
D29: SBVB | E29: 27 | F29: 27 | G29: 27 | H29: 7 | P29: =+F29-E29 -> 0
B30: 002-01-03 (T) | C30: Organizuoti Lietuvos Respublikos teisės aktuose numatytos paramos bei paslaugų asmenims ir šeimoms teikimą, skatinti socialinę integraciją | E30: =SUM(E31:E49) -> 31799.9 | F30: =SUM(F31:F49) -> 31276.2 | G30: =SUM(G31:G49) -> 32416.9 | H30: =SUM(H31:H49) -> 33022.9 | J30: Procentas besikreipiančių asmenų ir šeimų, kurie atitikę paramos/paslaugų gavimo sąlygas, gavo reikiamą paramą / paslaugas pagal nustatytus teisės aktus, proc. | K30: 100 | L30: 100 | M30: 100 | N30: 100 | P30: =+F30-E30 -> -523.7
B31: 002-01-03-01 (TP) | C31: Socialinių išmokų bei kompensacijų (būsto šildymo, šalto bei karšto vandens), paramos mirties atveju teikimas ir administravimas | D31: SBVB | E31: 487.3 | F31: 487.3 | G31: 490 | H31: 490 | I31: 2.4.2.; 2.4.3. | J31: Asmenų, gaunančių socialinę pašalpą ir kompensacijas, skaičius | K31: 12250 | L31: 12250 | M31: 12250 | N31: 12250 | P31: =+F31-E31 -> 0
D32: SB | E32: 4257.7 | F32: 4257.7 | G32: 4300 | H32: 4300 | P32: =+F32-E32 -> 0
B33: 002-01-03-02 (TP) | C33: Išlaidų už įsigytus produktus, mokinio reikmenis finansavimas, socialinės paramos mokiniams administravimas | D33: SBVB | E33: 1345.8 | F33: =1345.8-56.3 -> 1289.5 | G33: 1376 | H33: 1378 | I33: 2.4.2.; 2.4.3. | J33: Mokinių, gaunančių nemokamą maitinimą, skaičius | K33: 2047 | L33: 2047 | M33: 2014 | N33: 2006 | P33: =+F33-E33 -> -56.3
J34: Mokinių, gaunančių būtiniausius mokinio reikmenis, skaičius | K34: 1320 | L34: 1320 | M34: 1208 | N34: 1203 | O34: Tikslinama dotacija, vadovaujantis SADM ministro įsakymu | P34: =+F34-E34 -> 0
B35: 002-01-03-03 (TP) | C35: Nemokamo socialiai remtinų vaikų maitinimo ikimokyklinėse įstaigose organizavimas | D35: SB | E35: 110 | F35: 110 | G35: 110 | H35: 110 | I35: 2.4.2.; 2.4.3. | J35: Vaikų, gaunančių nemokamą maitinimą, skaičius | K35: 450 | L35: 450 | M35: 450 | N35: 450 | P35: =+F35-E35 -> 0
B36: 002-01-03-04 (TP) | C36: Nemokamo mokinių maitinimo kainos bendrojo ugdymo mokyklose kompensavimas | D36: SB | E36: 275.3 | F36: 275.3 | G36: 300 | H36: 300 | I36: 2.4.2.; 2.4.3. | J36: Mokinių, gaunančių nemokamą maitinimą, skaičius | K36: 2047 | L36: 2047 | M36: 2014 | N36: 2006 | P36: =+F36-E36 -> 0
B37: 002-01-03-05 (TP) | C37: Kelionės išlaidų už lengvatinį keleivių vežimą kompensavimas | D37: SB | E37: 835 | F37: 835 | G37: 835 | H37: 835 | I37: 2.4.2.; 2.4.3. | J37: Parduotų su nuolaida bilietų skaičius (tūkst.) | K37: ~1000 | L37: ~1000 | M37: ~1000 | N37: ~1000 | P37: =+F37-E37 -> 0
B38: 002-01-03-06 (TP) | C38: Lietuvos Respublikos piniginės socialinės paramos nepasiturintiems gyventojams įstatymo įgyvendinimo užtikrinimas | D38: SBVB | E38: 1450 | F38: 890.3 | G38: 1550 | H38: 1550 | I38: 2.4.2.; 2.4.3. | J38: Paramos teikimo nepasiturintiems asmenims užtikrinimas, proc. | K38: 100 | L38: 100 | M38: 100 | N38: 100 | O38: Tikslinama dotacija, vadovaujantis SADM ministro įsakymu | P38: =+F38-E38 -> -559.7
B39: 002-01-03-07 (TP) | C39: Kompensacijų nepriklausomybės gynėjams mokėjimas bei išmokų ginkluoto pasipriešinimo dalyviams apmokėjimas | D39: SBVB | E39: 7.7 | F39: 7.7 | G39: 8 | H39: 8 | I39: 2.4.2.; 2.4.3. | J39: Asmenų, gavusių kompensacijas, skaičius | K39: 13 | L39: 13 | M39: 13 | N39: 13 | P39: =+F39-E39 -> 0
B40: 002-01-03-08 (TP) | C40: Būsto nuomos ar išperkamosios būsto nuomos mokesčių dalies kompensavimas | D40: SBVB | E40: 39 | F40: 37 | G40: 39 | H40: 39 | I40: 2.4.2.; 2.4.3. | J40: Patenkintų prašymų gauti būsto nuomos ar išperkamosios būsto nuomos mokesčių dalies kompensaciją, skaičius iš bendro pateikusių prašymus asmenų skaičiaus (proc.) | K40: 100 | L40: 100 | M40: 100 | N40: 100 | O40: Tikslinama dotacija, vadovaujantis SADM ministro įsakymu | P40: =+F40-E40 -> -2
B41: 002-01-03-09 (TP) | C41: Individualios pagalbos teikimo išlaidų kompensacijų teikimas ir administravimas | D41: SBVB | E41: 6405.5 | F41: 6405.5 | G41: 6750 | H41: 7200 | I41: 2.4.2.; 2.4.3. | J41: Asmenų, gaunančių individualios pagalbos teikimo išlaidų kompensacijas, skaičius | K41: 2300 | L41: 2300 | M41: 2400 | N41: 2500 | P41: =+F41-E41 -> 0
D42: SBVB | E42: 0 | F42: 0 | G42: 0 | H42: 0 | P42: =+F42-E42 -> 0
B43: 002-01-03-10 (TP) | C43: Išmokų vaikams teikimas ir administravimas | D43: SBVB | E43: 16333.7 | F43: 16333.7 | G43: 16400 | H43: 16550 | I43: 2.4.2.; 2.4.3. | J43: Asmenų, gaunančių išmokas vaikams, skaičius | K43: 8100 | L43: 8100 | M43: 8050 | N43: 8000 | P43: =+F43-E43 -> 0
...

Sheet 03 Darnios aplinkos
B1: IV SKYRIUS. 3.3 lentelė. 2026–2028 m. DARNIOS APLINKOS IR INFRASTRUKTŪROS PLĖTROS PROGRAMOS (03) programų uždaviniai, priemonės bei jų stebėsenos rodikliai, asignavimai ir kitos lėšos (tūkst. Eur)
B3: Programos uždavinio, priemonės kodas ir požymis | C3: Uždavinio, priemonės pavadinimas, finansavimo šaltiniai | E3: * 2026 m. asignavimai ir kitos lėšos | F3: PATIKSLINTI 2026 m. asignavimai ir kitos lėšos | G3: 2027 m. asignavimai ir kitos lėšos | H3: 2028 m. asignavimai ir kitos lėšos | I3: Strateginio plėtros plano priemonės kodas | J3: Stebėsenos rodiklio pavadinimas (matavimo vnt.) | K3: Siektinos stebėsenos rodiklių reikšmės | O3: Komentarai, pastabos | P3: 2026 m. +/-pokytis tūkst. Eur
K4: 2026 m. | L4: TIKSLINIMAS 2026 m | M4: 2027 m. | N4: 2028 m.
B6: 003-01-01 (T) | C6: Remti ir vykdyti aplinkos kokybės gerinimo, aplinkos monitoringo ir kitas aplinkos apsaugos iniciatyvas | E6: =SUM(E7:E11) -> 271.6 | F6: =SUM(F7:F11) -> 271.7 | G6: =SUM(G7:G11) -> 270 | H6: =SUM(H7:H11) -> 270 | J6: Kėdainių rajono savivaldybės vieta Lietuvos savivaldybių aplinkosaugos reitinge | K6: Reitingo 10-ke | L6: Reitingo 10-ke | M6: Reitingo 10-ke | N6: Reitingo 10-ke
B7: 003-01-01-01 (TP) | C7: Aplinkos kokybės gerinimas ir apsauga, visuomenės aplinkosauginis švietimas | D7: SB (AA) | E7: 146.9 | F7: 146.9 | G7: 145 | H7: 145 | I7: 3.3.2.7. | J7: Invazinių augalų augaviečių skaičiaus sumažėjimas Kėdainių r. sav., proc. | K7: 20 | L7: 20 | M7: 25 | N7: 30 | P7: =+F7-E7 -> 0 | XEZ7: =SUM(A7:XEY7) -> 583.8
D8: SBVB | E8: 14 | F8: 14.1 | G8: 14 | H8: 14 | P8: =+F8-E8 -> 0.1
B9: 003-01-01-02 (TP) | C9: Aplinkos monitoringas, oro, dirvožemio, požeminio ir paviršinio vandens nuotekų tyrimai | D9: SB (AA) | E9: 17 | F9: 17 | G9: 17 | H9: 17 | I9: 3.3.1.4. | J9: Pagal patvirtintą aplinkos monitoringo programą per pusmetį nustatytų teršalų koncentracijų verčių viršijimų dalis nuo visų atliktų tyrimų, proc. | K9: ne daugiau 5 | L9: ne daugiau 5 | M9: ne daugiau 5 | N9: ne daugiau 5 | P9: =+F9-E9 -> 0
B10: 003-01-01-03 (TP) | C10: Prevencinių priemonių, kuriomis siekiama išvengti medžiojamųjų gyvūnų daromos žalos miškui, įgyvendinimas | D10: SB (AA) | E10: 63.7 | F10: 63.7 | G10: 64 | H10: 64 | I10: 3.3.2.7 | J10: Per metus registruotų gyvūnų daromos žalos incidentų skaičiaus sumažėjimas, proc. | K10: 15 | L10: 15 | M10: 15 | N10: 15 | P10: =+F10-E10 -> 0
B11: 003-01-01-04 (TP) | C11: Individualių nuotekų valymo įrenginių kompensavimas gyventojams | D11: SB (AA) | E11: 30 | F11: 30 | G11: 30 | H11: 30 | I11: 3.2.1.1. | J11: Per metus patenkintų prašymų dalis, proc., nuo gautų prašymų skaičiaus | K11: daugiau nei 90 | L11: daugiau nei 90 | M11: daugiau nei 90 | N11: daugiau nei 90 | P11: =+F11-E11 -> 0
B12: 003-01-02 (T) | C12: Tobulinti atliekų tvarkymo bei aplinkos išsaugojimo sistemą, užtikrinti estetišką aplinką | E12: =SUM(E13:E19) -> 3422.1 | F12: =SUM(F13:F19) -> 3394.1 | G12: =SUM(G13:G19) -> 3750 | H12: =SUM(H13:H19) -> 4380 | J12: Surinktų ir sutvarkytų mišrių komunalinių atliekų kiekio sumažėjimas, t (tonomis)/metus | K12: ~30-40 | L12: ~30-40 | M12: ~30-40 | N12: ~30-40 | P12: =+F12-E12 -> -28
B13: 003-01-02-01 (TP) | C13: Atliekų tvarkymo sistemos organizavimas | D13: SB | E13: 2481.9 | F13: 2481.9 | G13: 2400 | H13: 2400 | I13: 3.3.1 | J13: Gautų skundų dėl nesklandaus komunalinių atliekų tvarkymo sistemos veikimo, skaičiaus mažėjimas (kasmet), proc. | K13: 2 | L13: 2 | M13: 2 | N13: 2 | P13: =+F13-E13 -> 0
D14: SB | E14: 450 | F14: 450 | G14: 450 | H14: 450 | P14: =+F14-E14 -> 0
B15: 003-01-02-02 (PP) | C15: Projekto „Rūšiuojamojo atliekų surinkimo skatinimas Kėdainių rajono savivaldybėje“ įgyvendinimas | D15: SB | E15: 10 | F15: 0 | G15: 80 | H15: 150 | I15: 3.3.1.2. | J15: Surenkamų rūšiuojamųjų komunalinių atliekų kiekių didėjimas, proc. | N15: Rodiklis bus pasiektas 2029 m. | O15: Projekto paraiškos teikėjas Kauno RAC. Partnerių - 4 savivaldybės. Derintos procedūros, rengtas investicinis projektas, pateikta paraiška, kuri šiuo metu yra vertinama. Išlaidų 2026 m. nebus patirta | P15: =+F15-E15 -> -10
D16: ES | E16: 60 | F16: 0 | G16: 400 | H16: 960 | P16: =+F16-E16 -> -60
B17: 003-01-02-03 (TP) | C17: Susidariusių atliekų surinkimas, transportavimas, tvarkymas, konteinerių, kompostavimo dėžių įsigijimas | D17: SB | E17: 264.2 | F17: 264.2 | G17: 270 | H17: 270 | I17: 3.3.1.2. | J17: Komunalinių atliekų tvarkymo sistemos įgyvendinimas pagal Kėdainių r. sav. atliekų prevencijos ir tvarkymo 2021-2027 m. planą, proc. | K17: 95 | L17: 95 | M17: 100 | N17: 100 | O17: Surinkus daugiau Aplinkos apsaugos specialiosios rėmimo programos lėšų, pagal esamą poreikį investicijos nukreipiamos asbesto atliekų, bešeimininkių padangų tvarkybai, papildomų konteinerių aikštelių įrengimui mieste ir rajone | P17: =+F17-E17 -> 0
D18: SB (AA) | E18: 126 | F18: 168 | G18: 120 | H18: 120 | P18: =+F18-E18 -> 42
D19: SBVB | E19: 30 | F19: 30 | G19: 30 | H19: 30 | P19: =+F19-E19 -> 0
B20: 003-01-03 (T) | C20: Prižiūrėti, tvarkyti savivaldybės viešąsias teritorijas, gerinti kraštovaizdžio apsaugą, didinti jo patrauklumą | E20: =SUM(E21:E29) -> 5325 | F20: =SUM(F21:F29) -> 5578.2 | G20: =SUM(G21:G29) -> 6688.6 | H20: =SUM(H21:H29) -> 6119.6 | J20: Bendras tvarkomų ir prižiūrimų savivaldybės viešųjų teritorijų plotas (ha) | K20: 547,4 | L20: 547,4 | M20: 547,4 | N20: 547,4 | P20: =+F20-E20 -> 253.2
B21: 003-01-03-01 (TP) | C21: Bendro naudojimo teritorijų tvarkymas ir priežiūra seniūnijose, teritorijų priežiūrai reikalingos įrangos įsigijimas | D21: SB | E21: =4547.4+10 -> 4557.4 | F21: =4547.4+10+208 -> 4765.4 | G21: 5100 | H21: 5250 | I21: 3.4.2.4. | J21: Tvarkomų ir prižiūrimų savivaldybės viešųjų teritorijų plotas (ha) mieste ir rajone / Vidutinis apšvietimo įjungimo laikas mieste / seniūnijose , val. | K21: 167/371/ne trumpiau kaip 7 val. | L21: 167/371/ne trumpiau kaip 7 val. | M21: 167/371/ne trumpiau kaip 7 val. | N21: 167/371/ne trumpiau kaip 7 val. | P21: =+F21-E21 -> 208
D22: ĮP | E22: 16.9 | F22: 16.9 | G22: 16.9 | H22: 16.9 | P22: =+F22-E22 -> 0
B23: 003-01-03-02 (TP) | C23: Kapinių teritorijų plėtra, atnaujinimas, kolumbariumų įrengimas, kapinių skaitmeninimas | D23: SB | E23: 0 | F23: 0 | G23: 75 | H23: 75 | J23: Naujų kolumbariumų skaičius / suskaitmenintų kapinių skaičius | M23: 4 | N23: 4 | P23: =+F23-E23 -> 0
B24: 003-01-03-03 (TP) | C24: Bešeimininkių ir bepriežiūrių gyvūnų surinkimas, karantinavimas, priežiūra | D24: SB | E24: 26.7 | F24: 26.7 | G24: 26.7 | H24: 26.7 | I24: 3.4.2.3. | J24: Suteikta laikina globa bešeimininkiams gyvūnams, proc. | K24: 100 | L24: 100 | M24: 100 | N24: 100 | P24: =+F24-E24 -> 0
B25: 003-01-02-04 (TP) | C25: Apleistų (bešeimininkių ar savivaldybei nuosavybės teise priklausančių) pastatų ar kitų aplinką žalojančių objektų likvidavimas | D25: SB | E25: 50 | F25: 50 | G25: 50 | H25: 50 | J25: Likviduotų objektų skaičius | K25: 4 | L25: 4 | M25: 4 | N25: 4 | P25: =+F25-E25 -> 0
B26: 003-01-03-05 (TP) | C26: Želdynų ir želdinių apsauga, tvarkymas, būklės stebėsena, gėlynų kūrimas | D26: SB (AA) | E26: 110.5 | F26: 155.7 | G26: 115 | H26: 115 | I26: 3.3.2.1. | J26: Seniūnijų skaičius, kuriose įgyvendinamos želdynų ir želdinių apsaugos, tvarkymo, būklės stebėsenos, želdynų kūrimo, želdinių veisimo ir inventorizavimo priemonės | K26: 11 | L26: 11 | M26: 11 | N26: 11 | O26: Surinkus daugiau Aplinkos apsaugos specialiosios rėmimo programos lėšų, investicijos nukreipiamos želdynui daugiametėmis gėlėmis kūrimui, medžių šalinimo, po audros, darbams | P26: =+F26-E26 -> 45.2
D27: SB | E27: 163.5 | F27: 163.5 | G27: 145 | H27: 145 | I27: 3.3.2.1. | P27: =+F27-E27 -> 0
B28: 003-01-03-06 (PP) | C28: Projekto „Žaliosios infrastruktūros Kėdainių miesto urbanizuotoje aplinkoje plėtojimas“ įgyvendinimas | D28: SB | E28: 60 | F28: 60 | G28: 174 | H28: 267 | I28: 3.3.2.1. | J28: Žalioji infrastruktūra, kuriai suteikta parama kitais nei prisitaikymo prie klimato kaitos tikslais (ha) | N28: Vertinama įgyvendinus projektą 2029 m. | P28: =+F28-E28 -> 0
D29: ES | E29: 340 | F29: 340 | G29: 986 | H29: 174 | P29: =+F29-E29 -> 0
B30: 003-01-04 (T) | C30: Rengti, atnaujinti teritorijų planavimo ir kitus dokumentus, sudarant sąlygas darniai infrastruktūros plėtrai | E30: =SUM(E31:E33) -> 257.54 | F30: =SUM(F31:F33) -> 237.54 | G30: =SUM(G31:G33) -> 265 | H30: =SUM(H31:H33) -> 265 | J30: Laiku ir pagal teisės aktų reikalavimus parengtų teritorijų planavimo dokumentų dalis (proc.) | K30: 100 | L30: 100 | M30: 100 | N30: 100 | P30: =+F30-E30 -> -20
B31: 003-01-04-01 (TP) | C31: Dokumentų, padedančių užtikrinti darnią rajono savivaldybės teritorijų plėtrą, rengimas | D31: SB | E31: 110 | F31: 110 | G31: 135 | H31: 135 | I31: 4.1.1.18 | J31: Parengtų teritorijų planavimo dokumentų (specialiųjų, detaliųjų, bendrųjų, geodezinių, žemės sklypų formavimo ir pertvarkymo, kadastrinių matavimų ir kt.) skaičius | K31: ~40 | L31: ~40 | M31: ~40 | N31: ~40 | P31: =+F31-E31 -> 0
B32: 003-01-04-02 (TP) | C32: Investicinių projektų, planų, paraiškų, kitos techninės dokumentacijos rengimas paramai gauti | D32: SB | E32: 70 | F32: 50 | G32: 50 | H32: 50 | I32: 1.1.1.4. | J32: Parengtos dokumentacijos skaičius | K32: pagal poreikį | L32: pagal poreikį | M32: pagal poreikį | N32: pagal poreikį | P32: =+F32-E32 -> -20
B33: 003-01-04-03 (TP) | C33: Išmokos pagal savivaldybės infrastruktūros plėtros sutartis (SĮP) | D33: SB | E33: 77.54 | F33: 77.54 | G33: 80 | H33: 80 | I33: 1.1.1.4. | J33: Infrastruktūros plėtros sutarčių, pagal kurias išmokėtos išmokos, skaičius, vnt. | K33: pagal subjektų prašymus | L33: pagal subjektų prašymus | M33: pagal subjektų prašymus | N33: pagal subjektų prašymus | P33: =+F33-E33 -> 0
B34: 003-01-05 (T) | C34: Užtikrinti inžinerinio aprūpinimo (vandentiekio, nuotekų tinklų ir kt.) sistemų atnaujinimą ir plėtrą | E34: =SUM(E35:E43) -> 4885 | F34: =SUM(F35:F43) -> 4885 | G34: =SUM(G35:G43) -> 7785 | H34: =SUM(H35:H43) -> 4012 | J34: Prie centralizuotų tinklų prisijungusių vartotojų skaičius | K34: augantis | L34: augantis | M34: augantis | N34: augantis | P34: =+F34-E34 -> 0
B35: 003-01-05-01 (PP) | C35: Projekto „Geriamojo vandens tiekimo ir nuotekų tvarkymo paslaugų prieinamumo didinimas Kėdainių rajone“ įgyvendinimas | D35: SB | E35: 0 | F35: 0 | G35: 2160 | H35: 1336 | I35: 3.2.1.2 | J35: Įgyvendinta projekto veiklų, proc. (iš viso) | K35: 30 | L35: 30 | M35: 65 | N35: 85 | P35: =+F35-E35 -> 0
D36: SK | E36: 1000 | F36: 1000 | G36: 0 | H36: 0 | P36: =+F36-E36 -> 0
D37: ES | E37: 1890 | F37: 1890 | G37: 2990 | H37: 1285 | P37: =+F37-E37 -> 0
D38: KT | E38: 1420 | F38: 1420 | G38: 2160 | H38: 916 | P38: =+F38-E38 -> 0
B39: 003-01-05-02 (TP) | C39: Vandentiekio, nuotekų tinklų rekonstrukcija ir plėtra mieste | D39: SB | E39: 20 | F39: 20 | G39: 20 | H39: 20 | I39: 3.2.1.1. | J39: Paklota vandentiekio ir nuotekų tinklų, m | K39: ~300 | L39: ~300 | M39: ~300 | N39: ~300 | P39: =+F39-E39 -> 0
B40: 003-01-05-03 (TP) | C40: Geriamojo vandens tiekimo ir buitinių nuotekų tvarkymo infrastruktūros plėtros ir/ar rekonstrukcijos kaimiškosiose gyvenvietėse techninės dokumentacijos rengimas | D40: SB | E40: 30 | F40: 30 | G40: 30 | H40: 30 | I40: 3.2.1.2 | J40: Parengtos techninės dokumentacijos skaičius | K40: 1 | L40: 1 | M40: 1 | N40: 1 | P40: =+F40-E40 -> 0
B41: 003-01-05-04 (TP) | C41: Vandentiekio, nuotekų tinklų rekonstrukcija ir plėtra rajone | D41: SB | E41: 400 | F41: 400 | G41: 300 | H41: 300 | I41: 3.2.1.2 | J41: Paklota vandentiekio ir nuotekų tinklų, m | K41: ~2940 | L41: ~2940 | M41: ~2200 | N41: ~2200 | P41: =+F41-E41 -> 0
B42: 003-01-05-05 (TP) | C42: Objektų remontai pagal administracijos direktoriaus įsakymus | D42: SB | E42: 95 | F42: 95 | G42: 95 | H42: 95 | I42: 3.2.1.2 | J42: Remontuotų objektų skaičius | K42: pagal poreikį | L42: pagal poreikį | M42: pagal poreikį | N42: pagal poreikį | P42: =+F42-E42 -> 0
...

Sheet 04 Ekonominės plėtros
B2: IV SKYRIUS. 3.4 lentelė. 2026–2028 m. EKONOMINĖS PLĖTROS PROGRAMOS (04) programų uždaviniai, priemonės bei jų stebėsenos rodikliai, asignavimai ir kitos lėšos (tūkst. Eur)
B4: Programos uždavinio, priemonės kodas ir požymis | C4: Uždavinio, priemonės pavadinimas, finansavimo šaltiniai | E4: * 2026 m. asignavimai ir kitos lėšos | F4: PATIKSLINTI 2026 m. asignavimai ir kitos lėšos | G4: 2027 m. asignavimai ir kitos lėšos | H4: 2028 m. asignavimai ir kitos lėšos | I4: Strateginio plėtros plano priemonės kodas | J4: Stebėsenos rodiklio pavadinimas (matavimo vnt.) | K4: Siektinos stebėsenos rodiklių reikšmės | O4: Komentarai, pastabos | P4: 2026 m. +/-pokytis tūkst. Eur
K5: 2026 m. | L5: PATIKSLINTI 2026 m. | M5: 2027 m. | N5: 2028 m.
B7: 004-01-01 (T, P) | C7: Stiprinti savivaldybės institucijų ir verslo įmonių bendradarbiavimą, sudaryti palankias sąlygas sumanios pramonės ir logistikos srities verslų atsiradimui, plėtrai bei investicijų pritraukimui | E7: =SUM(E8:E12) -> 1091.4 | F7: =SUM(F8:F12) -> 1612.7 | G7: =SUM(G8:G12) -> 3845.1 | H7: =SUM(H8:H12) -> 111 | J7: Dirbančiųjų skaičiaus pokytis veikiančiose įmonėse metų pradžioje, lyginant su praeitais metais, proc. | K7: +0,5 | L7: +0,5 | M7: +0,5 | N7: +1
B8: 004-01-01-01 (TP) | C8: VšĮ Kėdainių turizmo ir verslo informacijos centro efektyvios veiklos užtikrinimas verslo srityje | D8: SB | E8: 57.4 | F8: 57.4 | G8: 59 | H8: 61 | I8: 1.1.2.4. 1.3.2.6. | J8: Suteiktų informacinių, konsultacinių paslaugų ūkio subjektams ir asmenims pagal paklausimus skaičius, val. | K8: ~520 | L8: ~520 | M8: ~520 | N8: ~520 | P8: =+F8-E8 -> 0
B9: 004-01-01-02 (TP) | C9: Finansinės paramos teikimas per Savivaldybės smulkiojo verslo rėmimo fondą | D9: SB | E9: 30 | F9: 30 | G9: 50 | H9: 50 | I9: 1.1.2.1 | J9: Subjektų, kuriems suteikta finansinė parama, skaičius | K9: 12 | L9: 12 | M9: 12 | N9: 12 | P9: =+F9-E9 -> 0
B10: 004-01-01-03 (PP) | C10: Dalyvavimas projekte „Inkubavimo, konsultavimo, mentorystės ir tinklaveikos programų vystymas, skatinant pradedančiųjų SVV subjektų kūrimąsi ir augimą regionuose“ partnerio teisėmis | D10: SB | E10: 4 | F10: 4 | G10: 0 | H10: 0 | I10: 1.1.3.2. | J10: Projekte dalyvaujančių verslo subjektų skaičius | K10: 10 | L10: 10 | P10: =+F10-E10 -> 0
B11: 004-01-01-04 (PP) | C11: Projekto „Kėdainių miesto viešosios infrastruktūros, svarbios verslui, atnaujinimas ir plėtra“ įgyvendinimas | D11: SBVB | E11: 1000 | F11: 1291.2 | G11: 3736.1 | H11: 0 | I11: 1.1.1.2. | J11: Investicijoms gerinamas viešųjų teritorijų plotas, ha (LEZ teritorijos bendras plotas) | K11: 130,5 | L11: 130,5 | M11: 130,5 | O11: Skirtas 2026 m. tikslinis finansavimas elektros galios didinimui | P11: =+F11-E11 -> 291.2
B12: 004-01-01-05 (PP) | C12: Susisiekimo infrastruktūros su pramoninėmis teritorijomis modernizavimas Kėdainiuose (Biochemikų g.) | D12: SBVB | E12: 0 | F12: 230.1 | G12: 0 | H12: 0 | J12: Pagerintos susisiekimo infrastruktūros dalis, m. | L12: 480 | O12: Nauja priemonė. Paskelbus kvietimą kovo mėn., teikta paraiška, gautas tikslinis finansavimas, vykdomi darbai. | P12: =+F12-E12 -> 230.1
B13: 004-01-02 (T) | C13: Plėtoti tvarų ir efektyvų žemės ūkį | E13: =SUM(E14:E22) -> 1993.7 | F13: =SUM(F14:F22) -> 1993.7 | G13: =SUM(G14:G22) -> 2793 | H13: =SUM(H14:H22) -> 2432 | J13: Naudojamų žemės ūkio naudmenų plotas, tenkantis 1000 gyventojų, Kėdainių rajono savivaldybėje, palyginti su Lietuvos vidurkiu (santykis) | K13: ne mažiau 2 k. | L13: ne mažiau 2 k. | M13: ne mažiau 2 k. | N13: ne mažiau 2 k. | P13: =+F13-E13 -> 0
B14: 004-01-02-01 (TP) | C14: Valstybės perduotų savivaldybėms žemės ūkio funkcijų vykdymas, konsultuojant rajono asmenis ūkininkavimo, žemės ūkio technikos registravimo ir kitais su žemės ūkiu susijusiais klausimais | D14: SBVB | E14: 267.9 | F14: 267.9 | G14: 268 | H14: 270 | I14: 1.2.1.2. | J14: Žemės ūkio subjektų pateiktų ir nagrinėjamų prašymų, paraiškų, aptarnaujamos žemės ūkio technikos, įregistruotos rajone, ir atliktų techninių apžiūrų skaičius | K14: ~16500 | L14: ~16500 | M14: ~16500 | N14: ~16500 | P14: =+F14-E14 -> 0
B15: 004-01-02-02 (TP) | C15: Valstybės perduotų savivaldybei funkcijų vykdymas melioracijos srityje, remontuojant valstybei nuosavybės teise priklausančią melioracijos, hidrotechnikos infrastruktūrą | D15: SBVB | E15: 421.8 | F15: 421.8 | G15: 422 | H15: 422 | I15: 1.2.1.3. | J15: Remontuojamų, prižiūrimų melioracijos griovių ilgis, km | K15: ~35 | L15: ~35 | M15: ~35 | N15: ~35 | P15: =+F15-E15 -> 0
B16: 004-01-02-03 (TP) | C16: Gyvenviečių lietaus nuotekų-drenažų sistemų remontas | D16: SB | E16: 40 | F16: 40 | G16: 40 | H16: 40 | I16: 1.2.1.3. | J16: Gyvenviečių, kuriose atlikti drenažo remonto darbai, skaičius | K16: 5 | L16: 5 | M16: 5 | N16: 5 | P16: =+F16-E16 -> 0
B17: 004-01-02-04 (TP) | C17: Hidrotechninių įrenginių atnaujinimui reikalingos techninės dokumentacijos rengimas | D17: SB | E17: 50 | F17: 50 | G17: 40 | H17: 40 | I17: 1.2.1.4. | J17: Parengtų projektų skaičius | K17: 8 | L17: 8 | M17: 7 | N17: 7 | P17: =+F17-E17 -> 0
B18: 004-01-02-05 (TP) | C18: Krakių tvenkinių hidrotechnikos statinių remontas ir techninės priežiūros vykdymas | D18: SB | E18: 0 | F18: 0 | G18: 159 | H18: 96 | I18: 1.2.1.4. | J18: Suremontuotų hidrotechninių įrenginių skaičius | M18: 1 | N18: 1 | P18: =+F18-E18 -> 0
B19: 004-01-02-06 (TP) | C19: Kėdainių miesto hidrotechnikos statinio ant Dotnuvėlės upės remonto techninės dokumentacijos rengimas ir remonto darbai | D19: SB | E19: 0 | F19: 0 | G19: 650 | H19: 500 | I19: 1.2.1.4. | J19: Rekonstruotų hidrotechninių įrenginių skaičius | N19: 1 | P19: =+F19-E19 -> 0
B20: 004-01-02-07 (TP) | C20: Melioracijos inžinerinių statinių rekonstravimas Nevėžio pabaseinyje - Nevėžio ir Šušvės upių žiotyse | D20: SBVB | E20: 1064 | F20: 1064 | G20: 1064 | H20: 1064 | I20: 1.2.1.3. | J20: Rekonstruojamų melioracijos griovių ilgis, km | K20: ~40 | L20: ~40 | M20: ~40 | N20: ~40 | P20: =+F20-E20 -> 0
B21: 004-01-02-08 (PP) | C21: Valstybei nuosavybės teise priklausančių melioracijos statinių ir (ar) sistemų rekonstravimo ir projektavimo darbų bei apleistų žemės plotų mažinimo priemonių įgyvendinimas | D21: SB | E21: 15 | F21: 15 | G21: 15 | H21: 0 | I21: 1.2.1.3. | J21: Planuojamas atkurti žemės ūkio naudmenų plotas blogos būklės melioruotoje žemėje, patenkančioje į apleistos žemės plotus, ha | M21: 0.42 | P21: =+F21-E21 -> 0
D22: SBVB | E22: 135 | F22: 135 | G22: 135 | H22: 0 | P22: =+F22-E22 -> 0
B23: 004-01-03 (T) | C23: Plėtoti, atnaujinti viešąją infrastruktūrą, atsižvelgiant į turizmo plėtros ir rekreacijos poreikius | E23: =SUM(E24:E34) -> 676 | F23: =SUM(F24:F34) -> 861 | G23: =SUM(G24:G34) -> 1294.9 | H23: =SUM(H24:H34) -> 520 | J23: Atnaujinamų, tvarkomų, pritaikomų lankymui teritorijų, gamtos paveldo objektų (vnt.) | K23: 3 | L23: 3 | M23: 4 | N23: 4 | P23: =+F23-E23 -> 185
B24: 004-01-03-01 (PP) | C24: Projekto „Kultūros paveldo ir gamtos objektų pritaikymas lankyti Kėdainių rajono savivaldybėje„ įgyvendinimas (ES projekto „Kauno regiono funkcinės zonos strategija“ dalis) | D24: SB | E24: 10 | F24: =10+20+10 -> 40 | G24: 50 | H24: 35 | I24: 1.3.2.3. | J24: Sukurtos arba atkurtos atviros erdvės (arai) | N24: Vertinama įgyvendinus projektą 2029 m. | O24: Projektas įgyvendinamas, finansavimas tikslinamas pagal veiklų įgyvendinimo spartą | P24: =+F24-E24 -> 30
D25: ES | E25: 60 | F25: 255 | G25: 285 | H25: 185 | P25: =+F25-E25 -> 195
B26: 004-01-03-02 (TP) | C26: Infrastruktūros miesto parke įrengimas | D26: SB | E26: 26 | F26: 26 | G26: 0 | H26: 0 | I26: 2.2.1.4. | J26: Įrengiamų/atnaujinamų/pritaikomų parko elementų (erdvių) | P26: =+F26-E26 -> 0
B27: 004-01-03-03 (TP) | C27: Babėnų šilo miškotvarka ir pritaikymas patogiam poilsiui, laisvalaikiui | D27: SB | E27: 500 | F27: 500 | G27: 500 | H27: 0 | I27: 3.3.2.1. | J27: Parengtos techninės dokumentacijos, skaičius. / einamaisiais metais atliekamų projekte numatytų darbų proc.(bendras) | K27: 1/50 | L27: 1/50 | M27: 1/100 | P27: =+F27-E27 -> 0
B28: 004-01-03-04 (TP) | C28: Bakainių piliakalnio ir jo prieigų tvarkyba | D28: SB | E28: 0 | F28: 0 | G28: 300 | H28: 300 | I28: 1.3.2.3. | J28: Parengta projektinė dokumentacija/atlikta tvarkybos darbų, proc. (bendras) | M28: 1/50 | N28: 1/100 | P28: =+F28-E28 -> 0
B29: 004-01-03-05 (TP) | C29: Patrauklios viešosios erdvės kūrimas Aristavos kaime | D29: SB | E29: 40 | F29: 40 | G29: 30 | H29: 0 | I29: 1.3.2.3 | J29: Sukurtų erdvių skaičius | M29: 1 | P29: =+F29-E29 -> 0
D30: ES | E30: 0 | F30: 0 | G30: 25.4 | H30: 0 | P30: =+F30-E30 -> 0
D31: SBVB | E31: 0 | F31: 0 | G31: 4.5 | H31: 0 | P31: =+F31-E31 -> 0
B32: 004-01-03-06 (TP) | C32: Patrauklios viešosios erdvės kūrimas Dotnuvos miestelyje | D32: SB | E32: 40 | F32: 0 | G32: 70 | H32: 0 | I32: 1.3.2.3 | J32: Sukurtų erdvių skaičius | M32: 1 | O32: Teikta paraiška, pasirašyta finansavimo sutartis. Kadangi projekto veiklos patenka į Kultūros paveldo teritoriją, veiksmai derinami su KPD. Visos veiklos bus įgyvendintos 2027 m. | P32: =+F32-E32 -> -40
D33: ES | E33: 0 | F33: 0 | G33: 25.5 | H33: 0 | P33: =+F33-E33 -> 0
D34: SBVB | E34: 0 | F34: 0 | G34: 4.5 | H34: 0 | P34: =+F34-E34 -> 0
B35: 004-01-04 (T) | C35: Išsaugoti istorinį bei kultūros paveldą, didinti jo patrauklumą ir žinomumą | E35: =SUM(E36:E41) -> 595.2 | F35: =SUM(F36:F41) -> 595.2 | G35: =SUM(G36:G41) -> 795 | H35: =SUM(H36:H41) -> 540 | J35: Turistams siūlomų ekskursijų maršrutų įvairovė, lankant miesto bei rajono istorinius, kultūros paveldo objektus, žymias vietas, skaičius | K35: 43 | L35: 43 | M35: 44 | N35: 45 | P35: =+F35-E35 -> 0
B36: 004-01-04-01 (TP) | C36: VšĮ Kėdainių turizmo ir verslo informacijos centro efektyvios veiklos užtikrinimas turizmo srityje | D36: SB | E36: 192.5 | F36: 192.5 | G36: 160 | H36: 160 | I36: 1.1.2.4. 1.3.2.6. | J36: Turizmo ir verslo informacinio centro lankytojų skaičiaus didėjimas, proc., lyginant su praėjusiais metais | K36: 15 | L36: 15 | M36: 3 | N36: 3 | P36: =+F36-E36 -> 0
B37: 004-01-04-02 (TP) | C37: Lankytinų objektų ir jų teritorijų, kultūros paveldo objektų ar objektų, esančių kultūros paveldo teritorijų prieigose, tvarkybos dokumentacijos rengimas, objektų atnaujinimas | D37: SB | E37: 160 | F37: 160 | G37: 230 | H37: 230 | I37: 1.3.2.3. 1.3.2.5. | J37: Tvarkomų objektų skaičius | K37: 6 | L37: 6 | M37: 6 | N37: 6 | P37: =+F37-E37 -> 0
B38: 004-01-04-03 (TP) | C38: Minareto ir jo prieigų tvarkyba | D38: SB | E38: 110 | F38: 110 | G38: 255 | H38: 0 | I38: 1.3.2.3. | J38: Turistams pritaikytų ir patogiai pasiekiamų turizmo objektų skaičius | M38: 1 | P38: =+F38-E38 -> 0
B39: 004-01-04-04 (TP) | C39: Evangelikų ir reformatų bažnyčios infrastruktūros, jos varpinės atnaujinimas | D39: SB | E39: 32.7 | F39: 32.7 | G39: 50 | H39: 50 | I39: 1.3.2.3 | J39: Einamaisiais metais numatytų darbų, proc. | K39: 100 | L39: 100 | M39: 100 | N39: 100 | P39: =+F39-E39 -> 0
B40: 004-01-04-05 (TP) | C40: Savivaldybės religinių bendruomenių ir bendrijų rėmimo programos įgyvendinimas | D40: SB | E40: 50 | F40: 50 | G40: 50 | H40: 50 | I40: 1.3.2.8. | J40: Kulto pastatų, kuriems skirtas finansavimas tvarkybos darbams atlikti, skaičius | K40: 4 | L40: 1 | M40: 4 | N40: 4 | O40: Tikslinama stebėsenos rodiklio reikšmė po įvykusio konkurso ir pasirašytos sutarties | P40: =+F40-E40 -> 0
B41: 004-01-04-06 (TP) | C41: Kultūros paveldo objektų, esančių Kėdainių rajono savivaldybės teritorijoje, ir kultūros paveldo statinių, esančių Kėdainių senamiesčio dalyje, išsaugojimo darbų finansavimo programa | D41: SB | E41: 50 | F41: 50 | G41: 50 | H41: 50 | I41: 1.3.2.2. | J41: Tvarkomų kultūros paveldo objektų ar kultūros paveldo statinių skaičius | K41: 3 | L41: 6 | M41: 3 | N41: 3 | O41: Tikslinama stebėsenos rodiklio reikšmė po įvykusio konkurso ir pasirašytų sutarčių | P41: =+F41-E41 -> 0
A42: IŠ VISO | E42: =+E35+E23+E13+E7 -> 4356.3 | F42: =+F35+F23+F13+F7 -> 5062.6 | G42: =+G35+G23+G13+G7 -> 8728 | H42: =+H35+H23+H13+H7 -> 3603 | I42: =+F42-E42 -> 706.3
E43: =+E42-E44-E52 -> 0 | F43: =+F42-F44-F52 -> 9.094947e-13 | G43: =+G42-G44-G52 -> 0 | H43: =+H42-H44-H52 -> 0 | I43: =+F43-E43 -> 9.094947e-13
...

Sheet 05 Valdymo 
B1: IV SKYRIUS. 3.5 lentelė. 2026–2028 m. SAVIVALDYBĖS VALDYMO TOBULINIMO PROGRAMOS (05) programų uždaviniai, priemonės bei jų stebėsenos rodikliai, asignavimai ir kitos lėšos (tūkst. Eur)
B3: Programos uždavinio, priemonės kodas ir požymis | C3: Uždavinio, priemonės pavadinimas, finansavimo šaltiniai | E3: * 2026 m. asignavimai ir kitos lėšos | F3: PATIKSLINTI 2026 m. asignavimai ir kitos lėšos | G3: 2027 m. asignavimai ir kitos lėšos | H3: 2028 m. asignavimai ir kitos lėšos | I3: Strateginio plėtros plano priemonės kodas | J3: Stebėsenos rodiklio pavadinimas (matavimo vnt.) | K3: Siektinos stebėsenos rodiklių reikšmės | N3: Komentarai, pastabos | O3: 2026 m. +/-pokytis tūkst. Eur
K4: 2026 m. | L4: 2027 m. | M4: 2028 m.
B6: 005-01-01 (T) | C6: Sudaryti sąlygas kokybiškai įgyvendinti teisės aktuose nustatytas Savivaldybei funkcijas, mažinant administracinę naštą, įgyvendinant lygias galimybes bei korupcijos prevencijos priemones | E6: =SUM(E7:E22) -> 10134.4 | F6: =SUM(F7:F22) -> 10122.1 | G6: =SUM(G7:G22) -> 11018.9 | H6: =SUM(H7:H22) -> 11705.9 | J6: Savivaldybės administracinių paslaugų suteikimo terminų laikymosi dalis , proc. | K6: 100 | L6: 100 | M6: 100
B7: 005-01-01-01 (TP) | C7: Savivaldybės tarybos, mero ir jo tarnybos veiklos užtikrinimas | D7: SB | E7: 776.8 | F7: 776.8 | G7: 800 | H7: 815 | I7: 4.1.1.15. 4.1.1.16. | J7: Tarybos narių dalyvavimas rajono tarybos posėdžiuose, komitetuose, kolegijoje, komisijų veiklose | K7: ne mažiau 90 proc. | L7: ne mažiau 90 proc. | M7: ne mažiau 90 proc. | O7: =+F7-E7 -> 0
J8: Tarybos posėdžių, komitetų transliavimo dažnumas, viešumas ir prieinamumas visuomenei, proc. | K8: 100 | L8: 100 | M8: 100 | O8: =+F8-E8 -> 0
B9: 005-01-01-02 (TP) | C9: Savivaldybės kontrolės ir audito tarnybos veiklos užtikrinimas | D9: SB | E9: 228.1 | F9: 228.1 | G9: 240 | H9: 245 | I9: 4.1.1.16. | J9: Atliktų kontrolės ir audito tarnybos auditų skaičius pagal patvirtintą metų planą (proc.) | K9: 100 | L9: 100 | M9: 100 | O9: =+F9-E9 -> 0
B10: 005-01-01-03 (TP) | C10: Savivaldybės administracijos veiklos užtikrinimas | D10: ĮP | E10: 17.3 | F10: 17.3 | G10: 17.3 | H10: 17.3 | I10: 4.1.1.4 4.1.1.15. | J10: Administracijos pareigybių skaičius vykdantis savivaldybei priskirtas funkcijas / savivaldybės administracijos pareigybių skaičius, tenkantis 1000 rajono gyventojų | K10: 180,05 /3,9 | L10: 180,05 /3,9 | M10: 180,05 /3,9 | O10: =+F10-E10 -> 0
D11: SB | E11: =6853.9-0.5-10 -> 6843.4 | F11: =6853.9-0.5-10 -> 6843.4 | G11: 7300 | H11: 7800 | I11: 4.1.1.7 | O11: =+F11-E11 -> 0
B12: 005-01-01-04 (TP) | C12: Savivaldybės administracijos administracinės naštos mažinimo plano vykdymas | I12: 4.1.1.11. 4.1.1.12 | J12: Administracinės naštos mažinimo plano metinis įvykdymo proc. | K12: 100 | L12: 100 | M12: 100 | O12: =+F12-E12 -> 0
B13: 005-01-01-05 (TP) | C13: Savivaldybės korupcijos prevencijos veiksmų plano įgyvendinimas | I13: 4.1.1.10. | J13: Korupcijos prevencijos veiksmų plano metinis įvykdymas, proc. | K13: 100 | L13: 100 | M13: 100 | O13: =+F13-E13 -> 0
B14: 005-01-01-06 (TP) | C14: Lygių galimybių, moterų ir vyrų lygybės politikos įgyvendinimas bei asmens duomenų apsaugos užtikrinimas | I14: 4.1.1.9. | J14: Vieta pagal lyčių lygybės stebėsenos savivaldybėse rodiklius | K14: 10-tuke | L14: 10-tuke | M14: 10-tuke | O14: =+F14-E14 -> 0
B15: 005-01-01-07 (TP) | C15: Diasporos politikos įgyvendinimas | J15: Diasporos atstovų, prisidedančių prie Kėdainių vardo garsinimo ir ryšių su užsienio lietuviais stiprinimo, skaičius | K15: 3 | L15: 4 | M15: 5 | O15: =+F15-E15 -> 0
B16: 005-01-01-08 (TP) | C16: Kėdainių rajono savivaldybės administracijos kokybės vadybos sistemos priežiūra ir atnaujinimas | I16: 4.1.1.3. | J16: Kokybės vadybos sistemos administracinių paslaugų rodiklių pasiekimas | K16: 100 | L16: 100 | M16: 100 | O16: =+F16-E16 -> 0
B17: 005-01-01-09 (TP) | C17: Savivaldybės žmogiškųjų išteklių kompetencijų stiprinimas | D17: SB | E17: =36.5+10 -> 46.5 | F17: =36.5+10 -> 46.5 | G17: 53 | H17: 60 | I17: 4.1.1.1. | J17: Savivaldybės administracijos darbuotojų, per metus tobulinusių kvalifikaciją, dalis, proc. | K17: ~90 | L17: ~90 | M17: ~90 | O17: =+F17-E17 -> 0
B18: 005-01-01-10 (TP) | C18: IT sistemų atnaujinimas, priežiūra, kibernetinio saugumo užtikrinimas, kolokacijos paslauga Valstybės duomenų centre, bendradarbiavimas dėl VDV IS, apimant „duomenų ežerą“ | D18: SB | E18: 420 | F18: 420 | G18: 420 | H18: 420 | I18: 4.1.1.4 4.1.1.5. | J18: KRSA valdomų ir tvarkomų informacinių sistemų skaičius / visuomenei atvertų duomenų rinkinių skaičius (kaupiamieji vienetai) | K18: 62/20 | L18: 62/30 | M18: 62/35 | O18: =+F18-E18 -> 0
B19: 005-01-01-11 (TP) | C19: Seniūnijų veiklos užtikrinimas | D19: SB | E19: 1432.7 | F19: 1432.7 | G19: 1800 | H19: 1950 | I19: 4.1.1.4 4.1.1.15. | J19: Savivaldybėje esančių seniūnijų skaičius | K19: 11 | L19: 11 | M19: 11 | N19: ĮP lėšos tikslinamos pagal gegužės mėn. biudžeto pakeitimus | O19: =+F19-E19 -> 0
D20: ĮP | E20: 105 | F20: 92.7 | G20: 105 | H20: 105 | O20: =+F20-E20 -> -12.3
B21: 005-01-01-12 (TP) | C21: Seniūnaičių veiklos organizavimas | D21: SB | E21: 33.6 | F21: 33.6 | G21: 33.6 | H21: 33.6 | I21: 4.1.1.15. | J21: Seniūnijas atstovaujančių seniūnaičių skaičius | K21: 70 | L21: 70 | M21: 70 | O21: =+F21-E21 -> 0
B22: 005-01-01-13 (TP) | C22: Valstybės perduotų savivaldybei funkcijų kokybiškas įgyvendinimas ir organizavimas | D22: SBVB | E22: 231 | F22: 231 | G22: 250 | H22: 260 | I22: 4.1.1.17 | J22: Vykdomų valstybės deleguotų funkcijų skaičius (bendras) | K22: 12 | L22: 12 | M22: 12 | O22: =+F22-E22 -> 0
B23: 005-01-02 (T) | C23: Užtikrinti finansavimą nenumatytoms išlaidoms dengti bei valdyti prisiimtus finansinius įsipareigojimus | E23: =SUM(E24:E28) -> 2937.8 | F23: =SUM(F24:F28) -> 2937.8 | G23: =SUM(G24:G28) -> 2881.9 | H23: =SUM(H24:H28) -> 3324.9 | J23: Nenumatytų išlaidų padengimo bei savalaikis finansinių įsipareigojimų vykdymo, proc. | K23: 100 | L23: 100 | M23: 100 | O23: =+F23-E23 -> 0
B24: 005-01-02-01 (TP) | C24: Savivaldybės mero rezervas | D24: SB | E24: 170 | F24: 170 | G24: 170 | H24: 170 | J24: Tikslingai panaudoto rezervo dalis, proc. | K24: 100 | L24: 100 | M24: 100 | O24: =+F24-E24 -> 0
B25: 005-01-02-02 (TP) | C25: Savivaldybės mero fondas | D25: SB | E25: 29 | F25: 29 | G25: 29 | H25: 29 | J25: Tikslingai panaudoto fondo dalis, proc. | K25: 100 | L25: 100 | M25: 100 | O25: =+F25-E25 -> 0
B26: 005-01-02-03 (TP) | C26: Paskolų grąžinimas, palūkanų ir paskolų tvarkymo išlaidų apmokėjimas | D26: SB | E26: 430 | F26: 430 | G26: 430 | H26: 430 | J26: Finansinių įsipareigojimų vykdymo savalaikiškumas, proc. | K26: 100 | L26: 100 | M26: 100 | O26: =+F26-E26 -> 0
D27: SB | E27: 75.8 | F27: 75.8 | G27: 75.8 | H27: 75.8 | O27: =+F27-E27 -> 0
D28: SK | E28: 2233 | F28: 2233 | G28: 2177.1 | H28: 2620.1 | O28: =+F28-E28 -> 0
B29: 005-01-03 (T) | C29: Skatinti vietos bendruomenę įsitraukti į vietos valdymą | E29: =SUM(E30:E30) -> 90 | F29: =SUM(F30:F30) -> 90 | G29: =SUM(G30:G30) -> 190 | H29: =SUM(H30:H30) -> 190 | J29: Vietos bendruomenės įsitraukimas (proc.) dalyvaujamojo biudžeto procese,nuo visų rajono gyventojų turinčių balsavimo teisę pagal Aprašą (nuo 16 metų) | K29: 13 | L29: 14 | M29: 15 | O29: =+F29-E29 -> 0
B30: 005-01-03-01 (TP) | C30: Visuomenės įtraukimas į planavimo, biudžeto formavimo, konsultavimosi procesus, organizuojant dalyvaujamojo biudžeto iniciatyvų konkursą ir iniciatyvų įgyvendinimą | D30: SB | E30: 90 | F30: 90 | G30: 190 | H30: 190 | J30: Įgyvendinamų gyventojų iniciatyvų skaičius | K30: 3 | L30: 3 | M30: 3 | O30: =+F30-E30 -> 0
B31: IŠ VISO | E31: =+E29+E23+E6 -> 13162.2 | F31: =+F29+F23+F6 -> 13149.9 | G31: =+G29+G23+G6 -> 14090.8 | H31: =+H29+H23+H6 -> 15220.8 | O31: =+F31-E31 -> -12.3
C33: 1. Savivaldybės biudžetas (įskaitant skolintas lėšas) | E33: =SUM(E35:E40) -> 13162.2 | F33: =SUM(F35:F40) -> 13149.9 | G33: =SUM(G35:G40) -> 14090.8 | H33: =SUM(H35:H40) -> 15220.8
C34: Iš jo:
C35: 1.1. savivaldybės biudžeto lėšos (nuosavos, be ankstesnių metų likučio) | D35: SB | E35: =+E30+E27+E26+E25+E24+E21+E19+E18+E17+E11+E9+E7 -> 10575.9 | F35: =+F30+F27+F26+F25+F24+F21+F19+F18+F17+F11+F9+F7 -> 10575.9 | G35: =+G30+G27+G26+G25+G24+G21+G19+G18+G17+G11+G9+G7 -> 11541.4 | H35: =+H30+H27+H26+H25+H24+H21+H19+H18+H17+H11+H9+H7 -> 12218.4
C36: 1.2. Lietuvos Respublikos valstybės biudžeto dotacijos | D36: SBVB | E36: =+E22 -> 231 | F36: =+F22 -> 231 | G36: =+G22 -> 250 | H36: =+H22 -> 260
C37: 1.3. Pajamų įmokos ir kitos pajamos | D37: ĮP | E37: =+E10+E20 -> 122.3 | F37: =+F10+F20 -> 110 | G37: =+G10+G20 -> 122.3 | H37: =+H10+H20 -> 122.3
C38: 1.4. Europos Sąjungos ir kitos tarptautinės finansinės paramos lėšos | D38: ES
C39: 1.5. Skolintos lėšos | D39: SK | E39: =+E28 -> 2233 | F39: =+F28 -> 2233 | G39: =+G28 -> 2177.1 | H39: =+H28 -> 2620.1
C40: 1.6. Ankstesnių metų likučiai | D40: SBL
C41: 2. Kiti šaltiniai (Europos Sąjungos finansinė parama projektams įgyvendinti ir kitos teisėtai gautos lėšos, nurodant atskirus šaltinius) | D41: KT
C42: IŠ VISO programai finansuoti pagal finansavimo šaltinius (1 ir 2 punktai) | E42: =+E41+E33 -> 13162.2 | F42: =+F41+F33 -> 13149.9 | G42: =+G41+G33 -> 14090.8 | H42: =+H41+H33 -> 15220.8
C43: Iš jų: regioninių pažangos priemonių lėšos
...

Sheet Lešų poreikis iš viso
B2: IV SKYRIUS. 3.6 lentelė. 2026–2028 m. programų asignavimai ir kitos lėšos (tūkst. Eur)
B3: Eil. Nr. | C3: Programos kodas ir pavadinimas | D3: 2026 m. asignavimai ir kitos lėšos | E3: PATIKSLINTI 2026 m. asignavimai ir kitos lėšos | F3: 2027 m. asignavimai ir kitos lėšos | G3: 2028 m. asignavimai ir kitos lėšos | H3: 2026 m. +/- pokytis tūkst. Eur
B4: 01 | C4: Aktyvios visuomenės ugdymo programa | D4: =+'01 Visuomenės ugdymo'!E112 -> 64457.4 | E4: =+'01 Visuomenės ugdymo'!F112 -> 65853.3 | F4: =+'01 Visuomenės ugdymo'!G112 -> 68922.8 | G4: =+'01 Visuomenės ugdymo'!H112 -> 70331.4 | H4: =+E4-D4 -> 1395.9
B5: 02 | C5: Socialinės gerovės užtikrinimo programa | D5: =+'02 Socialinės gerovės'!E119 -> 54023.5 | E5: =+'02 Socialinės gerovės'!F119 -> 53572.5 | F5: =+'02 Socialinės gerovės'!G119 -> 56506 | G5: =+'02 Socialinės gerovės'!H119 -> 56199.4 | H5: =+E5-D5 -> -451
B6: 03 | C6: Darnios aplinkos ir infrastruktūros plėtros programa | D6: =+'03 Darnios aplinkos'!E62 -> 23721.04 | E6: =+'03 Darnios aplinkos'!F62 -> 24012.84 | F6: =+'03 Darnios aplinkos'!G62 -> 29866.6 | G6: =+'03 Darnios aplinkos'!H62 -> 28454.6 | H6: =+E6-D6 -> 291.8
B7: 04 | C7: Ekonominės plėtros programa | D7: =+'04 Ekonominės plėtros'!E42 -> 4356.3 | E7: =+'04 Ekonominės plėtros'!F42 -> 5062.6 | F7: =+'04 Ekonominės plėtros'!G42 -> 8728 | G7: =+'04 Ekonominės plėtros'!H42 -> 3603 | H7: =+E7-D7 -> 706.3
B8: 05 | C8: Savivaldybės valdymo tobulinimo programa | D8: =+'05 Valdymo '!E31 -> 13162.2 | E8: =+'05 Valdymo '!F31 -> 13149.9 | F8: =+'05 Valdymo '!G31 -> 14090.8 | G8: =+'05 Valdymo '!H31 -> 15220.8 | H8: =+E8-D8 -> -12.3
C9: IŠ VISO | D9: =SUM(D4:D8) -> 159720.44 | E9: =SUM(E4:E8) -> 161651.14 | F9: =SUM(F4:F8) -> 178114.2 | G9: =SUM(G4:G8) -> 173809.2 | H9: =+E9-D9 -> 1930.7
B10: 1. Savivaldybės biudžetas (įskaitant skolintas lėšas) | D10: =+'01 Visuomenės ugdymo'!E114+'02 Socialinės gerovės'!E121+'03 Darnios aplinkos'!E64+'04 Ekonominės plėtros'!E44+'05 Valdymo '!E33 -> 157683.44 | E10: =+'01 Visuomenės ugdymo'!F114+'02 Socialinės gerovės'!F121+'03 Darnios aplinkos'!F64+'04 Ekonominės plėtros'!F44+'05 Valdymo '!F33 -> 159614.14 | F10: =+'01 Visuomenės ugdymo'!G114+'02 Socialinės gerovės'!G121+'03 Darnios aplinkos'!G64+'04 Ekonominės plėtros'!G44+'05 Valdymo '!G33 -> 175293.2 | G10: =+'01 Visuomenės ugdymo'!H114+'02 Socialinės gerovės'!H121+'03 Darnios aplinkos'!H64+'04 Ekonominės plėtros'!H44+'05 Valdymo '!H33 -> 172192.2 | H10: =+E10-D10 -> 1930.7
B11: Iš jo: | H11: =+E11-D11 -> 0
B12: 1.1. savivaldybės biudžeto lėšos (nuosavos, be ankstesnių metų likučio) SB | D12: =+'01 Visuomenės ugdymo'!E116+'02 Socialinės gerovės'!E123+'03 Darnios aplinkos'!E66+'04 Ekonominės plėtros'!E46+'05 Valdymo '!E35 -> 64684.14 | E12: =+'01 Visuomenės ugdymo'!F116+'02 Socialinės gerovės'!F123+'03 Darnios aplinkos'!F66+'04 Ekonominės plėtros'!F46+'05 Valdymo '!F35 -> 64900.14 | F12: =+'01 Visuomenės ugdymo'!G116+'02 Socialinės gerovės'!G123+'03 Darnios aplinkos'!G66+'04 Ekonominės plėtros'!G46+'05 Valdymo '!G35 -> 80658.9 | G12: =+'01 Visuomenės ugdymo'!H116+'02 Socialinės gerovės'!H123+'03 Darnios aplinkos'!H66+'04 Ekonominės plėtros'!H46+'05 Valdymo '!H35 -> 80333 | H12: =+E12-D12 -> 216
B13: 1.2. Lietuvos Respublikos valstybės biudžeto dotacijos SBVB | D13: =+'01 Visuomenės ugdymo'!E117+'02 Socialinės gerovės'!E124+'03 Darnios aplinkos'!E67+'04 Ekonominės plėtros'!E47+'05 Valdymo '!E36 -> 68398.1 | E13: =+'01 Visuomenės ugdymo'!F117+'02 Socialinės gerovės'!F124+'03 Darnios aplinkos'!F67+'04 Ekonominės plėtros'!F47+'05 Valdymo '!F36 -> 70584.8 | F13: =+'01 Visuomenės ugdymo'!G117+'02 Socialinės gerovės'!G124+'03 Darnios aplinkos'!G67+'04 Ekonominės plėtros'!G47+'05 Valdymo '!G36 -> 76291 | G13: =+'01 Visuomenės ugdymo'!H117+'02 Socialinės gerovės'!H124+'03 Darnios aplinkos'!H67+'04 Ekonominės plėtros'!H47+'05 Valdymo '!H36 -> 74230.4 | H13: =+E13-D13 -> 2186.7
B14: 1.3. Pajamų įmokos ir kitos pajamos ĮP | D14: =+'01 Visuomenės ugdymo'!E118+'02 Socialinės gerovės'!E125+'03 Darnios aplinkos'!E68+'04 Ekonominės plėtros'!E48+'05 Valdymo '!E37 -> 4164.5 | E14: =+'01 Visuomenės ugdymo'!F118+'02 Socialinės gerovės'!F125+'03 Darnios aplinkos'!F68+'04 Ekonominės plėtros'!F48+'05 Valdymo '!F37 -> 4187.5 | F14: =+'01 Visuomenės ugdymo'!G118+'02 Socialinės gerovės'!G125+'03 Darnios aplinkos'!G68+'04 Ekonominės plėtros'!G48+'05 Valdymo '!G37 -> 4190.3 | G14: =+'01 Visuomenės ugdymo'!H118+'02 Socialinės gerovės'!H125+'03 Darnios aplinkos'!H68+'04 Ekonominės plėtros'!H48+'05 Valdymo '!H37 -> 4190.3 | H14: =+E14-D14 -> 23
B15: 1.4. Europos Sąjungos ir kitos tarptautinės finansinės paramos lėšos ES | D15: =+'01 Visuomenės ugdymo'!E119+'02 Socialinės gerovės'!E126+'03 Darnios aplinkos'!E69+'04 Ekonominės plėtros'!E49+'05 Valdymo '!E38 -> 8613.5 | E15: =+'01 Visuomenės ugdymo'!F119+'02 Socialinės gerovės'!F126+'03 Darnios aplinkos'!F69+'04 Ekonominės plėtros'!F49+'05 Valdymo '!F38 -> 8118.5 | F15: =+'01 Visuomenės ugdymo'!G119+'02 Socialinės gerovės'!G126+'03 Darnios aplinkos'!G69+'04 Ekonominės plėtros'!G49+'05 Valdymo '!G38 -> 11975.9 | G15: =+'01 Visuomenės ugdymo'!H119+'02 Socialinės gerovės'!H126+'03 Darnios aplinkos'!H69+'04 Ekonominės plėtros'!H49+'05 Valdymo '!H38 -> 10818.4 | H15: =+E15-D15 -> -495
