Workbook
Name _Hlk149118504: '01 Visuomenės ugdymo'!#REF!

Sheet 01 Visuomenės ugdymo
J1: PATVIRTINTA
J2: Kėdainių rajono savivaldybės tarybos
J3: 2026 m. vasario 20 d. sprendimu Nr. TS-33
J6: Kėdainių rajono savivaldybės 2026–2028 m.
J7: strateginio veiklos plano 1 priedas
O8: Lyginamasis variantas
B9: IV SKYRIUS. 3 lentelė. 2026–2028 m. programų uždaviniai, priemonės bei jų stebėsenos rodikliai, asignavimai ir kitos lėšos (tūkst. Eur)
B11: IV SKYRIUS. 3.1 lentelė. 2026–2028 m. AKTYVIOS VISUOMENĖS UGDYMO PROGRAMOS programų uždaviniai, priemonės bei jų stebėsenos rodikliai, asignavimai ir kitos lėšos (tūkst. Eur)
B15: Programos uždavinio, priemonės kodas ir požymis | C15: Uždavinio, priemonės pavadinimas, finansavimo šaltiniai | E15: * 2026 m. asignavimai ir kitos lėšos | F15: PATIKSLINTI 2026 m. asignavimai ir kitos lėšos | G15: 2027 m. asignavimai ir kitos lėšos | H15: 2028 m. asignavimai ir kitos lėšos | I15: Strateginio plėtros plano priemonės kodas | J15: Stebėsenos rodiklio pavadinimas (matavimo vnt.) | K15: Siektinos stebėsenos rodiklių reikšmės | O15: Komentarai, pastabos | P15: 2026 m. +/-pokytis tūkst. Eur
K16: 2026 m. | L16: TIKSLINIMAS 2026 m. | M16: 2027 m. | N16: 2028 m.
B18: 001-01-01 (T) | C18: Sudaryti prielaidas ugdymo kokybei gerinti, mažinti ugdymo kokybės skirtumus tarp mokyklų, užtikrinti STEAM dalykų programų įgyvendinimą bei skaitmeninio ugdymo turinio plėtrą | E18: =SUM(E19:E30) -> 45353.8 | F18: =SUM(F19:F30) -> 46164.1 | G18: =SUM(G19:G30) -> 48765 | H18: =SUM(H19:H30) -> 51107 | J18: Pagrindinio ugdymo pasiekimų patikrinimo (PUPP) metu bent pagrindinį lietuvių kalbos mokymosi pasiekimų lygį pasiekusių mokinių dalis, (proc.) / PUPP metu bent pagrindinį matematikos mokymosi pasiekimų lygį pasiekusių mokinių dalis, (proc.) | K18: 74/ 55,22 | L18: 74/ 55,22 | M18: 74/ 55,22 | N18: 74/ 55,22
B19: 001-01-01-01 (TP) | C19: Švietimo programų įgyvendinimas ir tinkamos ugdymo(si) aplinkos užtikrinimas | D19: SBVB | E19: =27550.7+57.2+510.3 -> 28118.2 | F19: =29217+13.5+0.8 -> 29231.3 | G19: 31500 | H19: 33000 | I19: 2.1. | J19: Ikimokykliniame ir priešmokykliniame ugdyme dalyvaujančių 3–5 metų vaikų dalis (proc.) | K19: 97.7 | L19: 97.7 | M19: 97.7 | N19: 97.7 | O19: Duomenys tikslinami vadovaujantis balandžio, gegužės mėn. biudžeto pakeitimais | P19: =+F19-E19 -> 1113.1
D20: SB | E20: 7908.4 | F20: 7644 | G20: 15700 | H20: 16500 | J20: Bendrojo ugdymo mokyklų 1–8 klasių komplektų, kurie yra jungtiniai, dalis, (proc.) | K20: 1.2 | L20: 1.2 | M20: 0 | N20: 0 | P20: =+F20-E20 -> -264.4
D21: SBL | E21: 7448 | F21: 7448 | G21: 0 | H21: 0 | P21: =+F21-E21 -> 0
D22: ĮP | E22: 1184.7 | F22: 1196.3 | G22: 1195 | H22: 1195 | J22: Bendrojo ugdymo mokyklų klasių komplektų, kuriuose yra mažiau kaip 8 mokiniai, dalis (proc.) | K22: 0.5 | L22: 0.5 | M22: 0 | N22: 0 | P22: =+F22-E22 -> 11.6
B23: 001-01-01-02 (PP) | C23: „Tūkstantmečio mokyklos I“ projekto įgyvendinimas | D23: SB | E23: 50 | F23: 5 | G23: 0 | H23: 0 | I23: 2.1.3.3. | J23: Projekte dalyvaujančių įstaigų skaičius (tinklaveika) | K23: 15 | L23: 15 | O23: Projekto veiklos įgyvendintos, papildomų numatytų savivaldybės biudžeto lėšų nebuvo patirta | P23: =+F23-E23 -> -45
D24: ES | E24: 5 | F24: 5 | G24: 0 | H24: 0 | P24: =+F24-E24 -> 0
D25: SBVB | E25: 281.4 | F25: 281.4 | G25: 0 | H25: 0 | P25: =+F25-E25 -> 0
B26: 001-01-01-03 (TP) | C26: Pirmoko krepšelio finansavimas | D26: SB | E26: 15 | F26: 10 | G26: 15 | H26: 15 | I26: 2.1. | J26: Pirmoko krepšelį gaunančiųjų skaičius | K26: ~400 | L26: 400 | M26: ~400 | N26: ~400 | O26: Tikslinamos lėšos pagal įvykdytą viešąjį pirkimą | P26: =+F26-E26 -> -5
B27: 001-01-01-04 (TP, PP) | C27: Švietimo paslaugų kokybės gerinimas, aprūpinant efektyviai veikiančias bendrojo ugdymo mokyklas laboratorine įranga ir priemonėmis bei sensoriniams kambariams įsirengti, priemonėms įsigyti | D27: SB | E27: 40 | F27: 40 | G27: 30 | H27: 20 | I27: 2.1.1.10 | J27: Bendrojo ugdymo mokyklų (vykdančių vidurinio ar pagrindinio ugdymo programas), turinčių gamtos mokslų laboratorijas/sensorinius kambarius dalis (proc.) | K27: 90/85 | L27: 90/85 | M27: 95/90 | N27: 100/100 | P27: =+F27-E27 -> 0
D28: ES | E28: 80 | F28: 80 | G28: 100 | H28: 150 | P28: =+F28-E28 -> 0
B29: 002-01-01-05 (TP, PP) | C29: Skaitmeninio ugdymo plėtra | D29: SBVB | E29: 102.1 | F29: 102.1 | G29: 104 | H29: 106 | I29: 2.1.1.10 | J29: Įstaigų, plečiančių skaitmeninimą, skaičius | K29: 15/25 | L29: 15/25 | M29: 15/25 | N29: 15/25 | P29: =+F29-E29 -> 0
D30: SB | E30: 121 | F30: 121 | G30: 121 | H30: 121 | P30: =+F30-E30 -> 0
B31: 001-01-02 (T, P) | C31: Užtikrinti neformaliojo ugdymo dermę | E31: =SUM(E32:E39) -> 3736.4 | F31: =SUM(F32:F39) -> 3720.8 | G31: =SUM(G32:G39) -> 4583 | H31: =SUM(H32:H39) -> 4344 | J31: Neformaliojo švietimo veikloje dalyvaujančių mokinių dalis (proc.) | K31: 79.1 | L31: 79.1 | M31: 79.1 | N31: 7.91 | P31: =+F31-E31 -> -15.6
B32: 001-01-02-01 (TP) | C32: Neformaliojo ugdymo programų įgyvendinimo ir tinkamos ugdymo (si) aplinkos užtikrinimas Kėdainių Dailės, Kalbų ir Muzikos mokyklose | D32: SBVB | E32: 73 | F32: 361 | G32: 420 | H32: 450 | I32: 2.1.2.7. | J32: Vaikų, lankančių neformaliojo vaikų švietimo mokyklas, skaičius | K32: ~1390 | L32: ~1390 | M32: ~1390 | N32: ~1390 | O32: Lėšos patikslintos, vadovaujantis balandžio mėn. biudžeto pakeitimais: gavus SBVB tikslines lėšas, atitinkamai koreguojant SB lėšas | P32: =+F32-E32 -> 288
D33: SB | E33: 2526.6 | F33: =2526.6-204.6 -> 2322 | G33: 2750 | H33: 2990 | P33: =+F33-E33 -> -204.6
D34: ĮP | E34: 395.1 | F34: 395.1 | G34: 395 | H34: 395 | P34: =+F34-E34 -> 0
B35: 001-01-02-02 (TP) | C35: Neformaliojo vaikų švietimo, socializacijos, prevencijos veiklų programų plėtojimas, vaikų vasaros stovyklų finansavimas | D35: SB | E35: 80 | F35: 75 | G35: 80 | H35: 80 | J35: Mokinių, dalyvavusių vasaros stovyklose, dalis (proc.) | K35: 14,6 | L35: 14,6 | M35: 14,6 | N35: 14,6 | O35: Lėšos tikslinamos pagal sudarytas ir pasirašytas sutartis po konkurso | P35: =+F35-E35 -> -5
D36: SBVB | E36: 361.7 | F36: 361.7 | G36: 369 | H36: 369 | I36: 2.1.2.7. | J36: NVŠ krepšeliu pasinaudojusių mokinių dalis (proc.) | K36: 39 | L36: 39 | M36: 39 | N36: 39 | P36: =+F36-E36 -> 0
B37: 001-01-02-03 (TP) | C37: Papildomų sąlygų didelio mokymosi potencialo vaikų ugdymui sudarymas | D37: SB | E37: 0 | F37: 0 | G37: 60 | H37: 60 | I37: 2.1.2.3 | J37: Suformuotų klasių skaičius (bendras) | K37: ~20 | L37: ~20 | M37: ~20 | N37: ~20 | P37: =+F37-E37 -> 0
B38: 001-01-02-04 (PP) | C38: Projekto „Išmaniųjų akademija“ įgyvendinimas (ES projekto „Kauno regiono funkcinės zonos strategija“ dalis) | D38: SB | E38: 45 | F38: =45-14 -> 31 | G38: 79 | H38: 0 | I38: 2.1.2.7. | J38: Neformaliojo vaikų švietimo galimybėmis pasinaudojusių mokinių skaičius (per dieną) | M38: Vertinama įgyvendinus projektą 2029 m. | O38: Projektas vykdomas. 2026 m. įrengta edukacinė kulinarinė erdvė ir nupirkta įranga. Lėšos perskirstomos į 2027 m., kadangi likusios 3 edukacinės erdvės bus įrengiamos pasibaigus mokslo metams | P38: =+F38-E38 -> -14
D39: ES | E39: 255 | F39: =255-80 -> 175 | G39: =350+80 -> 430 | H39: 0 | P39: =+F39-E39 -> -80
B40: 001-01-03 (T) | C40: Gerinti švietimo pagalbos teikimą, įgyvendinti kokybišką įvairių ugdymosi poreikių turinčių mokinių ugdymą, taikant inovatyvius ugdymo(si) metodus ir būdus | E40: =SUM(E41:E49) -> 2487.6 | F40: =SUM(F41:F49) -> 2545.8 | G40: =SUM(G41:G49) -> 1367 | H40: =SUM(H41:H49) -> 808 | J40: Švietimo pagalbą gaunančių mokinių dalis (proc.) | K40: ne mažiau 95 | L40: ne mažiau 95 | M40: ne mažiau 95 | N40: ne mažiau 95 | P40: =+F40-E40 -> 58.2
B41: 001-01-03-01 (TP) | C41: Kvalifikuotos švietimo pagalbos mokiniui, mokytojui, mokyklai teikimas | D41: SBVB | E41: 567.1 | F41: =567.1+58.2 -> 625.3 | G41: 585 | H41: 600 | I41: 2.1.2.1. | J41: Organizuotų kvalifikacijos tobulinimo renginių skaičius / kvalifikaciją ir kompetenciją tobulinusių pedagogų, pagalbos mokinių specialistų, vadovų skaičius | K41: 295 / 5390 | L41: 295 / 5390 | M41: 295 / 5390 | N41: 295/5390 | O41: Lėšos patikslintos, vadovaujantis balandžio mėn. biudžetu: gautos tikslinės SBVB | P41: =+F41-E41 -> 58.2
D42: SB | E42: 173.8 | F42: 173.8 | G42: 181 | H42: 192 | P42: =+F42-E42 -> 0
D43: ĮP | E43: 15.7 | F43: 15.7 | G43: 16 | H43: 16 | P43: =+F43-E43 -> 0
B44: 001-01-03-02 (PP) | C44: Projekto „Ugdymo prieinamumo didinimas atskirtį patiriantiems vaikams Kėdainių „Ryto“ ir Kėdainių senamiesčio progimnazijose“ įgyvendinimas | D44: SB | E44: 195 | F44: 195 | G44: 60 | H44: 0 | I44: 2.1.1.2 | J44: Mokyklų, kuriose įdiegtos universalaus dizaino ir kitos inžinerinės priemonės aplinką pritaikant asmenims, turintiems negalią, skaičius | M44: 2 | P44: =+F44-E44 -> 0
D45: ES | E45: 1105 | F45: 1105 | G45: 257 | H45: 0 | P45: =+F45-E45 -> 0
B46: 001-01-03-03 (PP) | C46: Projekto „Įvairialypio švietimo plėtojimas Kėdainių „Aušros“ progimnazijoje ir Vilainių mokykloje-darželyje „Obelėlė“, vykdant visos dienos mokyklos veiklą“ įgyvendinimas | D46: SB | E46: 25 | F46: 25 | G46: 0 | H46: 0 | I46: 2.1.1.2 | J46: Mokinių, kurie naudojasi sukurta visos dienos mokyklos infrastruktūra, skaičius | K46: ~900 | L46: ~900 | P46: =+F46-E46 -> 0
D47: ES | E47: 138 | F47: 138 | G47: 0 | H47: 0 | P47: =+F47-E47 -> 0
B48: 001-01-03-04 (PP) | C48: Projekto „Ankstyvojo ugdymo užtikrinimas vaikams iš socialinę riziką patiriančių šeimų“ įgyvendinimas | D48: ES | E48: 250 | F48: 250 | G48: 250 | H48: 0 | I48: 2.1.1.1. | J48: Į ikimokyklinį ir priešmokyklinį ugdymą įtrauktų vaikų iš socialinę riziką patiriančių šeimų teikiant jiems pagalbą ugdymo procese dalis (skaičiuojama įgyvendinus projektą -2027 m.) | K48: 100 | L48: 100 | M48: 100 | P48: =+F48-E48 -> 0
D49: SBVB | E49: 18 | F49: 18 | G49: 18 | H49: 0 | P49: =+F49-E49 -> 0
B50: 001-01-04 (T) | C50: Didinti pedagogų ir mokinių motyvaciją, užtikrinti sveiką, saugią emocinę ir fizinę aplinką ugdymo įstaigose | E50: =SUM(E51:E59) -> 723.7 | F50: =SUM(F51:F59) -> 847.7 | G50: =SUM(G51:G59) -> 871.1 | H50: =SUM(H51:H59) -> 878.8 | J50: Abiturientų, laikiusių valstybinius brandos egzaminus (VBE), rezultatų įvertinimas pagal pagrindinį ir aukštesnįjį lygius | K50: 25/65 | L50: 25/65 | M50: 25/65 | N50: 25/65 | P50: =+F50-E50 -> 124
B51: 001-01-04-01 (TP) | C51: Mokytojų ir švietimo pagalbos specialistų pritraukimas, perkvalifikavimas ir skatinimas | D51: SB | E51: 120 | F51: 120 | G51: 120 | H51: 120 | I51: 2.1.2.4. | J51: Dalykinių olimpiadų ir konkursų prizininkų skaičius, tenkantis 10 tūkst. mokinių | K51: 5.9 | L51: 5.9 | M51: 5.9 | N51: 5.9 | P51: =+F51-E51 -> 0
B52: 001-01-04-02 (TP) | C52: Švietimo įstaigų darbuotojų važiavimo iš / į darbo išlaidų kompensavimas | D52: SB | E52: 112.8 | F52: 112.8 | G52: 112.8 | H52: 112.8 | I52: 2.1.2.2 | J52: Pedagoginių darbuotojų, gyvenančių 10 ir daugiau kilometrų nuo darbo vietos, kuriems kompensuojamos kelionės išlaidos, dalis (proc.) | K52: 100 | L52: 100 | M52: 100 | N52: 100 | P52: =+F52-E52 -> 0
B53: 001-01-04-03 (TP) | C53: Gabių mokinių skatinimas | D53: SB | E53: 30 | F53: 34 | G53: 35 | H53: 35 | I53: 2.1.2.3 | J53: Mokinių, kuriems skirti piniginiai prizai, skaičius | K53: ~170 | L53: 167 | M53: ~170 | N53: ~170 | O53: Didinamas SB finansavimas, kompensuojant kelionių išlaidas, mokiniams ir juos lydintiems mokytojams vykstant į olimpiadas, konkursus. Tikslinama rodiklio reikšmė pagal faktą | P53: =+F53-E53 -> 4
B54: 001-01-04-04 (TP) | C54: Dalyvaujamojo biudžeto iniciatyvų ugdymo įstaigose įgyvendinimas | D54: SB | E54: 11 | F54: 11 | G54: 11 | H54: 11 | J54: Į dalyvaujamojo biudžeto iniciatyvas įsitraukusiųjų mokyklų skaičius | K54: 11 | L54: 11 | M54: 11 | N54: 11 | P54: =+F54-E54 -> 0
B55: 001-01-04-05 (TP) | C55: Socialinio - emocinio ugdymo programų vykdymas | D55: SB | E55: 30 | F55: 30 | G55: 30 | H55: 30 | I55: 2.1.2.5. | J55: Įstaigų, kuriose vykdomos socialinio - emocinio ugdymo programos, dalis, (proc.) | K55: 100 | L55: 100 | M55: 100 | P55: =+F55-E55 -> 0
B56: 001-01-04-06 (TP) | C56: Priklausomybę sukeliančių medžiagų vartojimo mažinimo ir prevencijos programos priemonių įgyvendinimas | D56: SB | E56: 89.9 | F56: 89.9 | G56: 77.3 | H56: 80 | I56: 4.2.2.2. | J56: Įgyvendinamų prevencinių priemonių skaičius | K56: 29 | L56: 29 | M56: 29 | N56: 29 | P56: =+F56-E56 -> 0
B57: 001-01-04-07 (TP) | C57: Vaikų maitinimo ekologiškais ir pagal nacionalinę maisto kokybės sistemą pagamintais produktais organizavimas (dalyvavimas projekte) | D57: SB | E57: 30 | F57: 30 | G57: 35 | H57: 40 | I57: 1.2.2.3. | J57: Ekologiškai besimaitinančių vaikų skaičius | K57: ~490 | L57: ~490 | M57: ~560 | N57: ~620 | P57: =+F57-E57 -> 0
B58: 001-01-04-08 (TP) | C58: Maitinimo savarankiškai organizavimas mokyklose | D58: SB | E58: 150 | F58: =150+120 -> 270 | G58: 300 | H58: 300 | I58: 2.1.1.2 | J58: Mokyklų, organizuojančių maitinimą savarankiškai, skaičius (bendras, suminis) | K58: 4 | L58: 4 | M58: 6 | N58: 8 | O58: SB lėšos padidintos balandžio mėn. tarybos sprendimu tikslinant Biudžetą. Papildomos lėšos buvo numatytos Senamiesčio progimnazijai | P58: =+F58-E58 -> 120
B59: 001-01-04-09 (TP) | C59: Saugių ugdymo sąlygų įstaigose užtikrinimas | D59: SB | E59: 150 | F59: 150 | G59: 150 | H59: 150 | I59: 2.1.1.1. 2.1.1.2. | J59: Įstaigų skaičius, kuriose atlikti remonto darbai | K59: 7 | L59: 12 | M59: 10 | N59: 10 | P59: =+F59-E59 -> 0
B60: 001-01-05 (T) | C60: Vystyti jaunimui palankią aplinką, plėsti ir skatinti įvairias veiklas ir užimtumą, formuojant jaunimo politiką | E60: =+E61+E62+E63 -> 102 | F60: =+F61+F62+F63 -> 102 | G60: =+G61+G62+G63 -> 110 | H60: =+H61+H62+H63 -> 120 | J60: Jaunimo (14–29 m.) dalyvavimo savivaldybės formuojamos jaunimo politikos veiklose lygis, proc. | K60: >10 | L60: >10 | M60: >10 | N60: >10 | P60: =+F60-E60 -> 0
B61: 001-01-05-01 (TP) | C61: Jaunimui palankios aplinkos vystymas, skatinant įvairias veiklas, formuojant jaunimo politiką | D61: SB | E61: 25 | F61: 25 | G61: 25 | H61: 25 | I61: 4.3.1.2. | J61: Suorganizuotas jaunimo renginys | K61: 1 | L61: 1 | M61: 1 | N61: 1 | P61: =+F61-E61 -> 0
B62: 001-01-05-02 (TP) | C62: Jaunimo veiklos projektų, programų finansavimas | D62: SB | E62: 42 | F62: 42 | G62: 45 | H62: 50 | I62: 4.3.1.2. | J62: Finansuotų projektų, programų skaičius | K62: 10 | L62: 10 | M62: 11 | N62: 12 | P62: =+F62-E62 -> 0
B63: 001-01-05-03 (TP) | C63: Jaunimo užimtumo vasarą ir integracijos į darbo rinką programos įgyvendinimas, skatinimas užsiimti savanoriška veikla | D63: SB | E63: 35 | F63: 35 | G63: 40 | H63: 45 | I63: 2.4.3.6. | J63: Pagal programą įdarbintų 14-21 m. jaunuolių skaičius, veiklose dalyvaujančių savanorių skaičius | K63: 35 | L63: 35 | M63: 40 | N63: 45 | P63: =+F63-E63 -> 0
B64: 001-01-06 (T) | C64: Skatinti nevyriausybinių ir bendruomeninių organizacijų plėtrą, didinti jų įtrauktį | E64: =+E65+E66+E67+E68+E69 -> 641 | F64: =+F65+F66+F67+F68+F69 -> 652.6 | G64: =+G65+G66+G67+G68+G69 -> 833.6 | H64: =+H65+H66+H67+H68+H69 -> 802 | J64: Rajono NVO, dalyvavusių / įsitraukusių į Savivaldybės vykdomas priemones, skaičius | K64: >80 | L64: >80 | M64: >80 | N64: >80 | P64: =+F64-E64 -> 11.6
B65: 001-01-06-01 (TP) | C65: Nevyriausybinių organizacijų institucinis stiprinimas bei veiklos plėtojimo projektų finansavimas | D65: SB | E65: 46 | F65: 46 | G65: 46 | H65: 47 | I65: 4.3.2.2. | J65: Finansuotų projektų / paskatintų iniciatyvų bei suorganizuotų veiklų skaičius | K65: 10/3 | L65: 11/3 | M65: 10/3 | N65: 10/3 | P65: =+F65-E65 -> 0
B66: 001-01-06-02 (TP) | C66: Bendruomeninių organizacijų veiklos projektų finansavimas, bendruomeninės veiklos stiprinimas | D66: SB | E66: 28 | F66: 28 | G66: 28 | H66: 29 | I66: 4.3.2.3. | J66: Finansuotų bendruomeninių organizacijų veiklų projektų skaičius / įgyvendintų projekto veiklų proc. | K66: 27/100 | L66: 37/100 | M66: 40/100 | N66: 40/100 | O66: Lėšos patikslintos, vadovaujantis balandžio mėn. biudžetu: tikslinės SBVB. Tikslinama rodiklio reikšmė | P66: =+F66-E66 -> 0
D67: SBVB | E67: 32 | F67: 33.2 | G67: 32 | H67: 32 | P67: =+F67-E67 -> 1.2
B68: 001-01-06-03 (TP) | C68: Miesto bei rajono vietos veiklos grupių plėtros strategijų finansavimas | D68: SB | E68: 135 | F68: =135+10.4 -> 145.4 | G68: 177.6 | H68: 104 | I68: 4.3.2.4. | J68: Savivaldybės savo indėliu prisidėjusi prie plėtros strategijos projektų, skaičius | K68: 30 | L68: 22 | M68: 20 | N68: 12 | O68: Tikslinamas savivaldybės indėlis projektų įgyvendinimui, t.y. perskirstoma tarp 2026/2027 m. | P68: =+F68-E68 -> 10.4
D69: KT (ES) | E69: 400 | F69: 400 | G69: 550 | H69: 590 | P69: =+F69-E69 -> 0
B70: 001-01-07 (T) | C70: Organizuoti kultūros įstaigų veiklą, užtikrinti kultūros paslaugų kokybę ir jų prieinamumą, finansuoti renginius bei kultūrines iniciatyvas | E70: =SUM(E71:E83) -> 6712.5 | F70: =SUM(F71:F83) -> 6951.9 | G70: =SUM(G71:G83) -> 6483.3 | H70: =SUM(H71:H83) -> 6943.3 | J70: Kultūros veiklų dalyvių ir lankytojų (visose kultūros įstaigose) skaičius 1 tūkst. rajono gyventojų | K70: >8500 | L70: >8500 | M70: >8000 | N70: >8000 | P70: =+F70-E70 -> 239.4
B71: 001-01-07-01 (TP) | C71: Mikalojaus Daukšos viešosios bibliotekos bei jos filialų veiklos užtikrinimas, gyventojų informacinių, edukacinių, kultūrinių, skaitymo, komunikacinių poreikių ugdymas | D71: SB | E71: 1706.4 | F71: 1706.4 | G71: 1800 | H71: 1900 | I71: 2.2.2.2. 2.2.2.5. | J71: Išduotų leidinių skaičius (tūkst.) | K71: >350 | L71: >350 | M71: >350 | N71: >350 | P71: =+F71-E71 -> 0
D72: ĮP | E72: 12.7 | F72: 12.7 | G72: 13 | H72: 13 | J72: Bibliotekos lankytojų skaičius (tūkst.) | K72: >200 | L72: >200 | M72: >200 | N72: >200 | P72: =+F72-E72 -> 0
D73: SBVB | E73: 55.6 | F73: 55.6 | G73: 55.6 | H73: 55.6 | P73: =+F73-E73 -> 0
B74: 001-01-07-02 (TP) | C74: Krašto muziejaus ir jo skyrių veiklos užtikrinimas, kultūros paslaugų plėtra ir prieinamumo didinimas | D74: SB | E74: =916.4+8-3 -> 921.4 | F74: =916.4+8-3 -> 921.4 | G74: 950 | H74: 995 | I74: 2.2.2.2. 2.2.2.5. | J74: Muziejaus lankytojų skaičius (tūkst.) | K74: >45 | L74: >45 | M74: >45 | N74: >45 | P74: =+F74-E74 -> 0
D75: SBVB | E75: 0 | F75: 0 | G75: 0 | H75: 0 | P75: =+F75-E75 -> 0
D76: ĮP | E76: 64.2 | F76: 64.7 | G76: 65 | H76: 65 | J76: Suorganizuotų renginių, edukacinių užsiėmimų skaičius | K76: >1650 | L76: >1650 | M76: >1650 | N76: >1650 | O76: Muziejus didinasi įplaukas | P76: =+F76-E76 -> 0.5
B77: 001-01-07-03 (TP) | C77: Kultūros centrų ir jų skyrių veiklos užtikrinimas, krašto bendruomenės įtraukimas dalyvauti organizuojamuose renginiuose | D77: SB | E77: 3484 | F77: =3484+6.9 -> 3490.9 | G77: 3200 | H77: 3500 | I77: 2.2.2.2. 2.2.2.5. | J77: Kultūros centrų renginių lankytojų skaičius (tūkst.) /organizuojamų renginių skaičius | K77: >130 / >1300 | L77: >130 / >1300 | M77: >130 / >1300 | N77: >130 / >1300 | O77: Lėšos patikslintos, vadovaujantis balandžio ir gegužės mėn. biudžetu | P77: =+F77-E77 -> 6.9
D78: SBVB | E78: 0 | F78: 150 | G78: 0 | H78: 0 | P78: =+F78-E78 -> 150
D79: ĮP | E79: 97.1 | F79: 114 | G79: 100 | H79: 100 | P79: =+F79-E79 -> 16.9
B80: 001-01-07-04 (TP) | C80: Kultūros įstaigų darbuotojų važiavimo į/iš darbo išlaidų kompensavimas | D80: SB | E80: 27.7 | F80: 27.7 | G80: 27.7 | H80: 27.7 | J80: Kultūros įstaigų darbuotojų, gyvenančių 10 ir daugiau kilometrų nuo darbo vietos, kuriems kompensuojamos kelionės išlaidos, dalis (proc.) | K80: 100 | L80: 100 | M80: 100 | N80: 100 | P80: =+F80-E80 -> 0
B81: 001-01-07-05 (TP) | C81: Rajono savivaldybės renginių, kultūrinių iniciatyvų finansavimas, etninės kultūros puoselėjimas, mėgėjų meno kolektyvų veiklos stiprinimas | D81: SB | E81: 296.4 | F81: 296.4 | G81: 220 | H81: 230 | I81: 2.2.2.2. 2.2.2.3. 2.2.2.5. 2.2.2.4. | J81: Finansuotų veiklų skaičius / koncertinius kostiumų komplektus ir instrumentus atsinaujinusių kolektyvų skaičius | K81: >40 / 8 | L81: 50/6 | M81: >40 / 8 | N81: >40 / 8 | O81: SBVB lėšos patikslintos, vadovaujantis balandžio ir gegužės mėn. biudžetu bei Ministro įsakymu dėl dotacijos skyrimo Radviliados, Č.Milošo ir kt. renginiams/kultūriniams projektams. | P81: =+F81-E81 -> 0
D82: SBVB | E82: 2 | F82: =2+12.5+52.6 -> 67.1 | G82: 2 | H82: 2 | P82: =+F82-E82 -> 65.1
B83: 001-01-07-06 (TP) | C83: Kultūrinių veiklos projektų finansavimas | D83: SB | E83: 45 | F83: 45 | G83: 50 | H83: 55 | I83: 2.2.2.2 | J83: Finansuotų projektų skaičius / projektų dalyvių ir lankytojų skaičius | K83: >18/ >4500 | L83: 16/ 4000 | M83: >18/ >4500 | N83: >18/ >4500 | O83: Tikslinama rodiklio reikšmė, pagal įvykusio konkurso duomenis | P83: =+F83-E83 -> 0
B84: 001-01-08 (T) | C84: Skatinti gyventojų fizinį aktyvumą, vystyti įvairias gyventojų poreikius atitinkančias sporto šakas, didinti sportinės veiklos žinomumą | E84: =SUM(E85:E92) -> 2172.9 | F84: =SUM(F85:F92) -> 2147.9 | G84: =SUM(G85:G92) -> 2151.8 | H84: =SUM(H85:H92) -> 2248.3 | J84: Organizuotai sportuojančių proc. nuo gyventojų skaičiaus savivaldybės teritorijoje, proc. | K84: >5,9 | L84: >5,9 | M84: >5,9 | N84: >5,9 | P84: =+F84-E84 -> -25
B85: 001-01-08-01 (TP) | C85: Fizinio aktyvumo veiklų skatinimas ir aukšto meistriškumo sporto plėtros užtikrinimas | D85: SB | E85: 104.8 | F85: 104.8 | G85: 105 | H85: 110 | I85: 2.3.4.6. 2.3.4.10. | J85: Fizinio aktyvumo veiklų dalyvių skaičiaus didėjimas (proc.) / rajone organizuojamų aukšto meistriškumo sporto renginių skaičiaus augimas | K85: ~10 | L85: ~10 | M85: ~10 | N85: ~10 | P85: =+F85-E85 -> 0
B86: 001-01-08-02 (TP) | C86: Sporto projektų finansavimas | D86: SB | E86: 80 | F86: 80 | G86: 80 | H86: 80 | I86: 2.3.4.7. | J86: Sporto projektuose vykdytų veiklų ir unikalių dalyvių skaičiaus didėjimas, proc. | K86: 0,7 | L86: 0,7 | M86: 0,7 | N86: 0,7 | P86: =+F86-E86 -> 0
B87: 001-01-08-03 (TP) | C87: Dalyvavimas vaikų mokymo plaukti projekte „Mokėk plaukti ir saugiau elgtis vandenyje“ | D87: SB | E87: 10.3 | F87: 10.3 | G87: 10.3 | H87: 10.3 | I87: 2.3.4.7. | J87: Išmokytų 1-4 klasių mokinių plaukti skaičius nuo dalyvavusių programoje vaikų skaičiaus, proc. | K87: 100 | L87: 100 | M87: 100 | N87: 100 | P87: =+F87-E87 -> 0
B88: 001-01-08-04 (TP) | C88: Sporto centro veiklos užtikrinimas, sveikatingumo bei sportinių renginių organizavimas bei vykdymas | D88: SB | E88: 1427.6 | F88: =1427.6-56 -> 1371.6 | G88: 1405 | H88: 1495 | I88: 2.3.4.8. | J88: Mokinių, dalyvaujančių FŠPU ir NVŠ sportinio ugdymo programose, dalis nuo bendro rajono mokinių, dalyvaujančių neformaliojo vaikų švietimo programose, skaičiaus/ proc. | K88: 15.2 | L88: 15.2 | M88: 15.2 | N88: 15.2 | O88: 56 tūkst. Eur iškeliama į Sporto programų finansavimo eilutę, nes krepšinis „Kėdainių SC“ komandos dalyvavimo Nacionalinės krepšinio lygos 2026/2027 m. sezone vykdymą perima VšĮ „Kėdainių krepšinis“. 2027-2028 m. numatytos lėšos KKL perkeliamos prie Sporto programų finansavimo eilutės taip pat. SBVB lėšos patikslintos su balandžio mėn. biudžetu. | P88: =+F88-E88 -> -56
D89: SBVB | E89: 82.3 | F89: 113.3 | G89: 83.5 | H89: 85 | P89: =+F89-E89 -> 31
D90: ĮP | E90: 207.9 | F90: 207.9 | G90: 208 | H90: 208 | J90: Organizuojamuose centro sveikatingumo ir sporto renginiuose dalyvaujančiųjų skaičiaus augimas, proc. | K90: +10 | L90: +10 | M90: +10 | N90: +10 | P90: =+F90-E90 -> 0
B91: 001-01-08-05 (TP) | C91: Sporto centro bazių atnaujinimas ir plėtra | D91: SB | E91: 100 | F91: 100 | G91: 100 | H91: 100 | I91: 2.3.4.1 | J91: Per metus atnaujintų arba naujai įrengtų infrastruktūros objektų skaičius (valdomų sporto centro bazių) | K91: 2 | L91: 2 | M91: 2 | N91: 2 | P91: =+F91-E91 -> 0
B92: 001-01-08-06 (TP) | C92: Bendruomeninės fizinio aktyvumo infrastruktūros priežiūra, atnaujinimas ir (arba) plėtra | D92: SB | E92: 160 | F92: 160 | G92: 160 | H92: 160 | I92: 2.3.4.5. | J92: Atnaujintų/įrengtų vaikų sporto ir žaidimų aikštelių skaičius | K92: 6 | L92: 6 | M92: 6 | N92: 6 | P92: =+F92-E92 -> 0
B93: 001-01-09 (T) | C93: Finansuoti sporto veiklos programas, skatinti sporto organizacijas, sporto komandas ir sportininkus | E93: =+E94+E95 -> 855 | F93: =+F94+F95 -> 911 | G93: =+G94+G95 -> 960 | H93: =+H94+H95 -> 960 | J93: Parengtų olimpinės bei nacionalinių rinktinių narių/ kandidatų skaičius | K93: 21 | L93: 21 | M93: 21 | N93: 21 | P93: =+F93-E93 -> 56
B94: 001-01-09-01 (TP) | C94: Sporto programų finansavimas | D94: SB | E94: 815 | F94: =815+56 -> 871 | G94: 920 | H94: 920 | I94: 2.3.4.7. | J94: Prioritetinėms sporto šakoms skirtų savivaldybės biudžeto asignavimų nuo bendro sporto veikloms skirto finansavimo, dalis (proc.) | K94: ~30 | L94: ~33 | M94: ~30 | N94: ~30 | O94: 56 tūkst. Eur atkeliami iš Kėdainių sporto centro, nes KK „Kėdainių SC“ komandos dalyvavimo Nacionalinės krepšinio lygos 2026/2027 m. sezone vykdymą perima VšĮ „Kėdainių krepšinis“ (iš viso KKL buvo skirta 105 t. Eur) . 2027-2028 m. numatytos lėšos KKL atkeliamos iš Sporto centro asignavimų. | P94: =+F94-E94 -> 56
B95: 001-01-09-02 (TP) | C95: Sportininkų ir jų trenerių paskatinimas už sporto laimėjimus | D95: SB | E95: 40 | F95: 40 | G95: 40 | H95: 40 | I95: 2.3.4.7. | J95: Iškovotų medalių šalies ir tarptautinėse aukšto meistriškumo varžybose skaičius | K95: > 70 | L95: > 70 | M95: > 70 | N95: > 70 | P95: =+F95-E95 -> 0
B96: 001-01-10 (T) | C96: Gerinti ugdymo, kultūros, sporto paskirties viešąją infrastruktūrą, modernizuoti materialinę ir edukacinę aplinką, vadovaujantis universalaus dizaino principais | E96: =SUM(E97:E111) -> 1672.5 | F96: =SUM(F97:F111) -> 1809.5 | G96: =SUM(G97:G111) -> 2798 | H96: =SUM(H97:H111) -> 2120 | I96: =SUM(I97:I111) -> 0 | J96: Lėšų, skirtų infrastruktūrai gerinti, materialinę ir edukacinę aplinką modernizuoti, vadovaujantis UD principais, finansuoti, panaudojimas | K96: 100 | L96: 100 | M96: 100 | N96: 100 | P96: =+F96-E96 -> 137
B97: 001-01-10-01 (TP) | C97: Šėtos gimnazijos I aukšto patalpų bei gimnazijos aplinkos pritaikymas ikimokyklinio / priešmokyklinio ugdymo organizavimui | D97: SB | E97: 427 | F97: 427 | G97: 0 | H97: 0 | I97: 2.1.1.2 | J97: Atlikta numatytų atnaujinimo ir pritaikymo darbų, proc. / pritaikytomis patalpomis besinaudojančių asmenų skaičiaus | K97: 100/ >290 | L97: 100/ >290 | P97: =+F97-E97 -> 0
B98: 001-01-10-02 (TP) | C98: Šėtos gimnazijos sporto aikštyno atnaujinimas | D98: SB | E98: 177 | F98: 177 | G98: 0 | H98: 0 | I98: 2.3.4.3. | J98: Atlikta numatytų atnaujinimo darbų, proc. / atnaujinta sporto infrastruktūra besinaudojančių asmenų skaičiaus | K98: 100/ >370 | L98: 100/ >370 | P98: =+F98-E98 -> 0
B99: 001-01-10-03 (TP) | C99: Bendrojo ir ikimokyklinio ugdymo įstaigų (skyrių) pastatų modernizavimo techninės dokumentacijos rengimas bei pastatų modernizavimas | D99: SB | E99: 50 | F99: 50 | G99: 50 | H99: 50 | I99: 2.1.1.1. 2.1.1.2. | J99: Parengtų įstaigų pastatų modernizavimo techninės dokumentacijos / atnaujinamų įstaigų skaičius | K99: 1/0 | L99: 1/0 | M99: 2/1 | N99: 1/2 | O99: Papildoma SB ir SBVB lėšomis, kadangi pateiktos ir vertinamos paraiškos l/d Kaštono ir Aviliuko modernizavimui. | P99: =+F99-E99 -> 0
D100: SB | E100: 0 | F100: 120 | G100: 700 | H100: 700 | P100: =+F100-E100 -> 120
D101: SBVB | E101: 0 | F101: 120 | G101: 600 | H101: 700 | P101: =+F101-E101 -> 120
B102: 001-01-10-04 (TP) | C102: Sporto infrastruktūrai prie ugdymo įstaigų atnaujinti reikalingos techninės dokumentacijos rengimas ir atnaujinimo darbai | D102: SB | E102: 20 | F102: 20 | G102: 0 | H102: 20 | I102: 2.3.4.3 | J102: Parengtų įstaigų pastatų modernizavimo techninės dokumentacijos / atnaujinamų infrastruktūros objektų skaičius | K102: 2/1 | L102: 1/0 | M102: 0/1 | N102: 1/1 | O102: Tikslinami 2027 m. duomenys, numatant "Aušros" progimnazijos aikštyno rekonstrukciją pagal priimtą tarybos sprendimą ir teikiamą paraišką | P102: =+F102-E102 -> 0
D103: SB | E103: 0 | F103: 0 | G103: 345 | H103: 300 | P103: =+F103-E103 -> 0
D104: SBVB | E104: 0 | F104: 0 | G104: 405 | H104: 300 | P104: =+F104-E104 -> 0
B105: 001-01-10-05 (TP) | C105: Baseino komplekso statybos priešprojektinių pasiūlymų / investicinio projekto parengimas | D105: SB | E105: 0 | F105: 0 | G105: 100 | H105: 0 | I105: 2.3.4.3. | J105: Parengtos techninės dokumentacijos skaičius | M105: 1 | P105: =+F105-E105 -> 0
B106: 001-01-10-06 (TP) | C106: Universalaus dengto maniežo statybos projekto parengimas | D106: SB | E106: 10 | F106: 0 | G106: 150 | H106: 0 | I106: 2.3.4.3. | J106: Parengtos techninės dokumentacijos skaičius | K106: 1 | L106: 0 | M106: 1 | O106: Koreguojamas priemonės pavadinimas, išplečiant sportines veiklas. Lėšų numatymas projektavimui | P106: =+F106-E106 -> -10
B107: 001-01-10-07 (TP) | C107: Kėdainių kultūros centro rekonstrukcija ir įveiklinimas | D107: SB | E107: 161.5 | F107: 161.5 | G107: 0 | H107: 0 | I107: 2.2.1.1. | J107: Atnaujinta infrastruktūra galėsiančių naudotis asmenų skaičiaus (tūkst.) | K107: 44 | L107: 44 | P107: =+F107-E107 -> 0
...

Sheet 02 Socialinės gerovės
B2: IV SKYRIUS. 3.2 lentelė. 2026–2028 m. SOCIALINĖS GEROVĖS UŽTIKRINIMO PROGRAMOS (02) programų uždaviniai, priemonės bei jų stebėsenos rodikliai, asignavimai ir kitos lėšos (tūkst. Eur)
B4: Programos uždavinio, priemonės kodas ir požymis | C4: Uždavinio, priemonės pavadinimas, finansavimo šaltiniai | E4: * 2026 m. asignavimai ir kitos lėšos | F4: PATIKSLINTI 2026 m. asignavimai ir kitos lėšos | G4: 2027 m. asignavimai ir kitos lėšos | H4: 2028 m. asignavimai ir kitos lėšos | I4: Strateginio plėtros plano priemonės kodas | J4: Stebėsenos rodiklio pavadinimas (matavimo vnt.) | K4: Siektinos stebėsenos rodiklių reikšmės | O4: Komentarai, pastabos | P4: 2026 m. +/-pokytis tūkst. Eur
K5: 2026 m. | L5: TIKSLINIMAS 2026 m. | M5: 2027 m. | N5: 2028 m.
B7: 002-01-01 (T, PP) | C7: Sudaryti sąlygas stiprinti gyventojų sveikatą užtikrinant prieinamų, kokybiškų ir integruotų visuomenės sveikatos bei sveikatos priežiūros paslaugų plėtrą, veiklų tęstinumą ir įgyvendinimą | E7: =SUM(E8:E20) -> 2476.2 | F7: =SUM(F8:F20) -> 2582.7 | G7: =SUM(G8:G20) -> 1941 | H7: =SUM(H8:H20) -> 1946 | J7: Išvengiamos hospitalizacijos skaičius 1000 gyv. | K7: mažėjantis | L7: mažėjantis | M7: mažėjantis | N7: mažėjantis
B8: 002-01-01-01 (TP) | C8: Visuomenės sveikatos rėmimo specialiosios programos priemonių įgyvendinimas | D8: SB (AA) | E8: 136.2 | F8: 158 | G8: 158 | H8: 158 | I8: 2.3.3.3. | J8: Visuomenės sveikatos rėmimo specialiosios programos įgyvendinimas, proc. | K8: 100 | L8: 100 | M8: 100 | N8: 100 | O8: Surinkus daugiau Aplinkos apsaugos specialiosios rėmimo programos lėšų, proporcingai didėja ir Sveikatos sričiai tenkantis finansavimas, sudarantis 20 proc. programos paskirstymo. | P8: =+F8-E8 -> 21.8
B9: 002-01-01-02 (TP) | C9: Visuomenės sveikatos biuro veiklos užtikrinimas, vykdant visuomenės sveikatos priežiūros funkcijas, plėtojant sveiką gyvenseną bendruomenėje, tęsiant „Jaunimui palankios sveikatos priežiūros paslaugos“ bei „Neįtikėtini metai“ projektų veiklas | D9: SB | E9: 153.3 | F9: 153.3 | G9: 163 | H9: 166 | I9: 2.3.3.4. 2.3.3.5. 2.3.2.7. 2.3.1.5. | J9: Visuomenės sveikatos priežiūros funkcijų vykdymas, proc. | K9: 100 | L9: 100 | M9: 100 | N9: 100 | P9: =+F9-E9 -> 0
D10: ĮP | E10: 1.8 | F10: 7.5 | G10: 7.5 | H10: 7.5 | P10: =+F10-E10 -> 5.7
D11: SBVB | E11: 525.6 | F11: 525.6 | G11: 529 | H11: 531 | I11: 2.3.3.4. 2.3.3.7. | J11: Organizuotų ir vykdytų sveikatinimo veiklų skaičius / sveikatinimo veiklose dalyvavusių asmenų skaičius, tūkst. | K11: >2000 / >14,5 | L11: >2000 / >14,5 | M11: >2000 / >14,5 | N11: >2000 / >14,5 | P11: =+F11-E11 -> 0
B12: 002-01-01-03 (PP) | C12: Projekto „Kokybiškų visuomenės sveikatos paslaugų prieinamumo didinimas Kėdainių rajone„ įgyvendinimas | D12: SB | E12: 35.3 | F12: 35.3 | G12: 26.5 | H12: 26.5 | I12: 2.3.3.3. | J12: Asmenų, dalyvavusių sveikatos raštingumo didinimo veiklose, skaičius | K12: ~220 | L12: ~220 | M12: ~220 | N12: ~220 | P12: =+F12-E12 -> 0
D13: ES | E13: 150 | F13: 150 | G13: 150 | H13: 150 | P13: =+F13-E13 -> 0
B14: 002-01-01-04 (TP) | C14: Sveikatos priežiūros paslaugų teikimo pajėgumų stiprinimas, užtikrinant paslaugų kokybę, saugą ir prieinamumą | D14: SB | E14: 1342 | F14: 1342 | G14: 800 | H14: 800 | I14: 2.3.3.3. | J14: Sveikatos priežiūros paslaugų prieinamumo ir naudojimo rodiklis (apsilankymai pas gydytojus ir odontologus, tenkantis 100 gyventojų, palyginti su Lietuvos vidurkiu) | K14: didesnis už LT rodiklį | L14: didesnis už LT rodiklį | M14: didesnis už LT rodiklį | N14: didesnis už LT rodiklį | P14: =+F14-E14 -> 0
B15: 002-01-01-05 (PP) | C15: Projekto „Sveikatos priežiūros specialistų rengimas, pritraukimas Kėdainių rajono savivaldybėje“ įgyvendinimas | D15: ES | E15: 100 | F15: 100 | G15: 80 | H15: 80 | I15: 2.3.1.1. | J15: Asmenys, dalyvavę kvalifikacijos įgijimo veiklose | N15: Vertinama įgyvendinus projektą 2029 m. | P15: =+F15-E15 -> 0
D16: SB | E16: 2 | F16: 2 | G16: 0 | H16: 0 | P16: =+F16-E16 -> 0
D17: SBVB | E17: 15 | F17: 15 | G17: 12 | H17: 12 | P17: =+F17-E17 -> 0
B18: 002-01-01-06 (TP) | C18: Vaikų, turinčių autizmo spektro ir kitų raidos sutrikimų, sveikatos stiprinimas, galimybių siekti asmeninės pažangos, visaverčio socialinio dalyvavimo prielaidų užtikrinimas | D18: SB | E18: 15 | F18: 10 | G18: 15 | H18: 15 | I18: 2.4.2. | J18: Finansuotų projektų skaičius | K18: 3 | L18: 2 | M18: 3 | N18: 3 | O18: Tikslinami 2026 m. duomenys pagal sudarytas ir pasirašytas sutartis po konkurso | P18: =+F18-E18 -> -5
B19: 002-01-01-07 (TP) | C19: Gydytojų rezidentų praktinio mokymo modelio įgyvendinimas VšĮ Kėdainių ligoninėje ir VšĮ Pirminiame sveikatos priežiūros centre | D19: SBVB | E19: 0 | F19: 57.3 | G19: 0 | H19: 0 | I19: 2.3.3.3. | J19: Rezidentūros bazių, kuriose gydytojai rezidentai atliks profesinės veiklos praktiką ir bus įdarbinti gydytojais rezidentais, skaičius | L19: 2 | O19: Įtraukiama nauja priemonė. Skirta tikslinė dotacija. | P19: =+F19-E19 -> 57.3
B20: 002-01-01-08 (PP) | C20: Dalyvavimas projekte „Antimikrobinio atsparumo valdymo plėtojimas" | D20: SBVB | E20: 0 | F20: 26.7 | G20: 0 | H20: 0 | I20: 2.3.3.3. | J20: Asmens sveikatos priežiūros įstaigų, kuriose integruotas antimikrobinio atsparumo valdymo modelis, skaičius / taikomų bandomųjų modelių skaičius | L20: 1/2 | O20: Įtraukiama nauja priemonė. Skirta tikslinė dotacija | P20: =+F20-E20 -> 26.7
B21: 02-01-02 (T, P) | C21: Modernizuoti ir atnaujinti sveikatos priežiūros įstaigų infrastruktūrą sveikatos gerinimo poreikiams | E21: =SUM(E22:E29) -> 2059 | F21: =SUM(F22:F29) -> 1959 | G21: =SUM(G22:G29) -> 3117 | H21: =SUM(H22:H29) -> 1652.4 | J21: Modernizuotos sveikatos priežiūros infrastruktūros naudotojų skaičius, (tūkst.) | K21: ~40 | L21: ~40 | M21: ~40 | N21: ~40 | P21: =+F21-E21 -> -100
B22: 002-01-02-01 (PP) | C22: Projekto „Sveikatos centro sudėtyje teikiamų sveikatos priežiūros paslaugų infrastruktūros modernizavimas Kėdainių rajono savivaldybėje“ įgyvendinimas | D22: ES | E22: 654 | F22: 654 | G22: 0 | H22: 0 | I22: 2.3.1.1. | J22: Naujos arba modernizuotos sveikatos priežiūros infrastruktūros naudotojų skaičius per metus | N22: Vertinama įgyvendinus projektą 2029 m. | P22: =+F22-E22 -> 0
D23: SB | E23: 500 | F23: 500 | G23: 1440 | H23: 0 | P23: =+F23-E23 -> 0
D24: SBVB | E24: 116 | F24: 116 | G24: 0 | H24: 0 | P24: =+F24-E24 -> 0
D25: KT (PR) | E25: 112 | F25: 112 | G25: 0 | H25: 0 | P25: =+F25-E25 -> 0
B26: 002-01-02-02 (PP) | C26: Projekto „Ilgalaikės priežiūros paslaugų plėtojimo užtikrinimas“ įgyvendinimas | D26: SB | E26: 75 | F26: 25 | G26: 225 | H26: =225+50 -> 275 | I26: 2.3.1.1. | J26: Naujos arba modernizuotos sveikatos priežiūros infrastruktūros naudotojų skaičius per metus | N26: Vertinama įgyvendinus projektą 2029 m. | O26: Lėšos patikslintos, vadovaujantis gegužės mėn. biudžeto pakeitimu ir atsižvelgiant į projekto veiklų įgyvendinimą (vykdomas projektavimas, klinikos perka įrangą, priemones) | P26: =+F26-E26 -> -50
D27: ES | E27: 425 | F27: =425-50 -> 375 | G27: 1275 | H27: =1275+50 -> 1325 | P27: =+F27-E27 -> -50
B28: 002-01-02-03 (PP) | C28: Projekto „Sveikatos centro veiklos modelio diegimas Kėdainių rajono savivaldybėje“ įgyvendinimas | D28: ES | E28: 150 | F28: 150 | G28: 150 | H28: 45.4 | I28: 2.3.1.1. | J28: Paramą gavusių nacionalinio, regionų ar vietos lygmens viešojo administravimo ar viešąsias paslaugas teikiančių įstaigų skaičius | N28: Vertinama įgyvendinus projektą 2029 m. | P28: =+F28-E28 -> 0
D29: SBVB | E29: 27 | F29: 27 | G29: 27 | H29: 7 | P29: =+F29-E29 -> 0
B30: 002-01-03 (T) | C30: Organizuoti Lietuvos Respublikos teisės aktuose numatytos paramos bei paslaugų asmenims ir šeimoms teikimą, skatinti socialinę integraciją | E30: =SUM(E31:E49) -> 31799.9 | F30: =SUM(F31:F49) -> 31276.2 | G30: =SUM(G31:G49) -> 32416.9 | H30: =SUM(H31:H49) -> 33022.9 | J30: Procentas besikreipiančių asmenų ir šeimų, kurie atitikę paramos/paslaugų gavimo sąlygas, gavo reikiamą paramą / paslaugas pagal nustatytus teisės aktus, proc. | K30: 100 | L30: 100 | M30: 100 | N30: 100 | P30: =+F30-E30 -> -523.7
B31: 002-01-03-01 (TP) | C31: Socialinių išmokų bei kompensacijų (būsto šildymo, šalto bei karšto vandens), paramos mirties atveju teikimas ir administravimas | D31: SBVB | E31: 487.3 | F31: 487.3 | G31: 490 | H31: 490 | I31: 2.4.2.; 2.4.3. | J31: Asmenų, gaunančių socialinę pašalpą ir kompensacijas, skaičius | K31: 12250 | L31: 12250 | M31: 12250 | N31: 12250 | P31: =+F31-E31 -> 0
D32: SB | E32: 4257.7 | F32: 4257.7 | G32: 4300 | H32: 4300 | P32: =+F32-E32 -> 0
B33: 002-01-03-02 (TP) | C33: Išlaidų už įsigytus produktus, mokinio reikmenis finansavimas, socialinės paramos mokiniams administravimas | D33: SBVB | E33: 1345.8 | F33: =1345.8-56.3 -> 1289.5 | G33: 1376 | H33: 1378 | I33: 2.4.2.; 2.4.3. | J33: Mokinių, gaunančių nemokamą maitinimą, skaičius | K33: 2047 | L33: 2047 | M33: 2014 | N33: 2006 | P33: =+F33-E33 -> -56.3
J34: Mokinių, gaunančių būtiniausius mokinio reikmenis, skaičius | K34: 1320 | L34: 1320 | M34: 1208 | N34: 1203 | O34: Tikslinama dotacija, vadovaujantis SADM ministro įsakymu | P34: =+F34-E34 -> 0
B35: 002-01-03-03 (TP) | C35: Nemokamo socialiai remtinų vaikų maitinimo ikimokyklinėse įstaigose organizavimas | D35: SB | E35: 110 | F35: 110 | G35: 110 | H35: 110 | I35: 2.4.2.; 2.4.3. | J35: Vaikų, gaunančių nemokamą maitinimą, skaičius | K35: 450 | L35: 450 | M35: 450 | N35: 450 | P35: =+F35-E35 -> 0
B36: 002-01-03-04 (TP) | C36: Nemokamo mokinių maitinimo kainos bendrojo ugdymo mokyklose kompensavimas | D36: SB | E36: 275.3 | F36: 275.3 | G36: 300 | H36: 300 | I36: 2.4.2.; 2.4.3. | J36: Mokinių, gaunančių nemokamą maitinimą, skaičius | K36: 2047 | L36: 2047 | M36: 2014 | N36: 2006 | P36: =+F36-E36 -> 0
B37: 002-01-03-05 (TP) | C37: Kelionės išlaidų už lengvatinį keleivių vežimą kompensavimas | D37: SB | E37: 835 | F37: 835 | G37: 835 | H37: 835 | I37: 2.4.2.; 2.4.3. | J37: Parduotų su nuolaida bilietų skaičius (tūkst.) | K37: ~1000 | L37: ~1000 | M37: ~1000 | N37: ~1000 | P37: =+F37-E37 -> 0
B38: 002-01-03-06 (TP) | C38: Lietuvos Respublikos piniginės socialinės paramos nepasiturintiems gyventojams įstatymo įgyvendinimo užtikrinimas | D38: SBVB | E38: 1450 | F38: 890.3 | G38: 1550 | H38: 1550 | I38: 2.4.2.; 2.4.3. | J38: Paramos teikimo nepasiturintiems asmenims užtikrinimas, proc. | K38: 100 | L38: 100 | M38: 100 | N38: 100 | O38: Tikslinama dotacija, vadovaujantis SADM ministro įsakymu | P38: =+F38-E38 -> -559.7
B39: 002-01-03-07 (TP) | C39: Kompensacijų nepriklausomybės gynėjams mokėjimas bei išmokų ginkluoto pasipriešinimo dalyviams apmokėjimas | D39: SBVB | E39: 7.7 | F39: 7.7 | G39: 8 | H39: 8 | I39: 2.4.2.; 2.4.3. | J39: Asmenų, gavusių kompensacijas, skaičius | K39: 13 | L39: 13 | M39: 13 | N39: 13 | P39: =+F39-E39 -> 0
B40: 002-01-03-08 (TP) | C40: Būsto nuomos ar išperkamosios būsto nuomos mokesčių dalies kompensavimas | D40: SBVB | E40: 39 | F40: 37 | G40: 39 | H40: 39 | I40: 2.4.2.; 2.4.3. | J40: Patenkintų prašymų gauti būsto nuomos ar išperkamosios būsto nuomos mokesčių dalies kompensaciją, skaičius iš bendro pateikusių prašymus asmenų skaičiaus (proc.) | K40: 100 | L40: 100 | M40: 100 | N40: 100 | O40: Tikslinama dotacija, vadovaujantis SADM ministro įsakymu | P40: =+F40-E40 -> -2
B41: 002-01-03-09 (TP) | C41: Individualios pagalbos teikimo išlaidų kompensacijų teikimas ir administravimas | D41: SBVB | E41: 6405.5 | F41: 6405.5 | G41: 6750 | H41: 7200 | I41: 2.4.2.; 2.4.3. | J41: Asmenų, gaunančių individualios pagalbos teikimo išlaidų kompensacijas, skaičius | K41: 2300 | L41: 2300 | M41: 2400 | N41: 2500 | P41: =+F41-E41 -> 0
D42: SBVB | E42: 0 | F42: 0 | G42: 0 | H42: 0 | P42: =+F42-E42 -> 0
B43: 002-01-03-10 (TP) | C43: Išmokų vaikams teikimas ir administravimas | D43: SBVB | E43: 16333.7 | F43: 16333.7 | G43: 16400 | H43: 16550 | I43: 2.4.2.; 2.4.3. | J43: Asmenų, gaunančių išmokas vaikams, skaičius | K43: 8100 | L43: 8100 | M43: 8050 | N43: 8000 | P43: =+F43-E43 -> 0
B44: 002-01-03-11 (TP) | C44: Neveiksniais pripažintų asmenų būklės peržiūrėjimas | D44: SBVB | E44: 1 | F44: 1 | G44: 1 | H44: 1 | I44: 2.4.3. | J44: Asmenų, kurių neveiksnumas peržiūrėtas, skaičius | K44: 74 | L44: 74 | M44: 76 | N44: 76 | P44: =+F44-E44 -> 0
B45: 002-01-03-12 (TP) | C45: Lietuvos Respublikos teisės aktuose numatytos paramos teikimas užsieniečiams, pasitraukusiems iš Ukrainos dėl Rusijos Federacijos karinių veiksmų Ukrainoje | D45: SBVB | E45: 0 | F45: 94.3 | G45: 0 | H45: 0 | I45: 2.4.3. | L45: 100 | O45: Skirta tikslinė dotacija, vadovaujantis SADM ministro įsakymu | P45: =+F45-E45 -> 94.3
B46: 002-01-03-13 (TP) | C46: Užsienio kilmės Lietuvos gyventojų integracijos koordinavimas | D46: ES | E46: 32 | F46: 32 | G46: 35 | H46: 37 | I46: 2.4.3. | J46: Koordinatoriaus funkcijų vykdymas, proc. | K46: 100 | L46: 100 | M46: 100 | N46: 100 | P46: =+F46-E46 -> 0
B47: 002-01-03-14 (PP) | C47: Projekto „ Integracijos tiltai: Paslaugų teikimas užsienio kilmės Lietuvos gyventojams Kėdainių rajone“ įgyvendinimas | D47: ES | E47: 32 | F47: 32 | G47: 35 | H47: 37 | I47: 2.4.3. | J47: Į veiklas įtrauktų asmenų skaičius | K47: 139 | L47: 139 | M47: 139 | N47: 139 | P47: =+F47-E47 -> 0
B48: 002-01-03-15 (TP) | C48: Kėdainių rajono savivaldybės užimtumo didinimo programos įgyvendinimas | D48: SBVB | E48: 121.8 | F48: 121.8 | G48: 121.8 | H48: 121.8 | I48: 2.4.2. | J48: Pasibaigus užimtumo didinimo programoms po 6 mėnesių dirbs arba vykdys savarankišką veiklą asmenų dalis iš užimtumo didinimo programų dalyvių skaičiaus (procentai) | K48: 15 | L48: 15 | M48: 15 | N48: 15 | P48: =+F48-E48 -> 0
D49: SB | E49: 66.1 | F49: 66.1 | G49: 66.1 | H49: 66.1 | P49: =+F49-E49 -> 0
B50: 002-01-04 (T) | C50: Gerinti socialinę aplinką ir didinti socialinės paramos įvairovę | E50: =SUM(E51:E57) -> 858.4 | F50: =SUM(F51:F57) -> 858.4 | G50: =SUM(G51:G57) -> 908.5 | H50: =SUM(H51:H57) -> 958.5 | J50: Savivaldybės biudžeto dalis, skirta socialinėms paslaugoms ir išmokoms, kaip procentinė dalis nuo bendros sumos, skiriamos socialinėms paslaugoms ir išmokoms, proc. | K50: 33,4 | L50: 33,4 | M50: 33,9 | N50: 33,9 | P50: =+F50-E50 -> 0
B51: 002-01-04-01 (TP) | C51: Savivaldybės finansinė parama pirmąjį būstą įsigyjančioms jaunoms šeimoms | D51: SB | E51: 150 | F51: 150 | G51: 200 | H51: 250 | I51: 2.4.3. | J51: Patenkintų prašymų, gauti finansinę paramą pirmajam būstui įsigyti, proc. | K51: 100 | L51: 100 | M51: 100 | N51: 100 | P51: =+F51-E51 -> 0
B52: 002-01-04-02 (TP) | C52: Kainų skirtumo gyventojams už šildymą kompensavimas | D52: SB | E52: 70 | F52: 70 | G52: 70 | H52: 70 | I52: 2.4.3. | J52: Kompensacijų teikimo, jų gavėjams užtikrinimas, proc. | K52: 100 | L52: 100 | M52: 100 | N52: 100 | P52: =+F52-E52 -> 0
B53: 002-01-04-03 (TP) | C53: Karšto ir šalto vandens pardavimo kainos socialiai remtiniems asmenims kompensavimas | D53: SB | E53: 140 | F53: 140 | G53: 140 | H53: 140 | I53: 2.4.3. | J53: Kompensacijų teikimo, jų gavėjams užtikrinimas, proc. | K53: 100 | L53: 100 | M53: 100 | N53: 100 | P53: =+F53-E53 -> 0
B54: 002-01-04-04 (TP) | C54: Vienkartinė išmoka gimus vaikui Lietuvos Respublikos teritorijoje ir gyvenančiam Kėdainių rajono savivaldybėje | D54: SB | E54: 40 | F54: 40 | G54: 40 | H54: 40 | I54: 2.4.3. | J54: Asmenų, gaunančių kompensaciją, skaičius | K54: ~200 | L54: ~200 | M54: ~200 | N54: ~200 | P54: =+F54-E54 -> 0
B55: 002-01-04-05 (TP) | C55: Pagalbos pinigai globėjams, globojantiems vaikus | D55: SB | E55: 400 | F55: 400 | G55: 400 | H55: 400 | I55: 2.4.4.5 | J55: Globojamų vaikų skaičius | K55: 140 | L55: 140 | M55: 140 | N55: 140 | P55: =+F55-E55 -> 0
B56: 002-01-04-06 (TP) | C56: Materialinio nepritekliaus mažinimo programos Lietuvoje įgyvendinimas | D56: ES | E56: 17.5 | F56: 17.5 | G56: 17.5 | H56: 17.5 | I56: 2.4.2.4. | J56: Paramos gavėjų skaičius | K56: 5800 | L56: 5800 | M56: 5800 | N56: 5800 | P56: =+F56-E56 -> 0
B57: 002-01-04-07 (TP) | C57: Socialinių įstaigų darbuotojų važiavimo į/iš darbo išlaidų kompensavimas | D57: SB | E57: 40.9 | F57: 40.9 | G57: 41 | H57: 41 | I57: 2.4.3. | J57: Socialinių įstaigų darbuotojų, gyvenančių 10 ir daugiau kilometrų nuo darbo vietos, kuriems kompensuojamos kelionės išlaidos, dalis (proc.) | K57: 100 | L57: 100 | M57: 100 | N57: 100 | P57: =+F57-E57 -> 0
B58: 002-01-05 (T, P) | C58: Užtikrinti ir gerinti socialines paslaugas, teikiamas institucijose, namuose ir bendruomenėje asmenims su negalia bei senyvo amžiaus asmenims | E58: =SUM(E59:E75) -> 11222.9 | F58: =SUM(F59:F75) -> 11236.3 | G58: =SUM(G59:G75) -> 11929.3 | H58: =SUM(H59:H75) -> 12582.3 | J58: Socialinių paslaugų teikimo pradžios terminas ne ilgesnis nei nurodytas teisės aktuose | K58: ≤ 6 mėn. | L58: ≤ 6 mėn. | M58: ≤ 6 mėn. | N58: ≤ 6 mėn. | P58: =+F58-E58 -> 13.4
B59: 002-01-05-01 (TP) | C59: Socialines paslaugas teikiančių įstaigų ir organizacijų veiklos bei teikiamų socialinių paslaugų teikimo užtikrinimas | D59: SB | E59: =4902.3-40.9-30.2 -> 4831.2 | F59: =4831.2+36.4 -> 4867.6 | G59: 5100 | H59: 5500 | I59: 2.4.2. | J59: Socialinių paslaugų išsivystymo normatyvų užtikrinimas, proc. | K59: 100 | L59: 100 | M59: 100 | N59: 100 | O59: Tikslinamos lėšos, susijusios su Šėtos socialinio ir ugdymo centro funkcijų pakeitimu ir jo tapimu Šėtos socialinės globos namais | P59: =+F59-E59 -> 36.4
D60: SBVB | E60: 254.8 | F60: =254.8-3.4 -> 251.4 | G60: 275 | H60: 275 | P60: =+F60-E60 -> -3.4
D61: ĮP | E61: 2045.1 | F61: 2045.1 | G61: 2050 | H61: 2050 | P61: =+F61-E61 -> 0
B62: 002-01-05-02 (TP) | C62: Socialinės globos ir akredituotos socialinės priežiūros paslaugų teikimo finansavimas ne savivaldybės pavaldumo įstaigose, taip pat įstaigose, kurių dalininkė yra savivaldybė, ir nevyriausybinėse organizacijose | D62: SB | E62: 1420 | F62: 1420 | G62: 1700 | H62: 2050 | I62: 2.4.2. | J62: Asmenų, kuriems finansuotos socialinės paslaugos, skaičius | K62: 250 | L62: 250 | M62: 260 | N62: 265 | P62: =+F62-E62 -> 0
B63: 002-01-05-03 (PP) | C63: Integralios pagalbos teikimas ir plėtra Kėdainių rajono savivaldybėje (ES projektas) | D63: ES | E63: 215 | F63: 215 | G63: 0 | H63: 0 | I63: 2.4.2. | J63: Paslaugas gavusių asmenų skaičius | K63: 50 | L63: 50 | P63: =+F63-E63 -> 0
D64: SBVB | E64: 55 | F64: 55 | G64: 0 | H64: 0 | P64: =+F64-E64 -> 0
B65: 002-01-05-04 (TP) | C65: Socialinės reabilitacijos paslaugų asmenims su negalia bendruomenėje organizavimas | D65: SBVB | E65: 78.7 | F65: 79.5 | G65: 82.6 | H65: 82.6 | I65: 2.4.2. | J65: Asmenų su negalia, gavusių paslaugas, skaičius | K65: 175 | L65: 175 | M65: 175 | N65: 175 | O65: Tikslinama dotacija, vadovaujantis SADM ministro įsakymu | P65: =+F65-E65 -> 0.8
D66: SB | E66: 123.3 | F66: 123.3 | G66: 123.3 | H66: 123.3 | P66: =+F66-E66 -> 0
B67: 002-01-05-05 (TP) | C67: Socialinių dirbtuvių paslaugos organizavimas | D67: SB | E67: 48 | F67: 48 | G67: 48 | H67: 48 | I67: 2.4.2. | J67: Paslaugų gavėjų skaičius | K67: 12 | L67: 12 | M67: 12 | N67: 12 | P67: =+F67-E67 -> 0
B68: 002-01-05-06 (PP) | C68: Projekto „Asmenų su intelekto ir (ar) psichikos negalia institucinės globos pertvarkos įgyvendinimas Kėdainių rajono savivaldybėje, įsteigiant socialines dirbtuves“ įgyvendinimas | D68: SB | E68: 7.5 | F68: 7.5 | G68: 52.5 | H68: 37.5 | I68: 2.4.2. | J68: Paslaugų gavėjų skaičius | N68: Vertinama įgyvendinus projektą 2029 m. | P68: =+F68-E68 -> 0
D69: ES | E69: 42.5 | F69: 42.5 | G69: 297.5 | H69: 212.5 | P69: =+F69-E69 -> 0
B70: 002-01-05-07 (TP) | C70: Socialinės globos asmenims su sunkia negalia teikimas | D70: SBVB | E70: 1900 | F70: 1900 | G70: 2000 | H70: 2000 | I70: 2.4.2. | J70: Globojamų asmenų skaičius/globojamų asmenų, kuriems teikiamos paslaugos, procentas, palyginus su visais asmenimis, kuriems nustatytas paslaugos poreikis | K70: ~260/98,5 | L70: ~260/98,5 | M70: ~260/99 | N70: ~260/99 | P70: =+F70-E70 -> 0
B71: 002-01-05-08 (TP) | C71: Asmeninės pagalbos teikimas ir administravimas | D71: SBVB | E71: 88.4 | F71: 68 | G71: 85 | H71: 85 | I71: 2.4.2 | J71: Asmenų, gaunančių išmokas, skaičius | K71: 17 | L71: 13 | M71: 17 | N71: 17 | O71: Tikslinama dotacija, vadovaujantis SADM ministro įsakymu | P71: =+F71-E71 -> -20.4
B72: 002-01-05-09 (TP) | C72: Asmenų su negalia reikalų koordinavimas | D72: SBVB | E72: 24.4 | F72: 24.4 | G72: 24.4 | H72: 24.4 | I72: 2.4.2 | J72: Asmenų su negalia klausimų koordinavimo funkcijos vykdymas, proc. | K72: 100 | L72: 100 | M72: 100 | N72: 100 | P72: =+F72-E72 -> 0
B73: 002-01-05-10 (TP) | C73: Intelekto ir (ar) psichikos negalią turinčių asmenų atvejo vadybos paslaugų teikimas | D73: ES | E73: 30 | F73: 30 | G73: 32 | H73: 35 | I73: 2.4.2 | J73: Asmenų, kuriems vienu metu teikiamos atvejo vadybos paslaugos, skaičius | K73: 20 | L73: 20 | M73: 20 | N73: 20 | P73: =+F73-E73 -> 0
B74: 002-01-05-11 (TP) | C74: Laikino atokvėpio paslaugos teikimas ir administravimas | D74: SBVB | E74: 56 | F74: 56 | G74: 56 | H74: 56 | I74: 2.4.2 2.4.3. | J74: Paslaugos teikimo užtikrinimas, asmenims, kuriems nustatytas poreikis, proc. | K74: 100 | L74: 100 | M74: 100 | N74: 100 | P74: =+F74-E74 -> 0
D75: SB | E75: 3 | F75: 3 | G75: 3 | H75: 3 | P75: =+F75-E75 -> 0
B76: 002-01-06 (T) | C76: Užtikrinti ir gerinti stacionarias ir nestacionarias socialines paslaugas socialinę riziką patiriančioms šeimoms, asmenims ir vaikams | E76: =SUM(E77:E83) -> 1650.8 | F76: =SUM(F77:F83) -> 1650.8 | G76: =SUM(G77:G83) -> 1672.2 | H76: =SUM(H77:H83) -> 1675.2 | J76: Stacionarių ir nestacionarių socialinių paslaugų teikimo pradžios terminas ne ilgesnis nei nurodytas teisės aktuose | K76: ≤ 6 mėn. | L76: ≤ 6 mėn. | M76: ≤ 6 mėn. | N76: ≤ 6 mėn. | P76: =+F76-E76 -> 0
B77: 002-01-06-01 (TP) | C77: Kompleksinės pagalbos šeimoms ir asmenims teikimas | D77: SBVB | E77: 26.4 | F77: 26.4 | G77: 29 | H77: 29 | I77: 2.4.4.2. | J77: Bendruomeninių šeimos namų darbuotojų pareigybių skaičius | K77: 1 | L77: 1 | M77: 1 | N77: 1 | P77: =+F77-E77 -> 0
D78: ES | E78: 100 | F78: 100 | G78: 100 | H78: 100 | P78: =+F78-E78 -> 0
B79: 002-01-06-02 (TP) | C79: Globos šeimoje skatinimas, pagalbos globėjams ir vaikams teikimas | D79: KT (ES) | E79: 105 | F79: 105 | G79: 105 | H79: 105 | J79: Asmenų, kuriems suteiktos paslaugos, skaičius | K79: 160 | L79: 160 | M79: 160 | N79: 160 | P79: =+F79-E79 -> 0
D80: SB | E80: 30.2 | F80: 30.2 | G80: 30.2 | H80: 30.2 | I80: 2.4.4.1. | P80: =+F80-E80 -> 0
B81: 002-01-06-03 (TP) | C81: Vaikų dienos socialinės priežiūros paslaugų finansavimas vaikų dienos centruose | D81: SB | E81: 348.3 | F81: 348.3 | G81: 366 | H81: 366 | I81: 2.4.2.9. | J81: Finansuotų vaikų dienos centrų skaičius/veiklose dalyvavusių vaikų, jaunuolių skaičius | K81: 10/195 | L81: 10/195 | M81: 10/195 | N81: 10/195 | P81: =+F81-E81 -> 0
D82: SBVB | E82: 189.4 | F82: 189.4 | G82: 190 | H82: 195 | P82: =+F82-E82 -> 0
B83: 002-01-06-04 (TP) | C83: Socialinės priežiūros šeimoms, patiriančioms socialinę riziką, teikimas | D83: SBVB | E83: 851.5 | F83: 851.5 | G83: 852 | H83: 850 | I83: 2.4.2.7. | J83: Socialinių darbuotojų ir atvejo vadybininkų darbui su šeimomis, patiriančiomis socialinę riziką, skaičius/šeimų, kurioms teikiamos paslaugos, procentas, palyginus su visomis šeimomis, kurioms nustatytas paslaugos poreikis | K83: 26/100 | L83: 26/100 | M83: 26/100 | N83: 26/100 | P83: =+F83-E83 -> 0
B84: 002-01-07 (T) | C84: Užtikrinti gyventojų socialinį bei viešąjį saugumą | E84: =SUM(E85:E102) -> 2172.7 | F84: =SUM(F85:F102) -> 2225.5 | G84: =SUM(G85:G102) -> 2632.1 | H84: =SUM(H85:H102) -> 2489.1 | J84: Specializuotos kompleksinės pagalbos teikimas smurtą artimoje aplinkoje patyrusiems asmenims (asm. skaičius) | K84: ~360 | L84: ~360 | M84: ~380 | N84: ~380 | P84: =+F84-E84 -> 52.8
B85: 002-01-07-01 (TP) | C85: Smurto artimoje aplinkoje bei krizių įveikimo prevencija, pagalba socialiai pažeidžiamiems asmenims | D85: SB | E85: 56 | F85: =56-7 -> 49 | G85: 56 | H85: 56 | I85: 2.4.2. | J85: Asmenų, kuriems suteikta krizių įveikimo, konsultacinė pagalba | K85: ~120 | L85: ~120 | M85: ~120 | N85: ~120 | O85: Lėšos tikslinamos pagal sudarytas ir pasirašytas sutartis po konkurso | P85: =+F85-E85 -> -7
B86: 002-01-07-02 (TP) | C86: Saugios aplinkos kūrimas ir bendruomenės viešosios tvarkos užtikrinimas | D86: SB | E86: 12 | F86: 12 | G86: 12 | H86: 12 | I86: 4.2.2.3. 4.2.2.7. | J86: Įgyvendintų prevencinių priemonių skaičius | K86: 12 | L86: 12 | M86: 12 | N86: 12 | P86: =+F86-E86 -> 0
B87: 002-01-07-03 (TP) | C87: Jaunuolių skatinimas pasirinkti policijos pareigūno profesiją | D87: SB | E87: 17 | F87: 17 | G87: 17 | H87: 17 | I87: 4.2.2.3. | J87: Paskatintų jaunuolių skaičius | K87: 2/3 | L87: 2/3 | M87: 2/3 | N87: 2/3 | P87: =+F87-E87 -> 0
B88: 002-01-07-04 (TP) | C88: Savivaldybės priešgaisrinės tarnybos veiklos užtikrinimas, infrastruktūros modernizavimas | D88: SB | E88: 90 | F88: 90 | G88: 95 | H88: 100 | I88: 4.2.1.2. | J88: Savanorių ugniagesių veikloje dalyvaujančių gyventojų skaičius | K88: 27 | L88: 27 | M88: 27 | N88: 27 | O88: Lėšos patikslintos, vadovaujantis gegužės mėn. biudžeto pakeitimu | P88: =+F88-E88 -> 0
D89: SBVB | E89: 1578 | F89: =1578+27 -> 1605 | G89: 1580 | H89: 1590 | I89: 4.2.2.7. | P89: =+F89-E89 -> 27
D90: ĮP | E90: 1 | F90: 1.6 | G90: 1.6 | H90: 1.6 | P90: =+F90-E90 -> 0.6
B91: 002-01-07-05 (TP) | C91: Gyventojų civilinio saugumo užtikrinimas | D91: SBVB | E91: 53.2 | F91: 53.2 | G91: 55 | H91: 57 | I91: 4.2.1.4. 4.2.1.5. 4.2.1.6. 4.2.1.7. | J91: Įgyvendintų ekstremaliųjų situacijų prevencijos priemonių plano vykdymo procentas | K91: 100 | L91: 100 | M91: 100 | N91: 100 | O91: Didinamos SB lėšos pagal poreikį sirenų išplėtimui kaimiškosiose seniūnijose (Pagiriai, Lančiūnava, Surviliškis) | P91: =+F91-E91 -> 0
D92: SB | E92: 70 | F92: 99.6 | G92: 100 | H92: 100 | P92: =+F92-E92 -> 29.6
B93: 002-01-07-06 (TP) | C93: Dalyvavimas rengiant ir vykdant mobilizaciją, demobilizaciją, priimančiosios šalies paramą | D93: SBVB | E93: 71 | F93: =71+2.6 -> 73.6 | G93: 71 | H93: 71 | I93: 4.2.2.5. | J93: Įvykdytų savivaldybės mobilizacijos plano priemonių dalis, proc. | K93: 100 | L93: 100 | M93: 100 | N93: 100 | O93: Lėšos patikslintos, vadovaujantis gegužės mėn. biudžeto pakeitimu | P93: =+F93-E93 -> 2.6
D94: SB | E94: 17.5 | F94: 17.5 | G94: 17.5 | H94: 17.5 | J94: Pilietiškumo, pilietinio atsparumo ir kt. mokymuose dalyvaujančiųjų skaičius | K94: ~400 | L94: ~400 | M94: ~400 | N94: ~400 | P94: =+F94-E94 -> 0
B95: 002-01-07-07 (PP) | C95: Projekto „Priedangų infrastruktūros plėtra Kėdainių rajono savivaldybėje“ įgyvendinimas (I ir II etapai) | D95: SBVB | E95: 90 | F95: 90 | G95: 200 | H95: 0 | J95: Patalpų, pritaikytų priedangoms, skaičius | K95: 5 | L95: 6 | M95: 5 | O95: Įtraukiamas projekto II etapas ir suplanuojamos lėšos jo įgyvendinimui 2027 m.(planuojama įrengti dar 5 patalpas, pritaikytas priedangoms). 2026 m. tikslinama rodiklio reikšmė, nes papildomai bus įrengta patalpa Krakių gimnazijoje | P95: =+F95-E95 -> 0
B96: 002-01-07-08 (PP) | C96: Projekto „Pasirengimas evakuojamus gyventojus laikinai apgyvendinti kolektyvinės apsaugos statiniuose“ įgyvendinimas (I ir II etapai) | D96: SBVB | E96: 87 | F96: 87 | G96: 120 | H96: 0 | I96: 2.4.3.1. | J96: Statinių, pritaikytų kolektyvinei apsaugai, skaičius | K96: 4 | L96: 4 | M96: 2 | O96: Įtraukiamas projekto II etapas ir suplanuojamos lėšos jo įgyvendinimui 2027 m.(planuojama įsigyti reikalingos įrangos 2 įstaigoms) | P96: =+F96-E96 -> 0
B97: 002-01-07-09 (TP) | C97: Daugiabučių namų patalpų pritaikymas minimaliems priedangų reikalavimams | D97: SB | E97: 30 | F97: 30 | G97: 40 | H97: 50 | I97: 2.4.3.1. | J97: Pritaikytų daugiabučių namų minimaliems priedangų reikalavimams skaičius | K97: 6 | L97: 6 | M97: 8 | N97: 10 | P97: =+F97-E97 -> 0
B98: 002-01-07-10 (PP) | C98: Projekto „Priedangų modernizavimas, didinant jų atsparumą ir pritaikymą riboto judumo asmenims“ įgyvendinimas | D98: SB | E98: 0 | F98: 0 | G98: 3 | H98: 10 | I98: 2.4.3.1. | J98: Modernizuotų priedangų skaičius /įrengtų daugiafunkcių priedangų talpumas, asmenys | N98: Rodiklis bus pasiektas 2029 m. | O98: Įtraukiama nauja priemonė, naujas projektas 2027/2029 m. Planuojama projekto vertė ~1,6 mln. Eur. Planuojamu atnaujinti priedangų -5, asmenų talpumas -1108 | P98: =+F98-E98 -> 0
D99: ES | E99: 0 | F99: 0 | G99: 47 | H99: 190 | P99: =+F99-E99 -> 0
B100: 002-01-07-11 (PP) | C100: Projekto „Geriamojo vandens tiekimo infrastruktūros saugumo didinimas Kėdainių rajono savivaldybėje“ įgyvendinimas | D100: SB | E100: 0 | F100: 0 | G100: 6 | H100: 6 | I100: 2.4.3.1. | J100: Įdiegtos vandenviečių, viešųjų geriamojo vandens tiekėjų ir nuotekų tvarkytojų valdymo centrų apsaugos priemonės, jų skaičius | N100: Rodiklis bus pasiektas 2029 m. | O100: Nauja priemonė. Planuojama vertė ~ 1,5 mln. Eur. Kofinansavimas - 5 proc. Vandenviečių - 30. | P100: =+F100-E100 -> 0
D101: ES | E101: 0 | F101: 0 | G101: 205 | H101: 205 | P101: =+F101-E101 -> 0
D102: KT | E102: 0 | F102: 0 | G102: 6 | H102: 6 | P102: =+F102-E102 -> 0
B103: 002-01-08 (T, P) | C103: Modernizuoti socialines paslaugas teikiančių įstaigų ir socialinio būsto infrastruktūrą, didinant gyventojų socialinę gerovę | E103: =SUM(E104:E118) -> 1783.6 | F103: =SUM(F104:F118) -> 1783.6 | G103: =SUM(G104:G118) -> 1889 | H103: =SUM(H104:H118) -> 1873 | J103: Socialines paslaugas teikiančių įstaigų, socialinių būstų infrastruktūrinei gerovei skiriamų lėšų dalis, nuo bendrų išlaidų, skiriamų rajono infrastruktūrai gerinti (visi šaltiniai), proc. | K103: 7 | L103: 7 | M103: 7 | N103: 7 | P103: =+F103-E103 -> 0
...

Sheet 03 Darnios aplinkos
B1: IV SKYRIUS. 3.3 lentelė. 2026–2028 m. DARNIOS APLINKOS IR INFRASTRUKTŪROS PLĖTROS PROGRAMOS (03) programų uždaviniai, priemonės bei jų stebėsenos rodikliai, asignavimai ir kitos lėšos (tūkst. Eur)
B3: Programos uždavinio, priemonės kodas ir požymis | C3: Uždavinio, priemonės pavadinimas, finansavimo šaltiniai | E3: * 2026 m. asignavimai ir kitos lėšos | F3: PATIKSLINTI 2026 m. asignavimai ir kitos lėšos | G3: 2027 m. asignavimai ir kitos lėšos | H3: 2028 m. asignavimai ir kitos lėšos | I3: Strateginio plėtros plano priemonės kodas | J3: Stebėsenos rodiklio pavadinimas (matavimo vnt.) | K3: Siektinos stebėsenos rodiklių reikšmės | O3: Komentarai, pastabos | P3: 2026 m. +/-pokytis tūkst. Eur
K4: 2026 m. | L4: TIKSLINIMAS 2026 m | M4: 2027 m. | N4: 2028 m.
B6: 003-01-01 (T) | C6: Remti ir vykdyti aplinkos kokybės gerinimo, aplinkos monitoringo ir kitas aplinkos apsaugos iniciatyvas | E6: =SUM(E7:E11) -> 271.6 | F6: =SUM(F7:F11) -> 271.7 | G6: =SUM(G7:G11) -> 270 | H6: =SUM(H7:H11) -> 270 | J6: Kėdainių rajono savivaldybės vieta Lietuvos savivaldybių aplinkosaugos reitinge | K6: Reitingo 10-ke | L6: Reitingo 10-ke | M6: Reitingo 10-ke | N6: Reitingo 10-ke
B7: 003-01-01-01 (TP) | C7: Aplinkos kokybės gerinimas ir apsauga, visuomenės aplinkosauginis švietimas | D7: SB (AA) | E7: 146.9 | F7: 146.9 | G7: 145 | H7: 145 | I7: 3.3.2.7. | J7: Invazinių augalų augaviečių skaičiaus sumažėjimas Kėdainių r. sav., proc. | K7: 20 | L7: 20 | M7: 25 | N7: 30 | P7: =+F7-E7 -> 0 | XEZ7: =SUM(A7:XEY7) -> 583.8
D8: SBVB | E8: 14 | F8: 14.1 | G8: 14 | H8: 14 | P8: =+F8-E8 -> 0.1
B9: 003-01-01-02 (TP) | C9: Aplinkos monitoringas, oro, dirvožemio, požeminio ir paviršinio vandens nuotekų tyrimai | D9: SB (AA) | E9: 17 | F9: 17 | G9: 17 | H9: 17 | I9: 3.3.1.4. | J9: Pagal patvirtintą aplinkos monitoringo programą per pusmetį nustatytų teršalų koncentracijų verčių viršijimų dalis nuo visų atliktų tyrimų, proc. | K9: ne daugiau 5 | L9: ne daugiau 5 | M9: ne daugiau 5 | N9: ne daugiau 5 | P9: =+F9-E9 -> 0
B10: 003-01-01-03 (TP) | C10: Prevencinių priemonių, kuriomis siekiama išvengti medžiojamųjų gyvūnų daromos žalos miškui, įgyvendinimas | D10: SB (AA) | E10: 63.7 | F10: 63.7 | G10: 64 | H10: 64 | I10: 3.3.2.7 | J10: Per metus registruotų gyvūnų daromos žalos incidentų skaičiaus sumažėjimas, proc. | K10: 15 | L10: 15 | M10: 15 | N10: 15 | P10: =+F10-E10 -> 0
B11: 003-01-01-04 (TP) | C11: Individualių nuotekų valymo įrenginių kompensavimas gyventojams | D11: SB (AA) | E11: 30 | F11: 30 | G11: 30 | H11: 30 | I11: 3.2.1.1. | J11: Per metus patenkintų prašymų dalis, proc., nuo gautų prašymų skaičiaus | K11: daugiau nei 90 | L11: daugiau nei 90 | M11: daugiau nei 90 | N11: daugiau nei 90 | P11: =+F11-E11 -> 0
B12: 003-01-02 (T) | C12: Tobulinti atliekų tvarkymo bei aplinkos išsaugojimo sistemą, užtikrinti estetišką aplinką | E12: =SUM(E13:E19) -> 3422.1 | F12: =SUM(F13:F19) -> 3394.1 | G12: =SUM(G13:G19) -> 3750 | H12: =SUM(H13:H19) -> 4380 | J12: Surinktų ir sutvarkytų mišrių komunalinių atliekų kiekio sumažėjimas, t (tonomis)/metus | K12: ~30-40 | L12: ~30-40 | M12: ~30-40 | N12: ~30-40 | P12: =+F12-E12 -> -28
B13: 003-01-02-01 (TP) | C13: Atliekų tvarkymo sistemos organizavimas | D13: SB | E13: 2481.9 | F13: 2481.9 | G13: 2400 | H13: 2400 | I13: 3.3.1 | J13: Gautų skundų dėl nesklandaus komunalinių atliekų tvarkymo sistemos veikimo, skaičiaus mažėjimas (kasmet), proc. | K13: 2 | L13: 2 | M13: 2 | N13: 2 | P13: =+F13-E13 -> 0
D14: SB | E14: 450 | F14: 450 | G14: 450 | H14: 450 | P14: =+F14-E14 -> 0
B15: 003-01-02-02 (PP) | C15: Projekto „Rūšiuojamojo atliekų surinkimo skatinimas Kėdainių rajono savivaldybėje“ įgyvendinimas | D15: SB | E15: 10 | F15: 0 | G15: 80 | H15: 150 | I15: 3.3.1.2. | J15: Surenkamų rūšiuojamųjų komunalinių atliekų kiekių didėjimas, proc. | N15: Rodiklis bus pasiektas 2029 m. | O15: Projekto paraiškos teikėjas Kauno RAC. Partnerių - 4 savivaldybės. Derintos procedūros, rengtas investicinis projektas, pateikta paraiška, kuri šiuo metu yra vertinama. Išlaidų 2026 m. nebus patirta | P15: =+F15-E15 -> -10
D16: ES | E16: 60 | F16: 0 | G16: 400 | H16: 960 | P16: =+F16-E16 -> -60
B17: 003-01-02-03 (TP) | C17: Susidariusių atliekų surinkimas, transportavimas, tvarkymas, konteinerių, kompostavimo dėžių įsigijimas | D17: SB | E17: 264.2 | F17: 264.2 | G17: 270 | H17: 270 | I17: 3.3.1.2. | J17: Komunalinių atliekų tvarkymo sistemos įgyvendinimas pagal Kėdainių r. sav. atliekų prevencijos ir tvarkymo 2021-2027 m. planą, proc. | K17: 95 | L17: 95 | M17: 100 | N17: 100 | O17: Surinkus daugiau Aplinkos apsaugos specialiosios rėmimo programos lėšų, pagal esamą poreikį investicijos nukreipiamos asbesto atliekų, bešeimininkių padangų tvarkybai, papildomų konteinerių aikštelių įrengimui mieste ir rajone | P17: =+F17-E17 -> 0
D18: SB (AA) | E18: 126 | F18: 168 | G18: 120 | H18: 120 | P18: =+F18-E18 -> 42
D19: SBVB | E19: 30 | F19: 30 | G19: 30 | H19: 30 | P19: =+F19-E19 -> 0
B20: 003-01-03 (T) | C20: Prižiūrėti, tvarkyti savivaldybės viešąsias teritorijas, gerinti kraštovaizdžio apsaugą, didinti jo patrauklumą | E20: =SUM(E21:E29) -> 5325 | F20: =SUM(F21:F29) -> 5578.2 | G20: =SUM(G21:G29) -> 6688.6 | H20: =SUM(H21:H29) -> 6119.6 | J20: Bendras tvarkomų ir prižiūrimų savivaldybės viešųjų teritorijų plotas (ha) | K20: 547,4 | L20: 547,4 | M20: 547,4 | N20: 547,4 | P20: =+F20-E20 -> 253.2
B21: 003-01-03-01 (TP) | C21: Bendro naudojimo teritorijų tvarkymas ir priežiūra seniūnijose, teritorijų priežiūrai reikalingos įrangos įsigijimas | D21: SB | E21: =4547.4+10 -> 4557.4 | F21: =4547.4+10+208 -> 4765.4 | G21: 5100 | H21: 5250 | I21: 3.4.2.4. | J21: Tvarkomų ir prižiūrimų savivaldybės viešųjų teritorijų plotas (ha) mieste ir rajone / Vidutinis apšvietimo įjungimo laikas mieste / seniūnijose , val. | K21: 167/371/ne trumpiau kaip 7 val. | L21: 167/371/ne trumpiau kaip 7 val. | M21: 167/371/ne trumpiau kaip 7 val. | N21: 167/371/ne trumpiau kaip 7 val. | P21: =+F21-E21 -> 208
D22: ĮP | E22: 16.9 | F22: 16.9 | G22: 16.9 | H22: 16.9 | P22: =+F22-E22 -> 0
B23: 003-01-03-02 (TP) | C23: Kapinių teritorijų plėtra, atnaujinimas, kolumbariumų įrengimas, kapinių skaitmeninimas | D23: SB | E23: 0 | F23: 0 | G23: 75 | H23: 75 | J23: Naujų kolumbariumų skaičius / suskaitmenintų kapinių skaičius | M23: 4 | N23: 4 | P23: =+F23-E23 -> 0
B24: 003-01-03-03 (TP) | C24: Bešeimininkių ir bepriežiūrių gyvūnų surinkimas, karantinavimas, priežiūra | D24: SB | E24: 26.7 | F24: 26.7 | G24: 26.7 | H24: 26.7 | I24: 3.4.2.3. | J24: Suteikta laikina globa bešeimininkiams gyvūnams, proc. | K24: 100 | L24: 100 | M24: 100 | N24: 100 | P24: =+F24-E24 -> 0
B25: 003-01-02-04 (TP) | C25: Apleistų (bešeimininkių ar savivaldybei nuosavybės teise priklausančių) pastatų ar kitų aplinką žalojančių objektų likvidavimas | D25: SB | E25: 50 | F25: 50 | G25: 50 | H25: 50 | J25: Likviduotų objektų skaičius | K25: 4 | L25: 4 | M25: 4 | N25: 4 | P25: =+F25-E25 -> 0
B26: 003-01-03-05 (TP) | C26: Želdynų ir želdinių apsauga, tvarkymas, būklės stebėsena, gėlynų kūrimas | D26: SB (AA) | E26: 110.5 | F26: 155.7 | G26: 115 | H26: 115 | I26: 3.3.2.1. | J26: Seniūnijų skaičius, kuriose įgyvendinamos želdynų ir želdinių apsaugos, tvarkymo, būklės stebėsenos, želdynų kūrimo, želdinių veisimo ir inventorizavimo priemonės | K26: 11 | L26: 11 | M26: 11 | N26: 11 | O26: Surinkus daugiau Aplinkos apsaugos specialiosios rėmimo programos lėšų, investicijos nukreipiamos želdynui daugiametėmis gėlėmis kūrimui, medžių šalinimo, po audros, darbams | P26: =+F26-E26 -> 45.2
D27: SB | E27: 163.5 | F27: 163.5 | G27: 145 | H27: 145 | I27: 3.3.2.1. | P27: =+F27-E27 -> 0
B28: 003-01-03-06 (PP) | C28: Projekto „Žaliosios infrastruktūros Kėdainių miesto urbanizuotoje aplinkoje plėtojimas“ įgyvendinimas | D28: SB | E28: 60 | F28: 60 | G28: 174 | H28: 267 | I28: 3.3.2.1. | J28: Žalioji infrastruktūra, kuriai suteikta parama kitais nei prisitaikymo prie klimato kaitos tikslais (ha) | N28: Vertinama įgyvendinus projektą 2029 m. | P28: =+F28-E28 -> 0
D29: ES | E29: 340 | F29: 340 | G29: 986 | H29: 174 | P29: =+F29-E29 -> 0
B30: 003-01-04 (T) | C30: Rengti, atnaujinti teritorijų planavimo ir kitus dokumentus, sudarant sąlygas darniai infrastruktūros plėtrai | E30: =SUM(E31:E33) -> 257.54 | F30: =SUM(F31:F33) -> 237.54 | G30: =SUM(G31:G33) -> 265 | H30: =SUM(H31:H33) -> 265 | J30: Laiku ir pagal teisės aktų reikalavimus parengtų teritorijų planavimo dokumentų dalis (proc.) | K30: 100 | L30: 100 | M30: 100 | N30: 100 | P30: =+F30-E30 -> -20
B31: 003-01-04-01 (TP) | C31: Dokumentų, padedančių užtikrinti darnią rajono savivaldybės teritorijų plėtrą, rengimas | D31: SB | E31: 110 | F31: 110 | G31: 135 | H31: 135 | I31: 4.1.1.18 | J31: Parengtų teritorijų planavimo dokumentų (specialiųjų, detaliųjų, bendrųjų, geodezinių, žemės sklypų formavimo ir pertvarkymo, kadastrinių matavimų ir kt.) skaičius | K31: ~40 | L31: ~40 | M31: ~40 | N31: ~40 | P31: =+F31-E31 -> 0
B32: 003-01-04-02 (TP) | C32: Investicinių projektų, planų, paraiškų, kitos techninės dokumentacijos rengimas paramai gauti | D32: SB | E32: 70 | F32: 50 | G32: 50 | H32: 50 | I32: 1.1.1.4. | J32: Parengtos dokumentacijos skaičius | K32: pagal poreikį | L32: pagal poreikį | M32: pagal poreikį | N32: pagal poreikį | P32: =+F32-E32 -> -20
B33: 003-01-04-03 (TP) | C33: Išmokos pagal savivaldybės infrastruktūros plėtros sutartis (SĮP) | D33: SB | E33: 77.54 | F33: 77.54 | G33: 80 | H33: 80 | I33: 1.1.1.4. | J33: Infrastruktūros plėtros sutarčių, pagal kurias išmokėtos išmokos, skaičius, vnt. | K33: pagal subjektų prašymus | L33: pagal subjektų prašymus | M33: pagal subjektų prašymus | N33: pagal subjektų prašymus | P33: =+F33-E33 -> 0
B34: 003-01-05 (T) | C34: Užtikrinti inžinerinio aprūpinimo (vandentiekio, nuotekų tinklų ir kt.) sistemų atnaujinimą ir plėtrą | E34: =SUM(E35:E43) -> 4885 | F34: =SUM(F35:F43) -> 4885 | G34: =SUM(G35:G43) -> 7785 | H34: =SUM(H35:H43) -> 4012 | J34: Prie centralizuotų tinklų prisijungusių vartotojų skaičius | K34: augantis | L34: augantis | M34: augantis | N34: augantis | P34: =+F34-E34 -> 0
B35: 003-01-05-01 (PP) | C35: Projekto „Geriamojo vandens tiekimo ir nuotekų tvarkymo paslaugų prieinamumo didinimas Kėdainių rajone“ įgyvendinimas | D35: SB | E35: 0 | F35: 0 | G35: 2160 | H35: 1336 | I35: 3.2.1.2 | J35: Įgyvendinta projekto veiklų, proc. (iš viso) | K35: 30 | L35: 30 | M35: 65 | N35: 85 | P35: =+F35-E35 -> 0
D36: SK | E36: 1000 | F36: 1000 | G36: 0 | H36: 0 | P36: =+F36-E36 -> 0
D37: ES | E37: 1890 | F37: 1890 | G37: 2990 | H37: 1285 | P37: =+F37-E37 -> 0
D38: KT | E38: 1420 | F38: 1420 | G38: 2160 | H38: 916 | P38: =+F38-E38 -> 0
B39: 003-01-05-02 (TP) | C39: Vandentiekio, nuotekų tinklų rekonstrukcija ir plėtra mieste | D39: SB | E39: 20 | F39: 20 | G39: 20 | H39: 20 | I39: 3.2.1.1. | J39: Paklota vandentiekio ir nuotekų tinklų, m | K39: ~300 | L39: ~300 | M39: ~300 | N39: ~300 | P39: =+F39-E39 -> 0
B40: 003-01-05-03 (TP) | C40: Geriamojo vandens tiekimo ir buitinių nuotekų tvarkymo infrastruktūros plėtros ir/ar rekonstrukcijos kaimiškosiose gyvenvietėse techninės dokumentacijos rengimas | D40: SB | E40: 30 | F40: 30 | G40: 30 | H40: 30 | I40: 3.2.1.2 | J40: Parengtos techninės dokumentacijos skaičius | K40: 1 | L40: 1 | M40: 1 | N40: 1 | P40: =+F40-E40 -> 0
B41: 003-01-05-04 (TP) | C41: Vandentiekio, nuotekų tinklų rekonstrukcija ir plėtra rajone | D41: SB | E41: 400 | F41: 400 | G41: 300 | H41: 300 | I41: 3.2.1.2 | J41: Paklota vandentiekio ir nuotekų tinklų, m | K41: ~2940 | L41: ~2940 | M41: ~2200 | N41: ~2200 | P41: =+F41-E41 -> 0
B42: 003-01-05-05 (TP) | C42: Objektų remontai pagal administracijos direktoriaus įsakymus | D42: SB | E42: 95 | F42: 95 | G42: 95 | H42: 95 | I42: 3.2.1.2 | J42: Remontuotų objektų skaičius | K42: pagal poreikį | L42: pagal poreikį | M42: pagal poreikį | N42: pagal poreikį | P42: =+F42-E42 -> 0
B43: 003-01-05-06 (TP) | C43: Avarinių židinių likvidavimas | D43: SB | E43: 30 | F43: 30 | G43: 30 | H43: 30 | I43: 3.2.1.2 | J43: Objektų skaičius, kuriuose likviduoti avariniai židiniai | K43: pagal poreikį | L43: pagal poreikį | M43: pagal poreikį | N43: pagal poreikį | P43: =+F43-E43 -> 0
B44: 003-01-06 (T) | C44: Prižiūrėti ir plėtoti energetinę infrastruktūrą, diegti energiją taupančias priemones | E44: =SUM(E45:E46) -> 1092.2 | F44: =SUM(F45:F46) -> 1242.2 | G44: =SUM(G45:G46) -> 150 | H44: =SUM(H45:H46) -> 150 | J44: Energiją taupančių šviestuvų dalis (proc.) nuo bendro šviestuvų skaičiaus mieste ir rajone | K44: 96 | L44: 96 | M44: 97 | N44: 98 | P44: =+F44-E44 -> 150
B45: 003-01-06-01 (TP) | C45: Gatvių apšvietimo rekonstrukcija, įrengimas, modernizavimas | D45: SB | E45: 100 | F45: =100+150 -> 250 | G45: 150 | H45: 150 | I45: 3.2.2.3 | J45: Nutiestų tinklų, pakeistų atramų, šviestuvų skaičius | K45: 1000/30/60 | L45: 1500/35/60 | M45: 1000/30/60 | N45: 1000/30/60 | O45: Tikslinamas SB lėšų poreikis pagal parengtą Gedimino g. ir Sodų g. apšvietimo įrengimo/ modernizavimo projektus | P45: =+F45-E45 -> 150
B46: 003-01-06-02 (TP) | C46: Nutolusios saulės elektrinės įsigijimas | D46: SK | E46: 992.2 | F46: 992.2 | G46: 0 | H46: 0 | I46: 3.2.2.3 | J46: Įsigytos galios nutolusi saulės elektrinė | K46: 1 Mw | L46: 1 Mw | P46: =+F46-E46 -> 0
B47: 003-01-07 (T) | C47: Gerinti susisiekimo infrastruktūrą, užtikrinant gyventojų darnų judumą bei mobilumą | E47: =SUM(E48:E55) -> 7120 | F47: =SUM(F48:F55) -> 7106.5 | G47: =SUM(G48:G55) -> 9078 | H47: =SUM(H48:H55) -> 11378 | J47: Dviračių takų ilgis metų pabaigoje, km / Keleivių apyvarta kelių transportu, keleivių sk./ km | K47: 40 /15,3 | L47: 40 /15,3 | M47: 46 /15,4 | N47: 49,5/15,5 | P47: =+F47-E47 -> -13.5
B48: 003-01-07-01 (TP) | C48: Vietinės reikšmės kelių ir gatvių remontas, priežiūra ir palaikymas, saugaus eismo ir darnaus judumo priemonių diegimas (KPP) | D48: SBVB (KPP) | E48: 3200 | F48: 3471.8 | G48: 3200 | H48: 3200 | I48: 3.1.1.2. 3.1.1.3. | J48: KPP lėšomis suremontuotų, rekonstruotų, naujai nutiestų kelių ir pėsčiųjų bei dviračių takų ilgis, km | K48: ~10 | L48: ~10 | M48: ~10 | N48: ~10 | O48: Finansavimas patikslinamas, vadovaujantis balandžio mėn. biudžeto pakeitimu | P48: =+F48-E48 -> 271.8
B49: 003-01-07-02 (TP) | C49: Kelių dangos gerinimo finansavimas seniūnijose | D49: SB | E49: 230 | F49: 230 | G49: 230 | H49: 230 | I49: 3.4.2.4. | J49: Prižiūrimų žvyrkelių ilgis, km / diegiamų dulkėtumo mažinimo priemonių skaičius | K49: ~35/1 | L49: ~35/1 | M49: ~35/1 | N49: ~35/1 | P49: =+F49-E49 -> 0
B50: 003-01-07-03 (PP) | C50: Projekto „Darnaus judumo mieste skatinimas, plėtojant dviračių bei pėsčiųjų takų infrastruktūrą“ įgyvendinimas (I ir II etapai) | D50: SB | E50: 90 | F50: 0 | G50: 450 | H50: 800 | I50: 3.1.1.1. | J50: Pagerinta dviračiams skirta infrastruktūra, km / Įgyvendintos darnaus judumo priemonės | N50: Vertinama įgyvendinus projektą 2029 m. | O50: Lėšos perskirstomos projekto įgyvendinimo laikotarpyje pagal pasirašytas projektavimo, ekspertizių, rangos darbų sutartis | P50: =+F50-E50 -> -90
D51: SK | E51: 150 | F51: 150 | G51: 0 | H51: 0 | P51: =+F51-E51 -> 0
D52: ES | E52: 1360 | F52: 860 | G52: 2550 | H52: 4500 | I52: 3.1.1.2 | P52: =+F52-E52 -> -500
B53: 003-01-07-04 (TP) | C53: Biudžetinių įstaigų kiemų dangos atnaujinimas | D53: SB | E53: 120 | F53: 120 | G53: 150 | H53: 150 | I53: 3.1.1.6. | J53: Remontuotų biudžetinių įstaigų kiemų skaičius | K53: 2 | L53: 2 | M53: 3 | N53: 3 | P53: =+F53-E53 -> 0
B54: 003-01-07-05 (TP) | C54: Nuostolių, susidariusių dėl būtinų keleivinio transporto paslaugų teikimo visuomenei, apmokėjimas | D54: SB | E54: 1770 | F54: 1770 | G54: 2198 | H54: 2198 | J54: Autobusų maršrutų skaičius | K54: 29 | L54: 29 | M54: 29 | N54: 29 | P54: =+F54-E54 -> 0
B55: 003-01-07-06 (TP) | C55: Inžinerinių paslaugų, darbų ir įrenginių finansavimas | D55: SB | E55: 200 | F55: 504.7 | G55: 300 | H55: 300 | I55: 3.2.2.2. | J55: Tikslingas finansavimas reikalingiems darbams atlikti pagal poreikį, proc. | K55: 100 | L55: 100 | M55: 100 | N55: 100 | O55: Finansavimas patikslinamas, vadovaujantis gegužės mėn. biudžeto pakeitimu | P55: =+F55-E55 -> 304.7
B56: 003-01-08 (T) | C56: Vystyti gyvenamąją aplinką, užtikrinant viešosios infrastruktūros priežiūrą, atnaujinimą ir tinkamą naudojimą | E56: =SUM(E57:E61) -> 1347.6 | F56: =SUM(F57:F61) -> 1297.6 | G56: =SUM(G57:G61) -> 1880 | H56: =SUM(H57:H61) -> 1880 | J56: Atnaujintų arba naujai įrengtų daugiabučių namų bendro naudojimo erdvių plotas, m2 | K56: ~9000 | L56: ~9000 | M56: ~9000 | N56: ~9000 | P56: =+F56-E56 -> -50
B57: 003-01-08-01 (TP) | C57: Seniūnijų administracinių pastatų atnaujinimas | D57: SB | E57: 55 | F57: 55 | G57: 500 | H57: 500 | I57: 3.2.2.2. | J57: Atnaujinamų seniūnijų pastatų, skaičius | K57: 0 | L57: 0 | M57: 1 | N57: 1 | P57: =+F57-E57 -> 0
B58: 003-01-08-02 (TP) | C58: Biudžetinių įstaigų stogų remontas | D58: SB | E58: 80 | F58: 80 | G58: 80 | H58: 80 | I58: 3.2.2.2. | J58: Pastatų, kurių stogai remontuoti, skaičius | K58: 5 | L58: 5 | M58: 5 | N58: 5 | P58: =+F58-E58 -> 0
B59: 003-01-08-03 (TP) | C59: Kompleksiškas daugiabučių gyvenamųjų namų kvartalų atnaujinimas | D59: SB | E59: 1000 | F59: 1000 | G59: 1000 | H59: 1000 | I59: 3.1.1.7 | J59: Atnaujinamų teritorijų skaičius, m | K59: ~9000 | L59: ~9000 | M59: ~9000 | N59: ~9000 | P59: =+F59-E59 -> 0
B60: 003-01-08-04 (TP) | C60: Infrastruktūros plėtros techninės dokumentacijos rengimas ir infrastruktūros gerinimo darbai (SĮP) | D60: SB | E60: 112.6 | F60: 112.6 | G60: 100 | H60: 100 | I60: 1.1.1.4. | J60: Parengtų techninių dokumentacijų skaičius | K60: 2 | L60: 2 | M60: 2 | N60: 2 | P60: =+F60-E60 -> 0
B61: 003-01-08-05 (TP) | C61: Europos Sąjungos infrastruktūros projektų, kuriems taikomas apmokėjimas kompensavimo būdu, išlaidų apmokėjimas | D61: SB | E61: 100 | F61: =100-50 -> 50 | G61: 200 | H61: 200 | J61: Parengtų techninių dokumentacijų skaičius | K61: 5 | L61: 5 | M61: 5 | N61: 5 | O61: Finansavimas patikslinamas, vadovaujantis balandžio mėn. biudžeto pakeitimu | P61: =+F61-E61 -> -50
B62: IŠ VISO | E62: =+E56+E47+E44+E34+E30+E20+E12+E6 -> 23721.04 | F62: =+F56+F47+F44+F34+F30+F20+F12+F6 -> 24012.84 | G62: =+G56+G47+G44+G34+G30+G20+G12+G6 -> 29866.6 | H62: =+H56+H47+H44+H34+H30+H20+H12+H6 -> 28454.6 | I62: =+F62-E62 -> 291.8
E63: =+E62-E64-E72 -> -7.2759576e-12 | F63: =+F62-F64-F72 -> -3.6379788e-12 | G63: =+G62-G64-G72 -> -3.6379788e-12 | H63: =+H62-H64-H72 -> -3.6379788e-12 | I63: =+F63-E63 -> 3.6379788e-12
C64: 1. Savivaldybės biudžetas (įskaitant skolintas lėšas) | E64: =SUM(E66:E71) -> 22301.04 | F64: =SUM(F66:F71) -> 22592.84 | G64: =SUM(G66:G71) -> 27706.6 | H64: =SUM(H66:H71) -> 27538.6 | I64: =+F64-E64 -> 291.8
C65: Iš jo: | I65: =+F65-E65 -> 0
C66: 1.1. savivaldybės biudžeto lėšos (nuosavos, be ankstesnių metų likučio) | D66: SB | E66: =+E61+E60+E59+E58+E57+E55+E54+E53+E50+E49+E45+E43+E42+E41+E40+E39+E35+E33+E32+E31+E28+E27+E26+E25+E24+E23+E21+E17+E18+E15+E13+E11+E10+E9+E7+E14 -> 13247.94 | F66: =+F61+F60+F59+F58+F57+F55+F54+F53+F50+F49+F45+F43+F42+F41+F40+F39+F35+F33+F32+F31+F28+F27+F26+F25+F24+F23+F21+F17+F18+F15+F13+F11+F10+F9+F7+F14 -> 13827.84 | G66: =+G61+G60+G59+G58+G57+G55+G54+G53+G50+G49+G45+G43+G42+G41+G40+G39+G35+G33+G32+G31+G28+G27+G26+G25+G24+G23+G21+G17+G18+G15+G13+G11+G10+G9+G7+G14 -> 17519.7 | H66: =+H61+H60+H59+H58+H57+H55+H54+H53+H50+H49+H45+H43+H42+H41+H40+H39+H35+H33+H32+H31+H28+H27+H26+H25+H24+H23+H21+H17+H18+H15+H13+H11+H10+H9+H7+H14 -> 17358.7 | I66: =+F66-E66 -> 579.9
C67: 1.2. Lietuvos Respublikos valstybės biudžeto dotacijos | D67: SBVB | E67: =+E48+E19+E8 -> 3244 | F67: =+F48+F19+F8 -> 3515.9 | G67: =+G48+G19+G8 -> 3244 | H67: =+H48+H19+H8 -> 3244 | I67: =+F67-E67 -> 271.9
C68: 1.3. Pajamų įmokos ir kitos pajamos | D68: ĮP | E68: =+E22 -> 16.9 | F68: =+F22 -> 16.9 | G68: =+G22 -> 16.9 | H68: =+H22 -> 16.9 | I68: =+F68-E68 -> 0
C69: 1.4. Europos Sąjungos ir kitos tarptautinės finansinės paramos lėšos | D69: ES | E69: =+E52+E37+E29+E16 -> 3650 | F69: =+F52+F37+F29+F16 -> 3090 | G69: =+G52+G37+G29+G16 -> 6926 | H69: =+H52+H37+H29+H16 -> 6919 | I69: =+F69-E69 -> -560
C70: 1.5. Skolintos lėšos | D70: SK | E70: =+E46+E36+E51 -> 2142.2 | F70: =+F46+F36+F51 -> 2142.2 | G70: =+G46+G36+G51 -> 0 | H70: =+H46+H36+H51 -> 0 | I70: =+F70-E70 -> 0
C71: 1.6. Ankstesnių metų likučiai | D71: SBL
C72: 2. Kiti šaltiniai (Europos Sąjungos finansinė parama projektams įgyvendinti ir kitos teisėtai gautos lėšos, nurodant atskirus šaltinius) | D72: KT | E72: =+E38 -> 1420 | F72: =+F38 -> 1420 | G72: =+G38 -> 2160 | H72: =+H38 -> 916 | I72: =+F72-E72 -> 0
C73: IŠ VISO programai finansuoti pagal finansavimo šaltinius (1 ir 2 punktai) | E73: =+E72+E64 -> 23721.04 | F73: =+F72+F64 -> 24012.84 | G73: =+G72+G64 -> 29866.6 | H73: =+H72+H64 -> 28454.6 | I73: =+F73-E73 -> 291.8
C74: Iš jų: regioninių pažangos priemonių lėšos | E74: =+E37+E29+E16+E52 -> 3650 | F74: =+F37+F29+F16+F52 -> 3090 | G74: =+G37+G29+G16+G52 -> 6926 | H74: =+H37+H29+H16+H52 -> 6919 | I74: =+F74-E74 -> -560
C75: Asignavimų ir kitų lėšų pokytis, palyginti su ankstesnių metų patvirtintų asignavimų ir kitų lėšų planu | E75: =+((E73*100)/19472.9)-100 -> 21.815651 | F75: 22.1 | G75: =+((G73*100)/19472.9)-100 -> 53.375203 | H75: =+((H73*100)/19472.9)-100 -> 46.124101
B76: * 2026-02-20 rajono tarybos sprendimas Nr. TS-33 "Dėl Kėdainių rjaono savivaldybės 2026-2028 m. strateginio veiklos plano tvirtinimo"
B77: Žalia spalva paryškinti pakeitimai – tai jau atlikti pakeitimai pagal 2026 m. Biudžeto balandžio, gegužės ir birželio mėnesių pakeitimus
B78: Pilkuose langeliuose žaliai pažymėta informacija – tai kartu su rugsėjo mėnesio Biudžete siūlomi pakeitimai.

Sheet 04 Ekonominės plėtros
B2: IV SKYRIUS. 3.4 lentelė. 2026–2028 m. EKONOMINĖS PLĖTROS PROGRAMOS (04) programų uždaviniai, priemonės bei jų stebėsenos rodikliai, asignavimai ir kitos lėšos (tūkst. Eur)
B4: Programos uždavinio, priemonės kodas ir požymis | C4: Uždavinio, priemonės pavadinimas, finansavimo šaltiniai | E4: * 2026 m. asignavimai ir kitos lėšos | F4: PATIKSLINTI 2026 m. asignavimai ir kitos lėšos | G4: 2027 m. asignavimai ir kitos lėšos | H4: 2028 m. asignavimai ir kitos lėšos | I4: Strateginio plėtros plano priemonės kodas | J4: Stebėsenos rodiklio pavadinimas (matavimo vnt.) | K4: Siektinos stebėsenos rodiklių reikšmės | O4: Komentarai, pastabos | P4: 2026 m. +/-pokytis tūkst. Eur
K5: 2026 m. | L5: PATIKSLINTI 2026 m. | M5: 2027 m. | N5: 2028 m.
B7: 004-01-01 (T, P) | C7: Stiprinti savivaldybės institucijų ir verslo įmonių bendradarbiavimą, sudaryti palankias sąlygas sumanios pramonės ir logistikos srities verslų atsiradimui, plėtrai bei investicijų pritraukimui | E7: =SUM(E8:E12) -> 1091.4 | F7: =SUM(F8:F12) -> 1612.7 | G7: =SUM(G8:G12) -> 3845.1 | H7: =SUM(H8:H12) -> 111 | J7: Dirbančiųjų skaičiaus pokytis veikiančiose įmonėse metų pradžioje, lyginant su praeitais metais, proc. | K7: +0,5 | L7: +0,5 | M7: +0,5 | N7: +1
B8: 004-01-01-01 (TP) | C8: VšĮ Kėdainių turizmo ir verslo informacijos centro efektyvios veiklos užtikrinimas verslo srityje | D8: SB | E8: 57.4 | F8: 57.4 | G8: 59 | H8: 61 | I8: 1.1.2.4. 1.3.2.6. | J8: Suteiktų informacinių, konsultacinių paslaugų ūkio subjektams ir asmenims pagal paklausimus skaičius, val. | K8: ~520 | L8: ~520 | M8: ~520 | N8: ~520 | P8: =+F8-E8 -> 0
B9: 004-01-01-02 (TP) | C9: Finansinės paramos teikimas per Savivaldybės smulkiojo verslo rėmimo fondą | D9: SB | E9: 30 | F9: 30 | G9: 50 | H9: 50 | I9: 1.1.2.1 | J9: Subjektų, kuriems suteikta finansinė parama, skaičius | K9: 12 | L9: 12 | M9: 12 | N9: 12 | P9: =+F9-E9 -> 0
B10: 004-01-01-03 (PP) | C10: Dalyvavimas projekte „Inkubavimo, konsultavimo, mentorystės ir tinklaveikos programų vystymas, skatinant pradedančiųjų SVV subjektų kūrimąsi ir augimą regionuose“ partnerio teisėmis | D10: SB | E10: 4 | F10: 4 | G10: 0 | H10: 0 | I10: 1.1.3.2. | J10: Projekte dalyvaujančių verslo subjektų skaičius | K10: 10 | L10: 10 | P10: =+F10-E10 -> 0
B11: 004-01-01-04 (PP) | C11: Projekto „Kėdainių miesto viešosios infrastruktūros, svarbios verslui, atnaujinimas ir plėtra“ įgyvendinimas | D11: SBVB | E11: 1000 | F11: 1291.2 | G11: 3736.1 | H11: 0 | I11: 1.1.1.2. | J11: Investicijoms gerinamas viešųjų teritorijų plotas, ha (LEZ teritorijos bendras plotas) | K11: 130,5 | L11: 130,5 | M11: 130,5 | O11: Skirtas 2026 m. tikslinis finansavimas elektros galios didinimui | P11: =+F11-E11 -> 291.2
B12: 004-01-01-05 (PP) | C12: Susisiekimo infrastruktūros su pramoninėmis teritorijomis modernizavimas Kėdainiuose (Biochemikų g.) | D12: SBVB | E12: 0 | F12: 230.1 | G12: 0 | H12: 0 | J12: Pagerintos susisiekimo infrastruktūros dalis, m. | L12: 480 | O12: Nauja priemonė. Paskelbus kvietimą kovo mėn., teikta paraiška, gautas tikslinis finansavimas, vykdomi darbai. | P12: =+F12-E12 -> 230.1
B13: 004-01-02 (T) | C13: Plėtoti tvarų ir efektyvų žemės ūkį | E13: =SUM(E14:E22) -> 1993.7 | F13: =SUM(F14:F22) -> 1993.7 | G13: =SUM(G14:G22) -> 2793 | H13: =SUM(H14:H22) -> 2432 | J13: Naudojamų žemės ūkio naudmenų plotas, tenkantis 1000 gyventojų, Kėdainių rajono savivaldybėje, palyginti su Lietuvos vidurkiu (santykis) | K13: ne mažiau 2 k. | L13: ne mažiau 2 k. | M13: ne mažiau 2 k. | N13: ne mažiau 2 k. | P13: =+F13-E13 -> 0
B14: 004-01-02-01 (TP) | C14: Valstybės perduotų savivaldybėms žemės ūkio funkcijų vykdymas, konsultuojant rajono asmenis ūkininkavimo, žemės ūkio technikos registravimo ir kitais su žemės ūkiu susijusiais klausimais | D14: SBVB | E14: 267.9 | F14: 267.9 | G14: 268 | H14: 270 | I14: 1.2.1.2. | J14: Žemės ūkio subjektų pateiktų ir nagrinėjamų prašymų, paraiškų, aptarnaujamos žemės ūkio technikos, įregistruotos rajone, ir atliktų techninių apžiūrų skaičius | K14: ~16500 | L14: ~16500 | M14: ~16500 | N14: ~16500 | P14: =+F14-E14 -> 0
B15: 004-01-02-02 (TP) | C15: Valstybės perduotų savivaldybei funkcijų vykdymas melioracijos srityje, remontuojant valstybei nuosavybės teise priklausančią melioracijos, hidrotechnikos infrastruktūrą | D15: SBVB | E15: 421.8 | F15: 421.8 | G15: 422 | H15: 422 | I15: 1.2.1.3. | J15: Remontuojamų, prižiūrimų melioracijos griovių ilgis, km | K15: ~35 | L15: ~35 | M15: ~35 | N15: ~35 | P15: =+F15-E15 -> 0
B16: 004-01-02-03 (TP) | C16: Gyvenviečių lietaus nuotekų-drenažų sistemų remontas | D16: SB | E16: 40 | F16: 40 | G16: 40 | H16: 40 | I16: 1.2.1.3. | J16: Gyvenviečių, kuriose atlikti drenažo remonto darbai, skaičius | K16: 5 | L16: 5 | M16: 5 | N16: 5 | P16: =+F16-E16 -> 0
B17: 004-01-02-04 (TP) | C17: Hidrotechninių įrenginių atnaujinimui reikalingos techninės dokumentacijos rengimas | D17: SB | E17: 50 | F17: 50 | G17: 40 | H17: 40 | I17: 1.2.1.4. | J17: Parengtų projektų skaičius | K17: 8 | L17: 8 | M17: 7 | N17: 7 | P17: =+F17-E17 -> 0
B18: 004-01-02-05 (TP) | C18: Krakių tvenkinių hidrotechnikos statinių remontas ir techninės priežiūros vykdymas | D18: SB | E18: 0 | F18: 0 | G18: 159 | H18: 96 | I18: 1.2.1.4. | J18: Suremontuotų hidrotechninių įrenginių skaičius | M18: 1 | N18: 1 | P18: =+F18-E18 -> 0
B19: 004-01-02-06 (TP) | C19: Kėdainių miesto hidrotechnikos statinio ant Dotnuvėlės upės remonto techninės dokumentacijos rengimas ir remonto darbai | D19: SB | E19: 0 | F19: 0 | G19: 650 | H19: 500 | I19: 1.2.1.4. | J19: Rekonstruotų hidrotechninių įrenginių skaičius | N19: 1 | P19: =+F19-E19 -> 0
B20: 004-01-02-07 (TP) | C20: Melioracijos inžinerinių statinių rekonstravimas Nevėžio pabaseinyje - Nevėžio ir Šušvės upių žiotyse | D20: SBVB | E20: 1064 | F20: 1064 | G20: 1064 | H20: 1064 | I20: 1.2.1.3. | J20: Rekonstruojamų melioracijos griovių ilgis, km | K20: ~40 | L20: ~40 | M20: ~40 | N20: ~40 | P20: =+F20-E20 -> 0
B21: 004-01-02-08 (PP) | C21: Valstybei nuosavybės teise priklausančių melioracijos statinių ir (ar) sistemų rekonstravimo ir projektavimo darbų bei apleistų žemės plotų mažinimo priemonių įgyvendinimas | D21: SB | E21: 15 | F21: 15 | G21: 15 | H21: 0 | I21: 1.2.1.3. | J21: Planuojamas atkurti žemės ūkio naudmenų plotas blogos būklės melioruotoje žemėje, patenkančioje į apleistos žemės plotus, ha | M21: 0.42 | P21: =+F21-E21 -> 0
D22: SBVB | E22: 135 | F22: 135 | G22: 135 | H22: 0 | P22: =+F22-E22 -> 0
B23: 004-01-03 (T) | C23: Plėtoti, atnaujinti viešąją infrastruktūrą, atsižvelgiant į turizmo plėtros ir rekreacijos poreikius | E23: =SUM(E24:E34) -> 676 | F23: =SUM(F24:F34) -> 861 | G23: =SUM(G24:G34) -> 1294.9 | H23: =SUM(H24:H34) -> 520 | J23: Atnaujinamų, tvarkomų, pritaikomų lankymui teritorijų, gamtos paveldo objektų (vnt.) | K23: 3 | L23: 3 | M23: 4 | N23: 4 | P23: =+F23-E23 -> 185
B24: 004-01-03-01 (PP) | C24: Projekto „Kultūros paveldo ir gamtos objektų pritaikymas lankyti Kėdainių rajono savivaldybėje„ įgyvendinimas (ES projekto „Kauno regiono funkcinės zonos strategija“ dalis) | D24: SB | E24: 10 | F24: =10+20+10 -> 40 | G24: 50 | H24: 35 | I24: 1.3.2.3. | J24: Sukurtos arba atkurtos atviros erdvės (arai) | N24: Vertinama įgyvendinus projektą 2029 m. | O24: Projektas įgyvendinamas, finansavimas tikslinamas pagal veiklų įgyvendinimo spartą | P24: =+F24-E24 -> 30
D25: ES | E25: 60 | F25: 255 | G25: 285 | H25: 185 | P25: =+F25-E25 -> 195
B26: 004-01-03-02 (TP) | C26: Infrastruktūros miesto parke įrengimas | D26: SB | E26: 26 | F26: 26 | G26: 0 | H26: 0 | I26: 2.2.1.4. | J26: Įrengiamų/atnaujinamų/pritaikomų parko elementų (erdvių) | P26: =+F26-E26 -> 0
B27: 004-01-03-03 (TP) | C27: Babėnų šilo miškotvarka ir pritaikymas patogiam poilsiui, laisvalaikiui | D27: SB | E27: 500 | F27: 500 | G27: 500 | H27: 0 | I27: 3.3.2.1. | J27: Parengtos techninės dokumentacijos, skaičius. / einamaisiais metais atliekamų projekte numatytų darbų proc.(bendras) | K27: 1/50 | L27: 1/50 | M27: 1/100 | P27: =+F27-E27 -> 0
B28: 004-01-03-04 (TP) | C28: Bakainių piliakalnio ir jo prieigų tvarkyba | D28: SB | E28: 0 | F28: 0 | G28: 300 | H28: 300 | I28: 1.3.2.3. | J28: Parengta projektinė dokumentacija/atlikta tvarkybos darbų, proc. (bendras) | M28: 1/50 | N28: 1/100 | P28: =+F28-E28 -> 0
B29: 004-01-03-05 (TP) | C29: Patrauklios viešosios erdvės kūrimas Aristavos kaime | D29: SB | E29: 40 | F29: 40 | G29: 30 | H29: 0 | I29: 1.3.2.3 | J29: Sukurtų erdvių skaičius | M29: 1 | P29: =+F29-E29 -> 0
D30: ES | E30: 0 | F30: 0 | G30: 25.4 | H30: 0 | P30: =+F30-E30 -> 0
D31: SBVB | E31: 0 | F31: 0 | G31: 4.5 | H31: 0 | P31: =+F31-E31 -> 0
B32: 004-01-03-06 (TP) | C32: Patrauklios viešosios erdvės kūrimas Dotnuvos miestelyje | D32: SB | E32: 40 | F32: 0 | G32: 70 | H32: 0 | I32: 1.3.2.3 | J32: Sukurtų erdvių skaičius | M32: 1 | O32: Teikta paraiška, pasirašyta finansavimo sutartis. Kadangi projekto veiklos patenka į Kultūros paveldo teritoriją, veiksmai derinami su KPD. Visos veiklos bus įgyvendintos 2027 m. | P32: =+F32-E32 -> -40
D33: ES | E33: 0 | F33: 0 | G33: 25.5 | H33: 0 | P33: =+F33-E33 -> 0
D34: SBVB | E34: 0 | F34: 0 | G34: 4.5 | H34: 0 | P34: =+F34-E34 -> 0
B35: 004-01-04 (T) | C35: Išsaugoti istorinį bei kultūros paveldą, didinti jo patrauklumą ir žinomumą | E35: =SUM(E36:E41) -> 595.2 | F35: =SUM(F36:F41) -> 595.2 | G35: =SUM(G36:G41) -> 795 | H35: =SUM(H36:H41) -> 540 | J35: Turistams siūlomų ekskursijų maršrutų įvairovė, lankant miesto bei rajono istorinius, kultūros paveldo objektus, žymias vietas, skaičius | K35: 43 | L35: 43 | M35: 44 | N35: 45 | P35: =+F35-E35 -> 0
B36: 004-01-04-01 (TP) | C36: VšĮ Kėdainių turizmo ir verslo informacijos centro efektyvios veiklos užtikrinimas turizmo srityje | D36: SB | E36: 192.5 | F36: 192.5 | G36: 160 | H36: 160 | I36: 1.1.2.4. 1.3.2.6. | J36: Turizmo ir verslo informacinio centro lankytojų skaičiaus didėjimas, proc., lyginant su praėjusiais metais | K36: 15 | L36: 15 | M36: 3 | N36: 3 | P36: =+F36-E36 -> 0
B37: 004-01-04-02 (TP) | C37: Lankytinų objektų ir jų teritorijų, kultūros paveldo objektų ar objektų, esančių kultūros paveldo teritorijų prieigose, tvarkybos dokumentacijos rengimas, objektų atnaujinimas | D37: SB | E37: 160 | F37: 160 | G37: 230 | H37: 230 | I37: 1.3.2.3. 1.3.2.5. | J37: Tvarkomų objektų skaičius | K37: 6 | L37: 6 | M37: 6 | N37: 6 | P37: =+F37-E37 -> 0
B38: 004-01-04-03 (TP) | C38: Minareto ir jo prieigų tvarkyba | D38: SB | E38: 110 | F38: 110 | G38: 255 | H38: 0 | I38: 1.3.2.3. | J38: Turistams pritaikytų ir patogiai pasiekiamų turizmo objektų skaičius | M38: 1 | P38: =+F38-E38 -> 0
B39: 004-01-04-04 (TP) | C39: Evangelikų ir reformatų bažnyčios infrastruktūros, jos varpinės atnaujinimas | D39: SB | E39: 32.7 | F39: 32.7 | G39: 50 | H39: 50 | I39: 1.3.2.3 | J39: Einamaisiais metais numatytų darbų, proc. | K39: 100 | L39: 100 | M39: 100 | N39: 100 | P39: =+F39-E39 -> 0
B40: 004-01-04-05 (TP) | C40: Savivaldybės religinių bendruomenių ir bendrijų rėmimo programos įgyvendinimas | D40: SB | E40: 50 | F40: 50 | G40: 50 | H40: 50 | I40: 1.3.2.8. | J40: Kulto pastatų, kuriems skirtas finansavimas tvarkybos darbams atlikti, skaičius | K40: 4 | L40: 1 | M40: 4 | N40: 4 | O40: Tikslinama stebėsenos rodiklio reikšmė po įvykusio konkurso ir pasirašytos sutarties | P40: =+F40-E40 -> 0
B41: 004-01-04-06 (TP) | C41: Kultūros paveldo objektų, esančių Kėdainių rajono savivaldybės teritorijoje, ir kultūros paveldo statinių, esančių Kėdainių senamiesčio dalyje, išsaugojimo darbų finansavimo programa | D41: SB | E41: 50 | F41: 50 | G41: 50 | H41: 50 | I41: 1.3.2.2. | J41: Tvarkomų kultūros paveldo objektų ar kultūros paveldo statinių skaičius | K41: 3 | L41: 6 | M41: 3 | N41: 3 | O41: Tikslinama stebėsenos rodiklio reikšmė po įvykusio konkurso ir pasirašytų sutarčių | P41: =+F41-E41 -> 0
A42: IŠ VISO | E42: =+E35+E23+E13+E7 -> 4356.3 | F42: =+F35+F23+F13+F7 -> 5062.6 | G42: =+G35+G23+G13+G7 -> 8728 | H42: =+H35+H23+H13+H7 -> 3603 | I42: =+F42-E42 -> 706.3
E43: =+E42-E44-E52 -> 0 | F43: =+F42-F44-F52 -> 9.094947e-13 | G43: =+G42-G44-G52 -> 0 | H43: =+H42-H44-H52 -> 0 | I43: =+F43-E43 -> 9.094947e-13
C44: 1. Savivaldybės biudžetas (įskaitant skolintas lėšas) | E44: =SUM(E46:E51) -> 4356.3 | F44: =SUM(F46:F51) -> 5062.6 | G44: =SUM(G46:G51) -> 8728 | H44: =SUM(H46:H51) -> 3603 | I44: =+F44-E44 -> 706.3
C45: Iš jo: | I45: =+F45-E45 -> 0
C46: 1.1. savivaldybės biudžeto lėšos (nuosavos, be ankstesnių metų likučio) | D46: SB | E46: =+E41+E40+E39+E38+E37+E36+E32+E29+E28+E27+E26+E24+E21+E19+E18+E17+E16+E9+E8+E10 -> 1407.6 | F46: =+F41+F40+F39+F38+F37+F36+F32+F29+F28+F27+F26+F24+F21+F19+F18+F17+F16+F9+F8+F10 -> 1397.6 | G46: =+G41+G40+G39+G38+G37+G36+G32+G29+G28+G27+G26+G24+G21+G19+G18+G17+G16+G9+G8+G10 -> 2758 | H46: =+H41+H40+H39+H38+H37+H36+H32+H29+H28+H27+H26+H24+H21+H19+H18+H17+H16+H9+H8+H10 -> 1662 | I46: =+F46-E46 -> -10
C47: 1.2. Lietuvos Respublikos valstybės biudžeto dotacijos | D47: SBVB | E47: =+E11+E14+E15+E20+E31+E34+E22+E12 -> 2888.7 | F47: =+F11+F14+F15+F20+F31+F34+F22+F12 -> 3410 | G47: =+G11+G14+G15+G20+G31+G34+G22+G12 -> 5634.1 | H47: =+H11+H14+H15+H20+H31+H34+H22+H12 -> 1756 | I47: =+F47-E47 -> 521.3
C48: 1.3. Pajamų įmokos ir kitos pajamos | D48: ĮP | I48: =+F48-E48 -> 0
C49: 1.4. Europos Sąjungos ir kitos tarptautinės finansinės paramos lėšos | D49: ES | E49: =+E25+E30+E33 -> 60 | F49: =+F25+F30+F33 -> 255 | G49: =+G25+G30+G33 -> 335.9 | H49: =+H25+H30+H33 -> 185 | I49: =+F49-E49 -> 195
C50: 1.5. Skolintos lėšos | D50: SK | I50: =+F50-E50 -> 0
C51: 1.6. Ankstesnių metų likučiai | D51: SBL | I51: =+F51-E51 -> 0
C52: 2. Kiti šaltiniai (Europos Sąjungos finansinė parama projektams įgyvendinti ir kitos teisėtai gautos lėšos, nurodant atskirus šaltinius) | D52: KT | I52: =+F52-E52 -> 0
C53: IŠ VISO programai finansuoti pagal finansavimo šaltinius (1 ir 2 punktai) | E53: =+E52+E44 -> 4356.3 | F53: =+F52+F44 -> 5062.6 | G53: =+G52+G44 -> 8728 | H53: =+H52+H44 -> 3603 | I53: =+F53-E53 -> 706.3
C54: Iš jų: regioninių pažangos priemonių lėšos | E54: =+E25 -> 60 | F54: =+F25 -> 255 | G54: =+G25 -> 285 | H54: =+H25 -> 185
C55: Asignavimų ir kitų lėšų pokytis, palyginti su ankstesnių metų patvirtintų asignavimų ir kitų lėšų planu | E55: =+((E53*100)/4947.9)-100 -> -11.956588 | F55: 0.82 | G55: =+((G53*100)/F53)-100 -> 72.401533 | H55: =+((H53*100)/G53)-100 -> -58.719065
B56: * 2026-02-20 rajono tarybos sprendimas Nr. TS-33 "Dėl Kėdainių rjaono savivaldybės 2026-2028 m. strateginio veiklos plano tvirtinimo"
B57: Žalia spalva paryškinti pakeitimai – tai jau atlikti pakeitimai pagal 2026 m. Biudžeto balandžio, gegužės ir birželio mėnesių pakeitimus
B58: Pilkuose langeliuose žaliai pažymėta informacija – tai kartu su rugsėjo mėnesio Biudžete siūlomi pakeitimai.

Sheet 05 Valdymo 
B1: IV SKYRIUS. 3.5 lentelė. 2026–2028 m. SAVIVALDYBĖS VALDYMO TOBULINIMO PROGRAMOS (05) programų uždaviniai, priemonės bei jų stebėsenos rodikliai, asignavimai ir kitos lėšos (tūkst. Eur)
B3: Programos uždavinio, priemonės kodas ir požymis | C3: Uždavinio, priemonės pavadinimas, finansavimo šaltiniai | E3: * 2026 m. asignavimai ir kitos lėšos | F3: PATIKSLINTI 2026 m. asignavimai ir kitos lėšos | G3: 2027 m. asignavimai ir kitos lėšos | H3: 2028 m. asignavimai ir kitos lėšos | I3: Strateginio plėtros plano priemonės kodas | J3: Stebėsenos rodiklio pavadinimas (matavimo vnt.) | K3: Siektinos stebėsenos rodiklių reikšmės | N3: Komentarai, pastabos | O3: 2026 m. +/-pokytis tūkst. Eur
K4: 2026 m. | L4: 2027 m. | M4: 2028 m.
B6: 005-01-01 (T) | C6: Sudaryti sąlygas kokybiškai įgyvendinti teisės aktuose nustatytas Savivaldybei funkcijas, mažinant administracinę naštą, įgyvendinant lygias galimybes bei korupcijos prevencijos priemones | E6: =SUM(E7:E22) -> 10134.4 | F6: =SUM(F7:F22) -> 10122.1 | G6: =SUM(G7:G22) -> 11018.9 | H6: =SUM(H7:H22) -> 11705.9 | J6: Savivaldybės administracinių paslaugų suteikimo terminų laikymosi dalis , proc. | K6: 100 | L6: 100 | M6: 100
B7: 005-01-01-01 (TP) | C7: Savivaldybės tarybos, mero ir jo tarnybos veiklos užtikrinimas | D7: SB | E7: 776.8 | F7: 776.8 | G7: 800 | H7: 815 | I7: 4.1.1.15. 4.1.1.16. | J7: Tarybos narių dalyvavimas rajono tarybos posėdžiuose, komitetuose, kolegijoje, komisijų veiklose | K7: ne mažiau 90 proc. | L7: ne mažiau 90 proc. | M7: ne mažiau 90 proc. | O7: =+F7-E7 -> 0
J8: Tarybos posėdžių, komitetų transliavimo dažnumas, viešumas ir prieinamumas visuomenei, proc. | K8: 100 | L8: 100 | M8: 100 | O8: =+F8-E8 -> 0
B9: 005-01-01-02 (TP) | C9: Savivaldybės kontrolės ir audito tarnybos veiklos užtikrinimas | D9: SB | E9: 228.1 | F9: 228.1 | G9: 240 | H9: 245 | I9: 4.1.1.16. | J9: Atliktų kontrolės ir audito tarnybos auditų skaičius pagal patvirtintą metų planą (proc.) | K9: 100 | L9: 100 | M9: 100 | O9: =+F9-E9 -> 0
B10: 005-01-01-03 (TP) | C10: Savivaldybės administracijos veiklos užtikrinimas | D10: ĮP | E10: 17.3 | F10: 17.3 | G10: 17.3 | H10: 17.3 | I10: 4.1.1.4 4.1.1.15. | J10: Administracijos pareigybių skaičius vykdantis savivaldybei priskirtas funkcijas / savivaldybės administracijos pareigybių skaičius, tenkantis 1000 rajono gyventojų | K10: 180,05 /3,9 | L10: 180,05 /3,9 | M10: 180,05 /3,9 | O10: =+F10-E10 -> 0
D11: SB | E11: =6853.9-0.5-10 -> 6843.4 | F11: =6853.9-0.5-10 -> 6843.4 | G11: 7300 | H11: 7800 | I11: 4.1.1.7 | O11: =+F11-E11 -> 0
B12: 005-01-01-04 (TP) | C12: Savivaldybės administracijos administracinės naštos mažinimo plano vykdymas | I12: 4.1.1.11. 4.1.1.12 | J12: Administracinės naštos mažinimo plano metinis įvykdymo proc. | K12: 100 | L12: 100 | M12: 100 | O12: =+F12-E12 -> 0
B13: 005-01-01-05 (TP) | C13: Savivaldybės korupcijos prevencijos veiksmų plano įgyvendinimas | I13: 4.1.1.10. | J13: Korupcijos prevencijos veiksmų plano metinis įvykdymas, proc. | K13: 100 | L13: 100 | M13: 100 | O13: =+F13-E13 -> 0
B14: 005-01-01-06 (TP) | C14: Lygių galimybių, moterų ir vyrų lygybės politikos įgyvendinimas bei asmens duomenų apsaugos užtikrinimas | I14: 4.1.1.9. | J14: Vieta pagal lyčių lygybės stebėsenos savivaldybėse rodiklius | K14: 10-tuke | L14: 10-tuke | M14: 10-tuke | O14: =+F14-E14 -> 0
B15: 005-01-01-07 (TP) | C15: Diasporos politikos įgyvendinimas | J15: Diasporos atstovų, prisidedančių prie Kėdainių vardo garsinimo ir ryšių su užsienio lietuviais stiprinimo, skaičius | K15: 3 | L15: 4 | M15: 5 | O15: =+F15-E15 -> 0
B16: 005-01-01-08 (TP) | C16: Kėdainių rajono savivaldybės administracijos kokybės vadybos sistemos priežiūra ir atnaujinimas | I16: 4.1.1.3. | J16: Kokybės vadybos sistemos administracinių paslaugų rodiklių pasiekimas | K16: 100 | L16: 100 | M16: 100 | O16: =+F16-E16 -> 0
B17: 005-01-01-09 (TP) | C17: Savivaldybės žmogiškųjų išteklių kompetencijų stiprinimas | D17: SB | E17: =36.5+10 -> 46.5 | F17: =36.5+10 -> 46.5 | G17: 53 | H17: 60 | I17: 4.1.1.1. | J17: Savivaldybės administracijos darbuotojų, per metus tobulinusių kvalifikaciją, dalis, proc. | K17: ~90 | L17: ~90 | M17: ~90 | O17: =+F17-E17 -> 0
B18: 005-01-01-10 (TP) | C18: IT sistemų atnaujinimas, priežiūra, kibernetinio saugumo užtikrinimas, kolokacijos paslauga Valstybės duomenų centre, bendradarbiavimas dėl VDV IS, apimant „duomenų ežerą“ | D18: SB | E18: 420 | F18: 420 | G18: 420 | H18: 420 | I18: 4.1.1.4 4.1.1.5. | J18: KRSA valdomų ir tvarkomų informacinių sistemų skaičius / visuomenei atvertų duomenų rinkinių skaičius (kaupiamieji vienetai) | K18: 62/20 | L18: 62/30 | M18: 62/35 | O18: =+F18-E18 -> 0
B19: 005-01-01-11 (TP) | C19: Seniūnijų veiklos užtikrinimas | D19: SB | E19: 1432.7 | F19: 1432.7 | G19: 1800 | H19: 1950 | I19: 4.1.1.4 4.1.1.15. | J19: Savivaldybėje esančių seniūnijų skaičius | K19: 11 | L19: 11 | M19: 11 | N19: ĮP lėšos tikslinamos pagal gegužės mėn. biudžeto pakeitimus | O19: =+F19-E19 -> 0
D20: ĮP | E20: 105 | F20: 92.7 | G20: 105 | H20: 105 | O20: =+F20-E20 -> -12.3
B21: 005-01-01-12 (TP) | C21: Seniūnaičių veiklos organizavimas | D21: SB | E21: 33.6 | F21: 33.6 | G21: 33.6 | H21: 33.6 | I21: 4.1.1.15. | J21: Seniūnijas atstovaujančių seniūnaičių skaičius | K21: 70 | L21: 70 | M21: 70 | O21: =+F21-E21 -> 0
B22: 005-01-01-13 (TP) | C22: Valstybės perduotų savivaldybei funkcijų kokybiškas įgyvendinimas ir organizavimas | D22: SBVB | E22: 231 | F22: 231 | G22: 250 | H22: 260 | I22: 4.1.1.17 | J22: Vykdomų valstybės deleguotų funkcijų skaičius (bendras) | K22: 12 | L22: 12 | M22: 12 | O22: =+F22-E22 -> 0
B23: 005-01-02 (T) | C23: Užtikrinti finansavimą nenumatytoms išlaidoms dengti bei valdyti prisiimtus finansinius įsipareigojimus | E23: =SUM(E24:E28) -> 2937.8 | F23: =SUM(F24:F28) -> 2937.8 | G23: =SUM(G24:G28) -> 2881.9 | H23: =SUM(H24:H28) -> 3324.9 | J23: Nenumatytų išlaidų padengimo bei savalaikis finansinių įsipareigojimų vykdymo, proc. | K23: 100 | L23: 100 | M23: 100 | O23: =+F23-E23 -> 0
B24: 005-01-02-01 (TP) | C24: Savivaldybės mero rezervas | D24: SB | E24: 170 | F24: 170 | G24: 170 | H24: 170 | J24: Tikslingai panaudoto rezervo dalis, proc. | K24: 100 | L24: 100 | M24: 100 | O24: =+F24-E24 -> 0
B25: 005-01-02-02 (TP) | C25: Savivaldybės mero fondas | D25: SB | E25: 29 | F25: 29 | G25: 29 | H25: 29 | J25: Tikslingai panaudoto fondo dalis, proc. | K25: 100 | L25: 100 | M25: 100 | O25: =+F25-E25 -> 0
B26: 005-01-02-03 (TP) | C26: Paskolų grąžinimas, palūkanų ir paskolų tvarkymo išlaidų apmokėjimas | D26: SB | E26: 430 | F26: 430 | G26: 430 | H26: 430 | J26: Finansinių įsipareigojimų vykdymo savalaikiškumas, proc. | K26: 100 | L26: 100 | M26: 100 | O26: =+F26-E26 -> 0
D27: SB | E27: 75.8 | F27: 75.8 | G27: 75.8 | H27: 75.8 | O27: =+F27-E27 -> 0
D28: SK | E28: 2233 | F28: 2233 | G28: 2177.1 | H28: 2620.1 | O28: =+F28-E28 -> 0
B29: 005-01-03 (T) | C29: Skatinti vietos bendruomenę įsitraukti į vietos valdymą | E29: =SUM(E30:E30) -> 90 | F29: =SUM(F30:F30) -> 90 | G29: =SUM(G30:G30) -> 190 | H29: =SUM(H30:H30) -> 190 | J29: Vietos bendruomenės įsitraukimas (proc.) dalyvaujamojo biudžeto procese,nuo visų rajono gyventojų turinčių balsavimo teisę pagal Aprašą (nuo 16 metų) | K29: 13 | L29: 14 | M29: 15 | O29: =+F29-E29 -> 0
B30: 005-01-03-01 (TP) | C30: Visuomenės įtraukimas į planavimo, biudžeto formavimo, konsultavimosi procesus, organizuojant dalyvaujamojo biudžeto iniciatyvų konkursą ir iniciatyvų įgyvendinimą | D30: SB | E30: 90 | F30: 90 | G30: 190 | H30: 190 | J30: Įgyvendinamų gyventojų iniciatyvų skaičius | K30: 3 | L30: 3 | M30: 3 | O30: =+F30-E30 -> 0
B31: IŠ VISO | E31: =+E29+E23+E6 -> 13162.2 | F31: =+F29+F23+F6 -> 13149.9 | G31: =+G29+G23+G6 -> 14090.8 | H31: =+H29+H23+H6 -> 15220.8 | O31: =+F31-E31 -> -12.3
C33: 1. Savivaldybės biudžetas (įskaitant skolintas lėšas) | E33: =SUM(E35:E40) -> 13162.2 | F33: =SUM(F35:F40) -> 13149.9 | G33: =SUM(G35:G40) -> 14090.8 | H33: =SUM(H35:H40) -> 15220.8
C34: Iš jo:
C35: 1.1. savivaldybės biudžeto lėšos (nuosavos, be ankstesnių metų likučio) | D35: SB | E35: =+E30+E27+E26+E25+E24+E21+E19+E18+E17+E11+E9+E7 -> 10575.9 | F35: =+F30+F27+F26+F25+F24+F21+F19+F18+F17+F11+F9+F7 -> 10575.9 | G35: =+G30+G27+G26+G25+G24+G21+G19+G18+G17+G11+G9+G7 -> 11541.4 | H35: =+H30+H27+H26+H25+H24+H21+H19+H18+H17+H11+H9+H7 -> 12218.4
C36: 1.2. Lietuvos Respublikos valstybės biudžeto dotacijos | D36: SBVB | E36: =+E22 -> 231 | F36: =+F22 -> 231 | G36: =+G22 -> 250 | H36: =+H22 -> 260
C37: 1.3. Pajamų įmokos ir kitos pajamos | D37: ĮP | E37: =+E10+E20 -> 122.3 | F37: =+F10+F20 -> 110 | G37: =+G10+G20 -> 122.3 | H37: =+H10+H20 -> 122.3
C38: 1.4. Europos Sąjungos ir kitos tarptautinės finansinės paramos lėšos | D38: ES
C39: 1.5. Skolintos lėšos | D39: SK | E39: =+E28 -> 2233 | F39: =+F28 -> 2233 | G39: =+G28 -> 2177.1 | H39: =+H28 -> 2620.1
C40: 1.6. Ankstesnių metų likučiai | D40: SBL
C41: 2. Kiti šaltiniai (Europos Sąjungos finansinė parama projektams įgyvendinti ir kitos teisėtai gautos lėšos, nurodant atskirus šaltinius) | D41: KT
C42: IŠ VISO programai finansuoti pagal finansavimo šaltinius (1 ir 2 punktai) | E42: =+E41+E33 -> 13162.2 | F42: =+F41+F33 -> 13149.9 | G42: =+G41+G33 -> 14090.8 | H42: =+H41+H33 -> 15220.8
C43: Iš jų: regioninių pažangos priemonių lėšos
C44: Asignavimų ir kitų lėšų pokytis, palyginti su ankstesnių metų patvirtintų asignavimų ir kitų lėšų planu | E44: =+((E42*100)/11678)-100 -> 12.709368 | F44: 12.9 | G44: =+((G42*100)/11678)-100 -> 20.661072 | H44: =+((H42*100)/11678)-100 -> 30.337387
B45: * 2026-02-20 rajono tarybos sprendimas Nr. TS-33 "Dėl Kėdainių rjaono savivaldybės 2026-2028 m. strateginio veiklos plano tvirtinimo"
B46: Žalia spalva paryškinti pakeitimai – tai jau atlikti pakeitimai pagal 2026 m. Biudžeto balandžio, gegužės ir birželio mėnesių pakeitimus
B47: Pilkuose langeliuose žaliai pažymėta informacija – tai kartu su rugsėjo mėnesio Biudžete siūlomi pakeitimai.

Sheet Lešų poreikis iš viso
B2: IV SKYRIUS. 3.6 lentelė. 2026–2028 m. programų asignavimai ir kitos lėšos (tūkst. Eur)
B3: Eil. Nr. | C3: Programos kodas ir pavadinimas | D3: 2026 m. asignavimai ir kitos lėšos | E3: PATIKSLINTI 2026 m. asignavimai ir kitos lėšos | F3: 2027 m. asignavimai ir kitos lėšos | G3: 2028 m. asignavimai ir kitos lėšos | H3: 2026 m. +/- pokytis tūkst. Eur
B4: 01 | C4: Aktyvios visuomenės ugdymo programa | D4: =+'01 Visuomenės ugdymo'!E112 -> 64457.4 | E4: =+'01 Visuomenės ugdymo'!F112 -> 65853.3 | F4: =+'01 Visuomenės ugdymo'!G112 -> 68922.8 | G4: =+'01 Visuomenės ugdymo'!H112 -> 70331.4 | H4: =+E4-D4 -> 1395.9
B5: 02 | C5: Socialinės gerovės užtikrinimo programa | D5: =+'02 Socialinės gerovės'!E119 -> 54023.5 | E5: =+'02 Socialinės gerovės'!F119 -> 53572.5 | F5: =+'02 Socialinės gerovės'!G119 -> 56506 | G5: =+'02 Socialinės gerovės'!H119 -> 56199.4 | H5: =+E5-D5 -> -451
B6: 03 | C6: Darnios aplinkos ir infrastruktūros plėtros programa | D6: =+'03 Darnios aplinkos'!E62 -> 23721.04 | E6: =+'03 Darnios aplinkos'!F62 -> 24012.84 | F6: =+'03 Darnios aplinkos'!G62 -> 29866.6 | G6: =+'03 Darnios aplinkos'!H62 -> 28454.6 | H6: =+E6-D6 -> 291.8
B7: 04 | C7: Ekonominės plėtros programa | D7: =+'04 Ekonominės plėtros'!E42 -> 4356.3 | E7: =+'04 Ekonominės plėtros'!F42 -> 5062.6 | F7: =+'04 Ekonominės plėtros'!G42 -> 8728 | G7: =+'04 Ekonominės plėtros'!H42 -> 3603 | H7: =+E7-D7 -> 706.3
B8: 05 | C8: Savivaldybės valdymo tobulinimo programa | D8: =+'05 Valdymo '!E31 -> 13162.2 | E8: =+'05 Valdymo '!F31 -> 13149.9 | F8: =+'05 Valdymo '!G31 -> 14090.8 | G8: =+'05 Valdymo '!H31 -> 15220.8 | H8: =+E8-D8 -> -12.3
C9: IŠ VISO | D9: =SUM(D4:D8) -> 159720.44 | E9: =SUM(E4:E8) -> 161651.14 | F9: =SUM(F4:F8) -> 178114.2 | G9: =SUM(G4:G8) -> 173809.2 | H9: =+E9-D9 -> 1930.7
B10: 1. Savivaldybės biudžetas (įskaitant skolintas lėšas) | D10: =+'01 Visuomenės ugdymo'!E114+'02 Socialinės gerovės'!E121+'03 Darnios aplinkos'!E64+'04 Ekonominės plėtros'!E44+'05 Valdymo '!E33 -> 157683.44 | E10: =+'01 Visuomenės ugdymo'!F114+'02 Socialinės gerovės'!F121+'03 Darnios aplinkos'!F64+'04 Ekonominės plėtros'!F44+'05 Valdymo '!F33 -> 159614.14 | F10: =+'01 Visuomenės ugdymo'!G114+'02 Socialinės gerovės'!G121+'03 Darnios aplinkos'!G64+'04 Ekonominės plėtros'!G44+'05 Valdymo '!G33 -> 175293.2 | G10: =+'01 Visuomenės ugdymo'!H114+'02 Socialinės gerovės'!H121+'03 Darnios aplinkos'!H64+'04 Ekonominės plėtros'!H44+'05 Valdymo '!H33 -> 172192.2 | H10: =+E10-D10 -> 1930.7
B11: Iš jo: | H11: =+E11-D11 -> 0
B12: 1.1. savivaldybės biudžeto lėšos (nuosavos, be ankstesnių metų likučio) SB | D12: =+'01 Visuomenės ugdymo'!E116+'02 Socialinės gerovės'!E123+'03 Darnios aplinkos'!E66+'04 Ekonominės plėtros'!E46+'05 Valdymo '!E35 -> 64684.14 | E12: =+'01 Visuomenės ugdymo'!F116+'02 Socialinės gerovės'!F123+'03 Darnios aplinkos'!F66+'04 Ekonominės plėtros'!F46+'05 Valdymo '!F35 -> 64900.14 | F12: =+'01 Visuomenės ugdymo'!G116+'02 Socialinės gerovės'!G123+'03 Darnios aplinkos'!G66+'04 Ekonominės plėtros'!G46+'05 Valdymo '!G35 -> 80658.9 | G12: =+'01 Visuomenės ugdymo'!H116+'02 Socialinės gerovės'!H123+'03 Darnios aplinkos'!H66+'04 Ekonominės plėtros'!H46+'05 Valdymo '!H35 -> 80333 | H12: =+E12-D12 -> 216
B13: 1.2. Lietuvos Respublikos valstybės biudžeto dotacijos SBVB | D13: =+'01 Visuomenės ugdymo'!E117+'02 Socialinės gerovės'!E124+'03 Darnios aplinkos'!E67+'04 Ekonominės plėtros'!E47+'05 Valdymo '!E36 -> 68398.1 | E13: =+'01 Visuomenės ugdymo'!F117+'02 Socialinės gerovės'!F124+'03 Darnios aplinkos'!F67+'04 Ekonominės plėtros'!F47+'05 Valdymo '!F36 -> 70584.8 | F13: =+'01 Visuomenės ugdymo'!G117+'02 Socialinės gerovės'!G124+'03 Darnios aplinkos'!G67+'04 Ekonominės plėtros'!G47+'05 Valdymo '!G36 -> 76291 | G13: =+'01 Visuomenės ugdymo'!H117+'02 Socialinės gerovės'!H124+'03 Darnios aplinkos'!H67+'04 Ekonominės plėtros'!H47+'05 Valdymo '!H36 -> 74230.4 | H13: =+E13-D13 -> 2186.7
B14: 1.3. Pajamų įmokos ir kitos pajamos ĮP | D14: =+'01 Visuomenės ugdymo'!E118+'02 Socialinės gerovės'!E125+'03 Darnios aplinkos'!E68+'04 Ekonominės plėtros'!E48+'05 Valdymo '!E37 -> 4164.5 | E14: =+'01 Visuomenės ugdymo'!F118+'02 Socialinės gerovės'!F125+'03 Darnios aplinkos'!F68+'04 Ekonominės plėtros'!F48+'05 Valdymo '!F37 -> 4187.5 | F14: =+'01 Visuomenės ugdymo'!G118+'02 Socialinės gerovės'!G125+'03 Darnios aplinkos'!G68+'04 Ekonominės plėtros'!G48+'05 Valdymo '!G37 -> 4190.3 | G14: =+'01 Visuomenės ugdymo'!H118+'02 Socialinės gerovės'!H125+'03 Darnios aplinkos'!H68+'04 Ekonominės plėtros'!H48+'05 Valdymo '!H37 -> 4190.3 | H14: =+E14-D14 -> 23
B15: 1.4. Europos Sąjungos ir kitos tarptautinės finansinės paramos lėšos ES | D15: =+'01 Visuomenės ugdymo'!E119+'02 Socialinės gerovės'!E126+'03 Darnios aplinkos'!E69+'04 Ekonominės plėtros'!E49+'05 Valdymo '!E38 -> 8613.5 | E15: =+'01 Visuomenės ugdymo'!F119+'02 Socialinės gerovės'!F126+'03 Darnios aplinkos'!F69+'04 Ekonominės plėtros'!F49+'05 Valdymo '!F38 -> 8118.5 | F15: =+'01 Visuomenės ugdymo'!G119+'02 Socialinės gerovės'!G126+'03 Darnios aplinkos'!G69+'04 Ekonominės plėtros'!G49+'05 Valdymo '!G38 -> 11975.9 | G15: =+'01 Visuomenės ugdymo'!H119+'02 Socialinės gerovės'!H126+'03 Darnios aplinkos'!H69+'04 Ekonominės plėtros'!H49+'05 Valdymo '!H38 -> 10818.4 | H15: =+E15-D15 -> -495
B16: 1.5. Skolintos lėšos SK | D16: =+'01 Visuomenės ugdymo'!E120+'02 Socialinės gerovės'!E127+'03 Darnios aplinkos'!E70+'04 Ekonominės plėtros'!E50+'05 Valdymo '!E39 -> 4375.2 | E16: =+'01 Visuomenės ugdymo'!F120+'02 Socialinės gerovės'!F127+'03 Darnios aplinkos'!F70+'04 Ekonominės plėtros'!F50+'05 Valdymo '!F39 -> 4375.2 | F16: =+'01 Visuomenės ugdymo'!G120+'02 Socialinės gerovės'!G127+'03 Darnios aplinkos'!G70+'04 Ekonominės plėtros'!G50+'05 Valdymo '!G39 -> 2177.1 | G16: =+'01 Visuomenės ugdymo'!H120+'02 Socialinės gerovės'!H127+'03 Darnios aplinkos'!H70+'04 Ekonominės plėtros'!H50+'05 Valdymo '!H39 -> 2620.1 | H16: =+E16-D16 -> 0
B17: 1.6. Ankstesnių metų likučiai SBL | D17: =+'01 Visuomenės ugdymo'!E121+'02 Socialinės gerovės'!E128+'03 Darnios aplinkos'!E71+'04 Ekonominės plėtros'!E51+'05 Valdymo '!E40 -> 7448 | E17: =+'01 Visuomenės ugdymo'!F121+'02 Socialinės gerovės'!F128+'03 Darnios aplinkos'!F71+'04 Ekonominės plėtros'!F51+'05 Valdymo '!F40 -> 7448 | F17: =+'01 Visuomenės ugdymo'!G121+'02 Socialinės gerovės'!G128+'03 Darnios aplinkos'!G71+'04 Ekonominės plėtros'!G51+'05 Valdymo '!G40 -> 0 | G17: =+'01 Visuomenės ugdymo'!H121+'02 Socialinės gerovės'!H128+'03 Darnios aplinkos'!H71+'04 Ekonominės plėtros'!H51+'05 Valdymo '!H40 -> 0 | H17: =+E17-D17 -> 0
B18: 2. Kiti šaltiniai (Europos Sąjungos finansinė parama projektams įgyvendinti ir kitos teisėtai gautos lėšos, nurodant atskirus šaltinius) KT | D18: =+'01 Visuomenės ugdymo'!E122+'02 Socialinės gerovės'!E129+'03 Darnios aplinkos'!E72+'04 Ekonominės plėtros'!E52+'05 Valdymo '!E41 -> 2037 | E18: =+'01 Visuomenės ugdymo'!F122+'02 Socialinės gerovės'!F129+'03 Darnios aplinkos'!F72+'04 Ekonominės plėtros'!F52+'05 Valdymo '!F41 -> 2037 | F18: =+'01 Visuomenės ugdymo'!G122+'02 Socialinės gerovės'!G129+'03 Darnios aplinkos'!G72+'04 Ekonominės plėtros'!G52+'05 Valdymo '!G41 -> 2821 | G18: =+'01 Visuomenės ugdymo'!H122+'02 Socialinės gerovės'!H129+'03 Darnios aplinkos'!H72+'04 Ekonominės plėtros'!H52+'05 Valdymo '!H41 -> 1617 | H18: =+E18-D18 -> 0
B19: IŠ VISO programai finansuoti pagal finansavimo šaltinius (1 ir 2 punktai) | D19: =+'01 Visuomenės ugdymo'!E123+'02 Socialinės gerovės'!E130+'03 Darnios aplinkos'!E73+'04 Ekonominės plėtros'!E53+'05 Valdymo '!E42 -> 159720.44 | E19: =+'01 Visuomenės ugdymo'!F123+'02 Socialinės gerovės'!F130+'03 Darnios aplinkos'!F73+'04 Ekonominės plėtros'!F53+'05 Valdymo '!F42 -> 161651.14 | F19: =+'01 Visuomenės ugdymo'!G123+'02 Socialinės gerovės'!G130+'03 Darnios aplinkos'!G73+'04 Ekonominės plėtros'!G53+'05 Valdymo '!G42 -> 178114.2 | G19: =+'01 Visuomenės ugdymo'!H123+'02 Socialinės gerovės'!H130+'03 Darnios aplinkos'!H73+'04 Ekonominės plėtros'!H53+'05 Valdymo '!H42 -> 173809.2 | H19: =+E19-D19 -> 1930.7
B20: Iš jų: regioninių pažangos priemonių lėšos | D20: =+'01 Visuomenės ugdymo'!E124+'02 Socialinės gerovės'!E131+'03 Darnios aplinkos'!E74+'04 Ekonominės plėtros'!E54+'05 Valdymo '!E43 -> 8367 | E20: =+'01 Visuomenės ugdymo'!F124+'02 Socialinės gerovės'!F131+'03 Darnios aplinkos'!F74+'04 Ekonominės plėtros'!F54+'05 Valdymo '!F43 -> 7872 | F20: =+'01 Visuomenės ugdymo'!G124+'02 Socialinės gerovės'!G131+'03 Darnios aplinkos'!G74+'04 Ekonominės plėtros'!G54+'05 Valdymo '!G43 -> 11406.5 | G20: =+'01 Visuomenės ugdymo'!H124+'02 Socialinės gerovės'!H131+'03 Darnios aplinkos'!H74+'04 Ekonominės plėtros'!H54+'05 Valdymo '!H43 -> 10083.9 | H20: =+E20-D20 -> -495
B21: Asignavimų ir kitų lėšų pokytis, palyginti su ankstesnių metų patvirtintų asignavimų ir kitų lėšų planu | D21: 8.5 | E21: 8.8 | F21: =+((F19*100)/E19)-100 -> 10.184314 | G21: =+((G19*100)/F19)-100 -> -2.4169887
B22: * 2026-02-20 rajono tarybos sprendimas Nr. TS-33 "Dėl Kėdainių rjaono savivaldybės 2026-2028 m. strateginio veiklos plano tvirtinimo"
B23: Žalia spalva paryškinti pakeitimai – tai jau atlikti pakeitimai pagal 2026 m. Biudžeto balandžio, gegužės ir birželio mėnesių pakeitimus
B24: Pilkuose langeliuose žaliai pažymėta informacija – tai kartu su rugsėjo mėnesio Biudžete siūlomi pakeitimai.
